{"text_format":"1","workbook":"xlsx","n_sheets":21,"sheets":["Home","Define_TCL","Camp_List","Camp List Printable","CampAnalysis","Kachin_CCCM_D","Shelter Tracking","Sheet2","Shelter_Progress","ShelterAgency","Kachin_Shelter_D","Kachin","NFI_Tracking","Pipeline Stock Tracking","NFIAnalysis","NFISummary","analysis","list","camp","Definition","Sheet1"],"not_rendered":{"charts":16,"images":15,"macros":1,"external_links":2,"defined_names":86,"comments":1,"pivot_tables":14},"unopened":[],"bounds":{"document_bytes":16777216,"sheet_cells":100000,"rows_first":2000,"rows_last":500,"rows_between":2000,"halvings":0,"cell_chars":16384,"cell_head_chars":4096},"cells_cut":0,"cells_raw":0,"read":"whole","date_system":"1900"}

{"sheet":"Home","index":0,"n_rows":23,"n_cols":22,"rows_kept":23,"cut":false,"hidden":false,"merged":[[6,2,11,3],[13,2,18,3],[20,2,23,3],[1,2,3,21],[6,19,6,21],[6,15,6,17],[6,11,6,13],[6,5,6,9],[4,2,4,14]]}
[]
[null,null,"CLUSTER REPORT"]
[]
[]
[null,null,"2013-11-01"]
[]
[null,null,"CCCM",null,null,"Report & Analysis",null,null,null,null,null,"Dashboards",null,null,null,"3W",null,null,null,"Contact List"]
[]
[null,null,null,null,null,null,null,null,null,null,null,"Rakhine","Kachin","Myanmar",null,"Rakhine","Kachin","Myanmar",null,"Rakhine","Kachin","Myanmar"]
[]
[]
[]
[]
[null,null,"Shelter"]
[]
[null,null,null,null,null,null,null,null,null,null,null,"Rakhine","Kachin","Myanmar",null,"Rakhine","Kachin","Myanmar",null,"Rakhine","Kachin","Myanmar"]
[]
[]
[]
[]
[null,null,"NFI"]
[null,null,null,null,null,null,null,null,null,null,null,null,"Kachin"]
[null,null,null,null,null,null,null,null,null,null,null,"Rakhine","Kachin","Myanmar",null,"Rakhine","Kachin","Myanmar",null,"Rakhine","Kachin","Myanmar"]

{"sheet":"Define_TCL","index":1,"n_rows":221,"n_cols":10,"rows_kept":221,"cut":false,"hidden":true,"merged":[]}
["Status","(All)"]
[]
["Township","Camp",null,null,null,null,"Camp","CP_Pcode","Status","Sum of HH"]
["Bhamo","AD-2000 Tharthana Compound",null,null,null,null,"1 Ward, Sein Yadanar Company(Lon Khin)","MMR001CMP171","Closed"]
["Bhamo","Aung Thar Church",null,null,null,null,"5 Ward Baptist Church(lon Khin)","MMR001CMP179","Open",100]
["Bhamo","Daw Hpum Yang Ninghtawn",null,null,null,null,"5 Ward RC Church(lon Khin)","MMR001CMP168","Open",78]
["Bhamo","Host Families",null,null,null,null,"AD-2000 Tharthana Compound","MMR001CMP050","Open",234]
["Bhamo","Htoi San Church",null,null,null,null,"AG Church, Hmaw Si Sa","MMR001CMP176","Open",65]
["Bhamo","Kannar Yeik Thar",null,null,null,null,"AG Church, Maw Wan","MMR001CMP190","Open",13]
["Bhamo","Lisu Boarding-House",null,null,null,null,"Anglican Church, Hmaw Si Sar","MMR001CMP173","Closed"]
["Bhamo","Mu-yin Baptist Church",null,null,null,null,"Aung Thar Church","MMR001CMP194","Open",10]
["Bhamo","Nant Hlaing Church",null,null,null,null,"Away Yar Rama Monastery, Ka Day village","MMR001CMP170","Closed"]
["Bhamo","Phan Khar Kone",null,null,null,null,"Aye Mya Tharyar Church of Christ ","MMR001CMP092","Closed"]
["Bhamo","Robert Church",null,null,null,null,"Ban Hkung (School)","MMR001CMP215","Open",48]
["Bhamo","St. Patrick Church, Bhamo",null,null,null,null,"Ban Hkung Yang","MMR001CMP216","Open",18]
["Bhamo","Ta Gun Taing Monastery (Shwe Kyi Na)",null,null,null,null,"Ban Hkung Yang (Boarding School)","MMR001CMP214","Open",15]
["Bhamo","Thu Kha Waddy",null,null,null,null,"Baptist Church, Hmaw Si Sar(Lon Khin)","MMR001CMP169","Open",41]
["Bhamo","Yoe Kyi Monastery",null,null,null,null,"Baptist Church, Naung Hmee VT","MMR001CMP188","Open",15]
["Chipwi","Chipwi KBC camp",null,null,null,null,"Baptist Church, Sai Ra village","MMR001CMP172","Open",4]
["Chipwi","Gant Gwin",null,null,null,null,"Border Post 10","MMR001CMP114","Closed"]
["Chipwi","Hpare Hkyer - BP6",null,null,null,null,"Border Post 8","MMR001CMP113","Open",171]
["Chipwi","Lan Jaw ",null,null,null,null,"Bum Tsit Pa ","MMR001CMP129","Open",591]
["Chipwi","Lhaovao Baptist Church (LBC)",null,null,null,null,"Chin Church, Seik Mu","MMR001CMP109","Open",4]
["Chipwi","Pan Wa",null,null,null,null,"Chin(Zomi) Baptist Church","MMR001CMP086","Closed"]
["Chipwi","Women's Affairs Association Building",null,null,null,null,"Chipwi KBC camp","MMR001CMP042","Open",107]
["Hpakant","1 Ward, Sein Yadanar Company(Lon Khin)",null,null,null,null,"Daw Hpum Yang Ninghtawn","MMR001CMP153","Closed",0]
["Hpakant","5 Ward Baptist Church(lon Khin)",null,null,null,null,"Dhama Rakhita, Nyein Chan Tar Yar Ward(Lon Khin)","MMR001CMP174","Open",67]
["Hpakant","5 Ward RC Church(lon Khin)",null,null,null,null,"Du Kahtawng Qtr. 14","MMR001CMP012","Open",6]
["Hpakant","AG Church, Hmaw Si Sa",null,null,null,null,"Du Kahtawng Qtr. 4","MMR001CMP010","Open",6]
["Hpakant","AG Church, Maw Wan",null,null,null,null,"Du Kahtawng Qtr. 5","MMR001CMP011","Open",8]
["Hpakant","Anglican Church, Hmaw Si Sar",null,null,null,null,"Dum Bung ","MMR001CMP123","Open",119]
["Hpakant","Away Yar Rama Monastery, Ka Day village",null,null,null,null,"Ei Wan Gali Asso., Ward 1, Seik Mu","MMR001CMP180","Open",11]
["Hpakant","Aye Mya Tharyar Church of Christ ",null,null,null,null,"Free Christian Asso., Ward 1, Seik Mu","MMR001CMP186","Closed",0]
["Hpakant","Baptist Church, Hmaw Si Sar(Lon Khin)",null,null,null,null,"Galeng (Kachin)","MMR015CMP211","Closed"]
["Hpakant","Baptist Church, Naung Hmee VT",null,null,null,null,"Galeng (Palaung)","MMR015CMP212","Closed"]
["Hpakant","Baptist Church, Sai Ra village",null,null,null,null,"Gant Gwin","MMR001CMP046","Open",255]
["Hpakant","Chin Church, Seik Mu",null,null,null,null,"Hkat Cho ","MMR001CMP028","Open",134]
["Hpakant","Chin(Zomi) Baptist Church",null,null,null,null,"Hkau Shau (BP 12)","MMR001CMP115","Open",176]
["Hpakant","Dhama Rakhita, Nyein Chan Tar Yar Ward(Lon Khin)",null,null,null,null,"Hlaing Naung Baptist","MMR001CMP148","Open",23]
["Hpakant","Ei Wan Gali Asso., Ward 1, Seik Mu",null,null,null,null,"Hmaw Wan, Anglican","MMR001CMP191","Open",11]
["Hpakant","Free Christian Asso., Ward 1, Seik Mu",null,null,null,null,"Hmaw Wan, Baptist Christian Church","MMR001CMP189","Closed"]
["Hpakant","Hlaing Naung Baptist",null,null,null,null,"Host Families","MMR001CMP163","Open",335]
["Hpakant","Hmaw Wan, Anglican",null,null,null,null,"Host Families","MMR001CMP196","Open",279]
["Hpakant","Hmaw Wan, Baptist Christian Church",null,null,null,null,"Host Families","MMR001CMP197","Open",421]
["Hpakant","Lisu Baptist Church, Maw Shan Vil,. Seik Mu",null,null,null,null,"Host Families","MMR001CMP199","Open",9]
["Hpakant","Lisu Baptist Church, Maw Wan Ward",null,null,null,null,"Howa","MMR015CMP010","Open"]
["Hpakant","Ma Mon Buddhist Monastery",null,null,null,null,"Hpai Kawng Mare","MMR015CMP022","Open",32]
["Hpakant","Mashi Kahtawng Baptist  Church",null,null,null,null,"Hpare Hkyer - BP6","MMR001CMP043","Open",144]
["Hpakant","Mashi Kahtawng Catholic Church",null,null,null,null,"Hpun Lum Yang ","MMR001CMP122","Open",437]
["Hpakant","Mashi Kahtawng Evangelical Church",null,null,null,null,"Htoi San Church","MMR001CMP052","Open",43]
["Hpakant","Mashi Kahtawng Municipal Dammar Yone",null,null,null,null,"IDP Boarding School, A Len Bum","MMR001CMP208","Open"]
["Hpakant","Mashi Kahtawng Myo Oo Taw Ya Monestry",null,null,null,null,"IDPs scattered in South Mansi","MMR001CMP217","Open",75]
["Hpakant","Mashi Kahtawng Rakhine traditional group",null,null,null,null,"Jan Mai Kawng Baptist Church","MMR001CMP018","Open",203]
["Hpakant","Mashi Kahtawng Shan Traditional Monestry",null,null,null,null,"Jan Mai Kawng Catholic Church","MMR001CMP019","Open",113]
["Hpakant","Mashi Kahtawng Yaung Chi Oo Thi la shin Monestry",null,null,null,null,"Je Yang Hka ","MMR001CMP121","Open",1688]
["Hpakant","Maw Si Zar, Thiriyardanar Sein, Damma Compound, Lone Khin",null,null,null,null,"Kannar Yeik Thar","MMR001CMP048","Closed"]
["Hpakant","Maw Wan, Catholic Church",null,null,null,null,"Khun Sint Village","MMR001CMP200","Open",4]
["Hpakant","Maw Wan, Kachin Baptist Church",null,null,null,null,"Kone Khem Camp","MMR015CMP015","Open",86]
["Hpakant","Maw Wan, Kyauk Hlaing Gu Pagoda Compound",null,null,null,null,"Kutkai downtown (KBC Church)","MMR015CMP016","Open",86]
["Hpakant","Maw Wan, Mu-yin Baptist Church",null,null,null,null,"Kutkai downtown (RC Church)","MMR015CMP017","Open",41]
["Hpakant","Maw Wan, Myo Oo Pagoda",null,null,null,null,"Kyun Pin Thar Baptist Church","MMR001CMP013","Open",45]
["Hpakant","May Di Ka Rama Monastery(Lon Khin)",null,null,null,null,"Kyun Taw Baptist Church ","MMR001CMP078","Open",13]
["Hpakant","Muring Baptist Church, Awng Ra, Wa Ra Zut VT",null,null,null,null,"La Ja","MMR001CMP074","Open",11]
["Hpakant","Nam Ma Phyit, COC",null,null,null,null,"Lagatyan ","MMR001CMP202","Open",225]
["Hpakant","Nant Ma Hpit Catholic Church",null,null,null,null,"Laiza Market 3 / Laiza Gat","MMR001CMP117","Open",491]
["Hpakant","Nga Pyaw Taw Baptist Nursery School ",null,null,null,null,"Laiza Muklum Hpyen  Yen Mungshawa ni","MMR001CMP149","Open",355]
["Hpakant","Nga Pyaw Taw Roman Catholic Church",null,null,null,null,"Lan Jaw ","MMR001CMP045","Open"]
["Hpakant","Parami, Charity Office, MyoMa Quarter",null,null,null,null,"Lana Zup Ja ","MMR001CMP128","Open",551]
["Hpakant","Rawan Baptist Church, Maw Shan Vil., Seik Mu",null,null,null,null,"Lawk Awng Mare D. (Sinbo Area)","MMR001CMP147","Open",375]
["Hpakant","Sa Baw Sarsana Parla Monastery",null,null,null,null,"Lawk Hkawng Ginwang","MMR001CMP146","Open"]
["Hpakant","Sai Nai Baptish Church, Maw Shan Vil., Seki Mu",null,null,null,null,"Le Kone Bethlehem Church","MMR001CMP015","Open",87]
["Hpakant","San Kyel, Masoe Yein Monestry",null,null,null,null,"Le Kone Ziun Baptist Church ","MMR001CMP014","Open",146]
["Hpakant","Tar Ma Hkan Buddhist Monastery, Haung Par",null,null,null,null,"Lhaovao Baptist Church (LBC)","MMR001CMP195","Open",137]
["Hpakant","Thiri Mingalar Manizay Yone, Myoma Quarter",null,null,null,null,"Lisu Baptist Church, Maw Shan Vil,. Seik Mu","MMR001CMP181","Open",23]
["Hpakant","Ward 2 Cahotlic Church, Seik Mu",null,null,null,null,"Lisu Baptist Church, Maw Wan Ward","MMR001CMP167","Open",8]
["Hpakant","Ward 2 Sai Taung Baptist Church, Seik Mu ",null,null,null,null,"Lisu Boarding-House","MMR001CMP049","Open",68]
["Hpakant","Wrad(5) Christian Association",null,null,null,null,"Loi Je Baptist Church","MMR001CMP071","Open",26]
["Hpakant","Yumar Baptist Church",null,null,null,null,"Loi Je Catholic Church","MMR001CMP069","Open",46]
["Hpakant","Zomee Baptist Church camp, Hmaw Wan",null,null,null,null,"Loi Je Lisu Camp","MMR001CMP070","Open",142]
["Hseni","Narte",null,null,null,null,"Lung Kawk  ( Hka Hkye Zup)","MMR001CMP135","Open",54]
["Injangyang","Lawk Hkawng Ginwang",null,null,null,null,"Ma Mon Buddhist Monastery","MMR001CMP107","Closed"]
["Khaunglanhpu","La Ja",null,null,null,null,"Machanbaw - KBC","MMR001CMP221","Open",9]
["Kutkai","Galeng (Kachin)",null,null,null,null,"Mading Baptist Church","MMR001CMP027","Open",23]
["Kutkai","Galeng (Palaung)",null,null,null,null,"Maga Yang ","MMR001CMP119","Open",623]
["Kutkai","Kone Khem Camp",null,null,null,null,"Mai Khat ","MMR001CMP064","Open",2]
["Kutkai","Kutkai downtown (KBC Church)",null,null,null,null,"Maina AG Church","MMR001CMP031","Open",141]
["Kutkai","Kutkai downtown (RC Church)",null,null,null,null,"Maina Catholic Church (St. Joseph)","MMR001CMP029","Open",232]
["Kutkai","Mine Yu Lay village",null,null,null,null,"Maina KBC (Bawng Ring)","MMR001CMP040","Open",420]
["Kutkai","Mungji Pa Dabang (Baptist Church)         ",null,null,null,null,"Maina Lawang Baptist Church","MMR001CMP039","Open",49]
["Kutkai","Mungji Pa Dabang (RC Church)         ",null,null,null,null,"Maing Khaung","MMR001CMP218","Open",201]
["Kutkai","Nam Hpak Ka Mare ",null,null,null,null,"Maliyang Baptist Church","MMR001CMP016","Open",72]
["Kutkai","Zup Aung Camp",null,null,null,null,"Man Bung Catholic compound","MMR001CMP062","Open",117]
["Machanbaw","Machanbaw - KBC",null,null,null,null,"Man Hkring Baptist Church","MMR001CMP008","Open",95]
["Mansi","Ban Hkung (School)",null,null,null,null,"Man Kawng Baptist Church","MMR001CMP212","Open",306]
["Mansi","Ban Hkung Yang",null,null,null,null,"Man Kawng Catholic Church","MMR001CMP213","Open",91]
["Mansi","Ban Hkung Yang (Boarding School)",null,null,null,null,"Man Nawng ","MMR001CMP063","Open",28]
["Mansi","Bum Tsit Pa ",null,null,null,null,"Man Ting","MMR001CMP198","Open"]
["Mansi","Host Families",null,null,null,null,"Man Wing Baptist Church","MMR001CMP133","Open",102]
["Mansi","IDPs scattered in South Mansi",null,null,null,null,"Man Wing Catholic Church","MMR001CMP132","Open",403]
["Mansi","Lagatyan ",null,null,null,null,"Man Wing Host Families","MMR001CMP134","Open",253]
["Mansi","Lana Zup Ja ",null,null,null,null,"Manau Compound","MMR001CMP118","Closed"]
["Mansi","Lung Kawk  ( Hka Hkye Zup)",null,null,null,null,"Mandalay Monestry","MMR001CMP058","Open",4]
["Mansi","Maing Khaung",null,null,null,null,"Mandung - Jinghpaw","MMR015CMP009","Open",43]
["Mansi","Man Kawng Baptist Church",null,null,null,null,"Mandung - RC","MMR015CMP209","Open",26]
["Mansi","Man Kawng Catholic Church",null,null,null,null,"Mang Hawng Baptist Church","MMR001CMP077","Open",14]
["Mansi","Man Wing Baptist Church",null,null,null,null,"Mansi Baptist Church","MMR001CMP066","Open",93]
["Mansi","Man Wing Catholic Church",null,null,null,null,"Mashi Kahtawng Baptist  Church","MMR001CMP094","Closed"]
["Mansi","Man Wing Host Families",null,null,null,null,"Mashi Kahtawng Catholic Church","MMR001CMP093","Closed"]
["Mansi","Mansi Baptist Church",null,null,null,null,"Mashi Kahtawng Evangelical Church","MMR001CMP096","Closed"]
["Mansi","Mung Ding Pa  (Boarder)",null,null,null,null,"Mashi Kahtawng Municipal Dammar Yone","MMR001CMP098","Closed"]
["Mansi","Nam Hka Mare (west of Man Wing)",null,null,null,null,"Mashi Kahtawng Myo Oo Taw Ya Monestry","MMR001CMP099","Closed"]
["Mansi","Nam Lim Pa",null,null,null,null,"Mashi Kahtawng Rakhine traditional group","MMR001CMP095","Closed"]
["Mansi","Nam Lim Pa    (Boarding School)",null,null,null,null,"Mashi Kahtawng Shan Traditional Monestry","MMR001CMP100","Closed"]
["Mansi","Nam Lim Pa - Scattered IDPs in forest",null,null,null,null,"Mashi Kahtawng Yaung Chi Oo Thi la shin Monestry","MMR001CMP097","Closed"]
["Mansi","Si Hkan Gyi",null,null,null,null,"Maw Hpawng Hka Nan Baptist Church","MMR001CMP020","Open",26]
["Manton","Howa",null,null,null,null,"Maw Hpawng Lhaovo Baptist Church","MMR001CMP021","Open",21]
["Manton","Mandung - Jinghpaw",null,null,null,null,"Maw Si Zar, Thiriyardanar Sein, Damma Compound, Lone Khin","MMR001CMP106","Closed"]
["Manton","Mandung - RC",null,null,null,null,"Maw Wan, Catholic Church","MMR001CMP090","Closed"]
["Manton","Nam Hkyet",null,null,null,null,"Maw Wan, Kachin Baptist Church","MMR001CMP085","Closed"]
["Mogaung","Kyun Taw Baptist Church ",null,null,null,null,"Maw Wan, Kyauk Hlaing Gu Pagoda Compound","MMR001CMP084","Closed"]
["Mogaung","Mang Hawng Baptist Church",null,null,null,null,"Maw Wan, Mu-yin Baptist Church","MMR001CMP091","Open",4]
["Mogaung","Nat Gyi Kone Baptist Church ",null,null,null,null,"Maw Wan, Myo Oo Pagoda","MMR001CMP088","Closed"]
["Mohnyin","Nant Mun",null,null,null,null,"May Di Ka Rama Monastery(Lon Khin)","MMR001CMP178","Closed"]
["Mohnyin","Nawng Ing (Indawgyi) Baptist Church  ",null,null,null,null,"Mine Yu Lay village","MMR015CMP018","Open",86]
["Mohnyin","St. Patrick Catholic Church ",null,null,null,null,"Moke Lwe Village / Hkar Shi","MMR001CMP035","Closed"]
["Momauk","Dum Bung ",null,null,null,null,"Momauk Baptist Church","MMR001CMP056","Open",399]
["Momauk","Host Families",null,null,null,null,"Momauk Catholic Church (St. Patrick)","MMR001CMP057","Open",284]
["Momauk","Hpun Lum Yang ",null,null,null,null,"Munekoe Pa (Giwang) - Hka San (Mung  Go  Pa ) ","MMR015CMP012","Open",27]
["Momauk","Je Yang Hka ",null,null,null,null,"Mung Baw ","MMR015CMP005","Open",123]
["Momauk","Khun Sint Village",null,null,null,null,"Mung Ding Pa ","MMR015CMP023","Open"]
["Momauk","Loi Je Baptist Church",null,null,null,null,"Mung Ding Pa  (Boarder)","MMR001CMP203","Closed"]
["Momauk","Loi Je Catholic Church",null,null,null,null,"Mungji Pa Dabang (Baptist Church)         ","MMR015CMP006","Open",47]
["Momauk","Loi Je Lisu Camp",null,null,null,null,"Mungji Pa Dabang (RC Church)         ","MMR015CMP019","Open",25]
["Momauk","Mai Khat ",null,null,null,null,"Muring Baptist Church, Awng Ra, Wa Ra Zut VT","MMR001CMP177","Open",6]
["Momauk","Man Bung Catholic compound",null,null,null,null,"Mu-yin Baptist Church","MMR001CMP051","Open",8]
["Momauk","Man Nawng ",null,null,null,null,"Myay Myint Baptist Church","MMR001CMP017","Open",12]
["Momauk","Man Ting",null,null,null,null,"Myo Thit ","MMR001CMP061","Open",13]
["Momauk","Mandalay Monestry",null,null,null,null,"Nam Hka Mare (west of Man Wing)","MMR001CMP136","Open",73]
["Momauk","Momauk Baptist Church",null,null,null,null,"Nam Hkam - Nay Win Ni (Palawng)","MMR015CMP004","Open",92]
["Momauk","Momauk Catholic Church (St. Patrick)",null,null,null,null,"Nam Hkam (KBC Jaw Wang)","MMR015CMP001","Open",98]
["Momauk","Myo Thit ",null,null,null,null,"Nam Hkam Catholic Church ( St. Thomas I)","MMR015CMP003","Open",36]
["Momauk","Nhkawng Pa ",null,null,null,null,"Nam Hkam Catholic Church ( St. Thomas II)","MMR015CMP024","Open",46]
["Momauk","Ni Thaw Ka Monestry",null,null,null,null,"Nam Hkam Malut Jak ","MMR015CMP002","Open",73]
["Momauk","Nyaung Na Pin ",null,null,null,null,"Nam Hkawng","MMR015CMP139","Open",40]
["Momauk","Pa Kahtawng ",null,null,null,null,"Nam Hkyet","MMR015CMP011","Open"]
["Momauk","Phar Kay/Nant Waing ",null,null,null,null,"Nam Hpak Ka Mare ","MMR015CMP007","Open",79]
["Momauk","Seng Ja ",null,null,null,null,"Nam Lim Pa","MMR001CMP204","Closed"]
["Momauk","Tarli ",null,null,null,null,"Nam Lim Pa    (Boarding School)","MMR001CMP209","Closed"]
["Muse","Hpai Kawng Mare",null,null,null,null,"Nam Lim Pa - Scattered IDPs in forest","MMR001CMP137","Closed"]
["Muse","Munekoe Pa (Giwang) - Hka San (Mung  Go  Pa ) ",null,null,null,null,"Nam Ma Phyit, COC","MMR001CMP192","Open",24]
["Muse","Mung Baw ",null,null,null,null,"Nam Tu Baptist","MMR015CMP014","Open",20]
["Myitkyina","Du Kahtawng Qtr. 14",null,null,null,null,"Nam Tu RC","MMR015CMP210","Open",118]
["Myitkyina","Du Kahtawng Qtr. 4",null,null,null,null,"Nan Kway St. John Catholic Church","MMR001CMP024","Open",72]
["Myitkyina","Du Kahtawng Qtr. 5",null,null,null,null,"Nant Hlaing Church","MMR001CMP054","Open",22]
["Myitkyina","Jan Mai Kawng Baptist Church",null,null,null,null,"Nant Ma Hpit Catholic Church","MMR001CMP103","Open",38]
["Myitkyina","Jan Mai Kawng Catholic Church",null,null,null,null,"Nant Mun","MMR001CMP081","Open",21]
["Myitkyina","Kyun Pin Thar Baptist Church",null,null,null,null,"Narte","MMR015CMP207","Open",67]
["Myitkyina","Le Kone Bethlehem Church",null,null,null,null,"Nat Gyi Kone Baptist Church ","MMR001CMP079","Open",12]
["Myitkyina","Le Kone Ziun Baptist Church ",null,null,null,null,"Naung Khaing","MMR001CMP220","Open",18]
["Myitkyina","Maliyang Baptist Church",null,null,null,null,"Nawng Hee Village","MMR001CMP033","Open",18]
["Myitkyina","Man Hkring Baptist Church",null,null,null,null,"Nawng Ing (Indawgyi) Baptist Church  ","MMR001CMP152","Open",21]
["Myitkyina","Maw Hpawng Hka Nan Baptist Church",null,null,null,null,"Nawng Si Paw Village / Inn Lay","MMR001CMP034","Closed"]
["Myitkyina","Maw Hpawng Lhaovo Baptist Church",null,null,null,null,"Nga Pyaw Taw Baptist Nursery School ","MMR001CMP082","Open",101]
["Myitkyina","Myay Myint Baptist Church",null,null,null,null,"Nga Pyaw Taw Roman Catholic Church","MMR001CMP083","Closed"]
["Myitkyina","Nan Kway St. John Catholic Church",null,null,null,null,"Nhkawng Pa ","MMR001CMP131","Open",387]
["Myitkyina","Njang Dung Baptist Church ",null,null,null,null,"Ni Thaw Ka Monestry","MMR001CMP059","Open",23]
["Myitkyina","Pa Dauk Myaing(Pa La Na)",null,null,null,null,"Njang Dung Baptist Church ","MMR001CMP002","Open",57]
["Myitkyina","Shatapru Sut Ngai Tawng",null,null,null,null,"Nyaung Na Pin ","MMR001CMP072","Open",47]
["Myitkyina","Shatapru Thida Aye Baptist Church",null,null,null,null,"Pa Dauk Myaing(Pa La Na)","MMR001CMP162","Open",31]
["Myitkyina","Shwe Zet Baptist Church",null,null,null,null,"Pa Kahtawng ","MMR001CMP126","Open",516]
["Myitkyina","Tat Kone Baptist Church",null,null,null,null,"Pajau / Jan Mai","MMR001CMP120","Open",186]
["Myitkyina","Tat Kone COC Baptist / Tat Kone Htoi San",null,null,null,null,"Pan Wa","MMR001CMP210","Open",94]
["Myitkyina","Tat Kone Emanuel Church",null,null,null,null,"Parami, Charity Office, MyoMa Quarter","MMR001CMP102","Closed"]
["Myitkyina","Tat Kone Galile Baptist Church",null,null,null,null,"Phan Khar Kone","MMR001CMP193","Open",317]
["Myitkyina","Tat Kone San Pya Baptist Church",null,null,null,null,"Phar Kay/Nant Waing ","MMR001CMP065","Open",39]
["Myitkyina","Wun Tho Buddhist Monastery",null,null,null,null,"Post 6 Camp","MMR001CMP160","Open",144]
["Namhkan","Mung Ding Pa ",null,null,null,null,"Qtr. 2 Lhaovo Baptist Church","MMR001CMP032","Open",120]
["Namhkan","Nam Hkam - Nay Win Ni (Palawng)",null,null,null,null,"Qtr. 2 Myoma Baptist Church","MMR001CMP025","Open",83]
["Namhkan","Nam Hkam (KBC Jaw Wang)",null,null,null,null,"Qtr. 3 Mu-yin  Baptist Church","MMR001CMP030","Open",30]
["Namhkan","Nam Hkam Catholic Church ( St. Thomas I)",null,null,null,null,"Qtr. 4 Monestry (Thargaya Thayett Taw)","MMR001CMP026","Open",101]
["Namhkan","Nam Hkam Catholic Church ( St. Thomas II)",null,null,null,null,"Rawan Baptist Church, Maw Shan Vil., Seik Mu","MMR001CMP182","Open",13]
["Namhkan","Nam Hkam Malut Jak ",null,null,null,null,"Robert Church","MMR001CMP047","Open",558]
["Namhkan","Nam Hkawng",null,null,null,null,"Sa Baw Sarsana Parla Monastery","MMR001CMP108","Closed"]
["Namtu","Nam Tu Baptist",null,null,null,null,"Sai Nai Baptish Church, Maw Shan Vil., Seki Mu","MMR001CMP183","Open",46]
["Namtu","Nam Tu RC",null,null,null,null,"San Kyel, Masoe Yein Monestry","MMR001CMP104","Closed"]
["Puta-O","Naung Khaing",null,null,null,null,"Seng Ja ","MMR001CMP073","Open",35]
["Puta-O","Tote Tan Ward",null,null,null,null,"Shatapru Sut Ngai Tawng","MMR001CMP006","Open",106]
["Shwegu","Host Families",null,null,null,null,"Shatapru Thida Aye Baptist Church","MMR001CMP007","Open",15]
["Shwegu","Lawk Awng Mare D. (Sinbo Area)",null,null,null,null,"Shing Jai","MMR001CMP041","Open",188]
["Shwegu","Shwe Gu Baptist Church",null,null,null,null,"Shwe Gu Baptist Church","MMR001CMP067","Open",79]
["Shwegu","Shwe Gu Catholic Church",null,null,null,null,"Shwe Gu Catholic Church","MMR001CMP068","Open",47]
["Sumprabum","Sumprabum",null,null,null,null,"Shwe Zet Baptist Church","MMR001CMP009","Open",84]
["Waingmaw","Border Post 10",null,null,null,null,"Si Hkan Gyi","MMR001CMP219","Closed"]
["Waingmaw","Border Post 8",null,null,null,null,"St. Patrick Catholic Church ","MMR001CMP080","Open",12]
["Waingmaw","Hkat Cho ",null,null,null,null,"St. Patrick Church, Bhamo","MMR001CMP222","Open",29]
["Waingmaw","Hkau Shau (BP 12)",null,null,null,null,"Sumprabum","MMR001CMP206","Open",6]
["Waingmaw","IDP Boarding School, A Len Bum",null,null,null,null,"Ta Gun Taing Monastery (Shwe Kyi Na)","MMR001CMP055","Open",61]
["Waingmaw","Laiza Market 3 / Laiza Gat",null,null,null,null,"Tar Ma Hkan Buddhist Monastery, Haung Par","MMR001CMP110","Closed"]
["Waingmaw","Laiza Muklum Hpyen  Yen Mungshawa ni",null,null,null,null,"Tarli ","MMR001CMP060","Open",10]
["Waingmaw","Mading Baptist Church",null,null,null,null,"Tat Kone Baptist Church","MMR001CMP001","Open",56]
["Waingmaw","Maga Yang ",null,null,null,null,"Tat Kone COC Baptist / Tat Kone Htoi San","MMR001CMP023","Open",69]
["Waingmaw","Maina AG Church",null,null,null,null,"Tat Kone Emanuel Church","MMR001CMP004","Open",14]
["Waingmaw","Maina Catholic Church (St. Joseph)",null,null,null,null,"Tat Kone Galile Baptist Church","MMR001CMP003","Open",30]
["Waingmaw","Maina KBC (Bawng Ring)",null,null,null,null,"Tat Kone San Pya Baptist Church","MMR001CMP005","Open",43]
["Waingmaw","Maina Lawang Baptist Church",null,null,null,null,"Thargaya Lisu Baptist Church","MMR001CMP037","Open",74]
["Waingmaw","Manau Compound",null,null,null,null,"Thiri Mingalar Manizay Yone, Myoma Quarter","MMR001CMP101","Closed"]
["Waingmaw","Moke Lwe Village / Hkar Shi",null,null,null,null,"Thu Kha Waddy","MMR001CMP211","Open",12]
["Waingmaw","Nawng Hee Village",null,null,null,null,"Tote Tan Ward","MMR001CMP075","Open",18]
["Waingmaw","Nawng Si Paw Village / Inn Lay",null,null,null,null,"Waingmaw AG Church","MMR001CMP038","Open",81]
["Waingmaw","Pajau / Jan Mai",null,null,null,null,"Waingmaw Baptist Zonal Office","MMR001CMP036","Open",0]
["Waingmaw","Post 6 Camp",null,null,null,null,"Ward 2 Cahotlic Church, Seik Mu","MMR001CMP185","Open",17]
["Waingmaw","Qtr. 2 Lhaovo Baptist Church",null,null,null,null,"Ward 2 Sai Taung Baptist Church, Seik Mu ","MMR001CMP184","Open",134]
["Waingmaw","Qtr. 2 Myoma Baptist Church",null,null,null,null,"Woi Chyai ","MMR001CMP116","Open",789]
["Waingmaw","Qtr. 3 Mu-yin  Baptist Church",null,null,null,null,"Women's Affairs Association Building","MMR001CMP044","Closed"]
["Waingmaw","Qtr. 4 Monestry (Thargaya Thayett Taw)",null,null,null,null,"Wrad(5) Christian Association","MMR001CMP175","Closed"]
["Waingmaw","Shing Jai",null,null,null,null,"Wun Tho Buddhist Monastery","MMR001CMP022","Open",6]
["Waingmaw","Thargaya Lisu Baptist Church",null,null,null,null,"Yoe Kyi Monastery","MMR001CMP053","Open",29]
["Waingmaw","Waingmaw AG Church",null,null,null,null,"Yumar Baptist Church","MMR001CMP105","Open",40]
["Waingmaw","Waingmaw Baptist Zonal Office",null,null,null,null,"Zai Awng / Mung Ga Zup","MMR001CMP111","Open",620]
["Waingmaw","Woi Chyai ",null,null,null,null,"Zomee Baptist Church camp, Hmaw Wan","MMR001CMP201","Closed"]
["Waingmaw","Zai Awng / Mung Ga Zup",null,null,null,null,"Zup Aung Camp","MMR015CMP020","Open",81]

{"sheet":"Camp_List","index":2,"n_rows":222,"n_cols":33,"rows_kept":222,"cut":false,"hidden":false,"merged":[[1,0,1,2],[2,0,2,2]]}
[]
["DETAILED CAMP LIST"]
[{"$f":"Report_Date","v":"2014-01-01"}]
["Status","State","S_Pcode","District","D_Pcode","Township","T_Pcode","VillageTracKTown","VTT_Pcode","VillageWard_Name","VW_Pcode","Camp","CP_Pcode","Longitude","Latitude","Altitude","HH","Total","Avg","Accessibility","Type of Accomodation","Type of Location","Type of Population","Opening Date","CM/FP","Responsible Agency","Source","Method","Update Date","Comment"]
["Closed","Kachin","MMR001","Myitkyina","MMR001D001","Waingmaw","MMR001002","Nawng Si Paw","MMR001002013","Nawng Si Paw",165750,"Nawng Si Paw Village / Inn Lay","MMR001CMP034",null,null,null,null,null,{"$f":"IF(CampList[[#This Row],[HH]]>0,CampList[[#This Row],[Total]]/CampList[[#This Row],[HH]],\"NA\")","v":"NA"},"GCA","Camp",null,null,null,null,null,null,null,null," "]
["Closed","Kachin","MMR001","Myitkyina","MMR001D001","Waingmaw","MMR001002","Hkat Shu","MMR001002003","Hkat Shu",165735,"Moke Lwe Village / Hkar Shi","MMR001CMP035",97.421104,25.328987000000001,null,null,null,{"$f":"IF(CampList[[#This Row],[HH]]>0,CampList[[#This Row],[Total]]/CampList[[#This Row],[HH]],\"NA\")","v":"NA"},"GCA","Camp",null,null,null,null,null,null,null,null," ",null,null,1]
["Closed","Kachin","MMR001","Myitkyina","MMR001D001","Chipwi","MMR001005",null,null,null,null,"Women's Affairs Association Building","MMR001CMP044",null,null,null,null,null,{"$f":"IF(CampList[[#This Row],[HH]]>0,CampList[[#This Row],[Total]]/CampList[[#This Row],[HH]],\"NA\")","v":"NA"},"GCA","Camp",null,null,null,null,null,null,null,null," ",null,null,1]
["Closed","Kachin","MMR001","Bhamo","MMR001D003","Bhamo","MMR001010",null,null,null,null,"Kannar Yeik Thar","MMR001CMP048",97.221556500999995,24.262418020999998,null,null,null,{"$f":"IF(CampList[[#This Row],[HH]]>0,CampList[[#This Row],[Total]]/CampList[[#This Row],[HH]],\"NA\")","v":"NA"},"GCA","Camp",null,null,null,null,null,"IP",null,"2014-01-22","Closed: Source UNHCR-Bhamo",null,null,1]
["Closed","Kachin","MMR001","Mohnyin","MMR001D002","Hpakant","MMR001009","Hpakan Town","MMR001009701","Hnget Pyaw Taw Ward","MMR001009701502","Nga Pyaw Taw Roman Catholic Church","MMR001CMP083",96.31326,25.611899999999999,null,null,null,{"$f":"IF(CampList[[#This Row],[HH]]>0,CampList[[#This Row],[Total]]/CampList[[#This Row],[HH]],\"NA\")","v":"NA"},"GCA","Camp",null,null,null,null,null,null,null,null," ",null,null,1]
["Closed","Kachin","MMR001","Mohnyin","MMR001D002","Hpakant","MMR001009","Hpakan Town","MMR001009701","Maw Wam Ward","MMR001009701501","Maw Wan, Kyauk Hlaing Gu Pagoda Compound","MMR001CMP084",null,null,null,null,null,{"$f":"IF(CampList[[#This Row],[HH]]>0,CampList[[#This Row],[Total]]/CampList[[#This Row],[HH]],\"NA\")","v":"NA"},"GCA","Camp",null,null,null,null,null,null,null,null," ",null,null,1]
["Closed","Kachin","MMR001","Mohnyin","MMR001D002","Hpakant","MMR001009","Hpakan Town","MMR001009701","Maw Wam Ward","MMR001009701501","Maw Wan, Kachin Baptist Church","MMR001CMP085",96.316210999999996,25.619221,null,null,null,{"$f":"IF(CampList[[#This Row],[HH]]>0,CampList[[#This Row],[Total]]/CampList[[#This Row],[HH]],\"NA\")","v":"NA"},"GCA","Camp",null,null,null,null,null,null,null,null," "]
["Closed","Kachin","MMR001","Mohnyin","MMR001D002","Hpakant","MMR001009",null,null,null,null,"Chin(Zomi) Baptist Church","MMR001CMP086",null,null,null,null,null,{"$f":"IF(CampList[[#This Row],[HH]]>0,CampList[[#This Row],[Total]]/CampList[[#This Row],[HH]],\"NA\")","v":"NA"},"GCA","Camp",null,null,null,null,null,null,null,null," ",null,null,1]
["Closed","Kachin","MMR001","Mohnyin","MMR001D002","Hpakant","MMR001009","Hpakan Town","MMR001009701","Maw Wam Ward","MMR001009701501","Maw Wan, Myo Oo Pagoda","MMR001CMP088",null,null,null,null,null,{"$f":"IF(CampList[[#This Row],[HH]]>0,CampList[[#This Row],[Total]]/CampList[[#This Row],[HH]],\"NA\")","v":"NA"},"GCA","Camp",null,null,null,null,null,null,null,null," "]
["Closed","Kachin","MMR001","Mohnyin","MMR001D002","Hpakant","MMR001009","Hpakan Town","MMR001009701","Maw Wam Ward","MMR001009701501","Maw Wan, Catholic Church","MMR001CMP090",null,null,null,null,null,{"$f":"IF(CampList[[#This Row],[HH]]>0,CampList[[#This Row],[Total]]/CampList[[#This Row],[HH]],\"NA\")","v":"NA"},"GCA","Camp",null,null,null,null,null,null,null,null," "]
["Closed","Kachin","MMR001","Mohnyin","MMR001D002","Hpakant","MMR001009","Hpakan Town","MMR001009701","Aye Mya Thar Yar Ward","MMR001009701504","Aye Mya Tharyar Church of Christ ","MMR001CMP092",null,null,null,null,null,{"$f":"IF(CampList[[#This Row],[HH]]>0,CampList[[#This Row],[Total]]/CampList[[#This Row],[HH]],\"NA\")","v":"NA"},"GCA","Camp",null,null,null,null,null,null,null,null," "]
["Closed","Kachin","MMR001","Mohnyin","MMR001D002","Hpakant","MMR001009","Hpakan Town","MMR001009701","Ma Shi Ka Htaung Ward","MMR001009701505","Mashi Kahtawng Catholic Church","MMR001CMP093",null,null,null,null,null,{"$f":"IF(CampList[[#This Row],[HH]]>0,CampList[[#This Row],[Total]]/CampList[[#This Row],[HH]],\"NA\")","v":"NA"},"GCA","Camp",null,null,null,null,null,null,null,null," "]
["Closed","Kachin","MMR001","Mohnyin","MMR001D002","Hpakant","MMR001009","Hpakan Town","MMR001009701","Ma Shi Ka Htaung Ward","MMR001009701505","Mashi Kahtawng Baptist  Church","MMR001CMP094",96.310928000000004,25.609179999999999,null,null,null,{"$f":"IF(CampList[[#This Row],[HH]]>0,CampList[[#This Row],[Total]]/CampList[[#This Row],[HH]],\"NA\")","v":"NA"},"GCA","Camp",null,null,null,null,null,null,null,null," ",null,null,1]
["Closed","Kachin","MMR001","Mohnyin","MMR001D002","Hpakant","MMR001009","Hpakan Town","MMR001009701","Ma Shi Ka Htaung Ward","MMR001009701505","Mashi Kahtawng Rakhine traditional group","MMR001CMP095",null,null,null,null,null,{"$f":"IF(CampList[[#This Row],[HH]]>0,CampList[[#This Row],[Total]]/CampList[[#This Row],[HH]],\"NA\")","v":"NA"},"GCA","Camp",null,null,null,null,null,null,null,null," ",null,null,1]
["Closed","Kachin","MMR001","Mohnyin","MMR001D002","Hpakant","MMR001009","Hpakan Town","MMR001009701","Ma Shi Ka Htaung Ward","MMR001009701505","Mashi Kahtawng Evangelical Church","MMR001CMP096",null,null,null,null,null,{"$f":"IF(CampList[[#This Row],[HH]]>0,CampList[[#This Row],[Total]]/CampList[[#This Row],[HH]],\"NA\")","v":"NA"},"GCA","Camp",null,null,null,null,null,null,null,null," "]
["Closed","Kachin","MMR001","Mohnyin","MMR001D002","Hpakant","MMR001009","Hpakan Town","MMR001009701","Ma Shi Ka Htaung Ward","MMR001009701505","Mashi Kahtawng Yaung Chi Oo Thi la shin Monestry","MMR001CMP097",null,null,null,null,null,{"$f":"IF(CampList[[#This Row],[HH]]>0,CampList[[#This Row],[Total]]/CampList[[#This Row],[HH]],\"NA\")","v":"NA"},"GCA","Camp",null,null,null,null,null,null,null,null," "]
["Closed","Kachin","MMR001","Mohnyin","MMR001D002","Hpakant","MMR001009","Hpakan Town","MMR001009701","Ma Shi Ka Htaung Ward","MMR001009701505","Mashi Kahtawng Municipal Dammar Yone","MMR001CMP098",null,null,null,null,null,{"$f":"IF(CampList[[#This Row],[HH]]>0,CampList[[#This Row],[Total]]/CampList[[#This Row],[HH]],\"NA\")","v":"NA"},"GCA","Camp",null,null,null,null,null,null,null,null," "]
["Closed","Kachin","MMR001","Mohnyin","MMR001D002","Hpakant","MMR001009","Hpakan Town","MMR001009701","Ma Shi Ka Htaung Ward","MMR001009701505","Mashi Kahtawng Myo Oo Taw Ya Monestry","MMR001CMP099",null,null,null,null,null,{"$f":"IF(CampList[[#This Row],[HH]]>0,CampList[[#This Row],[Total]]/CampList[[#This Row],[HH]],\"NA\")","v":"NA"},"GCA","Camp",null,null,null,null,null,null,null,null," "]
["Closed","Kachin","MMR001","Mohnyin","MMR001D002","Hpakant","MMR001009","Hpakan Town","MMR001009701","Ma Shi Ka Htaung Ward","MMR001009701505","Mashi Kahtawng Shan Traditional Monestry","MMR001CMP100",null,null,null,null,null,{"$f":"IF(CampList[[#This Row],[HH]]>0,CampList[[#This Row],[Total]]/CampList[[#This Row],[HH]],\"NA\")","v":"NA"},"GCA","Camp",null,null,null,null,null,null,null,null," "]
["Closed","Kachin","MMR001","Mohnyin","MMR001D002","Hpakant","MMR001009","Hpakan Town","MMR001009701","Myo Ma Ward","MMR001009701503","Thiri Mingalar Manizay Yone, Myoma Quarter","MMR001CMP101",null,null,null,null,null,{"$f":"IF(CampList[[#This Row],[HH]]>0,CampList[[#This Row],[Total]]/CampList[[#This Row],[HH]],\"NA\")","v":"NA"},"GCA","Camp",null,null,null,null,null,null,null,null," "]
["Closed","Kachin","MMR001","Mohnyin","MMR001D002","Hpakant","MMR001009","Hpakan Town","MMR001009701","Myo Ma Ward","MMR001009701503","Parami, Charity Office, MyoMa Quarter","MMR001CMP102",null,null,null,null,null,{"$f":"IF(CampList[[#This Row],[HH]]>0,CampList[[#This Row],[Total]]/CampList[[#This Row],[HH]],\"NA\")","v":"NA"},"GCA","Camp",null,null,null,null,null,null,null,null," "]
["Closed","Kachin","MMR001","Mohnyin","MMR001D002","Hpakant","MMR001009",null,null,null,null,"San Kyel, Masoe Yein Monestry","MMR001CMP104",null,null,null,null,null,{"$f":"IF(CampList[[#This Row],[HH]]>0,CampList[[#This Row],[Total]]/CampList[[#This Row],[HH]],\"NA\")","v":"NA"},"GCA","Camp",null,null,null,null,null,null,null,null," "]
["Closed","Kachin","MMR001","Mohnyin","MMR001D002","Hpakant","MMR001009",null,null,null,null,"Maw Si Zar, Thiriyardanar Sein, Damma Compound, Lone Khin","MMR001CMP106",96.343350000000001,25.6447,null,null,null,{"$f":"IF(CampList[[#This Row],[HH]]>0,CampList[[#This Row],[Total]]/CampList[[#This Row],[HH]],\"NA\")","v":"NA"},"GCA","Camp",null,null,null,null,null,null,null,null," "]
["Closed","Kachin","MMR001","Mohnyin","MMR001D002","Hpakant","MMR001009","Seik Mu","MMR001009003","Ma Mon",166790,"Ma Mon Buddhist Monastery","MMR001CMP107",null,null,null,null,null,{"$f":"IF(CampList[[#This Row],[HH]]>0,CampList[[#This Row],[Total]]/CampList[[#This Row],[HH]],\"NA\")","v":"NA"},"GCA","Camp",null,null,null,null,null,null,null,null," "]
["Closed","Kachin","MMR001","Mohnyin","MMR001D002","Hpakant","MMR001009",null,null,null,null,"Sa Baw Sarsana Parla Monastery","MMR001CMP108",null,null,null,null,null,{"$f":"IF(CampList[[#This Row],[HH]]>0,CampList[[#This Row],[Total]]/CampList[[#This Row],[HH]],\"NA\")","v":"NA"},"GCA","Camp"]
["Closed","Kachin","MMR001","Mohnyin","MMR001D002","Hpakant","MMR001009","Haung Par","MMR001009004","Haung Par",166794,"Tar Ma Hkan Buddhist Monastery, Haung Par","MMR001CMP110",null,null,null,null,null,{"$f":"IF(CampList[[#This Row],[HH]]>0,CampList[[#This Row],[Total]]/CampList[[#This Row],[HH]],\"NA\")","v":"NA"},"GCA","Camp"]
["Closed","Kachin","MMR001","Myitkyina","MMR001D001","Waingmaw","MMR001002","Saga Pa (Sadung Sub-township)",null,null,null,"Border Post 10","MMR001CMP114",97.837778,25.273333000000001,null,null,null,{"$f":"IF(CampList[[#This Row],[HH]]>0,CampList[[#This Row],[Total]]/CampList[[#This Row],[HH]],\"NA\")","v":"NA"},"NGCA","Camp"]
["Closed","Kachin","MMR001","Myitkyina","MMR001D001","Waingmaw","MMR001002","Nam Sang Yang","MMR001002024","Nam Sang Yang",165772,"Manau Compound","MMR001CMP118",97.550267000000005,24.747966999999999,null,null,null,{"$f":"IF(CampList[[#This Row],[HH]]>0,CampList[[#This Row],[Total]]/CampList[[#This Row],[HH]],\"NA\")","v":"NA"},"GCA","Camp",null,null,null,null,null,null,null,null,"Changed to closed"]
["Closed","Kachin","MMR001","Bhamo","MMR001D003","Mansi","MMR001013","Nam Lin Pa","MMR001013037",null,null,"Nam Lim Pa - Scattered IDPs in forest","MMR001CMP137",97.132339999999999,23.75817,null,null,null,{"$f":"IF(CampList[[#This Row],[HH]]>0,CampList[[#This Row],[Total]]/CampList[[#This Row],[HH]],\"NA\")","v":"NA"},"NGCA","Camp",null,null,null,null,null,"IRRC",null,null,"This IDP are registered in Nam Lim pa (Boarder) (MMR001CMP204). We should not calculate this number in total. "]
["Closed","Kachin","MMR001","Bhamo","MMR001D003","Bhamo","MMR001010",null,null,null,null,"Daw Hpum Yang Ninghtawn","MMR001CMP153",null,null,null,0,0,{"$f":"IF(CampList[[#This Row],[HH]]>0,CampList[[#This Row],[Total]]/CampList[[#This Row],[HH]],\"NA\")","v":"NA"},"GCA","Host Families",null,null,null,null,null,null,null,"2014-01-27","Closed : Source, OCHA"]
["Closed","Kachin","MMR001","Mohnyin","MMR001D002","Hpakant","MMR001009","Lone Khin","MMR001009001","Ku Day",216877,"Away Yar Rama Monastery, Ka Day village","MMR001CMP170",96.339870000000005,25.655989999999999,null,null,null,{"$f":"IF(CampList[[#This Row],[HH]]>0,CampList[[#This Row],[Total]]/CampList[[#This Row],[HH]],\"NA\")","v":"NA"},"GCA","Camp",null,null,null,null,null,null,null,null," "]
["Closed","Kachin","MMR001","Mohnyin","MMR001D002","Hpakant","MMR001009","Lone Khin","MMR001009001","Lone Khin",166773,"1 Ward, Sein Yadanar Company(Lon Khin)","MMR001CMP171",96.359549999999999,25.658650000000002,null,null,null,{"$f":"IF(CampList[[#This Row],[HH]]>0,CampList[[#This Row],[Total]]/CampList[[#This Row],[HH]],\"NA\")","v":"NA"},"GCA","Camp",null,null,null,null,null,null,null,null," "]
["Closed","Kachin","MMR001","Mohnyin","MMR001D002","Hpakant","MMR001009","Lone Khin","MMR001009001","Hmaw Si Zar",166775,"Anglican Church, Hmaw Si Sar","MMR001CMP173",null,null,null,null,null,{"$f":"IF(CampList[[#This Row],[HH]]>0,CampList[[#This Row],[Total]]/CampList[[#This Row],[HH]],\"NA\")","v":"NA"},"GCA","Camp",null,null,null,null,null,null,null,null," "]
["Closed","Kachin","MMR001","Mohnyin","MMR001D002","Hpakant","MMR001009","Hpakan Town","MMR001009701","Ma Shi Ka Htaung Ward","MMR001009701505","Wrad(5) Christian Association","MMR001CMP175",null,null,null,null,null,{"$f":"IF(CampList[[#This Row],[HH]]>0,CampList[[#This Row],[Total]]/CampList[[#This Row],[HH]],\"NA\")","v":"NA"},"GCA","Camp",null,null,null,null,null,null,null,null," "]
["Closed","Kachin","MMR001","Mohnyin","MMR001D002","Hpakant","MMR001009","Lone Khin","MMR001009001","Lone Khin",166773,"May Di Ka Rama Monastery(Lon Khin)","MMR001CMP178",96.359309999999994,25.651440000000001,null,null,null,{"$f":"IF(CampList[[#This Row],[HH]]>0,CampList[[#This Row],[Total]]/CampList[[#This Row],[HH]],\"NA\")","v":"NA"},"GCA","Camp",null,null,null,null,null,null,null,null," "]
["Closed","Kachin","MMR001","Mohnyin","MMR001D002","Hpakant","MMR001009","Seik Mu","MMR001009003","Seik Mu",166783,"Free Christian Asso., Ward 1, Seik Mu","MMR001CMP186",null,null,null,0,0,{"$f":"IF(CampList[[#This Row],[HH]]>0,CampList[[#This Row],[Total]]/CampList[[#This Row],[HH]],\"NA\")","v":"NA"},"GCA","Camp",null,null,null,null,null,"RRD",null,"2014-01-24","UNOCHA"]
["Closed","Kachin","MMR001","Mohnyin","MMR001D002","Hpakant","MMR001009","Hpakan Town","MMR001009701","Maw Wam Ward","MMR001009701501","Hmaw Wan, Baptist Christian Church","MMR001CMP189",null,null,null,null,null,{"$f":"IF(CampList[[#This Row],[HH]]>0,CampList[[#This Row],[Total]]/CampList[[#This Row],[HH]],\"NA\")","v":"NA"},"GCA","Camp"]
["Closed","Kachin","MMR001","Mohnyin","MMR001D002","Hpakant","MMR001009","Hpakan Town","MMR001009701","Maw Wam Ward","MMR001009701501","Zomee Baptist Church camp, Hmaw Wan","MMR001CMP201",96.315601999999998,25.615006000000001,null,null,null,{"$f":"IF(CampList[[#This Row],[HH]]>0,CampList[[#This Row],[Total]]/CampList[[#This Row],[HH]],\"NA\")","v":"NA"},"GCA","Camp",null,null,null,null,null,null,null,null," "]
["Closed","Kachin","MMR001","Bhamo","MMR001D003","Mansi","MMR001013","Mung Ding Pa","MMR001013038",null,null,"Mung Ding Pa  (Boarder)","MMR001CMP203",96.808850000000007,24.20645,781.8,null,null,{"$f":"IF(CampList[[#This Row],[HH]]>0,CampList[[#This Row],[Total]]/CampList[[#This Row],[HH]],\"NA\")","v":"NA"},"NGCA","Camp","Rural",null,"2012-07-01",null,null,"IP",null,"2014-01-22","Closed: Source UNHCR-Bhamo"]
["Closed","Kachin","MMR001","Bhamo","MMR001D003","Mansi","MMR001013","Nam Lin Pa","MMR001013037",null,null,"Nam Lim Pa","MMR001CMP204",97.132339999999999,23.75817,781.8,null,null,{"$f":"IF(CampList[[#This Row],[HH]]>0,CampList[[#This Row],[Total]]/CampList[[#This Row],[HH]],\"NA\")","v":"NA"},"NGCA","Camp","Rural",null,"2012-07-01",null,null,"Ip",null,null,"Closed: Source UNHCR-Bhamo"]
["Closed","Kachin","MMR001","Bhamo","MMR001D003","Mansi","MMR001013","Nam Lin Pa","MMR001013037",null,null,"Nam Lim Pa    (Boarding School)","MMR001CMP209",null,null,null,null,null,{"$f":"IF(CampList[[#This Row],[HH]]>0,CampList[[#This Row],[Total]]/CampList[[#This Row],[HH]],\"NA\")","v":"NA"},"NGCA","Camp",null,null,null,null,null,"IP",null,null,"Closed: Source UNHCR-Bhamo"]
["Closed","Kachin","MMR001","Bhamo","MMR001D003","Mansi","MMR001013",null,null,null,null,"Si Hkan Gyi","MMR001CMP219",null,null,null,null,null,{"$f":"IF(CampList[[#This Row],[HH]]>0,CampList[[#This Row],[Total]]/CampList[[#This Row],[HH]],\"NA\")","v":"NA"},"GCA","Camp","Rural",null,null,null,null,"IP",null,"2014-01-13","Close (Source: OCHA)"]
["Closed","Shan_North","MMR015","Muse","MMR015D002","Kutkai","MMR015011","Galeng",null,"Galeng",null,"Galeng (Kachin)","MMR015CMP211",null,null,null,null,null,{"$f":"IF(CampList[[#This Row],[HH]]>0,CampList[[#This Row],[Total]]/CampList[[#This Row],[HH]],\"NA\")","v":"NA"},"NGCA","Camp","Rural",null,null,null,null,"IP",null,"2013-01-15","Close: Duplicate Camp (MMR015CMP020 - Zup Aung Camp) 21-Jan-14"]
["Closed","Shan_North","MMR015","Muse","MMR015D002","Kutkai","MMR015011","Galeng",null,"Galeng",null,"Galeng (Palaung)","MMR015CMP212",null,null,null,null,null,{"$f":"IF(CampList[[#This Row],[HH]]>0,CampList[[#This Row],[Total]]/CampList[[#This Row],[HH]],\"NA\")","v":"NA"},"NGCA","Camp","Rural",null,null,null,null,"IP",null,"2013-01-15","Close: Duplicate Camp (MMR015CMP015 - Kone Khem Camp) 21-Jan-14"]
["Open","Kachin","MMR001","Myitkyina","MMR001D001","Myitkyina","MMR001001","Myitkyina Town","MMR001001701","Tat Kone Ward","MMR001001701520","Tat Kone Baptist Church","MMR001CMP001",97.386718999999999,25.415482000000001,0,56,262,{"$f":"IF(CampList[[#This Row],[HH]]>0,CampList[[#This Row],[Total]]/CampList[[#This Row],[HH]],\"NA\")","v":4.6785714285714288},"GCA","Camp","Urban",null,"2011-06-01",1,"KBC","IP",null,"2014-01-15","Checked with KBC data"]
["Open","Kachin","MMR001","Myitkyina","MMR001D001","Myitkyina","MMR001001","Myitkyina Town","MMR001001701","N Jang Dung",null,"Njang Dung Baptist Church ","MMR001CMP002",97.394547000000003,25.422194000000001,0,57,233,{"$f":"IF(CampList[[#This Row],[HH]]>0,CampList[[#This Row],[Total]]/CampList[[#This Row],[HH]],\"NA\")","v":4.0877192982456139},"GCA","Camp","Urban",null,"2011-06-01",1,"KBC","IP",null,"2014-01-15","Checked with KBC data"]
["Open","Kachin","MMR001","Myitkyina","MMR001D001","Myitkyina","MMR001001","Myitkyina Town","MMR001001701","Tat Kone Ward","MMR001001701520","Tat Kone Galile Baptist Church","MMR001CMP003",97.377662999999998,25.404752999999999,0,30,134,{"$f":"IF(CampList[[#This Row],[HH]]>0,CampList[[#This Row],[Total]]/CampList[[#This Row],[HH]],\"NA\")","v":4.4666666666666668},"GCA","Camp","Urban",null,"2011-07-01",1,"KBC","IP",null,"2014-01-15","Update population according to KBC data"]
["Open","Kachin","MMR001","Myitkyina","MMR001D001","Myitkyina","MMR001001","Myitkyina Town","MMR001001701","Tat Kone Ward","MMR001001701520","Tat Kone Emanuel Church","MMR001CMP004",97.389778000000007,25.417733999999999,0,14,62,{"$f":"IF(CampList[[#This Row],[HH]]>0,CampList[[#This Row],[Total]]/CampList[[#This Row],[HH]],\"NA\")","v":4.4285714285714288},"GCA","Camp","Urban",null,"2011-08-01",1,"Shalom","IP",null,"2014-01-17","Update IDP population from Shalom data (Assistant CCCM Officer)"]
["Open","Kachin","MMR001","Myitkyina","MMR001D001","Myitkyina","MMR001001","Myitkyina Town","MMR001001701","Tat Kone Ward","MMR001001701520","Tat Kone San Pya Baptist Church","MMR001CMP005",97.382192000000003,25.404015000000001,0,43,198,{"$f":"IF(CampList[[#This Row],[HH]]>0,CampList[[#This Row],[Total]]/CampList[[#This Row],[HH]],\"NA\")","v":4.6046511627906979},"GCA","Camp","Urban",null,null,1,"KBC","IP",null,"2014-01-15","Checked with KBC data"]
["Open","Kachin","MMR001","Myitkyina","MMR001D001","Myitkyina","MMR001001","Myitkyina Town","MMR001001701","Si Tar Pu Ward","MMR001001701521","Shatapru Sut Ngai Tawng","MMR001CMP006",97.399628000000007,25.412313000000001,0,106,390,{"$f":"IF(CampList[[#This Row],[HH]]>0,CampList[[#This Row],[Total]]/CampList[[#This Row],[HH]],\"NA\")","v":3.6792452830188678},"GCA","Camp","Urban",null,"2011-08-01",2,"KBC","IP",null,"2014-01-15","Update population according to KBC data"]
["Open","Kachin","MMR001","Myitkyina","MMR001D001","Myitkyina","MMR001001","Myitkyina Town","MMR001001701","Si Tar Pu Ward","MMR001001701521","Shatapru Thida Aye Baptist Church","MMR001CMP007",97.418004999999994,25.423817,0,15,74,{"$f":"IF(CampList[[#This Row],[HH]]>0,CampList[[#This Row],[Total]]/CampList[[#This Row],[HH]],\"NA\")","v":4.9333333333333336},"GCA","Camp","Urban",null,"2012-01-01",1,"Shalom","IP",null,"2014-01-17","Update IDP population from Shalom data (Assistant CCCM Officer)"]
["Open","Kachin","MMR001","Myitkyina","MMR001D001","Myitkyina","MMR001001","Myitkyina Town","MMR001001701","Man Khein Ward","MMR001001701519","Man Hkring Baptist Church","MMR001CMP008",97.418694000000002,25.428910999999999,0,95,411,{"$f":"IF(CampList[[#This Row],[HH]]>0,CampList[[#This Row],[Total]]/CampList[[#This Row],[HH]],\"NA\")","v":4.3263157894736839},"GCA","Camp","Urban",null,"2011-07-01",2,"KBC","IP",null,"2014-01-15","Update population according to KBC data"]
["Open","Kachin","MMR001","Myitkyina","MMR001D001","Myitkyina","MMR001001","Myitkyina Town","MMR001001701","Shwe Set Ward","MMR001001701518","Shwe Zet Baptist Church","MMR001CMP009",97.419403000000003,25.440928,0,84,401,{"$f":"IF(CampList[[#This Row],[HH]]>0,CampList[[#This Row],[Total]]/CampList[[#This Row],[HH]],\"NA\")","v":4.7738095238095237},"GCA","Camp","Urban",null,"2011-07-01",2,"KBC","IP",null,"2014-01-15","Update population according to KBC data"]
["Open","Kachin","MMR001","Myitkyina","MMR001D001","Myitkyina","MMR001001","Myitkyina Town","MMR001001701","Du Ka Htaung Ward","MMR001001701504","Du Kahtawng Qtr. 4","MMR001CMP010",97.382997575757585,25.395974090909089,0,6,39,{"$f":"IF(CampList[[#This Row],[HH]]>0,CampList[[#This Row],[Total]]/CampList[[#This Row],[HH]],\"NA\")","v":6.5},"GCA","Camp","Urban",null,"2011-06-01",null,null,"RRD",null,null," "]
["Open","Kachin","MMR001","Myitkyina","MMR001D001","Myitkyina","MMR001001","Myitkyina Town","MMR001001701","Du Ka Htaung Ward","MMR001001701504","Du Kahtawng Qtr. 5","MMR001CMP011",97.381325000000018,25.396492500000001,0,8,30,{"$f":"IF(CampList[[#This Row],[HH]]>0,CampList[[#This Row],[Total]]/CampList[[#This Row],[HH]],\"NA\")","v":3.75},"GCA","Camp","Urban",null,"2011-06-01",2,"KBC","IP",null,"2014-01-15","Update population according to KBC data"]
["Open","Kachin","MMR001","Myitkyina","MMR001D001","Myitkyina","MMR001001","Myitkyina Town","MMR001001701","Du Ka Htaung Ward","MMR001001701504","Du Kahtawng Qtr. 14","MMR001CMP012",97.384729629629632,25.400270185185185,0,6,28,{"$f":"IF(CampList[[#This Row],[HH]]>0,CampList[[#This Row],[Total]]/CampList[[#This Row],[HH]],\"NA\")","v":4.666666666666667},"GCA","Camp","Urban",null,"2011-06-01",null,null,"RRD",null,null," "]
["Open","Kachin","MMR001","Myitkyina","MMR001D001","Myitkyina","MMR001001","Myitkyina Town","MMR001001701","Kyun Pin Thar Ward","MMR001001701510","Kyun Pin Thar Baptist Church","MMR001CMP013",97.405202777777788,25.366003611111111,0,45,187,{"$f":"IF(CampList[[#This Row],[HH]]>0,CampList[[#This Row],[Total]]/CampList[[#This Row],[HH]],\"NA\")","v":4.1555555555555559},"GCA","Camp","Urban",null,"2012-01-01",1,"KBC","IP",null,"2014-01-15","Update population according to KBC data"]
["Open","Kachin","MMR001","Myitkyina","MMR001D001","Myitkyina","MMR001001","Myitkyina Town","MMR001001701","Lel Kone Ward","MMR001001701525","Le Kone Ziun Baptist Church ","MMR001CMP014",97.403402307692303,25.351016794871796,0,146,751,{"$f":"IF(CampList[[#This Row],[HH]]>0,CampList[[#This Row],[Total]]/CampList[[#This Row],[HH]],\"NA\")","v":5.1438356164383565},"GCA","Camp","Urban",null,"2011-06-01",2,"KBC","IP",null,"2014-01-15","Update population according to KBC data"]
["Open","Kachin","MMR001","Myitkyina","MMR001D001","Myitkyina","MMR001001","Myitkyina Town","MMR001001701","Lel Kone Ward","MMR001001701525","Le Kone Bethlehem Church","MMR001CMP015",97.409035000000003,25.362420757575759,0,87,467,{"$f":"IF(CampList[[#This Row],[HH]]>0,CampList[[#This Row],[Total]]/CampList[[#This Row],[HH]],\"NA\")","v":5.3678160919540234},"GCA","Camp","Urban",null,"2011-03-01",2,"KBC","IP",null,"2014-01-15","Update population according to KBC data"]
["Open","Kachin","MMR001","Myitkyina","MMR001D001","Myitkyina","MMR001001","Myitkyina Town","MMR001001701",null,null,"Maliyang Baptist Church","MMR001CMP016",97.411306458333343,25.360463124999999,0,72,316,{"$f":"IF(CampList[[#This Row],[HH]]>0,CampList[[#This Row],[Total]]/CampList[[#This Row],[HH]],\"NA\")","v":4.3888888888888893},"GCA","Camp","Urban",null,"2011-08-01",2,"KBC","IP",null,"2014-01-15","Update population according to KBC data"]
["Open","Kachin","MMR001","Myitkyina","MMR001D001","Myitkyina","MMR001001","Myitkyina Town","MMR001001701","Myay Myint Ward","MMR001001701517","Myay Myint Baptist Church","MMR001CMP017",97.376671999999999,25.387862999999999,0,12,54,{"$f":"IF(CampList[[#This Row],[HH]]>0,CampList[[#This Row],[Total]]/CampList[[#This Row],[HH]],\"NA\")","v":4.5},"GCA","Camp","Urban",null,"2011-10-01",1,"Shalom","IP",null,"2014-01-17","Update IDP population from Shalom data (Assistant CCCM Officer)"]
["Open","Kachin","MMR001","Myitkyina","MMR001D001","Myitkyina","MMR001001","Myitkyina Town","MMR001001701",null,null,"Jan Mai Kawng Baptist Church","MMR001CMP018",97.373361000000003,25.403476999999999,0,203,974,{"$f":"IF(CampList[[#This Row],[HH]]>0,CampList[[#This Row],[Total]]/CampList[[#This Row],[HH]],\"NA\")","v":4.7980295566502464},"GCA","Camp","Urban",null,"2011-07-01",2,"KBC","IP",null,"2014-01-15","Checked with KBC data"]
["Open","Kachin","MMR001","Myitkyina","MMR001D001","Myitkyina","MMR001001","Myitkyina Town","MMR001001701","Jan Mai Kawng",null,"Jan Mai Kawng Catholic Church","MMR001CMP019",97.379594999999995,25.401061111111108,0,113,524,{"$f":"IF(CampList[[#This Row],[HH]]>0,CampList[[#This Row],[Total]]/CampList[[#This Row],[HH]],\"NA\")","v":4.6371681415929205},"GCA","Camp","Urban",null,"2011-07-01",3,"KMSS","IP",null,"2014-01-03","UZW, Maran data"]
["Open","Kachin","MMR001","Myitkyina","MMR001D001","Myitkyina","MMR001001","Maw Hpawng","MMR001001007","Maw Hpawng",165698,"Maw Hpawng Hka Nan Baptist Church","MMR001CMP020",97.284395897435914,25.374343974358972,0,26,109,{"$f":"IF(CampList[[#This Row],[HH]]>0,CampList[[#This Row],[Total]]/CampList[[#This Row],[HH]],\"NA\")","v":4.1923076923076925},"GCA","Camp","Rural",null,"2011-10-01",1,"Shalom","IP",null,"2014-01-16","Update IDP population from Shalom data"]
["Open","Kachin","MMR001","Myitkyina","MMR001D001","Myitkyina","MMR001001","Maw Hpawng","MMR001001007","Maw Hpawng",165698,"Maw Hpawng Lhaovo Baptist Church","MMR001CMP021",97.290952037037044,25.371049444444445,476,21,101,{"$f":"IF(CampList[[#This Row],[HH]]>0,CampList[[#This Row],[Total]]/CampList[[#This Row],[HH]],\"NA\")","v":4.8095238095238093},"GCA","Camp","Rural",null,"2011-10-01",1,"Shalom","IP",null,"2014-01-16","Update IDP population from Shalom data"]
["Open","Kachin","MMR001","Myitkyina","MMR001D001","Myitkyina","MMR001001","Myitkyina Town","MMR001001701","Kachin Su Ward","MMR001001701509","Wun Tho Buddhist Monastery","MMR001CMP022",97.40387849999999,25.377038166666669,0,6,33,{"$f":"IF(CampList[[#This Row],[HH]]>0,CampList[[#This Row],[Total]]/CampList[[#This Row],[HH]],\"NA\")","v":5.5},"GCA","Camp","Urban",null,"2012-04-01",1,"Shalom","IP",null,"2014-01-17","Update IDP population from Shalom data (Assistant CCCM Officer)"]
["Open","Kachin","MMR001","Myitkyina","MMR001D001","Myitkyina","MMR001001","Myitkyina Town","MMR001001701","Tat Kone Ward","MMR001001701520","Tat Kone COC Baptist / Tat Kone Htoi San","MMR001CMP023",97.387636875000013,25.410913749999999,0,69,331,{"$f":"IF(CampList[[#This Row],[HH]]>0,CampList[[#This Row],[Total]]/CampList[[#This Row],[HH]],\"NA\")","v":4.7971014492753623},"GCA","Camp","Urban",null,"2012-04-01",1,"Shalom","IP",null,"2014-01-16","Update IDP population from Shalom data"]
["Open","Kachin","MMR001","Myitkyina","MMR001D001","Myitkyina","MMR001001","Nam Koi","MMR001001005","Nam Koi",165695,"Nan Kway St. John Catholic Church","MMR001CMP024",97.359320175438583,25.410569298245615,0,72,359,{"$f":"IF(CampList[[#This Row],[HH]]>0,CampList[[#This Row],[Total]]/CampList[[#This Row],[HH]],\"NA\")","v":4.9861111111111107},"GCA","Camp","Urban",null,"2012-01-01",null,"KMSS","RRD",null,null," "]
["Open","Kachin","MMR001","Myitkyina","MMR001D001","Waingmaw","MMR001002","Waingmaw Town","MMR001002701","No (2) Ward","MMR001002701502","Qtr. 2 Myoma Baptist Church","MMR001CMP025",97.438432380952378,25.351724999999998,0,83,373,{"$f":"IF(CampList[[#This Row],[HH]]>0,CampList[[#This Row],[Total]]/CampList[[#This Row],[HH]],\"NA\")","v":4.4939759036144578},"GCA","Camp","Urban",null,"2011-06-01",2,"KBC","IP",null,"2014-01-15","Checked with KBC data"]
["Open","Kachin","MMR001","Myitkyina","MMR001D001","Waingmaw","MMR001002","Waingmaw Town","MMR001002701","No (4) Ward","MMR001002701504","Qtr. 4 Monestry (Thargaya Thayett Taw)","MMR001CMP026",97.432495000000003,25.350809000000002,0,101,528,{"$f":"IF(CampList[[#This Row],[HH]]>0,CampList[[#This Row],[Total]]/CampList[[#This Row],[HH]],\"NA\")","v":5.2277227722772279},"GCA","Camp","Urban",null,"2012-02-01",1,"Shalom","IP",null,"2014-01-17","UZW, Maran data"]
["Open","Kachin","MMR001","Myitkyina","MMR001D001","Waingmaw","MMR001002","Mading","MMR001002001","Mading/Hka Kun",165730,"Mading Baptist Church","MMR001CMP027",97.451965000000001,25.356632000000001,0,23,120,{"$f":"IF(CampList[[#This Row],[HH]]>0,CampList[[#This Row],[Total]]/CampList[[#This Row],[HH]],\"NA\")","v":5.2173913043478262},"GCA","Camp","Rural",null,"2012-05-01",1,"KBC","IP",null,"2014-01-20","UZW, Maran data"]
["Open","Kachin","MMR001","Myitkyina","MMR001D001","Waingmaw","MMR001002","Hkat Shu","MMR001002003","Hkat Shu",165735,"Hkat Cho ","MMR001CMP028",97.404195925925961,25.321710740740741,0,134,587,{"$f":"IF(CampList[[#This Row],[HH]]>0,CampList[[#This Row],[Total]]/CampList[[#This Row],[HH]],\"NA\")","v":4.3805970149253728},"GCA","Camp","Rural",null,"2011-06-01",2,"Shalom","IP",null,"2014-01-17","Update IDP population from U Zaw Win, U Myint Maung Shelter data"]
["Open","Kachin","MMR001","Myitkyina","MMR001D001","Waingmaw","MMR001002","Mai Na","MMR001002006","Mai Na",165740,"Maina Catholic Church (St. Joseph)","MMR001CMP029",97.437782499999983,25.415667500000001,null,232,1146,{"$f":"IF(CampList[[#This Row],[HH]]>0,CampList[[#This Row],[Total]]/CampList[[#This Row],[HH]],\"NA\")","v":4.9396551724137927},"GCA","Camp",null,null,"2013-06-01",4,"KMSS","IP",null,"2014-01-20","Update IDP population from U Zaw Win, U Myint Maung Shelter data"]
["Open","Kachin","MMR001","Myitkyina","MMR001D001","Waingmaw","MMR001002","Waingmaw Town","MMR001002701","No (3) Ward","MMR001002701503","Qtr. 3 Mu-yin  Baptist Church","MMR001CMP030",97.437472666666693,25.345918166666671,null,30,152,{"$f":"IF(CampList[[#This Row],[HH]]>0,CampList[[#This Row],[Total]]/CampList[[#This Row],[HH]],\"NA\")","v":5.0666666666666664},"GCA","Camp","Urban",null,"2011-06-01",1,"Shalom","IP",null,"2014-01-16","Update IDP population from Shalom data"]
["Open","Kachin","MMR001","Myitkyina","MMR001D001","Waingmaw","MMR001002","Mai Na","MMR001002006","Mai Na",165740,"Maina AG Church","MMR001CMP031",97.433419259259253,25.424529444444442,0,141,686,{"$f":"IF(CampList[[#This Row],[HH]]>0,CampList[[#This Row],[Total]]/CampList[[#This Row],[HH]],\"NA\")","v":4.8652482269503547},"GCA","Camp","Rural",null,"2013-07-01",1,"Shalom","IP",null,"2014-01-20","UZW, Maran data"]
["Open","Kachin","MMR001","Myitkyina","MMR001D001","Waingmaw","MMR001002","Waingmaw Town","MMR001002701","No (2) Ward","MMR001002701502","Qtr. 2 Lhaovo Baptist Church","MMR001CMP032",97.441166388888902,25.354036203703703,0,120,332,{"$f":"IF(CampList[[#This Row],[HH]]>0,CampList[[#This Row],[Total]]/CampList[[#This Row],[HH]],\"NA\")","v":2.7666666666666666},"GCA","Camp","Urban",null,"2011-07-01",2,"Shalom","IP",null,"2014-01-16","Checked with Shalom data, IDPs figure do not change"]
["Open","Kachin","MMR001","Myitkyina","MMR001D001","Waingmaw","MMR001002","Nawng Hee","MMR001002008","Nawng Hee",165745,"Nawng Hee Village","MMR001CMP033",97.345039,25.351965,null,18,71,{"$f":"IF(CampList[[#This Row],[HH]]>0,CampList[[#This Row],[Total]]/CampList[[#This Row],[HH]],\"NA\")","v":3.9444444444444446},"GCA","Host Families","Rural",null,null,1,"Shalom","IP",null,"2014-01-20","Update IDP population from U Zaw Win, U Myint Maung Shelter data"]
["Open","Kachin","MMR001","Myitkyina","MMR001D001","Waingmaw","MMR001002","Waingmaw Town","MMR001002701","No (2) Ward","MMR001002701502","Waingmaw Baptist Zonal Office","MMR001CMP036",97.438259000000002,25.355841999999999,0,0,150,{"$f":"IF(CampList[[#This Row],[HH]]>0,CampList[[#This Row],[Total]]/CampList[[#This Row],[HH]],\"NA\")","v":"NA"},"GCA","Camp","Rural",null,"2011-11-01",1,"KBC","IP",null,"2014-01-15","Update population according to KBC data"]
["Open","Kachin","MMR001","Myitkyina","MMR001D001","Waingmaw","MMR001002","Waingmaw Town","MMR001002701","No (4) Ward","MMR001002701504","Thargaya Lisu Baptist Church","MMR001CMP037",97.428251153846148,25.333683333333337,null,74,350,{"$f":"IF(CampList[[#This Row],[HH]]>0,CampList[[#This Row],[Total]]/CampList[[#This Row],[HH]],\"NA\")","v":4.7297297297297298},"GCA","Camp","Urban",null,null,1,"Shalom","IP",null,"2014-01-17","UZW, Maran data"]
["Open","Kachin","MMR001","Myitkyina","MMR001D001","Waingmaw","MMR001002","Waingmaw Town","MMR001002701","No (3) Ward","MMR001002701503","Waingmaw AG Church","MMR001CMP038",97.44428373015873,25.351250396825396,476,81,406,{"$f":"IF(CampList[[#This Row],[HH]]>0,CampList[[#This Row],[Total]]/CampList[[#This Row],[HH]],\"NA\")","v":5.0123456790123457},"GCA","Camp","Urban",null,"2011-11-01",1,"Shalom","IP",null,"2014-01-16","UZW, Maran data"]
["Open","Kachin","MMR001","Myitkyina","MMR001D001","Waingmaw","MMR001002","Mai Na","MMR001002006","Mai Na",165740,"Maina Lawang Baptist Church","MMR001CMP039",97.42653694444445,25.409612685185184,0,49,197,{"$f":"IF(CampList[[#This Row],[HH]]>0,CampList[[#This Row],[Total]]/CampList[[#This Row],[HH]],\"NA\")","v":4.0204081632653059},"GCA","Camp","Urban",null,"2011-12-01",1,"KBC","IP",null,"2014-01-15","Update population according to KBC data"]
["Open","Kachin","MMR001","Myitkyina","MMR001D001","Waingmaw","MMR001002","Mai Na","MMR001002006","Mai Na",165740,"Maina KBC (Bawng Ring)","MMR001CMP040",97.43485586956524,25.411800579710143,0,420,1845,{"$f":"IF(CampList[[#This Row],[HH]]>0,CampList[[#This Row],[Total]]/CampList[[#This Row],[HH]],\"NA\")","v":4.3928571428571432},"GCA","Camp","Rural",null,"2012-06-01",3,"KBC","IP",null,"2014-01-15","Update population according to KBC data"]
["Open","Kachin","MMR001","Myitkyina","MMR001D001","Waingmaw","MMR001002","Waw Shung (Kan Paik Ti Sub-township)","MMR001002035","Shan Kyaing",165845,"Shing Jai","MMR001CMP041",98.025662999999994,25.418084,null,188,977,{"$f":"IF(CampList[[#This Row],[HH]]>0,CampList[[#This Row],[Total]]/CampList[[#This Row],[HH]],\"NA\")","v":5.1968085106382977},"GCA","Camp",null,null,null,2,"KBC","IP",null,"2014-01-15","Update population according to KBC data"]
["Open","Kachin","MMR001","Myitkyina","MMR001D001","Chipwi","MMR001005","Chipwi Town","MMR001005701",null,null,"Chipwi KBC camp","MMR001CMP042",null,null,0,107,509,{"$f":"IF(CampList[[#This Row],[HH]]>0,CampList[[#This Row],[Total]]/CampList[[#This Row],[HH]],\"NA\")","v":4.7570093457943923},"GCA","Camp","Urban",null,"2012-12-01",1,"Shalom","IP",null,"2014-01-17","Update IDP population from Shalom data (Assistant CCCM Officer)"]
["Open","Kachin","MMR001","Myitkyina","MMR001D001","Chipwi","MMR001005","Hpa Re (Pang War Sub-township)","MMR001005026","Hpa Re Waw Jang",166355,"Hpare Hkyer - BP6","MMR001CMP043",null,null,75411,144,862,{"$f":"IF(CampList[[#This Row],[HH]]>0,CampList[[#This Row],[Total]]/CampList[[#This Row],[HH]],\"NA\")","v":5.9861111111111107},"NGCA","Camp","Forest/bush",null,"2012-05-01",2,"KBC","IP",null,"2014-01-22","Change GCA to NGCA, according to Shelter Unit Info:"]
["Open","Kachin","MMR001","Myitkyina","MMR001D001","Chipwi","MMR001005","Lang Jaw (Pang War Sub-township)","MMR001005022","Lang Jaw",166337,"Lan Jaw ","MMR001CMP045",98.354146999999998,25.708763000000001,null,null,null,{"$f":"IF(CampList[[#This Row],[HH]]>0,CampList[[#This Row],[Total]]/CampList[[#This Row],[HH]],\"NA\")","v":"NA"},"GCA","Host Families"]
["Open","Kachin","MMR001","Myitkyina","MMR001D001","Chipwi","MMR001005",null,null,null,null,"Gant Gwin","MMR001CMP046",null,null,null,255,1273,{"$f":"IF(CampList[[#This Row],[HH]]>0,CampList[[#This Row],[Total]]/CampList[[#This Row],[HH]],\"NA\")","v":4.9921568627450981},"GCA","Camp",null,null,null,null,null,"IP",null,null," "]
["Open","Kachin","MMR001","Bhamo","MMR001D003","Bhamo","MMR001010","Bhamo Town","MMR001010701","Nyaung Pin Ward","MMR001010701508","Robert Church","MMR001CMP047",97.229116811594196,24.268292826086952,0,558,2951,{"$f":"IF(CampList[[#This Row],[HH]]>0,CampList[[#This Row],[Total]]/CampList[[#This Row],[HH]],\"NA\")","v":5.2885304659498207},"GCA","Camp","Urban",null,"2011-07-01",3,"KBC","IP",null,"2014-01-15","Update population according to KBC data"]
["Open","Kachin","MMR001","Bhamo","MMR001D003","Bhamo","MMR001010","Moe Hping","MMR001010009","Thar Si",166837,"Lisu Boarding-House","MMR001CMP049",97.240183461538493,24.263174358974354,0,68,363,{"$f":"IF(CampList[[#This Row],[HH]]>0,CampList[[#This Row],[Total]]/CampList[[#This Row],[HH]],\"NA\")","v":5.3382352941176467},"GCA","Camp","Urban",null,"2011-06-01",2,"Shalom","IP",null,"2014-01-16","Update IDP population from Shalom data"]
["Open","Kachin","MMR001","Bhamo","MMR001D003","Bhamo","MMR001010","Moe Hping","MMR001010009","Thar Si",166837,"AD-2000 Tharthana Compound","MMR001CMP050",97.238829999999993,24.260719999999999,0,234,1089,{"$f":"IF(CampList[[#This Row],[HH]]>0,CampList[[#This Row],[Total]]/CampList[[#This Row],[HH]],\"NA\")","v":4.6538461538461542},"GCA","Camp","Urban",null,"2011-11-01",2,"KBSS","IP",null,"2013-12-18","Update population from SI winter's kit distibution list"]
["Open","Kachin","MMR001","Bhamo","MMR001D003","Bhamo","MMR001010","Bhamo Town","MMR001010701","Pauk Kone Ward","MMR001010701506","Mu-yin Baptist Church","MMR001CMP051",97.234200000000001,24.253067000000001,0,8,36,{"$f":"IF(CampList[[#This Row],[HH]]>0,CampList[[#This Row],[Total]]/CampList[[#This Row],[HH]],\"NA\")","v":4.5},"GCA","Camp","Urban",null,"2012-10-01",1,"Shalom","IP",null,"2014-01-16","Update IDP population from Shalom data (Assistant CCCM Officer)"]
["Open","Kachin","MMR001","Bhamo","MMR001D003","Bhamo","MMR001010","Bhamo Town","MMR001010701","Pauk Kone Ward","MMR001010701506","Htoi San Church","MMR001CMP052",97.236919999999998,24.24766,0,43,194,{"$f":"IF(CampList[[#This Row],[HH]]>0,CampList[[#This Row],[Total]]/CampList[[#This Row],[HH]],\"NA\")","v":4.5116279069767442},"GCA","Camp","Urban",null,"2011-12-01",1,"KBC","IP",null,"2014-01-15","Update population according to KBC data"]
["Open","Kachin","MMR001","Bhamo","MMR001D003","Bhamo","MMR001010","Han Te","MMR001010024","Yoe Gyi",166852,"Yoe Kyi Monastery","MMR001CMP053",97.240639999999999,24.24953,0,29,103,{"$f":"IF(CampList[[#This Row],[HH]]>0,CampList[[#This Row],[Total]]/CampList[[#This Row],[HH]],\"NA\")","v":3.5517241379310347},"GCA","Camp","Urban",null,"2012-08-01",1,"Shalom","IP",null,"2014-01-16","Update IDP population from Shalom data"]
["Open","Kachin","MMR001","Bhamo","MMR001D003","Bhamo","MMR001010","Nam Hlaing","MMR001010015","Nam Hlaing",166844,"Nant Hlaing Church","MMR001CMP054",97.315860000000001,24.32638,0,22,108,{"$f":"IF(CampList[[#This Row],[HH]]>0,CampList[[#This Row],[Total]]/CampList[[#This Row],[HH]],\"NA\")","v":4.9090909090909092},"GCA","Camp","Urban",null,"2011-11-01",2,"KBSS","IP",null,null,"Update from Shelter Data"]
["Open","Kachin","MMR001","Bhamo","MMR001D003","Bhamo","MMR001010","Bhamo Town","MMR001010701","Shwe Kyee Nar Ward","MMR001010701513","Ta Gun Taing Monastery (Shwe Kyi Na)","MMR001CMP055",97.227789999999999,24.29138,0,61,282,{"$f":"IF(CampList[[#This Row],[HH]]>0,CampList[[#This Row],[Total]]/CampList[[#This Row],[HH]],\"NA\")","v":4.6229508196721314},"GCA","Camp","Urban",null,"2012-05-01",2,"Shalom","IP",null,"2014-01-16","Update IDP population from Shalom data"]
["Open","Kachin","MMR001","Bhamo","MMR001D003","Momauk","MMR001012","Momauk Town","MMR001012701","Ah Lin Kawng Ward","MMR001012701502","Momauk Baptist Church","MMR001CMP056",97.344359999999995,24.250689999999999,0,399,1582,{"$f":"IF(CampList[[#This Row],[HH]]>0,CampList[[#This Row],[Total]]/CampList[[#This Row],[HH]],\"NA\")","v":3.9649122807017543},"GCA","Camp","Urban",null,"2011-06-01",3,"KBC","IP",null,"2014-01-15","Update population according to KBC data"]
["Open","Kachin","MMR001","Bhamo","MMR001D003","Momauk","MMR001012","Momauk Town","MMR001012701","Kyay Nan Waing Ward","MMR001012701503","Momauk Catholic Church (St. Patrick)","MMR001CMP057",97.346950000000007,24.25177,0,284,1062,{"$f":"IF(CampList[[#This Row],[HH]]>0,CampList[[#This Row],[Total]]/CampList[[#This Row],[HH]],\"NA\")","v":3.73943661971831},"GCA","Camp","Urban",null,"2011-08-01",2,"KBSS","IP",null,null,"Update from Shelter Data"]
["Open","Kachin","MMR001","Bhamo","MMR001D003","Momauk","MMR001012","Momauk Town","MMR001012701","Ah Lin Kawng Ward","MMR001012701502","Mandalay Monestry","MMR001CMP058",97.346940000000004,24.251860000000001,0,4,16,{"$f":"IF(CampList[[#This Row],[HH]]>0,CampList[[#This Row],[Total]]/CampList[[#This Row],[HH]],\"NA\")","v":4},"GCA","Camp","Urban",null,"2011-10-01",1,"Shalom","IP",null,"2014-01-16","Checked with Shalom data, IDPs figure do not change"]
["Open","Kachin","MMR001","Bhamo","MMR001D003","Momauk","MMR001012","Momauk Town","MMR001012701","Ah Lin Kawng Ward","MMR001012701502","Ni Thaw Ka Monestry","MMR001CMP059",97.347740000000002,24.253769999999999,0,23,85,{"$f":"IF(CampList[[#This Row],[HH]]>0,CampList[[#This Row],[Total]]/CampList[[#This Row],[HH]],\"NA\")","v":3.6956521739130435},"GCA","Camp","Urban",null,"2011-10-01",1,"Shalom","IP",null,"2014-01-16","Checked with Shalom data, IDPs figure do not change"]
["Open","Kachin","MMR001","Bhamo","MMR001D003","Momauk","MMR001012","Tar Li","MMR001012021","Tar Li",167086,"Tarli ","MMR001CMP060",null,null,null,10,38,{"$f":"IF(CampList[[#This Row],[HH]]>0,CampList[[#This Row],[Total]]/CampList[[#This Row],[HH]],\"NA\")","v":3.8},"GCA","Host Families",null,null,null,null,null,"RRD"]
["Open","Kachin","MMR001","Bhamo","MMR001D003","Momauk","MMR001012","Myo Thit","MMR001012010","Myo Thit",167048,"Myo Thit ","MMR001CMP061",null,null,null,13,53,{"$f":"IF(CampList[[#This Row],[HH]]>0,CampList[[#This Row],[Total]]/CampList[[#This Row],[HH]],\"NA\")","v":4.0769230769230766},"GCA","Host Families","Urban",null,null,null,null,"RRD"]
["Open","Kachin","MMR001","Bhamo","MMR001D003","Momauk","MMR001012","Man Pon","MMR001012001","Man Pon",167009,"Man Bung Catholic compound","MMR001CMP062",97.325019999999995,24.245100000000001,0,117,448,{"$f":"IF(CampList[[#This Row],[HH]]>0,CampList[[#This Row],[Total]]/CampList[[#This Row],[HH]],\"NA\")","v":3.8290598290598292},"GCA","Camp","Urban",null,"2012-05-01",2,"KBSS","IP",null,"2014-01-20","Update from Shelter Data"]
["Open","Kachin","MMR001","Bhamo","MMR001D003","Momauk","MMR001012","Man Nawng","MMR001012014","Man Nawng",167063,"Man Nawng ","MMR001CMP063",97.321659999999994,24.41,null,28,136,{"$f":"IF(CampList[[#This Row],[HH]]>0,CampList[[#This Row],[Total]]/CampList[[#This Row],[HH]],\"NA\")","v":4.8571428571428568},"GCA","Host Families",null,null,null,null,null,"RRD"]
["Open","Kachin","MMR001","Bhamo","MMR001D003","Momauk","MMR001012","Maing Khat","MMR001012020","Maing Khat",167078,"Mai Khat ","MMR001CMP064",null,null,null,2,9,{"$f":"IF(CampList[[#This Row],[HH]]>0,CampList[[#This Row],[Total]]/CampList[[#This Row],[HH]],\"NA\")","v":4.5},"GCA","Host Families",null,null,null,null,null,"RRD"]
["Open","Kachin","MMR001","Bhamo","MMR001D003","Momauk","MMR001012","Hpar Kei (Dawthponeyan Sub-township)","MMR001012046","Hpar Kei",167242,"Phar Kay/Nant Waing ","MMR001CMP065",97.429860000000005,24.630859999999998,null,39,176,{"$f":"IF(CampList[[#This Row],[HH]]>0,CampList[[#This Row],[Total]]/CampList[[#This Row],[HH]],\"NA\")","v":4.5128205128205128},"GCA","Host Families",null,null,null,null,null,"RRD",null,"2014-01-07","Update from OCHA Data (2 Jan 2014)"]
["Open","Kachin","MMR001","Bhamo","MMR001D003","Mansi","MMR001013","Mansi Town","MMR001013701","Kawng Yar Ward","MMR001013701504","Mansi Baptist Church","MMR001CMP066",97.291820000000001,24.129059999999999,0,93,408,{"$f":"IF(CampList[[#This Row],[HH]]>0,CampList[[#This Row],[Total]]/CampList[[#This Row],[HH]],\"NA\")","v":4.387096774193548},"GCA","Camp","Urban",null,"2013-11-01",2,"KBC","IP",null,"2014-01-15","Update population according to KBC data"]
["Open","Kachin","MMR001","Bhamo","MMR001D003","Shwegu","MMR001011","Shwegu Town","MMR001011701","Shwegu Town","MMR001011701504","Shwe Gu Baptist Church","MMR001CMP067",96.807353000000006,24.200361000000001,0,79,261,{"$f":"IF(CampList[[#This Row],[HH]]>0,CampList[[#This Row],[Total]]/CampList[[#This Row],[HH]],\"NA\")","v":3.3037974683544302},"GCA","Camp","Urban",null,"2011-07-01",1,"KBC","IP",null,"2014-01-15","Checked with KBC data"]
["Open","Kachin","MMR001","Bhamo","MMR001D003","Shwegu","MMR001011","Shwegu Town","MMR001011701","Shwegu Town","MMR001011701504","Shwe Gu Catholic Church","MMR001CMP068",96.807353000000006,24.200367,0,47,176,{"$f":"IF(CampList[[#This Row],[HH]]>0,CampList[[#This Row],[Total]]/CampList[[#This Row],[HH]],\"NA\")","v":3.7446808510638299},"GCA","Camp","Urban",null,"2011-07-01",2,"KBSS","RRD",null,"2014-01-07","Update from OCHA Data (2 Jan 2014)"]
["Open","Kachin","MMR001","Bhamo","MMR001D003","Momauk","MMR001012","Lwegel Town","MMR001012702","Loi Je",null,"Loi Je Catholic Church","MMR001CMP069",97.724566999999993,24.205417000000001,0,46,396,{"$f":"IF(CampList[[#This Row],[HH]]>0,CampList[[#This Row],[Total]]/CampList[[#This Row],[HH]],\"NA\")","v":8.6086956521739122},"GCA","Camp","Urban",null,"2011-11-01",2,"KBSS","RRD",null,"2014-01-07","Update from OCHA Data (2 Jan 2014)"]
["Open","Kachin","MMR001","Bhamo","MMR001D003","Momauk","MMR001012","Lwegel Town","MMR001012702","Aung Zay Yar Ward","MMR001012702505","Loi Je Lisu Camp","MMR001CMP070",97.717133000000004,24.200433,0,142,716,{"$f":"IF(CampList[[#This Row],[HH]]>0,CampList[[#This Row],[Total]]/CampList[[#This Row],[HH]],\"NA\")","v":5.042253521126761},"GCA","Camp","Urban",null,"2012-04-01",2,"KBC","IP",null,"2014-01-21","UZW, Convoy Trip, 6-Nov-13"]
["Open","Kachin","MMR001","Bhamo","MMR001D003","Momauk","MMR001012","Lwegel Town","MMR001012702",null,null,"Loi Je Baptist Church","MMR001CMP071",97.718582999999995,24.200972,null,26,149,{"$f":"IF(CampList[[#This Row],[HH]]>0,CampList[[#This Row],[Total]]/CampList[[#This Row],[HH]],\"NA\")","v":5.7307692307692308},"GCA","Camp",null,null,null,1,"KBC","IP",null,"2014-01-21","UZW, Convoy Trip, 6-Nov-13"]
["Open","Kachin","MMR001","Bhamo","MMR001D003","Momauk","MMR001012","Lwegel Town","MMR001012702","Say Yone Kone",null,"Nyaung Na Pin ","MMR001CMP072",97.724483000000006,24.205417000000001,0,47,266,{"$f":"IF(CampList[[#This Row],[HH]]>0,CampList[[#This Row],[Total]]/CampList[[#This Row],[HH]],\"NA\")","v":5.6595744680851068},"GCA","Camp","Urban",null,"2012-08-01",1,"KBC","IP",null,"2013-12-10","Data from U Zaw Win Oo"]
["Open","Kachin","MMR001","Bhamo","MMR001D003","Momauk","MMR001012","Lwegel Town","MMR001012702","Seng Ja ",null,"Seng Ja ","MMR001CMP073",97.710864000000001,24.207332999999998,0,35,204,{"$f":"IF(CampList[[#This Row],[HH]]>0,CampList[[#This Row],[Total]]/CampList[[#This Row],[HH]],\"NA\")","v":5.8285714285714283},"GCA","Camp","Urban",null,"2012-08-01",1,"KBC","IP",null,"2014-01-15","According to KBC data,  HH and Population confirmed."]
["Open","Kachin","MMR001","Puta-O","MMR001D004","Khaunglanhpu","MMR001018","La Ja Ga","MMR001018021","La Ja",168236,"La Ja","MMR001CMP074",null,null,null,11,17,{"$f":"IF(CampList[[#This Row],[HH]]>0,CampList[[#This Row],[Total]]/CampList[[#This Row],[HH]],\"NA\")","v":1.5454545454545454},"GCA","Camp",null,null,null,null,null,"RRD",null,"2014-01-07","Update data from OCHA IDPs List"]
["Open","Kachin","MMR001","Puta-O","MMR001D004","Puta-O","MMR001014","Puta-O Town","MMR001014701",null,null,"Tote Tan Ward","MMR001CMP075",null,null,null,18,98,{"$f":"IF(CampList[[#This Row],[HH]]>0,CampList[[#This Row],[Total]]/CampList[[#This Row],[HH]],\"NA\")","v":5.4444444444444446},"GCA","Camp","Urban",null,null,null,null,"RRD",null,"2014-01-07","Update data from OCHA IDPs List"]
["Open","Kachin","MMR001","Mohnyin","MMR001D002","Mogaung","MMR001008","Nawng Kaing Htaw","MMR001008002","Ma Haung",166676,"Mang Hawng Baptist Church","MMR001CMP077",96.942279999999997,25.296579999999999,0,14,61,{"$f":"IF(CampList[[#This Row],[HH]]>0,CampList[[#This Row],[Total]]/CampList[[#This Row],[HH]],\"NA\")","v":4.3571428571428568},"GCA","Camp","Urban",null,"2012-05-01",1,"KBC","IP",null,"2014-01-15","Checked with KBC data"]
["Open","Kachin","MMR001","Mohnyin","MMR001D002","Mogaung","MMR001008","Mogaung Town","MMR001008701",null,null,"Kyun Taw Baptist Church ","MMR001CMP078",96.922619999999995,25.305669999999999,470,13,50,{"$f":"IF(CampList[[#This Row],[HH]]>0,CampList[[#This Row],[Total]]/CampList[[#This Row],[HH]],\"NA\")","v":3.8461538461538463},"GCA","Camp","Urban",null,"2012-05-01",1,"KBC","IP",null,"2014-01-15","Checked with KBC data"]
["Open","Kachin","MMR001","Mohnyin","MMR001D002","Mogaung","MMR001008","Mogaung Town","MMR001008701","Nat Gyi Kone Ward","MMR001008701506","Nat Gyi Kone Baptist Church ","MMR001CMP079",96.948740000000001,25.30442,100,12,37,{"$f":"IF(CampList[[#This Row],[HH]]>0,CampList[[#This Row],[Total]]/CampList[[#This Row],[HH]],\"NA\")","v":3.0833333333333335},"GCA","Camp","Urban",null,"2012-03-01",1,"KBC","IP",null,"2014-01-15","Update population according to KBC data"]
["Open","Kachin","MMR001","Mohnyin","MMR001D002","Mohnyin","MMR001007",null,null,null,null,"St. Patrick Catholic Church ","MMR001CMP080",96.367059999999995,24.764800000000001,null,12,46,{"$f":"IF(CampList[[#This Row],[HH]]>0,CampList[[#This Row],[Total]]/CampList[[#This Row],[HH]],\"NA\")","v":3.8333333333333335},"GCA","Camp",null,null,null,null,null,"RRD",null,null," "]
["Open","Kachin","MMR001","Mohnyin","MMR001D002","Mohnyin","MMR001007","Nam Mun","MMR001007016","Nam Mun",166591,"Nant Mun","MMR001CMP081",96.364949999999993,24.998349999999999,0,21,97,{"$f":"IF(CampList[[#This Row],[HH]]>0,CampList[[#This Row],[Total]]/CampList[[#This Row],[HH]],\"NA\")","v":4.6190476190476186},"GCA","Camp","Rural",null,"2012-03-01",null,null,"RRD",null,null," "]
["Open","Kachin","MMR001","Mohnyin","MMR001D002","Hpakant","MMR001009","Hpakan Town","MMR001009701","Hnget Pyaw Taw Ward","MMR001009701502","Nga Pyaw Taw Baptist Nursery School ","MMR001CMP082",96.312790000000007,25.611160000000002,0,101,544,{"$f":"IF(CampList[[#This Row],[HH]]>0,CampList[[#This Row],[Total]]/CampList[[#This Row],[HH]],\"NA\")","v":5.3861386138613865},"GCA","Camp","Urban",null,"2012-08-01",2,"KBC","IP",null,"2014-01-15","Update population according to KBC data"]
["Open","Kachin","MMR001","Mohnyin","MMR001D002","Hpakant","MMR001009","Hpakan Town","MMR001009701","Maw Wam Ward","MMR001009701501","Maw Wan, Mu-yin Baptist Church","MMR001CMP091",96.319687999999999,25.615202,319,4,22,{"$f":"IF(CampList[[#This Row],[HH]]>0,CampList[[#This Row],[Total]]/CampList[[#This Row],[HH]],\"NA\")","v":5.5},"GCA","Camp","Urban",null,"2012-08-01",1,"Shalom","IP",null,"2014-01-17","Update IDP population from Shalom data (Assistant CCCM Officer)"]
["Open","Kachin","MMR001","Mohnyin","MMR001D002","Hpakant","MMR001009","Nam Ma Hpyit","MMR001009002","Nam Ma Hpyit",166776,"Nant Ma Hpit Catholic Church","MMR001CMP103",96.341352999999998,25.613894999999999,0,38,215,{"$f":"IF(CampList[[#This Row],[HH]]>0,CampList[[#This Row],[Total]]/CampList[[#This Row],[HH]],\"NA\")","v":5.6578947368421053},"GCA","Camp","Urban",null,"2013-08-01",3,"KMSS","RRD",null,null," "]
["Open","Kachin","MMR001","Mohnyin","MMR001D002","Hpakant","MMR001009","Seik Mu","MMR001009003","Seik Mu",166783,"Yumar Baptist Church","MMR001CMP105",96.306910999999999,25.599250000000001,0,40,166,{"$f":"IF(CampList[[#This Row],[HH]]>0,CampList[[#This Row],[Total]]/CampList[[#This Row],[HH]],\"NA\")","v":4.1500000000000004},"GCA","Camp","Rural",null,"2012-08-01",1,"KBC","IP",null,"2014-01-15","Update population according to KBC data"]
["Open","Kachin","MMR001","Mohnyin","MMR001D002","Hpakant","MMR001009","Seik Mu","MMR001009003","Seik Mu",166783,"Chin Church, Seik Mu","MMR001CMP109",96.283377000000002,25.582065,0,4,20,{"$f":"IF(CampList[[#This Row],[HH]]>0,CampList[[#This Row],[Total]]/CampList[[#This Row],[HH]],\"NA\")","v":5},"GCA","Camp","Rural",null,"2013-08-01",1,"Shalom","IP",null,"2014-01-16","Update IDP population from Shalom data"]
["Open","Kachin","MMR001","Myitkyina","MMR001D001","Waingmaw","MMR001002","Hpawt Dawt","MMR001002032","Zai Aung",null,"Zai Awng / Mung Ga Zup","MMR001CMP111",97.756789999999995,25.106670000000001,756,620,2342,{"$f":"IF(CampList[[#This Row],[HH]]>0,CampList[[#This Row],[Total]]/CampList[[#This Row],[HH]],\"NA\")","v":3.7774193548387096},"NGCA","Camp","Rural",null,"2011-11-01",3,"KBC","IP",null,"2014-01-15","Update population according to KBC data"]
["Open","Kachin","MMR001","Myitkyina","MMR001D001","Waingmaw","MMR001002","Saga Pa (Sadung Sub-township)","MMR001002040","Saga Pa",null,"Border Post 8","MMR001CMP113",97.915833000000006,25.220278,2404,171,725,{"$f":"IF(CampList[[#This Row],[HH]]>0,CampList[[#This Row],[Total]]/CampList[[#This Row],[HH]],\"NA\")","v":4.2397660818713447},"NGCA","Camp","Forest/bush",null,"2011-11-01",3,"KMSS","IRRC",null,"2014-01-24"]
["Open","Kachin","MMR001","Myitkyina","MMR001D001","Waingmaw","MMR001002","Saga Pa (Sadung Sub-township)",null,"Hkau Shau",null,"Hkau Shau (BP 12)","MMR001CMP115",97.807182999999995,25.200333000000001,1023,176,1207,{"$f":"IF(CampList[[#This Row],[HH]]>0,CampList[[#This Row],[Total]]/CampList[[#This Row],[HH]],\"NA\")","v":6.8579545454545459},"NGCA","Camp","Rural",null,"2011-12-01",3,"KBC","IP",null,"2014-01-15","Update population according to KBC data"]
["Open","Kachin","MMR001","Myitkyina","MMR001D001","Waingmaw","MMR001002","Nam Sang Yang","MMR001002024","Nam Sang Yang",165772,"Woi Chyai ","MMR001CMP116",97.546893999999995,24.755253,316,789,4211,{"$f":"IF(CampList[[#This Row],[HH]]>0,CampList[[#This Row],[Total]]/CampList[[#This Row],[HH]],\"NA\")","v":5.3371356147021549},"NGCA","Camp","Urban",null,"2011-06-01",5,"KMSS","IP",null,"2014-01-17","Data received from, Shelter Unit (They have been to convoy trip on 12 to 16 Jan 2014)"]
["Open","Kachin","MMR001","Myitkyina","MMR001D001","Waingmaw","MMR001002","Nam Sang Yang","MMR001002024","Nam Sang Yang",165772,"Laiza Market 3 / Laiza Gat","MMR001CMP117",97.551507000000001,24.747212999999999,221,491,2090,{"$f":"IF(CampList[[#This Row],[HH]]>0,CampList[[#This Row],[Total]]/CampList[[#This Row],[HH]],\"NA\")","v":4.2566191446028512},"NGCA","Camp","Urban",null,"2011-06-01",3,"KMSS","IP",null,"2014-01-17","Data received from, Shelter Unit (They have been to convoy trip on 12 to 16 Jan 2014)"]
["Open","Kachin","MMR001","Myitkyina","MMR001D001","Waingmaw","MMR001002","Sa Ma","MMR001002031","Nar Gu",165790,"Maga Yang ","MMR001CMP119",97.715230000000005,24.980250000000002,984,623,2725,{"$f":"IF(CampList[[#This Row],[HH]]>0,CampList[[#This Row],[Total]]/CampList[[#This Row],[HH]],\"NA\")","v":4.3739967897271272},"NGCA","Camp","Rural",null,"2011-06-01",5,"KMSS","IRRC",null,"2014-01-24"]
["Open","Kachin","MMR001","Myitkyina","MMR001D001","Waingmaw","MMR001002","Sa Ma","MMR001002031","Pa Jau",null,"Pajau / Jan Mai","MMR001CMP120",97.751389000000003,24.831944,2330,186,749,{"$f":"IF(CampList[[#This Row],[HH]]>0,CampList[[#This Row],[Total]]/CampList[[#This Row],[HH]],\"NA\")","v":4.0268817204301079},"NGCA","Camp","Rural",null,"2011-07-01",3,"KBC","IP",null,"2014-01-15","Update population according to KBC data"]
["Open","Kachin","MMR001","Bhamo","MMR001D003","Momauk","MMR001012","Dawthponeyan  Town","MMR001012703","Laiza",null,"Je Yang Hka ","MMR001CMP121",97.568331999999998,24.688338999999999,314,1688,8390,{"$f":"IF(CampList[[#This Row],[HH]]>0,CampList[[#This Row],[Total]]/CampList[[#This Row],[HH]],\"NA\")","v":4.9703791469194316},"NGCA","Camp","Rural",null,"2012-06-01",7,"KMSS","IP",null,"2014-01-17","Data received from, Shelter Unit (They have been to convoy trip on 12 to 16 Jan 2014)"]
["Open","Kachin","MMR001","Bhamo","MMR001D003","Momauk","MMR001012","In Baw Mai Kyin (Dawthponeyan Sub-township)","MMR001012042","Hpun Lum Yang",167223,"Hpun Lum Yang ","MMR001CMP122",97.573126000000002,24.661905999999998,415,437,1567,{"$f":"IF(CampList[[#This Row],[HH]]>0,CampList[[#This Row],[Total]]/CampList[[#This Row],[HH]],\"NA\")","v":3.5858123569794049},"NGCA","Camp","Rural",null,"2011-06-01",5,"KMSS","IP",null,"2014-01-17","Data received from, Shelter Unit (They have been to convoy trip on 12 to 16 Jan 2014)"]
["Open","Kachin","MMR001","Bhamo","MMR001D003","Momauk","MMR001012","Zee Wone Gawt","MMR001012023","Dum Bung",null,"Dum Bung ","MMR001CMP123",97.537099999999995,24.461033,360,119,614,{"$f":"IF(CampList[[#This Row],[HH]]>0,CampList[[#This Row],[Total]]/CampList[[#This Row],[HH]],\"NA\")","v":5.1596638655462188},"NGCA","Camp","Forest/bush",null,"2011-08-01",4,"KMSS","IRRC",null,"2014-01-24"]
["Open","Kachin","MMR001","Bhamo","MMR001D003","Momauk","MMR001012","Kawng Hsa (Lwegel Sub-township)","MMR001012033","Mai Gyar Yang",216913,"Pa Kahtawng ","MMR001CMP126",97.752667000000002,24.2744,978,516,3214,{"$f":"IF(CampList[[#This Row],[HH]]>0,CampList[[#This Row],[Total]]/CampList[[#This Row],[HH]],\"NA\")","v":6.2286821705426361},"NGCA","Camp","Rural",null,"2012-04-01",2,"KBSS","IRRC",null,"2014-01-24"]
["Open","Kachin","MMR001","Bhamo","MMR001D003","Mansi","MMR001013","In Ba Pa","MMR001013012","La Na",216948,"Lana Zup Ja ","MMR001CMP128",97.625617000000005,24.056132999999999,866,551,2916,{"$f":"IF(CampList[[#This Row],[HH]]>0,CampList[[#This Row],[Total]]/CampList[[#This Row],[HH]],\"NA\")","v":5.2921960072595278},"NGCA","Camp","Rural",null,"2011-10-01",2,"KBSS","IP",null,"2013-12-20","Update IDP increased in Oct and Nov 2013 from Angela (UNHCR - Bhamo)"]
["Open","Kachin","MMR001","Bhamo","MMR001D003","Mansi","MMR001013","Dum Buk","MMR001013014","Dum Buk","Dum Buk","Bum Tsit Pa ","MMR001CMP129",97.609832999999995,24.002433,854,591,2619,{"$f":"IF(CampList[[#This Row],[HH]]>0,CampList[[#This Row],[Total]]/CampList[[#This Row],[HH]],\"NA\")","v":4.4314720812182742},"NGCA","Camp","Rural",null,"2011-10-01",2,"KBSS","IP",null,"2013-12-20","Update IDP increased in Oct and Nov 2013 from Angela (UNHCR - Bhamo)"]
["Open","Kachin","MMR001","Bhamo","MMR001D003","Momauk","MMR001012","Ba Lawng Kawng (Lwegel Sub-township)","MMR001012030","Hpa Lum",167138,"Nhkawng Pa ","MMR001CMP131",97.669366999999994,24.378167000000001,1149,387,1624,{"$f":"IF(CampList[[#This Row],[HH]]>0,CampList[[#This Row],[Total]]/CampList[[#This Row],[HH]],\"NA\")","v":4.1963824289405682},"NGCA","Camp","Rural",null,"2012-04-01",2,"KBSS","IRRC",null,"2014-01-24"," "]
["Open","Kachin","MMR001","Bhamo","MMR001D003","Mansi","MMR001013","Man Wein","MMR001013021",null,null,"Man Wing Catholic Church","MMR001CMP132",97.596000000000004,23.831,0,403,1690,{"$f":"IF(CampList[[#This Row],[HH]]>0,CampList[[#This Row],[Total]]/CampList[[#This Row],[HH]],\"NA\")","v":4.193548387096774},"GCA","Camp","Rural",null,"2011-11-01",2,"KBSS","IP",null,"2013-12-20","Update IDP increased in Oct and Nov 2013 from Angela (UNHCR - Bhamo)"]
["Open","Kachin","MMR001","Bhamo","MMR001D003","Mansi","MMR001013","Man Wein","MMR001013021",null,null,"Man Wing Baptist Church","MMR001CMP133",97.587900000000005,23.83,0,102,531,{"$f":"IF(CampList[[#This Row],[HH]]>0,CampList[[#This Row],[Total]]/CampList[[#This Row],[HH]],\"NA\")","v":5.2058823529411766},"GCA","Camp","Rural",null,"2012-02-01",2,"KBC","IP",null,"2014-01-15","Update population according to KBC data"]
["Open","Kachin","MMR001","Bhamo","MMR001D003","Mansi","MMR001013","Man Wein","MMR001013021",null,null,"Man Wing Host Families","MMR001CMP134",null,null,null,253,1114,{"$f":"IF(CampList[[#This Row],[HH]]>0,CampList[[#This Row],[Total]]/CampList[[#This Row],[HH]],\"NA\")","v":4.4031620553359687},"GCA","Host Families",null,null,null,null,null,"IP",null,"2013-12-10","Data from U Zaw Win Oo"]
["Open","Kachin","MMR001","Bhamo","MMR001D003","Mansi","MMR001013","La Gat Dawt","MMR001013027",null,null,"Lung Kawk  ( Hka Hkye Zup)","MMR001CMP135",97.585667000000001,23.9055,745,54,187,{"$f":"IF(CampList[[#This Row],[HH]]>0,CampList[[#This Row],[Total]]/CampList[[#This Row],[HH]],\"NA\")","v":3.4629629629629628},"NGCA","Camp","Forest/bush",null,"2012-08-01",2,"KBSS","IRRC",null,"2014-01-24"," "]
["Open","Kachin","MMR001","Bhamo","MMR001D003","Mansi","MMR001013","Man Wein","MMR001013021",null,null,"Nam Hka Mare (west of Man Wing)","MMR001CMP136",null,null,null,73,637,{"$f":"IF(CampList[[#This Row],[HH]]>0,CampList[[#This Row],[Total]]/CampList[[#This Row],[HH]],\"NA\")","v":8.7260273972602747},"NGCA","Camp",null,null,null,null,null,"IRRC",null,"2014-01-24"]
["Open","Kachin","MMR001","Myitkyina","MMR001D001","Injangyang","MMR001003",null,null,null,null,"Lawk Hkawng Ginwang","MMR001CMP146",null,null,null,null,null,{"$f":"IF(CampList[[#This Row],[HH]]>0,CampList[[#This Row],[Total]]/CampList[[#This Row],[HH]],\"NA\")","v":"NA"},"GCA","Camp",null,null,null,null,null,null,null,null," "]
["Open","Kachin","MMR001","Bhamo","MMR001D003","Shwegu","MMR001011",null,null,null,null,"Lawk Awng Mare D. (Sinbo Area)","MMR001CMP147",null,null,null,375,1691,{"$f":"IF(CampList[[#This Row],[HH]]>0,CampList[[#This Row],[Total]]/CampList[[#This Row],[HH]],\"NA\")","v":4.5093333333333332},"NGCA","Camp",null,null,null,null,null,"IRRC",null,null," "]
["Open","Kachin","MMR001","Mohnyin","MMR001D002","Hpakant","MMR001009","Nam Si In (Karmaing Sub-township)","MMR001009012","Nam Si In",166822,"Hlaing Naung Baptist","MMR001CMP148",96.705960000000005,25.51352,0,23,67,{"$f":"IF(CampList[[#This Row],[HH]]>0,CampList[[#This Row],[Total]]/CampList[[#This Row],[HH]],\"NA\")","v":2.9130434782608696},"GCA","Camp","Rural",null,"2012-10-01",1,"KBC","IP",null,"2014-01-15","Update population according to KBC data"]
["Open","Kachin","MMR001","Myitkyina","MMR001D001","Waingmaw","MMR001002","Hpawt Dawt","MMR001002032","Lai Zar",165816,"Laiza Muklum Hpyen  Yen Mungshawa ni","MMR001CMP149",null,null,null,355,4450,{"$f":"IF(CampList[[#This Row],[HH]]>0,CampList[[#This Row],[Total]]/CampList[[#This Row],[HH]],\"NA\")","v":12.535211267605634},"NGCA","Host Families",null,null,null,null,null,"IRRC"]
["Open","Kachin","MMR001","Mohnyin","MMR001D002","Mohnyin","MMR001007","Nant Mon",null,"Indawgyi",null,"Nawng Ing (Indawgyi) Baptist Church  ","MMR001CMP152",null,null,null,21,97,{"$f":"IF(CampList[[#This Row],[HH]]>0,CampList[[#This Row],[Total]]/CampList[[#This Row],[HH]],\"NA\")","v":4.6190476190476186},"GCA","Camp","Rural",null,null,1,"KBC","IP",null,"2014-01-15","Update population according to KBC data"]
["Open","Kachin","MMR001","Myitkyina","MMR001D001","Waingmaw","MMR001002","Saga Pa (Sadung Sub-township)","MMR001002040",null,null,"Post 6 Camp","MMR001CMP160",97.990555999999998,25.265277999999999,2764,144,862,{"$f":"IF(CampList[[#This Row],[HH]]>0,CampList[[#This Row],[Total]]/CampList[[#This Row],[HH]],\"NA\")","v":5.9861111111111107},"NGCA","Camp","Forest/bush",null,"2011-11-01",2,"KMSS","IP",null,"2014-01-15","Update population according to KBC data"]
["Open","Kachin","MMR001","Myitkyina","MMR001D001","Myitkyina","MMR001001","Pa La Na Sa Khan Myar","MMR001001003","Pi Tauk Myaing",165685,"Pa Dauk Myaing(Pa La Na)","MMR001CMP162",97.4345,25.493819999999999,null,31,163,{"$f":"IF(CampList[[#This Row],[HH]]>0,CampList[[#This Row],[Total]]/CampList[[#This Row],[HH]],\"NA\")","v":5.258064516129032},"GCA","Camp",null,null,"2012-12-01",null,null,"IP",null,null,"Update from Shelter Data"]
["Open","Kachin","MMR001","Bhamo","MMR001D003","Bhamo","MMR001010",null,null,null,null,"Host Families","MMR001CMP163",null,null,null,335,1475,{"$f":"IF(CampList[[#This Row],[HH]]>0,CampList[[#This Row],[Total]]/CampList[[#This Row],[HH]],\"NA\")","v":4.4029850746268657},"GCA","Host Families",null,null,null,null,null,"IP",null,"2013-12-20","Update IDP increased in Oct and Nov 2013 from Angela (UNHCR - Bhamo)"]
["Open","Kachin","MMR001","Mohnyin","MMR001D002","Hpakant","MMR001009","Hpakan Town","MMR001009701","Maw Wam Ward","MMR001009701501","Lisu Baptist Church, Maw Wan Ward","MMR001CMP167",96.316400000000002,25.61842,0,8,30,{"$f":"IF(CampList[[#This Row],[HH]]>0,CampList[[#This Row],[Total]]/CampList[[#This Row],[HH]],\"NA\")","v":3.75},"GCA","Camp","Rural",null,"2013-01-01",1,"Shalom","IP",null,"2014-01-16","Update IDP population from Shalom data"]
["Open","Kachin","MMR001","Mohnyin","MMR001D002","Hpakant","MMR001009","Lone Khin","MMR001009001","Lone Khin",166773,"5 Ward RC Church(lon Khin)","MMR001CMP168",96.353070000000002,25.655819999999999,0,78,334,{"$f":"IF(CampList[[#This Row],[HH]]>0,CampList[[#This Row],[Total]]/CampList[[#This Row],[HH]],\"NA\")","v":4.2820512820512819},"GCA","Camp","Rural",null,"2013-01-01",null,null,"RRD",null,null," "]
["Open","Kachin","MMR001","Mohnyin","MMR001D002","Hpakant","MMR001009","Lone Khin","MMR001009001","Hmaw Si Zar",166775,"Baptist Church, Hmaw Si Sar(Lon Khin)","MMR001CMP169",96.346469999999997,25.647649999999999,0,41,191,{"$f":"IF(CampList[[#This Row],[HH]]>0,CampList[[#This Row],[Total]]/CampList[[#This Row],[HH]],\"NA\")","v":4.6585365853658534},"GCA","Camp","Rural",null,"2013-01-01",2,"KBC","RRD",null,null," "]
["Open","Kachin","MMR001","Mohnyin","MMR001D002","Hpakant","MMR001009","Lone Khin","MMR001009001","Ma Sut Yang",216880,"Baptist Church, Sai Ra village","MMR001CMP172",96.353070000000002,25.668469999999999,256,4,13,{"$f":"IF(CampList[[#This Row],[HH]]>0,CampList[[#This Row],[Total]]/CampList[[#This Row],[HH]],\"NA\")","v":3.25},"GCA","Camp","Rural",null,"2013-01-01",null,null,"RRD",null,null," "]
["Open","Kachin","MMR001","Mohnyin","MMR001D002","Hpakant","MMR001009","Lone Khin","MMR001009001","Nyein Chan Thar Yar",216876,"Dhama Rakhita, Nyein Chan Tar Yar Ward(Lon Khin)","MMR001CMP174",96.354929999999996,25.643090000000001,0,67,301,{"$f":"IF(CampList[[#This Row],[HH]]>0,CampList[[#This Row],[Total]]/CampList[[#This Row],[HH]],\"NA\")","v":4.4925373134328357},"GCA","Camp","Rural",null,"2013-01-01",1,"Shalom","IP",null,"2014-01-16","Update IDP population from Shalom data"]
["Open","Kachin","MMR001","Mohnyin","MMR001D002","Hpakant","MMR001009","Lone Khin","MMR001009001","Hmaw Si Zar",166775,"AG Church, Hmaw Si Sa","MMR001CMP176",96.345569999999995,25.635300000000001,0,65,306,{"$f":"IF(CampList[[#This Row],[HH]]>0,CampList[[#This Row],[Total]]/CampList[[#This Row],[HH]],\"NA\")","v":4.7076923076923078},"GCA","Camp","Rural",null,"2013-01-01",1,"Shalom","IP",null,"2014-01-17","Update IDP population from Shalom data (Assistant CCCM Officer)"]
["Open","Kachin","MMR001","Mohnyin","MMR001D002","Hpakant","MMR001009","Lone Khin","MMR001009001","Lone Khin",166773,"Muring Baptist Church, Awng Ra, Wa Ra Zut VT","MMR001CMP177",96.354159999999993,25.658670000000001,0,6,22,{"$f":"IF(CampList[[#This Row],[HH]]>0,CampList[[#This Row],[Total]]/CampList[[#This Row],[HH]],\"NA\")","v":3.6666666666666665},"GCA","Camp","Rural",null,"2013-01-01",null,null,"RRD",null,null," "]
["Open","Kachin","MMR001","Mohnyin","MMR001D002","Hpakant","MMR001009","Lone Khin","MMR001009001","Lone Khin",166773,"5 Ward Baptist Church(lon Khin)","MMR001CMP179",96.355270000000004,25.656130000000001,0,100,401,{"$f":"IF(CampList[[#This Row],[HH]]>0,CampList[[#This Row],[Total]]/CampList[[#This Row],[HH]],\"NA\")","v":4.01},"GCA","Camp","Rural",null,"2013-01-01",2,"KBC","IP",null,"2014-01-15","Update population according to KBC data"]
["Open","Kachin","MMR001","Mohnyin","MMR001D002","Hpakant","MMR001009","Seik Mu","MMR001009003","Seik Mu",166783,"Ei Wan Gali Asso., Ward 1, Seik Mu","MMR001CMP180",null,null,null,11,30,{"$f":"IF(CampList[[#This Row],[HH]]>0,CampList[[#This Row],[Total]]/CampList[[#This Row],[HH]],\"NA\")","v":2.7272727272727271},"GCA","Camp",null,null,null,null,null,"IP",null,null,"Shelter Unit"]
["Open","Kachin","MMR001","Mohnyin","MMR001D002","Hpakant","MMR001009","Seik Mu","MMR001009003","Maw Shan",166785,"Lisu Baptist Church, Maw Shan Vil,. Seik Mu","MMR001CMP181",96.269199999999998,25.566510000000001,278,23,92,{"$f":"IF(CampList[[#This Row],[HH]]>0,CampList[[#This Row],[Total]]/CampList[[#This Row],[HH]],\"NA\")","v":4},"GCA","Camp","Rural",null,"2013-01-01",1,"Shalom","IP",null,"2014-01-17","Update IDP population from Shalom data (Assistant CCCM Officer)"]
["Open","Kachin","MMR001","Mohnyin","MMR001D002","Hpakant","MMR001009","Seik Mu","MMR001009003","Maw Shan",166785,"Rawan Baptist Church, Maw Shan Vil., Seik Mu","MMR001CMP182",96.279200000000003,25.56551,259,13,50,{"$f":"IF(CampList[[#This Row],[HH]]>0,CampList[[#This Row],[Total]]/CampList[[#This Row],[HH]],\"NA\")","v":3.8461538461538463},"GCA","Camp","Rural",null,"2013-01-01",1,"Shalom","IP",null,"2014-01-17","Update IDP population from Shalom data (Assistant CCCM Officer)"]
["Open","Kachin","MMR001","Mohnyin","MMR001D002","Hpakant","MMR001009","Seik Mu","MMR001009003","Maw Shan",166785,"Sai Nai Baptish Church, Maw Shan Vil., Seki Mu","MMR001CMP183",96.353030000000004,25.668399999999998,0,46,196,{"$f":"IF(CampList[[#This Row],[HH]]>0,CampList[[#This Row],[Total]]/CampList[[#This Row],[HH]],\"NA\")","v":4.2608695652173916},"GCA","Camp","Rural",null,"2013-01-01",1,"KBC","IP",null,"2014-01-15","Update population according to KBC data"]
["Open","Kachin","MMR001","Mohnyin","MMR001D002","Hpakant","MMR001009","Seik Mu","MMR001009003","Sai Taung (Ywar Haung)",166788,"Ward 2 Sai Taung Baptist Church, Seik Mu ","MMR001CMP184",96.286680000000004,25.577559999999998,0,134,503,{"$f":"IF(CampList[[#This Row],[HH]]>0,CampList[[#This Row],[Total]]/CampList[[#This Row],[HH]],\"NA\")","v":3.7537313432835822},"GCA","Camp","Rural",null,"2013-01-01",2,"KBC","IP",null,"2014-01-15","Update population according to KBC data"]
["Open","Kachin","MMR001","Mohnyin","MMR001D002","Hpakant","MMR001009","Seik Mu","MMR001009003","Seik Mu",166783,"Ward 2 Cahotlic Church, Seik Mu","MMR001CMP185",96.288250000000005,25.57921,0,17,79,{"$f":"IF(CampList[[#This Row],[HH]]>0,CampList[[#This Row],[Total]]/CampList[[#This Row],[HH]],\"NA\")","v":4.6470588235294121},"GCA","Camp","Rural",null,"2013-01-01",null,null,"RRD",null,null," "]
["Open","Kachin","MMR001","Mohnyin","MMR001D002","Hpakant","MMR001009","Nawng Mi","MMR001009008","Nawng Myi",166817,"Baptist Church, Naung Hmee VT","MMR001CMP188",96.673805000000002,25.728653000000001,null,15,65,{"$f":"IF(CampList[[#This Row],[HH]]>0,CampList[[#This Row],[Total]]/CampList[[#This Row],[HH]],\"NA\")","v":4.333333333333333},"GCA","Camp",null,null,null,1,"Shalom","IP",null,"2014-01-16","Update IDP population from Shalom data"]
["Open","Kachin","MMR001","Mohnyin","MMR001D002","Hpakant","MMR001009","Hpakan Town","MMR001009701","Maw Wam Ward","MMR001009701501","AG Church, Maw Wan","MMR001CMP190",96.317350000000005,25.616509000000001,0,13,77,{"$f":"IF(CampList[[#This Row],[HH]]>0,CampList[[#This Row],[Total]]/CampList[[#This Row],[HH]],\"NA\")","v":5.9230769230769234},"GCA","Camp","Urban",null,"2013-01-01",1,"Shalom","IP",null,"2014-01-16","Update IDP population from Shalom data"]
["Open","Kachin","MMR001","Mohnyin","MMR001D002","Hpakant","MMR001009","Hpakan Town","MMR001009701","Maw Wam Ward","MMR001009701501","Hmaw Wan, Anglican","MMR001CMP191",96.316564,25.615960999999999,281,11,57,{"$f":"IF(CampList[[#This Row],[HH]]>0,CampList[[#This Row],[Total]]/CampList[[#This Row],[HH]],\"NA\")","v":5.1818181818181817},"GCA","Camp","Rural",null,"2012-08-01",1,"Shalom","IP",null,"2014-01-17","Update IDP population from Shalom data (Assistant CCCM Officer)"]
["Open","Kachin","MMR001","Mohnyin","MMR001D002","Hpakant","MMR001009","Nam Ma Hpyit","MMR001009002","Nam Ma Hpyit",166776,"Nam Ma Phyit, COC","MMR001CMP192",96.339590000000001,25.617998,null,24,82,{"$f":"IF(CampList[[#This Row],[HH]]>0,CampList[[#This Row],[Total]]/CampList[[#This Row],[HH]],\"NA\")","v":3.4166666666666665},"GCA","Camp",null,null,"2013-01-01",1,"Shalom","IP",null,"2014-01-16","Update IDP population from Shalom data"]
["Open","Kachin","MMR001","Bhamo","MMR001D003","Bhamo","MMR001010","Han Te","MMR001010024","Hpan Hkar Kone",166854,"Phan Khar Kone","MMR001CMP193",97.252650000000003,24.222349999999999,0,317,1062,{"$f":"IF(CampList[[#This Row],[HH]]>0,CampList[[#This Row],[Total]]/CampList[[#This Row],[HH]],\"NA\")","v":3.3501577287066246},"GCA","Camp","Rural",null,"2013-01-01",1,"KBC","IP",null,"2014-01-20","Shelter Unit"]
["Open","Kachin","MMR001","Bhamo","MMR001D003","Bhamo","MMR001010","Aung Thar","MMR001010048","Aung Thar",166904,"Aung Thar Church","MMR001CMP194",97.252650000000003,24.260466999999998,0,10,44,{"$f":"IF(CampList[[#This Row],[HH]]>0,CampList[[#This Row],[Total]]/CampList[[#This Row],[HH]],\"NA\")","v":4.4000000000000004},"GCA","Camp","Urban",null,"2011-09-01",1,"KBC","IP",null,"2014-01-15","Update population according to KBC data"]
["Open","Kachin","MMR001","Myitkyina","MMR001D001","Chipwi","MMR001005","Urban",null,"Rit Law",null,"Lhaovao Baptist Church (LBC)","MMR001CMP195",null,null,null,137,519,{"$f":"IF(CampList[[#This Row],[HH]]>0,CampList[[#This Row],[Total]]/CampList[[#This Row],[HH]],\"NA\")","v":3.7883211678832116},"GCA","Camp",null,null,"2012-02-01",1,"Shalom","IP",null,"2014-01-17","Update IDP population from Shalom data (Assistant CCCM Officer)"]
["Open","Kachin","MMR001","Bhamo","MMR001D003","Mansi","MMR001013",null,null,null,null,"Host Families","MMR001CMP196",null,null,null,279,1031,{"$f":"IF(CampList[[#This Row],[HH]]>0,CampList[[#This Row],[Total]]/CampList[[#This Row],[HH]],\"NA\")","v":3.6953405017921148},"GCA","Host Families",null,null,null,null,null,"IP",null,"2013-12-20","Update IDP increased in Oct and Nov 2013 from Angela (UNHCR - Bhamo)"]
["Open","Kachin","MMR001","Bhamo","MMR001D003","Momauk","MMR001012",null,null,null,null,"Host Families","MMR001CMP197",null,null,null,421,1414,{"$f":"IF(CampList[[#This Row],[HH]]>0,CampList[[#This Row],[Total]]/CampList[[#This Row],[HH]],\"NA\")","v":3.3586698337292162},"GCA","Host Families",null,null,null,null,null,"RRD"]
["Open","Kachin","MMR001","Bhamo","MMR001D003","Momauk","MMR001012","Man Ping (Ping) (Dawthponeyan Sub-township)","MMR001012052","Man Ping",167270,"Man Ting","MMR001CMP198",null,null,null,null,null,{"$f":"IF(CampList[[#This Row],[HH]]>0,CampList[[#This Row],[Total]]/CampList[[#This Row],[HH]],\"NA\")","v":"NA"},"GCA","Host Families",null,null,null,null,null,"RRD"]
["Open","Kachin","MMR001","Bhamo","MMR001D003","Shwegu","MMR001011",null,null,null,null,"Host Families","MMR001CMP199",null,null,null,9,30,{"$f":"IF(CampList[[#This Row],[HH]]>0,CampList[[#This Row],[Total]]/CampList[[#This Row],[HH]],\"NA\")","v":3.3333333333333335},"GCA","Host Families",null,null,null,null,null,"RRD"]
["Open","Kachin","MMR001","Bhamo","MMR001D003","Momauk","MMR001012",null,null,null,null,"Khun Sint Village","MMR001CMP200",null,null,null,4,26,{"$f":"IF(CampList[[#This Row],[HH]]>0,CampList[[#This Row],[Total]]/CampList[[#This Row],[HH]],\"NA\")","v":6.5},"GCA","Camp",null,null,null,null,null,"RRD",null,null," "]
["Open","Kachin","MMR001","Bhamo","MMR001D003","Mansi","MMR001013","Man Mawn","MMR001013022",null,null,"Lagatyan ","MMR001CMP202",97.613699999999994,23.879899999999999,0,225,945,{"$f":"IF(CampList[[#This Row],[HH]]>0,CampList[[#This Row],[Total]]/CampList[[#This Row],[HH]],\"NA\")","v":4.2},"NGCA","Camp","Rural",null,"2013-04-01",2,"KBSS","IP",null,"2013-12-20","Update IDP increased in Oct and Nov 2013 from Angela (UNHCR - Bhamo)"]
["Open","Kachin","MMR001","Puta-O","MMR001D004","Sumprabum","MMR001015","Sumprabum Town","MMR001015701",null,null,"Sumprabum","MMR001CMP206",null,null,null,6,38,{"$f":"IF(CampList[[#This Row],[HH]]>0,CampList[[#This Row],[Total]]/CampList[[#This Row],[HH]],\"NA\")","v":6.333333333333333},"GCA","Camp",null,null,null,null,null,"RRD",null,null," "]
["Open","Kachin","MMR001","Myitkyina","MMR001D001","Waingmaw","MMR001002",null,null,null,null,"IDP Boarding School, A Len Bum","MMR001CMP208",97.541793999999996,24.752471,null,null,1605,{"$f":"IF(CampList[[#This Row],[HH]]>0,CampList[[#This Row],[Total]]/CampList[[#This Row],[HH]],\"NA\")","v":"NA"},"NGCA","Camp",null,null,null,null,null,"IRRC",null,"2014-01-24"]
["Open","Kachin","MMR001","Myitkyina","MMR001D001","Chipwi","MMR001005",null,null,null,null,"Pan Wa","MMR001CMP210",null,null,null,94,420,{"$f":"IF(CampList[[#This Row],[HH]]>0,CampList[[#This Row],[Total]]/CampList[[#This Row],[HH]],\"NA\")","v":4.4680851063829783},"GCA","Camp",null,null,null,1,"KMSS","IP",null,null,"New"]
["Open","Kachin","MMR001","Bhamo","MMR001D003","Bhamo","MMR001010",null,null,null,null,"Thu Kha Waddy","MMR001CMP211",null,null,null,12,35,{"$f":"IF(CampList[[#This Row],[HH]]>0,CampList[[#This Row],[Total]]/CampList[[#This Row],[HH]],\"NA\")","v":2.9166666666666665},"GCA","Camp","Urban",null,null,null,null,"IP",null,"2013-12-20","Update IDP increased in Oct and Nov 2013 from Angela (UNHCR - Bhamo)"]
["Open","Kachin","MMR001","Bhamo","MMR001D003","Mansi","MMR001013","Mai Bat","MMR001013018","Man Kawng",167391,"Man Kawng Baptist Church","MMR001CMP212",97.710989999999995,24.181640000000002,null,306,1135,{"$f":"IF(CampList[[#This Row],[HH]]>0,CampList[[#This Row],[Total]]/CampList[[#This Row],[HH]],\"NA\")","v":3.7091503267973858},"GCA","Camp",null,null,null,null,null,"IP",null,"2013-12-20","Update IDP increased in Oct and Nov 2013 from Angela (UNHCR - Bhamo)"]
["Open","Kachin","MMR001","Bhamo","MMR001D003","Mansi","MMR001013","Mai Bat","MMR001013018","Man Kawng",167391,"Man Kawng Catholic Church","MMR001CMP213",97.710989999999995,24.181640000000002,null,91,294,{"$f":"IF(CampList[[#This Row],[HH]]>0,CampList[[#This Row],[Total]]/CampList[[#This Row],[HH]],\"NA\")","v":3.2307692307692308},"GCA","Camp",null,null,null,null,null,"IP",null,"2013-12-20","Update IDP increased in Oct and Nov 2013 from Angela (UNHCR - Bhamo)"]
["Open","Kachin","MMR001","Bhamo","MMR001D003","Mansi","MMR001013",null,null,null,null,"Ban Hkung Yang (Boarding School)","MMR001CMP214",null,null,null,15,60,{"$f":"IF(CampList[[#This Row],[HH]]>0,CampList[[#This Row],[Total]]/CampList[[#This Row],[HH]],\"NA\")","v":4},"GCA","Camp",null,null,null,null,null,"IP",null,null,"New Camp"]
["Open","Kachin","MMR001","Bhamo","MMR001D003","Mansi","MMR001013",null,null,null,null,"Ban Hkung (School)","MMR001CMP215",null,null,null,48,200,{"$f":"IF(CampList[[#This Row],[HH]]>0,CampList[[#This Row],[Total]]/CampList[[#This Row],[HH]],\"NA\")","v":4.166666666666667},"GCA","Camp",null,null,null,null,null,"IP",null,null,"New Camp"]
["Open","Kachin","MMR001","Bhamo","MMR001D003","Mansi","MMR001013",null,null,null,null,"Ban Hkung Yang","MMR001CMP216",null,null,null,18,75,{"$f":"IF(CampList[[#This Row],[HH]]>0,CampList[[#This Row],[Total]]/CampList[[#This Row],[HH]],\"NA\")","v":4.166666666666667},"GCA","Host Families",null,null,null,null,null,"IP",null,null,"New Camp"]
["Open","Kachin","MMR001","Bhamo","MMR001D003","Mansi","MMR001013",null,null,null,null,"IDPs scattered in South Mansi","MMR001CMP217",null,null,null,75,500,{"$f":"IF(CampList[[#This Row],[HH]]>0,CampList[[#This Row],[Total]]/CampList[[#This Row],[HH]],\"NA\")","v":6.666666666666667},"GCA","in the forest",null,null,null,null,null,"IP",null,null,"in the forest"]
["Open","Kachin","MMR001","Bhamo","MMR001D003","Mansi","MMR001010","Maing Khaung Town",null,null,null,"Maing Khaung","MMR001CMP218",null,null,null,201,611,{"$f":"IF(CampList[[#This Row],[HH]]>0,CampList[[#This Row],[Total]]/CampList[[#This Row],[HH]],\"NA\")","v":3.0398009950248754},"NGCA","Camp",null,null,null,2,"KBSS","IP",null,null,"New Camp (More detail data were requested to DRC)"]
["Open","Kachin","MMR001","Puta-O","MMR001D004","Puta-O","MMR001014",null,null,null,null,"Naung Khaing","MMR001CMP220",null,null,null,18,58,{"$f":"IF(CampList[[#This Row],[HH]]>0,CampList[[#This Row],[Total]]/CampList[[#This Row],[HH]],\"NA\")","v":3.2222222222222223},"GCA","Camp",null,null,null,null,null,"RRD",null,null,"New Camp (Source OCHA - RRD)"]
["Open","Kachin","MMR001","Puta-O","MMR001D004","Machanbaw","MMR001016",null,null,null,null,"Machanbaw - KBC","MMR001CMP221",null,null,null,9,27,{"$f":"IF(CampList[[#This Row],[HH]]>0,CampList[[#This Row],[Total]]/CampList[[#This Row],[HH]],\"NA\")","v":3},"GCA","Camp",null,null,null,null,null,"RRD",null,null,"New Camp (Source OCHA - RRD)"]
["Open","Kachin","MMR001","Bhamo","MMR001D003","Bhamo","MMR001010",null,null,null,null,"St. Patrick Church, Bhamo","MMR001CMP222",null,null,null,29,89,{"$f":"IF(CampList[[#This Row],[HH]]>0,CampList[[#This Row],[Total]]/CampList[[#This Row],[HH]],\"NA\")","v":3.0689655172413794},"GCA","Camp","Urban",null,null,null,null,"RRD",null,null,"New camp from OCHA List"]
["Open","Shan_North","MMR015","Muse","MMR015D002","Namhkan","MMR015010","Nawng Hkam","MMR015010010","Nawng Hkam",208353,"Nam Hkam (KBC Jaw Wang)","MMR015CMP001",97.669557999999995,23.828520000000001,0,98,390,{"$f":"IF(CampList[[#This Row],[HH]]>0,CampList[[#This Row],[Total]]/CampList[[#This Row],[HH]],\"NA\")","v":3.9795918367346941},"NGCA","Camp","Urban",null,"2011-12-01",2,"KBC","IP",null,"2014-01-15","Update population according to KBC data"]
["Open","Shan_North","MMR015","Muse","MMR015D002","Namhkan","MMR015010","Nawng Hkam","MMR015010010","Nawng Hkam",208353,"Nam Hkam Malut Jak ","MMR015CMP002",null,null,null,73,127,{"$f":"IF(CampList[[#This Row],[HH]]>0,CampList[[#This Row],[Total]]/CampList[[#This Row],[HH]],\"NA\")","v":1.7397260273972603},"NGCA","Camp",null,null,null,null,null,"IRRC",null,"2014-01-24"," "]
["Open","Shan_North","MMR015","Muse","MMR015D002","Namhkan","MMR015010","Nawng Hkam","MMR015010010","Nawng Hkam",208353,"Nam Hkam Catholic Church ( St. Thomas I)","MMR015CMP003",97.685199999999995,23.833100000000002,0,36,136,{"$f":"IF(CampList[[#This Row],[HH]]>0,CampList[[#This Row],[Total]]/CampList[[#This Row],[HH]],\"NA\")","v":3.7777777777777777},"NGCA","Camp","Urban",null,"2011-12-01",null,null,"IRRC",null,"2014-01-24"]
["Open","Shan_North","MMR015","Muse","MMR015D002","Namhkan","MMR015010","Nawng Hkam","MMR015010010","Nawng Hkam",208353,"Nam Hkam - Nay Win Ni (Palawng)","MMR015CMP004",97.681959000000006,23.821126,0,92,302,{"$f":"IF(CampList[[#This Row],[HH]]>0,CampList[[#This Row],[Total]]/CampList[[#This Row],[HH]],\"NA\")","v":3.2826086956521738},"NGCA","Camp","Urban",null,"2013-12-01",2,"KBC","IP",null,"2014-01-15","Update population according to KBC data"]
["Open","Shan_North","MMR015","Muse","MMR015D002","Muse","MMR015009",null,null,null,null,"Mung Baw ","MMR015CMP005",null,null,null,123,503,{"$f":"IF(CampList[[#This Row],[HH]]>0,CampList[[#This Row],[Total]]/CampList[[#This Row],[HH]],\"NA\")","v":4.0894308943089435},"NGCA","Camp",null,null,null,null,null,"IRRC",null,null," "]
["Open","Shan_North","MMR015","Muse","MMR015D002","Kutkai","MMR015011","Long Waun Nam Rein (Tarmoenye Sub-township)","MMR015011050","Mai Pong (Shu See)",null,"Mungji Pa Dabang (Baptist Church)         ","MMR015CMP006",98.220614999999995,23.400155999999999,3109,47,251,{"$f":"IF(CampList[[#This Row],[HH]]>0,CampList[[#This Row],[Total]]/CampList[[#This Row],[HH]],\"NA\")","v":5.3404255319148932},"NGCA","Camp","Rural",null,"2011-09-01",1,"KBC","IP",null,"2014-01-15","Update population according to KBC data"]
["Open","Shan_North","MMR015","Muse","MMR015D002","Kutkai","MMR015011","Nam Hpat Kar",null,"Nam Hpat Kar (Ho Pon + Pang Sa Lorp)",null,"Nam Hpak Ka Mare ","MMR015CMP007",97.819062000000002,23.694047000000001,3715,79,277,{"$f":"IF(CampList[[#This Row],[HH]]>0,CampList[[#This Row],[Total]]/CampList[[#This Row],[HH]],\"NA\")","v":3.5063291139240507},"NGCA","Camp","Rural",null,"2011-12-01",1,"KBC","IP",null,"2014-01-15","Update population according to KBC data"]
["Open","Shan_North","MMR015","Kyaukme","MMR015D003","Manton","MMR015019","Urban",null,"Ward (2)",null,"Mandung - Jinghpaw","MMR015CMP009",null,null,0,43,183,{"$f":"IF(CampList[[#This Row],[HH]]>0,CampList[[#This Row],[Total]]/CampList[[#This Row],[HH]],\"NA\")","v":4.2558139534883717},"NGCA","Camp","Urban",null,"2012-04-01",1,"KBC","IP",null,"2014-01-15","Update population according to KBC data"]
["Open","Shan_North","MMR015","Kyaukme","MMR015D003","Manton","MMR015019",null,null,null,null,"Howa","MMR015CMP010",null,null,null,null,null,{"$f":"IF(CampList[[#This Row],[HH]]>0,CampList[[#This Row],[Total]]/CampList[[#This Row],[HH]],\"NA\")","v":"NA"},"GCA","Camp",null,null,null,null,null,null,null,null,"host families"]
["Open","Shan_North","MMR015","Kyaukme","MMR015D003","Manton","MMR015019",null,null,null,null,"Nam Hkyet","MMR015CMP011",null,null,null,null,null,{"$f":"IF(CampList[[#This Row],[HH]]>0,CampList[[#This Row],[Total]]/CampList[[#This Row],[HH]],\"NA\")","v":"NA"},"GCA","Camp",null,null,null,null,null,null,null,null,"host families"]
["Open","Shan_North","MMR015","Muse","MMR015D002","Muse","MMR015009","Man Gyat (Monekoe Sub-township)",null,"Gwum Hsan",null,"Munekoe Pa (Giwang) - Hka San (Mung  Go  Pa ) ","MMR015CMP012",null,null,3153,27,99,{"$f":"IF(CampList[[#This Row],[HH]]>0,CampList[[#This Row],[Total]]/CampList[[#This Row],[HH]],\"NA\")","v":3.6666666666666665},"NGCA","Camp","Urban",null,"2012-07-01",1,"KBC","IP",null,"2014-01-15","Update population according to KBC data"]
["Open","Shan_North","MMR015","Kyaukme","MMR015D003","Namtu","MMR015015","Namtu Town","MMR015015701","Namtu Ward","MMR015015701501","Nam Tu Baptist","MMR015CMP014",null,null,0,20,66,{"$f":"IF(CampList[[#This Row],[HH]]>0,CampList[[#This Row],[Total]]/CampList[[#This Row],[HH]],\"NA\")","v":3.3},"NGCA","Camp","Urban",null,"2012-04-01",1,"KBC","IP",null,"2014-01-15","Update population according to KBC data"]
["Open","Shan_North","MMR015","Muse","MMR015D002","Kutkai","MMR015011","Kar Lai Kone Hsar","MMR015011005","Kar Lai",208557,"Kone Khem Camp","MMR015CMP015",97.848529999999997,23.4008,0,86,453,{"$f":"IF(CampList[[#This Row],[HH]]>0,CampList[[#This Row],[Total]]/CampList[[#This Row],[HH]],\"NA\")","v":5.2674418604651159},"GCA","Camp","Rural",null,"2013-01-01",null,"KBC","IP",null,null,"U Zaw Win, 18-Nov-13"]
["Open","Shan_North","MMR015","Muse","MMR015D002","Kutkai","MMR015011","Kutkai Town","MMR015011701","No (5) Ward","MMR015011701505","Kutkai downtown (KBC Church)","MMR015CMP016",97.926813999999993,23.450914000000001,4336,86,382,{"$f":"IF(CampList[[#This Row],[HH]]>0,CampList[[#This Row],[Total]]/CampList[[#This Row],[HH]],\"NA\")","v":4.441860465116279},"GCA","Camp","Urban",null,"2012-12-01",2,"KBC","IP",null,"2014-01-15","Update population according to KBC data"]
["Open","Shan_North","MMR015","Muse","MMR015D002","Kutkai","MMR015011","Kutkai Town","MMR015011701","No (3) Ward","MMR015011701503","Kutkai downtown (RC Church)","MMR015CMP017",97.947360000000003,23.460349999999998,4430,41,172,{"$f":"IF(CampList[[#This Row],[HH]]>0,CampList[[#This Row],[Total]]/CampList[[#This Row],[HH]],\"NA\")","v":4.1951219512195124},"GCA","Camp","Urban",null,"2012-12-01",null,null,"IP",null,null,"U Zaw Win, 18-Nov-13"]
["Open","Shan_North","MMR015","Muse","MMR015D002","Kutkai","MMR015011","Mong Yu",null,"Mong Yu",null,"Mine Yu Lay village","MMR015CMP018",97.793306999999999,23.589089000000001,3457,86,524,{"$f":"IF(CampList[[#This Row],[HH]]>0,CampList[[#This Row],[Total]]/CampList[[#This Row],[HH]],\"NA\")","v":6.0930232558139537},"GCA","Camp","Rural",null,"2013-01-01",2,"KBC","IP",null,"2014-01-15","U Zaw Win, 18-Nov-13"]
["Open","Shan_North","MMR015","Muse","MMR015D002","Kutkai","MMR015011","Long Waun Nam Rein (Tarmoenye Sub-township)","MMR015011050","Mai Pong (Shu See)",null,"Mungji Pa Dabang (RC Church)         ","MMR015CMP019",98.213958000000005,23.391741,0,25,136,{"$f":"IF(CampList[[#This Row],[HH]]>0,CampList[[#This Row],[Total]]/CampList[[#This Row],[HH]],\"NA\")","v":5.44},"GCA","Camp","Rural",null,"2011-09-01",null,null,"IP",null,"2013-12-10","Data from U Zaw Win Oo"]
["Open","Shan_North","MMR015","Muse","MMR015D002","Kutkai","MMR015011","Kar Lai Kone Hsar","MMR015011005","Kar Lai",208557,"Zup Aung Camp","MMR015CMP020",97.837040000000002,23.38503,0,81,465,{"$f":"IF(CampList[[#This Row],[HH]]>0,CampList[[#This Row],[Total]]/CampList[[#This Row],[HH]],\"NA\")","v":5.7407407407407405},"GCA","Camp","Rural",null,"2012-12-01",null,"KBC","IP",null,"2013-12-10","U Zaw Win, 18-Nov-13"]
["Open","Shan_North","MMR015","Muse","MMR015D002","Muse","MMR015009","Hpai Kawng (Pang Hseng-Kyu Koke Sub-township","MMR015009031","Hpai Kawng",208156,"Hpai Kawng Mare","MMR015CMP022",98.115809999999996,24.08738,null,32,187,{"$f":"IF(CampList[[#This Row],[HH]]>0,CampList[[#This Row],[Total]]/CampList[[#This Row],[HH]],\"NA\")","v":5.84375},"NGCA","Camp",null,null,null,null,null,"IRRC",null,null," "]
["Open","Shan_North","MMR015","Muse","MMR015D002","Namhkan","MMR015010",null,null,null,null,"Mung Ding Pa ","MMR015CMP023",null,null,null,null,null,{"$f":"IF(CampList[[#This Row],[HH]]>0,CampList[[#This Row],[Total]]/CampList[[#This Row],[HH]],\"NA\")","v":"NA"},"NGCA","Camp"]
["Open","Shan_North","MMR015","Muse","MMR015D002","Namhkan","MMR015010","Nawng Hkam","MMR015010010","Nawng Hkam",208353,"Nam Hkam Catholic Church ( St. Thomas II)","MMR015CMP024",97.693100000000001,23.8337,null,46,145,{"$f":"IF(CampList[[#This Row],[HH]]>0,CampList[[#This Row],[Total]]/CampList[[#This Row],[HH]],\"NA\")","v":3.152173913043478},"NGCA","Camp",null,null,null,null,null,"IP",null,null,"U Zaw Win, Shelter Data"]
["Open","Shan_North","MMR015","Muse","MMR015D002","Namhkan","MMR015010","Nawng Hkam","MMR015010010","Nawng Hkam",208353,"Nam Hkawng","MMR015CMP139",null,null,0,40,65,{"$f":"IF(CampList[[#This Row],[HH]]>0,CampList[[#This Row],[Total]]/CampList[[#This Row],[HH]],\"NA\")","v":1.625},"NGCA","Camp","Rural",null,"2011-09-01",1,"KBC","IP",null,"2014-01-15","Update population according to KBC data"]
["Open","Shan_North","MMR015","Lashio","MMR015D001","Hseni","MMR015002","Nar Tee","MMR015002029","Nar Tee",206422,"Narte","MMR015CMP207",98.128,23.24,1969,67,392,{"$f":"IF(CampList[[#This Row],[HH]]>0,CampList[[#This Row],[Total]]/CampList[[#This Row],[HH]],\"NA\")","v":5.8507462686567164},"NGCA","Camp","Rural",null,"2013-04-01",null,null,"IP",null,"2013-12-10","Data from U Zaw Win Oo"]
["Open","Shan_North","MMR015","Kyaukme","MMR015D003","Manton","MMR015019",null,null,null,null,"Mandung - RC","MMR015CMP209",null,null,null,26,147,{"$f":"IF(CampList[[#This Row],[HH]]>0,CampList[[#This Row],[Total]]/CampList[[#This Row],[HH]],\"NA\")","v":5.6538461538461542},"GCA","Camp",null,null,null,null,null,"IP",null,null,"New Camp"]
["Open","Shan_North","MMR015","Kyaukme","MMR015D003","Namtu","MMR015015","Namtu Town","MMR015015701","Namtu Ward","MMR015015701501","Nam Tu RC","MMR015CMP210",null,null,null,118,520,{"$f":"IF(CampList[[#This Row],[HH]]>0,CampList[[#This Row],[Total]]/CampList[[#This Row],[HH]],\"NA\")","v":4.406779661016949},"NGCA","Camp",null,null,null,null,null,"IP",null,null,"New Camp"]

{"sheet":"Camp List Printable","index":3,"n_rows":182,"n_cols":7,"rows_kept":182,"cut":false,"hidden":false,"merged":[[1,0,1,2]]}
["Kachin & Northern Shan States - IDPs Location List"]
[{"$f":"Report_Date","v":"2014-01-01"}]
["Status","Open"]
[]
["State","Township","Camp","CP_Pcode","Type of Accomodation","HoH","Individual"]
["Kachin","Bhamo","AD-2000 Tharthana Compound","MMR001CMP050","Camp",234,1089]
[null,null,"Aung Thar Church","MMR001CMP194","Camp",10,44]
[null,null,"Host Families","MMR001CMP163","Host Families",335,1475]
[null,null,"Htoi San Church","MMR001CMP052","Camp",43,194]
[null,null,"Lisu Boarding-House","MMR001CMP049","Camp",68,363]
[null,null,"Mu-yin Baptist Church","MMR001CMP051","Camp",8,36]
[null,null,"Nant Hlaing Church","MMR001CMP054","Camp",22,108]
[null,null,"Phan Khar Kone","MMR001CMP193","Camp",317,1062]
[null,null,"Robert Church","MMR001CMP047","Camp",558,2951]
[null,null,"St. Patrick Church, Bhamo","MMR001CMP222","Camp",29,89]
[null,null,"Ta Gun Taing Monastery (Shwe Kyi Na)","MMR001CMP055","Camp",61,282]
[null,null,"Thu Kha Waddy","MMR001CMP211","Camp",12,35]
[null,null,"Yoe Kyi Monastery","MMR001CMP053","Camp",29,103]
[null,"Chipwi","Chipwi KBC camp","MMR001CMP042","Camp",107,509]
[null,null,"Gant Gwin","MMR001CMP046","Camp",255,1273]
[null,null,"Hpare Hkyer - BP6","MMR001CMP043","Camp",144,862]
[null,null,"Lan Jaw ","MMR001CMP045","Host Families"]
[null,null,"Lhaovao Baptist Church (LBC)","MMR001CMP195","Camp",137,519]
[null,null,"Pan Wa","MMR001CMP210","Camp",94,420]
[null,"Hpakant","5 Ward Baptist Church(lon Khin)","MMR001CMP179","Camp",100,401]
[null,null,"5 Ward RC Church(lon Khin)","MMR001CMP168","Camp",78,334]
[null,null,"AG Church, Hmaw Si Sa","MMR001CMP176","Camp",65,306]
[null,null,"AG Church, Maw Wan","MMR001CMP190","Camp",13,77]
[null,null,"Baptist Church, Hmaw Si Sar(Lon Khin)","MMR001CMP169","Camp",41,191]
[null,null,"Baptist Church, Naung Hmee VT","MMR001CMP188","Camp",15,65]
[null,null,"Baptist Church, Sai Ra village","MMR001CMP172","Camp",4,13]
[null,null,"Chin Church, Seik Mu","MMR001CMP109","Camp",4,20]
[null,null,"Dhama Rakhita, Nyein Chan Tar Yar Ward(Lon Khin)","MMR001CMP174","Camp",67,301]
[null,null,"Ei Wan Gali Asso., Ward 1, Seik Mu","MMR001CMP180","Camp",11,30]
[null,null,"Hlaing Naung Baptist","MMR001CMP148","Camp",23,67]
[null,null,"Hmaw Wan, Anglican","MMR001CMP191","Camp",11,57]
[null,null,"Lisu Baptist Church, Maw Shan Vil,. Seik Mu","MMR001CMP181","Camp",23,92]
[null,null,"Lisu Baptist Church, Maw Wan Ward","MMR001CMP167","Camp",8,30]
[null,null,"Maw Wan, Mu-yin Baptist Church","MMR001CMP091","Camp",4,22]
[null,null,"Muring Baptist Church, Awng Ra, Wa Ra Zut VT","MMR001CMP177","Camp",6,22]
[null,null,"Nam Ma Phyit, COC","MMR001CMP192","Camp",24,82]
[null,null,"Nant Ma Hpit Catholic Church","MMR001CMP103","Camp",38,215]
[null,null,"Nga Pyaw Taw Baptist Nursery School ","MMR001CMP082","Camp",101,544]
[null,null,"Rawan Baptist Church, Maw Shan Vil., Seik Mu","MMR001CMP182","Camp",13,50]
[null,null,"Sai Nai Baptish Church, Maw Shan Vil., Seki Mu","MMR001CMP183","Camp",46,196]
[null,null,"Ward 2 Cahotlic Church, Seik Mu","MMR001CMP185","Camp",17,79]
[null,null,"Ward 2 Sai Taung Baptist Church, Seik Mu ","MMR001CMP184","Camp",134,503]
[null,null,"Yumar Baptist Church","MMR001CMP105","Camp",40,166]
[null,"Injangyang","Lawk Hkawng Ginwang","MMR001CMP146","Camp"]
[null,"Khaunglanhpu","La Ja","MMR001CMP074","Camp",11,17]
[null,"Machanbaw","Machanbaw - KBC","MMR001CMP221","Camp",9,27]
[null,"Mansi","Ban Hkung (School)","MMR001CMP215","Camp",48,200]
[null,null,"Ban Hkung Yang","MMR001CMP216","Host Families",18,75]
[null,null,"Ban Hkung Yang (Boarding School)","MMR001CMP214","Camp",15,60]
[null,null,"Bum Tsit Pa ","MMR001CMP129","Camp",591,2619]
[null,null,"Host Families","MMR001CMP196","Host Families",279,1031]
[null,null,"IDPs scattered in South Mansi","MMR001CMP217","in the forest",75,500]
[null,null,"Lagatyan ","MMR001CMP202","Camp",225,945]
[null,null,"Lana Zup Ja ","MMR001CMP128","Camp",551,2916]
[null,null,"Lung Kawk  ( Hka Hkye Zup)","MMR001CMP135","Camp",54,187]
[null,null,"Maing Khaung","MMR001CMP218","Camp",201,611]
[null,null,"Man Kawng Baptist Church","MMR001CMP212","Camp",306,1135]
[null,null,"Man Kawng Catholic Church","MMR001CMP213","Camp",91,294]
[null,null,"Man Wing Baptist Church","MMR001CMP133","Camp",102,531]
[null,null,"Man Wing Catholic Church","MMR001CMP132","Camp",403,1690]
[null,null,"Man Wing Host Families","MMR001CMP134","Host Families",253,1114]
[null,null,"Mansi Baptist Church","MMR001CMP066","Camp",93,408]
[null,null,"Nam Hka Mare (west of Man Wing)","MMR001CMP136","Camp",73,637]
[null,"Mogaung","Kyun Taw Baptist Church ","MMR001CMP078","Camp",13,50]
[null,null,"Mang Hawng Baptist Church","MMR001CMP077","Camp",14,61]
[null,null,"Nat Gyi Kone Baptist Church ","MMR001CMP079","Camp",12,37]
[null,"Mohnyin","Nant Mun","MMR001CMP081","Camp",21,97]
[null,null,"Nawng Ing (Indawgyi) Baptist Church  ","MMR001CMP152","Camp",21,97]
[null,null,"St. Patrick Catholic Church ","MMR001CMP080","Camp",12,46]
[null,"Momauk","Dum Bung ","MMR001CMP123","Camp",119,614]
[null,null,"Host Families","MMR001CMP197","Host Families",421,1414]
[null,null,"Hpun Lum Yang ","MMR001CMP122","Camp",437,1567]
[null,null,"Je Yang Hka ","MMR001CMP121","Camp",1688,8390]
[null,null,"Khun Sint Village","MMR001CMP200","Camp",4,26]
[null,null,"Loi Je Baptist Church","MMR001CMP071","Camp",26,149]
[null,null,"Loi Je Catholic Church","MMR001CMP069","Camp",46,396]
[null,null,"Loi Je Lisu Camp","MMR001CMP070","Camp",142,716]
[null,null,"Mai Khat ","MMR001CMP064","Host Families",2,9]
[null,null,"Man Bung Catholic compound","MMR001CMP062","Camp",117,448]
[null,null,"Man Nawng ","MMR001CMP063","Host Families",28,136]
[null,null,"Man Ting","MMR001CMP198","Host Families"]
[null,null,"Mandalay Monestry","MMR001CMP058","Camp",4,16]
[null,null,"Momauk Baptist Church","MMR001CMP056","Camp",399,1582]
[null,null,"Momauk Catholic Church (St. Patrick)","MMR001CMP057","Camp",284,1062]
[null,null,"Myo Thit ","MMR001CMP061","Host Families",13,53]
[null,null,"Nhkawng Pa ","MMR001CMP131","Camp",387,1624]
[null,null,"Ni Thaw Ka Monestry","MMR001CMP059","Camp",23,85]
[null,null,"Nyaung Na Pin ","MMR001CMP072","Camp",47,266]
[null,null,"Pa Kahtawng ","MMR001CMP126","Camp",516,3214]
[null,null,"Phar Kay/Nant Waing ","MMR001CMP065","Host Families",39,176]
[null,null,"Seng Ja ","MMR001CMP073","Camp",35,204]
[null,null,"Tarli ","MMR001CMP060","Host Families",10,38]
[null,"Myitkyina","Du Kahtawng Qtr. 14","MMR001CMP012","Camp",6,28]
[null,null,"Du Kahtawng Qtr. 4","MMR001CMP010","Camp",6,39]
[null,null,"Du Kahtawng Qtr. 5","MMR001CMP011","Camp",8,30]
[null,null,"Jan Mai Kawng Baptist Church","MMR001CMP018","Camp",203,974]
[null,null,"Jan Mai Kawng Catholic Church","MMR001CMP019","Camp",113,524]
[null,null,"Kyun Pin Thar Baptist Church","MMR001CMP013","Camp",45,187]
[null,null,"Le Kone Bethlehem Church","MMR001CMP015","Camp",87,467]
[null,null,"Le Kone Ziun Baptist Church ","MMR001CMP014","Camp",146,751]
[null,null,"Maliyang Baptist Church","MMR001CMP016","Camp",72,316]
[null,null,"Man Hkring Baptist Church","MMR001CMP008","Camp",95,411]
[null,null,"Maw Hpawng Hka Nan Baptist Church","MMR001CMP020","Camp",26,109]
[null,null,"Maw Hpawng Lhaovo Baptist Church","MMR001CMP021","Camp",21,101]
[null,null,"Myay Myint Baptist Church","MMR001CMP017","Camp",12,54]
[null,null,"Nan Kway St. John Catholic Church","MMR001CMP024","Camp",72,359]
[null,null,"Njang Dung Baptist Church ","MMR001CMP002","Camp",57,233]
[null,null,"Pa Dauk Myaing(Pa La Na)","MMR001CMP162","Camp",31,163]
[null,null,"Shatapru Sut Ngai Tawng","MMR001CMP006","Camp",106,390]
[null,null,"Shatapru Thida Aye Baptist Church","MMR001CMP007","Camp",15,74]
[null,null,"Shwe Zet Baptist Church","MMR001CMP009","Camp",84,401]
[null,null,"Tat Kone Baptist Church","MMR001CMP001","Camp",56,262]
[null,null,"Tat Kone COC Baptist / Tat Kone Htoi San","MMR001CMP023","Camp",69,331]
[null,null,"Tat Kone Emanuel Church","MMR001CMP004","Camp",14,62]
[null,null,"Tat Kone Galile Baptist Church","MMR001CMP003","Camp",30,134]
[null,null,"Tat Kone San Pya Baptist Church","MMR001CMP005","Camp",43,198]
[null,null,"Wun Tho Buddhist Monastery","MMR001CMP022","Camp",6,33]
[null,"Puta-O","Naung Khaing","MMR001CMP220","Camp",18,58]
[null,null,"Tote Tan Ward","MMR001CMP075","Camp",18,98]
[null,"Shwegu","Host Families","MMR001CMP199","Host Families",9,30]
[null,null,"Lawk Awng Mare D. (Sinbo Area)","MMR001CMP147","Camp",375,1691]
[null,null,"Shwe Gu Baptist Church","MMR001CMP067","Camp",79,261]
[null,null,"Shwe Gu Catholic Church","MMR001CMP068","Camp",47,176]
[null,"Sumprabum","Sumprabum","MMR001CMP206","Camp",6,38]
[null,"Waingmaw","Border Post 8","MMR001CMP113","Camp",171,725]
[null,null,"Hkat Cho ","MMR001CMP028","Camp",134,587]
[null,null,"Hkau Shau (BP 12)","MMR001CMP115","Camp",176,1207]
[null,null,"IDP Boarding School, A Len Bum","MMR001CMP208","Camp",null,1605]
[null,null,"Laiza Market 3 / Laiza Gat","MMR001CMP117","Camp",491,2090]
[null,null,"Laiza Muklum Hpyen  Yen Mungshawa ni","MMR001CMP149","Host Families",355,4450]
[null,null,"Mading Baptist Church","MMR001CMP027","Camp",23,120]
[null,null,"Maga Yang ","MMR001CMP119","Camp",623,2725]
[null,null,"Maina AG Church","MMR001CMP031","Camp",141,686]
[null,null,"Maina Catholic Church (St. Joseph)","MMR001CMP029","Camp",232,1146]
[null,null,"Maina KBC (Bawng Ring)","MMR001CMP040","Camp",420,1845]
[null,null,"Maina Lawang Baptist Church","MMR001CMP039","Camp",49,197]
[null,null,"Nawng Hee Village","MMR001CMP033","Host Families",18,71]
[null,null,"Pajau / Jan Mai","MMR001CMP120","Camp",186,749]
[null,null,"Post 6 Camp","MMR001CMP160","Camp",144,862]
[null,null,"Qtr. 2 Lhaovo Baptist Church","MMR001CMP032","Camp",120,332]
[null,null,"Qtr. 2 Myoma Baptist Church","MMR001CMP025","Camp",83,373]
[null,null,"Qtr. 3 Mu-yin  Baptist Church","MMR001CMP030","Camp",30,152]
[null,null,"Qtr. 4 Monestry (Thargaya Thayett Taw)","MMR001CMP026","Camp",101,528]
[null,null,"Shing Jai","MMR001CMP041","Camp",188,977]
[null,null,"Thargaya Lisu Baptist Church","MMR001CMP037","Camp",74,350]
[null,null,"Waingmaw AG Church","MMR001CMP038","Camp",81,406]
[null,null,"Waingmaw Baptist Zonal Office","MMR001CMP036","Camp",0,150]
[null,null,"Woi Chyai ","MMR001CMP116","Camp",789,4211]
[null,null,"Zai Awng / Mung Ga Zup","MMR001CMP111","Camp",620,2342]
["Kachin Total",null,null,null,null,18851,90716]
["Shan_North","Hseni","Narte","MMR015CMP207","Camp",67,392]
[null,"Kutkai","Kone Khem Camp","MMR015CMP015","Camp",86,453]
[null,null,"Kutkai downtown (KBC Church)","MMR015CMP016","Camp",86,382]
[null,null,"Kutkai downtown (RC Church)","MMR015CMP017","Camp",41,172]
[null,null,"Mine Yu Lay village","MMR015CMP018","Camp",86,524]
[null,null,"Mungji Pa Dabang (Baptist Church)         ","MMR015CMP006","Camp",47,251]
[null,null,"Mungji Pa Dabang (RC Church)         ","MMR015CMP019","Camp",25,136]
[null,null,"Nam Hpak Ka Mare ","MMR015CMP007","Camp",79,277]
[null,null,"Zup Aung Camp","MMR015CMP020","Camp",81,465]
[null,"Manton","Howa","MMR015CMP010","Camp"]
[null,null,"Mandung - Jinghpaw","MMR015CMP009","Camp",43,183]
[null,null,"Mandung - RC","MMR015CMP209","Camp",26,147]
[null,null,"Nam Hkyet","MMR015CMP011","Camp"]
[null,"Muse","Hpai Kawng Mare","MMR015CMP022","Camp",32,187]
[null,null,"Munekoe Pa (Giwang) - Hka San (Mung  Go  Pa ) ","MMR015CMP012","Camp",27,99]
[null,null,"Mung Baw ","MMR015CMP005","Camp",123,503]
[null,"Namhkan","Mung Ding Pa ","MMR015CMP023","Camp"]
[null,null,"Nam Hkam - Nay Win Ni (Palawng)","MMR015CMP004","Camp",92,302]
[null,null,"Nam Hkam (KBC Jaw Wang)","MMR015CMP001","Camp",98,390]
[null,null,"Nam Hkam Catholic Church ( St. Thomas I)","MMR015CMP003","Camp",36,136]
[null,null,"Nam Hkam Catholic Church ( St. Thomas II)","MMR015CMP024","Camp",46,145]
[null,null,"Nam Hkam Malut Jak ","MMR015CMP002","Camp",73,127]
[null,null,"Nam Hkawng","MMR015CMP139","Camp",40,65]
[null,"Namtu","Nam Tu Baptist","MMR015CMP014","Camp",20,66]
[null,null,"Nam Tu RC","MMR015CMP210","Camp",118,520]
["Shan_North Total",null,null,null,null,1372,5922]
["Grand Total",null,null,null,null,20223,96638]

{"sheet":"CampAnalysis","index":4,"n_rows":65,"n_cols":18,"rows_kept":65,"cut":false,"hidden":false,"merged":[[2,0,2,10],[4,0,4,10]]}
[]
["CAMPS SUMMARY"]
[{"$f":"Report_Date","v":"2014-01-01"}]
[]
["Kachin & Northern Shan States # of IDPs /Township"]
[]
["State","(All)","(Select State)"]
[]
["Row Labels","Households","Population",null,null,null,null,null,null,null,null,null,null,null,null,"State","(All)","(Select State)"]
["Open",20223,96638]
["Bhamo",1726,7831,null,null,null,null,null,null,null,null,null,null,null,null,"Row Labels","Population"]
["Chipwi",737,3583,null,null,null,null,null,null,null,null,null,null,null,null,"Bhamo",7831]
["Hpakant",886,3863,null,null,null,null,null,null,null,null,null,null,null,null,"Chipwi",3583]
["Hseni",67,392,null,null,null,null,null,null,null,null,null,null,null,null,"Hpakant",3863]
["Injangyang",null,null,null,null,null,null,null,null,null,null,null,null,null,null,"Hseni",392]
["Khaunglanhpu",11,17,null,null,null,null,null,null,null,null,null,null,null,null,"Injangyang"]
["Kutkai",531,2660,null,null,null,null,null,null,null,null,null,null,null,null,"Khaunglanhpu",17]
["Machanbaw",9,27,null,null,null,null,null,null,null,null,null,null,null,null,"Kutkai",2660]
["Mansi",3378,14953,null,null,null,null,null,null,null,null,null,null,null,null,"Machanbaw",27]
["Manton",69,330,null,null,null,null,null,null,null,null,null,null,null,null,"Mansi",14953]
["Mogaung",39,148,null,null,null,null,null,null,null,null,null,null,null,null,"Manton",330]
["Mohnyin",54,240,null,null,null,null,null,null,null,null,null,null,null,null,"Mogaung",148]
["Momauk",4787,22185,null,null,null,null,null,null,null,null,null,null,null,null,"Mohnyin",240]
["Muse",182,789,null,null,null,null,null,null,null,null,null,null,null,null,"Momauk",22185]
["Myitkyina",1423,6631,null,null,null,null,null,null,null,null,null,null,null,null,"Muse",789]
["Namhkan",385,1165,null,null,null,null,null,null,null,null,null,null,null,null,"Myitkyina",6631]
["Namtu",138,586,null,null,null,null,null,null,null,null,null,null,null,null,"Namhkan",1165]
["Puta-O",36,156,null,null,null,null,null,null,null,null,null,null,null,null,"Namtu",586]
["Shwegu",510,2158,null,null,null,null,null,null,null,null,null,null,null,null,"Puta-O",156]
["Sumprabum",6,38,null,null,null,null,null,null,null,null,null,null,null,null,"Shwegu",2158]
["Waingmaw",5249,28886,null,null,null,null,null,null,null,null,null,null,null,null,"Sumprabum",38]
["Closed",0,0,null,null,null,null,null,null,null,null,null,null,null,null,"Waingmaw",28886]
["Bhamo",0,0,null,null,null,null,null,null,null,null,null,null,null,null,"Grand Total",96638]
["Chipwi"]
["Hpakant",0,0]
["Kutkai"]
["Mansi"]
["Waingmaw"]
["Grand Total",20223,96638]
["State","(All)","(Select State)"]
[]
["Sum of Total","Column Labels"]
["Row Labels","GCA","NGCA","Grand Total"]
["Open",46152,50486,96638]
["Closed",0,null,0]
["Grand Total",46152,50486,96638]
[]
["Status","(All)"]
[]
["Sum of Total","Column Labels"]
["Row Labels","GCA","NGCA","Grand Total"]
["Camp",40030,46036,86066]
["Host Families",5622,4450,10072]
["in the forest",500,null,500]
["Grand Total",46152,50486,96638]
[]
[]
["Status","(All)"]
[]
["Sum of Total","Column Labels"]
["Row Labels","GCA","NGCA","Grand Total"]
["Camp",40030,46036,86066]
["Host Families",5622,4450,10072]
["in the forest",500,null,500]
["Grand Total",46152,50486,96638]

{"sheet":"Kachin_CCCM_D","index":5,"n_rows":55,"n_cols":41,"rows_kept":55,"cut":false,"hidden":false,"merged":[[1,0,1,8],[2,0,2,8],[0,0,0,15],[33,5,33,10]]}
[]
["Kachin & Northern Shan CCCM Dashboard"]
[{"$f":"Report_Date","v":"2014-01-01"}]
[null,null,null,null,null,null,null,null,null,null,null,null,null,null,null,null,null,null,null,null,null,null,null,null,null,null,null,null,null,null,null,null,null,null,"Township","1-1k","1k-5k","5k-10k","Over 10k"]
[null,null,null,null,null,null,null,null,null,null,null,null,null,null,null,null,null,null,null,null,null,null,null,null,null,null,null,null,null,null,null,null,null,null,"Bhamo",{"$f":"SUMIFS(Camplist_Popl,Camplist_Township,AI5,Camplist_Popl,\">0\",Camplist_Popl,\"<=1000\")","v":1254},{"$f":"SUMIFS(Camplist_Popl,Camplist_Township,AI5,Camplist_Popl,\">1000\",Camplist_Popl,\"<=5000\")","v":6577},{"$f":"SUMIFS(Camplist_Popl,Camplist_Township,AI5,Camplist_Popl,\">5000\",Camplist_Popl,\"<=10000\")","v":0},{"$f":"SUMIFS(Camplist_Popl,Camplist_Township,AI5,Camplist_Popl,\">10000\")","v":0}]
[null,null,null,null,null,null,null,null,null,null,null,null,null,null,null,null,null,null,null,null,null,null,null,null,null,null,null,null,null,null,null,null,null,null,"Chipwi",2310,1273,0,0]
[null,null,null,null,null,null,null,null,null,null,null,null,null,null,null,null,null,null,null,null,null,null,null,null,null,null,null,null,null,null,null,null,null,null,"Hpakant",3863,0,0,0]
[null,null,null,null,null,null,null,null,null,null,null,null,null,null,null,null,null,null,null,null,null,null,null,null,null,null,null,null,null,null,null,null,null,null,"Hseni",{"$f":"SUMIFS(Camplist_Popl,Camplist_Township,AI8,Camplist_Popl,\">0\",Camplist_Popl,\"<=1000\")","v":392},0,0,0]
[null,null,null,null,null,null,null,null,null,null,null,null,null,null,null,null,null,null,null,null,null,null,null,null,null,null,null,null,null,null,null,null,null,null,"Injangyang",0,0,0,0]
["Township","# of HH","# of IDPs","# of Camp",null,null,null,null,null,null,null,null,null,null,null,null,null,null,null,null,null,null,null,null,null,null,null,null,null,null,null,null,null,null,"Khaunglanhpu",17,0,0,0]
["Bhamo",{"$f":"SUMIFS(Camplist_HH,Camplist_Township,Kachin_CCCM_D!$A11,CampList_Status,\"Open\")","v":1726},{"$f":"SUMIFS(Camplist_Popl,Camplist_Township,Kachin_CCCM_D!$A11,CampList_Status,\"Open\")","v":7831},{"$f":"COUNTIFS(Camplist_Township,Kachin_CCCM_D!A11,CampList_Status,\"open\")","v":13},null,null,null,null,null,null,null,null,null,null,null,null,null,null,null,null,null,null,null,null,null,null,null,null,null,null,null,null,null,null,"Kutkai",2660,0,0,0]
["Chipwi",{"$f":"SUMIFS(Camplist_HH,Camplist_Township,Kachin_CCCM_D!$A12,CampList_Status,\"Open\")","v":737},{"$f":"SUMIFS(Camplist_Popl,Camplist_Township,Kachin_CCCM_D!$A12,CampList_Status,\"Open\")","v":3583},{"$f":"COUNTIFS(Camplist_Township,Kachin_CCCM_D!A12,CampList_Status,\"open\")","v":6},null,null,null,null,null,null,null,null,null,null,null,null,null,null,null,null,null,null,null,null,null,null,null,null,null,null,null,null,null,null,"Machanbaw",{"$f":"SUMIFS(Camplist_Popl,Camplist_Township,AI12,Camplist_Popl,\">0\",Camplist_Popl,\"<=1000\")","v":27},{"$f":"SUMIFS(Camplist_Popl,Camplist_Township,AI12,Camplist_Popl,\">1000\",Camplist_Popl,\"<=5000\")","v":0},{"$f":"SUMIFS(Camplist_Popl,Camplist_Township,AI12,Camplist_Popl,\">5000\",Camplist_Popl,\"<=10000\")","v":0},{"$f":"SUMIFS(Camplist_Popl,Camplist_Township,AI12,Camplist_Popl,\">10000\")","v":0}]
["Hpakant",{"$f":"SUMIFS(Camplist_HH,Camplist_Township,Kachin_CCCM_D!$A13,CampList_Status,\"Open\")","v":886},{"$f":"SUMIFS(Camplist_Popl,Camplist_Township,Kachin_CCCM_D!$A13,CampList_Status,\"Open\")","v":3863},{"$f":"COUNTIFS(Camplist_Township,Kachin_CCCM_D!A13,CampList_Status,\"open\")","v":24},null,null,null,null,null,null,null,null,null,null,null,null,null,null,null,null,null,null,null,null,null,null,null,null,null,null,null,null,null,null,"Mansi",4448,10505,0,0]
["Hseni",{"$f":"SUMIFS(Camplist_HH,Camplist_Township,Kachin_CCCM_D!$A14,CampList_Status,\"Open\")","v":67},{"$f":"SUMIFS(Camplist_Popl,Camplist_Township,Kachin_CCCM_D!$A14,CampList_Status,\"Open\")","v":392},{"$f":"COUNTIFS(Camplist_Township,Kachin_CCCM_D!A14,CampList_Status,\"open\")","v":1},null,null,null,null,null,null,null,null,null,null,null,null,null,null,null,null,null,null,null,null,null,null,null,null,null,null,null,null,null,null,"Manton",330,0,0,0]
["Injangyang",{"$f":"SUMIFS(Camplist_HH,Camplist_Township,Kachin_CCCM_D!$A15,CampList_Status,\"Open\")","v":0},{"$f":"SUMIFS(Camplist_Popl,Camplist_Township,Kachin_CCCM_D!$A15,CampList_Status,\"Open\")","v":0},{"$f":"COUNTIFS(Camplist_Township,Kachin_CCCM_D!A15,CampList_Status,\"open\")","v":1},null,null,null,null,null,null,null,null,null,null,null,null,null,null,null,null,null,null,null,null,null,null,null,null,null,null,null,null,null,null,"Mogaung",148,0,0,0]
["Khaunglanhpu",{"$f":"SUMIFS(Camplist_HH,Camplist_Township,Kachin_CCCM_D!$A16,CampList_Status,\"Open\")","v":11},{"$f":"SUMIFS(Camplist_Popl,Camplist_Township,Kachin_CCCM_D!$A16,CampList_Status,\"Open\")","v":17},{"$f":"COUNTIFS(Camplist_Township,Kachin_CCCM_D!A16,CampList_Status,\"open\")","v":1},null,null,null,null,null,null,null,null,null,null,null,null,null,null,null,null,null,null,null,null,null,null,null,null,null,null,null,null,null,null,"Mohnyin",240,0,0,0]
["Kutkai",{"$f":"SUMIFS(Camplist_HH,Camplist_Township,Kachin_CCCM_D!$A17,CampList_Status,\"Open\")","v":531},{"$f":"SUMIFS(Camplist_Popl,Camplist_Township,Kachin_CCCM_D!$A17,CampList_Status,\"Open\")","v":2660},{"$f":"COUNTIFS(Camplist_Township,Kachin_CCCM_D!A17,CampList_Status,\"open\")","v":8},null,null,null,null,null,null,null,null,null,null,null,null,null,null,null,null,null,null,null,null,null,null,null,null,null,null,null,null,null,null,"Momauk",3332,10463,8390,0]
["Machanbaw",{"$f":"SUMIFS(Camplist_HH,Camplist_Township,Kachin_CCCM_D!$A18,CampList_Status,\"Open\")","v":9},{"$f":"SUMIFS(Camplist_Popl,Camplist_Township,Kachin_CCCM_D!$A18,CampList_Status,\"Open\")","v":27},{"$f":"COUNTIFS(Camplist_Township,Kachin_CCCM_D!A18,CampList_Status,\"open\")","v":1},null,null,null,null,null,null,null,null,null,null,null,null,null,null,null,null,null,null,null,null,null,null,null,null,null,null,null,null,null,null,"Muse",789,0,0,0]
["Mansi",{"$f":"SUMIFS(Camplist_HH,Camplist_Township,Kachin_CCCM_D!$A19,CampList_Status,\"Open\")","v":3378},{"$f":"SUMIFS(Camplist_Popl,Camplist_Township,Kachin_CCCM_D!$A19,CampList_Status,\"Open\")","v":14953},{"$f":"COUNTIFS(Camplist_Township,Kachin_CCCM_D!A19,CampList_Status,\"open\")","v":17},null,null,null,null,null,null,null,null,null,null,null,null,null,null,null,null,null,null,null,null,null,null,null,null,null,null,null,null,null,null,"Myitkyina",6631,0,0,0]
["Manton",{"$f":"SUMIFS(Camplist_HH,Camplist_Township,Kachin_CCCM_D!$A20,CampList_Status,\"Open\")","v":69},{"$f":"SUMIFS(Camplist_Popl,Camplist_Township,Kachin_CCCM_D!$A20,CampList_Status,\"Open\")","v":330},{"$f":"COUNTIFS(Camplist_Township,Kachin_CCCM_D!A20,CampList_Status,\"open\")","v":4},null,null,null,null,null,null,null,null,null,null,null,null,null,null,null,null,null,null,null,null,null,null,null,null,null,null,null,null,null,null,"Namhkan",1165,0,0,0]
["Mogaung",{"$f":"SUMIFS(Camplist_HH,Camplist_Township,Kachin_CCCM_D!$A21,CampList_Status,\"Open\")","v":39},{"$f":"SUMIFS(Camplist_Popl,Camplist_Township,Kachin_CCCM_D!$A21,CampList_Status,\"Open\")","v":148},{"$f":"COUNTIFS(Camplist_Township,Kachin_CCCM_D!A21,CampList_Status,\"open\")","v":3},null,null,null,null,null,null,null,null,null,null,null,null,null,null,null,null,null,null,null,null,null,null,null,null,null,null,null,null,null,null,"Namtu",586,0,0,0]
["Mohnyin",{"$f":"SUMIFS(Camplist_HH,Camplist_Township,Kachin_CCCM_D!$A22,CampList_Status,\"Open\")","v":54},{"$f":"SUMIFS(Camplist_Popl,Camplist_Township,Kachin_CCCM_D!$A22,CampList_Status,\"Open\")","v":240},{"$f":"COUNTIFS(Camplist_Township,Kachin_CCCM_D!A22,CampList_Status,\"open\")","v":3},null,null,null,null,null,null,null,null,null,null,null,null,null,null,null,null,null,null,null,null,null,null,null,null,null,null,null,null,null,null,"Puta-O",156,0,0,0]
["Momauk",{"$f":"SUMIFS(Camplist_HH,Camplist_Township,Kachin_CCCM_D!$A23,CampList_Status,\"Open\")","v":4787},{"$f":"SUMIFS(Camplist_Popl,Camplist_Township,Kachin_CCCM_D!$A23,CampList_Status,\"Open\")","v":22185},{"$f":"COUNTIFS(Camplist_Township,Kachin_CCCM_D!A23,CampList_Status,\"open\")","v":23},null,null,null,null,null,null,null,null,null,null,null,null,null,null,null,null,null,null,null,null,null,null,null,null,null,null,null,null,null,null,"Shwegu",467,1691,0,0]
["Muse",{"$f":"SUMIFS(Camplist_HH,Camplist_Township,Kachin_CCCM_D!$A24,CampList_Status,\"Open\")","v":182},{"$f":"SUMIFS(Camplist_Popl,Camplist_Township,Kachin_CCCM_D!$A24,CampList_Status,\"Open\")","v":789},{"$f":"COUNTIFS(Camplist_Township,Kachin_CCCM_D!A24,CampList_Status,\"open\")","v":3},null,null,null,null,null,null,null,null,null,null,null,null,null,null,null,null,null,null,null,null,null,null,null,null,null,null,null,null,null,null,"Sumprabum",38,0,0,0]
["Myitkyina",{"$f":"SUMIFS(Camplist_HH,Camplist_Township,Kachin_CCCM_D!$A25,CampList_Status,\"Open\")","v":1423},{"$f":"SUMIFS(Camplist_Popl,Camplist_Township,Kachin_CCCM_D!$A25,CampList_Status,\"Open\")","v":6631},{"$f":"COUNTIFS(Camplist_Township,Kachin_CCCM_D!A25,CampList_Status,\"open\")","v":25},null,null,null,null,null,null,null,null,null,null,null,null,null,null,null,null,null,null,null,null,null,null,null,null,null,null,null,null,null,null,"Waingmaw",7265,21621,0,0,{"$f":"AM26+AJ26+AK26+AL26","v":96638}]
["Namhkan",{"$f":"SUMIFS(Camplist_HH,Camplist_Township,Kachin_CCCM_D!$A26,CampList_Status,\"Open\")","v":385},{"$f":"SUMIFS(Camplist_Popl,Camplist_Township,Kachin_CCCM_D!$A26,CampList_Status,\"Open\")","v":1165},{"$f":"COUNTIFS(Camplist_Township,Kachin_CCCM_D!A26,CampList_Status,\"open\")","v":7},null,null,null,null,null,null,null,null,null,null,null,null,null,null,null,null,null,null,null,null,null,null,null,null,null,null,null,null,null,null,"Total",{"$f":"SUM(AJ5:AJ25)","v":36118},{"$f":"SUM(AK5:AK25)","v":52130},{"$f":"SUM(AL5:AL25)","v":8390},{"$f":"SUM(AM5:AM25)","v":0}]
["Namtu",{"$f":"SUMIFS(Camplist_HH,Camplist_Township,Kachin_CCCM_D!$A27,CampList_Status,\"Open\")","v":138},{"$f":"SUMIFS(Camplist_Popl,Camplist_Township,Kachin_CCCM_D!$A27,CampList_Status,\"Open\")","v":586},{"$f":"COUNTIFS(Camplist_Township,Kachin_CCCM_D!A27,CampList_Status,\"open\")","v":2},null,null,null,null,null,null,null,null,null,null,null,null,null,null,null,null,null,null,null,null,null,null,null,null,null,null,null,null,null,null,"% of IDP",{"$f":"AJ26/$AN$25","v":0.37374531757693663},{"$f":"AK26/$AN$25","v":0.53943583269521311},8.6818849727850325E-2,0]
["Puta-O",{"$f":"SUMIFS(Camplist_HH,Camplist_Township,Kachin_CCCM_D!$A28,CampList_Status,\"Open\")","v":36},{"$f":"SUMIFS(Camplist_Popl,Camplist_Township,Kachin_CCCM_D!$A28,CampList_Status,\"Open\")","v":156},{"$f":"COUNTIFS(Camplist_Township,Kachin_CCCM_D!A28,CampList_Status,\"open\")","v":2}]
["Shwegu",{"$f":"SUMIFS(Camplist_HH,Camplist_Township,Kachin_CCCM_D!$A29,CampList_Status,\"Open\")","v":510},{"$f":"SUMIFS(Camplist_Popl,Camplist_Township,Kachin_CCCM_D!$A29,CampList_Status,\"Open\")","v":2158},{"$f":"COUNTIFS(Camplist_Township,Kachin_CCCM_D!A29,CampList_Status,\"open\")","v":4}]
["Sumprabum",{"$f":"SUMIFS(Camplist_HH,Camplist_Township,Kachin_CCCM_D!$A30,CampList_Status,\"Open\")","v":6},{"$f":"SUMIFS(Camplist_Popl,Camplist_Township,Kachin_CCCM_D!$A30,CampList_Status,\"Open\")","v":38},{"$f":"COUNTIFS(Camplist_Township,Kachin_CCCM_D!A30,CampList_Status,\"open\")","v":1}]
["Waingmaw",{"$f":"SUMIFS(Camplist_HH,Camplist_Township,Kachin_CCCM_D!$A31,CampList_Status,\"Open\")","v":5249},{"$f":"SUMIFS(Camplist_Popl,Camplist_Township,Kachin_CCCM_D!$A31,CampList_Status,\"Open\")","v":28886},{"$f":"COUNTIFS(Camplist_Township,Kachin_CCCM_D!A31,CampList_Status,\"open\")","v":25}]
["Total",{"$f":"SUM(B10:B30)","v":14974},{"$f":"SUM(C10:C31)","v":96638},{"$f":"SUM(D10:D31)","v":174},null,null,null,null,null,null,null,null,null,null,null,null,null,null,null,null,null,null,null,null,null,null,null,null,null,null,null,null,null,null,null,"# of camps by Size of Population",null,null,null,"Unknown"]
[null,null,null,null,null,null,null,null,null,null,null,null,null,null,null,null,null,null,null,null,null,null,null,null,null,null,null,null,null,null,null,null,null,null,"Township","1-1k","1k - 5k","5k-10k",">10k",{"$f":"COUNTIFS(Camplist_Township,Kachin_CCCM_D!$AI34,Camplist_Popl,\"=0\",CampList_Status,\"Open\")+COUNTIFS(Camplist_Township,Kachin_CCCM_D!$AI34,Camplist_Popl,\"\",CampList_Status,\"Open\")","v":0},{"$f":"SUM(AJ33:AN33)","v":0}]
[null,"GCA","NGCA","Total",null,"Size of camps",null,null,null,null,null,null,null,null,null,null,null,null,null,null,null,null,null,null,null,null,null,null,null,null,null,null,null,null,"Bhamo",{"$f":"COUNTIFS(Camplist_Township,Kachin_CCCM_D!$AI34,Camplist_Popl,\">0\",Camplist_Popl,\"<=1000\",CampList_Status,\"Open\")","v":9},{"$f":"COUNTIFS(Camplist_Township,Kachin_CCCM_D!$AI34,Camplist_Popl,\">1000\",Camplist_Popl,\"<=5000\",CampList_Status,\"Open\")","v":4},{"$f":"COUNTIFS(Camplist_Township,Kachin_CCCM_D!$AI34,Camplist_Popl,\">5000\",Camplist_Popl,\"<=10000\",CampList_Status,\"Open\")","v":0},{"$f":"COUNTIFS(Camplist_Township,Kachin_CCCM_D!$AI34,Camplist_Popl,\">10000\",CampList_Status,\"Open\")","v":0},{"$f":"COUNTIFS(Camplist_Township,Kachin_CCCM_D!$AI35,Camplist_Popl,\"=0\",CampList_Status,\"Open\")+COUNTIFS(Camplist_Township,Kachin_CCCM_D!$AI35,Camplist_Popl,\"\",CampList_Status,\"Open\")","v":1},{"$f":"SUM(AJ34:AN34)","v":14}]
["Camp",{"$f":"GETPIVOTDATA(\"Total\",CampAnalysis!$A$60,\"Accessibility\",B$34,\"Type of Accomodation\",$A35)","v":40030},{"$f":"GETPIVOTDATA(\"Total\",CampAnalysis!$A$60,\"Accessibility\",C$34,\"Type of Accomodation\",$A35)","v":46036},{"$f":"SUM(B35:C35)","v":86066},null,null,"1-1k","1k-5k","5k-10k","Over 10k","Unknown",null,null,null,null,null,null,null,null,null,null,null,null,null,null,null,null,null,null,null,null,null,null,null,"Chipwi",{"$f":"COUNTIFS(Camplist_Township,Kachin_CCCM_D!$AI35,Camplist_Popl,\">0\",Camplist_Popl,\"<=1000\",CampList_Status,\"Open\")","v":4},{"$f":"COUNTIFS(Camplist_Township,Kachin_CCCM_D!$AI35,Camplist_Popl,\">1000\",Camplist_Popl,\"<=5000\",CampList_Status,\"Open\")","v":1},{"$f":"COUNTIFS(Camplist_Township,Kachin_CCCM_D!$AI35,Camplist_Popl,\">5000\",Camplist_Popl,\"<=10000\",CampList_Status,\"Open\")","v":0},{"$f":"COUNTIFS(Camplist_Township,Kachin_CCCM_D!$AI35,Camplist_Popl,\">10000\",CampList_Status,\"Open\")","v":0},{"$f":"COUNTIFS(Camplist_Township,Kachin_CCCM_D!$AI36,Camplist_Popl,\"=0\",CampList_Status,\"Open\")+COUNTIFS(Camplist_Township,Kachin_CCCM_D!$AI36,Camplist_Popl,\"\",CampList_Status,\"Open\")","v":0},5]
["Host Families",{"$f":"GETPIVOTDATA(\"Total\",CampAnalysis!$A$60,\"Accessibility\",B$34,\"Type of Accomodation\",$A36)","v":5622},{"$f":"GETPIVOTDATA(\"Total\",CampAnalysis!$A$60,\"Accessibility\",C$34,\"Type of Accomodation\",$A36)","v":4450},{"$f":"SUM(B36:C36)","v":10072},null,"# of Camps",{"$f":"AJ55","v":125},{"$f":"AK55","v":18},{"$f":"AL55","v":1},{"$f":"AM55","v":0},{"$f":"AN54","v":0},null,null,null,null,null,null,null,null,null,null,null,null,null,null,null,null,null,null,null,null,null,null,null,"Hpakant",{"$f":"COUNTIFS(Camplist_Township,Kachin_CCCM_D!$AI36,Camplist_Popl,\">0\",Camplist_Popl,\"<=1000\",CampList_Status,\"Open\")","v":24},{"$f":"COUNTIFS(Camplist_Township,Kachin_CCCM_D!$AI36,Camplist_Popl,\">1000\",Camplist_Popl,\"<=5000\",CampList_Status,\"Open\")","v":0},{"$f":"COUNTIFS(Camplist_Township,Kachin_CCCM_D!$AI36,Camplist_Popl,\">5000\",Camplist_Popl,\"<=10000\",CampList_Status,\"Open\")","v":0},{"$f":"COUNTIFS(Camplist_Township,Kachin_CCCM_D!$AI36,Camplist_Popl,\">10000\",CampList_Status,\"Open\")","v":0},{"$f":"COUNTIFS(Camplist_Township,Kachin_CCCM_D!$AI37,Camplist_Popl,\"=0\",CampList_Status,\"Open\")+COUNTIFS(Camplist_Township,Kachin_CCCM_D!$AI37,Camplist_Popl,\"\",CampList_Status,\"Open\")","v":1},25]
["Total",{"$f":"SUM(B35:B36)","v":45652},{"$f":"SUM(C35:C36)","v":50486},{"$f":"SUM(D35:D36)","v":96138},null,"# of IDP",{"$f":"AJ26","v":36118},{"$f":"AK26","v":52130},{"$f":"AL26","v":8390},{"$f":"AM26","v":0},{"$f":"AO25","v":0},null,null,null,null,null,null,null,null,null,null,null,null,null,null,null,null,null,null,null,null,null,null,null,"Injangyang",{"$f":"COUNTIFS(Camplist_Township,Kachin_CCCM_D!$AI37,Camplist_Popl,\">0\",Camplist_Popl,\"<=1000\",CampList_Status,\"Open\")","v":0},{"$f":"COUNTIFS(Camplist_Township,Kachin_CCCM_D!$AI37,Camplist_Popl,\">1000\",Camplist_Popl,\"<=5000\",CampList_Status,\"Open\")","v":0},{"$f":"COUNTIFS(Camplist_Township,Kachin_CCCM_D!$AI37,Camplist_Popl,\">5000\",Camplist_Popl,\"<=10000\",CampList_Status,\"Open\")","v":0},{"$f":"COUNTIFS(Camplist_Township,Kachin_CCCM_D!$AI37,Camplist_Popl,\">10000\",CampList_Status,\"Open\")","v":0},{"$f":"COUNTIFS(Camplist_Township,Kachin_CCCM_D!$AI38,Camplist_Popl,\"=0\",CampList_Status,\"Open\")+COUNTIFS(Camplist_Township,Kachin_CCCM_D!$AI38,Camplist_Popl,\"\",CampList_Status,\"Open\")","v":0},0]
[null,null,null,null,null,null,null,null,null,null,null,null,null,null,null,null,null,null,null,null,null,null,null,null,null,null,null,null,null,null,null,null,null,null,"Khaunglanhpu",{"$f":"COUNTIFS(Camplist_Township,Kachin_CCCM_D!$AI38,Camplist_Popl,\">0\",Camplist_Popl,\"<=1000\",CampList_Status,\"Open\")","v":1},{"$f":"COUNTIFS(Camplist_Township,Kachin_CCCM_D!$AI38,Camplist_Popl,\">1000\",Camplist_Popl,\"<=5000\",CampList_Status,\"Open\")","v":0},{"$f":"COUNTIFS(Camplist_Township,Kachin_CCCM_D!$AI38,Camplist_Popl,\">5000\",Camplist_Popl,\"<=10000\",CampList_Status,\"Open\")","v":0},{"$f":"COUNTIFS(Camplist_Township,Kachin_CCCM_D!$AI38,Camplist_Popl,\">10000\",CampList_Status,\"Open\")","v":0},{"$f":"COUNTIFS(Camplist_Township,Kachin_CCCM_D!$AI39,Camplist_Popl,\"=0\",CampList_Status,\"Open\")+COUNTIFS(Camplist_Township,Kachin_CCCM_D!$AI39,Camplist_Popl,\"\",CampList_Status,\"Open\")","v":0},1]
[null,null,null,null,null,null,null,null,null,null,null,null,null,null,null,null,null,null,null,null,null,null,null,null,null,null,null,null,null,null,null,null,null,null,"Kutkai",{"$f":"COUNTIFS(Camplist_Township,Kachin_CCCM_D!$AI39,Camplist_Popl,\">0\",Camplist_Popl,\"<=1000\",CampList_Status,\"Open\")","v":8},{"$f":"COUNTIFS(Camplist_Township,Kachin_CCCM_D!$AI39,Camplist_Popl,\">1000\",Camplist_Popl,\"<=5000\",CampList_Status,\"Open\")","v":0},{"$f":"COUNTIFS(Camplist_Township,Kachin_CCCM_D!$AI39,Camplist_Popl,\">5000\",Camplist_Popl,\"<=10000\",CampList_Status,\"Open\")","v":0},{"$f":"COUNTIFS(Camplist_Township,Kachin_CCCM_D!$AI39,Camplist_Popl,\">10000\",CampList_Status,\"Open\")","v":0},{"$f":"COUNTIFS(Camplist_Township,Kachin_CCCM_D!$AI41,Camplist_Popl,\"=0\",CampList_Status,\"Open\")+COUNTIFS(Camplist_Township,Kachin_CCCM_D!$AI41,Camplist_Popl,\"\",CampList_Status,\"Open\")","v":0},8]
[null,null,null,null,null,null,null,null,null,null,null,null,null,null,null,null,null,null,null,null,null,null,null,null,null,null,null,null,null,null,null,null,null,null,"Machanbaw",{"$f":"COUNTIFS(Camplist_Township,Kachin_CCCM_D!$AI40,Camplist_Popl,\">0\",Camplist_Popl,\"<=1000\",CampList_Status,\"Open\")","v":1},{"$f":"COUNTIFS(Camplist_Township,Kachin_CCCM_D!$AI40,Camplist_Popl,\">1000\",Camplist_Popl,\"<=5000\",CampList_Status,\"Open\")","v":0},{"$f":"COUNTIFS(Camplist_Township,Kachin_CCCM_D!$AI40,Camplist_Popl,\">5000\",Camplist_Popl,\"<=10000\",CampList_Status,\"Open\")","v":0},{"$f":"COUNTIFS(Camplist_Township,Kachin_CCCM_D!$AI40,Camplist_Popl,\">10000\",CampList_Status,\"Open\")","v":0},{"$f":"COUNTIFS(Camplist_Township,Kachin_CCCM_D!$AI42,Camplist_Popl,\"=0\",CampList_Status,\"Open\")+COUNTIFS(Camplist_Township,Kachin_CCCM_D!$AI42,Camplist_Popl,\"\",CampList_Status,\"Open\")","v":2},{"$f":"SUM(AJ40:AN40)","v":3}]
[null,null,null,null,null,null,null,null,null,null,null,null,null,null,null,null,null,null,null,null,null,null,null,null,null,null,null,null,null,null,null,null,null,null,"Mansi",{"$f":"COUNTIFS(Camplist_Township,Kachin_CCCM_D!$AI41,Camplist_Popl,\">0\",Camplist_Popl,\"<=1000\",CampList_Status,\"Open\")","v":11},{"$f":"COUNTIFS(Camplist_Township,Kachin_CCCM_D!$AI41,Camplist_Popl,\">1000\",Camplist_Popl,\"<=5000\",CampList_Status,\"Open\")","v":6},{"$f":"COUNTIFS(Camplist_Township,Kachin_CCCM_D!$AI41,Camplist_Popl,\">5000\",Camplist_Popl,\"<=10000\",CampList_Status,\"Open\")","v":0},{"$f":"COUNTIFS(Camplist_Township,Kachin_CCCM_D!$AI41,Camplist_Popl,\">10000\",CampList_Status,\"Open\")","v":0},{"$f":"COUNTIFS(Camplist_Township,Kachin_CCCM_D!$AI42,Camplist_Popl,\"=0\",CampList_Status,\"Open\")+COUNTIFS(Camplist_Township,Kachin_CCCM_D!$AI42,Camplist_Popl,\"\",CampList_Status,\"Open\")","v":2},19]
[null,null,null,null,null,null,null,null,null,null,null,null,null,null,null,null,null,null,null,null,null,null,null,null,null,null,null,null,null,null,null,null,null,null,"Manton",{"$f":"COUNTIFS(Camplist_Township,Kachin_CCCM_D!$AI42,Camplist_Popl,\">0\",Camplist_Popl,\"<=1000\",CampList_Status,\"Open\")","v":2},{"$f":"COUNTIFS(Camplist_Township,Kachin_CCCM_D!$AI42,Camplist_Popl,\">1000\",Camplist_Popl,\"<=5000\",CampList_Status,\"Open\")","v":0},{"$f":"COUNTIFS(Camplist_Township,Kachin_CCCM_D!$AI42,Camplist_Popl,\">5000\",Camplist_Popl,\"<=10000\",CampList_Status,\"Open\")","v":0},{"$f":"COUNTIFS(Camplist_Township,Kachin_CCCM_D!$AI42,Camplist_Popl,\">10000\",CampList_Status,\"Open\")","v":0},{"$f":"COUNTIFS(Camplist_Township,Kachin_CCCM_D!$AI43,Camplist_Popl,\"=0\",CampList_Status,\"Open\")+COUNTIFS(Camplist_Township,Kachin_CCCM_D!$AI43,Camplist_Popl,\"\",CampList_Status,\"Open\")","v":0},2]
[null,null,null,null,null,null,null,null,null,null,null,null,null,null,null,null,null,null,null,null,null,null,null,null,null,null,null,null,null,null,null,null,null,null,"Mogaung",{"$f":"COUNTIFS(Camplist_Township,Kachin_CCCM_D!$AI43,Camplist_Popl,\">0\",Camplist_Popl,\"<=1000\",CampList_Status,\"Open\")","v":3},{"$f":"COUNTIFS(Camplist_Township,Kachin_CCCM_D!$AI43,Camplist_Popl,\">1000\",Camplist_Popl,\"<=5000\",CampList_Status,\"Open\")","v":0},{"$f":"COUNTIFS(Camplist_Township,Kachin_CCCM_D!$AI43,Camplist_Popl,\">5000\",Camplist_Popl,\"<=10000\",CampList_Status,\"Open\")","v":0},{"$f":"COUNTIFS(Camplist_Township,Kachin_CCCM_D!$AI43,Camplist_Popl,\">10000\",CampList_Status,\"Open\")","v":0},{"$f":"COUNTIFS(Camplist_Township,Kachin_CCCM_D!$AI44,Camplist_Popl,\"=0\",CampList_Status,\"Open\")+COUNTIFS(Camplist_Township,Kachin_CCCM_D!$AI44,Camplist_Popl,\"\",CampList_Status,\"Open\")","v":0},3]
[null,null,null,null,null,null,null,null,null,null,null,null,null,null,null,null,null,null,null,null,null,null,null,null,null,null,null,null,null,null,null,null,null,null,"Mohnyin",{"$f":"COUNTIFS(Camplist_Township,Kachin_CCCM_D!$AI44,Camplist_Popl,\">0\",Camplist_Popl,\"<=1000\",CampList_Status,\"Open\")","v":3},{"$f":"COUNTIFS(Camplist_Township,Kachin_CCCM_D!$AI44,Camplist_Popl,\">1000\",Camplist_Popl,\"<=5000\",CampList_Status,\"Open\")","v":0},{"$f":"COUNTIFS(Camplist_Township,Kachin_CCCM_D!$AI44,Camplist_Popl,\">5000\",Camplist_Popl,\"<=10000\",CampList_Status,\"Open\")","v":0},{"$f":"COUNTIFS(Camplist_Township,Kachin_CCCM_D!$AI44,Camplist_Popl,\">10000\",CampList_Status,\"Open\")","v":0},{"$f":"COUNTIFS(Camplist_Township,Kachin_CCCM_D!$AI45,Camplist_Popl,\"=0\",CampList_Status,\"Open\")+COUNTIFS(Camplist_Township,Kachin_CCCM_D!$AI45,Camplist_Popl,\"\",CampList_Status,\"Open\")","v":1},4]
[null,null,null,null,null,null,null,null,null,null,null,null,null,null,null,null,null,null,null,null,null,null,null,null,null,null,null,null,null,null,null,null,null,null,"Momauk",{"$f":"COUNTIFS(Camplist_Township,Kachin_CCCM_D!$AI45,Camplist_Popl,\">0\",Camplist_Popl,\"<=1000\",CampList_Status,\"Open\")","v":15},{"$f":"COUNTIFS(Camplist_Township,Kachin_CCCM_D!$AI45,Camplist_Popl,\">1000\",Camplist_Popl,\"<=5000\",CampList_Status,\"Open\")","v":6},{"$f":"COUNTIFS(Camplist_Township,Kachin_CCCM_D!$AI45,Camplist_Popl,\">5000\",Camplist_Popl,\"<=10000\",CampList_Status,\"Open\")","v":1},{"$f":"COUNTIFS(Camplist_Township,Kachin_CCCM_D!$AI45,Camplist_Popl,\">10000\",CampList_Status,\"Open\")","v":0},{"$f":"COUNTIFS(Camplist_Township,Kachin_CCCM_D!$AI46,Camplist_Popl,\"=0\",CampList_Status,\"Open\")+COUNTIFS(Camplist_Township,Kachin_CCCM_D!$AI46,Camplist_Popl,\"\",CampList_Status,\"Open\")","v":0},22]
[null,null,null,null,null,null,null,null,null,null,null,null,null,null,null,null,null,null,null,null,null,null,null,null,null,null,null,null,null,null,null,null,null,null,"Muse",{"$f":"COUNTIFS(Camplist_Township,Kachin_CCCM_D!$AI46,Camplist_Popl,\">0\",Camplist_Popl,\"<=1000\",CampList_Status,\"Open\")","v":3},{"$f":"COUNTIFS(Camplist_Township,Kachin_CCCM_D!$AI46,Camplist_Popl,\">1000\",Camplist_Popl,\"<=5000\",CampList_Status,\"Open\")","v":0},{"$f":"COUNTIFS(Camplist_Township,Kachin_CCCM_D!$AI46,Camplist_Popl,\">5000\",Camplist_Popl,\"<=10000\",CampList_Status,\"Open\")","v":0},{"$f":"COUNTIFS(Camplist_Township,Kachin_CCCM_D!$AI46,Camplist_Popl,\">10000\",CampList_Status,\"Open\")","v":0},{"$f":"COUNTIFS(Camplist_Township,Kachin_CCCM_D!$AI47,Camplist_Popl,\"=0\",CampList_Status,\"Open\")+COUNTIFS(Camplist_Township,Kachin_CCCM_D!$AI47,Camplist_Popl,\"\",CampList_Status,\"Open\")","v":0},3]
[null,null,null,null,null,null,null,null,null,null,null,null,null,null,null,null,null,null,null,null,null,null,null,null,null,null,null,null,null,null,null,null,null,null,"Myitkyina",{"$f":"COUNTIFS(Camplist_Township,Kachin_CCCM_D!$AI47,Camplist_Popl,\">0\",Camplist_Popl,\"<=1000\",CampList_Status,\"Open\")","v":25},{"$f":"COUNTIFS(Camplist_Township,Kachin_CCCM_D!$AI47,Camplist_Popl,\">1000\",Camplist_Popl,\"<=5000\",CampList_Status,\"Open\")","v":0},{"$f":"COUNTIFS(Camplist_Township,Kachin_CCCM_D!$AI47,Camplist_Popl,\">5000\",Camplist_Popl,\"<=10000\",CampList_Status,\"Open\")","v":0},{"$f":"COUNTIFS(Camplist_Township,Kachin_CCCM_D!$AI47,Camplist_Popl,\">10000\",CampList_Status,\"Open\")","v":0},{"$f":"COUNTIFS(Camplist_Township,Kachin_CCCM_D!$AI48,Camplist_Popl,\"=0\",CampList_Status,\"Open\")+COUNTIFS(Camplist_Township,Kachin_CCCM_D!$AI48,Camplist_Popl,\"\",CampList_Status,\"Open\")","v":1},26]
[null,null,null,null,null,null,null,null,null,null,null,null,null,null,null,null,null,null,null,null,null,null,null,null,null,null,null,null,null,null,null,null,null,null,"Namhkan",{"$f":"COUNTIFS(Camplist_Township,Kachin_CCCM_D!$AI48,Camplist_Popl,\">0\",Camplist_Popl,\"<=1000\",CampList_Status,\"Open\")","v":6},{"$f":"COUNTIFS(Camplist_Township,Kachin_CCCM_D!$AI48,Camplist_Popl,\">1000\",Camplist_Popl,\"<=5000\",CampList_Status,\"Open\")","v":0},{"$f":"COUNTIFS(Camplist_Township,Kachin_CCCM_D!$AI48,Camplist_Popl,\">5000\",Camplist_Popl,\"<=10000\",CampList_Status,\"Open\")","v":0},{"$f":"COUNTIFS(Camplist_Township,Kachin_CCCM_D!$AI48,Camplist_Popl,\">10000\",CampList_Status,\"Open\")","v":0},{"$f":"COUNTIFS(Camplist_Township,Kachin_CCCM_D!$AI49,Camplist_Popl,\"=0\",CampList_Status,\"Open\")+COUNTIFS(Camplist_Township,Kachin_CCCM_D!$AI49,Camplist_Popl,\"\",CampList_Status,\"Open\")","v":0},6]
[null,null,null,null,null,null,null,null,null,null,null,null,null,null,null,null,null,null,null,null,null,null,null,null,null,null,null,null,null,null,null,null,null,null,"Namtu",{"$f":"COUNTIFS(Camplist_Township,Kachin_CCCM_D!$AI49,Camplist_Popl,\">0\",Camplist_Popl,\"<=1000\",CampList_Status,\"Open\")","v":2},{"$f":"COUNTIFS(Camplist_Township,Kachin_CCCM_D!$AI49,Camplist_Popl,\">1000\",Camplist_Popl,\"<=5000\",CampList_Status,\"Open\")","v":0},{"$f":"COUNTIFS(Camplist_Township,Kachin_CCCM_D!$AI49,Camplist_Popl,\">5000\",Camplist_Popl,\"<=10000\",CampList_Status,\"Open\")","v":0},{"$f":"COUNTIFS(Camplist_Township,Kachin_CCCM_D!$AI49,Camplist_Popl,\">10000\",CampList_Status,\"Open\")","v":0},{"$f":"COUNTIFS(Camplist_Township,Kachin_CCCM_D!$AI50,Camplist_Popl,\"=0\",CampList_Status,\"Open\")+COUNTIFS(Camplist_Township,Kachin_CCCM_D!$AI50,Camplist_Popl,\"\",CampList_Status,\"Open\")","v":0},2]
[null,null,null,null,null,null,null,null,null,null,null,null,null,null,null,null,null,null,null,null,null,null,null,null,null,null,null,null,null,null,null,null,null,null,"Puta-O",{"$f":"COUNTIFS(Camplist_Township,Kachin_CCCM_D!$AI50,Camplist_Popl,\">0\",Camplist_Popl,\"<=1000\",CampList_Status,\"Open\")","v":2},{"$f":"COUNTIFS(Camplist_Township,Kachin_CCCM_D!$AI50,Camplist_Popl,\">1000\",Camplist_Popl,\"<=5000\",CampList_Status,\"Open\")","v":0},{"$f":"COUNTIFS(Camplist_Township,Kachin_CCCM_D!$AI50,Camplist_Popl,\">5000\",Camplist_Popl,\"<=10000\",CampList_Status,\"Open\")","v":0},{"$f":"COUNTIFS(Camplist_Township,Kachin_CCCM_D!$AI50,Camplist_Popl,\">10000\",CampList_Status,\"Open\")","v":0},{"$f":"COUNTIFS(Camplist_Township,Kachin_CCCM_D!$AI51,Camplist_Popl,\"=0\",CampList_Status,\"Open\")+COUNTIFS(Camplist_Township,Kachin_CCCM_D!$AI51,Camplist_Popl,\"\",CampList_Status,\"Open\")","v":0},2]
[null,null,null,null,null,null,null,null,null,null,null,null,null,null,null,null,null,null,null,null,null,null,null,null,null,null,null,null,null,null,null,null,null,null,"Shwegu",{"$f":"COUNTIFS(Camplist_Township,Kachin_CCCM_D!$AI51,Camplist_Popl,\">0\",Camplist_Popl,\"<=1000\",CampList_Status,\"Open\")","v":3},{"$f":"COUNTIFS(Camplist_Township,Kachin_CCCM_D!$AI51,Camplist_Popl,\">1000\",Camplist_Popl,\"<=5000\",CampList_Status,\"Open\")","v":1},{"$f":"COUNTIFS(Camplist_Township,Kachin_CCCM_D!$AI51,Camplist_Popl,\">5000\",Camplist_Popl,\"<=10000\",CampList_Status,\"Open\")","v":0},{"$f":"COUNTIFS(Camplist_Township,Kachin_CCCM_D!$AI51,Camplist_Popl,\">10000\",CampList_Status,\"Open\")","v":0},{"$f":"COUNTIFS(Camplist_Township,Kachin_CCCM_D!$AI52,Camplist_Popl,\"=0\",CampList_Status,\"Open\")+COUNTIFS(Camplist_Township,Kachin_CCCM_D!$AI52,Camplist_Popl,\"\",CampList_Status,\"Open\")","v":0},4]
[null,null,null,null,null,null,null,null,null,null,null,null,null,null,null,null,null,null,null,null,null,null,null,null,null,null,null,null,null,null,null,null,null,null,"Hseni",{"$f":"COUNTIFS(Camplist_Township,Kachin_CCCM_D!$AI52,Camplist_Popl,\">0\",Camplist_Popl,\"<=1000\",CampList_Status,\"Open\")","v":1},{"$f":"COUNTIFS(Camplist_Township,Kachin_CCCM_D!$AI52,Camplist_Popl,\">1000\",Camplist_Popl,\"<=5000\",CampList_Status,\"Open\")","v":0},{"$f":"COUNTIFS(Camplist_Township,Kachin_CCCM_D!$AI52,Camplist_Popl,\">5000\",Camplist_Popl,\"<=10000\",CampList_Status,\"Open\")","v":0},{"$f":"COUNTIFS(Camplist_Township,Kachin_CCCM_D!$AI52,Camplist_Popl,\">10000\",CampList_Status,\"Open\")","v":0},{"$f":"COUNTIFS(Camplist_Township,Kachin_CCCM_D!$AI53,Camplist_Popl,\"=0\",CampList_Status,\"Open\")+COUNTIFS(Camplist_Township,Kachin_CCCM_D!$AI53,Camplist_Popl,\"\",CampList_Status,\"Open\")","v":0},1]
[null,null,null,null,null,null,null,null,null,null,null,null,null,null,null,null,null,null,null,null,null,null,null,null,null,null,null,null,null,null,null,null,null,null,"Sumprabum",{"$f":"COUNTIFS(Camplist_Township,Kachin_CCCM_D!$AI53,Camplist_Popl,\">0\",Camplist_Popl,\"<=1000\",CampList_Status,\"Open\")","v":1},{"$f":"COUNTIFS(Camplist_Township,Kachin_CCCM_D!$AI53,Camplist_Popl,\">1000\",Camplist_Popl,\"<=5000\",CampList_Status,\"Open\")","v":0},{"$f":"COUNTIFS(Camplist_Township,Kachin_CCCM_D!$AI53,Camplist_Popl,\">5000\",Camplist_Popl,\"<=10000\",CampList_Status,\"Open\")","v":0},{"$f":"COUNTIFS(Camplist_Township,Kachin_CCCM_D!$AI53,Camplist_Popl,\">10000\",CampList_Status,\"Open\")","v":0},{"$f":"COUNTIFS(Camplist_Township,Kachin_CCCM_D!$AI54,Camplist_Popl,\"=0\",CampList_Status,\"Open\")+COUNTIFS(Camplist_Township,Kachin_CCCM_D!$AI54,Camplist_Popl,\"\",CampList_Status,\"Open\")","v":0},1]
[null,null,null,null,null,null,null,null,null,null,null,null,null,null,null,null,null,null,null,null,null,null,null,null,null,null,null,null,null,null,null,null,null,null,"Sumprabum",{"$f":"COUNTIFS(Camplist_Township,Kachin_CCCM_D!$AI54,Camplist_Popl,\">0\",Camplist_Popl,\"<=1000\",CampList_Status,\"Open\")","v":1},{"$f":"COUNTIFS(Camplist_Township,Kachin_CCCM_D!$AI54,Camplist_Popl,\">1000\",Camplist_Popl,\"<=5000\",CampList_Status,\"Open\")","v":0},{"$f":"COUNTIFS(Camplist_Township,Kachin_CCCM_D!$AI54,Camplist_Popl,\">5000\",Camplist_Popl,\"<=10000\",CampList_Status,\"Open\")","v":0},{"$f":"COUNTIFS(Camplist_Township,Kachin_CCCM_D!$AI54,Camplist_Popl,\">10000\",CampList_Status,\"Open\")","v":0},{"$f":"COUNTIFS(Camplist_Township,Kachin_CCCM_D!$AI55,Camplist_Popl,\"=0\",CampList_Status,\"Open\")+COUNTIFS(Camplist_Township,Kachin_CCCM_D!$AI55,Camplist_Popl,\"\",CampList_Status,\"Open\")","v":0},{"$f":"SUM(AJ54:AN54)","v":1}]
[null,null,null,null,null,null,null,null,null,null,null,null,null,null,null,null,null,null,null,null,null,null,null,null,null,null,null,null,null,null,null,null,null,null,"Total",{"$f":"SUM(AJ34:AJ54)","v":125},{"$f":"SUM(AK34:AK54)","v":18},1,0,8,152]

{"sheet":"Shelter Tracking","index":6,"n_rows":181,"n_cols":19,"rows_kept":181,"cut":false,"hidden":false,"merged":[[1,0,1,2],[2,0,2,15]]}
[]
["SHELTERTRACKINGSHEET"]
[{"$f":"Report_Date","v":"2014-01-01"}]
["DateUpdated","Organization","ImplementingPartner","State","Township","CampName","HHperShelter","#ofFamilyTentPlanned(Target)","#ofFamilyTentDistributed","#ofTemporaryShelterUnitsPlanned(Target)","#ofTemporaryShelterUnitsBuilt","#ofTemporaryShelterUnderConstruction","#ofPermanentHousePlanned(Target)","#ofPermanentHouseBuilt","#ofPermanentHouseUnderConstruction","HHCovered","Pcode","Status","Coverage"]
["2013-10-31","Caritas","KBSS","Kachin","Shwegu","Shwe Gu Catholic Church",1,null,null,36,36,null,null,null,null,{"$f":"Table_Shelter[[#This Row],[HHperShelter]]*(Table_Shelter[[#This Row],['#ofTemporaryShelterUnitsBuilt]]+Table_Shelter[[#This Row],['#ofTemporaryShelterUnderConstruction]]+Table_Shelter[[#This Row],['#ofPermanentHouseUnderConstruction]])","v":36},{"$f":"IFERROR(VLOOKUP(Table_Shelter[[#This Row],[CampName]],CL,2,0),\"\")","v":"MMR001CMP068"},{"$f":"IFERROR(VLOOKUP(Table_Shelter[[#This Row],[CampName]],CL,3,0),\"\")","v":"Open"},{"$f":"IFERROR(Table_Shelter[[#This Row],[HHCovered]]/VLOOKUP(Table_Shelter[[#This Row],[CampName]],CL,4,0),\"\")","v":0.76595744680851063}]
["2013-10-31","Metta","Metta","Kachin","Bhamo","Htoi San Church",1,null,null,38,38,null,null,null,null,{"$f":"Table_Shelter[[#This Row],[HHperShelter]]*(Table_Shelter[[#This Row],['#ofTemporaryShelterUnitsBuilt]]+Table_Shelter[[#This Row],['#ofTemporaryShelterUnderConstruction]]+Table_Shelter[[#This Row],['#ofPermanentHouseUnderConstruction]])","v":38},{"$f":"IFERROR(VLOOKUP(Table_Shelter[[#This Row],[CampName]],CL,2,0),\"\")","v":"MMR001CMP052"},{"$f":"IFERROR(VLOOKUP(Table_Shelter[[#This Row],[CampName]],CL,3,0),\"\")","v":"Open"},{"$f":"IFERROR(Table_Shelter[[#This Row],[HHCovered]]/VLOOKUP(Table_Shelter[[#This Row],[CampName]],CL,4,0),\"\")","v":0.88372093023255816}]
["2013-10-31","Metta","Metta","Kachin","Bhamo","Lisu Boarding-House",1,null,null,12,12,null,null,null,null,{"$f":"Table_Shelter[[#This Row],[HHperShelter]]*(Table_Shelter[[#This Row],['#ofTemporaryShelterUnitsBuilt]]+Table_Shelter[[#This Row],['#ofTemporaryShelterUnderConstruction]]+Table_Shelter[[#This Row],['#ofPermanentHouseUnderConstruction]])","v":12},{"$f":"IFERROR(VLOOKUP(Table_Shelter[[#This Row],[CampName]],CL,2,0),\"\")","v":"MMR001CMP049"},{"$f":"IFERROR(VLOOKUP(Table_Shelter[[#This Row],[CampName]],CL,3,0),\"\")","v":"Open"},{"$f":"IFERROR(Table_Shelter[[#This Row],[HHCovered]]/VLOOKUP(Table_Shelter[[#This Row],[CampName]],CL,4,0),\"\")","v":0.17647058823529413}]
["2013-10-31","Metta","Metta","Kachin","Bhamo","Robert Church",1,null,null,216,216,null,null,null,null,{"$f":"Table_Shelter[[#This Row],[HHperShelter]]*(Table_Shelter[[#This Row],['#ofTemporaryShelterUnitsBuilt]]+Table_Shelter[[#This Row],['#ofTemporaryShelterUnderConstruction]]+Table_Shelter[[#This Row],['#ofPermanentHouseUnderConstruction]])","v":216},{"$f":"IFERROR(VLOOKUP(Table_Shelter[[#This Row],[CampName]],CL,2,0),\"\")","v":"MMR001CMP047"},{"$f":"IFERROR(VLOOKUP(Table_Shelter[[#This Row],[CampName]],CL,3,0),\"\")","v":"Open"},{"$f":"IFERROR(Table_Shelter[[#This Row],[HHCovered]]/VLOOKUP(Table_Shelter[[#This Row],[CampName]],CL,4,0),\"\")","v":0.38709677419354838}]
["2013-10-31","Metta","Metta","Kachin","Bhamo","Yoe Kyi Monastery",1,null,null,30,30,null,null,null,null,{"$f":"Table_Shelter[[#This Row],[HHperShelter]]*(Table_Shelter[[#This Row],['#ofTemporaryShelterUnitsBuilt]]+Table_Shelter[[#This Row],['#ofTemporaryShelterUnderConstruction]]+Table_Shelter[[#This Row],['#ofPermanentHouseUnderConstruction]])","v":30},{"$f":"IFERROR(VLOOKUP(Table_Shelter[[#This Row],[CampName]],CL,2,0),\"\")","v":"MMR001CMP053"},{"$f":"IFERROR(VLOOKUP(Table_Shelter[[#This Row],[CampName]],CL,3,0),\"\")","v":"Open"},{"$f":"IFERROR(Table_Shelter[[#This Row],[HHCovered]]/VLOOKUP(Table_Shelter[[#This Row],[CampName]],CL,4,0),\"\")","v":1.0344827586206897}]
["2013-10-31","Metta","Metta","Shan_North","Kutkai","Kutkai downtown (KBC Church)",1,null,null,80,80,null,null,null,null,{"$f":"Table_Shelter[[#This Row],[HHperShelter]]*(Table_Shelter[[#This Row],['#ofTemporaryShelterUnitsBuilt]]+Table_Shelter[[#This Row],['#ofTemporaryShelterUnderConstruction]]+Table_Shelter[[#This Row],['#ofPermanentHouseUnderConstruction]])","v":80},{"$f":"IFERROR(VLOOKUP(Table_Shelter[[#This Row],[CampName]],CL,2,0),\"\")","v":"MMR015CMP016"},{"$f":"IFERROR(VLOOKUP(Table_Shelter[[#This Row],[CampName]],CL,3,0),\"\")","v":"Open"},{"$f":"IFERROR(Table_Shelter[[#This Row],[HHCovered]]/VLOOKUP(Table_Shelter[[#This Row],[CampName]],CL,4,0),\"\")","v":0.93023255813953487}]
["2013-10-31","Metta","Metta","Shan_North","Kutkai","Kutkai downtown (RC Church)",1,null,null,48,48,null,null,null,null,{"$f":"Table_Shelter[[#This Row],[HHperShelter]]*(Table_Shelter[[#This Row],['#ofTemporaryShelterUnitsBuilt]]+Table_Shelter[[#This Row],['#ofTemporaryShelterUnderConstruction]]+Table_Shelter[[#This Row],['#ofPermanentHouseUnderConstruction]])","v":48},{"$f":"IFERROR(VLOOKUP(Table_Shelter[[#This Row],[CampName]],CL,2,0),\"\")","v":"MMR015CMP017"},{"$f":"IFERROR(VLOOKUP(Table_Shelter[[#This Row],[CampName]],CL,3,0),\"\")","v":"Open"},{"$f":"IFERROR(Table_Shelter[[#This Row],[HHCovered]]/VLOOKUP(Table_Shelter[[#This Row],[CampName]],CL,4,0),\"\")","v":1.1707317073170731}]
["2013-10-31","Metta","Metta","Shan_North","Kutkai","Nam Hpak Ka Mare ",1,null,null,86,86,null,null,null,null,{"$f":"Table_Shelter[[#This Row],[HHperShelter]]*(Table_Shelter[[#This Row],['#ofTemporaryShelterUnitsBuilt]]+Table_Shelter[[#This Row],['#ofTemporaryShelterUnderConstruction]]+Table_Shelter[[#This Row],['#ofPermanentHouseUnderConstruction]])","v":86},{"$f":"IFERROR(VLOOKUP(Table_Shelter[[#This Row],[CampName]],CL,2,0),\"\")","v":"MMR015CMP007"},{"$f":"IFERROR(VLOOKUP(Table_Shelter[[#This Row],[CampName]],CL,3,0),\"\")","v":"Open"},{"$f":"IFERROR(Table_Shelter[[#This Row],[HHCovered]]/VLOOKUP(Table_Shelter[[#This Row],[CampName]],CL,4,0),\"\")","v":1.0886075949367089}]
["2013-10-31","Metta","Metta","Kachin","Momauk","Man Bung Catholic compound",1,null,null,18,18,null,null,null,null,{"$f":"Table_Shelter[[#This Row],[HHperShelter]]*(Table_Shelter[[#This Row],['#ofTemporaryShelterUnitsBuilt]]+Table_Shelter[[#This Row],['#ofTemporaryShelterUnderConstruction]]+Table_Shelter[[#This Row],['#ofPermanentHouseUnderConstruction]])","v":18},{"$f":"IFERROR(VLOOKUP(Table_Shelter[[#This Row],[CampName]],CL,2,0),\"\")","v":"MMR001CMP062"},{"$f":"IFERROR(VLOOKUP(Table_Shelter[[#This Row],[CampName]],CL,3,0),\"\")","v":"Open"},{"$f":"IFERROR(Table_Shelter[[#This Row],[HHCovered]]/VLOOKUP(Table_Shelter[[#This Row],[CampName]],CL,4,0),\"\")","v":0.15384615384615385}]
["2013-10-31","Metta","Metta","Kachin","Momauk","Mandalay Monestry",1,null,null,6,6,null,null,null,null,{"$f":"Table_Shelter[[#This Row],[HHperShelter]]*(Table_Shelter[[#This Row],['#ofTemporaryShelterUnitsBuilt]]+Table_Shelter[[#This Row],['#ofTemporaryShelterUnderConstruction]]+Table_Shelter[[#This Row],['#ofPermanentHouseUnderConstruction]])","v":6},{"$f":"IFERROR(VLOOKUP(Table_Shelter[[#This Row],[CampName]],CL,2,0),\"\")","v":"MMR001CMP058"},{"$f":"IFERROR(VLOOKUP(Table_Shelter[[#This Row],[CampName]],CL,3,0),\"\")","v":"Open"},{"$f":"IFERROR(Table_Shelter[[#This Row],[HHCovered]]/VLOOKUP(Table_Shelter[[#This Row],[CampName]],CL,4,0),\"\")","v":1.5}]
["2013-10-31","Metta","Metta","Kachin","Momauk","Momauk Baptist Church",1,null,null,108,108,null,null,null,null,{"$f":"Table_Shelter[[#This Row],[HHperShelter]]*(Table_Shelter[[#This Row],['#ofTemporaryShelterUnitsBuilt]]+Table_Shelter[[#This Row],['#ofTemporaryShelterUnderConstruction]]+Table_Shelter[[#This Row],['#ofPermanentHouseUnderConstruction]])","v":108},{"$f":"IFERROR(VLOOKUP(Table_Shelter[[#This Row],[CampName]],CL,2,0),\"\")","v":"MMR001CMP056"},{"$f":"IFERROR(VLOOKUP(Table_Shelter[[#This Row],[CampName]],CL,3,0),\"\")","v":"Open"},{"$f":"IFERROR(Table_Shelter[[#This Row],[HHCovered]]/VLOOKUP(Table_Shelter[[#This Row],[CampName]],CL,4,0),\"\")","v":0.27067669172932329}]
["2013-10-31","Metta","Metta","Kachin","Shwegu","Shwe Gu Baptist Church",1,null,null,30,30,null,null,null,null,{"$f":"Table_Shelter[[#This Row],[HHperShelter]]*(Table_Shelter[[#This Row],['#ofTemporaryShelterUnitsBuilt]]+Table_Shelter[[#This Row],['#ofTemporaryShelterUnderConstruction]]+Table_Shelter[[#This Row],['#ofPermanentHouseUnderConstruction]])","v":30},{"$f":"IFERROR(VLOOKUP(Table_Shelter[[#This Row],[CampName]],CL,2,0),\"\")","v":"MMR001CMP067"},{"$f":"IFERROR(VLOOKUP(Table_Shelter[[#This Row],[CampName]],CL,3,0),\"\")","v":"Open"},{"$f":"IFERROR(Table_Shelter[[#This Row],[HHCovered]]/VLOOKUP(Table_Shelter[[#This Row],[CampName]],CL,4,0),\"\")","v":0.379746835443038}]
["2013-10-31","Caritas","IRRC","Kachin","Momauk","Pa Kahtawng ",1,null,null,447,447,null,null,null,null,{"$f":"Table_Shelter[[#This Row],[HHperShelter]]*(Table_Shelter[[#This Row],['#ofTemporaryShelterUnitsBuilt]]+Table_Shelter[[#This Row],['#ofTemporaryShelterUnderConstruction]]+Table_Shelter[[#This Row],['#ofPermanentHouseUnderConstruction]])","v":447},{"$f":"IFERROR(VLOOKUP(Table_Shelter[[#This Row],[CampName]],CL,2,0),\"\")","v":"MMR001CMP126"},{"$f":"IFERROR(VLOOKUP(Table_Shelter[[#This Row],[CampName]],CL,3,0),\"\")","v":"Open"},{"$f":"IFERROR(Table_Shelter[[#This Row],[HHCovered]]/VLOOKUP(Table_Shelter[[#This Row],[CampName]],CL,4,0),\"\")","v":0.86627906976744184}]
["2013-10-31","Caritas","KBSS","Kachin","Mansi","Lung Kawk  ( Hka Hkye Zup)",1,null,null,100,100,null,null,null,null,{"$f":"Table_Shelter[[#This Row],[HHperShelter]]*(Table_Shelter[[#This Row],['#ofTemporaryShelterUnitsBuilt]]+Table_Shelter[[#This Row],['#ofTemporaryShelterUnderConstruction]]+Table_Shelter[[#This Row],['#ofPermanentHouseUnderConstruction]])","v":100},{"$f":"IFERROR(VLOOKUP(Table_Shelter[[#This Row],[CampName]],CL,2,0),\"\")","v":"MMR001CMP135"},{"$f":"IFERROR(VLOOKUP(Table_Shelter[[#This Row],[CampName]],CL,3,0),\"\")","v":"Open"},{"$f":"IFERROR(Table_Shelter[[#This Row],[HHCovered]]/VLOOKUP(Table_Shelter[[#This Row],[CampName]],CL,4,0),\"\")","v":1.8518518518518519}]
["2013-10-31","Caritas","KBSS","Kachin","Mansi","Mung Ding Pa  (Boarder)",1,null,null,24,24,null,null,null,null,{"$f":"Table_Shelter[[#This Row],[HHperShelter]]*(Table_Shelter[[#This Row],['#ofTemporaryShelterUnitsBuilt]]+Table_Shelter[[#This Row],['#ofTemporaryShelterUnderConstruction]]+Table_Shelter[[#This Row],['#ofPermanentHouseUnderConstruction]])","v":24},{"$f":"IFERROR(VLOOKUP(Table_Shelter[[#This Row],[CampName]],CL,2,0),\"\")","v":"MMR001CMP203"},{"$f":"IFERROR(VLOOKUP(Table_Shelter[[#This Row],[CampName]],CL,3,0),\"\")","v":"Closed"},{"$f":"IFERROR(Table_Shelter[[#This Row],[HHCovered]]/VLOOKUP(Table_Shelter[[#This Row],[CampName]],CL,4,0),\"\")","v":""}]
["2013-10-31","Caritas","KBSS","Kachin","Momauk","Momauk Catholic Church (St. Patrick)",1,null,null,92,92,null,null,null,null,{"$f":"Table_Shelter[[#This Row],[HHperShelter]]*(Table_Shelter[[#This Row],['#ofTemporaryShelterUnitsBuilt]]+Table_Shelter[[#This Row],['#ofTemporaryShelterUnderConstruction]]+Table_Shelter[[#This Row],['#ofPermanentHouseUnderConstruction]])","v":92},{"$f":"IFERROR(VLOOKUP(Table_Shelter[[#This Row],[CampName]],CL,2,0),\"\")","v":"MMR001CMP057"},{"$f":"IFERROR(VLOOKUP(Table_Shelter[[#This Row],[CampName]],CL,3,0),\"\")","v":"Open"},{"$f":"IFERROR(Table_Shelter[[#This Row],[HHCovered]]/VLOOKUP(Table_Shelter[[#This Row],[CampName]],CL,4,0),\"\")","v":0.323943661971831}]
["2013-10-31","Caritas","KMSS","Kachin","Mohnyin","St. Patrick Catholic Church ",1,null,null,12,12,null,null,null,null,{"$f":"Table_Shelter[[#This Row],[HHperShelter]]*(Table_Shelter[[#This Row],['#ofTemporaryShelterUnitsBuilt]]+Table_Shelter[[#This Row],['#ofTemporaryShelterUnderConstruction]]+Table_Shelter[[#This Row],['#ofPermanentHouseUnderConstruction]])","v":12},{"$f":"IFERROR(VLOOKUP(Table_Shelter[[#This Row],[CampName]],CL,2,0),\"\")","v":"MMR001CMP080"},{"$f":"IFERROR(VLOOKUP(Table_Shelter[[#This Row],[CampName]],CL,3,0),\"\")","v":"Open"},{"$f":"IFERROR(Table_Shelter[[#This Row],[HHCovered]]/VLOOKUP(Table_Shelter[[#This Row],[CampName]],CL,4,0),\"\")","v":1}]
["2013-10-31","Caritas","KMSS","Kachin","Myitkyina","Jan Mai Kawng Catholic Church",1,null,null,60,60,null,null,null,null,{"$f":"Table_Shelter[[#This Row],[HHperShelter]]*(Table_Shelter[[#This Row],['#ofTemporaryShelterUnitsBuilt]]+Table_Shelter[[#This Row],['#ofTemporaryShelterUnderConstruction]]+Table_Shelter[[#This Row],['#ofPermanentHouseUnderConstruction]])","v":60},{"$f":"IFERROR(VLOOKUP(Table_Shelter[[#This Row],[CampName]],CL,2,0),\"\")","v":"MMR001CMP019"},{"$f":"IFERROR(VLOOKUP(Table_Shelter[[#This Row],[CampName]],CL,3,0),\"\")","v":"Open"},{"$f":"IFERROR(Table_Shelter[[#This Row],[HHCovered]]/VLOOKUP(Table_Shelter[[#This Row],[CampName]],CL,4,0),\"\")","v":0.53097345132743368}]
["2013-10-31","Caritas","KMSS","Kachin","Myitkyina","Pa Dauk Myaing(Pa La Na)",1,null,null,30,30,null,null,null,null,{"$f":"Table_Shelter[[#This Row],[HHperShelter]]*(Table_Shelter[[#This Row],['#ofTemporaryShelterUnitsBuilt]]+Table_Shelter[[#This Row],['#ofTemporaryShelterUnderConstruction]]+Table_Shelter[[#This Row],['#ofPermanentHouseUnderConstruction]])","v":30},{"$f":"IFERROR(VLOOKUP(Table_Shelter[[#This Row],[CampName]],CL,2,0),\"\")","v":"MMR001CMP162"},{"$f":"IFERROR(VLOOKUP(Table_Shelter[[#This Row],[CampName]],CL,3,0),\"\")","v":"Open"},{"$f":"IFERROR(Table_Shelter[[#This Row],[HHCovered]]/VLOOKUP(Table_Shelter[[#This Row],[CampName]],CL,4,0),\"\")","v":0.967741935483871}]
["2013-10-31","CC","CC","Kachin","Bhamo","Robert Church",1,null,null,48,48,null,null,null,null,{"$f":"Table_Shelter[[#This Row],[HHperShelter]]*(Table_Shelter[[#This Row],['#ofTemporaryShelterUnitsBuilt]]+Table_Shelter[[#This Row],['#ofTemporaryShelterUnderConstruction]]+Table_Shelter[[#This Row],['#ofPermanentHouseUnderConstruction]])","v":48},{"$f":"IFERROR(VLOOKUP(Table_Shelter[[#This Row],[CampName]],CL,2,0),\"\")","v":"MMR001CMP047"},{"$f":"IFERROR(VLOOKUP(Table_Shelter[[#This Row],[CampName]],CL,3,0),\"\")","v":"Open"},{"$f":"IFERROR(Table_Shelter[[#This Row],[HHCovered]]/VLOOKUP(Table_Shelter[[#This Row],[CampName]],CL,4,0),\"\")","v":8.6021505376344093E-2}]
["2013-10-31","CC","KBC","Kachin","Myitkyina","Le Kone Bethlehem Church",1,null,null,9,9,null,null,null,null,{"$f":"Table_Shelter[[#This Row],[HHperShelter]]*(Table_Shelter[[#This Row],['#ofTemporaryShelterUnitsBuilt]]+Table_Shelter[[#This Row],['#ofTemporaryShelterUnderConstruction]]+Table_Shelter[[#This Row],['#ofPermanentHouseUnderConstruction]])","v":9},{"$f":"IFERROR(VLOOKUP(Table_Shelter[[#This Row],[CampName]],CL,2,0),\"\")","v":"MMR001CMP015"},{"$f":"IFERROR(VLOOKUP(Table_Shelter[[#This Row],[CampName]],CL,3,0),\"\")","v":"Open"},{"$f":"IFERROR(Table_Shelter[[#This Row],[HHCovered]]/VLOOKUP(Table_Shelter[[#This Row],[CampName]],CL,4,0),\"\")","v":0.10344827586206896}]
["2013-10-31","CC","KBC","Kachin","Myitkyina","Tat Kone San Pya Baptist Church",1,null,null,14,14,null,null,null,null,{"$f":"Table_Shelter[[#This Row],[HHperShelter]]*(Table_Shelter[[#This Row],['#ofTemporaryShelterUnitsBuilt]]+Table_Shelter[[#This Row],['#ofTemporaryShelterUnderConstruction]]+Table_Shelter[[#This Row],['#ofPermanentHouseUnderConstruction]])","v":14},{"$f":"IFERROR(VLOOKUP(Table_Shelter[[#This Row],[CampName]],CL,2,0),\"\")","v":"MMR001CMP005"},{"$f":"IFERROR(VLOOKUP(Table_Shelter[[#This Row],[CampName]],CL,3,0),\"\")","v":"Open"},{"$f":"IFERROR(Table_Shelter[[#This Row],[HHCovered]]/VLOOKUP(Table_Shelter[[#This Row],[CampName]],CL,4,0),\"\")","v":0.32558139534883723}]
["2013-10-31","CC","KBC","Kachin","Waingmaw","Qtr. 2 Myoma Baptist Church",1,null,null,8,8,null,null,null,null,{"$f":"Table_Shelter[[#This Row],[HHperShelter]]*(Table_Shelter[[#This Row],['#ofTemporaryShelterUnitsBuilt]]+Table_Shelter[[#This Row],['#ofTemporaryShelterUnderConstruction]]+Table_Shelter[[#This Row],['#ofPermanentHouseUnderConstruction]])","v":8},{"$f":"IFERROR(VLOOKUP(Table_Shelter[[#This Row],[CampName]],CL,2,0),\"\")","v":"MMR001CMP025"},{"$f":"IFERROR(VLOOKUP(Table_Shelter[[#This Row],[CampName]],CL,3,0),\"\")","v":"Open"},{"$f":"IFERROR(Table_Shelter[[#This Row],[HHCovered]]/VLOOKUP(Table_Shelter[[#This Row],[CampName]],CL,4,0),\"\")","v":9.6385542168674704E-2}]
["2013-10-31","CC","KMSS","Kachin","Myitkyina","Jan Mai Kawng Baptist Church",1,null,null,20,20,null,null,null,null,{"$f":"Table_Shelter[[#This Row],[HHperShelter]]*(Table_Shelter[[#This Row],['#ofTemporaryShelterUnitsBuilt]]+Table_Shelter[[#This Row],['#ofTemporaryShelterUnderConstruction]]+Table_Shelter[[#This Row],['#ofPermanentHouseUnderConstruction]])","v":20},{"$f":"IFERROR(VLOOKUP(Table_Shelter[[#This Row],[CampName]],CL,2,0),\"\")","v":"MMR001CMP018"},{"$f":"IFERROR(VLOOKUP(Table_Shelter[[#This Row],[CampName]],CL,3,0),\"\")","v":"Open"},{"$f":"IFERROR(Table_Shelter[[#This Row],[HHCovered]]/VLOOKUP(Table_Shelter[[#This Row],[CampName]],CL,4,0),\"\")","v":9.8522167487684734E-2}]
["2013-10-31","CC","Metta","Kachin","Momauk","Momauk Baptist Church",1,null,null,32,32,null,null,null,null,{"$f":"Table_Shelter[[#This Row],[HHperShelter]]*(Table_Shelter[[#This Row],['#ofTemporaryShelterUnitsBuilt]]+Table_Shelter[[#This Row],['#ofTemporaryShelterUnderConstruction]]+Table_Shelter[[#This Row],['#ofPermanentHouseUnderConstruction]])","v":32},{"$f":"IFERROR(VLOOKUP(Table_Shelter[[#This Row],[CampName]],CL,2,0),\"\")","v":"MMR001CMP056"},{"$f":"IFERROR(VLOOKUP(Table_Shelter[[#This Row],[CampName]],CL,3,0),\"\")","v":"Open"},{"$f":"IFERROR(Table_Shelter[[#This Row],[HHCovered]]/VLOOKUP(Table_Shelter[[#This Row],[CampName]],CL,4,0),\"\")","v":8.0200501253132828E-2}]
["2013-10-31","CC","SHALOM","Kachin","Myitkyina","Shatapru Sut Ngai Tawng",1,null,null,14,14,null,null,null,null,{"$f":"Table_Shelter[[#This Row],[HHperShelter]]*(Table_Shelter[[#This Row],['#ofTemporaryShelterUnitsBuilt]]+Table_Shelter[[#This Row],['#ofTemporaryShelterUnderConstruction]]+Table_Shelter[[#This Row],['#ofPermanentHouseUnderConstruction]])","v":14},{"$f":"IFERROR(VLOOKUP(Table_Shelter[[#This Row],[CampName]],CL,2,0),\"\")","v":"MMR001CMP006"},{"$f":"IFERROR(VLOOKUP(Table_Shelter[[#This Row],[CampName]],CL,3,0),\"\")","v":"Open"},{"$f":"IFERROR(Table_Shelter[[#This Row],[HHCovered]]/VLOOKUP(Table_Shelter[[#This Row],[CampName]],CL,4,0),\"\")","v":0.13207547169811321}]
["2013-10-31","IRRC","IRRC","Kachin","Momauk","Nhkawng Pa ",1,null,null,350,350,null,null,null,null,{"$f":"Table_Shelter[[#This Row],[HHperShelter]]*(Table_Shelter[[#This Row],['#ofTemporaryShelterUnitsBuilt]]+Table_Shelter[[#This Row],['#ofTemporaryShelterUnderConstruction]]+Table_Shelter[[#This Row],['#ofPermanentHouseUnderConstruction]])","v":350},{"$f":"IFERROR(VLOOKUP(Table_Shelter[[#This Row],[CampName]],CL,2,0),\"\")","v":"MMR001CMP131"},{"$f":"IFERROR(VLOOKUP(Table_Shelter[[#This Row],[CampName]],CL,3,0),\"\")","v":"Open"},{"$f":"IFERROR(Table_Shelter[[#This Row],[HHCovered]]/VLOOKUP(Table_Shelter[[#This Row],[CampName]],CL,4,0),\"\")","v":0.90439276485788112}]
["2013-10-31","DRC","KBC","Kachin","Mansi","Man Wing Baptist Church",1,null,null,39,39,null,null,null,null,{"$f":"Table_Shelter[[#This Row],[HHperShelter]]*(Table_Shelter[[#This Row],['#ofTemporaryShelterUnitsBuilt]]+Table_Shelter[[#This Row],['#ofTemporaryShelterUnderConstruction]]+Table_Shelter[[#This Row],['#ofPermanentHouseUnderConstruction]])","v":39},{"$f":"IFERROR(VLOOKUP(Table_Shelter[[#This Row],[CampName]],CL,2,0),\"\")","v":"MMR001CMP133"},{"$f":"IFERROR(VLOOKUP(Table_Shelter[[#This Row],[CampName]],CL,3,0),\"\")","v":"Open"},{"$f":"IFERROR(Table_Shelter[[#This Row],[HHCovered]]/VLOOKUP(Table_Shelter[[#This Row],[CampName]],CL,4,0),\"\")","v":0.38235294117647056}]
["2013-10-31","DRC","KBC","Shan_North","Namhkan","Nam Hkam - Nay Win Ni (Palawng)",1,null,null,78,78,null,null,null,null,{"$f":"Table_Shelter[[#This Row],[HHperShelter]]*(Table_Shelter[[#This Row],['#ofTemporaryShelterUnitsBuilt]]+Table_Shelter[[#This Row],['#ofTemporaryShelterUnderConstruction]]+Table_Shelter[[#This Row],['#ofPermanentHouseUnderConstruction]])","v":78},{"$f":"IFERROR(VLOOKUP(Table_Shelter[[#This Row],[CampName]],CL,2,0),\"\")","v":"MMR015CMP004"},{"$f":"IFERROR(VLOOKUP(Table_Shelter[[#This Row],[CampName]],CL,3,0),\"\")","v":"Open"},{"$f":"IFERROR(Table_Shelter[[#This Row],[HHCovered]]/VLOOKUP(Table_Shelter[[#This Row],[CampName]],CL,4,0),\"\")","v":0.84782608695652173}]
["2013-10-31","DRC","KBC","Shan_North","Namhkan","Nam Hkam (KBC Jaw Wang)",1,null,null,30,30,null,null,null,null,{"$f":"Table_Shelter[[#This Row],[HHperShelter]]*(Table_Shelter[[#This Row],['#ofTemporaryShelterUnitsBuilt]]+Table_Shelter[[#This Row],['#ofTemporaryShelterUnderConstruction]]+Table_Shelter[[#This Row],['#ofPermanentHouseUnderConstruction]])","v":30},{"$f":"IFERROR(VLOOKUP(Table_Shelter[[#This Row],[CampName]],CL,2,0),\"\")","v":"MMR015CMP001"},{"$f":"IFERROR(VLOOKUP(Table_Shelter[[#This Row],[CampName]],CL,3,0),\"\")","v":"Open"},{"$f":"IFERROR(Table_Shelter[[#This Row],[HHCovered]]/VLOOKUP(Table_Shelter[[#This Row],[CampName]],CL,4,0),\"\")","v":0.30612244897959184}]
["2013-10-31","DRC","KMSS","Kachin","Momauk","Je Yang Hka ",1,null,null,702,138,30,null,null,null,{"$f":"Table_Shelter[[#This Row],[HHperShelter]]*(Table_Shelter[[#This Row],['#ofTemporaryShelterUnitsBuilt]]+Table_Shelter[[#This Row],['#ofTemporaryShelterUnderConstruction]]+Table_Shelter[[#This Row],['#ofPermanentHouseUnderConstruction]])","v":168},{"$f":"IFERROR(VLOOKUP(Table_Shelter[[#This Row],[CampName]],CL,2,0),\"\")","v":"MMR001CMP121"},{"$f":"IFERROR(VLOOKUP(Table_Shelter[[#This Row],[CampName]],CL,3,0),\"\")","v":"Open"},{"$f":"IFERROR(Table_Shelter[[#This Row],[HHCovered]]/VLOOKUP(Table_Shelter[[#This Row],[CampName]],CL,4,0),\"\")","v":9.9526066350710901E-2}]
["2013-10-31","DRC","KMSS","Kachin","Myitkyina","Nan Kway St. John Catholic Church",1,null,null,46,46,null,null,null,null,{"$f":"Table_Shelter[[#This Row],[HHperShelter]]*(Table_Shelter[[#This Row],['#ofTemporaryShelterUnitsBuilt]]+Table_Shelter[[#This Row],['#ofTemporaryShelterUnderConstruction]]+Table_Shelter[[#This Row],['#ofPermanentHouseUnderConstruction]])","v":46},{"$f":"IFERROR(VLOOKUP(Table_Shelter[[#This Row],[CampName]],CL,2,0),\"\")","v":"MMR001CMP024"},{"$f":"IFERROR(VLOOKUP(Table_Shelter[[#This Row],[CampName]],CL,3,0),\"\")","v":"Open"},{"$f":"IFERROR(Table_Shelter[[#This Row],[HHCovered]]/VLOOKUP(Table_Shelter[[#This Row],[CampName]],CL,4,0),\"\")","v":0.63888888888888884}]
["2013-10-31","DRC","KMSS","Kachin","Waingmaw","Maga Yang ",1,null,null,604,604,null,null,null,null,{"$f":"Table_Shelter[[#This Row],[HHperShelter]]*(Table_Shelter[[#This Row],['#ofTemporaryShelterUnitsBuilt]]+Table_Shelter[[#This Row],['#ofTemporaryShelterUnderConstruction]]+Table_Shelter[[#This Row],['#ofPermanentHouseUnderConstruction]])","v":604},{"$f":"IFERROR(VLOOKUP(Table_Shelter[[#This Row],[CampName]],CL,2,0),\"\")","v":"MMR001CMP119"},{"$f":"IFERROR(VLOOKUP(Table_Shelter[[#This Row],[CampName]],CL,3,0),\"\")","v":"Open"},{"$f":"IFERROR(Table_Shelter[[#This Row],[HHCovered]]/VLOOKUP(Table_Shelter[[#This Row],[CampName]],CL,4,0),\"\")","v":0.9695024077046549}]
["2013-10-31","DRC","KMSS","Kachin","Waingmaw","Maina Catholic Church (St. Joseph)",1,null,null,12,12,null,null,null,null,{"$f":"Table_Shelter[[#This Row],[HHperShelter]]*(Table_Shelter[[#This Row],['#ofTemporaryShelterUnitsBuilt]]+Table_Shelter[[#This Row],['#ofTemporaryShelterUnderConstruction]]+Table_Shelter[[#This Row],['#ofPermanentHouseUnderConstruction]])","v":12},{"$f":"IFERROR(VLOOKUP(Table_Shelter[[#This Row],[CampName]],CL,2,0),\"\")","v":"MMR001CMP029"},{"$f":"IFERROR(VLOOKUP(Table_Shelter[[#This Row],[CampName]],CL,3,0),\"\")","v":"Open"},{"$f":"IFERROR(Table_Shelter[[#This Row],[HHCovered]]/VLOOKUP(Table_Shelter[[#This Row],[CampName]],CL,4,0),\"\")","v":5.1724137931034482E-2}]
["2013-10-31","DRC","SHALOM","Kachin","Chipwi","Chipwi KBC camp",1,null,null,82,82,null,null,null,null,{"$f":"Table_Shelter[[#This Row],[HHperShelter]]*(Table_Shelter[[#This Row],['#ofTemporaryShelterUnitsBuilt]]+Table_Shelter[[#This Row],['#ofTemporaryShelterUnderConstruction]]+Table_Shelter[[#This Row],['#ofPermanentHouseUnderConstruction]])","v":82},{"$f":"IFERROR(VLOOKUP(Table_Shelter[[#This Row],[CampName]],CL,2,0),\"\")","v":"MMR001CMP042"},{"$f":"IFERROR(VLOOKUP(Table_Shelter[[#This Row],[CampName]],CL,3,0),\"\")","v":"Open"},{"$f":"IFERROR(Table_Shelter[[#This Row],[HHCovered]]/VLOOKUP(Table_Shelter[[#This Row],[CampName]],CL,4,0),\"\")","v":0.76635514018691586}]
["2013-10-31","DRC","SHALOM","Kachin","Waingmaw","Hkat Cho ",1,null,null,50,50,null,null,null,null,{"$f":"Table_Shelter[[#This Row],[HHperShelter]]*(Table_Shelter[[#This Row],['#ofTemporaryShelterUnitsBuilt]]+Table_Shelter[[#This Row],['#ofTemporaryShelterUnderConstruction]]+Table_Shelter[[#This Row],['#ofPermanentHouseUnderConstruction]])","v":50},{"$f":"IFERROR(VLOOKUP(Table_Shelter[[#This Row],[CampName]],CL,2,0),\"\")","v":"MMR001CMP028"},{"$f":"IFERROR(VLOOKUP(Table_Shelter[[#This Row],[CampName]],CL,3,0),\"\")","v":"Open"},{"$f":"IFERROR(Table_Shelter[[#This Row],[HHCovered]]/VLOOKUP(Table_Shelter[[#This Row],[CampName]],CL,4,0),\"\")","v":0.37313432835820898}]
["2013-10-31","DRC","SHALOM","Kachin","Waingmaw","Hkau Shau (BP 12)",1,null,null,100,100,null,null,null,null,{"$f":"Table_Shelter[[#This Row],[HHperShelter]]*(Table_Shelter[[#This Row],['#ofTemporaryShelterUnitsBuilt]]+Table_Shelter[[#This Row],['#ofTemporaryShelterUnderConstruction]]+Table_Shelter[[#This Row],['#ofPermanentHouseUnderConstruction]])","v":100},{"$f":"IFERROR(VLOOKUP(Table_Shelter[[#This Row],[CampName]],CL,2,0),\"\")","v":"MMR001CMP115"},{"$f":"IFERROR(VLOOKUP(Table_Shelter[[#This Row],[CampName]],CL,3,0),\"\")","v":"Open"},{"$f":"IFERROR(Table_Shelter[[#This Row],[HHCovered]]/VLOOKUP(Table_Shelter[[#This Row],[CampName]],CL,4,0),\"\")","v":0.56818181818181823}]
["2013-10-31","DRC","KMSS","Kachin","Momauk","Hpun Lum Yang ",1,null,null,338,338,null,null,null,null,{"$f":"Table_Shelter[[#This Row],[HHperShelter]]*(Table_Shelter[[#This Row],['#ofTemporaryShelterUnitsBuilt]]+Table_Shelter[[#This Row],['#ofTemporaryShelterUnderConstruction]]+Table_Shelter[[#This Row],['#ofPermanentHouseUnderConstruction]])","v":338},{"$f":"IFERROR(VLOOKUP(Table_Shelter[[#This Row],[CampName]],CL,2,0),\"\")","v":"MMR001CMP122"},{"$f":"IFERROR(VLOOKUP(Table_Shelter[[#This Row],[CampName]],CL,3,0),\"\")","v":"Open"},{"$f":"IFERROR(Table_Shelter[[#This Row],[HHCovered]]/VLOOKUP(Table_Shelter[[#This Row],[CampName]],CL,4,0),\"\")","v":0.77345537757437066}]
["2013-10-31","IRRC","KBSS","Kachin","Bhamo","AD-2000 Tharthana Compound",1,null,null,6,6,null,null,null,null,{"$f":"Table_Shelter[[#This Row],[HHperShelter]]*(Table_Shelter[[#This Row],['#ofTemporaryShelterUnitsBuilt]]+Table_Shelter[[#This Row],['#ofTemporaryShelterUnderConstruction]]+Table_Shelter[[#This Row],['#ofPermanentHouseUnderConstruction]])","v":6},{"$f":"IFERROR(VLOOKUP(Table_Shelter[[#This Row],[CampName]],CL,2,0),\"\")","v":"MMR001CMP050"},{"$f":"IFERROR(VLOOKUP(Table_Shelter[[#This Row],[CampName]],CL,3,0),\"\")","v":"Open"},{"$f":"IFERROR(Table_Shelter[[#This Row],[HHCovered]]/VLOOKUP(Table_Shelter[[#This Row],[CampName]],CL,4,0),\"\")","v":2.564102564102564E-2}]
["2013-10-31","KBC Zonal","KBC","Kachin","Myitkyina","Njang Dung Baptist Church ",1,null,null,32,32,null,null,null,null,{"$f":"Table_Shelter[[#This Row],[HHperShelter]]*(Table_Shelter[[#This Row],['#ofTemporaryShelterUnitsBuilt]]+Table_Shelter[[#This Row],['#ofTemporaryShelterUnderConstruction]]+Table_Shelter[[#This Row],['#ofPermanentHouseUnderConstruction]])","v":32},{"$f":"IFERROR(VLOOKUP(Table_Shelter[[#This Row],[CampName]],CL,2,0),\"\")","v":"MMR001CMP002"},{"$f":"IFERROR(VLOOKUP(Table_Shelter[[#This Row],[CampName]],CL,3,0),\"\")","v":"Open"},{"$f":"IFERROR(Table_Shelter[[#This Row],[HHCovered]]/VLOOKUP(Table_Shelter[[#This Row],[CampName]],CL,4,0),\"\")","v":0.56140350877192979}]
["2013-10-31","Misereor","SHALOM","Kachin","Myitkyina","Tat Kone COC Baptist / Tat Kone Htoi San",1,null,null,12,12,null,null,null,null,{"$f":"Table_Shelter[[#This Row],[HHperShelter]]*(Table_Shelter[[#This Row],['#ofTemporaryShelterUnitsBuilt]]+Table_Shelter[[#This Row],['#ofTemporaryShelterUnderConstruction]]+Table_Shelter[[#This Row],['#ofPermanentHouseUnderConstruction]])","v":12},{"$f":"IFERROR(VLOOKUP(Table_Shelter[[#This Row],[CampName]],CL,2,0),\"\")","v":"MMR001CMP023"},{"$f":"IFERROR(VLOOKUP(Table_Shelter[[#This Row],[CampName]],CL,3,0),\"\")","v":"Open"},{"$f":"IFERROR(Table_Shelter[[#This Row],[HHCovered]]/VLOOKUP(Table_Shelter[[#This Row],[CampName]],CL,4,0),\"\")","v":0.17391304347826086}]
["2013-10-31","Oxfam","KBC","Kachin","Myitkyina","Jan Mai Kawng Baptist Church",1,null,null,85,85,null,null,null,null,{"$f":"Table_Shelter[[#This Row],[HHperShelter]]*(Table_Shelter[[#This Row],['#ofTemporaryShelterUnitsBuilt]]+Table_Shelter[[#This Row],['#ofTemporaryShelterUnderConstruction]]+Table_Shelter[[#This Row],['#ofPermanentHouseUnderConstruction]])","v":85},{"$f":"IFERROR(VLOOKUP(Table_Shelter[[#This Row],[CampName]],CL,2,0),\"\")","v":"MMR001CMP018"},{"$f":"IFERROR(VLOOKUP(Table_Shelter[[#This Row],[CampName]],CL,3,0),\"\")","v":"Open"},{"$f":"IFERROR(Table_Shelter[[#This Row],[HHCovered]]/VLOOKUP(Table_Shelter[[#This Row],[CampName]],CL,4,0),\"\")","v":0.41871921182266009}]
["2013-10-31","Oxfam","KBC","Kachin","Myitkyina","Le Kone Bethlehem Church",1,null,null,10,10,null,null,null,null,{"$f":"Table_Shelter[[#This Row],[HHperShelter]]*(Table_Shelter[[#This Row],['#ofTemporaryShelterUnitsBuilt]]+Table_Shelter[[#This Row],['#ofTemporaryShelterUnderConstruction]]+Table_Shelter[[#This Row],['#ofPermanentHouseUnderConstruction]])","v":10},{"$f":"IFERROR(VLOOKUP(Table_Shelter[[#This Row],[CampName]],CL,2,0),\"\")","v":"MMR001CMP015"},{"$f":"IFERROR(VLOOKUP(Table_Shelter[[#This Row],[CampName]],CL,3,0),\"\")","v":"Open"},{"$f":"IFERROR(Table_Shelter[[#This Row],[HHCovered]]/VLOOKUP(Table_Shelter[[#This Row],[CampName]],CL,4,0),\"\")","v":0.11494252873563218}]
["2013-10-31","Oxfam","KBC","Kachin","Myitkyina","Le Kone Ziun Baptist Church ",1,null,null,20,20,null,null,null,null,{"$f":"Table_Shelter[[#This Row],[HHperShelter]]*(Table_Shelter[[#This Row],['#ofTemporaryShelterUnitsBuilt]]+Table_Shelter[[#This Row],['#ofTemporaryShelterUnderConstruction]]+Table_Shelter[[#This Row],['#ofPermanentHouseUnderConstruction]])","v":20},{"$f":"IFERROR(VLOOKUP(Table_Shelter[[#This Row],[CampName]],CL,2,0),\"\")","v":"MMR001CMP014"},{"$f":"IFERROR(VLOOKUP(Table_Shelter[[#This Row],[CampName]],CL,3,0),\"\")","v":"Open"},{"$f":"IFERROR(Table_Shelter[[#This Row],[HHCovered]]/VLOOKUP(Table_Shelter[[#This Row],[CampName]],CL,4,0),\"\")","v":0.13698630136986301}]
["2013-10-31","Oxfam","KBC","Kachin","Waingmaw","Maina KBC (Bawng Ring)",1,null,null,50,50,null,null,null,null,{"$f":"Table_Shelter[[#This Row],[HHperShelter]]*(Table_Shelter[[#This Row],['#ofTemporaryShelterUnitsBuilt]]+Table_Shelter[[#This Row],['#ofTemporaryShelterUnderConstruction]]+Table_Shelter[[#This Row],['#ofPermanentHouseUnderConstruction]])","v":50},{"$f":"IFERROR(VLOOKUP(Table_Shelter[[#This Row],[CampName]],CL,2,0),\"\")","v":"MMR001CMP040"},{"$f":"IFERROR(VLOOKUP(Table_Shelter[[#This Row],[CampName]],CL,3,0),\"\")","v":"Open"},{"$f":"IFERROR(Table_Shelter[[#This Row],[HHCovered]]/VLOOKUP(Table_Shelter[[#This Row],[CampName]],CL,4,0),\"\")","v":0.11904761904761904}]
["2013-10-31","Oxfam","KBC","Kachin","Waingmaw","Zai Awng / Mung Ga Zup",1,null,null,220,220,null,null,null,null,{"$f":"Table_Shelter[[#This Row],[HHperShelter]]*(Table_Shelter[[#This Row],['#ofTemporaryShelterUnitsBuilt]]+Table_Shelter[[#This Row],['#ofTemporaryShelterUnderConstruction]]+Table_Shelter[[#This Row],['#ofPermanentHouseUnderConstruction]])","v":220},{"$f":"IFERROR(VLOOKUP(Table_Shelter[[#This Row],[CampName]],CL,2,0),\"\")","v":"MMR001CMP111"},{"$f":"IFERROR(VLOOKUP(Table_Shelter[[#This Row],[CampName]],CL,3,0),\"\")","v":"Open"},{"$f":"IFERROR(Table_Shelter[[#This Row],[HHCovered]]/VLOOKUP(Table_Shelter[[#This Row],[CampName]],CL,4,0),\"\")","v":0.35483870967741937}]
["2013-10-31","UNHCR","KBC","Kachin","Hpakant","5 Ward Baptist Church(lon Khin)",1,null,null,20,20,null,null,null,null,{"$f":"Table_Shelter[[#This Row],[HHperShelter]]*(Table_Shelter[[#This Row],['#ofTemporaryShelterUnitsBuilt]]+Table_Shelter[[#This Row],['#ofTemporaryShelterUnderConstruction]]+Table_Shelter[[#This Row],['#ofPermanentHouseUnderConstruction]])","v":20},{"$f":"IFERROR(VLOOKUP(Table_Shelter[[#This Row],[CampName]],CL,2,0),\"\")","v":"MMR001CMP179"},{"$f":"IFERROR(VLOOKUP(Table_Shelter[[#This Row],[CampName]],CL,3,0),\"\")","v":"Open"},{"$f":"IFERROR(Table_Shelter[[#This Row],[HHCovered]]/VLOOKUP(Table_Shelter[[#This Row],[CampName]],CL,4,0),\"\")","v":0.2}]
["2013-10-31","UNHCR","KBC","Kachin","Hpakant","Baptist Church, Hmaw Si Sar(Lon Khin)",1,null,null,20,20,null,null,null,null,{"$f":"Table_Shelter[[#This Row],[HHperShelter]]*(Table_Shelter[[#This Row],['#ofTemporaryShelterUnitsBuilt]]+Table_Shelter[[#This Row],['#ofTemporaryShelterUnderConstruction]]+Table_Shelter[[#This Row],['#ofPermanentHouseUnderConstruction]])","v":20},{"$f":"IFERROR(VLOOKUP(Table_Shelter[[#This Row],[CampName]],CL,2,0),\"\")","v":"MMR001CMP169"},{"$f":"IFERROR(VLOOKUP(Table_Shelter[[#This Row],[CampName]],CL,3,0),\"\")","v":"Open"},{"$f":"IFERROR(Table_Shelter[[#This Row],[HHCovered]]/VLOOKUP(Table_Shelter[[#This Row],[CampName]],CL,4,0),\"\")","v":0.48780487804878048}]
["2013-10-31","UNHCR","KBC","Kachin","Hpakant","Nant Ma Hpit Catholic Church",1,null,null,40,40,null,null,null,null,{"$f":"Table_Shelter[[#This Row],[HHperShelter]]*(Table_Shelter[[#This Row],['#ofTemporaryShelterUnitsBuilt]]+Table_Shelter[[#This Row],['#ofTemporaryShelterUnderConstruction]]+Table_Shelter[[#This Row],['#ofPermanentHouseUnderConstruction]])","v":40},{"$f":"IFERROR(VLOOKUP(Table_Shelter[[#This Row],[CampName]],CL,2,0),\"\")","v":"MMR001CMP103"},{"$f":"IFERROR(VLOOKUP(Table_Shelter[[#This Row],[CampName]],CL,3,0),\"\")","v":"Open"},{"$f":"IFERROR(Table_Shelter[[#This Row],[HHCovered]]/VLOOKUP(Table_Shelter[[#This Row],[CampName]],CL,4,0),\"\")","v":1.0526315789473684}]
["2013-10-31","UNHCR","KBC","Kachin","Hpakant","Sai Nai Baptish Church, Maw Shan Vil., Seki Mu",1,null,null,5,5,null,null,null,null,{"$f":"Table_Shelter[[#This Row],[HHperShelter]]*(Table_Shelter[[#This Row],['#ofTemporaryShelterUnitsBuilt]]+Table_Shelter[[#This Row],['#ofTemporaryShelterUnderConstruction]]+Table_Shelter[[#This Row],['#ofPermanentHouseUnderConstruction]])","v":5},{"$f":"IFERROR(VLOOKUP(Table_Shelter[[#This Row],[CampName]],CL,2,0),\"\")","v":"MMR001CMP183"},{"$f":"IFERROR(VLOOKUP(Table_Shelter[[#This Row],[CampName]],CL,3,0),\"\")","v":"Open"},{"$f":"IFERROR(Table_Shelter[[#This Row],[HHCovered]]/VLOOKUP(Table_Shelter[[#This Row],[CampName]],CL,4,0),\"\")","v":0.10869565217391304}]
["2013-10-31","UNHCR","KBC","Kachin","Hpakant","Ward 2 Sai Taung Baptist Church, Seik Mu ",1,null,null,15,15,null,null,null,null,{"$f":"Table_Shelter[[#This Row],[HHperShelter]]*(Table_Shelter[[#This Row],['#ofTemporaryShelterUnitsBuilt]]+Table_Shelter[[#This Row],['#ofTemporaryShelterUnderConstruction]]+Table_Shelter[[#This Row],['#ofPermanentHouseUnderConstruction]])","v":15},{"$f":"IFERROR(VLOOKUP(Table_Shelter[[#This Row],[CampName]],CL,2,0),\"\")","v":"MMR001CMP184"},{"$f":"IFERROR(VLOOKUP(Table_Shelter[[#This Row],[CampName]],CL,3,0),\"\")","v":"Open"},{"$f":"IFERROR(Table_Shelter[[#This Row],[HHCovered]]/VLOOKUP(Table_Shelter[[#This Row],[CampName]],CL,4,0),\"\")","v":0.11194029850746269}]
["2013-10-31","UNHCR","KBC","Shan_North","Kutkai","Nam Hpak Ka Mare ",1,null,null,10,10,null,null,null,null,{"$f":"Table_Shelter[[#This Row],[HHperShelter]]*(Table_Shelter[[#This Row],['#ofTemporaryShelterUnitsBuilt]]+Table_Shelter[[#This Row],['#ofTemporaryShelterUnderConstruction]]+Table_Shelter[[#This Row],['#ofPermanentHouseUnderConstruction]])","v":10},{"$f":"IFERROR(VLOOKUP(Table_Shelter[[#This Row],[CampName]],CL,2,0),\"\")","v":"MMR015CMP007"},{"$f":"IFERROR(VLOOKUP(Table_Shelter[[#This Row],[CampName]],CL,3,0),\"\")","v":"Open"},{"$f":"IFERROR(Table_Shelter[[#This Row],[HHCovered]]/VLOOKUP(Table_Shelter[[#This Row],[CampName]],CL,4,0),\"\")","v":0.12658227848101267}]
["2013-10-31","UNHCR","KBC","Shan_North","Manton","Howa",1,null,null,10,10,null,null,null,null,{"$f":"Table_Shelter[[#This Row],[HHperShelter]]*(Table_Shelter[[#This Row],['#ofTemporaryShelterUnitsBuilt]]+Table_Shelter[[#This Row],['#ofTemporaryShelterUnderConstruction]]+Table_Shelter[[#This Row],['#ofPermanentHouseUnderConstruction]])","v":10},{"$f":"IFERROR(VLOOKUP(Table_Shelter[[#This Row],[CampName]],CL,2,0),\"\")","v":"MMR015CMP010"},{"$f":"IFERROR(VLOOKUP(Table_Shelter[[#This Row],[CampName]],CL,3,0),\"\")","v":"Open"},{"$f":"IFERROR(Table_Shelter[[#This Row],[HHCovered]]/VLOOKUP(Table_Shelter[[#This Row],[CampName]],CL,4,0),\"\")","v":""}]
["2013-10-31","UNHCR","KBC","Shan_North","Manton","Mandung - Jinghpaw",1,null,null,10,10,null,null,null,null,{"$f":"Table_Shelter[[#This Row],[HHperShelter]]*(Table_Shelter[[#This Row],['#ofTemporaryShelterUnitsBuilt]]+Table_Shelter[[#This Row],['#ofTemporaryShelterUnderConstruction]]+Table_Shelter[[#This Row],['#ofPermanentHouseUnderConstruction]])","v":10},{"$f":"IFERROR(VLOOKUP(Table_Shelter[[#This Row],[CampName]],CL,2,0),\"\")","v":"MMR015CMP009"},{"$f":"IFERROR(VLOOKUP(Table_Shelter[[#This Row],[CampName]],CL,3,0),\"\")","v":"Open"},{"$f":"IFERROR(Table_Shelter[[#This Row],[HHCovered]]/VLOOKUP(Table_Shelter[[#This Row],[CampName]],CL,4,0),\"\")","v":0.23255813953488372}]
["2013-10-31","UNHCR","KBC","Kachin","Mogaung","Kyun Taw Baptist Church ",1,null,null,15,15,null,null,null,null,{"$f":"Table_Shelter[[#This Row],[HHperShelter]]*(Table_Shelter[[#This Row],['#ofTemporaryShelterUnitsBuilt]]+Table_Shelter[[#This Row],['#ofTemporaryShelterUnderConstruction]]+Table_Shelter[[#This Row],['#ofPermanentHouseUnderConstruction]])","v":15},{"$f":"IFERROR(VLOOKUP(Table_Shelter[[#This Row],[CampName]],CL,2,0),\"\")","v":"MMR001CMP078"},{"$f":"IFERROR(VLOOKUP(Table_Shelter[[#This Row],[CampName]],CL,3,0),\"\")","v":"Open"},{"$f":"IFERROR(Table_Shelter[[#This Row],[HHCovered]]/VLOOKUP(Table_Shelter[[#This Row],[CampName]],CL,4,0),\"\")","v":1.1538461538461537}]
["2013-10-31","UNHCR","KBC","Kachin","Mogaung","Mang Hawng Baptist Church",1,null,null,10,10,null,null,null,null,{"$f":"Table_Shelter[[#This Row],[HHperShelter]]*(Table_Shelter[[#This Row],['#ofTemporaryShelterUnitsBuilt]]+Table_Shelter[[#This Row],['#ofTemporaryShelterUnderConstruction]]+Table_Shelter[[#This Row],['#ofPermanentHouseUnderConstruction]])","v":10},{"$f":"IFERROR(VLOOKUP(Table_Shelter[[#This Row],[CampName]],CL,2,0),\"\")","v":"MMR001CMP077"},{"$f":"IFERROR(VLOOKUP(Table_Shelter[[#This Row],[CampName]],CL,3,0),\"\")","v":"Open"},{"$f":"IFERROR(Table_Shelter[[#This Row],[HHCovered]]/VLOOKUP(Table_Shelter[[#This Row],[CampName]],CL,4,0),\"\")","v":0.7142857142857143}]
["2013-10-31","UNHCR","KBC","Kachin","Mogaung","Nat Gyi Kone Baptist Church ",1,null,null,15,15,null,null,null,null,{"$f":"Table_Shelter[[#This Row],[HHperShelter]]*(Table_Shelter[[#This Row],['#ofTemporaryShelterUnitsBuilt]]+Table_Shelter[[#This Row],['#ofTemporaryShelterUnderConstruction]]+Table_Shelter[[#This Row],['#ofPermanentHouseUnderConstruction]])","v":15},{"$f":"IFERROR(VLOOKUP(Table_Shelter[[#This Row],[CampName]],CL,2,0),\"\")","v":"MMR001CMP079"},{"$f":"IFERROR(VLOOKUP(Table_Shelter[[#This Row],[CampName]],CL,3,0),\"\")","v":"Open"},{"$f":"IFERROR(Table_Shelter[[#This Row],[HHCovered]]/VLOOKUP(Table_Shelter[[#This Row],[CampName]],CL,4,0),\"\")","v":1.25}]
["2013-10-31","UNHCR","KBC","Kachin","Mohnyin","Nawng Ing (Indawgyi) Baptist Church  ",1,null,null,20,20,null,null,null,null,{"$f":"Table_Shelter[[#This Row],[HHperShelter]]*(Table_Shelter[[#This Row],['#ofTemporaryShelterUnitsBuilt]]+Table_Shelter[[#This Row],['#ofTemporaryShelterUnderConstruction]]+Table_Shelter[[#This Row],['#ofPermanentHouseUnderConstruction]])","v":20},{"$f":"IFERROR(VLOOKUP(Table_Shelter[[#This Row],[CampName]],CL,2,0),\"\")","v":"MMR001CMP152"},{"$f":"IFERROR(VLOOKUP(Table_Shelter[[#This Row],[CampName]],CL,3,0),\"\")","v":"Open"},{"$f":"IFERROR(Table_Shelter[[#This Row],[HHCovered]]/VLOOKUP(Table_Shelter[[#This Row],[CampName]],CL,4,0),\"\")","v":0.95238095238095233}]
["2013-10-31","UNHCR","KBC","Shan_North","Muse","Mung Baw ",1,null,null,10,10,null,null,null,null,{"$f":"Table_Shelter[[#This Row],[HHperShelter]]*(Table_Shelter[[#This Row],['#ofTemporaryShelterUnitsBuilt]]+Table_Shelter[[#This Row],['#ofTemporaryShelterUnderConstruction]]+Table_Shelter[[#This Row],['#ofPermanentHouseUnderConstruction]])","v":10},{"$f":"IFERROR(VLOOKUP(Table_Shelter[[#This Row],[CampName]],CL,2,0),\"\")","v":"MMR015CMP005"},{"$f":"IFERROR(VLOOKUP(Table_Shelter[[#This Row],[CampName]],CL,3,0),\"\")","v":"Open"},{"$f":"IFERROR(Table_Shelter[[#This Row],[HHCovered]]/VLOOKUP(Table_Shelter[[#This Row],[CampName]],CL,4,0),\"\")","v":8.1300813008130079E-2}]
["2013-10-31","UNHCR","KBC","Kachin","Myitkyina","Jan Mai Kawng Baptist Church",1,null,null,20,20,null,null,null,null,{"$f":"Table_Shelter[[#This Row],[HHperShelter]]*(Table_Shelter[[#This Row],['#ofTemporaryShelterUnitsBuilt]]+Table_Shelter[[#This Row],['#ofTemporaryShelterUnderConstruction]]+Table_Shelter[[#This Row],['#ofPermanentHouseUnderConstruction]])","v":20},{"$f":"IFERROR(VLOOKUP(Table_Shelter[[#This Row],[CampName]],CL,2,0),\"\")","v":"MMR001CMP018"},{"$f":"IFERROR(VLOOKUP(Table_Shelter[[#This Row],[CampName]],CL,3,0),\"\")","v":"Open"},{"$f":"IFERROR(Table_Shelter[[#This Row],[HHCovered]]/VLOOKUP(Table_Shelter[[#This Row],[CampName]],CL,4,0),\"\")","v":9.8522167487684734E-2}]
["2013-10-31","UNHCR","KBC","Kachin","Myitkyina","Kyun Pin Thar Baptist Church",1,null,null,5,5,null,null,null,null,{"$f":"Table_Shelter[[#This Row],[HHperShelter]]*(Table_Shelter[[#This Row],['#ofTemporaryShelterUnitsBuilt]]+Table_Shelter[[#This Row],['#ofTemporaryShelterUnderConstruction]]+Table_Shelter[[#This Row],['#ofPermanentHouseUnderConstruction]])","v":5},{"$f":"IFERROR(VLOOKUP(Table_Shelter[[#This Row],[CampName]],CL,2,0),\"\")","v":"MMR001CMP013"},{"$f":"IFERROR(VLOOKUP(Table_Shelter[[#This Row],[CampName]],CL,3,0),\"\")","v":"Open"},{"$f":"IFERROR(Table_Shelter[[#This Row],[HHCovered]]/VLOOKUP(Table_Shelter[[#This Row],[CampName]],CL,4,0),\"\")","v":0.1111111111111111}]
["2013-10-31","UNHCR","KBC","Kachin","Myitkyina","Le Kone Bethlehem Church",1,null,null,10,10,null,null,null,null,{"$f":"Table_Shelter[[#This Row],[HHperShelter]]*(Table_Shelter[[#This Row],['#ofTemporaryShelterUnitsBuilt]]+Table_Shelter[[#This Row],['#ofTemporaryShelterUnderConstruction]]+Table_Shelter[[#This Row],['#ofPermanentHouseUnderConstruction]])","v":10},{"$f":"IFERROR(VLOOKUP(Table_Shelter[[#This Row],[CampName]],CL,2,0),\"\")","v":"MMR001CMP015"},{"$f":"IFERROR(VLOOKUP(Table_Shelter[[#This Row],[CampName]],CL,3,0),\"\")","v":"Open"},{"$f":"IFERROR(Table_Shelter[[#This Row],[HHCovered]]/VLOOKUP(Table_Shelter[[#This Row],[CampName]],CL,4,0),\"\")","v":0.11494252873563218}]
["2013-10-31","UNHCR","KBC","Kachin","Myitkyina","Le Kone Ziun Baptist Church ",1,null,null,60,60,null,null,null,null,{"$f":"Table_Shelter[[#This Row],[HHperShelter]]*(Table_Shelter[[#This Row],['#ofTemporaryShelterUnitsBuilt]]+Table_Shelter[[#This Row],['#ofTemporaryShelterUnderConstruction]]+Table_Shelter[[#This Row],['#ofPermanentHouseUnderConstruction]])","v":60},{"$f":"IFERROR(VLOOKUP(Table_Shelter[[#This Row],[CampName]],CL,2,0),\"\")","v":"MMR001CMP014"},{"$f":"IFERROR(VLOOKUP(Table_Shelter[[#This Row],[CampName]],CL,3,0),\"\")","v":"Open"},{"$f":"IFERROR(Table_Shelter[[#This Row],[HHCovered]]/VLOOKUP(Table_Shelter[[#This Row],[CampName]],CL,4,0),\"\")","v":0.41095890410958902}]
["2013-10-31","UNHCR","KBC","Kachin","Myitkyina","Maliyang Baptist Church",1,null,null,20,20,null,null,null,null,{"$f":"Table_Shelter[[#This Row],[HHperShelter]]*(Table_Shelter[[#This Row],['#ofTemporaryShelterUnitsBuilt]]+Table_Shelter[[#This Row],['#ofTemporaryShelterUnderConstruction]]+Table_Shelter[[#This Row],['#ofPermanentHouseUnderConstruction]])","v":20},{"$f":"IFERROR(VLOOKUP(Table_Shelter[[#This Row],[CampName]],CL,2,0),\"\")","v":"MMR001CMP016"},{"$f":"IFERROR(VLOOKUP(Table_Shelter[[#This Row],[CampName]],CL,3,0),\"\")","v":"Open"},{"$f":"IFERROR(Table_Shelter[[#This Row],[HHCovered]]/VLOOKUP(Table_Shelter[[#This Row],[CampName]],CL,4,0),\"\")","v":0.27777777777777779}]
["2013-10-31","UNHCR","KBC","Kachin","Myitkyina","Man Hkring Baptist Church",1,null,null,60,60,null,null,null,null,{"$f":"Table_Shelter[[#This Row],[HHperShelter]]*(Table_Shelter[[#This Row],['#ofTemporaryShelterUnitsBuilt]]+Table_Shelter[[#This Row],['#ofTemporaryShelterUnderConstruction]]+Table_Shelter[[#This Row],['#ofPermanentHouseUnderConstruction]])","v":60},{"$f":"IFERROR(VLOOKUP(Table_Shelter[[#This Row],[CampName]],CL,2,0),\"\")","v":"MMR001CMP008"},{"$f":"IFERROR(VLOOKUP(Table_Shelter[[#This Row],[CampName]],CL,3,0),\"\")","v":"Open"},{"$f":"IFERROR(Table_Shelter[[#This Row],[HHCovered]]/VLOOKUP(Table_Shelter[[#This Row],[CampName]],CL,4,0),\"\")","v":0.63157894736842102}]
["2013-10-31","UNHCR","KBC","Kachin","Myitkyina","Njang Dung Baptist Church ",1,null,null,20,20,null,null,null,null,{"$f":"Table_Shelter[[#This Row],[HHperShelter]]*(Table_Shelter[[#This Row],['#ofTemporaryShelterUnitsBuilt]]+Table_Shelter[[#This Row],['#ofTemporaryShelterUnderConstruction]]+Table_Shelter[[#This Row],['#ofPermanentHouseUnderConstruction]])","v":20},{"$f":"IFERROR(VLOOKUP(Table_Shelter[[#This Row],[CampName]],CL,2,0),\"\")","v":"MMR001CMP002"},{"$f":"IFERROR(VLOOKUP(Table_Shelter[[#This Row],[CampName]],CL,3,0),\"\")","v":"Open"},{"$f":"IFERROR(Table_Shelter[[#This Row],[HHCovered]]/VLOOKUP(Table_Shelter[[#This Row],[CampName]],CL,4,0),\"\")","v":0.35087719298245612}]
["2013-10-31","UNHCR","KBC","Kachin","Myitkyina","Shatapru Sut Ngai Tawng",1,null,null,10,10,null,null,null,null,{"$f":"Table_Shelter[[#This Row],[HHperShelter]]*(Table_Shelter[[#This Row],['#ofTemporaryShelterUnitsBuilt]]+Table_Shelter[[#This Row],['#ofTemporaryShelterUnderConstruction]]+Table_Shelter[[#This Row],['#ofPermanentHouseUnderConstruction]])","v":10},{"$f":"IFERROR(VLOOKUP(Table_Shelter[[#This Row],[CampName]],CL,2,0),\"\")","v":"MMR001CMP006"},{"$f":"IFERROR(VLOOKUP(Table_Shelter[[#This Row],[CampName]],CL,3,0),\"\")","v":"Open"},{"$f":"IFERROR(Table_Shelter[[#This Row],[HHCovered]]/VLOOKUP(Table_Shelter[[#This Row],[CampName]],CL,4,0),\"\")","v":9.4339622641509441E-2}]
["2013-10-31","UNHCR","KBC","Kachin","Myitkyina","Shwe Zet Baptist Church",1,null,null,50,50,null,null,null,null,{"$f":"Table_Shelter[[#This Row],[HHperShelter]]*(Table_Shelter[[#This Row],['#ofTemporaryShelterUnitsBuilt]]+Table_Shelter[[#This Row],['#ofTemporaryShelterUnderConstruction]]+Table_Shelter[[#This Row],['#ofPermanentHouseUnderConstruction]])","v":50},{"$f":"IFERROR(VLOOKUP(Table_Shelter[[#This Row],[CampName]],CL,2,0),\"\")","v":"MMR001CMP009"},{"$f":"IFERROR(VLOOKUP(Table_Shelter[[#This Row],[CampName]],CL,3,0),\"\")","v":"Open"},{"$f":"IFERROR(Table_Shelter[[#This Row],[HHCovered]]/VLOOKUP(Table_Shelter[[#This Row],[CampName]],CL,4,0),\"\")","v":0.59523809523809523}]
["2013-10-31","UNHCR","KBC","Kachin","Myitkyina","Tat Kone Baptist Church",1,null,null,60,60,null,null,null,null,{"$f":"Table_Shelter[[#This Row],[HHperShelter]]*(Table_Shelter[[#This Row],['#ofTemporaryShelterUnitsBuilt]]+Table_Shelter[[#This Row],['#ofTemporaryShelterUnderConstruction]]+Table_Shelter[[#This Row],['#ofPermanentHouseUnderConstruction]])","v":60},{"$f":"IFERROR(VLOOKUP(Table_Shelter[[#This Row],[CampName]],CL,2,0),\"\")","v":"MMR001CMP001"},{"$f":"IFERROR(VLOOKUP(Table_Shelter[[#This Row],[CampName]],CL,3,0),\"\")","v":"Open"},{"$f":"IFERROR(Table_Shelter[[#This Row],[HHCovered]]/VLOOKUP(Table_Shelter[[#This Row],[CampName]],CL,4,0),\"\")","v":1.0714285714285714}]
["2013-10-31","UNHCR","KBC","Kachin","Myitkyina","Tat Kone Galile Baptist Church",1,null,null,20,20,null,null,null,null,{"$f":"Table_Shelter[[#This Row],[HHperShelter]]*(Table_Shelter[[#This Row],['#ofTemporaryShelterUnitsBuilt]]+Table_Shelter[[#This Row],['#ofTemporaryShelterUnderConstruction]]+Table_Shelter[[#This Row],['#ofPermanentHouseUnderConstruction]])","v":20},{"$f":"IFERROR(VLOOKUP(Table_Shelter[[#This Row],[CampName]],CL,2,0),\"\")","v":"MMR001CMP003"},{"$f":"IFERROR(VLOOKUP(Table_Shelter[[#This Row],[CampName]],CL,3,0),\"\")","v":"Open"},{"$f":"IFERROR(Table_Shelter[[#This Row],[HHCovered]]/VLOOKUP(Table_Shelter[[#This Row],[CampName]],CL,4,0),\"\")","v":0.66666666666666663}]
["2013-10-31","UNHCR","KBC","Kachin","Myitkyina","Tat Kone San Pya Baptist Church",1,null,null,10,10,null,null,null,null,{"$f":"Table_Shelter[[#This Row],[HHperShelter]]*(Table_Shelter[[#This Row],['#ofTemporaryShelterUnitsBuilt]]+Table_Shelter[[#This Row],['#ofTemporaryShelterUnderConstruction]]+Table_Shelter[[#This Row],['#ofPermanentHouseUnderConstruction]])","v":10},{"$f":"IFERROR(VLOOKUP(Table_Shelter[[#This Row],[CampName]],CL,2,0),\"\")","v":"MMR001CMP005"},{"$f":"IFERROR(VLOOKUP(Table_Shelter[[#This Row],[CampName]],CL,3,0),\"\")","v":"Open"},{"$f":"IFERROR(Table_Shelter[[#This Row],[HHCovered]]/VLOOKUP(Table_Shelter[[#This Row],[CampName]],CL,4,0),\"\")","v":0.23255813953488372}]
["2013-10-31","UNHCR","KBC","Shan_North","Namtu","Nam Tu Baptist",1,null,null,10,10,null,null,null,null,{"$f":"Table_Shelter[[#This Row],[HHperShelter]]*(Table_Shelter[[#This Row],['#ofTemporaryShelterUnitsBuilt]]+Table_Shelter[[#This Row],['#ofTemporaryShelterUnderConstruction]]+Table_Shelter[[#This Row],['#ofPermanentHouseUnderConstruction]])","v":10},{"$f":"IFERROR(VLOOKUP(Table_Shelter[[#This Row],[CampName]],CL,2,0),\"\")","v":"MMR015CMP014"},{"$f":"IFERROR(VLOOKUP(Table_Shelter[[#This Row],[CampName]],CL,3,0),\"\")","v":"Open"},{"$f":"IFERROR(Table_Shelter[[#This Row],[HHCovered]]/VLOOKUP(Table_Shelter[[#This Row],[CampName]],CL,4,0),\"\")","v":0.5}]
["2013-10-31","UNHCR","KBC","Kachin","Waingmaw","Maina KBC (Bawng Ring)",1,null,null,400,400,null,null,null,null,{"$f":"Table_Shelter[[#This Row],[HHperShelter]]*(Table_Shelter[[#This Row],['#ofTemporaryShelterUnitsBuilt]]+Table_Shelter[[#This Row],['#ofTemporaryShelterUnderConstruction]]+Table_Shelter[[#This Row],['#ofPermanentHouseUnderConstruction]])","v":400},{"$f":"IFERROR(VLOOKUP(Table_Shelter[[#This Row],[CampName]],CL,2,0),\"\")","v":"MMR001CMP040"},{"$f":"IFERROR(VLOOKUP(Table_Shelter[[#This Row],[CampName]],CL,3,0),\"\")","v":"Open"},{"$f":"IFERROR(Table_Shelter[[#This Row],[HHCovered]]/VLOOKUP(Table_Shelter[[#This Row],[CampName]],CL,4,0),\"\")","v":0.95238095238095233}]
["2013-10-31","UNHCR","KBC","Kachin","Waingmaw","Maina Lawang Baptist Church",1,null,null,30,30,null,null,null,null,{"$f":"Table_Shelter[[#This Row],[HHperShelter]]*(Table_Shelter[[#This Row],['#ofTemporaryShelterUnitsBuilt]]+Table_Shelter[[#This Row],['#ofTemporaryShelterUnderConstruction]]+Table_Shelter[[#This Row],['#ofPermanentHouseUnderConstruction]])","v":30},{"$f":"IFERROR(VLOOKUP(Table_Shelter[[#This Row],[CampName]],CL,2,0),\"\")","v":"MMR001CMP039"},{"$f":"IFERROR(VLOOKUP(Table_Shelter[[#This Row],[CampName]],CL,3,0),\"\")","v":"Open"},{"$f":"IFERROR(Table_Shelter[[#This Row],[HHCovered]]/VLOOKUP(Table_Shelter[[#This Row],[CampName]],CL,4,0),\"\")","v":0.61224489795918369}]
["2013-10-31","UNHCR","KBC","Kachin","Waingmaw","Pajau / Jan Mai",1,null,null,35,35,null,null,null,null,{"$f":"Table_Shelter[[#This Row],[HHperShelter]]*(Table_Shelter[[#This Row],['#ofTemporaryShelterUnitsBuilt]]+Table_Shelter[[#This Row],['#ofTemporaryShelterUnderConstruction]]+Table_Shelter[[#This Row],['#ofPermanentHouseUnderConstruction]])","v":35},{"$f":"IFERROR(VLOOKUP(Table_Shelter[[#This Row],[CampName]],CL,2,0),\"\")","v":"MMR001CMP120"},{"$f":"IFERROR(VLOOKUP(Table_Shelter[[#This Row],[CampName]],CL,3,0),\"\")","v":"Open"},{"$f":"IFERROR(Table_Shelter[[#This Row],[HHCovered]]/VLOOKUP(Table_Shelter[[#This Row],[CampName]],CL,4,0),\"\")","v":0.18817204301075269}]
["2013-10-31","UNHCR","KBC","Kachin","Waingmaw","Qtr. 2 Myoma Baptist Church",1,null,null,10,10,null,null,null,null,{"$f":"Table_Shelter[[#This Row],[HHperShelter]]*(Table_Shelter[[#This Row],['#ofTemporaryShelterUnitsBuilt]]+Table_Shelter[[#This Row],['#ofTemporaryShelterUnderConstruction]]+Table_Shelter[[#This Row],['#ofPermanentHouseUnderConstruction]])","v":10},{"$f":"IFERROR(VLOOKUP(Table_Shelter[[#This Row],[CampName]],CL,2,0),\"\")","v":"MMR001CMP025"},{"$f":"IFERROR(VLOOKUP(Table_Shelter[[#This Row],[CampName]],CL,3,0),\"\")","v":"Open"},{"$f":"IFERROR(Table_Shelter[[#This Row],[HHCovered]]/VLOOKUP(Table_Shelter[[#This Row],[CampName]],CL,4,0),\"\")","v":0.12048192771084337}]
["2013-10-31","UNHCR","KBC","Kachin","Waingmaw","Shing Jai",1,null,null,170,170,null,null,null,null,{"$f":"Table_Shelter[[#This Row],[HHperShelter]]*(Table_Shelter[[#This Row],['#ofTemporaryShelterUnitsBuilt]]+Table_Shelter[[#This Row],['#ofTemporaryShelterUnderConstruction]]+Table_Shelter[[#This Row],['#ofPermanentHouseUnderConstruction]])","v":170},{"$f":"IFERROR(VLOOKUP(Table_Shelter[[#This Row],[CampName]],CL,2,0),\"\")","v":"MMR001CMP041"},{"$f":"IFERROR(VLOOKUP(Table_Shelter[[#This Row],[CampName]],CL,3,0),\"\")","v":"Open"},{"$f":"IFERROR(Table_Shelter[[#This Row],[HHCovered]]/VLOOKUP(Table_Shelter[[#This Row],[CampName]],CL,4,0),\"\")","v":0.9042553191489362}]
["2013-10-31","UNHCR","KBC","Kachin","Waingmaw","Waingmaw Baptist Zonal Office",1,null,null,10,10,null,null,null,null,{"$f":"Table_Shelter[[#This Row],[HHperShelter]]*(Table_Shelter[[#This Row],['#ofTemporaryShelterUnitsBuilt]]+Table_Shelter[[#This Row],['#ofTemporaryShelterUnderConstruction]]+Table_Shelter[[#This Row],['#ofPermanentHouseUnderConstruction]])","v":10},{"$f":"IFERROR(VLOOKUP(Table_Shelter[[#This Row],[CampName]],CL,2,0),\"\")","v":"MMR001CMP036"},{"$f":"IFERROR(VLOOKUP(Table_Shelter[[#This Row],[CampName]],CL,3,0),\"\")","v":"Open"},{"$f":"IFERROR(Table_Shelter[[#This Row],[HHCovered]]/VLOOKUP(Table_Shelter[[#This Row],[CampName]],CL,4,0),\"\")","v":""}]
["2013-10-31","UNHCR","KBC","Kachin","Waingmaw","Zai Awng / Mung Ga Zup",1,null,null,325,325,null,null,null,null,{"$f":"Table_Shelter[[#This Row],[HHperShelter]]*(Table_Shelter[[#This Row],['#ofTemporaryShelterUnitsBuilt]]+Table_Shelter[[#This Row],['#ofTemporaryShelterUnderConstruction]]+Table_Shelter[[#This Row],['#ofPermanentHouseUnderConstruction]])","v":325},{"$f":"IFERROR(VLOOKUP(Table_Shelter[[#This Row],[CampName]],CL,2,0),\"\")","v":"MMR001CMP111"},{"$f":"IFERROR(VLOOKUP(Table_Shelter[[#This Row],[CampName]],CL,3,0),\"\")","v":"Open"},{"$f":"IFERROR(Table_Shelter[[#This Row],[HHCovered]]/VLOOKUP(Table_Shelter[[#This Row],[CampName]],CL,4,0),\"\")","v":0.52419354838709675}]
["2013-10-31","UNHCR","KBSS","Kachin","Bhamo","AD-2000 Tharthana Compound",1,null,null,144,144,null,null,null,null,{"$f":"Table_Shelter[[#This Row],[HHperShelter]]*(Table_Shelter[[#This Row],['#ofTemporaryShelterUnitsBuilt]]+Table_Shelter[[#This Row],['#ofTemporaryShelterUnderConstruction]]+Table_Shelter[[#This Row],['#ofPermanentHouseUnderConstruction]])","v":144},{"$f":"IFERROR(VLOOKUP(Table_Shelter[[#This Row],[CampName]],CL,2,0),\"\")","v":"MMR001CMP050"},{"$f":"IFERROR(VLOOKUP(Table_Shelter[[#This Row],[CampName]],CL,3,0),\"\")","v":"Open"},{"$f":"IFERROR(Table_Shelter[[#This Row],[HHCovered]]/VLOOKUP(Table_Shelter[[#This Row],[CampName]],CL,4,0),\"\")","v":0.61538461538461542}]
["2013-10-31","UNHCR","KBSS","Kachin","Mansi","Lana Zup Ja ",1,null,null,350,350,null,null,null,null,{"$f":"Table_Shelter[[#This Row],[HHperShelter]]*(Table_Shelter[[#This Row],['#ofTemporaryShelterUnitsBuilt]]+Table_Shelter[[#This Row],['#ofTemporaryShelterUnderConstruction]]+Table_Shelter[[#This Row],['#ofPermanentHouseUnderConstruction]])","v":350},{"$f":"IFERROR(VLOOKUP(Table_Shelter[[#This Row],[CampName]],CL,2,0),\"\")","v":"MMR001CMP128"},{"$f":"IFERROR(VLOOKUP(Table_Shelter[[#This Row],[CampName]],CL,3,0),\"\")","v":"Open"},{"$f":"IFERROR(Table_Shelter[[#This Row],[HHCovered]]/VLOOKUP(Table_Shelter[[#This Row],[CampName]],CL,4,0),\"\")","v":0.63520871143375679}]
["2013-10-31","UNHCR","KBSS","Kachin","Mansi","Nam Lim Pa",1,null,null,36,36,null,null,null,null,{"$f":"Table_Shelter[[#This Row],[HHperShelter]]*(Table_Shelter[[#This Row],['#ofTemporaryShelterUnitsBuilt]]+Table_Shelter[[#This Row],['#ofTemporaryShelterUnderConstruction]]+Table_Shelter[[#This Row],['#ofPermanentHouseUnderConstruction]])","v":36},{"$f":"IFERROR(VLOOKUP(Table_Shelter[[#This Row],[CampName]],CL,2,0),\"\")","v":"MMR001CMP204"},{"$f":"IFERROR(VLOOKUP(Table_Shelter[[#This Row],[CampName]],CL,3,0),\"\")","v":"Closed"},{"$f":"IFERROR(Table_Shelter[[#This Row],[HHCovered]]/VLOOKUP(Table_Shelter[[#This Row],[CampName]],CL,4,0),\"\")","v":""}]
["2013-10-31","UNHCR","KBSS","Kachin","Momauk","Je Yang Hka ",1,null,null,237,237,null,null,null,null,{"$f":"Table_Shelter[[#This Row],[HHperShelter]]*(Table_Shelter[[#This Row],['#ofTemporaryShelterUnitsBuilt]]+Table_Shelter[[#This Row],['#ofTemporaryShelterUnderConstruction]]+Table_Shelter[[#This Row],['#ofPermanentHouseUnderConstruction]])","v":237},{"$f":"IFERROR(VLOOKUP(Table_Shelter[[#This Row],[CampName]],CL,2,0),\"\")","v":"MMR001CMP121"},{"$f":"IFERROR(VLOOKUP(Table_Shelter[[#This Row],[CampName]],CL,3,0),\"\")","v":"Open"},{"$f":"IFERROR(Table_Shelter[[#This Row],[HHCovered]]/VLOOKUP(Table_Shelter[[#This Row],[CampName]],CL,4,0),\"\")","v":0.14040284360189573}]
["2013-10-31","UNHCR","KBSS","Kachin","Momauk","Man Bung Catholic compound",1,null,null,20,20,null,null,null,null,{"$f":"Table_Shelter[[#This Row],[HHperShelter]]*(Table_Shelter[[#This Row],['#ofTemporaryShelterUnitsBuilt]]+Table_Shelter[[#This Row],['#ofTemporaryShelterUnderConstruction]]+Table_Shelter[[#This Row],['#ofPermanentHouseUnderConstruction]])","v":20},{"$f":"IFERROR(VLOOKUP(Table_Shelter[[#This Row],[CampName]],CL,2,0),\"\")","v":"MMR001CMP062"},{"$f":"IFERROR(VLOOKUP(Table_Shelter[[#This Row],[CampName]],CL,3,0),\"\")","v":"Open"},{"$f":"IFERROR(Table_Shelter[[#This Row],[HHCovered]]/VLOOKUP(Table_Shelter[[#This Row],[CampName]],CL,4,0),\"\")","v":0.17094017094017094}]
["2013-10-31","UNHCR","KBSS","Kachin","Momauk","Pa Kahtawng ",1,null,null,120,120,null,null,null,null,{"$f":"Table_Shelter[[#This Row],[HHperShelter]]*(Table_Shelter[[#This Row],['#ofTemporaryShelterUnitsBuilt]]+Table_Shelter[[#This Row],['#ofTemporaryShelterUnderConstruction]]+Table_Shelter[[#This Row],['#ofPermanentHouseUnderConstruction]])","v":120},{"$f":"IFERROR(VLOOKUP(Table_Shelter[[#This Row],[CampName]],CL,2,0),\"\")","v":"MMR001CMP126"},{"$f":"IFERROR(VLOOKUP(Table_Shelter[[#This Row],[CampName]],CL,3,0),\"\")","v":"Open"},{"$f":"IFERROR(Table_Shelter[[#This Row],[HHCovered]]/VLOOKUP(Table_Shelter[[#This Row],[CampName]],CL,4,0),\"\")","v":0.23255813953488372}]
["2013-10-31","UNHCR","KBSS","Kachin","Shwegu","Shwe Gu Catholic Church",1,null,null,10,10,null,null,null,null,{"$f":"Table_Shelter[[#This Row],[HHperShelter]]*(Table_Shelter[[#This Row],['#ofTemporaryShelterUnitsBuilt]]+Table_Shelter[[#This Row],['#ofTemporaryShelterUnderConstruction]]+Table_Shelter[[#This Row],['#ofPermanentHouseUnderConstruction]])","v":10},{"$f":"IFERROR(VLOOKUP(Table_Shelter[[#This Row],[CampName]],CL,2,0),\"\")","v":"MMR001CMP068"},{"$f":"IFERROR(VLOOKUP(Table_Shelter[[#This Row],[CampName]],CL,3,0),\"\")","v":"Open"},{"$f":"IFERROR(Table_Shelter[[#This Row],[HHCovered]]/VLOOKUP(Table_Shelter[[#This Row],[CampName]],CL,4,0),\"\")","v":0.21276595744680851}]
["2013-10-31","UNHCR","KMSS","Kachin","Mansi","Man Wing Catholic Church",1,null,null,200,200,null,null,null,null,{"$f":"Table_Shelter[[#This Row],[HHperShelter]]*(Table_Shelter[[#This Row],['#ofTemporaryShelterUnitsBuilt]]+Table_Shelter[[#This Row],['#ofTemporaryShelterUnderConstruction]]+Table_Shelter[[#This Row],['#ofPermanentHouseUnderConstruction]])","v":200},{"$f":"IFERROR(VLOOKUP(Table_Shelter[[#This Row],[CampName]],CL,2,0),\"\")","v":"MMR001CMP132"},{"$f":"IFERROR(VLOOKUP(Table_Shelter[[#This Row],[CampName]],CL,3,0),\"\")","v":"Open"},{"$f":"IFERROR(Table_Shelter[[#This Row],[HHCovered]]/VLOOKUP(Table_Shelter[[#This Row],[CampName]],CL,4,0),\"\")","v":0.49627791563275436}]
["2013-10-31","UNHCR","KMSS","Kachin","Momauk","Dum Bung ",1,null,null,123,123,null,null,null,null,{"$f":"Table_Shelter[[#This Row],[HHperShelter]]*(Table_Shelter[[#This Row],['#ofTemporaryShelterUnitsBuilt]]+Table_Shelter[[#This Row],['#ofTemporaryShelterUnderConstruction]]+Table_Shelter[[#This Row],['#ofPermanentHouseUnderConstruction]])","v":123},{"$f":"IFERROR(VLOOKUP(Table_Shelter[[#This Row],[CampName]],CL,2,0),\"\")","v":"MMR001CMP123"},{"$f":"IFERROR(VLOOKUP(Table_Shelter[[#This Row],[CampName]],CL,3,0),\"\")","v":"Open"},{"$f":"IFERROR(Table_Shelter[[#This Row],[HHCovered]]/VLOOKUP(Table_Shelter[[#This Row],[CampName]],CL,4,0),\"\")","v":1.0336134453781514}]
["2013-10-31","UNHCR","KMSS","Kachin","Myitkyina","Jan Mai Kawng Catholic Church",1,null,null,20,20,null,null,null,null,{"$f":"Table_Shelter[[#This Row],[HHperShelter]]*(Table_Shelter[[#This Row],['#ofTemporaryShelterUnitsBuilt]]+Table_Shelter[[#This Row],['#ofTemporaryShelterUnderConstruction]]+Table_Shelter[[#This Row],['#ofPermanentHouseUnderConstruction]])","v":20},{"$f":"IFERROR(VLOOKUP(Table_Shelter[[#This Row],[CampName]],CL,2,0),\"\")","v":"MMR001CMP019"},{"$f":"IFERROR(VLOOKUP(Table_Shelter[[#This Row],[CampName]],CL,3,0),\"\")","v":"Open"},{"$f":"IFERROR(Table_Shelter[[#This Row],[HHCovered]]/VLOOKUP(Table_Shelter[[#This Row],[CampName]],CL,4,0),\"\")","v":0.17699115044247787}]
["2013-10-31","UNHCR","KMSS","Kachin","Myitkyina","Nan Kway St. John Catholic Church",1,null,null,21,21,null,null,null,null,{"$f":"Table_Shelter[[#This Row],[HHperShelter]]*(Table_Shelter[[#This Row],['#ofTemporaryShelterUnitsBuilt]]+Table_Shelter[[#This Row],['#ofTemporaryShelterUnderConstruction]]+Table_Shelter[[#This Row],['#ofPermanentHouseUnderConstruction]])","v":21},{"$f":"IFERROR(VLOOKUP(Table_Shelter[[#This Row],[CampName]],CL,2,0),\"\")","v":"MMR001CMP024"},{"$f":"IFERROR(VLOOKUP(Table_Shelter[[#This Row],[CampName]],CL,3,0),\"\")","v":"Open"},{"$f":"IFERROR(Table_Shelter[[#This Row],[HHCovered]]/VLOOKUP(Table_Shelter[[#This Row],[CampName]],CL,4,0),\"\")","v":0.29166666666666669}]
["2013-10-31","UNHCR","KMSS","Kachin","Waingmaw","Border Post 8",1,null,null,237,237,null,null,null,null,{"$f":"Table_Shelter[[#This Row],[HHperShelter]]*(Table_Shelter[[#This Row],['#ofTemporaryShelterUnitsBuilt]]+Table_Shelter[[#This Row],['#ofTemporaryShelterUnderConstruction]]+Table_Shelter[[#This Row],['#ofPermanentHouseUnderConstruction]])","v":237},{"$f":"IFERROR(VLOOKUP(Table_Shelter[[#This Row],[CampName]],CL,2,0),\"\")","v":"MMR001CMP113"},{"$f":"IFERROR(VLOOKUP(Table_Shelter[[#This Row],[CampName]],CL,3,0),\"\")","v":"Open"},{"$f":"IFERROR(Table_Shelter[[#This Row],[HHCovered]]/VLOOKUP(Table_Shelter[[#This Row],[CampName]],CL,4,0),\"\")","v":1.3859649122807018}]
["2013-10-31","UNHCR","KMSS","Kachin","Waingmaw","Maina Catholic Church (St. Joseph)",1,null,null,78,78,null,null,null,null,{"$f":"Table_Shelter[[#This Row],[HHperShelter]]*(Table_Shelter[[#This Row],['#ofTemporaryShelterUnitsBuilt]]+Table_Shelter[[#This Row],['#ofTemporaryShelterUnderConstruction]]+Table_Shelter[[#This Row],['#ofPermanentHouseUnderConstruction]])","v":78},{"$f":"IFERROR(VLOOKUP(Table_Shelter[[#This Row],[CampName]],CL,2,0),\"\")","v":"MMR001CMP029"},{"$f":"IFERROR(VLOOKUP(Table_Shelter[[#This Row],[CampName]],CL,3,0),\"\")","v":"Open"},{"$f":"IFERROR(Table_Shelter[[#This Row],[HHCovered]]/VLOOKUP(Table_Shelter[[#This Row],[CampName]],CL,4,0),\"\")","v":0.33620689655172414}]
["2013-10-31","UNHCR","Metta","Kachin","Mansi","Mansi Baptist Church",1,null,null,30,30,null,null,null,null,{"$f":"Table_Shelter[[#This Row],[HHperShelter]]*(Table_Shelter[[#This Row],['#ofTemporaryShelterUnitsBuilt]]+Table_Shelter[[#This Row],['#ofTemporaryShelterUnderConstruction]]+Table_Shelter[[#This Row],['#ofPermanentHouseUnderConstruction]])","v":30},{"$f":"IFERROR(VLOOKUP(Table_Shelter[[#This Row],[CampName]],CL,2,0),\"\")","v":"MMR001CMP066"},{"$f":"IFERROR(VLOOKUP(Table_Shelter[[#This Row],[CampName]],CL,3,0),\"\")","v":"Open"},{"$f":"IFERROR(Table_Shelter[[#This Row],[HHCovered]]/VLOOKUP(Table_Shelter[[#This Row],[CampName]],CL,4,0),\"\")","v":0.32258064516129031}]
["2013-10-31","UNHCR","Metta","Kachin","Momauk","Ni Thaw Ka Monestry",1,null,null,18,18,null,null,null,null,{"$f":"Table_Shelter[[#This Row],[HHperShelter]]*(Table_Shelter[[#This Row],['#ofTemporaryShelterUnitsBuilt]]+Table_Shelter[[#This Row],['#ofTemporaryShelterUnderConstruction]]+Table_Shelter[[#This Row],['#ofPermanentHouseUnderConstruction]])","v":18},{"$f":"IFERROR(VLOOKUP(Table_Shelter[[#This Row],[CampName]],CL,2,0),\"\")","v":"MMR001CMP059"},{"$f":"IFERROR(VLOOKUP(Table_Shelter[[#This Row],[CampName]],CL,3,0),\"\")","v":"Open"},{"$f":"IFERROR(Table_Shelter[[#This Row],[HHCovered]]/VLOOKUP(Table_Shelter[[#This Row],[CampName]],CL,4,0),\"\")","v":0.78260869565217395}]
["2013-10-31","UNHCR","SHALOM","Kachin","Bhamo","Robert Church",1,null,null,30,30,null,null,null,null,{"$f":"Table_Shelter[[#This Row],[HHperShelter]]*(Table_Shelter[[#This Row],['#ofTemporaryShelterUnitsBuilt]]+Table_Shelter[[#This Row],['#ofTemporaryShelterUnderConstruction]]+Table_Shelter[[#This Row],['#ofPermanentHouseUnderConstruction]])","v":30},{"$f":"IFERROR(VLOOKUP(Table_Shelter[[#This Row],[CampName]],CL,2,0),\"\")","v":"MMR001CMP047"},{"$f":"IFERROR(VLOOKUP(Table_Shelter[[#This Row],[CampName]],CL,3,0),\"\")","v":"Open"},{"$f":"IFERROR(Table_Shelter[[#This Row],[HHCovered]]/VLOOKUP(Table_Shelter[[#This Row],[CampName]],CL,4,0),\"\")","v":5.3763440860215055E-2}]
["2013-10-31","UNHCR","SHALOM","Kachin","Chipwi","Lhaovao Baptist Church (LBC)",1,null,null,70,70,null,null,null,null,{"$f":"Table_Shelter[[#This Row],[HHperShelter]]*(Table_Shelter[[#This Row],['#ofTemporaryShelterUnitsBuilt]]+Table_Shelter[[#This Row],['#ofTemporaryShelterUnderConstruction]]+Table_Shelter[[#This Row],['#ofPermanentHouseUnderConstruction]])","v":70},{"$f":"IFERROR(VLOOKUP(Table_Shelter[[#This Row],[CampName]],CL,2,0),\"\")","v":"MMR001CMP195"},{"$f":"IFERROR(VLOOKUP(Table_Shelter[[#This Row],[CampName]],CL,3,0),\"\")","v":"Open"},{"$f":"IFERROR(Table_Shelter[[#This Row],[HHCovered]]/VLOOKUP(Table_Shelter[[#This Row],[CampName]],CL,4,0),\"\")","v":0.51094890510948909}]
["2013-10-31","UNHCR","SHALOM","Kachin","Hpakant","Mashi Kahtawng Baptist  Church",1,null,null,10,10,null,null,null,null,{"$f":"Table_Shelter[[#This Row],[HHperShelter]]*(Table_Shelter[[#This Row],['#ofTemporaryShelterUnitsBuilt]]+Table_Shelter[[#This Row],['#ofTemporaryShelterUnderConstruction]]+Table_Shelter[[#This Row],['#ofPermanentHouseUnderConstruction]])","v":10},{"$f":"IFERROR(VLOOKUP(Table_Shelter[[#This Row],[CampName]],CL,2,0),\"\")","v":"MMR001CMP094"},{"$f":"IFERROR(VLOOKUP(Table_Shelter[[#This Row],[CampName]],CL,3,0),\"\")","v":"Closed"},{"$f":"IFERROR(Table_Shelter[[#This Row],[HHCovered]]/VLOOKUP(Table_Shelter[[#This Row],[CampName]],CL,4,0),\"\")","v":""}]
["2013-10-31","UNHCR","SHALOM","Kachin","Hpakant","Maw Wan, Mu-yin Baptist Church",1,null,null,10,10,null,null,null,null,{"$f":"Table_Shelter[[#This Row],[HHperShelter]]*(Table_Shelter[[#This Row],['#ofTemporaryShelterUnitsBuilt]]+Table_Shelter[[#This Row],['#ofTemporaryShelterUnderConstruction]]+Table_Shelter[[#This Row],['#ofPermanentHouseUnderConstruction]])","v":10},{"$f":"IFERROR(VLOOKUP(Table_Shelter[[#This Row],[CampName]],CL,2,0),\"\")","v":"MMR001CMP091"},{"$f":"IFERROR(VLOOKUP(Table_Shelter[[#This Row],[CampName]],CL,3,0),\"\")","v":"Open"},{"$f":"IFERROR(Table_Shelter[[#This Row],[HHCovered]]/VLOOKUP(Table_Shelter[[#This Row],[CampName]],CL,4,0),\"\")","v":2.5}]
["2013-10-31","UNHCR","SHALOM","Kachin","Hpakant","Nga Pyaw Taw Baptist Nursery School ",1,null,null,20,20,null,null,null,null,{"$f":"Table_Shelter[[#This Row],[HHperShelter]]*(Table_Shelter[[#This Row],['#ofTemporaryShelterUnitsBuilt]]+Table_Shelter[[#This Row],['#ofTemporaryShelterUnderConstruction]]+Table_Shelter[[#This Row],['#ofPermanentHouseUnderConstruction]])","v":20},{"$f":"IFERROR(VLOOKUP(Table_Shelter[[#This Row],[CampName]],CL,2,0),\"\")","v":"MMR001CMP082"},{"$f":"IFERROR(VLOOKUP(Table_Shelter[[#This Row],[CampName]],CL,3,0),\"\")","v":"Open"},{"$f":"IFERROR(Table_Shelter[[#This Row],[HHCovered]]/VLOOKUP(Table_Shelter[[#This Row],[CampName]],CL,4,0),\"\")","v":0.19801980198019803}]
["2013-10-31","UNHCR","SHALOM","Kachin","Hpakant","Yumar Baptist Church",1,null,null,10,10,null,null,null,null,{"$f":"Table_Shelter[[#This Row],[HHperShelter]]*(Table_Shelter[[#This Row],['#ofTemporaryShelterUnitsBuilt]]+Table_Shelter[[#This Row],['#ofTemporaryShelterUnderConstruction]]+Table_Shelter[[#This Row],['#ofPermanentHouseUnderConstruction]])","v":10},{"$f":"IFERROR(VLOOKUP(Table_Shelter[[#This Row],[CampName]],CL,2,0),\"\")","v":"MMR001CMP105"},{"$f":"IFERROR(VLOOKUP(Table_Shelter[[#This Row],[CampName]],CL,3,0),\"\")","v":"Open"},{"$f":"IFERROR(Table_Shelter[[#This Row],[HHCovered]]/VLOOKUP(Table_Shelter[[#This Row],[CampName]],CL,4,0),\"\")","v":0.25}]
["2013-10-31","UNHCR","SHALOM","Kachin","Myitkyina","Maw Hpawng Hka Nan Baptist Church",1,null,null,12,12,null,null,null,null,{"$f":"Table_Shelter[[#This Row],[HHperShelter]]*(Table_Shelter[[#This Row],['#ofTemporaryShelterUnitsBuilt]]+Table_Shelter[[#This Row],['#ofTemporaryShelterUnderConstruction]]+Table_Shelter[[#This Row],['#ofPermanentHouseUnderConstruction]])","v":12},{"$f":"IFERROR(VLOOKUP(Table_Shelter[[#This Row],[CampName]],CL,2,0),\"\")","v":"MMR001CMP020"},{"$f":"IFERROR(VLOOKUP(Table_Shelter[[#This Row],[CampName]],CL,3,0),\"\")","v":"Open"},{"$f":"IFERROR(Table_Shelter[[#This Row],[HHCovered]]/VLOOKUP(Table_Shelter[[#This Row],[CampName]],CL,4,0),\"\")","v":0.46153846153846156}]
["2013-10-31","UNHCR","SHALOM","Kachin","Myitkyina","Maw Hpawng Lhaovo Baptist Church",1,null,null,19,19,null,null,null,null,{"$f":"Table_Shelter[[#This Row],[HHperShelter]]*(Table_Shelter[[#This Row],['#ofTemporaryShelterUnitsBuilt]]+Table_Shelter[[#This Row],['#ofTemporaryShelterUnderConstruction]]+Table_Shelter[[#This Row],['#ofPermanentHouseUnderConstruction]])","v":19},{"$f":"IFERROR(VLOOKUP(Table_Shelter[[#This Row],[CampName]],CL,2,0),\"\")","v":"MMR001CMP021"},{"$f":"IFERROR(VLOOKUP(Table_Shelter[[#This Row],[CampName]],CL,3,0),\"\")","v":"Open"},{"$f":"IFERROR(Table_Shelter[[#This Row],[HHCovered]]/VLOOKUP(Table_Shelter[[#This Row],[CampName]],CL,4,0),\"\")","v":0.90476190476190477}]
["2013-10-31","UNHCR","SHALOM","Kachin","Myitkyina","Tat Kone COC Baptist / Tat Kone Htoi San",1,null,null,20,20,null,null,null,null,{"$f":"Table_Shelter[[#This Row],[HHperShelter]]*(Table_Shelter[[#This Row],['#ofTemporaryShelterUnitsBuilt]]+Table_Shelter[[#This Row],['#ofTemporaryShelterUnderConstruction]]+Table_Shelter[[#This Row],['#ofPermanentHouseUnderConstruction]])","v":20},{"$f":"IFERROR(VLOOKUP(Table_Shelter[[#This Row],[CampName]],CL,2,0),\"\")","v":"MMR001CMP023"},{"$f":"IFERROR(VLOOKUP(Table_Shelter[[#This Row],[CampName]],CL,3,0),\"\")","v":"Open"},{"$f":"IFERROR(Table_Shelter[[#This Row],[HHCovered]]/VLOOKUP(Table_Shelter[[#This Row],[CampName]],CL,4,0),\"\")","v":0.28985507246376813}]
["2013-10-31","UNHCR","SHALOM","Kachin","Myitkyina","Tat Kone Emanuel Church",1,null,null,10,10,null,null,null,null,{"$f":"Table_Shelter[[#This Row],[HHperShelter]]*(Table_Shelter[[#This Row],['#ofTemporaryShelterUnitsBuilt]]+Table_Shelter[[#This Row],['#ofTemporaryShelterUnderConstruction]]+Table_Shelter[[#This Row],['#ofPermanentHouseUnderConstruction]])","v":10},{"$f":"IFERROR(VLOOKUP(Table_Shelter[[#This Row],[CampName]],CL,2,0),\"\")","v":"MMR001CMP004"},{"$f":"IFERROR(VLOOKUP(Table_Shelter[[#This Row],[CampName]],CL,3,0),\"\")","v":"Open"},{"$f":"IFERROR(Table_Shelter[[#This Row],[HHCovered]]/VLOOKUP(Table_Shelter[[#This Row],[CampName]],CL,4,0),\"\")","v":0.7142857142857143}]
["2013-10-31","UNHCR","SHALOM","Kachin","Myitkyina","Wun Tho Buddhist Monastery",1,null,null,24,24,null,null,null,null,{"$f":"Table_Shelter[[#This Row],[HHperShelter]]*(Table_Shelter[[#This Row],['#ofTemporaryShelterUnitsBuilt]]+Table_Shelter[[#This Row],['#ofTemporaryShelterUnderConstruction]]+Table_Shelter[[#This Row],['#ofPermanentHouseUnderConstruction]])","v":24},{"$f":"IFERROR(VLOOKUP(Table_Shelter[[#This Row],[CampName]],CL,2,0),\"\")","v":"MMR001CMP022"},{"$f":"IFERROR(VLOOKUP(Table_Shelter[[#This Row],[CampName]],CL,3,0),\"\")","v":"Open"},{"$f":"IFERROR(Table_Shelter[[#This Row],[HHCovered]]/VLOOKUP(Table_Shelter[[#This Row],[CampName]],CL,4,0),\"\")","v":4}]
["2013-10-31","UNHCR","SHALOM","Kachin","Waingmaw","Hkat Cho ",1,null,null,50,50,null,null,null,null,{"$f":"Table_Shelter[[#This Row],[HHperShelter]]*(Table_Shelter[[#This Row],['#ofTemporaryShelterUnitsBuilt]]+Table_Shelter[[#This Row],['#ofTemporaryShelterUnderConstruction]]+Table_Shelter[[#This Row],['#ofPermanentHouseUnderConstruction]])","v":50},{"$f":"IFERROR(VLOOKUP(Table_Shelter[[#This Row],[CampName]],CL,2,0),\"\")","v":"MMR001CMP028"},{"$f":"IFERROR(VLOOKUP(Table_Shelter[[#This Row],[CampName]],CL,3,0),\"\")","v":"Open"},{"$f":"IFERROR(Table_Shelter[[#This Row],[HHCovered]]/VLOOKUP(Table_Shelter[[#This Row],[CampName]],CL,4,0),\"\")","v":0.37313432835820898}]
["2013-10-31","UNHCR","SHALOM","Kachin","Waingmaw","Mading Baptist Church",1,null,null,25,25,null,null,null,null,{"$f":"Table_Shelter[[#This Row],[HHperShelter]]*(Table_Shelter[[#This Row],['#ofTemporaryShelterUnitsBuilt]]+Table_Shelter[[#This Row],['#ofTemporaryShelterUnderConstruction]]+Table_Shelter[[#This Row],['#ofPermanentHouseUnderConstruction]])","v":25},{"$f":"IFERROR(VLOOKUP(Table_Shelter[[#This Row],[CampName]],CL,2,0),\"\")","v":"MMR001CMP027"},{"$f":"IFERROR(VLOOKUP(Table_Shelter[[#This Row],[CampName]],CL,3,0),\"\")","v":"Open"},{"$f":"IFERROR(Table_Shelter[[#This Row],[HHCovered]]/VLOOKUP(Table_Shelter[[#This Row],[CampName]],CL,4,0),\"\")","v":1.0869565217391304}]
["2013-10-31","UNHCR","SHALOM","Kachin","Waingmaw","Maina AG Church",1,null,null,27,27,null,null,null,null,{"$f":"Table_Shelter[[#This Row],[HHperShelter]]*(Table_Shelter[[#This Row],['#ofTemporaryShelterUnitsBuilt]]+Table_Shelter[[#This Row],['#ofTemporaryShelterUnderConstruction]]+Table_Shelter[[#This Row],['#ofPermanentHouseUnderConstruction]])","v":27},{"$f":"IFERROR(VLOOKUP(Table_Shelter[[#This Row],[CampName]],CL,2,0),\"\")","v":"MMR001CMP031"},{"$f":"IFERROR(VLOOKUP(Table_Shelter[[#This Row],[CampName]],CL,3,0),\"\")","v":"Open"},{"$f":"IFERROR(Table_Shelter[[#This Row],[HHCovered]]/VLOOKUP(Table_Shelter[[#This Row],[CampName]],CL,4,0),\"\")","v":0.19148936170212766}]
["2013-10-31","UNHCR","SHALOM","Kachin","Waingmaw","Qtr. 2 Lhaovo Baptist Church",1,null,null,45,45,null,null,null,null,{"$f":"Table_Shelter[[#This Row],[HHperShelter]]*(Table_Shelter[[#This Row],['#ofTemporaryShelterUnitsBuilt]]+Table_Shelter[[#This Row],['#ofTemporaryShelterUnderConstruction]]+Table_Shelter[[#This Row],['#ofPermanentHouseUnderConstruction]])","v":45},{"$f":"IFERROR(VLOOKUP(Table_Shelter[[#This Row],[CampName]],CL,2,0),\"\")","v":"MMR001CMP032"},{"$f":"IFERROR(VLOOKUP(Table_Shelter[[#This Row],[CampName]],CL,3,0),\"\")","v":"Open"},{"$f":"IFERROR(Table_Shelter[[#This Row],[HHCovered]]/VLOOKUP(Table_Shelter[[#This Row],[CampName]],CL,4,0),\"\")","v":0.375}]
["2013-10-31","UNHCR","SHALOM","Kachin","Waingmaw","Qtr. 3 Mu-yin  Baptist Church",1,null,null,18,18,null,null,null,null,{"$f":"Table_Shelter[[#This Row],[HHperShelter]]*(Table_Shelter[[#This Row],['#ofTemporaryShelterUnitsBuilt]]+Table_Shelter[[#This Row],['#ofTemporaryShelterUnderConstruction]]+Table_Shelter[[#This Row],['#ofPermanentHouseUnderConstruction]])","v":18},{"$f":"IFERROR(VLOOKUP(Table_Shelter[[#This Row],[CampName]],CL,2,0),\"\")","v":"MMR001CMP030"},{"$f":"IFERROR(VLOOKUP(Table_Shelter[[#This Row],[CampName]],CL,3,0),\"\")","v":"Open"},{"$f":"IFERROR(Table_Shelter[[#This Row],[HHCovered]]/VLOOKUP(Table_Shelter[[#This Row],[CampName]],CL,4,0),\"\")","v":0.6}]
["2013-10-31","UNHCR","SHALOM","Kachin","Waingmaw","Qtr. 4 Monestry (Thargaya Thayett Taw)",1,null,null,100,100,null,null,null,null,{"$f":"Table_Shelter[[#This Row],[HHperShelter]]*(Table_Shelter[[#This Row],['#ofTemporaryShelterUnitsBuilt]]+Table_Shelter[[#This Row],['#ofTemporaryShelterUnderConstruction]]+Table_Shelter[[#This Row],['#ofPermanentHouseUnderConstruction]])","v":100},{"$f":"IFERROR(VLOOKUP(Table_Shelter[[#This Row],[CampName]],CL,2,0),\"\")","v":"MMR001CMP026"},{"$f":"IFERROR(VLOOKUP(Table_Shelter[[#This Row],[CampName]],CL,3,0),\"\")","v":"Open"},{"$f":"IFERROR(Table_Shelter[[#This Row],[HHCovered]]/VLOOKUP(Table_Shelter[[#This Row],[CampName]],CL,4,0),\"\")","v":0.99009900990099009}]
["2013-10-31","UNHCR","SHALOM","Kachin","Waingmaw","Thargaya Lisu Baptist Church",1,null,null,45,45,null,null,null,null,{"$f":"Table_Shelter[[#This Row],[HHperShelter]]*(Table_Shelter[[#This Row],['#ofTemporaryShelterUnitsBuilt]]+Table_Shelter[[#This Row],['#ofTemporaryShelterUnderConstruction]]+Table_Shelter[[#This Row],['#ofPermanentHouseUnderConstruction]])","v":45},{"$f":"IFERROR(VLOOKUP(Table_Shelter[[#This Row],[CampName]],CL,2,0),\"\")","v":"MMR001CMP037"},{"$f":"IFERROR(VLOOKUP(Table_Shelter[[#This Row],[CampName]],CL,3,0),\"\")","v":"Open"},{"$f":"IFERROR(Table_Shelter[[#This Row],[HHCovered]]/VLOOKUP(Table_Shelter[[#This Row],[CampName]],CL,4,0),\"\")","v":0.60810810810810811}]
["2013-10-31","UNHCR","SHALOM","Kachin","Waingmaw","Waingmaw AG Church",1,null,null,28,28,null,null,null,null,{"$f":"Table_Shelter[[#This Row],[HHperShelter]]*(Table_Shelter[[#This Row],['#ofTemporaryShelterUnitsBuilt]]+Table_Shelter[[#This Row],['#ofTemporaryShelterUnderConstruction]]+Table_Shelter[[#This Row],['#ofPermanentHouseUnderConstruction]])","v":28},{"$f":"IFERROR(VLOOKUP(Table_Shelter[[#This Row],[CampName]],CL,2,0),\"\")","v":"MMR001CMP038"},{"$f":"IFERROR(VLOOKUP(Table_Shelter[[#This Row],[CampName]],CL,3,0),\"\")","v":"Open"},{"$f":"IFERROR(Table_Shelter[[#This Row],[HHCovered]]/VLOOKUP(Table_Shelter[[#This Row],[CampName]],CL,4,0),\"\")","v":0.34567901234567899}]
["2013-10-31","UNHCR","UNHCR","Kachin","Bhamo","AD-2000 Tharthana Compound",1,null,null,20,20,null,null,null,null,{"$f":"Table_Shelter[[#This Row],[HHperShelter]]*(Table_Shelter[[#This Row],['#ofTemporaryShelterUnitsBuilt]]+Table_Shelter[[#This Row],['#ofTemporaryShelterUnderConstruction]]+Table_Shelter[[#This Row],['#ofPermanentHouseUnderConstruction]])","v":20},{"$f":"IFERROR(VLOOKUP(Table_Shelter[[#This Row],[CampName]],CL,2,0),\"\")","v":"MMR001CMP050"},{"$f":"IFERROR(VLOOKUP(Table_Shelter[[#This Row],[CampName]],CL,3,0),\"\")","v":"Open"},{"$f":"IFERROR(Table_Shelter[[#This Row],[HHCovered]]/VLOOKUP(Table_Shelter[[#This Row],[CampName]],CL,4,0),\"\")","v":8.5470085470085472E-2}]
["2013-10-31","UNHCR","UNHCR","Kachin","Bhamo","Lisu Boarding-House",1,null,null,15,15,null,null,null,null,{"$f":"Table_Shelter[[#This Row],[HHperShelter]]*(Table_Shelter[[#This Row],['#ofTemporaryShelterUnitsBuilt]]+Table_Shelter[[#This Row],['#ofTemporaryShelterUnderConstruction]]+Table_Shelter[[#This Row],['#ofPermanentHouseUnderConstruction]])","v":15},{"$f":"IFERROR(VLOOKUP(Table_Shelter[[#This Row],[CampName]],CL,2,0),\"\")","v":"MMR001CMP049"},{"$f":"IFERROR(VLOOKUP(Table_Shelter[[#This Row],[CampName]],CL,3,0),\"\")","v":"Open"},{"$f":"IFERROR(Table_Shelter[[#This Row],[HHCovered]]/VLOOKUP(Table_Shelter[[#This Row],[CampName]],CL,4,0),\"\")","v":0.22058823529411764}]
["2013-10-31","UNHCR","UNHCR","Kachin","Bhamo","Nant Hlaing Church",1,null,null,10,10,null,null,null,null,{"$f":"Table_Shelter[[#This Row],[HHperShelter]]*(Table_Shelter[[#This Row],['#ofTemporaryShelterUnitsBuilt]]+Table_Shelter[[#This Row],['#ofTemporaryShelterUnderConstruction]]+Table_Shelter[[#This Row],['#ofPermanentHouseUnderConstruction]])","v":10},{"$f":"IFERROR(VLOOKUP(Table_Shelter[[#This Row],[CampName]],CL,2,0),\"\")","v":"MMR001CMP054"},{"$f":"IFERROR(VLOOKUP(Table_Shelter[[#This Row],[CampName]],CL,3,0),\"\")","v":"Open"},{"$f":"IFERROR(Table_Shelter[[#This Row],[HHCovered]]/VLOOKUP(Table_Shelter[[#This Row],[CampName]],CL,4,0),\"\")","v":0.45454545454545453}]
["2013-10-31","UNHCR","UNHCR","Kachin","Bhamo","Phan Khar Kone",1,null,null,30,30,null,null,null,null,{"$f":"Table_Shelter[[#This Row],[HHperShelter]]*(Table_Shelter[[#This Row],['#ofTemporaryShelterUnitsBuilt]]+Table_Shelter[[#This Row],['#ofTemporaryShelterUnderConstruction]]+Table_Shelter[[#This Row],['#ofPermanentHouseUnderConstruction]])","v":30},{"$f":"IFERROR(VLOOKUP(Table_Shelter[[#This Row],[CampName]],CL,2,0),\"\")","v":"MMR001CMP193"},{"$f":"IFERROR(VLOOKUP(Table_Shelter[[#This Row],[CampName]],CL,3,0),\"\")","v":"Open"},{"$f":"IFERROR(Table_Shelter[[#This Row],[HHCovered]]/VLOOKUP(Table_Shelter[[#This Row],[CampName]],CL,4,0),\"\")","v":9.4637223974763401E-2}]
["2013-10-31","UNHCR","UNHCR","Kachin","Bhamo","Robert Church",1,null,null,12,12,null,null,null,null,{"$f":"Table_Shelter[[#This Row],[HHperShelter]]*(Table_Shelter[[#This Row],['#ofTemporaryShelterUnitsBuilt]]+Table_Shelter[[#This Row],['#ofTemporaryShelterUnderConstruction]]+Table_Shelter[[#This Row],['#ofPermanentHouseUnderConstruction]])","v":12},{"$f":"IFERROR(VLOOKUP(Table_Shelter[[#This Row],[CampName]],CL,2,0),\"\")","v":"MMR001CMP047"},{"$f":"IFERROR(VLOOKUP(Table_Shelter[[#This Row],[CampName]],CL,3,0),\"\")","v":"Open"},{"$f":"IFERROR(Table_Shelter[[#This Row],[HHCovered]]/VLOOKUP(Table_Shelter[[#This Row],[CampName]],CL,4,0),\"\")","v":2.1505376344086023E-2}]
["2013-10-31","UNHCR","UNHCR","Kachin","Bhamo","Robert Church",1,null,null,8,8,null,null,null,null,{"$f":"Table_Shelter[[#This Row],[HHperShelter]]*(Table_Shelter[[#This Row],['#ofTemporaryShelterUnitsBuilt]]+Table_Shelter[[#This Row],['#ofTemporaryShelterUnderConstruction]]+Table_Shelter[[#This Row],['#ofPermanentHouseUnderConstruction]])","v":8},{"$f":"IFERROR(VLOOKUP(Table_Shelter[[#This Row],[CampName]],CL,2,0),\"\")","v":"MMR001CMP047"},{"$f":"IFERROR(VLOOKUP(Table_Shelter[[#This Row],[CampName]],CL,3,0),\"\")","v":"Open"},{"$f":"IFERROR(Table_Shelter[[#This Row],[HHCovered]]/VLOOKUP(Table_Shelter[[#This Row],[CampName]],CL,4,0),\"\")","v":1.4336917562724014E-2}]
["2013-10-31","UNHCR","UNHCR","Kachin","Bhamo","Robert Church",1,null,null,50,50,null,null,null,null,{"$f":"Table_Shelter[[#This Row],[HHperShelter]]*(Table_Shelter[[#This Row],['#ofTemporaryShelterUnitsBuilt]]+Table_Shelter[[#This Row],['#ofTemporaryShelterUnderConstruction]]+Table_Shelter[[#This Row],['#ofPermanentHouseUnderConstruction]])","v":50},{"$f":"IFERROR(VLOOKUP(Table_Shelter[[#This Row],[CampName]],CL,2,0),\"\")","v":"MMR001CMP047"},{"$f":"IFERROR(VLOOKUP(Table_Shelter[[#This Row],[CampName]],CL,3,0),\"\")","v":"Open"},{"$f":"IFERROR(Table_Shelter[[#This Row],[HHCovered]]/VLOOKUP(Table_Shelter[[#This Row],[CampName]],CL,4,0),\"\")","v":8.9605734767025089E-2}]
["2013-10-31","UNHCR","UNHCR","Kachin","Bhamo","Ta Gun Taing Monastery (Shwe Kyi Na)",1,null,null,40,40,null,null,null,null,{"$f":"Table_Shelter[[#This Row],[HHperShelter]]*(Table_Shelter[[#This Row],['#ofTemporaryShelterUnitsBuilt]]+Table_Shelter[[#This Row],['#ofTemporaryShelterUnderConstruction]]+Table_Shelter[[#This Row],['#ofPermanentHouseUnderConstruction]])","v":40},{"$f":"IFERROR(VLOOKUP(Table_Shelter[[#This Row],[CampName]],CL,2,0),\"\")","v":"MMR001CMP055"},{"$f":"IFERROR(VLOOKUP(Table_Shelter[[#This Row],[CampName]],CL,3,0),\"\")","v":"Open"},{"$f":"IFERROR(Table_Shelter[[#This Row],[HHCovered]]/VLOOKUP(Table_Shelter[[#This Row],[CampName]],CL,4,0),\"\")","v":0.65573770491803274}]
["2013-10-31","UNHCR","UNHCR","Kachin","Mansi","Mansi Baptist Church",1,null,null,10,10,null,null,null,null,{"$f":"Table_Shelter[[#This Row],[HHperShelter]]*(Table_Shelter[[#This Row],['#ofTemporaryShelterUnitsBuilt]]+Table_Shelter[[#This Row],['#ofTemporaryShelterUnderConstruction]]+Table_Shelter[[#This Row],['#ofPermanentHouseUnderConstruction]])","v":10},{"$f":"IFERROR(VLOOKUP(Table_Shelter[[#This Row],[CampName]],CL,2,0),\"\")","v":"MMR001CMP066"},{"$f":"IFERROR(VLOOKUP(Table_Shelter[[#This Row],[CampName]],CL,3,0),\"\")","v":"Open"},{"$f":"IFERROR(Table_Shelter[[#This Row],[HHCovered]]/VLOOKUP(Table_Shelter[[#This Row],[CampName]],CL,4,0),\"\")","v":0.10752688172043011}]
["2013-10-31","UNHCR","UNHCR","Kachin","Momauk","Loi Je Baptist Church",1,null,null,12,12,null,null,null,null,{"$f":"Table_Shelter[[#This Row],[HHperShelter]]*(Table_Shelter[[#This Row],['#ofTemporaryShelterUnitsBuilt]]+Table_Shelter[[#This Row],['#ofTemporaryShelterUnderConstruction]]+Table_Shelter[[#This Row],['#ofPermanentHouseUnderConstruction]])","v":12},{"$f":"IFERROR(VLOOKUP(Table_Shelter[[#This Row],[CampName]],CL,2,0),\"\")","v":"MMR001CMP071"},{"$f":"IFERROR(VLOOKUP(Table_Shelter[[#This Row],[CampName]],CL,3,0),\"\")","v":"Open"},{"$f":"IFERROR(Table_Shelter[[#This Row],[HHCovered]]/VLOOKUP(Table_Shelter[[#This Row],[CampName]],CL,4,0),\"\")","v":0.46153846153846156}]
["2013-10-31","UNHCR","UNHCR","Kachin","Momauk","Loi Je Catholic Church",1,null,null,6,6,null,null,null,null,{"$f":"Table_Shelter[[#This Row],[HHperShelter]]*(Table_Shelter[[#This Row],['#ofTemporaryShelterUnitsBuilt]]+Table_Shelter[[#This Row],['#ofTemporaryShelterUnderConstruction]]+Table_Shelter[[#This Row],['#ofPermanentHouseUnderConstruction]])","v":6},{"$f":"IFERROR(VLOOKUP(Table_Shelter[[#This Row],[CampName]],CL,2,0),\"\")","v":"MMR001CMP069"},{"$f":"IFERROR(VLOOKUP(Table_Shelter[[#This Row],[CampName]],CL,3,0),\"\")","v":"Open"},{"$f":"IFERROR(Table_Shelter[[#This Row],[HHCovered]]/VLOOKUP(Table_Shelter[[#This Row],[CampName]],CL,4,0),\"\")","v":0.13043478260869565}]
["2013-10-31","UNHCR","UNHCR","Kachin","Momauk","Loi Je Lisu Camp",1,null,null,55,55,null,null,null,null,{"$f":"Table_Shelter[[#This Row],[HHperShelter]]*(Table_Shelter[[#This Row],['#ofTemporaryShelterUnitsBuilt]]+Table_Shelter[[#This Row],['#ofTemporaryShelterUnderConstruction]]+Table_Shelter[[#This Row],['#ofPermanentHouseUnderConstruction]])","v":55},{"$f":"IFERROR(VLOOKUP(Table_Shelter[[#This Row],[CampName]],CL,2,0),\"\")","v":"MMR001CMP070"},{"$f":"IFERROR(VLOOKUP(Table_Shelter[[#This Row],[CampName]],CL,3,0),\"\")","v":"Open"},{"$f":"IFERROR(Table_Shelter[[#This Row],[HHCovered]]/VLOOKUP(Table_Shelter[[#This Row],[CampName]],CL,4,0),\"\")","v":0.38732394366197181}]
["2013-10-31","UNHCR","UNHCR","Kachin","Momauk","Man Bung Catholic compound",1,null,null,40,40,null,null,null,null,{"$f":"Table_Shelter[[#This Row],[HHperShelter]]*(Table_Shelter[[#This Row],['#ofTemporaryShelterUnitsBuilt]]+Table_Shelter[[#This Row],['#ofTemporaryShelterUnderConstruction]]+Table_Shelter[[#This Row],['#ofPermanentHouseUnderConstruction]])","v":40},{"$f":"IFERROR(VLOOKUP(Table_Shelter[[#This Row],[CampName]],CL,2,0),\"\")","v":"MMR001CMP062"},{"$f":"IFERROR(VLOOKUP(Table_Shelter[[#This Row],[CampName]],CL,3,0),\"\")","v":"Open"},{"$f":"IFERROR(Table_Shelter[[#This Row],[HHCovered]]/VLOOKUP(Table_Shelter[[#This Row],[CampName]],CL,4,0),\"\")","v":0.34188034188034189}]
["2013-10-31","UNHCR","UNHCR","Kachin","Momauk","Momauk Baptist Church",1,null,null,10,10,null,null,null,null,{"$f":"Table_Shelter[[#This Row],[HHperShelter]]*(Table_Shelter[[#This Row],['#ofTemporaryShelterUnitsBuilt]]+Table_Shelter[[#This Row],['#ofTemporaryShelterUnderConstruction]]+Table_Shelter[[#This Row],['#ofPermanentHouseUnderConstruction]])","v":10},{"$f":"IFERROR(VLOOKUP(Table_Shelter[[#This Row],[CampName]],CL,2,0),\"\")","v":"MMR001CMP056"},{"$f":"IFERROR(VLOOKUP(Table_Shelter[[#This Row],[CampName]],CL,3,0),\"\")","v":"Open"},{"$f":"IFERROR(Table_Shelter[[#This Row],[HHCovered]]/VLOOKUP(Table_Shelter[[#This Row],[CampName]],CL,4,0),\"\")","v":2.5062656641604009E-2}]
["2013-10-31","UNHCR","UNHCR","Kachin","Momauk","Momauk Baptist Church",1,null,null,40,40,null,null,null,null,{"$f":"Table_Shelter[[#This Row],[HHperShelter]]*(Table_Shelter[[#This Row],['#ofTemporaryShelterUnitsBuilt]]+Table_Shelter[[#This Row],['#ofTemporaryShelterUnderConstruction]]+Table_Shelter[[#This Row],['#ofPermanentHouseUnderConstruction]])","v":40},{"$f":"IFERROR(VLOOKUP(Table_Shelter[[#This Row],[CampName]],CL,2,0),\"\")","v":"MMR001CMP056"},{"$f":"IFERROR(VLOOKUP(Table_Shelter[[#This Row],[CampName]],CL,3,0),\"\")","v":"Open"},{"$f":"IFERROR(Table_Shelter[[#This Row],[HHCovered]]/VLOOKUP(Table_Shelter[[#This Row],[CampName]],CL,4,0),\"\")","v":0.10025062656641603}]
["2013-10-31","UNHCR","UNHCR","Kachin","Momauk","Ni Thaw Ka Monestry",1,null,null,5,5,null,null,null,null,{"$f":"Table_Shelter[[#This Row],[HHperShelter]]*(Table_Shelter[[#This Row],['#ofTemporaryShelterUnitsBuilt]]+Table_Shelter[[#This Row],['#ofTemporaryShelterUnderConstruction]]+Table_Shelter[[#This Row],['#ofPermanentHouseUnderConstruction]])","v":5},{"$f":"IFERROR(VLOOKUP(Table_Shelter[[#This Row],[CampName]],CL,2,0),\"\")","v":"MMR001CMP059"},{"$f":"IFERROR(VLOOKUP(Table_Shelter[[#This Row],[CampName]],CL,3,0),\"\")","v":"Open"},{"$f":"IFERROR(Table_Shelter[[#This Row],[HHCovered]]/VLOOKUP(Table_Shelter[[#This Row],[CampName]],CL,4,0),\"\")","v":0.21739130434782608}]
["2013-10-31","UNHCR","UNHCR","Kachin","Momauk","Nyaung Na Pin ",1,null,null,45,45,null,null,null,null,{"$f":"Table_Shelter[[#This Row],[HHperShelter]]*(Table_Shelter[[#This Row],['#ofTemporaryShelterUnitsBuilt]]+Table_Shelter[[#This Row],['#ofTemporaryShelterUnderConstruction]]+Table_Shelter[[#This Row],['#ofPermanentHouseUnderConstruction]])","v":45},{"$f":"IFERROR(VLOOKUP(Table_Shelter[[#This Row],[CampName]],CL,2,0),\"\")","v":"MMR001CMP072"},{"$f":"IFERROR(VLOOKUP(Table_Shelter[[#This Row],[CampName]],CL,3,0),\"\")","v":"Open"},{"$f":"IFERROR(Table_Shelter[[#This Row],[HHCovered]]/VLOOKUP(Table_Shelter[[#This Row],[CampName]],CL,4,0),\"\")","v":0.95744680851063835}]
["2013-10-31","UNHCR","UNHCR","Kachin","Momauk","Seng Ja ",1,null,null,40,40,null,null,null,null,{"$f":"Table_Shelter[[#This Row],[HHperShelter]]*(Table_Shelter[[#This Row],['#ofTemporaryShelterUnitsBuilt]]+Table_Shelter[[#This Row],['#ofTemporaryShelterUnderConstruction]]+Table_Shelter[[#This Row],['#ofPermanentHouseUnderConstruction]])","v":40},{"$f":"IFERROR(VLOOKUP(Table_Shelter[[#This Row],[CampName]],CL,2,0),\"\")","v":"MMR001CMP073"},{"$f":"IFERROR(VLOOKUP(Table_Shelter[[#This Row],[CampName]],CL,3,0),\"\")","v":"Open"},{"$f":"IFERROR(Table_Shelter[[#This Row],[HHCovered]]/VLOOKUP(Table_Shelter[[#This Row],[CampName]],CL,4,0),\"\")","v":1.1428571428571428}]
["2013-10-31","UNHCR","UNHCR","Kachin","Myitkyina","Du Kahtawng Qtr. 14",1,null,null,3,3,null,null,null,null,{"$f":"Table_Shelter[[#This Row],[HHperShelter]]*(Table_Shelter[[#This Row],['#ofTemporaryShelterUnitsBuilt]]+Table_Shelter[[#This Row],['#ofTemporaryShelterUnderConstruction]]+Table_Shelter[[#This Row],['#ofPermanentHouseUnderConstruction]])","v":3},{"$f":"IFERROR(VLOOKUP(Table_Shelter[[#This Row],[CampName]],CL,2,0),\"\")","v":"MMR001CMP012"},{"$f":"IFERROR(VLOOKUP(Table_Shelter[[#This Row],[CampName]],CL,3,0),\"\")","v":"Open"},{"$f":"IFERROR(Table_Shelter[[#This Row],[HHCovered]]/VLOOKUP(Table_Shelter[[#This Row],[CampName]],CL,4,0),\"\")","v":0.5}]
["2013-10-31","UNHCR","UNHCR","Kachin","Myitkyina","Du Kahtawng Qtr. 4",1,null,null,6,6,null,null,null,null,{"$f":"Table_Shelter[[#This Row],[HHperShelter]]*(Table_Shelter[[#This Row],['#ofTemporaryShelterUnitsBuilt]]+Table_Shelter[[#This Row],['#ofTemporaryShelterUnderConstruction]]+Table_Shelter[[#This Row],['#ofPermanentHouseUnderConstruction]])","v":6},{"$f":"IFERROR(VLOOKUP(Table_Shelter[[#This Row],[CampName]],CL,2,0),\"\")","v":"MMR001CMP010"},{"$f":"IFERROR(VLOOKUP(Table_Shelter[[#This Row],[CampName]],CL,3,0),\"\")","v":"Open"},{"$f":"IFERROR(Table_Shelter[[#This Row],[HHCovered]]/VLOOKUP(Table_Shelter[[#This Row],[CampName]],CL,4,0),\"\")","v":1}]
["2013-10-31","UNHCR","UNHCR","Kachin","Myitkyina","Du Kahtawng Qtr. 5",1,null,null,3,3,null,null,null,null,{"$f":"Table_Shelter[[#This Row],[HHperShelter]]*(Table_Shelter[[#This Row],['#ofTemporaryShelterUnitsBuilt]]+Table_Shelter[[#This Row],['#ofTemporaryShelterUnderConstruction]]+Table_Shelter[[#This Row],['#ofPermanentHouseUnderConstruction]])","v":3},{"$f":"IFERROR(VLOOKUP(Table_Shelter[[#This Row],[CampName]],CL,2,0),\"\")","v":"MMR001CMP011"},{"$f":"IFERROR(VLOOKUP(Table_Shelter[[#This Row],[CampName]],CL,3,0),\"\")","v":"Open"},{"$f":"IFERROR(Table_Shelter[[#This Row],[HHCovered]]/VLOOKUP(Table_Shelter[[#This Row],[CampName]],CL,4,0),\"\")","v":0.375}]
["2013-10-31","UNHCR","UNHCR","Kachin","Myitkyina","Jan Mai Kawng Baptist Church",1,null,null,50,50,null,null,null,null,{"$f":"Table_Shelter[[#This Row],[HHperShelter]]*(Table_Shelter[[#This Row],['#ofTemporaryShelterUnitsBuilt]]+Table_Shelter[[#This Row],['#ofTemporaryShelterUnderConstruction]]+Table_Shelter[[#This Row],['#ofPermanentHouseUnderConstruction]])","v":50},{"$f":"IFERROR(VLOOKUP(Table_Shelter[[#This Row],[CampName]],CL,2,0),\"\")","v":"MMR001CMP018"},{"$f":"IFERROR(VLOOKUP(Table_Shelter[[#This Row],[CampName]],CL,3,0),\"\")","v":"Open"},{"$f":"IFERROR(Table_Shelter[[#This Row],[HHCovered]]/VLOOKUP(Table_Shelter[[#This Row],[CampName]],CL,4,0),\"\")","v":0.24630541871921183}]
["2013-10-31","UNHCR","UNHCR","Kachin","Myitkyina","Le Kone Ziun Baptist Church ",1,null,null,5,5,null,null,null,null,{"$f":"Table_Shelter[[#This Row],[HHperShelter]]*(Table_Shelter[[#This Row],['#ofTemporaryShelterUnitsBuilt]]+Table_Shelter[[#This Row],['#ofTemporaryShelterUnderConstruction]]+Table_Shelter[[#This Row],['#ofPermanentHouseUnderConstruction]])","v":5},{"$f":"IFERROR(VLOOKUP(Table_Shelter[[#This Row],[CampName]],CL,2,0),\"\")","v":"MMR001CMP014"},{"$f":"IFERROR(VLOOKUP(Table_Shelter[[#This Row],[CampName]],CL,3,0),\"\")","v":"Open"},{"$f":"IFERROR(Table_Shelter[[#This Row],[HHCovered]]/VLOOKUP(Table_Shelter[[#This Row],[CampName]],CL,4,0),\"\")","v":3.4246575342465752E-2}]
["2013-10-31","UNHCR","UNHCR","Kachin","Myitkyina","Man Hkring Baptist Church",1,null,null,20,20,null,null,null,null,{"$f":"Table_Shelter[[#This Row],[HHperShelter]]*(Table_Shelter[[#This Row],['#ofTemporaryShelterUnitsBuilt]]+Table_Shelter[[#This Row],['#ofTemporaryShelterUnderConstruction]]+Table_Shelter[[#This Row],['#ofPermanentHouseUnderConstruction]])","v":20},{"$f":"IFERROR(VLOOKUP(Table_Shelter[[#This Row],[CampName]],CL,2,0),\"\")","v":"MMR001CMP008"},{"$f":"IFERROR(VLOOKUP(Table_Shelter[[#This Row],[CampName]],CL,3,0),\"\")","v":"Open"},{"$f":"IFERROR(Table_Shelter[[#This Row],[HHCovered]]/VLOOKUP(Table_Shelter[[#This Row],[CampName]],CL,4,0),\"\")","v":0.21052631578947367}]
["2013-10-31","UNHCR","UNHCR","Kachin","Myitkyina","Shatapru Sut Ngai Tawng",1,null,null,40,40,null,null,null,null,{"$f":"Table_Shelter[[#This Row],[HHperShelter]]*(Table_Shelter[[#This Row],['#ofTemporaryShelterUnitsBuilt]]+Table_Shelter[[#This Row],['#ofTemporaryShelterUnderConstruction]]+Table_Shelter[[#This Row],['#ofPermanentHouseUnderConstruction]])","v":40},{"$f":"IFERROR(VLOOKUP(Table_Shelter[[#This Row],[CampName]],CL,2,0),\"\")","v":"MMR001CMP006"},{"$f":"IFERROR(VLOOKUP(Table_Shelter[[#This Row],[CampName]],CL,3,0),\"\")","v":"Open"},{"$f":"IFERROR(Table_Shelter[[#This Row],[HHCovered]]/VLOOKUP(Table_Shelter[[#This Row],[CampName]],CL,4,0),\"\")","v":0.37735849056603776}]
["2013-10-31","UNHCR","UNHCR","Kachin","Myitkyina","Tat Kone Emanuel Church",1,null,null,5,5,null,null,null,null,{"$f":"Table_Shelter[[#This Row],[HHperShelter]]*(Table_Shelter[[#This Row],['#ofTemporaryShelterUnitsBuilt]]+Table_Shelter[[#This Row],['#ofTemporaryShelterUnderConstruction]]+Table_Shelter[[#This Row],['#ofPermanentHouseUnderConstruction]])","v":5},{"$f":"IFERROR(VLOOKUP(Table_Shelter[[#This Row],[CampName]],CL,2,0),\"\")","v":"MMR001CMP004"},{"$f":"IFERROR(VLOOKUP(Table_Shelter[[#This Row],[CampName]],CL,3,0),\"\")","v":"Open"},{"$f":"IFERROR(Table_Shelter[[#This Row],[HHCovered]]/VLOOKUP(Table_Shelter[[#This Row],[CampName]],CL,4,0),\"\")","v":0.35714285714285715}]
["2013-10-31","UNHCR","UNHCR","Kachin","Waingmaw","Maina Catholic Church (St. Joseph)",1,null,null,120,120,null,null,null,null,{"$f":"Table_Shelter[[#This Row],[HHperShelter]]*(Table_Shelter[[#This Row],['#ofTemporaryShelterUnitsBuilt]]+Table_Shelter[[#This Row],['#ofTemporaryShelterUnderConstruction]]+Table_Shelter[[#This Row],['#ofPermanentHouseUnderConstruction]])","v":120},{"$f":"IFERROR(VLOOKUP(Table_Shelter[[#This Row],[CampName]],CL,2,0),\"\")","v":"MMR001CMP029"},{"$f":"IFERROR(VLOOKUP(Table_Shelter[[#This Row],[CampName]],CL,3,0),\"\")","v":"Open"},{"$f":"IFERROR(Table_Shelter[[#This Row],[HHCovered]]/VLOOKUP(Table_Shelter[[#This Row],[CampName]],CL,4,0),\"\")","v":0.51724137931034486}]
["2013-10-31","UNHCR","UNHCR","Kachin","Waingmaw","Qtr. 2 Lhaovo Baptist Church",1,null,null,5,5,null,null,null,null,{"$f":"Table_Shelter[[#This Row],[HHperShelter]]*(Table_Shelter[[#This Row],['#ofTemporaryShelterUnitsBuilt]]+Table_Shelter[[#This Row],['#ofTemporaryShelterUnderConstruction]]+Table_Shelter[[#This Row],['#ofPermanentHouseUnderConstruction]])","v":5},{"$f":"IFERROR(VLOOKUP(Table_Shelter[[#This Row],[CampName]],CL,2,0),\"\")","v":"MMR001CMP032"},{"$f":"IFERROR(VLOOKUP(Table_Shelter[[#This Row],[CampName]],CL,3,0),\"\")","v":"Open"},{"$f":"IFERROR(Table_Shelter[[#This Row],[HHCovered]]/VLOOKUP(Table_Shelter[[#This Row],[CampName]],CL,4,0),\"\")","v":4.1666666666666664E-2}]
["2013-10-31","UNHCR","UNHCR","Kachin","Waingmaw","Qtr. 2 Myoma Baptist Church",1,null,null,20,20,null,null,null,null,{"$f":"Table_Shelter[[#This Row],[HHperShelter]]*(Table_Shelter[[#This Row],['#ofTemporaryShelterUnitsBuilt]]+Table_Shelter[[#This Row],['#ofTemporaryShelterUnderConstruction]]+Table_Shelter[[#This Row],['#ofPermanentHouseUnderConstruction]])","v":20},{"$f":"IFERROR(VLOOKUP(Table_Shelter[[#This Row],[CampName]],CL,2,0),\"\")","v":"MMR001CMP025"},{"$f":"IFERROR(VLOOKUP(Table_Shelter[[#This Row],[CampName]],CL,3,0),\"\")","v":"Open"},{"$f":"IFERROR(Table_Shelter[[#This Row],[HHCovered]]/VLOOKUP(Table_Shelter[[#This Row],[CampName]],CL,4,0),\"\")","v":0.24096385542168675}]
["2013-10-31","UNHCR","UNHCR","Kachin","Waingmaw","Waingmaw Baptist Zonal Office",1,null,null,5,5,null,null,null,null,{"$f":"Table_Shelter[[#This Row],[HHperShelter]]*(Table_Shelter[[#This Row],['#ofTemporaryShelterUnitsBuilt]]+Table_Shelter[[#This Row],['#ofTemporaryShelterUnderConstruction]]+Table_Shelter[[#This Row],['#ofPermanentHouseUnderConstruction]])","v":5},{"$f":"IFERROR(VLOOKUP(Table_Shelter[[#This Row],[CampName]],CL,2,0),\"\")","v":"MMR001CMP036"},{"$f":"IFERROR(VLOOKUP(Table_Shelter[[#This Row],[CampName]],CL,3,0),\"\")","v":"Open"},{"$f":"IFERROR(Table_Shelter[[#This Row],[HHCovered]]/VLOOKUP(Table_Shelter[[#This Row],[CampName]],CL,4,0),\"\")","v":""}]
["2013-10-31","Worl d Vision","Worl d Vision","Kachin","Waingmaw","Maina Lawang Baptist Church",1,null,null,10,10,null,null,null,null,{"$f":"Table_Shelter[[#This Row],[HHperShelter]]*(Table_Shelter[[#This Row],['#ofTemporaryShelterUnitsBuilt]]+Table_Shelter[[#This Row],['#ofTemporaryShelterUnderConstruction]]+Table_Shelter[[#This Row],['#ofPermanentHouseUnderConstruction]])","v":10},{"$f":"IFERROR(VLOOKUP(Table_Shelter[[#This Row],[CampName]],CL,2,0),\"\")","v":"MMR001CMP039"},{"$f":"IFERROR(VLOOKUP(Table_Shelter[[#This Row],[CampName]],CL,3,0),\"\")","v":"Open"},{"$f":"IFERROR(Table_Shelter[[#This Row],[HHCovered]]/VLOOKUP(Table_Shelter[[#This Row],[CampName]],CL,4,0),\"\")","v":0.20408163265306123}]
["2013-10-31","World Vision","World Vision","Kachin","Waingmaw","Maina AG Church",1,null,null,27,27,null,null,null,null,{"$f":"Table_Shelter[[#This Row],[HHperShelter]]*(Table_Shelter[[#This Row],['#ofTemporaryShelterUnitsBuilt]]+Table_Shelter[[#This Row],['#ofTemporaryShelterUnderConstruction]]+Table_Shelter[[#This Row],['#ofPermanentHouseUnderConstruction]])","v":27},{"$f":"IFERROR(VLOOKUP(Table_Shelter[[#This Row],[CampName]],CL,2,0),\"\")","v":"MMR001CMP031"},{"$f":"IFERROR(VLOOKUP(Table_Shelter[[#This Row],[CampName]],CL,3,0),\"\")","v":"Open"},{"$f":"IFERROR(Table_Shelter[[#This Row],[HHCovered]]/VLOOKUP(Table_Shelter[[#This Row],[CampName]],CL,4,0),\"\")","v":0.19148936170212766}]
["2013-10-31","World Vision","World Vision","Kachin","Waingmaw","Qtr. 2 Lhaovo Baptist Church",1,null,null,10,10,null,null,null,null,{"$f":"Table_Shelter[[#This Row],[HHperShelter]]*(Table_Shelter[[#This Row],['#ofTemporaryShelterUnitsBuilt]]+Table_Shelter[[#This Row],['#ofTemporaryShelterUnderConstruction]]+Table_Shelter[[#This Row],['#ofPermanentHouseUnderConstruction]])","v":10},{"$f":"IFERROR(VLOOKUP(Table_Shelter[[#This Row],[CampName]],CL,2,0),\"\")","v":"MMR001CMP032"},{"$f":"IFERROR(VLOOKUP(Table_Shelter[[#This Row],[CampName]],CL,3,0),\"\")","v":"Open"},{"$f":"IFERROR(Table_Shelter[[#This Row],[HHCovered]]/VLOOKUP(Table_Shelter[[#This Row],[CampName]],CL,4,0),\"\")","v":8.3333333333333329E-2}]
["2013-10-31","World Vision","World Vision","Kachin","Waingmaw","Thargaya Lisu Baptist Church",1,null,null,24,24,null,null,null,null,{"$f":"Table_Shelter[[#This Row],[HHperShelter]]*(Table_Shelter[[#This Row],['#ofTemporaryShelterUnitsBuilt]]+Table_Shelter[[#This Row],['#ofTemporaryShelterUnderConstruction]]+Table_Shelter[[#This Row],['#ofPermanentHouseUnderConstruction]])","v":24},{"$f":"IFERROR(VLOOKUP(Table_Shelter[[#This Row],[CampName]],CL,2,0),\"\")","v":"MMR001CMP037"},{"$f":"IFERROR(VLOOKUP(Table_Shelter[[#This Row],[CampName]],CL,3,0),\"\")","v":"Open"},{"$f":"IFERROR(Table_Shelter[[#This Row],[HHCovered]]/VLOOKUP(Table_Shelter[[#This Row],[CampName]],CL,4,0),\"\")","v":0.32432432432432434}]
["2013-10-31","World Vision","World Vision","Kachin","Waingmaw","Waingmaw AG Church",1,null,null,15,15,null,null,null,null,{"$f":"Table_Shelter[[#This Row],[HHperShelter]]*(Table_Shelter[[#This Row],['#ofTemporaryShelterUnitsBuilt]]+Table_Shelter[[#This Row],['#ofTemporaryShelterUnderConstruction]]+Table_Shelter[[#This Row],['#ofPermanentHouseUnderConstruction]])","v":15},{"$f":"IFERROR(VLOOKUP(Table_Shelter[[#This Row],[CampName]],CL,2,0),\"\")","v":"MMR001CMP038"},{"$f":"IFERROR(VLOOKUP(Table_Shelter[[#This Row],[CampName]],CL,3,0),\"\")","v":"Open"},{"$f":"IFERROR(Table_Shelter[[#This Row],[HHCovered]]/VLOOKUP(Table_Shelter[[#This Row],[CampName]],CL,4,0),\"\")","v":0.18518518518518517}]
["2013-10-31","World Vision","World Vision","Kachin","Waingmaw","Waingmaw Baptist Zonal Office",1,null,null,10,10,null,null,null,null,{"$f":"Table_Shelter[[#This Row],[HHperShelter]]*(Table_Shelter[[#This Row],['#ofTemporaryShelterUnitsBuilt]]+Table_Shelter[[#This Row],['#ofTemporaryShelterUnderConstruction]]+Table_Shelter[[#This Row],['#ofPermanentHouseUnderConstruction]])","v":10},{"$f":"IFERROR(VLOOKUP(Table_Shelter[[#This Row],[CampName]],CL,2,0),\"\")","v":"MMR001CMP036"},{"$f":"IFERROR(VLOOKUP(Table_Shelter[[#This Row],[CampName]],CL,3,0),\"\")","v":"Open"},{"$f":"IFERROR(Table_Shelter[[#This Row],[HHCovered]]/VLOOKUP(Table_Shelter[[#This Row],[CampName]],CL,4,0),\"\")","v":""}]
["2013-10-31","Yedai Foundation","KBC","Kachin","Waingmaw","Maina KBC (Bawng Ring)",1,null,null,10,10,null,null,null,null,{"$f":"Table_Shelter[[#This Row],[HHperShelter]]*(Table_Shelter[[#This Row],['#ofTemporaryShelterUnitsBuilt]]+Table_Shelter[[#This Row],['#ofTemporaryShelterUnderConstruction]]+Table_Shelter[[#This Row],['#ofPermanentHouseUnderConstruction]])","v":10},{"$f":"IFERROR(VLOOKUP(Table_Shelter[[#This Row],[CampName]],CL,2,0),\"\")","v":"MMR001CMP040"},{"$f":"IFERROR(VLOOKUP(Table_Shelter[[#This Row],[CampName]],CL,3,0),\"\")","v":"Open"},{"$f":"IFERROR(Table_Shelter[[#This Row],[HHCovered]]/VLOOKUP(Table_Shelter[[#This Row],[CampName]],CL,4,0),\"\")","v":2.3809523809523808E-2}]
["2013-10-31","ACTED","ACTED","Kachin","Waingmaw","Post 6 Camp",1,207,207,null,null,null,null,null,null,{"$f":"Table_Shelter[[#This Row],[HHperShelter]]*(Table_Shelter[[#This Row],['#ofTemporaryShelterUnitsBuilt]]+Table_Shelter[[#This Row],['#ofTemporaryShelterUnderConstruction]]+Table_Shelter[[#This Row],['#ofPermanentHouseUnderConstruction]])","v":0},{"$f":"IFERROR(VLOOKUP(Table_Shelter[[#This Row],[CampName]],CL,2,0),\"\")","v":"MMR001CMP160"},{"$f":"IFERROR(VLOOKUP(Table_Shelter[[#This Row],[CampName]],CL,3,0),\"\")","v":"Open"},{"$f":"IFERROR(Table_Shelter[[#This Row],[HHCovered]]/VLOOKUP(Table_Shelter[[#This Row],[CampName]],CL,4,0),\"\")","v":0}]
["2013-10-31","ACTED","ACTED","Kachin","Waingmaw","Border Post 8",1,41,41,null,null,null,null,null,null,{"$f":"Table_Shelter[[#This Row],[HHperShelter]]*(Table_Shelter[[#This Row],['#ofTemporaryShelterUnitsBuilt]]+Table_Shelter[[#This Row],['#ofTemporaryShelterUnderConstruction]]+Table_Shelter[[#This Row],['#ofPermanentHouseUnderConstruction]])","v":0},{"$f":"IFERROR(VLOOKUP(Table_Shelter[[#This Row],[CampName]],CL,2,0),\"\")","v":"MMR001CMP113"},{"$f":"IFERROR(VLOOKUP(Table_Shelter[[#This Row],[CampName]],CL,3,0),\"\")","v":"Open"},{"$f":"IFERROR(Table_Shelter[[#This Row],[HHCovered]]/VLOOKUP(Table_Shelter[[#This Row],[CampName]],CL,4,0),\"\")","v":0}]
["2013-10-31","ACTED","ACTED","Kachin","Myitkyina","RRD Office",1,1,1,null,null,null,null,null,null,{"$f":"Table_Shelter[[#This Row],[HHperShelter]]*(Table_Shelter[[#This Row],['#ofTemporaryShelterUnitsBuilt]]+Table_Shelter[[#This Row],['#ofTemporaryShelterUnderConstruction]]+Table_Shelter[[#This Row],['#ofPermanentHouseUnderConstruction]])","v":0},{"$f":"IFERROR(VLOOKUP(Table_Shelter[[#This Row],[CampName]],CL,2,0),\"\")","v":""},{"$f":"IFERROR(VLOOKUP(Table_Shelter[[#This Row],[CampName]],CL,3,0),\"\")","v":""},{"$f":"IFERROR(Table_Shelter[[#This Row],[HHCovered]]/VLOOKUP(Table_Shelter[[#This Row],[CampName]],CL,4,0),\"\")","v":""}]
["2013-10-31","ACTED","ACTED","Kachin","Myitkyina","Nan Kway St. John Catholic Church",1,1,1,null,null,null,null,null,null,{"$f":"Table_Shelter[[#This Row],[HHperShelter]]*(Table_Shelter[[#This Row],['#ofTemporaryShelterUnitsBuilt]]+Table_Shelter[[#This Row],['#ofTemporaryShelterUnderConstruction]]+Table_Shelter[[#This Row],['#ofPermanentHouseUnderConstruction]])","v":0},{"$f":"IFERROR(VLOOKUP(Table_Shelter[[#This Row],[CampName]],CL,2,0),\"\")","v":"MMR001CMP024"},{"$f":"IFERROR(VLOOKUP(Table_Shelter[[#This Row],[CampName]],CL,3,0),\"\")","v":"Open"},{"$f":"IFERROR(Table_Shelter[[#This Row],[HHCovered]]/VLOOKUP(Table_Shelter[[#This Row],[CampName]],CL,4,0),\"\")","v":0}]
["2013-10-31","ACTED","ACTED","Kachin","Hpakant","Warra Zup",1,47,47,null,null,null,null,null,null,{"$f":"Table_Shelter[[#This Row],[HHperShelter]]*(Table_Shelter[[#This Row],['#ofTemporaryShelterUnitsBuilt]]+Table_Shelter[[#This Row],['#ofTemporaryShelterUnderConstruction]]+Table_Shelter[[#This Row],['#ofPermanentHouseUnderConstruction]])","v":0},{"$f":"IFERROR(VLOOKUP(Table_Shelter[[#This Row],[CampName]],CL,2,0),\"\")","v":""},{"$f":"IFERROR(VLOOKUP(Table_Shelter[[#This Row],[CampName]],CL,3,0),\"\")","v":""},{"$f":"IFERROR(Table_Shelter[[#This Row],[HHCovered]]/VLOOKUP(Table_Shelter[[#This Row],[CampName]],CL,4,0),\"\")","v":""}]
["2013-10-31","ACTED","ACTED","Kachin","Hpakant","Nam Ma Phyit, COC",1,8,8,null,null,null,null,null,null,{"$f":"Table_Shelter[[#This Row],[HHperShelter]]*(Table_Shelter[[#This Row],['#ofTemporaryShelterUnitsBuilt]]+Table_Shelter[[#This Row],['#ofTemporaryShelterUnderConstruction]]+Table_Shelter[[#This Row],['#ofPermanentHouseUnderConstruction]])","v":0},{"$f":"IFERROR(VLOOKUP(Table_Shelter[[#This Row],[CampName]],CL,2,0),\"\")","v":"MMR001CMP192"},{"$f":"IFERROR(VLOOKUP(Table_Shelter[[#This Row],[CampName]],CL,3,0),\"\")","v":"Open"},{"$f":"IFERROR(Table_Shelter[[#This Row],[HHCovered]]/VLOOKUP(Table_Shelter[[#This Row],[CampName]],CL,4,0),\"\")","v":0}]
["2013-10-31","ACTED","ACTED","Kachin","Hpakant","AG Church, Hmaw Si Sa",1,10,10,null,null,null,null,null,null,{"$f":"Table_Shelter[[#This Row],[HHperShelter]]*(Table_Shelter[[#This Row],['#ofTemporaryShelterUnitsBuilt]]+Table_Shelter[[#This Row],['#ofTemporaryShelterUnderConstruction]]+Table_Shelter[[#This Row],['#ofPermanentHouseUnderConstruction]])","v":0},{"$f":"IFERROR(VLOOKUP(Table_Shelter[[#This Row],[CampName]],CL,2,0),\"\")","v":"MMR001CMP176"},{"$f":"IFERROR(VLOOKUP(Table_Shelter[[#This Row],[CampName]],CL,3,0),\"\")","v":"Open"},{"$f":"IFERROR(Table_Shelter[[#This Row],[HHCovered]]/VLOOKUP(Table_Shelter[[#This Row],[CampName]],CL,4,0),\"\")","v":0}]
["2013-10-31","ACTED","ACTED","Kachin","Hpakant","Baptist Church, Hmaw Si Sar(Lon Khin)",1,10,10,null,null,null,null,null,null,{"$f":"Table_Shelter[[#This Row],[HHperShelter]]*(Table_Shelter[[#This Row],['#ofTemporaryShelterUnitsBuilt]]+Table_Shelter[[#This Row],['#ofTemporaryShelterUnderConstruction]]+Table_Shelter[[#This Row],['#ofPermanentHouseUnderConstruction]])","v":0},{"$f":"IFERROR(VLOOKUP(Table_Shelter[[#This Row],[CampName]],CL,2,0),\"\")","v":"MMR001CMP169"},{"$f":"IFERROR(VLOOKUP(Table_Shelter[[#This Row],[CampName]],CL,3,0),\"\")","v":"Open"},{"$f":"IFERROR(Table_Shelter[[#This Row],[HHCovered]]/VLOOKUP(Table_Shelter[[#This Row],[CampName]],CL,4,0),\"\")","v":0}]
["2013-10-31","ACTED","ACTED","Kachin","Hpakant","5 Ward Baptist Church(lon Khin)",1,25,25,null,null,null,null,null,null,{"$f":"Table_Shelter[[#This Row],[HHperShelter]]*(Table_Shelter[[#This Row],['#ofTemporaryShelterUnitsBuilt]]+Table_Shelter[[#This Row],['#ofTemporaryShelterUnderConstruction]]+Table_Shelter[[#This Row],['#ofPermanentHouseUnderConstruction]])","v":0},{"$f":"IFERROR(VLOOKUP(Table_Shelter[[#This Row],[CampName]],CL,2,0),\"\")","v":"MMR001CMP179"},{"$f":"IFERROR(VLOOKUP(Table_Shelter[[#This Row],[CampName]],CL,3,0),\"\")","v":"Open"},{"$f":"IFERROR(Table_Shelter[[#This Row],[HHCovered]]/VLOOKUP(Table_Shelter[[#This Row],[CampName]],CL,4,0),\"\")","v":0}]
["2013-10-31","ACTED","ACTED","Kachin","Hpakant","Dhama Rakhita, Nyein Chan Tar Yar Ward(Lon Khin)",1,5,5,null,null,null,null,null,null,{"$f":"Table_Shelter[[#This Row],[HHperShelter]]*(Table_Shelter[[#This Row],['#ofTemporaryShelterUnitsBuilt]]+Table_Shelter[[#This Row],['#ofTemporaryShelterUnderConstruction]]+Table_Shelter[[#This Row],['#ofPermanentHouseUnderConstruction]])","v":0},{"$f":"IFERROR(VLOOKUP(Table_Shelter[[#This Row],[CampName]],CL,2,0),\"\")","v":"MMR001CMP174"},{"$f":"IFERROR(VLOOKUP(Table_Shelter[[#This Row],[CampName]],CL,3,0),\"\")","v":"Open"},{"$f":"IFERROR(Table_Shelter[[#This Row],[HHCovered]]/VLOOKUP(Table_Shelter[[#This Row],[CampName]],CL,4,0),\"\")","v":0}]
["2013-10-31","ACTED","ACTED","Kachin","Hpakant","Ward 2 Sai Taung Baptist Church, Seik Mu ",1,7,7,null,null,null,null,null,null,{"$f":"Table_Shelter[[#This Row],[HHperShelter]]*(Table_Shelter[[#This Row],['#ofTemporaryShelterUnitsBuilt]]+Table_Shelter[[#This Row],['#ofTemporaryShelterUnderConstruction]]+Table_Shelter[[#This Row],['#ofPermanentHouseUnderConstruction]])","v":0},{"$f":"IFERROR(VLOOKUP(Table_Shelter[[#This Row],[CampName]],CL,2,0),\"\")","v":"MMR001CMP184"},{"$f":"IFERROR(VLOOKUP(Table_Shelter[[#This Row],[CampName]],CL,3,0),\"\")","v":"Open"},{"$f":"IFERROR(Table_Shelter[[#This Row],[HHCovered]]/VLOOKUP(Table_Shelter[[#This Row],[CampName]],CL,4,0),\"\")","v":0}]
["2013-10-31","ACTED","ACTED","Kachin","Hpakant","Sai Nai Baptish Church, Maw Shan Vil., Seki Mu",1,7,7,null,null,null,null,null,null,{"$f":"Table_Shelter[[#This Row],[HHperShelter]]*(Table_Shelter[[#This Row],['#ofTemporaryShelterUnitsBuilt]]+Table_Shelter[[#This Row],['#ofTemporaryShelterUnderConstruction]]+Table_Shelter[[#This Row],['#ofPermanentHouseUnderConstruction]])","v":0},{"$f":"IFERROR(VLOOKUP(Table_Shelter[[#This Row],[CampName]],CL,2,0),\"\")","v":"MMR001CMP183"},{"$f":"IFERROR(VLOOKUP(Table_Shelter[[#This Row],[CampName]],CL,3,0),\"\")","v":"Open"},{"$f":"IFERROR(Table_Shelter[[#This Row],[HHCovered]]/VLOOKUP(Table_Shelter[[#This Row],[CampName]],CL,4,0),\"\")","v":0}]
["2013-10-31","ACTED","ACTED","Kachin","Hpakant","Rawan Baptist Church, Maw Shan Vil., Seik Mu",1,9,9,null,null,null,null,null,null,{"$f":"Table_Shelter[[#This Row],[HHperShelter]]*(Table_Shelter[[#This Row],['#ofTemporaryShelterUnitsBuilt]]+Table_Shelter[[#This Row],['#ofTemporaryShelterUnderConstruction]]+Table_Shelter[[#This Row],['#ofPermanentHouseUnderConstruction]])","v":0},{"$f":"IFERROR(VLOOKUP(Table_Shelter[[#This Row],[CampName]],CL,2,0),\"\")","v":"MMR001CMP182"},{"$f":"IFERROR(VLOOKUP(Table_Shelter[[#This Row],[CampName]],CL,3,0),\"\")","v":"Open"},{"$f":"IFERROR(Table_Shelter[[#This Row],[HHCovered]]/VLOOKUP(Table_Shelter[[#This Row],[CampName]],CL,4,0),\"\")","v":0}]
["2013-10-31","ACTED","ACTED","Kachin","Hpakant","Hmaw Wan, Anglican",1,5,5,null,null,null,null,null,null,{"$f":"Table_Shelter[[#This Row],[HHperShelter]]*(Table_Shelter[[#This Row],['#ofTemporaryShelterUnitsBuilt]]+Table_Shelter[[#This Row],['#ofTemporaryShelterUnderConstruction]]+Table_Shelter[[#This Row],['#ofPermanentHouseUnderConstruction]])","v":0},{"$f":"IFERROR(VLOOKUP(Table_Shelter[[#This Row],[CampName]],CL,2,0),\"\")","v":"MMR001CMP191"},{"$f":"IFERROR(VLOOKUP(Table_Shelter[[#This Row],[CampName]],CL,3,0),\"\")","v":"Open"},{"$f":"IFERROR(Table_Shelter[[#This Row],[HHCovered]]/VLOOKUP(Table_Shelter[[#This Row],[CampName]],CL,4,0),\"\")","v":0}]
["2013-10-31","ACTED","ACTED","Kachin","Hpakant","Hmaw Wan, Anglican",1,15,15,null,null,null,null,null,null,{"$f":"Table_Shelter[[#This Row],[HHperShelter]]*(Table_Shelter[[#This Row],['#ofTemporaryShelterUnitsBuilt]]+Table_Shelter[[#This Row],['#ofTemporaryShelterUnderConstruction]]+Table_Shelter[[#This Row],['#ofPermanentHouseUnderConstruction]])","v":0},{"$f":"IFERROR(VLOOKUP(Table_Shelter[[#This Row],[CampName]],CL,2,0),\"\")","v":"MMR001CMP191"},{"$f":"IFERROR(VLOOKUP(Table_Shelter[[#This Row],[CampName]],CL,3,0),\"\")","v":"Open"},{"$f":"IFERROR(Table_Shelter[[#This Row],[HHCovered]]/VLOOKUP(Table_Shelter[[#This Row],[CampName]],CL,4,0),\"\")","v":0}]
["2013-10-31","ACTED","ACTED","Kachin","Hpakant","Nga Pyaw Taw Baptist Nursery School ",1,50,50,null,null,null,null,null,null,{"$f":"Table_Shelter[[#This Row],[HHperShelter]]*(Table_Shelter[[#This Row],['#ofTemporaryShelterUnitsBuilt]]+Table_Shelter[[#This Row],['#ofTemporaryShelterUnderConstruction]]+Table_Shelter[[#This Row],['#ofPermanentHouseUnderConstruction]])","v":0},{"$f":"IFERROR(VLOOKUP(Table_Shelter[[#This Row],[CampName]],CL,2,0),\"\")","v":"MMR001CMP082"},{"$f":"IFERROR(VLOOKUP(Table_Shelter[[#This Row],[CampName]],CL,3,0),\"\")","v":"Open"},{"$f":"IFERROR(Table_Shelter[[#This Row],[HHCovered]]/VLOOKUP(Table_Shelter[[#This Row],[CampName]],CL,4,0),\"\")","v":0}]
["2013-12-12","UNHCR","SHALOM","Kachin","Hpakant","AG Church, Hmaw Si Sa",1,null,null,30,15,null,null,null,null,{"$f":"Table_Shelter[[#This Row],[HHperShelter]]*(Table_Shelter[[#This Row],['#ofTemporaryShelterUnitsBuilt]]+Table_Shelter[[#This Row],['#ofTemporaryShelterUnderConstruction]]+Table_Shelter[[#This Row],['#ofPermanentHouseUnderConstruction]])","v":15},{"$f":"IFERROR(VLOOKUP(Table_Shelter[[#This Row],[CampName]],CL,2,0),\"\")","v":"MMR001CMP176"},{"$f":"IFERROR(VLOOKUP(Table_Shelter[[#This Row],[CampName]],CL,3,0),\"\")","v":"Open"},{"$f":"IFERROR(Table_Shelter[[#This Row],[HHCovered]]/VLOOKUP(Table_Shelter[[#This Row],[CampName]],CL,4,0),\"\")","v":0.23076923076923078}]
["2013-12-12","UNHCR","SHALOM","Kachin","Hpakant","Nam Ma Phyit, COC",1,null,null,5,5,null,null,null,null,{"$f":"Table_Shelter[[#This Row],[HHperShelter]]*(Table_Shelter[[#This Row],['#ofTemporaryShelterUnitsBuilt]]+Table_Shelter[[#This Row],['#ofTemporaryShelterUnderConstruction]]+Table_Shelter[[#This Row],['#ofPermanentHouseUnderConstruction]])","v":5},{"$f":"IFERROR(VLOOKUP(Table_Shelter[[#This Row],[CampName]],CL,2,0),\"\")","v":"MMR001CMP192"},{"$f":"IFERROR(VLOOKUP(Table_Shelter[[#This Row],[CampName]],CL,3,0),\"\")","v":"Open"},{"$f":"IFERROR(Table_Shelter[[#This Row],[HHCovered]]/VLOOKUP(Table_Shelter[[#This Row],[CampName]],CL,4,0),\"\")","v":0.20833333333333334}]
["2013-12-12","UNHCR","SHALOM","Kachin","Hpakant","Chin Church, Seik Mu",1,null,null,4,4,null,null,null,null,{"$f":"Table_Shelter[[#This Row],[HHperShelter]]*(Table_Shelter[[#This Row],['#ofTemporaryShelterUnitsBuilt]]+Table_Shelter[[#This Row],['#ofTemporaryShelterUnderConstruction]]+Table_Shelter[[#This Row],['#ofPermanentHouseUnderConstruction]])","v":4},{"$f":"IFERROR(VLOOKUP(Table_Shelter[[#This Row],[CampName]],CL,2,0),\"\")","v":"MMR001CMP109"},{"$f":"IFERROR(VLOOKUP(Table_Shelter[[#This Row],[CampName]],CL,3,0),\"\")","v":"Open"},{"$f":"IFERROR(Table_Shelter[[#This Row],[HHCovered]]/VLOOKUP(Table_Shelter[[#This Row],[CampName]],CL,4,0),\"\")","v":1}]
["2013-12-12","UNHCR","SHALOM","Kachin","Hpakant","Hmaw Wan, Anglican",1,null,null,10,5,null,null,null,null,{"$f":"Table_Shelter[[#This Row],[HHperShelter]]*(Table_Shelter[[#This Row],['#ofTemporaryShelterUnitsBuilt]]+Table_Shelter[[#This Row],['#ofTemporaryShelterUnderConstruction]]+Table_Shelter[[#This Row],['#ofPermanentHouseUnderConstruction]])","v":5},{"$f":"IFERROR(VLOOKUP(Table_Shelter[[#This Row],[CampName]],CL,2,0),\"\")","v":"MMR001CMP191"},{"$f":"IFERROR(VLOOKUP(Table_Shelter[[#This Row],[CampName]],CL,3,0),\"\")","v":"Open"},{"$f":"IFERROR(Table_Shelter[[#This Row],[HHCovered]]/VLOOKUP(Table_Shelter[[#This Row],[CampName]],CL,4,0),\"\")","v":0.45454545454545453}]
["2013-12-12","UNHCR","SHALOM","Kachin","Hpakant","Lisu Baptist Church, Maw Shan Vil,. Seik Mu",1,null,null,13,8,null,null,null,null,{"$f":"Table_Shelter[[#This Row],[HHperShelter]]*(Table_Shelter[[#This Row],['#ofTemporaryShelterUnitsBuilt]]+Table_Shelter[[#This Row],['#ofTemporaryShelterUnderConstruction]]+Table_Shelter[[#This Row],['#ofPermanentHouseUnderConstruction]])","v":8},{"$f":"IFERROR(VLOOKUP(Table_Shelter[[#This Row],[CampName]],CL,2,0),\"\")","v":"MMR001CMP181"},{"$f":"IFERROR(VLOOKUP(Table_Shelter[[#This Row],[CampName]],CL,3,0),\"\")","v":"Open"},{"$f":"IFERROR(Table_Shelter[[#This Row],[HHCovered]]/VLOOKUP(Table_Shelter[[#This Row],[CampName]],CL,4,0),\"\")","v":0.34782608695652173}]
["2013-12-12","UNHCR","SHALOM","Kachin","Hpakant","Rawan Baptist Church, Maw Shan Vil., Seik Mu",1,null,null,5,5,null,null,null,null,{"$f":"Table_Shelter[[#This Row],[HHperShelter]]*(Table_Shelter[[#This Row],['#ofTemporaryShelterUnitsBuilt]]+Table_Shelter[[#This Row],['#ofTemporaryShelterUnderConstruction]]+Table_Shelter[[#This Row],['#ofPermanentHouseUnderConstruction]])","v":5},{"$f":"IFERROR(VLOOKUP(Table_Shelter[[#This Row],[CampName]],CL,2,0),\"\")","v":"MMR001CMP182"},{"$f":"IFERROR(VLOOKUP(Table_Shelter[[#This Row],[CampName]],CL,3,0),\"\")","v":"Open"},{"$f":"IFERROR(Table_Shelter[[#This Row],[HHCovered]]/VLOOKUP(Table_Shelter[[#This Row],[CampName]],CL,4,0),\"\")","v":0.38461538461538464}]
["2013-12-12","UNHCR","KBSS","Kachin","Mansi","Lagatyan ",1,null,null,60,50,null,null,null,null,{"$f":"Table_Shelter[[#This Row],[HHperShelter]]*(Table_Shelter[[#This Row],['#ofTemporaryShelterUnitsBuilt]]+Table_Shelter[[#This Row],['#ofTemporaryShelterUnderConstruction]]+Table_Shelter[[#This Row],['#ofPermanentHouseUnderConstruction]])","v":50},{"$f":"IFERROR(VLOOKUP(Table_Shelter[[#This Row],[CampName]],CL,2,0),\"\")","v":"MMR001CMP202"},{"$f":"IFERROR(VLOOKUP(Table_Shelter[[#This Row],[CampName]],CL,3,0),\"\")","v":"Open"},{"$f":"IFERROR(Table_Shelter[[#This Row],[HHCovered]]/VLOOKUP(Table_Shelter[[#This Row],[CampName]],CL,4,0),\"\")","v":0.22222222222222221}]
[null,null,null,null,null,null,null,null,null,null,null,null,null,null,null,{"$f":"Table_Shelter[[#This Row],[HHperShelter]]*(Table_Shelter[[#This Row],['#ofTemporaryShelterUnitsBuilt]]+Table_Shelter[[#This Row],['#ofTemporaryShelterUnderConstruction]]+Table_Shelter[[#This Row],['#ofPermanentHouseUnderConstruction]])","v":0},{"$f":"IFERROR(VLOOKUP(Table_Shelter[[#This Row],[CampName]],CL,2,0),\"\")","v":""},{"$f":"IFERROR(VLOOKUP(Table_Shelter[[#This Row],[CampName]],CL,3,0),\"\")","v":""},{"$f":"IFERROR(Table_Shelter[[#This Row],[HHCovered]]/VLOOKUP(Table_Shelter[[#This Row],[CampName]],CL,4,0),\"\")","v":""}]
[null,null,null,null,null,null,null,null,null,null,null,null,null,null,null,{"$f":"Table_Shelter[[#This Row],[HHperShelter]]*(Table_Shelter[[#This Row],['#ofTemporaryShelterUnitsBuilt]]+Table_Shelter[[#This Row],['#ofTemporaryShelterUnderConstruction]]+Table_Shelter[[#This Row],['#ofPermanentHouseUnderConstruction]])","v":0},{"$f":"IFERROR(VLOOKUP(Table_Shelter[[#This Row],[CampName]],CL,2,0),\"\")","v":""},{"$f":"IFERROR(VLOOKUP(Table_Shelter[[#This Row],[CampName]],CL,3,0),\"\")","v":""},{"$f":"IFERROR(Table_Shelter[[#This Row],[HHCovered]]/VLOOKUP(Table_Shelter[[#This Row],[CampName]],CL,4,0),\"\")","v":""}]
[null,null,null,null,null,null,null,null,null,null,null,null,null,null,null,{"$f":"Table_Shelter[[#This Row],[HHperShelter]]*(Table_Shelter[[#This Row],['#ofTemporaryShelterUnitsBuilt]]+Table_Shelter[[#This Row],['#ofTemporaryShelterUnderConstruction]]+Table_Shelter[[#This Row],['#ofPermanentHouseUnderConstruction]])","v":0},{"$f":"IFERROR(VLOOKUP(Table_Shelter[[#This Row],[CampName]],CL,2,0),\"\")","v":""},{"$f":"IFERROR(VLOOKUP(Table_Shelter[[#This Row],[CampName]],CL,3,0),\"\")","v":""},{"$f":"IFERROR(Table_Shelter[[#This Row],[HHCovered]]/VLOOKUP(Table_Shelter[[#This Row],[CampName]],CL,4,0),\"\")","v":""}]
[null,null,null,null,null,null,null,null,null,null,null,null,null,null,null,{"$f":"Table_Shelter[[#This Row],[HHperShelter]]*(Table_Shelter[[#This Row],['#ofTemporaryShelterUnitsBuilt]]+Table_Shelter[[#This Row],['#ofTemporaryShelterUnderConstruction]]+Table_Shelter[[#This Row],['#ofPermanentHouseUnderConstruction]])","v":0},{"$f":"IFERROR(VLOOKUP(Table_Shelter[[#This Row],[CampName]],CL,2,0),\"\")","v":""},{"$f":"IFERROR(VLOOKUP(Table_Shelter[[#This Row],[CampName]],CL,3,0),\"\")","v":""},{"$f":"IFERROR(Table_Shelter[[#This Row],[HHCovered]]/VLOOKUP(Table_Shelter[[#This Row],[CampName]],CL,4,0),\"\")","v":""}]

{"sheet":"Sheet2","index":7,"n_rows":103,"n_cols":21,"rows_kept":103,"cut":false,"hidden":true,"merged":[]}
["DateUpdated","Organization","ImplementingPartner","State","Township","CampName","HHperShelter","#ofFamilyTentPlanned(Target)","#ofFamilyTentDistributed","#ofTemporaryShelterPlanned(Target)","#ofTemporaryShelterBuilt","#ofTemporaryShelterUnderConstruction","#ofPermanentHousePlanned(Target)","#ofPermanentHouseBuilt","#ofPermanentHouseUnderConstruction","HHCovered","Pcode","Status","Column1","Column2","Column3"]
["31.12.2012","UNHCR","Shalom","Kachin","Bhamo","Robert Church",1,null,null,null,30,null,null,null,null,30,"MMR001CMP047",{"$error":"#REF!"},null,null,1]
["31.12.2012","UNHCR","KBC","Shan_North","Manton","Mandung - Jinghpaw",1,null,null,10,10,null,null,null,null,10,"MMR015CMP009",{"$error":"#REF!"},null,null,1]
["31.12.2012","UNHCR","KBC","Shan_North","Manton","Howa",1,null,null,10,10,null,null,null,null,10,"MMR015CMP010",{"$error":"#REF!"},null,null,1]
["31.07.2013","UNHCR","KMSS Bhamo","Kachin","Bhamo","AD-2000 Tharthana Compound",1,null,null,132,132,null,null,null,null,132,"MMR001CMP050",{"$error":"#REF!"},null,null,1]
["31.07.2013","UNHCR","KMSS Bhamo","Kachin","Waingmaw","Woi Chyai ",1,null,null,160,null,160,null,null,null,null,"MMR001CMP116",{"$error":"#REF!"},null,null,{"$error":"#N/A"}]
["31.07.2013","UNHCR","KMSS Bhamo","Kachin","Momauk","Momauk Catholic Church (St. Patrick)",1,null,null,12,12,null,null,null,null,12,"MMR001CMP057",{"$error":"#REF!"},null,null,1]
["31.07.2013","UNHCR","KBC","Kachin","Hpakant","Sai Nai Baptish Church, Maw Shan Vil., Seki Mu",1,null,null,5,null,5,null,null,null,null,"MMR001CMP183",{"$error":"#REF!"},null,null,{"$error":"#N/A"}]
["31.07.2013","UNHCR","KBC","Kachin","Hpakant","Ward 2 Sai Taung Baptist Church, Seik Mu ",1,null,null,15,null,15,null,null,null,null,"MMR001CMP184",{"$error":"#REF!"},null,null,{"$error":"#N/A"}]
["31.07.2013","UNHCR","KBC","Kachin","Hpakant","Baptist Church, Hmaw Si Sar(Lon Khin)",1,null,null,20,null,20,null,null,null,null,"MMR001CMP169",{"$error":"#REF!"},null,null,{"$error":"#N/A"}]
["31.07.2013","UNHCR","KBC","Kachin","Hpakant","5 Ward Baptist Church(lon Khin)",1,null,null,20,null,20,null,null,null,null,"MMR001CMP179",{"$error":"#REF!"},null,null,{"$error":"#N/A"}]
["31.07.2013","UNHCR","KBC","Kachin","Hpakant","Nam Ma Phyit COC",1,null,null,40,null,40,null,null,null,null,{"$error":"#N/A"},{"$error":"#N/A"},null,null,{"$error":"#N/A"}]
["31.12.2012","UNHCR","KMSS Bhamo","Kachin","Momauk","Loi Je Catholic Church",1,null,null,0,0,null,null,null,null,0,"MMR001CMP069",{"$error":"#REF!"},null,null,1]
["31.12.2012","UNHCR","KMSS Bhamo","Kachin","Momauk","Je Yang Hka ",1,null,null,249,249,null,null,null,null,249,"MMR001CMP121",{"$error":"#REF!"},null,null,1]
["31.12.2012","UNHCR","KMSS Bhamo","Kachin","Mansi","Mung Ding Pa  (Boarder)",1,null,null,24,24,null,null,null,null,24,"MMR001CMP203",{"$error":"#REF!"},null,null,1]
["31.12.2012","UNHCR","KMSS Bhamo","Kachin","Mansi","Nam Lim Pa - Scattered IDPs in forest",1,null,null,36,36,null,null,null,null,36,"MMR001CMP137",{"$error":"#REF!"},null,null,1]
["31.12.2012","UNHCR","KMSS Bhamo","Kachin","Momauk","Lana Zup Ja ",1,null,null,350,350,null,null,null,null,350,"MMR001CMP128",{"$error":"#REF!"},null,null,1]
["31.12.2012","UNHCR","KMSS Bhamo","Kachin","Momauk","Pa Kahtawng ",1,null,null,130,130,null,null,null,null,130,"MMR001CMP126",{"$error":"#REF!"},null,null,1]
["31.12.2012","UNHCR","KMSS Bhamo","Kachin","Momauk","Loi Je Catholic Church",1,null,null,6,6,null,null,null,null,6,"MMR001CMP069",{"$error":"#REF!"},null,null,1]
["31.12.2012","UNHCR","KMSS Bhamo","Kachin","Shwegu","Shwe Gu Catholic Church",1,null,null,10,10,null,null,null,null,10,"MMR001CMP068",{"$error":"#REF!"},null,null,1]
["31.12.2012","UNHCR","KMSS Bhamo","Kachin","Mansi","Man Wing Catholic Church",1,null,null,200,200,null,null,null,null,200,"MMR001CMP132",{"$error":"#REF!"},null,null,1]
["31.12.2012","UNHCR","KMSS Bhamo","Kachin","Momauk","Man Bung Catholic compound",1,null,null,35,35,null,null,null,null,35,"MMR001CMP062",{"$error":"#REF!"},null,null,1]
["31.12.2012","UNHCR","HCR","Kachin","Bhamo","AD-2000 Tharthana Compound",1,null,null,10,10,null,null,null,null,10,"MMR001CMP050",{"$error":"#REF!"},null,null,1]
["31.12.2012","UNHCR","HCR","Kachin","Bhamo","Phan Khar Kone",1,null,null,30,30,null,null,null,null,30,"MMR001CMP193",{"$error":"#REF!"},null,null,1]
["31.12.2012","UNHCR","HCR","Kachin","Momauk","Seng Ja ",1,null,null,40,40,null,null,null,null,40,"MMR001CMP073",{"$error":"#REF!"},null,null,1]
["31.12.2012","UNHCR","HCR","Kachin","Momauk","Loi Je Lisu Camp",1,null,null,57,57,null,null,null,null,57,"MMR001CMP070",{"$error":"#REF!"},null,null,1]
["31.12.2012","UNHCR","HCR","Kachin","Momauk","Nyaung Na Pin ",1,null,null,45,45,null,null,null,null,45,"MMR001CMP072",{"$error":"#REF!"},null,null,1]
["31.12.2012","UNHCR","HCR","Kachin","Momauk","Loi Je Baptist Church",1,null,null,12,12,null,null,null,null,12,"MMR001CMP071",{"$error":"#REF!"},null,null,1]
["31.12.2012","UNHCR","HCR","Kachin","Mansi","Mansi Baptist Church",1,null,null,10,10,null,null,null,null,10,"MMR001CMP066",{"$error":"#REF!"},null,null,1]
["31.12.2012","UNHCR","HCR","Kachin","Momauk","Man Bung Catholic compound",1,null,null,11,11,null,null,null,null,11,"MMR001CMP062",{"$error":"#REF!"},null,null,1]
["31.12.2012","UNHCR","HCR","Kachin","Momauk","Ni Thaw Ka Monestry",1,null,null,5,5,null,null,null,null,5,"MMR001CMP059",{"$error":"#REF!"},null,null,1]
["31.12.2012","UNHCR","HCR","Kachin","Momauk","Momauk Baptist Church",1,null,null,50,50,null,null,null,null,50,"MMR001CMP056",{"$error":"#REF!"},null,null,1]
["31.12.2012","UNHCR","HCR","Kachin","Bhamo","Ta Gun Taing Monastery (Shwe Kyi Na)",1,null,null,40,40,null,null,null,null,40,"MMR001CMP055",{"$error":"#REF!"},null,null,1]
["31.12.2012","UNHCR","HCR","Kachin","Bhamo","Nant Hlaing Church",1,null,null,10,10,null,null,null,null,10,"MMR001CMP054",{"$error":"#REF!"},null,null,1]
["31.12.2012","UNHCR","HCR","Kachin","Bhamo","Lisu Boarding-House",1,null,null,15,15,null,null,null,null,15,"MMR001CMP049",{"$error":"#REF!"},null,null,1]
["31.12.2012","UNHCR","HCR","Kachin","Bhamo","AD-2000 Tharthana Compound",1,null,null,10,10,null,null,null,null,10,"MMR001CMP050",{"$error":"#REF!"},null,null,1]
["31.12.2012","UNHCR","HCR","Kachin","Bhamo","Robert Church",1,null,null,140,140,null,null,null,null,140,"MMR001CMP047",{"$error":"#REF!"},null,null,1]
["31.12.2012","UNHCR","HCR","Kachin","Waingmaw","Maina Catholic Church (St. Joseph)",1,null,null,120,120,null,null,null,null,120,"MMR001CMP029",{"$error":"#REF!"},null,null,1]
["31.12.2012","UNHCR","HCR","Kachin","Waingmaw","Waingmaw Baptist Zonal Office",1,null,null,5,5,null,null,null,null,5,"MMR001CMP036",{"$error":"#REF!"},null,null,1]
["31.12.2012","UNHCR","HCR","Kachin","Waingmaw","Maina Lawang Baptist Church",1,null,null,5,5,null,null,null,null,5,"MMR001CMP039",{"$error":"#REF!"},null,null,1]
["31.12.2012","UNHCR","HCR","Kachin","Waingmaw","Qtr. 2 Myoma Baptist Church",1,null,null,10,10,null,null,null,null,10,"MMR001CMP025",{"$error":"#REF!"},null,null,1]
["31.12.2012","UNHCR","HCR","Kachin","Myitkyina","Jan Mai Kawng Baptist Church",1,null,null,50,50,null,null,null,null,50,"MMR001CMP018",{"$error":"#REF!"},null,null,1]
["31.12.2012","UNHCR","HCR","Kachin","Myitkyina","Tat Kone Emanuel Church",1,null,null,5,5,null,null,null,null,5,"MMR001CMP004",{"$error":"#REF!"},null,null,1]
["31.12.2012","UNHCR","HCR","Kachin","Myitkyina","Du Kahtawng Qtr. 14",1,null,null,3,3,null,null,null,null,3,"MMR001CMP012",{"$error":"#REF!"},null,null,1]
["31.12.2012","UNHCR","KBC","Kachin","Myitkyina","Le Kone Bethlehem Church",1,null,null,10,10,null,null,null,null,10,"MMR001CMP015",{"$error":"#REF!"},null,null,1]
["31.12.2012","UNHCR","KBC","Kachin","Myitkyina","Tat Kone Baptist Church",1,null,null,60,60,null,null,null,null,60,"MMR001CMP001",{"$error":"#REF!"},null,null,1]
["31.12.2012","UNHCR","KBC","Kachin","Myitkyina","Tat Kone Galile Baptist Church",1,null,null,20,20,null,null,null,null,20,"MMR001CMP003",{"$error":"#REF!"},null,null,1]
["31.12.2012","UNHCR","KBC","Kachin","Myitkyina","Kyun Pin Thar Baptist Church",1,null,null,5,5,null,null,null,null,5,"MMR001CMP013",{"$error":"#REF!"},null,null,1]
["31.12.2012","UNHCR","KBC","Kachin","Myitkyina","Jan Mai Kawng Baptist Church",1,null,null,20,20,null,null,null,null,20,"MMR001CMP018",{"$error":"#REF!"},null,null,1]
["31.12.2012","UNHCR","KBC","Kachin","Myitkyina","Maliyang Baptist Church",1,null,null,20,20,null,null,null,null,20,"MMR001CMP016",{"$error":"#REF!"},null,null,1]
["31.12.2012","UNHCR","KBC","Kachin","Myitkyina","Man Hkring Baptist Church",1,null,null,60,60,null,null,null,null,60,"MMR001CMP008",{"$error":"#REF!"},null,null,1]
["31.12.2012","UNHCR","KBC","Kachin","Myitkyina","Njang Dung Baptist Church ",1,null,null,20,20,null,null,null,null,20,"MMR001CMP002",{"$error":"#REF!"},null,null,1]
["31.12.2012","UNHCR","KBC","Kachin","Myitkyina","Tat Kone San Pya Baptist Church",1,null,null,10,10,null,null,null,null,10,"MMR001CMP005",{"$error":"#REF!"},null,null,1]
["31.12.2012","UNHCR","KBC","Kachin","Myitkyina","Shatapru Sut Ngai Tawng",1,null,null,10,10,null,null,null,null,10,"MMR001CMP006",{"$error":"#REF!"},null,null,1]
["31.12.2012","UNHCR","KBC","Kachin","Myitkyina","Shwe Zet Baptist Church",1,null,null,50,50,null,null,null,null,50,"MMR001CMP009",{"$error":"#REF!"},null,null,1]
["31.12.2012","UNHCR","KBC","Kachin","Myitkyina","Le Kone Ziun Baptist Church ",1,null,null,60,60,null,null,null,null,60,"MMR001CMP014",{"$error":"#REF!"},null,null,1]
["31.12.2012","UNHCR","KBC","Kachin","Waingmaw","Maina Lawang Baptist Church",1,null,null,30,30,null,null,null,null,30,"MMR001CMP039",{"$error":"#REF!"},null,null,1]
["31.12.2012","UNHCR","KBC","Kachin","Waingmaw","Waingmaw Baptist Zonal Office",1,null,null,10,10,null,null,null,null,10,"MMR001CMP036",{"$error":"#REF!"},null,null,1]
["31.12.2012","UNHCR","KBC","Kachin","Waingmaw","Qtr. 2 Myoma Baptist Church",1,null,null,10,10,null,null,null,null,10,"MMR001CMP025",{"$error":"#REF!"},null,null,1]
["31.12.2012","UNHCR","KBC","Kachin","Waingmaw","Maina KBC (Bawng Ring)",1,null,null,400,400,null,null,null,null,400,"MMR001CMP040",{"$error":"#REF!"},null,null,1]
["31.12.2012","UNHCR","KBC","Kachin","Waingmaw","Zai Awng / Mung Ga Zup",1,null,null,325,325,null,null,null,null,325,"MMR001CMP111",{"$error":"#REF!"},null,null,1]
["31.12.2012","UNHCR","KBC","Kachin","Waingmaw","Pajau / Jan Mai",1,null,null,35,35,null,null,null,null,35,"MMR001CMP120",{"$error":"#REF!"},null,null,1]
["31.12.2012","UNHCR","KBC","Kachin","Waingmaw","Shing Jai",1,null,null,170,170,null,null,null,null,170,"MMR001CMP041",{"$error":"#REF!"},null,null,1]
["31.12.2012","UNHCR","KBC","Kachin","Mansi","Man Wing Baptist Church",1,null,null,0,0,null,null,null,null,0,"MMR001CMP133",{"$error":"#REF!"},null,null,1]
["31.12.2012","UNHCR","KBC","Kachin","Namhkan","Nam Hkam (KBC Jaw Wang)",1,null,null,0,0,null,null,null,null,0,"MMR015CMP001",{"$error":"#REF!"},null,null,1]
["31.12.2012","UNHCR","KBC","Kachin","Namtu","Nam Tu",1,null,null,10,10,null,null,null,null,10,{"$error":"#N/A"},{"$error":"#N/A"},null,null,1]
["31.12.2012","UNHCR","KBC","Kachin","Namhkan","Nam Hkam - Nay Win Ni (Palawng)",1,null,null,20,20,null,null,null,null,20,"MMR015CMP004",{"$error":"#REF!"},null,null,1]
["31.12.2012","UNHCR","KBC","Kachin","Myitkyina","Du Kahtawng Qtr. 4",1,null,null,0,0,null,null,null,null,0,"MMR001CMP010",{"$error":"#REF!"},null,null,1]
["31.12.2012","UNHCR","KBC","Kachin","Myitkyina","Du Kahtawng Qtr. 5",1,null,null,0,0,null,null,null,null,0,"MMR001CMP011",{"$error":"#REF!"},null,null,1]
["31.12.2012","UNHCR","KBC","Kachin","Myitkyina","Du Kahtawng Qtr. 14",1,null,null,0,0,null,null,null,null,0,"MMR001CMP012",{"$error":"#REF!"},null,null,1]
["31.12.2012","UNHCR","KBC","Kachin","Mogaung","Kyun Taw Baptist Church ",1,null,null,15,15,null,null,null,null,15,"MMR001CMP078",{"$error":"#REF!"},null,null,1]
["31.12.2012","UNHCR","KBC","Kachin","Mogaung","Mang Hawng Baptist Church",1,null,null,10,10,null,null,null,null,10,"MMR001CMP077",{"$error":"#REF!"},null,null,1]
["31.12.2012","UNHCR","KBC","Kachin","Mogaung","Nat Gyi Kone Baptist Church ",1,null,null,15,15,null,null,null,null,15,"MMR001CMP079",{"$error":"#REF!"},null,null,1]
["31.12.2012","UNHCR","KBC","Kachin","Mohnyin","Nawng Ing (Indawgyi) Baptist Church  ",1,null,null,20,20,null,null,null,null,20,"MMR001CMP152",{"$error":"#REF!"},null,null,1]
["31.12.2012","UNHCR","KMSS","Kachin","Myitkyina","Jan Mai Kawng Catholic Church",1,null,null,20,20,null,null,null,null,20,"MMR001CMP019",{"$error":"#REF!"},null,null,1]
["31.12.2012","UNHCR","KMSS","Kachin","Myitkyina","Nong Pong Camp",1,null,null,21,21,null,null,null,null,21,{"$error":"#N/A"},{"$error":"#N/A"},null,null,1]
["31.12.2012","UNHCR","KMSS","Kachin","Waingmaw","Maina Catholic Church (St. Joseph)",1,null,null,58,58,null,null,null,null,58,"MMR001CMP029",{"$error":"#REF!"},null,null,1]
["31.12.2012","UNHCR","KMSS","Kachin","Waingmaw","Border Post 8",1,null,null,237,237,null,null,null,null,237,"MMR001CMP113",{"$error":"#REF!"},null,null,1]
["31.12.2012","UNHCR","KMSS","Kachin","Waingmaw","Post 6 Camp",1,null,null,0,0,null,null,null,null,0,"MMR001CMP160",{"$error":"#REF!"},null,null,1]
["31.12.2012","UNHCR","KMSS","Kachin","Momauk","Dum Bung ",1,null,null,123,123,null,null,null,null,123,"MMR001CMP123",{"$error":"#REF!"},null,null,1]
["31.12.2012","UNHCR","Shalom","Kachin","Myitkyina","Wun Tho Buddhist Monastery",1,null,null,24,24,null,null,null,null,24,"MMR001CMP022",{"$error":"#REF!"},null,null,1]
["31.12.2012","UNHCR","Shalom","Kachin","Myitkyina","Tat Kone COC Baptist / Tat Kone Htoi San",1,null,null,20,20,null,null,null,null,20,"MMR001CMP023",{"$error":"#REF!"},null,null,1]
["31.12.2012","UNHCR","Shalom","Kachin","Myitkyina","Tat Kone San Pya Baptist Church",1,null,null,5,5,null,null,null,null,5,"MMR001CMP005",{"$error":"#REF!"},null,null,1]
["31.12.2012","UNHCR","Shalom","Kachin","Myitkyina","Maw Hpawng Lhaovo Baptist Church",1,null,null,19,19,null,null,null,null,19,"MMR001CMP021",{"$error":"#REF!"},null,null,1]
["31.12.2012","UNHCR","Shalom","Kachin","Myitkyina","Maw Hpawng Hka Nan Baptist Church",1,null,null,11,11,null,null,null,null,11,"MMR001CMP020",{"$error":"#REF!"},null,null,1]
["31.12.2012","UNHCR","Shalom","Kachin","Waingmaw","Maina AG Church",1,null,null,54,54,null,null,null,null,54,"MMR001CMP031",{"$error":"#REF!"},null,null,1]
["31.12.2012","UNHCR","Shalom","Kachin","Waingmaw","Qtr. 4 Monestry (Thargaya Thayett Taw)",1,null,null,100,100,null,null,null,null,100,"MMR001CMP026",{"$error":"#REF!"},null,null,1]
["31.12.2012","UNHCR","Shalom","Kachin","Waingmaw","Thargaya Lisu Baptist Church",1,null,null,27,27,null,null,null,null,27,"MMR001CMP037",{"$error":"#REF!"},null,null,1]
["31.12.2012","UNHCR","Shalom","Kachin","Waingmaw","Hkat Cho ",1,null,null,50,50,null,null,null,null,50,"MMR001CMP028",{"$error":"#REF!"},null,null,1]
["31.12.2012","UNHCR","Shalom","Kachin","Waingmaw","Qtr. 3 Mu-yin  Baptist Church",1,null,null,12,12,null,null,null,null,12,"MMR001CMP030",{"$error":"#REF!"},null,null,1]
["31.12.2012","UNHCR","Shalom","Kachin","Waingmaw","Waingmaw AG Church",1,null,null,28,28,null,null,null,null,28,"MMR001CMP038",{"$error":"#REF!"},null,null,1]
["31.12.2012","UNHCR","Shalom","Kachin","Waingmaw","Qtr. 2 Lhaovo Baptist Church",1,null,null,45,45,null,null,null,null,45,"MMR001CMP032",{"$error":"#REF!"},null,null,1]
["31.12.2012","UNHCR","Shalom","Kachin","Waingmaw","Mading Baptist Church",1,null,null,25,25,null,null,null,null,25,"MMR001CMP027",{"$error":"#REF!"},null,null,1]
["31.12.2012","UNHCR","Shalom","Kachin","Waingmaw","Lhaovao Baptist Church (LBC)",1,null,null,70,70,null,null,null,null,70,"MMR001CMP195",{"$error":"#REF!"},null,null,1]
["31.12.2012","UNHCR","Shalom","Kachin","Hpakant","Nga Pyaw Taw Baptist Nursery School ",1,null,null,20,20,null,null,null,null,20,"MMR001CMP082",{"$error":"#REF!"},null,null,1]
["31.12.2012","UNHCR","Shalom","Kachin","Hpakant","Maw Wan, Kachin Baptist Church",1,null,null,10,10,null,null,null,null,10,"MMR001CMP085",{"$error":"#REF!"},null,null,1]
["31.12.2012","UNHCR","Shalom","Kachin","Hpakant","Mashi Kahtawng Baptist  Church",1,null,null,10,10,null,null,null,null,10,"MMR001CMP094",{"$error":"#REF!"},null,null,1]
["31.12.2012","UNHCR","Shalom","Kachin","Hpakant","Yumar Baptist Church",1,null,null,10,10,null,null,null,null,10,"MMR001CMP105",{"$error":"#REF!"},null,null,1]
["31.12.2012","UNHCR","HCR","Kachin","Myitkyina","Shatapru Sut Ngai Tawng",1,null,null,40,40,null,null,null,null,40,"MMR001CMP006",{"$error":"#REF!"},null,null,1]
["31.12.2012","UNHCR","HCR","Kachin","Myitkyina","Man Hkring Baptist Church",1,null,null,10,10,null,null,null,null,10,"MMR001CMP008",{"$error":"#REF!"},null,null,1]
["31.12.2012","UNHCR","HCR","Kachin","Myitkyina","Le Kone Ziun Baptist Church ",1,null,null,5,5,null,null,null,null,5,"MMR001CMP014",{"$error":"#REF!"},null,null,1]
["31.12.2012","UNHCR","HCR","Kachin","Myitkyina","Du Kahtawng Qtr. 4",1,null,null,6,6,null,null,null,null,6,"MMR001CMP010",{"$error":"#REF!"},null,null,1]
["31.12.2012","UNHCR","HCR","Kachin","Myitkyina","Du Kahtawng Qtr. 5",1,null,null,3,3,null,null,null,null,3,"MMR001CMP011",{"$error":"#REF!"},null,null,1]

{"sheet":"Shelter_Progress","index":8,"n_rows":97,"n_cols":16,"rows_kept":97,"cut":false,"hidden":false,"merged":[[1,0,1,2]]}
[]
["SHELTER PROGRESS"]
[{"$f":"Report_Date","v":"2014-01-01"}]
[]
["Kachin"]
["Township","Total # of HH (In camps)","Total # of Population (In camps)","Tents Distributed","Temporary Shelter Built","Temporary Shelter Under Construction","Temporary Shelter Planned","Permanent Shelter Built","Permament Shelter Under Construction","Permanent Shelter Planned","Coverage (HH)"," Coverage (in Pop)","Gap - HH","Covered","Ind. Not covered"]
["Bhamo",{"$f":"SUMIFS(Camplist_HH,Camplist_Township,Shelter_Progress!$A7,Camplist_Type_Of_Acc,\"Camp\")","v":1391},{"$f":"SUMIFS(Camplist_Popl,Camplist_Township,Shelter_Progress!$A7,Camplist_Type_Of_Acc,\"Camp\")","v":6356},{"$f":"SUMIF(Col_Shelter_Township,$A7,Col_Shelter_Tent_Dist)","v":0},{"$f":"SUMIF(Col_Shelter_Township,$A7,Col_Shelter_Temp_B)","v":709},{"$f":"SUMIF(Col_Shelter_Township,$A7,Col_Shelter_Temp_U)","v":0},{"$f":"SUMIF(Col_Shelter_Township,$A7,Col_Shelter_Temp_P)","v":709},{"$f":"SUMIF(Col_Shelter_Township,$A7,Col_Shelter_Perm_B)","v":0},{"$f":"SUMIF(Col_Shelter_Township,$A7,Col_Shelter_Perm_U)","v":0},{"$f":"SUMIF(Col_Shelter_Township,$A7,Col_Shelter_Perm_P)","v":0},{"$f":"SUMIF(Col_Shelter_Township,$A7,Shelter_HH_Covered)","v":709},{"$f":"K7*P7","v":3239.6865564342202},{"$f":"B7-K7","v":682},{"$f":"IF(K7=0,0.000001,K7/B7)","v":0.50970524802300499},{"$f":"MAX(0,C7-L7)","v":3116.3134435657798},{"$f":"IF(B7=0,5,C7/B7)","v":4.5693745506829622}]
["Chipwi",{"$f":"SUMIFS(Camplist_HH,Camplist_Township,Shelter_Progress!$A8,Camplist_Type_Of_Acc,\"Camp\")","v":737},{"$f":"SUMIFS(Camplist_Popl,Camplist_Township,Shelter_Progress!$A8,Camplist_Type_Of_Acc,\"Camp\")","v":3583},0,152,0,152,0,0,0,152,{"$f":"K8*P8","v":738.96336499321569},585,{"$f":"IF(K8=0,0.000001,K8/B8)","v":0.2062415196743555},2844.0366350067843,4.8616010854816825]
["Hpakant",{"$f":"SUMIFS(Camplist_HH,Camplist_Township,Shelter_Progress!$A9,Camplist_Type_Of_Acc,\"Camp\")","v":886},{"$f":"SUMIFS(Camplist_Popl,Camplist_Township,Shelter_Progress!$A9,Camplist_Type_Of_Acc,\"Camp\")","v":3863},198,192,0,217,0,0,0,192,837.12866817155759,694,0.21670428893905191,3025.8713318284426,4.3600451467268622]
["Hseni",{"$f":"SUMIFS(Camplist_HH,Camplist_Township,Shelter_Progress!$A10,Camplist_Type_Of_Acc,\"Camp\")","v":67},{"$f":"SUMIFS(Camplist_Popl,Camplist_Township,Shelter_Progress!$A10,Camplist_Type_Of_Acc,\"Camp\")","v":392},0,0,0,0,0,0,0,0,0,67,9.9999999999999995E-7,392,5.8507462686567164]
["Injangyang",{"$f":"SUMIFS(Camplist_HH,Camplist_Township,Shelter_Progress!$A11,Camplist_Type_Of_Acc,\"Camp\")","v":0},{"$f":"SUMIFS(Camplist_Popl,Camplist_Township,Shelter_Progress!$A11,Camplist_Type_Of_Acc,\"Camp\")","v":0},0,0,0,0,0,0,0,0,0,0,9.9999999999999995E-7,0,5]
["Khaunglanhpu",{"$f":"SUMIFS(Camplist_HH,Camplist_Township,Shelter_Progress!$A12,Camplist_Type_Of_Acc,\"Camp\")","v":11},{"$f":"SUMIFS(Camplist_Popl,Camplist_Township,Shelter_Progress!$A12,Camplist_Type_Of_Acc,\"Camp\")","v":17},0,0,0,0,0,0,0,0,0,11,9.9999999999999995E-7,17,1.5454545454545454]
["Kutkai",{"$f":"SUMIFS(Camplist_HH,Camplist_Township,Shelter_Progress!$A13,Camplist_Type_Of_Acc,\"Camp\")","v":531},{"$f":"SUMIFS(Camplist_Popl,Camplist_Township,Shelter_Progress!$A13,Camplist_Type_Of_Acc,\"Camp\")","v":2660},0,224,0,224,0,0,0,224,1122.1092278719398,307,0.42184557438794729,1537.8907721280602,5.0094161958568737]
["Machanbaw",{"$f":"SUMIFS(Camplist_HH,Camplist_Township,Shelter_Progress!$A14,Camplist_Type_Of_Acc,\"Camp\")","v":9},{"$f":"SUMIFS(Camplist_Popl,Camplist_Township,Shelter_Progress!$A14,Camplist_Type_Of_Acc,\"Camp\")","v":27},0,0,0,0,0,0,0,0,{"$f":"K14*P14","v":0},{"$f":"B14-K14","v":9},{"$f":"IF(K14=0,0.000001,K14/B14)","v":9.9999999999999995E-7},{"$f":"MAX(0,C14-L14)","v":27},{"$f":"IF(B15=0,5,C15/B15)","v":4.4435161641845262}]
["Mansi",{"$f":"SUMIFS(Camplist_HH,Camplist_Township,Shelter_Progress!$A15,Camplist_Type_Of_Acc,\"Camp\")","v":2753},{"$f":"SUMIFS(Camplist_Popl,Camplist_Township,Shelter_Progress!$A15,Camplist_Type_Of_Acc,\"Camp\")","v":12233},0,839,0,849,0,0,0,839,{"$f":"K15*P14","v":3728.1100617508173},1914,0.30475844533236468,8504.8899382491836,4.7826086956521738]
["Manton",{"$f":"SUMIFS(Camplist_HH,Camplist_Township,Shelter_Progress!$A16,Camplist_Type_Of_Acc,\"Camp\")","v":69},{"$f":"SUMIFS(Camplist_Popl,Camplist_Township,Shelter_Progress!$A16,Camplist_Type_Of_Acc,\"Camp\")","v":330},0,20,0,20,0,0,0,20,95.65217391304347,49,0.28985507246376813,234.34782608695653,3.7948717948717947]
["Mogaung",{"$f":"SUMIFS(Camplist_HH,Camplist_Township,Shelter_Progress!$A17,Camplist_Type_Of_Acc,\"Camp\")","v":39},{"$f":"SUMIFS(Camplist_Popl,Camplist_Township,Shelter_Progress!$A17,Camplist_Type_Of_Acc,\"Camp\")","v":148},0,40,0,40,0,0,0,40,151.7948717948718,-1,1.0256410256410255,0,4.4444444444444446]
["Mohnyin",{"$f":"SUMIFS(Camplist_HH,Camplist_Township,Shelter_Progress!$A18,Camplist_Type_Of_Acc,\"Camp\")","v":54},{"$f":"SUMIFS(Camplist_Popl,Camplist_Township,Shelter_Progress!$A18,Camplist_Type_Of_Acc,\"Camp\")","v":240},0,32,0,32,0,0,0,32,142.22222222222223,22,0.59259259259259256,97.777777777777771,4.7634534394010295]
["Momauk",{"$f":"SUMIFS(Camplist_HH,Camplist_Township,Shelter_Progress!$A19,Camplist_Type_Of_Acc,\"Camp\")","v":4274},{"$f":"SUMIFS(Camplist_Popl,Camplist_Township,Shelter_Progress!$A19,Camplist_Type_Of_Acc,\"Camp\")","v":20359},0,2300,30,2864,0,0,0,2330,11098.846513804399,1944,0.54515676181562933,9260.1534861956006,4.3351648351648349]
["Muse",{"$f":"SUMIFS(Camplist_HH,Camplist_Township,Shelter_Progress!$A20,Camplist_Type_Of_Acc,\"Camp\")","v":182},{"$f":"SUMIFS(Camplist_Popl,Camplist_Township,Shelter_Progress!$A20,Camplist_Type_Of_Acc,\"Camp\")","v":789},0,10,0,10,0,0,0,10,43.35164835164835,172,5.4945054945054944E-2,745.64835164835165,4.6598735066760364]
["Myitkyina",{"$f":"SUMIFS(Camplist_HH,Camplist_Township,Shelter_Progress!$A21,Camplist_Type_Of_Acc,\"Camp\")","v":1423},{"$f":"SUMIFS(Camplist_Popl,Camplist_Township,Shelter_Progress!$A21,Camplist_Type_Of_Acc,\"Camp\")","v":6631},2,955,0,955,0,0,0,955,4450.1791988756149,468,0.67111735769501057,2180.8208011243851,3.0259740259740258]
["Namhkan",{"$f":"SUMIFS(Camplist_HH,Camplist_Township,Shelter_Progress!$A22,Camplist_Type_Of_Acc,\"Camp\")","v":385},{"$f":"SUMIFS(Camplist_Popl,Camplist_Township,Shelter_Progress!$A22,Camplist_Type_Of_Acc,\"Camp\")","v":1165},0,108,0,108,0,0,0,108,326.80519480519479,277,0.2805194805194805,838.19480519480521,4.2463768115942031]
["Namtu",{"$f":"SUMIFS(Camplist_HH,Camplist_Township,Shelter_Progress!$A23,Camplist_Type_Of_Acc,\"Camp\")","v":138},{"$f":"SUMIFS(Camplist_Popl,Camplist_Township,Shelter_Progress!$A23,Camplist_Type_Of_Acc,\"Camp\")","v":586},0,10,0,10,0,0,0,10,42.463768115942031,128,7.2463768115942032E-2,543.536231884058,4.333333333333333]
["Puta-O",{"$f":"SUMIFS(Camplist_HH,Camplist_Township,Shelter_Progress!$A24,Camplist_Type_Of_Acc,\"Camp\")","v":36},{"$f":"SUMIFS(Camplist_Popl,Camplist_Township,Shelter_Progress!$A24,Camplist_Type_Of_Acc,\"Camp\")","v":156},0,0,0,0,0,0,0,0,0,36,9.9999999999999995E-7,156]
["Shwegu",{"$f":"SUMIFS(Camplist_HH,Camplist_Township,Shelter_Progress!$A25,Camplist_Type_Of_Acc,\"Camp\")","v":501},{"$f":"SUMIFS(Camplist_Popl,Camplist_Township,Shelter_Progress!$A25,Camplist_Type_Of_Acc,\"Camp\")","v":2128},0,76,0,76,0,0,0,76,0,425,{"$f":"IF(K25=0,0.000001,K25/B25)","v":0.15169660678642716},2128]
["Sumprabum",{"$f":"SUMIFS(Camplist_HH,Camplist_Township,Shelter_Progress!$A26,Camplist_Type_Of_Acc,\"Camp\")","v":6},{"$f":"SUMIFS(Camplist_Popl,Camplist_Township,Shelter_Progress!$A26,Camplist_Type_Of_Acc,\"Camp\")","v":38},0,0,0,0,0,0,0,0,0,6,9.9999999999999995E-7,38,{"$f":"IF(B27=0,5,C27/B27)","v":4.9969237079573423}]
["Waingmaw",{"$f":"SUMIFS(Camplist_HH,Camplist_Township,Shelter_Progress!$A27,Camplist_Type_Of_Acc,\"Camp\")","v":4876},{"$f":"SUMIFS(Camplist_Popl,Camplist_Township,Shelter_Progress!$A27,Camplist_Type_Of_Acc,\"Camp\")","v":24365},248,2933,0,2933,0,0,0,2933,14655.977235438884,1943,0.60151763740771125,9709.0227645611158]
["Total",{"$f":"SUM(B7:B27)","v":18368},86066,448,8600,30,9199,0,0,0,8630,40673.290706543572,9738,0.46983885017421601,{"$f":"SUM(O7:O27)","v":45396.504165251295}]
["  ","  "]
[]
["    ","  "]
["Rakhine"]
[]
[]
[]
[]
[]
[]
[]
[]
[]
[]
[]
[]
[]
[]
[]
[]
[]
[]
[]
[]
[]
[]
[]
[]
["Kachin"]
[]
[]
[]
[]
[]
[]
[]
[]
[]
[]
[]
[]
[]
[]
[]
[]
[]
[]
[]
[]
[]
[]
[]
["State","(All)",null,null,null,null,null,"State","(All)"]
[]
["Row Labels","Sum of HHCovered",null,null,null,null,null,null,"Sum of #ofTemporaryShelterUnitsBuilt"]
["DRC",1547,null,null,null,null,null,"DRC",1517]
["UNHCR",12182,null,null,null,null,null,"UNHCR",6022]
["World Vision",86,null,null,null,null,null,"World Vision",86]
["Oxfam",385,null,null,null,null,null,"Oxfam",385]
["IRRC",356,null,null,null,null,null,"IRRC",356]
["Caritas",801,null,null,null,null,null,"Caritas",801]
["Metta",672,null,null,null,null,null,"Metta",672]
["CC",145,null,null,null,null,null,"CC",145]
["KBC Zonal",32,null,null,null,null,null,"KBC Zonal",32]
["Misereor",12,null,null,null,null,null,"Misereor",12]
["Worl d Vision",10,null,null,null,null,null,"Worl d Vision",10]
["Yedai Foundation",10,null,null,null,null,null,"Yedai Foundation",10]
["ACTED",0,null,null,null,null,null,"ACTED"]
["Grand Total",16238,null,null,null,null,null,"Grand Total",10048]

{"sheet":"ShelterAgency","index":9,"n_rows":23,"n_cols":6,"rows_kept":23,"cut":false,"hidden":false,"merged":[[1,0,1,2],[2,0,2,5]]}
[]
["SHELTER SUMMARY BY AGENCY"]
[{"$f":"Report_Date","v":"2014-01-01"}]
[]
["State","(All)","(Select State)"]
[]
["Row Labels","Sum of #ofTemporaryShelterUnitsBuilt","Sum of #ofTemporaryShelterUnderConstruction",null,"State","(All)"]
["ACTED"]
["Caritas",801,null,null,"Row Labels","Sum of HHCovered"]
["CC",145,null,null,"ACTED",0]
["DRC",1517,30,null,"Caritas",801]
["IRRC",356,null,null,"CC",145]
["KBC Zonal",32,null,null,"DRC",1547]
["Metta",672,null,null,"IRRC",356]
["Misereor",12,null,null,"KBC Zonal",32]
["Oxfam",385,null,null,"Metta",672]
["UNHCR",6022,null,null,"Misereor",12]
["Worl d Vision",10,null,null,"Oxfam",385]
["World Vision",86,null,null,"UNHCR",12182]
["Yedai Foundation",10,null,null,"Worl d Vision",10]
["Grand Total",10048,30,null,"World Vision",86]
[null,null,null,null,"Yedai Foundation",10]
[null,null,null,null,"Grand Total",16238]

{"sheet":"Kachin_Shelter_D","index":10,"n_rows":37,"n_cols":7,"rows_kept":37,"cut":false,"hidden":false,"merged":[[2,0,2,7],[13,1,13,3],[13,4,13,6],[1,0,1,8]]}
[]
["Kachin & Northern Shan Shelter Coverage & Gaps"]
[{"$f":"Report_Date","v":"2014-01-01"}]
[]
[]
[]
[]
[]
[]
[]
[]
[]
[]
[null,"Population",null,null,"Shelter"]
["Township","# of HH","# of Ind.","# of Camp","# Ind. Covered","# Ind. Not Covered","% Coverage"]
["Bhamo",{"$f":"SUMIFS(Camplist_HH,Camplist_Township,Kachin_Shelter_D!$A16,Camplist_Type_Of_Acc,\"Camp\")","v":1391},{"$f":"SUMIFS(Camplist_Popl,Camplist_Township,Kachin_Shelter_D!$A16,Camplist_Type_Of_Acc,\"Camp\")","v":6356},{"$f":"COUNTIFS(Camplist_Township,Kachin_Shelter_D!A16,CampList_Status,\"open\",Camplist_Type_Of_Acc,\"Camp\")","v":12},{"$f":"Shelter_Progress!L7","v":3239.6865564342202},{"$f":"Shelter_Progress!O7","v":3116.3134435657798},{"$f":"IF(E16>0,E16/(E16+F16),0.00000001)","v":0.5097052480230051}]
["Chipwi",{"$f":"SUMIFS(Camplist_HH,Camplist_Township,Kachin_Shelter_D!$A17,Camplist_Type_Of_Acc,\"Camp\")","v":737},{"$f":"SUMIFS(Camplist_Popl,Camplist_Township,Kachin_Shelter_D!$A17,Camplist_Type_Of_Acc,\"Camp\")","v":3583},{"$f":"COUNTIFS(Camplist_Township,Kachin_Shelter_D!A17,CampList_Status,\"open\",Camplist_Type_Of_Acc,\"Camp\")","v":5},{"$f":"Shelter_Progress!L8","v":738.96336499321569},{"$f":"Shelter_Progress!O8","v":2844.0366350067843},{"$f":"IF(E17>0,E17/(E17+F17),0.00000001)","v":0.20624151967435547}]
["Hpakant",{"$f":"SUMIFS(Camplist_HH,Camplist_Township,Kachin_Shelter_D!$A18,Camplist_Type_Of_Acc,\"Camp\")","v":886},{"$f":"SUMIFS(Camplist_Popl,Camplist_Township,Kachin_Shelter_D!$A18,Camplist_Type_Of_Acc,\"Camp\")","v":3863},{"$f":"COUNTIFS(Camplist_Township,Kachin_Shelter_D!A18,CampList_Status,\"open\",Camplist_Type_Of_Acc,\"Camp\")","v":24},{"$f":"Shelter_Progress!L9","v":837.12866817155759},{"$f":"Shelter_Progress!O9","v":3025.8713318284426},0.21670428893905191]
["Hseni",{"$f":"SUMIFS(Camplist_HH,Camplist_Township,Kachin_Shelter_D!$A19,Camplist_Type_Of_Acc,\"Camp\")","v":67},{"$f":"SUMIFS(Camplist_Popl,Camplist_Township,Kachin_Shelter_D!$A19,Camplist_Type_Of_Acc,\"Camp\")","v":392},{"$f":"COUNTIFS(Camplist_Township,Kachin_Shelter_D!A19,CampList_Status,\"open\",Camplist_Type_Of_Acc,\"Camp\")","v":1},{"$f":"Shelter_Progress!L10","v":0},{"$f":"Shelter_Progress!O10","v":392},1E-8]
["Injangyang",{"$f":"SUMIFS(Camplist_HH,Camplist_Township,Kachin_Shelter_D!$A20,Camplist_Type_Of_Acc,\"Camp\")","v":0},{"$f":"SUMIFS(Camplist_Popl,Camplist_Township,Kachin_Shelter_D!$A20,Camplist_Type_Of_Acc,\"Camp\")","v":0},{"$f":"COUNTIFS(Camplist_Township,Kachin_Shelter_D!A20,CampList_Status,\"open\",Camplist_Type_Of_Acc,\"Camp\")","v":1},{"$f":"Shelter_Progress!L11","v":0},{"$f":"Shelter_Progress!O11","v":0},1E-8]
["Khaunglanhpu",{"$f":"SUMIFS(Camplist_HH,Camplist_Township,Kachin_Shelter_D!$A21,Camplist_Type_Of_Acc,\"Camp\")","v":11},{"$f":"SUMIFS(Camplist_Popl,Camplist_Township,Kachin_Shelter_D!$A21,Camplist_Type_Of_Acc,\"Camp\")","v":17},{"$f":"COUNTIFS(Camplist_Township,Kachin_Shelter_D!A21,CampList_Status,\"open\",Camplist_Type_Of_Acc,\"Camp\")","v":1},{"$f":"Shelter_Progress!L12","v":0},{"$f":"Shelter_Progress!O12","v":17},1E-8]
["Kutkai",{"$f":"SUMIFS(Camplist_HH,Camplist_Township,Kachin_Shelter_D!$A22,Camplist_Type_Of_Acc,\"Camp\")","v":531},{"$f":"SUMIFS(Camplist_Popl,Camplist_Township,Kachin_Shelter_D!$A22,Camplist_Type_Of_Acc,\"Camp\")","v":2660},{"$f":"COUNTIFS(Camplist_Township,Kachin_Shelter_D!A22,CampList_Status,\"open\",Camplist_Type_Of_Acc,\"Camp\")","v":8},{"$f":"Shelter_Progress!L13","v":1122.1092278719398},{"$f":"Shelter_Progress!O13","v":1537.8907721280602},0.42184557438794729]
["Machanbaw",{"$f":"SUMIFS(Camplist_HH,Camplist_Township,Kachin_Shelter_D!$A23,Camplist_Type_Of_Acc,\"Camp\")","v":9},{"$f":"SUMIFS(Camplist_Popl,Camplist_Township,Kachin_Shelter_D!$A23,Camplist_Type_Of_Acc,\"Camp\")","v":27},{"$f":"COUNTIFS(Camplist_Township,Kachin_Shelter_D!A23,CampList_Status,\"open\",Camplist_Type_Of_Acc,\"Camp\")","v":1},{"$f":"Shelter_Progress!L14","v":0},{"$f":"Shelter_Progress!O14","v":27},{"$f":"IF(E23>0,E23/(E23+F23),0.00000001)","v":1E-8}]
["Mansi",{"$f":"SUMIFS(Camplist_HH,Camplist_Township,Kachin_Shelter_D!$A24,Camplist_Type_Of_Acc,\"Camp\")","v":2753},{"$f":"SUMIFS(Camplist_Popl,Camplist_Township,Kachin_Shelter_D!$A24,Camplist_Type_Of_Acc,\"Camp\")","v":12233},{"$f":"COUNTIFS(Camplist_Township,Kachin_Shelter_D!A24,CampList_Status,\"open\",Camplist_Type_Of_Acc,\"Camp\")","v":13},{"$f":"Shelter_Progress!L15","v":3728.1100617508173},{"$f":"Shelter_Progress!O15","v":8504.8899382491836},0.30475844533236468]
["Manton",{"$f":"SUMIFS(Camplist_HH,Camplist_Township,Kachin_Shelter_D!$A25,Camplist_Type_Of_Acc,\"Camp\")","v":69},{"$f":"SUMIFS(Camplist_Popl,Camplist_Township,Kachin_Shelter_D!$A25,Camplist_Type_Of_Acc,\"Camp\")","v":330},{"$f":"COUNTIFS(Camplist_Township,Kachin_Shelter_D!A25,CampList_Status,\"open\",Camplist_Type_Of_Acc,\"Camp\")","v":4},{"$f":"Shelter_Progress!L16","v":95.65217391304347},{"$f":"Shelter_Progress!O16","v":234.34782608695653},0.28985507246376807]
["Mogaung",{"$f":"SUMIFS(Camplist_HH,Camplist_Township,Kachin_Shelter_D!$A26,Camplist_Type_Of_Acc,\"Camp\")","v":39},{"$f":"SUMIFS(Camplist_Popl,Camplist_Township,Kachin_Shelter_D!$A26,Camplist_Type_Of_Acc,\"Camp\")","v":148},{"$f":"COUNTIFS(Camplist_Township,Kachin_Shelter_D!A26,CampList_Status,\"open\",Camplist_Type_Of_Acc,\"Camp\")","v":3},{"$f":"Shelter_Progress!L17","v":151.7948717948718},{"$f":"Shelter_Progress!O17","v":0},1]
["Mohnyin",{"$f":"SUMIFS(Camplist_HH,Camplist_Township,Kachin_Shelter_D!$A27,Camplist_Type_Of_Acc,\"Camp\")","v":54},{"$f":"SUMIFS(Camplist_Popl,Camplist_Township,Kachin_Shelter_D!$A27,Camplist_Type_Of_Acc,\"Camp\")","v":240},{"$f":"COUNTIFS(Camplist_Township,Kachin_Shelter_D!A27,CampList_Status,\"open\",Camplist_Type_Of_Acc,\"Camp\")","v":3},{"$f":"Shelter_Progress!L18","v":142.22222222222223},{"$f":"Shelter_Progress!O18","v":97.777777777777771},0.59259259259259267]
["Momauk",{"$f":"SUMIFS(Camplist_HH,Camplist_Township,Kachin_Shelter_D!$A28,Camplist_Type_Of_Acc,\"Camp\")","v":4274},{"$f":"SUMIFS(Camplist_Popl,Camplist_Township,Kachin_Shelter_D!$A28,Camplist_Type_Of_Acc,\"Camp\")","v":20359},{"$f":"COUNTIFS(Camplist_Township,Kachin_Shelter_D!A28,CampList_Status,\"open\",Camplist_Type_Of_Acc,\"Camp\")","v":16},{"$f":"Shelter_Progress!L19","v":11098.846513804399},{"$f":"Shelter_Progress!O19","v":9260.1534861956006},0.54515676181562944]
["Muse",{"$f":"SUMIFS(Camplist_HH,Camplist_Township,Kachin_Shelter_D!$A29,Camplist_Type_Of_Acc,\"Camp\")","v":182},{"$f":"SUMIFS(Camplist_Popl,Camplist_Township,Kachin_Shelter_D!$A29,Camplist_Type_Of_Acc,\"Camp\")","v":789},{"$f":"COUNTIFS(Camplist_Township,Kachin_Shelter_D!A29,CampList_Status,\"open\",Camplist_Type_Of_Acc,\"Camp\")","v":3},{"$f":"Shelter_Progress!L20","v":43.35164835164835},{"$f":"Shelter_Progress!O20","v":745.64835164835165},5.4945054945054944E-2]
["Myitkyina",{"$f":"SUMIFS(Camplist_HH,Camplist_Township,Kachin_Shelter_D!$A30,Camplist_Type_Of_Acc,\"Camp\")","v":1423},{"$f":"SUMIFS(Camplist_Popl,Camplist_Township,Kachin_Shelter_D!$A30,Camplist_Type_Of_Acc,\"Camp\")","v":6631},{"$f":"COUNTIFS(Camplist_Township,Kachin_Shelter_D!A30,CampList_Status,\"open\",Camplist_Type_Of_Acc,\"Camp\")","v":25},{"$f":"Shelter_Progress!L21","v":4450.1791988756149},{"$f":"Shelter_Progress!O21","v":2180.8208011243851},0.67111735769501057]
["Namhkan",{"$f":"SUMIFS(Camplist_HH,Camplist_Township,Kachin_Shelter_D!$A31,Camplist_Type_Of_Acc,\"Camp\")","v":385},{"$f":"SUMIFS(Camplist_Popl,Camplist_Township,Kachin_Shelter_D!$A31,Camplist_Type_Of_Acc,\"Camp\")","v":1165},{"$f":"COUNTIFS(Camplist_Township,Kachin_Shelter_D!A31,CampList_Status,\"open\",Camplist_Type_Of_Acc,\"Camp\")","v":7},{"$f":"Shelter_Progress!L22","v":326.80519480519479},{"$f":"Shelter_Progress!O22","v":838.19480519480521},0.2805194805194805]
["Namtu",{"$f":"SUMIFS(Camplist_HH,Camplist_Township,Kachin_Shelter_D!$A32,Camplist_Type_Of_Acc,\"Camp\")","v":138},{"$f":"SUMIFS(Camplist_Popl,Camplist_Township,Kachin_Shelter_D!$A32,Camplist_Type_Of_Acc,\"Camp\")","v":586},{"$f":"COUNTIFS(Camplist_Township,Kachin_Shelter_D!A32,CampList_Status,\"open\",Camplist_Type_Of_Acc,\"Camp\")","v":2},{"$f":"Shelter_Progress!L23","v":42.463768115942031},{"$f":"Shelter_Progress!O23","v":543.536231884058},7.2463768115942032E-2]
["Puta-O",{"$f":"SUMIFS(Camplist_HH,Camplist_Township,Kachin_Shelter_D!$A33,Camplist_Type_Of_Acc,\"Camp\")","v":36},{"$f":"SUMIFS(Camplist_Popl,Camplist_Township,Kachin_Shelter_D!$A33,Camplist_Type_Of_Acc,\"Camp\")","v":156},{"$f":"COUNTIFS(Camplist_Township,Kachin_Shelter_D!A33,CampList_Status,\"open\",Camplist_Type_Of_Acc,\"Camp\")","v":2},{"$f":"Shelter_Progress!L24","v":0},{"$f":"Shelter_Progress!O24","v":156},1E-8]
["Shwegu",{"$f":"SUMIFS(Camplist_HH,Camplist_Township,Kachin_Shelter_D!$A34,Camplist_Type_Of_Acc,\"Camp\")","v":501},{"$f":"SUMIFS(Camplist_Popl,Camplist_Township,Kachin_Shelter_D!$A34,Camplist_Type_Of_Acc,\"Camp\")","v":2128},{"$f":"COUNTIFS(Camplist_Township,Kachin_Shelter_D!A34,CampList_Status,\"open\",Camplist_Type_Of_Acc,\"Camp\")","v":3},{"$f":"Shelter_Progress!L25","v":0},{"$f":"Shelter_Progress!O25","v":2128},1E-8]
["Sumprabum",{"$f":"SUMIFS(Camplist_HH,Camplist_Township,Kachin_Shelter_D!$A35,Camplist_Type_Of_Acc,\"Camp\")","v":6},{"$f":"SUMIFS(Camplist_Popl,Camplist_Township,Kachin_Shelter_D!$A35,Camplist_Type_Of_Acc,\"Camp\")","v":38},{"$f":"COUNTIFS(Camplist_Township,Kachin_Shelter_D!A35,CampList_Status,\"open\",Camplist_Type_Of_Acc,\"Camp\")","v":1},{"$f":"Shelter_Progress!L26","v":0},{"$f":"Shelter_Progress!O26","v":38},1E-8]
["Waingmaw",{"$f":"SUMIFS(Camplist_HH,Camplist_Township,Kachin_Shelter_D!$A36,Camplist_Type_Of_Acc,\"Camp\")","v":4876},{"$f":"SUMIFS(Camplist_Popl,Camplist_Township,Kachin_Shelter_D!$A36,Camplist_Type_Of_Acc,\"Camp\")","v":24365},{"$f":"COUNTIFS(Camplist_Township,Kachin_Shelter_D!A36,CampList_Status,\"open\",Camplist_Type_Of_Acc,\"Camp\")","v":23},{"$f":"Shelter_Progress!L27","v":14655.977235438884},{"$f":"Shelter_Progress!O27","v":9709.0227645611158},0.60151763740771125]
["Total",{"$f":"SUM(B16:B36)","v":18368},{"$f":"SUM(C16:C36)","v":86066},{"$f":"SUM(D16:D36)","v":158},{"$f":"SUM(E16:E36)","v":40673.290706543572},{"$f":"SUM(F16:F36)","v":45396.504165251295},0.47256172466924556]

{"sheet":"Kachin","index":11,"n_rows":21,"n_cols":14,"rows_kept":21,"cut":false,"hidden":true,"merged":[]}
["Camp",null,null,null,null,null,null,"Shelter","NFI",null,null,"Pos",130]
["Pcode","Township","Long.","Lat.","HS","Pop","N_cps","Coverage","Hygiene","Core","Sanitary","Y","X","Column1"]
["MMR001010","Bhamo",97.219583333333318,24.26,1276,5768,{"$f":"CONCATENATE(N3, \" cp\",IF(N3>1,\"s\",\"\"))","v":"13 cps"},0.14498432601880878,0,0,0,{"$f":"1000-ROUND((D3-23.5)*$M$1,0)","v":901},{"$f":"ROUND((C3-96.5)*$M$1,0)+100","v":194},13]
["MMR001005","Chipwi",98.322799999999987,25.917999999999999,95.4,830,"6 cps",0.85953878406708595,1,0,0.95387840670859536,686,337,6]
["MMR001009","Hpakant",96.37375000000003,25.584861111111106,1330,5069,"23 cps",3.759398496240602E-2,0.69172932330827064,0,1,729,84,23]
["MMR001003","Injangyang",97.89587301587305,26.232698412698419,0,0,"1 cp",0,0,0,0,645,281,1]
["MMR001018","Khaunglanhpu",98.438571428571422,27.165142857142865,22,107,"1 cp",0,0,0,0,524,352,1]
["MMR015011","Kutkai",98.1,23.553031914893619,148,571,"8 cps",8.5177519503263813E-2,0,0,1,993,308,8]
["MMR001013","Mansi",97.372845528455244,23.94,1551.2,7286,"11 cps",0.150914193084108,0,0,0,943,213,11]
["MMR015019","Manton",97.266347826086943,23.345826086956535,53,260,"3 cps",0.54196255008529381,0,0,0,1020,200,3]
["MMR001008","Mogaung",96.82479452054794,25.25780821917807,45,188,"3 cps",1,0,0,0,771,142,3]
["MMR001007","Mohnyin",96.376558441558373,24.957077922077939,34,143,"3 cps",1,1,0,0,811,84,3]
["MMR001012","Momauk",97.449510489510473,24.6,5355,25037,"25 cps",0.26441102462473187,0.12549019607843137,0,0.58263305322128844,857,223,25]
["MMR015009","Muse",98.12,23.972235294117642,208,882,"4 cps",0,0,0,0,939,311,4]
["MMR001001","Myitkyina",97.301176470588288,25.24,1434,6480,"25 cps",0.67139423076923077,0.65062761506276146,0,0.25732217573221761,774,204,25]
["MMR015010","Namhkan",97.619855072463778,23.7,284,1367,"7 cps",1,0,0,0,974,246,7]
["MMR015015","Namtu",97.48,23.01813559322035,18,74,"1 cp",1,0,0,0,1063,227,1]
["MMR001014","Puta-O",97.435148514851463,27.327029702970304,0,0,"1 cp",0,0,0,0,502,222,1]
["MMR001011","Shwegu",96.752179487179433,24.233846153846141,535,2153,"4 cps",2.3223409196470042E-2,0,0,0,905,133,4]
["MMR001002","Waingmaw",97.7,25.37,5769,26775,"25 cps",0.57625257205686009,0.37372161553128791,0,4.6281851274050934E-2,{"$f":"1000-ROUND((D20-23.5)*$M$1,0)","v":757},{"$f":"ROUND((C20-96.5)*$M$1,0)+100","v":256},25]
[null,"Kachin/Shan","96.00","27.00",{"$f":"SUBTOTAL(109,Table58[HS])","v":18157.599999999999},{"$f":"SUBTOTAL(109,Table58[Pop])","v":82990},{"$f":"CONCATENATE(Table58[[#Totals],[Column1]],\" camps\")","v":"164 camps"},{"$f":"SUMPRODUCT(Table58[Pop]*Table58[Coverage])/Table58[[#Totals],[Pop]]","v":0.37656602224644431},{"$f":"SUMPRODUCT(Table58[Pop]*Table58[Hygiene])/Table58[[#Totals],[Pop]]","v":0.26320926835187658},{"$f":"SUMPRODUCT(Table58[Pop]*Table58[Core])/Table58[[#Totals],[Pop]]","v":0},{"$f":"SUMPRODUCT(Table58[Pop]*Table58[Sanitary])/Table58[[#Totals],[Pop]]","v":0.28829674777294872},{"$f":"1000-ROUND((D21-23.5)*$M$1,0)","v":545},{"$f":"ROUND((C21-96.5)*$M$1,0)+100","v":35},"164"]

{"sheet":"NFI_Tracking","index":12,"n_rows":1058,"n_cols":31,"rows_kept":1058,"cut":false,"hidden":false,"merged":[[3,0,3,2],[1,0,1,7],[2,0,2,7]]}
[null,null,null,null,null,null,null,null,{"$f":"NFISummary!P1","v":1}]
["NFI TRACKING SHEET"]
[{"$f":"Report_Date","v":"2014-01-01"}]
[]
["Months","Distribution Date","Organization","Implementing Partner","State","Township","Camp Name","Hygiene Kit","NFI Core Kit","Sanitary Kit","Mosquito net","Tarpaulin","Blanket","Kitchen Set","Complementary Kit","Plastic Bucket","Plastic Mat","Hygiene Kit2","NFI Core Kit3","Sanitary Kit4","Mosquito net5","Tarpaulin6","Blanket7","Kitchen Set8","Complementary Kit9","Plastic Bucket ","Plastic  Mat ","Pcode","Status","Coverage"]
[{"$f":"IF(ISBLANK(B6),\"\",(Report_Date-B6)/30)","v":26.366666666666667},"2011-11-02","UNHCR","KBC","Kachin","Myitkyina","Shatapru Sut Ngai Tawng",null,null,0,219,117,219,117,117,117,117,{"$f":"IF(NFI_Expiration=1,IF($A6<VLOOKUP(H$5,NFI,5,0),1,0)*Table_NFI[[#This Row],[Hygiene Kit]],Table_NFI[Hygiene Kit])","v":0},{"$f":"IF(NFI_Expiration=1,IF($A6<VLOOKUP(I$5,NFI,5,0),1,0)*Table_NFI[[#This Row],[NFI Core Kit]],Table_NFI[NFI Core Kit])","v":0},{"$f":"IF(NFI_Expiration=1,IF($A6<VLOOKUP(J$5,NFI,5,0),1,0)*Table_NFI[[#This Row],[Sanitary Kit]],Table_NFI[Sanitary Kit])","v":0},{"$f":"IF(NFI_Expiration=1,IF($A6<VLOOKUP(K$5,NFI,5,0),1,0)*Table_NFI[[#This Row],[Mosquito net]],Table_NFI[Mosquito net])","v":0},{"$f":"IF(NFI_Expiration=1,IF($A6<VLOOKUP(L$5,NFI,5,0),1,0)*Table_NFI[[#This Row],[Tarpaulin]],Table_NFI[[#This Row],[Tarpaulin]])","v":0},{"$f":"IF(NFI_Expiration=1,IF($A6<VLOOKUP(M$5,NFI,5,0),1,0)*Table_NFI[[#This Row],[Blanket]],Table_NFI[[#This Row],[Blanket]])","v":0},{"$f":"IF(NFI_Expiration=1,IF($A6<VLOOKUP(N$5,NFI,5,0),1,0)*Table_NFI[[#This Row],[Kitchen Set]],Table_NFI[Kitchen Set])","v":0},{"$f":"IF(NFI_Expiration=1,IF($A6<VLOOKUP(O$5,NFI,5,0),1,0)*Table_NFI[[#This Row],[Complementary Kit]],Table_NFI[Complementary Kit])","v":0},{"$f":"IF(NFI_Expiration=1,IF($A6<VLOOKUP(P$5,NFI,5,0),1,0)*Table_NFI[[#This Row],[Plastic Bucket]],Table_NFI[Plastic Bucket])","v":0},{"$f":"IF(NFI_Expiration=1,IF($A6<VLOOKUP(Q$5,NFI,5,0),1,0)*Table_NFI[[#This Row],[Plastic Mat]],Table_NFI[Plastic Mat])","v":0},{"$f":"IFERROR(VLOOKUP(Table_NFI[[#This Row],[Camp Name]],CL,2,0),\"\")","v":"MMR001CMP006"},{"$f":"IFERROR(VLOOKUP(Table_NFI[[#This Row],[Camp Name]],CL,3,0),\"\")","v":"Open"},{"$f":"IFERROR(Table_NFI[[#This Row],[Kitchen Set]]/VLOOKUP(Table_NFI[[#This Row],[Camp Name]],CL,4,0),\"\")","v":1.1037735849056605}]
[26.366666666666667,"2011-11-02","UNHCR","KBC","Kachin","Myitkyina","Shatapru Thida Aye Baptist Church",null,null,0,2,1,2,1,1,1,1,{"$f":"IF(NFI_Expiration=1,IF($A7<VLOOKUP(H$5,NFI,5,0),1,0)*Table_NFI[[#This Row],[Hygiene Kit]],Table_NFI[Hygiene Kit])","v":0},{"$f":"IF(NFI_Expiration=1,IF($A7<VLOOKUP(I$5,NFI,5,0),1,0)*Table_NFI[[#This Row],[NFI Core Kit]],Table_NFI[NFI Core Kit])","v":0},{"$f":"IF(NFI_Expiration=1,IF($A7<VLOOKUP(J$5,NFI,5,0),1,0)*Table_NFI[[#This Row],[Sanitary Kit]],Table_NFI[Sanitary Kit])","v":0},{"$f":"IF(NFI_Expiration=1,IF($A7<VLOOKUP(K$5,NFI,5,0),1,0)*Table_NFI[[#This Row],[Mosquito net]],Table_NFI[Mosquito net])","v":0},{"$f":"IF(NFI_Expiration=1,IF($A7<VLOOKUP(L$5,NFI,5,0),1,0)*Table_NFI[[#This Row],[Tarpaulin]],Table_NFI[[#This Row],[Tarpaulin]])","v":0},{"$f":"IF(NFI_Expiration=1,IF($A7<VLOOKUP(M$5,NFI,5,0),1,0)*Table_NFI[[#This Row],[Blanket]],Table_NFI[[#This Row],[Blanket]])","v":0},{"$f":"IF(NFI_Expiration=1,IF($A7<VLOOKUP(N$5,NFI,5,0),1,0)*Table_NFI[[#This Row],[Kitchen Set]],Table_NFI[Kitchen Set])","v":0},{"$f":"IF(NFI_Expiration=1,IF($A7<VLOOKUP(O$5,NFI,5,0),1,0)*Table_NFI[[#This Row],[Complementary Kit]],Table_NFI[Complementary Kit])","v":0},{"$f":"IF(NFI_Expiration=1,IF($A7<VLOOKUP(P$5,NFI,5,0),1,0)*Table_NFI[[#This Row],[Plastic Bucket]],Table_NFI[Plastic Bucket])","v":0},{"$f":"IF(NFI_Expiration=1,IF($A7<VLOOKUP(Q$5,NFI,5,0),1,0)*Table_NFI[[#This Row],[Plastic Mat]],Table_NFI[Plastic Mat])","v":0},{"$f":"IFERROR(VLOOKUP(Table_NFI[[#This Row],[Camp Name]],CL,2,0),\"\")","v":"MMR001CMP007"},{"$f":"IFERROR(VLOOKUP(Table_NFI[[#This Row],[Camp Name]],CL,3,0),\"\")","v":"Open"},{"$f":"IFERROR(Table_NFI[[#This Row],[Kitchen Set]]/VLOOKUP(Table_NFI[[#This Row],[Camp Name]],CL,4,0),\"\")","v":6.6666666666666666E-2}]
[26.366666666666667,"2011-11-02","UNHCR","KBC","Kachin","Myitkyina","Man Hkring Baptist Church",null,null,0,112,68,112,68,68,68,68,{"$f":"IF(NFI_Expiration=1,IF($A8<VLOOKUP(H$5,NFI,5,0),1,0)*Table_NFI[[#This Row],[Hygiene Kit]],Table_NFI[Hygiene Kit])","v":0},{"$f":"IF(NFI_Expiration=1,IF($A8<VLOOKUP(I$5,NFI,5,0),1,0)*Table_NFI[[#This Row],[NFI Core Kit]],Table_NFI[NFI Core Kit])","v":0},{"$f":"IF(NFI_Expiration=1,IF($A8<VLOOKUP(J$5,NFI,5,0),1,0)*Table_NFI[[#This Row],[Sanitary Kit]],Table_NFI[Sanitary Kit])","v":0},{"$f":"IF(NFI_Expiration=1,IF($A8<VLOOKUP(K$5,NFI,5,0),1,0)*Table_NFI[[#This Row],[Mosquito net]],Table_NFI[Mosquito net])","v":0},{"$f":"IF(NFI_Expiration=1,IF($A8<VLOOKUP(L$5,NFI,5,0),1,0)*Table_NFI[[#This Row],[Tarpaulin]],Table_NFI[[#This Row],[Tarpaulin]])","v":0},{"$f":"IF(NFI_Expiration=1,IF($A8<VLOOKUP(M$5,NFI,5,0),1,0)*Table_NFI[[#This Row],[Blanket]],Table_NFI[[#This Row],[Blanket]])","v":0},{"$f":"IF(NFI_Expiration=1,IF($A8<VLOOKUP(N$5,NFI,5,0),1,0)*Table_NFI[[#This Row],[Kitchen Set]],Table_NFI[Kitchen Set])","v":0},{"$f":"IF(NFI_Expiration=1,IF($A8<VLOOKUP(O$5,NFI,5,0),1,0)*Table_NFI[[#This Row],[Complementary Kit]],Table_NFI[Complementary Kit])","v":0},{"$f":"IF(NFI_Expiration=1,IF($A8<VLOOKUP(P$5,NFI,5,0),1,0)*Table_NFI[[#This Row],[Plastic Bucket]],Table_NFI[Plastic Bucket])","v":0},{"$f":"IF(NFI_Expiration=1,IF($A8<VLOOKUP(Q$5,NFI,5,0),1,0)*Table_NFI[[#This Row],[Plastic Mat]],Table_NFI[Plastic Mat])","v":0},{"$f":"IFERROR(VLOOKUP(Table_NFI[[#This Row],[Camp Name]],CL,2,0),\"\")","v":"MMR001CMP008"},{"$f":"IFERROR(VLOOKUP(Table_NFI[[#This Row],[Camp Name]],CL,3,0),\"\")","v":"Open"},{"$f":"IFERROR(Table_NFI[[#This Row],[Kitchen Set]]/VLOOKUP(Table_NFI[[#This Row],[Camp Name]],CL,4,0),\"\")","v":0.71578947368421053}]
[26.366666666666667,"2011-11-02","UNHCR","KBC","Kachin","Myitkyina","Du Kahtawng Qtr. 4",null,null,0,0,6,0,6,6,6,6,{"$f":"IF(NFI_Expiration=1,IF($A9<VLOOKUP(H$5,NFI,5,0),1,0)*Table_NFI[[#This Row],[Hygiene Kit]],Table_NFI[Hygiene Kit])","v":0},{"$f":"IF(NFI_Expiration=1,IF($A9<VLOOKUP(I$5,NFI,5,0),1,0)*Table_NFI[[#This Row],[NFI Core Kit]],Table_NFI[NFI Core Kit])","v":0},{"$f":"IF(NFI_Expiration=1,IF($A9<VLOOKUP(J$5,NFI,5,0),1,0)*Table_NFI[[#This Row],[Sanitary Kit]],Table_NFI[Sanitary Kit])","v":0},{"$f":"IF(NFI_Expiration=1,IF($A9<VLOOKUP(K$5,NFI,5,0),1,0)*Table_NFI[[#This Row],[Mosquito net]],Table_NFI[Mosquito net])","v":0},{"$f":"IF(NFI_Expiration=1,IF($A9<VLOOKUP(L$5,NFI,5,0),1,0)*Table_NFI[[#This Row],[Tarpaulin]],Table_NFI[[#This Row],[Tarpaulin]])","v":0},{"$f":"IF(NFI_Expiration=1,IF($A9<VLOOKUP(M$5,NFI,5,0),1,0)*Table_NFI[[#This Row],[Blanket]],Table_NFI[[#This Row],[Blanket]])","v":0},{"$f":"IF(NFI_Expiration=1,IF($A9<VLOOKUP(N$5,NFI,5,0),1,0)*Table_NFI[[#This Row],[Kitchen Set]],Table_NFI[Kitchen Set])","v":0},{"$f":"IF(NFI_Expiration=1,IF($A9<VLOOKUP(O$5,NFI,5,0),1,0)*Table_NFI[[#This Row],[Complementary Kit]],Table_NFI[Complementary Kit])","v":0},{"$f":"IF(NFI_Expiration=1,IF($A9<VLOOKUP(P$5,NFI,5,0),1,0)*Table_NFI[[#This Row],[Plastic Bucket]],Table_NFI[Plastic Bucket])","v":0},{"$f":"IF(NFI_Expiration=1,IF($A9<VLOOKUP(Q$5,NFI,5,0),1,0)*Table_NFI[[#This Row],[Plastic Mat]],Table_NFI[Plastic Mat])","v":0},{"$f":"IFERROR(VLOOKUP(Table_NFI[[#This Row],[Camp Name]],CL,2,0),\"\")","v":"MMR001CMP010"},{"$f":"IFERROR(VLOOKUP(Table_NFI[[#This Row],[Camp Name]],CL,3,0),\"\")","v":"Open"},{"$f":"IFERROR(Table_NFI[[#This Row],[Kitchen Set]]/VLOOKUP(Table_NFI[[#This Row],[Camp Name]],CL,4,0),\"\")","v":1}]
[26.366666666666667,"2011-11-02","UNHCR","KBC","Kachin","Myitkyina","Du Kahtawng Qtr. 5",null,null,0,39,8,39,8,8,8,8,{"$f":"IF(NFI_Expiration=1,IF($A10<VLOOKUP(H$5,NFI,5,0),1,0)*Table_NFI[[#This Row],[Hygiene Kit]],Table_NFI[Hygiene Kit])","v":0},{"$f":"IF(NFI_Expiration=1,IF($A10<VLOOKUP(I$5,NFI,5,0),1,0)*Table_NFI[[#This Row],[NFI Core Kit]],Table_NFI[NFI Core Kit])","v":0},{"$f":"IF(NFI_Expiration=1,IF($A10<VLOOKUP(J$5,NFI,5,0),1,0)*Table_NFI[[#This Row],[Sanitary Kit]],Table_NFI[Sanitary Kit])","v":0},{"$f":"IF(NFI_Expiration=1,IF($A10<VLOOKUP(K$5,NFI,5,0),1,0)*Table_NFI[[#This Row],[Mosquito net]],Table_NFI[Mosquito net])","v":0},{"$f":"IF(NFI_Expiration=1,IF($A10<VLOOKUP(L$5,NFI,5,0),1,0)*Table_NFI[[#This Row],[Tarpaulin]],Table_NFI[[#This Row],[Tarpaulin]])","v":0},{"$f":"IF(NFI_Expiration=1,IF($A10<VLOOKUP(M$5,NFI,5,0),1,0)*Table_NFI[[#This Row],[Blanket]],Table_NFI[[#This Row],[Blanket]])","v":0},{"$f":"IF(NFI_Expiration=1,IF($A10<VLOOKUP(N$5,NFI,5,0),1,0)*Table_NFI[[#This Row],[Kitchen Set]],Table_NFI[Kitchen Set])","v":0},{"$f":"IF(NFI_Expiration=1,IF($A10<VLOOKUP(O$5,NFI,5,0),1,0)*Table_NFI[[#This Row],[Complementary Kit]],Table_NFI[Complementary Kit])","v":0},{"$f":"IF(NFI_Expiration=1,IF($A10<VLOOKUP(P$5,NFI,5,0),1,0)*Table_NFI[[#This Row],[Plastic Bucket]],Table_NFI[Plastic Bucket])","v":0},{"$f":"IF(NFI_Expiration=1,IF($A10<VLOOKUP(Q$5,NFI,5,0),1,0)*Table_NFI[[#This Row],[Plastic Mat]],Table_NFI[Plastic Mat])","v":0},{"$f":"IFERROR(VLOOKUP(Table_NFI[[#This Row],[Camp Name]],CL,2,0),\"\")","v":"MMR001CMP011"},{"$f":"IFERROR(VLOOKUP(Table_NFI[[#This Row],[Camp Name]],CL,3,0),\"\")","v":"Open"},{"$f":"IFERROR(Table_NFI[[#This Row],[Kitchen Set]]/VLOOKUP(Table_NFI[[#This Row],[Camp Name]],CL,4,0),\"\")","v":1}]
[26.366666666666667,"2011-11-02","UNHCR","KBC","Kachin","Myitkyina","Du Kahtawng Qtr. 14",null,null,0,0,5,0,5,5,5,5,{"$f":"IF(NFI_Expiration=1,IF($A11<VLOOKUP(H$5,NFI,5,0),1,0)*Table_NFI[[#This Row],[Hygiene Kit]],Table_NFI[Hygiene Kit])","v":0},{"$f":"IF(NFI_Expiration=1,IF($A11<VLOOKUP(I$5,NFI,5,0),1,0)*Table_NFI[[#This Row],[NFI Core Kit]],Table_NFI[NFI Core Kit])","v":0},{"$f":"IF(NFI_Expiration=1,IF($A11<VLOOKUP(J$5,NFI,5,0),1,0)*Table_NFI[[#This Row],[Sanitary Kit]],Table_NFI[Sanitary Kit])","v":0},{"$f":"IF(NFI_Expiration=1,IF($A11<VLOOKUP(K$5,NFI,5,0),1,0)*Table_NFI[[#This Row],[Mosquito net]],Table_NFI[Mosquito net])","v":0},{"$f":"IF(NFI_Expiration=1,IF($A11<VLOOKUP(L$5,NFI,5,0),1,0)*Table_NFI[[#This Row],[Tarpaulin]],Table_NFI[[#This Row],[Tarpaulin]])","v":0},{"$f":"IF(NFI_Expiration=1,IF($A11<VLOOKUP(M$5,NFI,5,0),1,0)*Table_NFI[[#This Row],[Blanket]],Table_NFI[[#This Row],[Blanket]])","v":0},{"$f":"IF(NFI_Expiration=1,IF($A11<VLOOKUP(N$5,NFI,5,0),1,0)*Table_NFI[[#This Row],[Kitchen Set]],Table_NFI[Kitchen Set])","v":0},{"$f":"IF(NFI_Expiration=1,IF($A11<VLOOKUP(O$5,NFI,5,0),1,0)*Table_NFI[[#This Row],[Complementary Kit]],Table_NFI[Complementary Kit])","v":0},{"$f":"IF(NFI_Expiration=1,IF($A11<VLOOKUP(P$5,NFI,5,0),1,0)*Table_NFI[[#This Row],[Plastic Bucket]],Table_NFI[Plastic Bucket])","v":0},{"$f":"IF(NFI_Expiration=1,IF($A11<VLOOKUP(Q$5,NFI,5,0),1,0)*Table_NFI[[#This Row],[Plastic Mat]],Table_NFI[Plastic Mat])","v":0},{"$f":"IFERROR(VLOOKUP(Table_NFI[[#This Row],[Camp Name]],CL,2,0),\"\")","v":"MMR001CMP012"},{"$f":"IFERROR(VLOOKUP(Table_NFI[[#This Row],[Camp Name]],CL,3,0),\"\")","v":"Open"},{"$f":"IFERROR(Table_NFI[[#This Row],[Kitchen Set]]/VLOOKUP(Table_NFI[[#This Row],[Camp Name]],CL,4,0),\"\")","v":0.83333333333333337}]
[26.333333333333332,"2011-11-03","UNHCR","KBC","Kachin","Myitkyina","Tat Kone Baptist Church",null,null,0,73,34,73,34,34,34,34,{"$f":"IF(NFI_Expiration=1,IF($A12<VLOOKUP(H$5,NFI,5,0),1,0)*Table_NFI[[#This Row],[Hygiene Kit]],Table_NFI[Hygiene Kit])","v":0},{"$f":"IF(NFI_Expiration=1,IF($A12<VLOOKUP(I$5,NFI,5,0),1,0)*Table_NFI[[#This Row],[NFI Core Kit]],Table_NFI[NFI Core Kit])","v":0},{"$f":"IF(NFI_Expiration=1,IF($A12<VLOOKUP(J$5,NFI,5,0),1,0)*Table_NFI[[#This Row],[Sanitary Kit]],Table_NFI[Sanitary Kit])","v":0},{"$f":"IF(NFI_Expiration=1,IF($A12<VLOOKUP(K$5,NFI,5,0),1,0)*Table_NFI[[#This Row],[Mosquito net]],Table_NFI[Mosquito net])","v":0},{"$f":"IF(NFI_Expiration=1,IF($A12<VLOOKUP(L$5,NFI,5,0),1,0)*Table_NFI[[#This Row],[Tarpaulin]],Table_NFI[[#This Row],[Tarpaulin]])","v":0},{"$f":"IF(NFI_Expiration=1,IF($A12<VLOOKUP(M$5,NFI,5,0),1,0)*Table_NFI[[#This Row],[Blanket]],Table_NFI[[#This Row],[Blanket]])","v":0},{"$f":"IF(NFI_Expiration=1,IF($A12<VLOOKUP(N$5,NFI,5,0),1,0)*Table_NFI[[#This Row],[Kitchen Set]],Table_NFI[Kitchen Set])","v":0},{"$f":"IF(NFI_Expiration=1,IF($A12<VLOOKUP(O$5,NFI,5,0),1,0)*Table_NFI[[#This Row],[Complementary Kit]],Table_NFI[Complementary Kit])","v":0},{"$f":"IF(NFI_Expiration=1,IF($A12<VLOOKUP(P$5,NFI,5,0),1,0)*Table_NFI[[#This Row],[Plastic Bucket]],Table_NFI[Plastic Bucket])","v":0},{"$f":"IF(NFI_Expiration=1,IF($A12<VLOOKUP(Q$5,NFI,5,0),1,0)*Table_NFI[[#This Row],[Plastic Mat]],Table_NFI[Plastic Mat])","v":0},{"$f":"IFERROR(VLOOKUP(Table_NFI[[#This Row],[Camp Name]],CL,2,0),\"\")","v":"MMR001CMP001"},{"$f":"IFERROR(VLOOKUP(Table_NFI[[#This Row],[Camp Name]],CL,3,0),\"\")","v":"Open"},{"$f":"IFERROR(Table_NFI[[#This Row],[Kitchen Set]]/VLOOKUP(Table_NFI[[#This Row],[Camp Name]],CL,4,0),\"\")","v":0.6071428571428571}]
[26.333333333333332,"2011-11-03","UNHCR","KMSS","Kachin","Myitkyina","Tat Kone Emanuel Church",null,null,0,18,8,18,8,8,8,8,{"$f":"IF(NFI_Expiration=1,IF($A13<VLOOKUP(H$5,NFI,5,0),1,0)*Table_NFI[[#This Row],[Hygiene Kit]],Table_NFI[Hygiene Kit])","v":0},{"$f":"IF(NFI_Expiration=1,IF($A13<VLOOKUP(I$5,NFI,5,0),1,0)*Table_NFI[[#This Row],[NFI Core Kit]],Table_NFI[NFI Core Kit])","v":0},{"$f":"IF(NFI_Expiration=1,IF($A13<VLOOKUP(J$5,NFI,5,0),1,0)*Table_NFI[[#This Row],[Sanitary Kit]],Table_NFI[Sanitary Kit])","v":0},{"$f":"IF(NFI_Expiration=1,IF($A13<VLOOKUP(K$5,NFI,5,0),1,0)*Table_NFI[[#This Row],[Mosquito net]],Table_NFI[Mosquito net])","v":0},{"$f":"IF(NFI_Expiration=1,IF($A13<VLOOKUP(L$5,NFI,5,0),1,0)*Table_NFI[[#This Row],[Tarpaulin]],Table_NFI[[#This Row],[Tarpaulin]])","v":0},{"$f":"IF(NFI_Expiration=1,IF($A13<VLOOKUP(M$5,NFI,5,0),1,0)*Table_NFI[[#This Row],[Blanket]],Table_NFI[[#This Row],[Blanket]])","v":0},{"$f":"IF(NFI_Expiration=1,IF($A13<VLOOKUP(N$5,NFI,5,0),1,0)*Table_NFI[[#This Row],[Kitchen Set]],Table_NFI[Kitchen Set])","v":0},{"$f":"IF(NFI_Expiration=1,IF($A13<VLOOKUP(O$5,NFI,5,0),1,0)*Table_NFI[[#This Row],[Complementary Kit]],Table_NFI[Complementary Kit])","v":0},{"$f":"IF(NFI_Expiration=1,IF($A13<VLOOKUP(P$5,NFI,5,0),1,0)*Table_NFI[[#This Row],[Plastic Bucket]],Table_NFI[Plastic Bucket])","v":0},{"$f":"IF(NFI_Expiration=1,IF($A13<VLOOKUP(Q$5,NFI,5,0),1,0)*Table_NFI[[#This Row],[Plastic Mat]],Table_NFI[Plastic Mat])","v":0},{"$f":"IFERROR(VLOOKUP(Table_NFI[[#This Row],[Camp Name]],CL,2,0),\"\")","v":"MMR001CMP004"},{"$f":"IFERROR(VLOOKUP(Table_NFI[[#This Row],[Camp Name]],CL,3,0),\"\")","v":"Open"},{"$f":"IFERROR(Table_NFI[[#This Row],[Kitchen Set]]/VLOOKUP(Table_NFI[[#This Row],[Camp Name]],CL,4,0),\"\")","v":0.5714285714285714}]
[26.333333333333332,"2011-11-03","UNHCR","KMSS","Kachin","Myitkyina","Shwe Zet Baptist Church",null,null,0,18,8,18,8,8,8,8,{"$f":"IF(NFI_Expiration=1,IF($A14<VLOOKUP(H$5,NFI,5,0),1,0)*Table_NFI[[#This Row],[Hygiene Kit]],Table_NFI[Hygiene Kit])","v":0},{"$f":"IF(NFI_Expiration=1,IF($A14<VLOOKUP(I$5,NFI,5,0),1,0)*Table_NFI[[#This Row],[NFI Core Kit]],Table_NFI[NFI Core Kit])","v":0},{"$f":"IF(NFI_Expiration=1,IF($A14<VLOOKUP(J$5,NFI,5,0),1,0)*Table_NFI[[#This Row],[Sanitary Kit]],Table_NFI[Sanitary Kit])","v":0},{"$f":"IF(NFI_Expiration=1,IF($A14<VLOOKUP(K$5,NFI,5,0),1,0)*Table_NFI[[#This Row],[Mosquito net]],Table_NFI[Mosquito net])","v":0},{"$f":"IF(NFI_Expiration=1,IF($A14<VLOOKUP(L$5,NFI,5,0),1,0)*Table_NFI[[#This Row],[Tarpaulin]],Table_NFI[[#This Row],[Tarpaulin]])","v":0},{"$f":"IF(NFI_Expiration=1,IF($A14<VLOOKUP(M$5,NFI,5,0),1,0)*Table_NFI[[#This Row],[Blanket]],Table_NFI[[#This Row],[Blanket]])","v":0},{"$f":"IF(NFI_Expiration=1,IF($A14<VLOOKUP(N$5,NFI,5,0),1,0)*Table_NFI[[#This Row],[Kitchen Set]],Table_NFI[Kitchen Set])","v":0},{"$f":"IF(NFI_Expiration=1,IF($A14<VLOOKUP(O$5,NFI,5,0),1,0)*Table_NFI[[#This Row],[Complementary Kit]],Table_NFI[Complementary Kit])","v":0},{"$f":"IF(NFI_Expiration=1,IF($A14<VLOOKUP(P$5,NFI,5,0),1,0)*Table_NFI[[#This Row],[Plastic Bucket]],Table_NFI[Plastic Bucket])","v":0},{"$f":"IF(NFI_Expiration=1,IF($A14<VLOOKUP(Q$5,NFI,5,0),1,0)*Table_NFI[[#This Row],[Plastic Mat]],Table_NFI[Plastic Mat])","v":0},{"$f":"IFERROR(VLOOKUP(Table_NFI[[#This Row],[Camp Name]],CL,2,0),\"\")","v":"MMR001CMP009"},{"$f":"IFERROR(VLOOKUP(Table_NFI[[#This Row],[Camp Name]],CL,3,0),\"\")","v":"Open"},{"$f":"IFERROR(Table_NFI[[#This Row],[Kitchen Set]]/VLOOKUP(Table_NFI[[#This Row],[Camp Name]],CL,4,0),\"\")","v":9.5238095238095233E-2}]
[26.333333333333332,"2011-11-03","UNHCR","KBC","Kachin","Myitkyina","Le Kone Ziun Baptist Church ",null,null,0,116,49,116,49,49,49,49,{"$f":"IF(NFI_Expiration=1,IF($A15<VLOOKUP(H$5,NFI,5,0),1,0)*Table_NFI[[#This Row],[Hygiene Kit]],Table_NFI[Hygiene Kit])","v":0},{"$f":"IF(NFI_Expiration=1,IF($A15<VLOOKUP(I$5,NFI,5,0),1,0)*Table_NFI[[#This Row],[NFI Core Kit]],Table_NFI[NFI Core Kit])","v":0},{"$f":"IF(NFI_Expiration=1,IF($A15<VLOOKUP(J$5,NFI,5,0),1,0)*Table_NFI[[#This Row],[Sanitary Kit]],Table_NFI[Sanitary Kit])","v":0},{"$f":"IF(NFI_Expiration=1,IF($A15<VLOOKUP(K$5,NFI,5,0),1,0)*Table_NFI[[#This Row],[Mosquito net]],Table_NFI[Mosquito net])","v":0},{"$f":"IF(NFI_Expiration=1,IF($A15<VLOOKUP(L$5,NFI,5,0),1,0)*Table_NFI[[#This Row],[Tarpaulin]],Table_NFI[[#This Row],[Tarpaulin]])","v":0},{"$f":"IF(NFI_Expiration=1,IF($A15<VLOOKUP(M$5,NFI,5,0),1,0)*Table_NFI[[#This Row],[Blanket]],Table_NFI[[#This Row],[Blanket]])","v":0},{"$f":"IF(NFI_Expiration=1,IF($A15<VLOOKUP(N$5,NFI,5,0),1,0)*Table_NFI[[#This Row],[Kitchen Set]],Table_NFI[Kitchen Set])","v":0},{"$f":"IF(NFI_Expiration=1,IF($A15<VLOOKUP(O$5,NFI,5,0),1,0)*Table_NFI[[#This Row],[Complementary Kit]],Table_NFI[Complementary Kit])","v":0},{"$f":"IF(NFI_Expiration=1,IF($A15<VLOOKUP(P$5,NFI,5,0),1,0)*Table_NFI[[#This Row],[Plastic Bucket]],Table_NFI[Plastic Bucket])","v":0},{"$f":"IF(NFI_Expiration=1,IF($A15<VLOOKUP(Q$5,NFI,5,0),1,0)*Table_NFI[[#This Row],[Plastic Mat]],Table_NFI[Plastic Mat])","v":0},{"$f":"IFERROR(VLOOKUP(Table_NFI[[#This Row],[Camp Name]],CL,2,0),\"\")","v":"MMR001CMP014"},{"$f":"IFERROR(VLOOKUP(Table_NFI[[#This Row],[Camp Name]],CL,3,0),\"\")","v":"Open"},{"$f":"IFERROR(Table_NFI[[#This Row],[Kitchen Set]]/VLOOKUP(Table_NFI[[#This Row],[Camp Name]],CL,4,0),\"\")","v":0.33561643835616439}]
[26.333333333333332,"2011-11-03","UNHCR","KMSS","Kachin","Myitkyina","Jan Mai Kawng Baptist Church",null,null,0,106,52,106,52,52,52,52,{"$f":"IF(NFI_Expiration=1,IF($A16<VLOOKUP(H$5,NFI,5,0),1,0)*Table_NFI[[#This Row],[Hygiene Kit]],Table_NFI[Hygiene Kit])","v":0},{"$f":"IF(NFI_Expiration=1,IF($A16<VLOOKUP(I$5,NFI,5,0),1,0)*Table_NFI[[#This Row],[NFI Core Kit]],Table_NFI[NFI Core Kit])","v":0},{"$f":"IF(NFI_Expiration=1,IF($A16<VLOOKUP(J$5,NFI,5,0),1,0)*Table_NFI[[#This Row],[Sanitary Kit]],Table_NFI[Sanitary Kit])","v":0},{"$f":"IF(NFI_Expiration=1,IF($A16<VLOOKUP(K$5,NFI,5,0),1,0)*Table_NFI[[#This Row],[Mosquito net]],Table_NFI[Mosquito net])","v":0},{"$f":"IF(NFI_Expiration=1,IF($A16<VLOOKUP(L$5,NFI,5,0),1,0)*Table_NFI[[#This Row],[Tarpaulin]],Table_NFI[[#This Row],[Tarpaulin]])","v":0},{"$f":"IF(NFI_Expiration=1,IF($A16<VLOOKUP(M$5,NFI,5,0),1,0)*Table_NFI[[#This Row],[Blanket]],Table_NFI[[#This Row],[Blanket]])","v":0},{"$f":"IF(NFI_Expiration=1,IF($A16<VLOOKUP(N$5,NFI,5,0),1,0)*Table_NFI[[#This Row],[Kitchen Set]],Table_NFI[Kitchen Set])","v":0},{"$f":"IF(NFI_Expiration=1,IF($A16<VLOOKUP(O$5,NFI,5,0),1,0)*Table_NFI[[#This Row],[Complementary Kit]],Table_NFI[Complementary Kit])","v":0},{"$f":"IF(NFI_Expiration=1,IF($A16<VLOOKUP(P$5,NFI,5,0),1,0)*Table_NFI[[#This Row],[Plastic Bucket]],Table_NFI[Plastic Bucket])","v":0},{"$f":"IF(NFI_Expiration=1,IF($A16<VLOOKUP(Q$5,NFI,5,0),1,0)*Table_NFI[[#This Row],[Plastic Mat]],Table_NFI[Plastic Mat])","v":0},{"$f":"IFERROR(VLOOKUP(Table_NFI[[#This Row],[Camp Name]],CL,2,0),\"\")","v":"MMR001CMP018"},{"$f":"IFERROR(VLOOKUP(Table_NFI[[#This Row],[Camp Name]],CL,3,0),\"\")","v":"Open"},{"$f":"IFERROR(Table_NFI[[#This Row],[Kitchen Set]]/VLOOKUP(Table_NFI[[#This Row],[Camp Name]],CL,4,0),\"\")","v":0.25615763546798032}]
[26.3,"2011-11-04","UNHCR","KBC","Kachin","Myitkyina","Myay Myint Baptist Church",null,null,0,10,6,10,6,6,6,6,{"$f":"IF(NFI_Expiration=1,IF($A17<VLOOKUP(H$5,NFI,5,0),1,0)*Table_NFI[[#This Row],[Hygiene Kit]],Table_NFI[Hygiene Kit])","v":0},{"$f":"IF(NFI_Expiration=1,IF($A17<VLOOKUP(I$5,NFI,5,0),1,0)*Table_NFI[[#This Row],[NFI Core Kit]],Table_NFI[NFI Core Kit])","v":0},{"$f":"IF(NFI_Expiration=1,IF($A17<VLOOKUP(J$5,NFI,5,0),1,0)*Table_NFI[[#This Row],[Sanitary Kit]],Table_NFI[Sanitary Kit])","v":0},{"$f":"IF(NFI_Expiration=1,IF($A17<VLOOKUP(K$5,NFI,5,0),1,0)*Table_NFI[[#This Row],[Mosquito net]],Table_NFI[Mosquito net])","v":0},{"$f":"IF(NFI_Expiration=1,IF($A17<VLOOKUP(L$5,NFI,5,0),1,0)*Table_NFI[[#This Row],[Tarpaulin]],Table_NFI[[#This Row],[Tarpaulin]])","v":0},{"$f":"IF(NFI_Expiration=1,IF($A17<VLOOKUP(M$5,NFI,5,0),1,0)*Table_NFI[[#This Row],[Blanket]],Table_NFI[[#This Row],[Blanket]])","v":0},{"$f":"IF(NFI_Expiration=1,IF($A17<VLOOKUP(N$5,NFI,5,0),1,0)*Table_NFI[[#This Row],[Kitchen Set]],Table_NFI[Kitchen Set])","v":0},{"$f":"IF(NFI_Expiration=1,IF($A17<VLOOKUP(O$5,NFI,5,0),1,0)*Table_NFI[[#This Row],[Complementary Kit]],Table_NFI[Complementary Kit])","v":0},{"$f":"IF(NFI_Expiration=1,IF($A17<VLOOKUP(P$5,NFI,5,0),1,0)*Table_NFI[[#This Row],[Plastic Bucket]],Table_NFI[Plastic Bucket])","v":0},{"$f":"IF(NFI_Expiration=1,IF($A17<VLOOKUP(Q$5,NFI,5,0),1,0)*Table_NFI[[#This Row],[Plastic Mat]],Table_NFI[Plastic Mat])","v":0},{"$f":"IFERROR(VLOOKUP(Table_NFI[[#This Row],[Camp Name]],CL,2,0),\"\")","v":"MMR001CMP017"},{"$f":"IFERROR(VLOOKUP(Table_NFI[[#This Row],[Camp Name]],CL,3,0),\"\")","v":"Open"},{"$f":"IFERROR(Table_NFI[[#This Row],[Kitchen Set]]/VLOOKUP(Table_NFI[[#This Row],[Camp Name]],CL,4,0),\"\")","v":0.5}]
[26.3,"2011-11-04","UNHCR","KBC","Kachin","Myitkyina","Jan Mai Kawng Baptist Church",null,null,0,208,102,208,102,102,102,102,{"$f":"IF(NFI_Expiration=1,IF($A18<VLOOKUP(H$5,NFI,5,0),1,0)*Table_NFI[[#This Row],[Hygiene Kit]],Table_NFI[Hygiene Kit])","v":0},{"$f":"IF(NFI_Expiration=1,IF($A18<VLOOKUP(I$5,NFI,5,0),1,0)*Table_NFI[[#This Row],[NFI Core Kit]],Table_NFI[NFI Core Kit])","v":0},{"$f":"IF(NFI_Expiration=1,IF($A18<VLOOKUP(J$5,NFI,5,0),1,0)*Table_NFI[[#This Row],[Sanitary Kit]],Table_NFI[Sanitary Kit])","v":0},{"$f":"IF(NFI_Expiration=1,IF($A18<VLOOKUP(K$5,NFI,5,0),1,0)*Table_NFI[[#This Row],[Mosquito net]],Table_NFI[Mosquito net])","v":0},{"$f":"IF(NFI_Expiration=1,IF($A18<VLOOKUP(L$5,NFI,5,0),1,0)*Table_NFI[[#This Row],[Tarpaulin]],Table_NFI[[#This Row],[Tarpaulin]])","v":0},{"$f":"IF(NFI_Expiration=1,IF($A18<VLOOKUP(M$5,NFI,5,0),1,0)*Table_NFI[[#This Row],[Blanket]],Table_NFI[[#This Row],[Blanket]])","v":0},{"$f":"IF(NFI_Expiration=1,IF($A18<VLOOKUP(N$5,NFI,5,0),1,0)*Table_NFI[[#This Row],[Kitchen Set]],Table_NFI[Kitchen Set])","v":0},{"$f":"IF(NFI_Expiration=1,IF($A18<VLOOKUP(O$5,NFI,5,0),1,0)*Table_NFI[[#This Row],[Complementary Kit]],Table_NFI[Complementary Kit])","v":0},{"$f":"IF(NFI_Expiration=1,IF($A18<VLOOKUP(P$5,NFI,5,0),1,0)*Table_NFI[[#This Row],[Plastic Bucket]],Table_NFI[Plastic Bucket])","v":0},{"$f":"IF(NFI_Expiration=1,IF($A18<VLOOKUP(Q$5,NFI,5,0),1,0)*Table_NFI[[#This Row],[Plastic Mat]],Table_NFI[Plastic Mat])","v":0},{"$f":"IFERROR(VLOOKUP(Table_NFI[[#This Row],[Camp Name]],CL,2,0),\"\")","v":"MMR001CMP018"},{"$f":"IFERROR(VLOOKUP(Table_NFI[[#This Row],[Camp Name]],CL,3,0),\"\")","v":"Open"},{"$f":"IFERROR(Table_NFI[[#This Row],[Kitchen Set]]/VLOOKUP(Table_NFI[[#This Row],[Camp Name]],CL,4,0),\"\")","v":0.50246305418719217}]
[25.966666666666665,"2011-11-14","UNHCR","KBC","Kachin","Myitkyina","Kyun Pin Thar Baptist Church",null,null,0,47,28,47,28,28,28,28,{"$f":"IF(NFI_Expiration=1,IF($A19<VLOOKUP(H$5,NFI,5,0),1,0)*Table_NFI[[#This Row],[Hygiene Kit]],Table_NFI[Hygiene Kit])","v":0},{"$f":"IF(NFI_Expiration=1,IF($A19<VLOOKUP(I$5,NFI,5,0),1,0)*Table_NFI[[#This Row],[NFI Core Kit]],Table_NFI[NFI Core Kit])","v":0},{"$f":"IF(NFI_Expiration=1,IF($A19<VLOOKUP(J$5,NFI,5,0),1,0)*Table_NFI[[#This Row],[Sanitary Kit]],Table_NFI[Sanitary Kit])","v":0},{"$f":"IF(NFI_Expiration=1,IF($A19<VLOOKUP(K$5,NFI,5,0),1,0)*Table_NFI[[#This Row],[Mosquito net]],Table_NFI[Mosquito net])","v":0},{"$f":"IF(NFI_Expiration=1,IF($A19<VLOOKUP(L$5,NFI,5,0),1,0)*Table_NFI[[#This Row],[Tarpaulin]],Table_NFI[[#This Row],[Tarpaulin]])","v":0},{"$f":"IF(NFI_Expiration=1,IF($A19<VLOOKUP(M$5,NFI,5,0),1,0)*Table_NFI[[#This Row],[Blanket]],Table_NFI[[#This Row],[Blanket]])","v":0},{"$f":"IF(NFI_Expiration=1,IF($A19<VLOOKUP(N$5,NFI,5,0),1,0)*Table_NFI[[#This Row],[Kitchen Set]],Table_NFI[Kitchen Set])","v":0},{"$f":"IF(NFI_Expiration=1,IF($A19<VLOOKUP(O$5,NFI,5,0),1,0)*Table_NFI[[#This Row],[Complementary Kit]],Table_NFI[Complementary Kit])","v":0},{"$f":"IF(NFI_Expiration=1,IF($A19<VLOOKUP(P$5,NFI,5,0),1,0)*Table_NFI[[#This Row],[Plastic Bucket]],Table_NFI[Plastic Bucket])","v":0},{"$f":"IF(NFI_Expiration=1,IF($A19<VLOOKUP(Q$5,NFI,5,0),1,0)*Table_NFI[[#This Row],[Plastic Mat]],Table_NFI[Plastic Mat])","v":0},{"$f":"IFERROR(VLOOKUP(Table_NFI[[#This Row],[Camp Name]],CL,2,0),\"\")","v":"MMR001CMP013"},{"$f":"IFERROR(VLOOKUP(Table_NFI[[#This Row],[Camp Name]],CL,3,0),\"\")","v":"Open"},{"$f":"IFERROR(Table_NFI[[#This Row],[Kitchen Set]]/VLOOKUP(Table_NFI[[#This Row],[Camp Name]],CL,4,0),\"\")","v":0.62222222222222223}]
[25.966666666666665,"2011-11-14","UNHCR","KBC","Kachin","Myitkyina","Le Kone Bethlehem Church",null,null,0,52,25,52,25,25,25,25,{"$f":"IF(NFI_Expiration=1,IF($A20<VLOOKUP(H$5,NFI,5,0),1,0)*Table_NFI[[#This Row],[Hygiene Kit]],Table_NFI[Hygiene Kit])","v":0},{"$f":"IF(NFI_Expiration=1,IF($A20<VLOOKUP(I$5,NFI,5,0),1,0)*Table_NFI[[#This Row],[NFI Core Kit]],Table_NFI[NFI Core Kit])","v":0},{"$f":"IF(NFI_Expiration=1,IF($A20<VLOOKUP(J$5,NFI,5,0),1,0)*Table_NFI[[#This Row],[Sanitary Kit]],Table_NFI[Sanitary Kit])","v":0},{"$f":"IF(NFI_Expiration=1,IF($A20<VLOOKUP(K$5,NFI,5,0),1,0)*Table_NFI[[#This Row],[Mosquito net]],Table_NFI[Mosquito net])","v":0},{"$f":"IF(NFI_Expiration=1,IF($A20<VLOOKUP(L$5,NFI,5,0),1,0)*Table_NFI[[#This Row],[Tarpaulin]],Table_NFI[[#This Row],[Tarpaulin]])","v":0},{"$f":"IF(NFI_Expiration=1,IF($A20<VLOOKUP(M$5,NFI,5,0),1,0)*Table_NFI[[#This Row],[Blanket]],Table_NFI[[#This Row],[Blanket]])","v":0},{"$f":"IF(NFI_Expiration=1,IF($A20<VLOOKUP(N$5,NFI,5,0),1,0)*Table_NFI[[#This Row],[Kitchen Set]],Table_NFI[Kitchen Set])","v":0},{"$f":"IF(NFI_Expiration=1,IF($A20<VLOOKUP(O$5,NFI,5,0),1,0)*Table_NFI[[#This Row],[Complementary Kit]],Table_NFI[Complementary Kit])","v":0},{"$f":"IF(NFI_Expiration=1,IF($A20<VLOOKUP(P$5,NFI,5,0),1,0)*Table_NFI[[#This Row],[Plastic Bucket]],Table_NFI[Plastic Bucket])","v":0},{"$f":"IF(NFI_Expiration=1,IF($A20<VLOOKUP(Q$5,NFI,5,0),1,0)*Table_NFI[[#This Row],[Plastic Mat]],Table_NFI[Plastic Mat])","v":0},{"$f":"IFERROR(VLOOKUP(Table_NFI[[#This Row],[Camp Name]],CL,2,0),\"\")","v":"MMR001CMP015"},{"$f":"IFERROR(VLOOKUP(Table_NFI[[#This Row],[Camp Name]],CL,3,0),\"\")","v":"Open"},{"$f":"IFERROR(Table_NFI[[#This Row],[Kitchen Set]]/VLOOKUP(Table_NFI[[#This Row],[Camp Name]],CL,4,0),\"\")","v":0.28735632183908044}]
[25.966666666666665,"2011-11-14","UNHCR","KBC","Kachin","Myitkyina","Maliyang Baptist Church",null,null,0,57,30,57,30,30,30,30,{"$f":"IF(NFI_Expiration=1,IF($A21<VLOOKUP(H$5,NFI,5,0),1,0)*Table_NFI[[#This Row],[Hygiene Kit]],Table_NFI[Hygiene Kit])","v":0},{"$f":"IF(NFI_Expiration=1,IF($A21<VLOOKUP(I$5,NFI,5,0),1,0)*Table_NFI[[#This Row],[NFI Core Kit]],Table_NFI[NFI Core Kit])","v":0},{"$f":"IF(NFI_Expiration=1,IF($A21<VLOOKUP(J$5,NFI,5,0),1,0)*Table_NFI[[#This Row],[Sanitary Kit]],Table_NFI[Sanitary Kit])","v":0},{"$f":"IF(NFI_Expiration=1,IF($A21<VLOOKUP(K$5,NFI,5,0),1,0)*Table_NFI[[#This Row],[Mosquito net]],Table_NFI[Mosquito net])","v":0},{"$f":"IF(NFI_Expiration=1,IF($A21<VLOOKUP(L$5,NFI,5,0),1,0)*Table_NFI[[#This Row],[Tarpaulin]],Table_NFI[[#This Row],[Tarpaulin]])","v":0},{"$f":"IF(NFI_Expiration=1,IF($A21<VLOOKUP(M$5,NFI,5,0),1,0)*Table_NFI[[#This Row],[Blanket]],Table_NFI[[#This Row],[Blanket]])","v":0},{"$f":"IF(NFI_Expiration=1,IF($A21<VLOOKUP(N$5,NFI,5,0),1,0)*Table_NFI[[#This Row],[Kitchen Set]],Table_NFI[Kitchen Set])","v":0},{"$f":"IF(NFI_Expiration=1,IF($A21<VLOOKUP(O$5,NFI,5,0),1,0)*Table_NFI[[#This Row],[Complementary Kit]],Table_NFI[Complementary Kit])","v":0},{"$f":"IF(NFI_Expiration=1,IF($A21<VLOOKUP(P$5,NFI,5,0),1,0)*Table_NFI[[#This Row],[Plastic Bucket]],Table_NFI[Plastic Bucket])","v":0},{"$f":"IF(NFI_Expiration=1,IF($A21<VLOOKUP(Q$5,NFI,5,0),1,0)*Table_NFI[[#This Row],[Plastic Mat]],Table_NFI[Plastic Mat])","v":0},{"$f":"IFERROR(VLOOKUP(Table_NFI[[#This Row],[Camp Name]],CL,2,0),\"\")","v":"MMR001CMP016"},{"$f":"IFERROR(VLOOKUP(Table_NFI[[#This Row],[Camp Name]],CL,3,0),\"\")","v":"Open"},{"$f":"IFERROR(Table_NFI[[#This Row],[Kitchen Set]]/VLOOKUP(Table_NFI[[#This Row],[Camp Name]],CL,4,0),\"\")","v":0.41666666666666669}]
[25.933333333333334,"2011-11-15","UNHCR","KBC","Kachin","Myitkyina","Tat Kone San Pya Baptist Church",null,null,0,30,17,30,17,17,17,17,{"$f":"IF(NFI_Expiration=1,IF($A22<VLOOKUP(H$5,NFI,5,0),1,0)*Table_NFI[[#This Row],[Hygiene Kit]],Table_NFI[Hygiene Kit])","v":0},{"$f":"IF(NFI_Expiration=1,IF($A22<VLOOKUP(I$5,NFI,5,0),1,0)*Table_NFI[[#This Row],[NFI Core Kit]],Table_NFI[NFI Core Kit])","v":0},{"$f":"IF(NFI_Expiration=1,IF($A22<VLOOKUP(J$5,NFI,5,0),1,0)*Table_NFI[[#This Row],[Sanitary Kit]],Table_NFI[Sanitary Kit])","v":0},{"$f":"IF(NFI_Expiration=1,IF($A22<VLOOKUP(K$5,NFI,5,0),1,0)*Table_NFI[[#This Row],[Mosquito net]],Table_NFI[Mosquito net])","v":0},{"$f":"IF(NFI_Expiration=1,IF($A22<VLOOKUP(L$5,NFI,5,0),1,0)*Table_NFI[[#This Row],[Tarpaulin]],Table_NFI[[#This Row],[Tarpaulin]])","v":0},{"$f":"IF(NFI_Expiration=1,IF($A22<VLOOKUP(M$5,NFI,5,0),1,0)*Table_NFI[[#This Row],[Blanket]],Table_NFI[[#This Row],[Blanket]])","v":0},{"$f":"IF(NFI_Expiration=1,IF($A22<VLOOKUP(N$5,NFI,5,0),1,0)*Table_NFI[[#This Row],[Kitchen Set]],Table_NFI[Kitchen Set])","v":0},{"$f":"IF(NFI_Expiration=1,IF($A22<VLOOKUP(O$5,NFI,5,0),1,0)*Table_NFI[[#This Row],[Complementary Kit]],Table_NFI[Complementary Kit])","v":0},{"$f":"IF(NFI_Expiration=1,IF($A22<VLOOKUP(P$5,NFI,5,0),1,0)*Table_NFI[[#This Row],[Plastic Bucket]],Table_NFI[Plastic Bucket])","v":0},{"$f":"IF(NFI_Expiration=1,IF($A22<VLOOKUP(Q$5,NFI,5,0),1,0)*Table_NFI[[#This Row],[Plastic Mat]],Table_NFI[Plastic Mat])","v":0},{"$f":"IFERROR(VLOOKUP(Table_NFI[[#This Row],[Camp Name]],CL,2,0),\"\")","v":"MMR001CMP005"},{"$f":"IFERROR(VLOOKUP(Table_NFI[[#This Row],[Camp Name]],CL,3,0),\"\")","v":"Open"},{"$f":"IFERROR(Table_NFI[[#This Row],[Kitchen Set]]/VLOOKUP(Table_NFI[[#This Row],[Camp Name]],CL,4,0),\"\")","v":0.39534883720930231}]
[25.9,"2011-11-16","UNHCR","KBC","Kachin","Myitkyina","Njang Dung Baptist Church ",null,null,0,92,53,92,53,53,53,53,{"$f":"IF(NFI_Expiration=1,IF($A23<VLOOKUP(H$5,NFI,5,0),1,0)*Table_NFI[[#This Row],[Hygiene Kit]],Table_NFI[Hygiene Kit])","v":0},{"$f":"IF(NFI_Expiration=1,IF($A23<VLOOKUP(I$5,NFI,5,0),1,0)*Table_NFI[[#This Row],[NFI Core Kit]],Table_NFI[NFI Core Kit])","v":0},{"$f":"IF(NFI_Expiration=1,IF($A23<VLOOKUP(J$5,NFI,5,0),1,0)*Table_NFI[[#This Row],[Sanitary Kit]],Table_NFI[Sanitary Kit])","v":0},{"$f":"IF(NFI_Expiration=1,IF($A23<VLOOKUP(K$5,NFI,5,0),1,0)*Table_NFI[[#This Row],[Mosquito net]],Table_NFI[Mosquito net])","v":0},{"$f":"IF(NFI_Expiration=1,IF($A23<VLOOKUP(L$5,NFI,5,0),1,0)*Table_NFI[[#This Row],[Tarpaulin]],Table_NFI[[#This Row],[Tarpaulin]])","v":0},{"$f":"IF(NFI_Expiration=1,IF($A23<VLOOKUP(M$5,NFI,5,0),1,0)*Table_NFI[[#This Row],[Blanket]],Table_NFI[[#This Row],[Blanket]])","v":0},{"$f":"IF(NFI_Expiration=1,IF($A23<VLOOKUP(N$5,NFI,5,0),1,0)*Table_NFI[[#This Row],[Kitchen Set]],Table_NFI[Kitchen Set])","v":0},{"$f":"IF(NFI_Expiration=1,IF($A23<VLOOKUP(O$5,NFI,5,0),1,0)*Table_NFI[[#This Row],[Complementary Kit]],Table_NFI[Complementary Kit])","v":0},{"$f":"IF(NFI_Expiration=1,IF($A23<VLOOKUP(P$5,NFI,5,0),1,0)*Table_NFI[[#This Row],[Plastic Bucket]],Table_NFI[Plastic Bucket])","v":0},{"$f":"IF(NFI_Expiration=1,IF($A23<VLOOKUP(Q$5,NFI,5,0),1,0)*Table_NFI[[#This Row],[Plastic Mat]],Table_NFI[Plastic Mat])","v":0},{"$f":"IFERROR(VLOOKUP(Table_NFI[[#This Row],[Camp Name]],CL,2,0),\"\")","v":"MMR001CMP002"},{"$f":"IFERROR(VLOOKUP(Table_NFI[[#This Row],[Camp Name]],CL,3,0),\"\")","v":"Open"},{"$f":"IFERROR(Table_NFI[[#This Row],[Kitchen Set]]/VLOOKUP(Table_NFI[[#This Row],[Camp Name]],CL,4,0),\"\")","v":0.92982456140350878}]
[25.9,"2011-11-16","UNHCR","KBC","Kachin","Myitkyina","Tat Kone Galile Baptist Church",null,null,0,53,31,53,31,31,31,31,{"$f":"IF(NFI_Expiration=1,IF($A24<VLOOKUP(H$5,NFI,5,0),1,0)*Table_NFI[[#This Row],[Hygiene Kit]],Table_NFI[Hygiene Kit])","v":0},{"$f":"IF(NFI_Expiration=1,IF($A24<VLOOKUP(I$5,NFI,5,0),1,0)*Table_NFI[[#This Row],[NFI Core Kit]],Table_NFI[NFI Core Kit])","v":0},{"$f":"IF(NFI_Expiration=1,IF($A24<VLOOKUP(J$5,NFI,5,0),1,0)*Table_NFI[[#This Row],[Sanitary Kit]],Table_NFI[Sanitary Kit])","v":0},{"$f":"IF(NFI_Expiration=1,IF($A24<VLOOKUP(K$5,NFI,5,0),1,0)*Table_NFI[[#This Row],[Mosquito net]],Table_NFI[Mosquito net])","v":0},{"$f":"IF(NFI_Expiration=1,IF($A24<VLOOKUP(L$5,NFI,5,0),1,0)*Table_NFI[[#This Row],[Tarpaulin]],Table_NFI[[#This Row],[Tarpaulin]])","v":0},{"$f":"IF(NFI_Expiration=1,IF($A24<VLOOKUP(M$5,NFI,5,0),1,0)*Table_NFI[[#This Row],[Blanket]],Table_NFI[[#This Row],[Blanket]])","v":0},{"$f":"IF(NFI_Expiration=1,IF($A24<VLOOKUP(N$5,NFI,5,0),1,0)*Table_NFI[[#This Row],[Kitchen Set]],Table_NFI[Kitchen Set])","v":0},{"$f":"IF(NFI_Expiration=1,IF($A24<VLOOKUP(O$5,NFI,5,0),1,0)*Table_NFI[[#This Row],[Complementary Kit]],Table_NFI[Complementary Kit])","v":0},{"$f":"IF(NFI_Expiration=1,IF($A24<VLOOKUP(P$5,NFI,5,0),1,0)*Table_NFI[[#This Row],[Plastic Bucket]],Table_NFI[Plastic Bucket])","v":0},{"$f":"IF(NFI_Expiration=1,IF($A24<VLOOKUP(Q$5,NFI,5,0),1,0)*Table_NFI[[#This Row],[Plastic Mat]],Table_NFI[Plastic Mat])","v":0},{"$f":"IFERROR(VLOOKUP(Table_NFI[[#This Row],[Camp Name]],CL,2,0),\"\")","v":"MMR001CMP003"},{"$f":"IFERROR(VLOOKUP(Table_NFI[[#This Row],[Camp Name]],CL,3,0),\"\")","v":"Open"},{"$f":"IFERROR(Table_NFI[[#This Row],[Kitchen Set]]/VLOOKUP(Table_NFI[[#This Row],[Camp Name]],CL,4,0),\"\")","v":1.0333333333333334}]
[25.9,"2011-11-16","UNHCR","KBC","Kachin","Myitkyina","Shwe Zet Baptist Church",null,null,0,63,30,63,30,30,30,30,{"$f":"IF(NFI_Expiration=1,IF($A25<VLOOKUP(H$5,NFI,5,0),1,0)*Table_NFI[[#This Row],[Hygiene Kit]],Table_NFI[Hygiene Kit])","v":0},{"$f":"IF(NFI_Expiration=1,IF($A25<VLOOKUP(I$5,NFI,5,0),1,0)*Table_NFI[[#This Row],[NFI Core Kit]],Table_NFI[NFI Core Kit])","v":0},{"$f":"IF(NFI_Expiration=1,IF($A25<VLOOKUP(J$5,NFI,5,0),1,0)*Table_NFI[[#This Row],[Sanitary Kit]],Table_NFI[Sanitary Kit])","v":0},{"$f":"IF(NFI_Expiration=1,IF($A25<VLOOKUP(K$5,NFI,5,0),1,0)*Table_NFI[[#This Row],[Mosquito net]],Table_NFI[Mosquito net])","v":0},{"$f":"IF(NFI_Expiration=1,IF($A25<VLOOKUP(L$5,NFI,5,0),1,0)*Table_NFI[[#This Row],[Tarpaulin]],Table_NFI[[#This Row],[Tarpaulin]])","v":0},{"$f":"IF(NFI_Expiration=1,IF($A25<VLOOKUP(M$5,NFI,5,0),1,0)*Table_NFI[[#This Row],[Blanket]],Table_NFI[[#This Row],[Blanket]])","v":0},{"$f":"IF(NFI_Expiration=1,IF($A25<VLOOKUP(N$5,NFI,5,0),1,0)*Table_NFI[[#This Row],[Kitchen Set]],Table_NFI[Kitchen Set])","v":0},{"$f":"IF(NFI_Expiration=1,IF($A25<VLOOKUP(O$5,NFI,5,0),1,0)*Table_NFI[[#This Row],[Complementary Kit]],Table_NFI[Complementary Kit])","v":0},{"$f":"IF(NFI_Expiration=1,IF($A25<VLOOKUP(P$5,NFI,5,0),1,0)*Table_NFI[[#This Row],[Plastic Bucket]],Table_NFI[Plastic Bucket])","v":0},{"$f":"IF(NFI_Expiration=1,IF($A25<VLOOKUP(Q$5,NFI,5,0),1,0)*Table_NFI[[#This Row],[Plastic Mat]],Table_NFI[Plastic Mat])","v":0},{"$f":"IFERROR(VLOOKUP(Table_NFI[[#This Row],[Camp Name]],CL,2,0),\"\")","v":"MMR001CMP009"},{"$f":"IFERROR(VLOOKUP(Table_NFI[[#This Row],[Camp Name]],CL,3,0),\"\")","v":"Open"},{"$f":"IFERROR(Table_NFI[[#This Row],[Kitchen Set]]/VLOOKUP(Table_NFI[[#This Row],[Camp Name]],CL,4,0),\"\")","v":0.35714285714285715}]
[25.833333333333332,"2011-11-18","UNHCR","UNHCR","Kachin","Myitkyina","Wun Tho Buddhist Monastery",null,null,0,175,0,175,0,0,null,null,{"$f":"IF(NFI_Expiration=1,IF($A26<VLOOKUP(H$5,NFI,5,0),1,0)*Table_NFI[[#This Row],[Hygiene Kit]],Table_NFI[Hygiene Kit])","v":0},{"$f":"IF(NFI_Expiration=1,IF($A26<VLOOKUP(I$5,NFI,5,0),1,0)*Table_NFI[[#This Row],[NFI Core Kit]],Table_NFI[NFI Core Kit])","v":0},{"$f":"IF(NFI_Expiration=1,IF($A26<VLOOKUP(J$5,NFI,5,0),1,0)*Table_NFI[[#This Row],[Sanitary Kit]],Table_NFI[Sanitary Kit])","v":0},{"$f":"IF(NFI_Expiration=1,IF($A26<VLOOKUP(K$5,NFI,5,0),1,0)*Table_NFI[[#This Row],[Mosquito net]],Table_NFI[Mosquito net])","v":0},{"$f":"IF(NFI_Expiration=1,IF($A26<VLOOKUP(L$5,NFI,5,0),1,0)*Table_NFI[[#This Row],[Tarpaulin]],Table_NFI[[#This Row],[Tarpaulin]])","v":0},{"$f":"IF(NFI_Expiration=1,IF($A26<VLOOKUP(M$5,NFI,5,0),1,0)*Table_NFI[[#This Row],[Blanket]],Table_NFI[[#This Row],[Blanket]])","v":0},{"$f":"IF(NFI_Expiration=1,IF($A26<VLOOKUP(N$5,NFI,5,0),1,0)*Table_NFI[[#This Row],[Kitchen Set]],Table_NFI[Kitchen Set])","v":0},{"$f":"IF(NFI_Expiration=1,IF($A26<VLOOKUP(O$5,NFI,5,0),1,0)*Table_NFI[[#This Row],[Complementary Kit]],Table_NFI[Complementary Kit])","v":0},{"$f":"IF(NFI_Expiration=1,IF($A26<VLOOKUP(P$5,NFI,5,0),1,0)*Table_NFI[[#This Row],[Plastic Bucket]],Table_NFI[Plastic Bucket])","v":0},{"$f":"IF(NFI_Expiration=1,IF($A26<VLOOKUP(Q$5,NFI,5,0),1,0)*Table_NFI[[#This Row],[Plastic Mat]],Table_NFI[Plastic Mat])","v":0},{"$f":"IFERROR(VLOOKUP(Table_NFI[[#This Row],[Camp Name]],CL,2,0),\"\")","v":"MMR001CMP022"},{"$f":"IFERROR(VLOOKUP(Table_NFI[[#This Row],[Camp Name]],CL,3,0),\"\")","v":"Open"},{"$f":"IFERROR(Table_NFI[[#This Row],[Kitchen Set]]/VLOOKUP(Table_NFI[[#This Row],[Camp Name]],CL,4,0),\"\")","v":0}]
[25.833333333333332,"2011-11-18","UNHCR","UNHCR","Kachin","Myitkyina","Bomb Blast Victims",null,null,0,24,3,24,3,3,3,3,{"$f":"IF(NFI_Expiration=1,IF($A27<VLOOKUP(H$5,NFI,5,0),1,0)*Table_NFI[[#This Row],[Hygiene Kit]],Table_NFI[Hygiene Kit])","v":0},{"$f":"IF(NFI_Expiration=1,IF($A27<VLOOKUP(I$5,NFI,5,0),1,0)*Table_NFI[[#This Row],[NFI Core Kit]],Table_NFI[NFI Core Kit])","v":0},{"$f":"IF(NFI_Expiration=1,IF($A27<VLOOKUP(J$5,NFI,5,0),1,0)*Table_NFI[[#This Row],[Sanitary Kit]],Table_NFI[Sanitary Kit])","v":0},{"$f":"IF(NFI_Expiration=1,IF($A27<VLOOKUP(K$5,NFI,5,0),1,0)*Table_NFI[[#This Row],[Mosquito net]],Table_NFI[Mosquito net])","v":0},{"$f":"IF(NFI_Expiration=1,IF($A27<VLOOKUP(L$5,NFI,5,0),1,0)*Table_NFI[[#This Row],[Tarpaulin]],Table_NFI[[#This Row],[Tarpaulin]])","v":0},{"$f":"IF(NFI_Expiration=1,IF($A27<VLOOKUP(M$5,NFI,5,0),1,0)*Table_NFI[[#This Row],[Blanket]],Table_NFI[[#This Row],[Blanket]])","v":0},{"$f":"IF(NFI_Expiration=1,IF($A27<VLOOKUP(N$5,NFI,5,0),1,0)*Table_NFI[[#This Row],[Kitchen Set]],Table_NFI[Kitchen Set])","v":0},{"$f":"IF(NFI_Expiration=1,IF($A27<VLOOKUP(O$5,NFI,5,0),1,0)*Table_NFI[[#This Row],[Complementary Kit]],Table_NFI[Complementary Kit])","v":0},{"$f":"IF(NFI_Expiration=1,IF($A27<VLOOKUP(P$5,NFI,5,0),1,0)*Table_NFI[[#This Row],[Plastic Bucket]],Table_NFI[Plastic Bucket])","v":0},{"$f":"IF(NFI_Expiration=1,IF($A27<VLOOKUP(Q$5,NFI,5,0),1,0)*Table_NFI[[#This Row],[Plastic Mat]],Table_NFI[Plastic Mat])","v":0},{"$f":"IFERROR(VLOOKUP(Table_NFI[[#This Row],[Camp Name]],CL,2,0),\"\")","v":""},{"$f":"IFERROR(VLOOKUP(Table_NFI[[#This Row],[Camp Name]],CL,3,0),\"\")","v":""},{"$f":"IFERROR(Table_NFI[[#This Row],[Kitchen Set]]/VLOOKUP(Table_NFI[[#This Row],[Camp Name]],CL,4,0),\"\")","v":""}]
[25.3,"2011-12-04","UNHCR","KBC","Kachin","Myitkyina","Shwe Zet Baptist Church",null,null,0,52,27,52,27,27,27,27,{"$f":"IF(NFI_Expiration=1,IF($A28<VLOOKUP(H$5,NFI,5,0),1,0)*Table_NFI[[#This Row],[Hygiene Kit]],Table_NFI[Hygiene Kit])","v":0},{"$f":"IF(NFI_Expiration=1,IF($A28<VLOOKUP(I$5,NFI,5,0),1,0)*Table_NFI[[#This Row],[NFI Core Kit]],Table_NFI[NFI Core Kit])","v":0},{"$f":"IF(NFI_Expiration=1,IF($A28<VLOOKUP(J$5,NFI,5,0),1,0)*Table_NFI[[#This Row],[Sanitary Kit]],Table_NFI[Sanitary Kit])","v":0},{"$f":"IF(NFI_Expiration=1,IF($A28<VLOOKUP(K$5,NFI,5,0),1,0)*Table_NFI[[#This Row],[Mosquito net]],Table_NFI[Mosquito net])","v":0},{"$f":"IF(NFI_Expiration=1,IF($A28<VLOOKUP(L$5,NFI,5,0),1,0)*Table_NFI[[#This Row],[Tarpaulin]],Table_NFI[[#This Row],[Tarpaulin]])","v":0},{"$f":"IF(NFI_Expiration=1,IF($A28<VLOOKUP(M$5,NFI,5,0),1,0)*Table_NFI[[#This Row],[Blanket]],Table_NFI[[#This Row],[Blanket]])","v":0},{"$f":"IF(NFI_Expiration=1,IF($A28<VLOOKUP(N$5,NFI,5,0),1,0)*Table_NFI[[#This Row],[Kitchen Set]],Table_NFI[Kitchen Set])","v":0},{"$f":"IF(NFI_Expiration=1,IF($A28<VLOOKUP(O$5,NFI,5,0),1,0)*Table_NFI[[#This Row],[Complementary Kit]],Table_NFI[Complementary Kit])","v":0},{"$f":"IF(NFI_Expiration=1,IF($A28<VLOOKUP(P$5,NFI,5,0),1,0)*Table_NFI[[#This Row],[Plastic Bucket]],Table_NFI[Plastic Bucket])","v":0},{"$f":"IF(NFI_Expiration=1,IF($A28<VLOOKUP(Q$5,NFI,5,0),1,0)*Table_NFI[[#This Row],[Plastic Mat]],Table_NFI[Plastic Mat])","v":0},{"$f":"IFERROR(VLOOKUP(Table_NFI[[#This Row],[Camp Name]],CL,2,0),\"\")","v":"MMR001CMP009"},{"$f":"IFERROR(VLOOKUP(Table_NFI[[#This Row],[Camp Name]],CL,3,0),\"\")","v":"Open"},{"$f":"IFERROR(Table_NFI[[#This Row],[Kitchen Set]]/VLOOKUP(Table_NFI[[#This Row],[Camp Name]],CL,4,0),\"\")","v":0.32142857142857145}]
[25.266666666666666,"2011-12-05","UNHCR","KMSS","Kachin","Myitkyina","Jan Mai Kawng Baptist Church",null,null,0,80,45,80,45,45,45,45,{"$f":"IF(NFI_Expiration=1,IF($A29<VLOOKUP(H$5,NFI,5,0),1,0)*Table_NFI[[#This Row],[Hygiene Kit]],Table_NFI[Hygiene Kit])","v":0},{"$f":"IF(NFI_Expiration=1,IF($A29<VLOOKUP(I$5,NFI,5,0),1,0)*Table_NFI[[#This Row],[NFI Core Kit]],Table_NFI[NFI Core Kit])","v":0},{"$f":"IF(NFI_Expiration=1,IF($A29<VLOOKUP(J$5,NFI,5,0),1,0)*Table_NFI[[#This Row],[Sanitary Kit]],Table_NFI[Sanitary Kit])","v":0},{"$f":"IF(NFI_Expiration=1,IF($A29<VLOOKUP(K$5,NFI,5,0),1,0)*Table_NFI[[#This Row],[Mosquito net]],Table_NFI[Mosquito net])","v":0},{"$f":"IF(NFI_Expiration=1,IF($A29<VLOOKUP(L$5,NFI,5,0),1,0)*Table_NFI[[#This Row],[Tarpaulin]],Table_NFI[[#This Row],[Tarpaulin]])","v":0},{"$f":"IF(NFI_Expiration=1,IF($A29<VLOOKUP(M$5,NFI,5,0),1,0)*Table_NFI[[#This Row],[Blanket]],Table_NFI[[#This Row],[Blanket]])","v":0},{"$f":"IF(NFI_Expiration=1,IF($A29<VLOOKUP(N$5,NFI,5,0),1,0)*Table_NFI[[#This Row],[Kitchen Set]],Table_NFI[Kitchen Set])","v":0},{"$f":"IF(NFI_Expiration=1,IF($A29<VLOOKUP(O$5,NFI,5,0),1,0)*Table_NFI[[#This Row],[Complementary Kit]],Table_NFI[Complementary Kit])","v":0},{"$f":"IF(NFI_Expiration=1,IF($A29<VLOOKUP(P$5,NFI,5,0),1,0)*Table_NFI[[#This Row],[Plastic Bucket]],Table_NFI[Plastic Bucket])","v":0},{"$f":"IF(NFI_Expiration=1,IF($A29<VLOOKUP(Q$5,NFI,5,0),1,0)*Table_NFI[[#This Row],[Plastic Mat]],Table_NFI[Plastic Mat])","v":0},{"$f":"IFERROR(VLOOKUP(Table_NFI[[#This Row],[Camp Name]],CL,2,0),\"\")","v":"MMR001CMP018"},{"$f":"IFERROR(VLOOKUP(Table_NFI[[#This Row],[Camp Name]],CL,3,0),\"\")","v":"Open"},{"$f":"IFERROR(Table_NFI[[#This Row],[Kitchen Set]]/VLOOKUP(Table_NFI[[#This Row],[Camp Name]],CL,4,0),\"\")","v":0.22167487684729065}]
[25.133333333333333,"2011-12-09","UNHCR","KBC","Kachin","Myitkyina","Le Kone Bethlehem Church",null,null,0,13,6,13,6,6,6,6,{"$f":"IF(NFI_Expiration=1,IF($A30<VLOOKUP(H$5,NFI,5,0),1,0)*Table_NFI[[#This Row],[Hygiene Kit]],Table_NFI[Hygiene Kit])","v":0},{"$f":"IF(NFI_Expiration=1,IF($A30<VLOOKUP(I$5,NFI,5,0),1,0)*Table_NFI[[#This Row],[NFI Core Kit]],Table_NFI[NFI Core Kit])","v":0},{"$f":"IF(NFI_Expiration=1,IF($A30<VLOOKUP(J$5,NFI,5,0),1,0)*Table_NFI[[#This Row],[Sanitary Kit]],Table_NFI[Sanitary Kit])","v":0},{"$f":"IF(NFI_Expiration=1,IF($A30<VLOOKUP(K$5,NFI,5,0),1,0)*Table_NFI[[#This Row],[Mosquito net]],Table_NFI[Mosquito net])","v":0},{"$f":"IF(NFI_Expiration=1,IF($A30<VLOOKUP(L$5,NFI,5,0),1,0)*Table_NFI[[#This Row],[Tarpaulin]],Table_NFI[[#This Row],[Tarpaulin]])","v":0},{"$f":"IF(NFI_Expiration=1,IF($A30<VLOOKUP(M$5,NFI,5,0),1,0)*Table_NFI[[#This Row],[Blanket]],Table_NFI[[#This Row],[Blanket]])","v":0},{"$f":"IF(NFI_Expiration=1,IF($A30<VLOOKUP(N$5,NFI,5,0),1,0)*Table_NFI[[#This Row],[Kitchen Set]],Table_NFI[Kitchen Set])","v":0},{"$f":"IF(NFI_Expiration=1,IF($A30<VLOOKUP(O$5,NFI,5,0),1,0)*Table_NFI[[#This Row],[Complementary Kit]],Table_NFI[Complementary Kit])","v":0},{"$f":"IF(NFI_Expiration=1,IF($A30<VLOOKUP(P$5,NFI,5,0),1,0)*Table_NFI[[#This Row],[Plastic Bucket]],Table_NFI[Plastic Bucket])","v":0},{"$f":"IF(NFI_Expiration=1,IF($A30<VLOOKUP(Q$5,NFI,5,0),1,0)*Table_NFI[[#This Row],[Plastic Mat]],Table_NFI[Plastic Mat])","v":0},{"$f":"IFERROR(VLOOKUP(Table_NFI[[#This Row],[Camp Name]],CL,2,0),\"\")","v":"MMR001CMP015"},{"$f":"IFERROR(VLOOKUP(Table_NFI[[#This Row],[Camp Name]],CL,3,0),\"\")","v":"Open"},{"$f":"IFERROR(Table_NFI[[#This Row],[Kitchen Set]]/VLOOKUP(Table_NFI[[#This Row],[Camp Name]],CL,4,0),\"\")","v":6.8965517241379309E-2}]
[25.066666666666666,"2011-12-11","UNHCR","KBC","Kachin","Myitkyina","Tat Kone San Pya Baptist Church",null,null,0,3,2,3,2,2,2,2,{"$f":"IF(NFI_Expiration=1,IF($A31<VLOOKUP(H$5,NFI,5,0),1,0)*Table_NFI[[#This Row],[Hygiene Kit]],Table_NFI[Hygiene Kit])","v":0},{"$f":"IF(NFI_Expiration=1,IF($A31<VLOOKUP(I$5,NFI,5,0),1,0)*Table_NFI[[#This Row],[NFI Core Kit]],Table_NFI[NFI Core Kit])","v":0},{"$f":"IF(NFI_Expiration=1,IF($A31<VLOOKUP(J$5,NFI,5,0),1,0)*Table_NFI[[#This Row],[Sanitary Kit]],Table_NFI[Sanitary Kit])","v":0},{"$f":"IF(NFI_Expiration=1,IF($A31<VLOOKUP(K$5,NFI,5,0),1,0)*Table_NFI[[#This Row],[Mosquito net]],Table_NFI[Mosquito net])","v":0},{"$f":"IF(NFI_Expiration=1,IF($A31<VLOOKUP(L$5,NFI,5,0),1,0)*Table_NFI[[#This Row],[Tarpaulin]],Table_NFI[[#This Row],[Tarpaulin]])","v":0},{"$f":"IF(NFI_Expiration=1,IF($A31<VLOOKUP(M$5,NFI,5,0),1,0)*Table_NFI[[#This Row],[Blanket]],Table_NFI[[#This Row],[Blanket]])","v":0},{"$f":"IF(NFI_Expiration=1,IF($A31<VLOOKUP(N$5,NFI,5,0),1,0)*Table_NFI[[#This Row],[Kitchen Set]],Table_NFI[Kitchen Set])","v":0},{"$f":"IF(NFI_Expiration=1,IF($A31<VLOOKUP(O$5,NFI,5,0),1,0)*Table_NFI[[#This Row],[Complementary Kit]],Table_NFI[Complementary Kit])","v":0},{"$f":"IF(NFI_Expiration=1,IF($A31<VLOOKUP(P$5,NFI,5,0),1,0)*Table_NFI[[#This Row],[Plastic Bucket]],Table_NFI[Plastic Bucket])","v":0},{"$f":"IF(NFI_Expiration=1,IF($A31<VLOOKUP(Q$5,NFI,5,0),1,0)*Table_NFI[[#This Row],[Plastic Mat]],Table_NFI[Plastic Mat])","v":0},{"$f":"IFERROR(VLOOKUP(Table_NFI[[#This Row],[Camp Name]],CL,2,0),\"\")","v":"MMR001CMP005"},{"$f":"IFERROR(VLOOKUP(Table_NFI[[#This Row],[Camp Name]],CL,3,0),\"\")","v":"Open"},{"$f":"IFERROR(Table_NFI[[#This Row],[Kitchen Set]]/VLOOKUP(Table_NFI[[#This Row],[Camp Name]],CL,4,0),\"\")","v":4.6511627906976744E-2}]
[25.066666666666666,"2011-12-11","UNHCR","KBC","Kachin","Myitkyina","Shatapru Sut Ngai Tawng",null,null,0,2,2,2,2,2,2,2,{"$f":"IF(NFI_Expiration=1,IF($A32<VLOOKUP(H$5,NFI,5,0),1,0)*Table_NFI[[#This Row],[Hygiene Kit]],Table_NFI[Hygiene Kit])","v":0},{"$f":"IF(NFI_Expiration=1,IF($A32<VLOOKUP(I$5,NFI,5,0),1,0)*Table_NFI[[#This Row],[NFI Core Kit]],Table_NFI[NFI Core Kit])","v":0},{"$f":"IF(NFI_Expiration=1,IF($A32<VLOOKUP(J$5,NFI,5,0),1,0)*Table_NFI[[#This Row],[Sanitary Kit]],Table_NFI[Sanitary Kit])","v":0},{"$f":"IF(NFI_Expiration=1,IF($A32<VLOOKUP(K$5,NFI,5,0),1,0)*Table_NFI[[#This Row],[Mosquito net]],Table_NFI[Mosquito net])","v":0},{"$f":"IF(NFI_Expiration=1,IF($A32<VLOOKUP(L$5,NFI,5,0),1,0)*Table_NFI[[#This Row],[Tarpaulin]],Table_NFI[[#This Row],[Tarpaulin]])","v":0},{"$f":"IF(NFI_Expiration=1,IF($A32<VLOOKUP(M$5,NFI,5,0),1,0)*Table_NFI[[#This Row],[Blanket]],Table_NFI[[#This Row],[Blanket]])","v":0},{"$f":"IF(NFI_Expiration=1,IF($A32<VLOOKUP(N$5,NFI,5,0),1,0)*Table_NFI[[#This Row],[Kitchen Set]],Table_NFI[Kitchen Set])","v":0},{"$f":"IF(NFI_Expiration=1,IF($A32<VLOOKUP(O$5,NFI,5,0),1,0)*Table_NFI[[#This Row],[Complementary Kit]],Table_NFI[Complementary Kit])","v":0},{"$f":"IF(NFI_Expiration=1,IF($A32<VLOOKUP(P$5,NFI,5,0),1,0)*Table_NFI[[#This Row],[Plastic Bucket]],Table_NFI[Plastic Bucket])","v":0},{"$f":"IF(NFI_Expiration=1,IF($A32<VLOOKUP(Q$5,NFI,5,0),1,0)*Table_NFI[[#This Row],[Plastic Mat]],Table_NFI[Plastic Mat])","v":0},{"$f":"IFERROR(VLOOKUP(Table_NFI[[#This Row],[Camp Name]],CL,2,0),\"\")","v":"MMR001CMP006"},{"$f":"IFERROR(VLOOKUP(Table_NFI[[#This Row],[Camp Name]],CL,3,0),\"\")","v":"Open"},{"$f":"IFERROR(Table_NFI[[#This Row],[Kitchen Set]]/VLOOKUP(Table_NFI[[#This Row],[Camp Name]],CL,4,0),\"\")","v":1.8867924528301886E-2}]
[25.066666666666666,"2011-12-11","UNHCR","KBC","Kachin","Myitkyina","Man Hkring Baptist Church",null,null,0,6,4,6,4,4,4,4,{"$f":"IF(NFI_Expiration=1,IF($A33<VLOOKUP(H$5,NFI,5,0),1,0)*Table_NFI[[#This Row],[Hygiene Kit]],Table_NFI[Hygiene Kit])","v":0},{"$f":"IF(NFI_Expiration=1,IF($A33<VLOOKUP(I$5,NFI,5,0),1,0)*Table_NFI[[#This Row],[NFI Core Kit]],Table_NFI[NFI Core Kit])","v":0},{"$f":"IF(NFI_Expiration=1,IF($A33<VLOOKUP(J$5,NFI,5,0),1,0)*Table_NFI[[#This Row],[Sanitary Kit]],Table_NFI[Sanitary Kit])","v":0},{"$f":"IF(NFI_Expiration=1,IF($A33<VLOOKUP(K$5,NFI,5,0),1,0)*Table_NFI[[#This Row],[Mosquito net]],Table_NFI[Mosquito net])","v":0},{"$f":"IF(NFI_Expiration=1,IF($A33<VLOOKUP(L$5,NFI,5,0),1,0)*Table_NFI[[#This Row],[Tarpaulin]],Table_NFI[[#This Row],[Tarpaulin]])","v":0},{"$f":"IF(NFI_Expiration=1,IF($A33<VLOOKUP(M$5,NFI,5,0),1,0)*Table_NFI[[#This Row],[Blanket]],Table_NFI[[#This Row],[Blanket]])","v":0},{"$f":"IF(NFI_Expiration=1,IF($A33<VLOOKUP(N$5,NFI,5,0),1,0)*Table_NFI[[#This Row],[Kitchen Set]],Table_NFI[Kitchen Set])","v":0},{"$f":"IF(NFI_Expiration=1,IF($A33<VLOOKUP(O$5,NFI,5,0),1,0)*Table_NFI[[#This Row],[Complementary Kit]],Table_NFI[Complementary Kit])","v":0},{"$f":"IF(NFI_Expiration=1,IF($A33<VLOOKUP(P$5,NFI,5,0),1,0)*Table_NFI[[#This Row],[Plastic Bucket]],Table_NFI[Plastic Bucket])","v":0},{"$f":"IF(NFI_Expiration=1,IF($A33<VLOOKUP(Q$5,NFI,5,0),1,0)*Table_NFI[[#This Row],[Plastic Mat]],Table_NFI[Plastic Mat])","v":0},{"$f":"IFERROR(VLOOKUP(Table_NFI[[#This Row],[Camp Name]],CL,2,0),\"\")","v":"MMR001CMP008"},{"$f":"IFERROR(VLOOKUP(Table_NFI[[#This Row],[Camp Name]],CL,3,0),\"\")","v":"Open"},{"$f":"IFERROR(Table_NFI[[#This Row],[Kitchen Set]]/VLOOKUP(Table_NFI[[#This Row],[Camp Name]],CL,4,0),\"\")","v":4.2105263157894736E-2}]
[25.066666666666666,"2011-12-11","UNHCR","Shan Community","Kachin","Myitkyina","Shan Ywar Monestary Camp",null,null,0,88,49,88,49,49,49,49,{"$f":"IF(NFI_Expiration=1,IF($A34<VLOOKUP(H$5,NFI,5,0),1,0)*Table_NFI[[#This Row],[Hygiene Kit]],Table_NFI[Hygiene Kit])","v":0},{"$f":"IF(NFI_Expiration=1,IF($A34<VLOOKUP(I$5,NFI,5,0),1,0)*Table_NFI[[#This Row],[NFI Core Kit]],Table_NFI[NFI Core Kit])","v":0},{"$f":"IF(NFI_Expiration=1,IF($A34<VLOOKUP(J$5,NFI,5,0),1,0)*Table_NFI[[#This Row],[Sanitary Kit]],Table_NFI[Sanitary Kit])","v":0},{"$f":"IF(NFI_Expiration=1,IF($A34<VLOOKUP(K$5,NFI,5,0),1,0)*Table_NFI[[#This Row],[Mosquito net]],Table_NFI[Mosquito net])","v":0},{"$f":"IF(NFI_Expiration=1,IF($A34<VLOOKUP(L$5,NFI,5,0),1,0)*Table_NFI[[#This Row],[Tarpaulin]],Table_NFI[[#This Row],[Tarpaulin]])","v":0},{"$f":"IF(NFI_Expiration=1,IF($A34<VLOOKUP(M$5,NFI,5,0),1,0)*Table_NFI[[#This Row],[Blanket]],Table_NFI[[#This Row],[Blanket]])","v":0},{"$f":"IF(NFI_Expiration=1,IF($A34<VLOOKUP(N$5,NFI,5,0),1,0)*Table_NFI[[#This Row],[Kitchen Set]],Table_NFI[Kitchen Set])","v":0},{"$f":"IF(NFI_Expiration=1,IF($A34<VLOOKUP(O$5,NFI,5,0),1,0)*Table_NFI[[#This Row],[Complementary Kit]],Table_NFI[Complementary Kit])","v":0},{"$f":"IF(NFI_Expiration=1,IF($A34<VLOOKUP(P$5,NFI,5,0),1,0)*Table_NFI[[#This Row],[Plastic Bucket]],Table_NFI[Plastic Bucket])","v":0},{"$f":"IF(NFI_Expiration=1,IF($A34<VLOOKUP(Q$5,NFI,5,0),1,0)*Table_NFI[[#This Row],[Plastic Mat]],Table_NFI[Plastic Mat])","v":0},{"$f":"IFERROR(VLOOKUP(Table_NFI[[#This Row],[Camp Name]],CL,2,0),\"\")","v":""},{"$f":"IFERROR(VLOOKUP(Table_NFI[[#This Row],[Camp Name]],CL,3,0),\"\")","v":""},{"$f":"IFERROR(Table_NFI[[#This Row],[Kitchen Set]]/VLOOKUP(Table_NFI[[#This Row],[Camp Name]],CL,4,0),\"\")","v":""}]
[25,"2011-12-13","UNHCR","IRRC","Kachin","Waingmaw","Zai Awng / Mung Ga Zup",null,null,0,250,125,250,125,125,125,125,{"$f":"IF(NFI_Expiration=1,IF($A35<VLOOKUP(H$5,NFI,5,0),1,0)*Table_NFI[[#This Row],[Hygiene Kit]],Table_NFI[Hygiene Kit])","v":0},{"$f":"IF(NFI_Expiration=1,IF($A35<VLOOKUP(I$5,NFI,5,0),1,0)*Table_NFI[[#This Row],[NFI Core Kit]],Table_NFI[NFI Core Kit])","v":0},{"$f":"IF(NFI_Expiration=1,IF($A35<VLOOKUP(J$5,NFI,5,0),1,0)*Table_NFI[[#This Row],[Sanitary Kit]],Table_NFI[Sanitary Kit])","v":0},{"$f":"IF(NFI_Expiration=1,IF($A35<VLOOKUP(K$5,NFI,5,0),1,0)*Table_NFI[[#This Row],[Mosquito net]],Table_NFI[Mosquito net])","v":0},{"$f":"IF(NFI_Expiration=1,IF($A35<VLOOKUP(L$5,NFI,5,0),1,0)*Table_NFI[[#This Row],[Tarpaulin]],Table_NFI[[#This Row],[Tarpaulin]])","v":0},{"$f":"IF(NFI_Expiration=1,IF($A35<VLOOKUP(M$5,NFI,5,0),1,0)*Table_NFI[[#This Row],[Blanket]],Table_NFI[[#This Row],[Blanket]])","v":0},{"$f":"IF(NFI_Expiration=1,IF($A35<VLOOKUP(N$5,NFI,5,0),1,0)*Table_NFI[[#This Row],[Kitchen Set]],Table_NFI[Kitchen Set])","v":0},{"$f":"IF(NFI_Expiration=1,IF($A35<VLOOKUP(O$5,NFI,5,0),1,0)*Table_NFI[[#This Row],[Complementary Kit]],Table_NFI[Complementary Kit])","v":0},{"$f":"IF(NFI_Expiration=1,IF($A35<VLOOKUP(P$5,NFI,5,0),1,0)*Table_NFI[[#This Row],[Plastic Bucket]],Table_NFI[Plastic Bucket])","v":0},{"$f":"IF(NFI_Expiration=1,IF($A35<VLOOKUP(Q$5,NFI,5,0),1,0)*Table_NFI[[#This Row],[Plastic Mat]],Table_NFI[Plastic Mat])","v":0},{"$f":"IFERROR(VLOOKUP(Table_NFI[[#This Row],[Camp Name]],CL,2,0),\"\")","v":"MMR001CMP111"},{"$f":"IFERROR(VLOOKUP(Table_NFI[[#This Row],[Camp Name]],CL,3,0),\"\")","v":"Open"},{"$f":"IFERROR(Table_NFI[[#This Row],[Kitchen Set]]/VLOOKUP(Table_NFI[[#This Row],[Camp Name]],CL,4,0),\"\")","v":0.20161290322580644}]
[25,"2011-12-13","UNHCR","IRRC","Kachin","Waingmaw","Maga Yang ",null,null,0,250,125,250,125,125,125,125,{"$f":"IF(NFI_Expiration=1,IF($A36<VLOOKUP(H$5,NFI,5,0),1,0)*Table_NFI[[#This Row],[Hygiene Kit]],Table_NFI[Hygiene Kit])","v":0},{"$f":"IF(NFI_Expiration=1,IF($A36<VLOOKUP(I$5,NFI,5,0),1,0)*Table_NFI[[#This Row],[NFI Core Kit]],Table_NFI[NFI Core Kit])","v":0},{"$f":"IF(NFI_Expiration=1,IF($A36<VLOOKUP(J$5,NFI,5,0),1,0)*Table_NFI[[#This Row],[Sanitary Kit]],Table_NFI[Sanitary Kit])","v":0},{"$f":"IF(NFI_Expiration=1,IF($A36<VLOOKUP(K$5,NFI,5,0),1,0)*Table_NFI[[#This Row],[Mosquito net]],Table_NFI[Mosquito net])","v":0},{"$f":"IF(NFI_Expiration=1,IF($A36<VLOOKUP(L$5,NFI,5,0),1,0)*Table_NFI[[#This Row],[Tarpaulin]],Table_NFI[[#This Row],[Tarpaulin]])","v":0},{"$f":"IF(NFI_Expiration=1,IF($A36<VLOOKUP(M$5,NFI,5,0),1,0)*Table_NFI[[#This Row],[Blanket]],Table_NFI[[#This Row],[Blanket]])","v":0},{"$f":"IF(NFI_Expiration=1,IF($A36<VLOOKUP(N$5,NFI,5,0),1,0)*Table_NFI[[#This Row],[Kitchen Set]],Table_NFI[Kitchen Set])","v":0},{"$f":"IF(NFI_Expiration=1,IF($A36<VLOOKUP(O$5,NFI,5,0),1,0)*Table_NFI[[#This Row],[Complementary Kit]],Table_NFI[Complementary Kit])","v":0},{"$f":"IF(NFI_Expiration=1,IF($A36<VLOOKUP(P$5,NFI,5,0),1,0)*Table_NFI[[#This Row],[Plastic Bucket]],Table_NFI[Plastic Bucket])","v":0},{"$f":"IF(NFI_Expiration=1,IF($A36<VLOOKUP(Q$5,NFI,5,0),1,0)*Table_NFI[[#This Row],[Plastic Mat]],Table_NFI[Plastic Mat])","v":0},{"$f":"IFERROR(VLOOKUP(Table_NFI[[#This Row],[Camp Name]],CL,2,0),\"\")","v":"MMR001CMP119"},{"$f":"IFERROR(VLOOKUP(Table_NFI[[#This Row],[Camp Name]],CL,3,0),\"\")","v":"Open"},{"$f":"IFERROR(Table_NFI[[#This Row],[Kitchen Set]]/VLOOKUP(Table_NFI[[#This Row],[Camp Name]],CL,4,0),\"\")","v":0.20064205457463885}]
[25,"2011-12-13","UNHCR","IRRC","Kachin","Momauk","Je Yang Hka ",null,null,0,250,125,250,125,125,125,125,{"$f":"IF(NFI_Expiration=1,IF($A37<VLOOKUP(H$5,NFI,5,0),1,0)*Table_NFI[[#This Row],[Hygiene Kit]],Table_NFI[Hygiene Kit])","v":0},{"$f":"IF(NFI_Expiration=1,IF($A37<VLOOKUP(I$5,NFI,5,0),1,0)*Table_NFI[[#This Row],[NFI Core Kit]],Table_NFI[NFI Core Kit])","v":0},{"$f":"IF(NFI_Expiration=1,IF($A37<VLOOKUP(J$5,NFI,5,0),1,0)*Table_NFI[[#This Row],[Sanitary Kit]],Table_NFI[Sanitary Kit])","v":0},{"$f":"IF(NFI_Expiration=1,IF($A37<VLOOKUP(K$5,NFI,5,0),1,0)*Table_NFI[[#This Row],[Mosquito net]],Table_NFI[Mosquito net])","v":0},{"$f":"IF(NFI_Expiration=1,IF($A37<VLOOKUP(L$5,NFI,5,0),1,0)*Table_NFI[[#This Row],[Tarpaulin]],Table_NFI[[#This Row],[Tarpaulin]])","v":0},{"$f":"IF(NFI_Expiration=1,IF($A37<VLOOKUP(M$5,NFI,5,0),1,0)*Table_NFI[[#This Row],[Blanket]],Table_NFI[[#This Row],[Blanket]])","v":0},{"$f":"IF(NFI_Expiration=1,IF($A37<VLOOKUP(N$5,NFI,5,0),1,0)*Table_NFI[[#This Row],[Kitchen Set]],Table_NFI[Kitchen Set])","v":0},{"$f":"IF(NFI_Expiration=1,IF($A37<VLOOKUP(O$5,NFI,5,0),1,0)*Table_NFI[[#This Row],[Complementary Kit]],Table_NFI[Complementary Kit])","v":0},{"$f":"IF(NFI_Expiration=1,IF($A37<VLOOKUP(P$5,NFI,5,0),1,0)*Table_NFI[[#This Row],[Plastic Bucket]],Table_NFI[Plastic Bucket])","v":0},{"$f":"IF(NFI_Expiration=1,IF($A37<VLOOKUP(Q$5,NFI,5,0),1,0)*Table_NFI[[#This Row],[Plastic Mat]],Table_NFI[Plastic Mat])","v":0},{"$f":"IFERROR(VLOOKUP(Table_NFI[[#This Row],[Camp Name]],CL,2,0),\"\")","v":"MMR001CMP121"},{"$f":"IFERROR(VLOOKUP(Table_NFI[[#This Row],[Camp Name]],CL,3,0),\"\")","v":"Open"},{"$f":"IFERROR(Table_NFI[[#This Row],[Kitchen Set]]/VLOOKUP(Table_NFI[[#This Row],[Camp Name]],CL,4,0),\"\")","v":7.4052132701421802E-2}]
[25,"2011-12-13","UNHCR","IRRC","Kachin","Momauk","Hpun Lum Yang ",null,null,0,250,125,250,125,125,125,125,{"$f":"IF(NFI_Expiration=1,IF($A38<VLOOKUP(H$5,NFI,5,0),1,0)*Table_NFI[[#This Row],[Hygiene Kit]],Table_NFI[Hygiene Kit])","v":0},{"$f":"IF(NFI_Expiration=1,IF($A38<VLOOKUP(I$5,NFI,5,0),1,0)*Table_NFI[[#This Row],[NFI Core Kit]],Table_NFI[NFI Core Kit])","v":0},{"$f":"IF(NFI_Expiration=1,IF($A38<VLOOKUP(J$5,NFI,5,0),1,0)*Table_NFI[[#This Row],[Sanitary Kit]],Table_NFI[Sanitary Kit])","v":0},{"$f":"IF(NFI_Expiration=1,IF($A38<VLOOKUP(K$5,NFI,5,0),1,0)*Table_NFI[[#This Row],[Mosquito net]],Table_NFI[Mosquito net])","v":0},{"$f":"IF(NFI_Expiration=1,IF($A38<VLOOKUP(L$5,NFI,5,0),1,0)*Table_NFI[[#This Row],[Tarpaulin]],Table_NFI[[#This Row],[Tarpaulin]])","v":0},{"$f":"IF(NFI_Expiration=1,IF($A38<VLOOKUP(M$5,NFI,5,0),1,0)*Table_NFI[[#This Row],[Blanket]],Table_NFI[[#This Row],[Blanket]])","v":0},{"$f":"IF(NFI_Expiration=1,IF($A38<VLOOKUP(N$5,NFI,5,0),1,0)*Table_NFI[[#This Row],[Kitchen Set]],Table_NFI[Kitchen Set])","v":0},{"$f":"IF(NFI_Expiration=1,IF($A38<VLOOKUP(O$5,NFI,5,0),1,0)*Table_NFI[[#This Row],[Complementary Kit]],Table_NFI[Complementary Kit])","v":0},{"$f":"IF(NFI_Expiration=1,IF($A38<VLOOKUP(P$5,NFI,5,0),1,0)*Table_NFI[[#This Row],[Plastic Bucket]],Table_NFI[Plastic Bucket])","v":0},{"$f":"IF(NFI_Expiration=1,IF($A38<VLOOKUP(Q$5,NFI,5,0),1,0)*Table_NFI[[#This Row],[Plastic Mat]],Table_NFI[Plastic Mat])","v":0},{"$f":"IFERROR(VLOOKUP(Table_NFI[[#This Row],[Camp Name]],CL,2,0),\"\")","v":"MMR001CMP122"},{"$f":"IFERROR(VLOOKUP(Table_NFI[[#This Row],[Camp Name]],CL,3,0),\"\")","v":"Open"},{"$f":"IFERROR(Table_NFI[[#This Row],[Kitchen Set]]/VLOOKUP(Table_NFI[[#This Row],[Camp Name]],CL,4,0),\"\")","v":0.28604118993135014},"12 Tapalium give to WFP, to use in convy trip."]
[24.7,"2011-12-22","UNHCR","UNHCR","Kachin","Waingmaw","Qtr. 2 Lhaovo Baptist Church",null,null,0,0,0,0,0,4,4,4,{"$f":"IF(NFI_Expiration=1,IF($A39<VLOOKUP(H$5,NFI,5,0),1,0)*Table_NFI[[#This Row],[Hygiene Kit]],Table_NFI[Hygiene Kit])","v":0},{"$f":"IF(NFI_Expiration=1,IF($A39<VLOOKUP(I$5,NFI,5,0),1,0)*Table_NFI[[#This Row],[NFI Core Kit]],Table_NFI[NFI Core Kit])","v":0},{"$f":"IF(NFI_Expiration=1,IF($A39<VLOOKUP(J$5,NFI,5,0),1,0)*Table_NFI[[#This Row],[Sanitary Kit]],Table_NFI[Sanitary Kit])","v":0},{"$f":"IF(NFI_Expiration=1,IF($A39<VLOOKUP(K$5,NFI,5,0),1,0)*Table_NFI[[#This Row],[Mosquito net]],Table_NFI[Mosquito net])","v":0},{"$f":"IF(NFI_Expiration=1,IF($A39<VLOOKUP(L$5,NFI,5,0),1,0)*Table_NFI[[#This Row],[Tarpaulin]],Table_NFI[[#This Row],[Tarpaulin]])","v":0},{"$f":"IF(NFI_Expiration=1,IF($A39<VLOOKUP(M$5,NFI,5,0),1,0)*Table_NFI[[#This Row],[Blanket]],Table_NFI[[#This Row],[Blanket]])","v":0},{"$f":"IF(NFI_Expiration=1,IF($A39<VLOOKUP(N$5,NFI,5,0),1,0)*Table_NFI[[#This Row],[Kitchen Set]],Table_NFI[Kitchen Set])","v":0},{"$f":"IF(NFI_Expiration=1,IF($A39<VLOOKUP(O$5,NFI,5,0),1,0)*Table_NFI[[#This Row],[Complementary Kit]],Table_NFI[Complementary Kit])","v":0},{"$f":"IF(NFI_Expiration=1,IF($A39<VLOOKUP(P$5,NFI,5,0),1,0)*Table_NFI[[#This Row],[Plastic Bucket]],Table_NFI[Plastic Bucket])","v":0},{"$f":"IF(NFI_Expiration=1,IF($A39<VLOOKUP(Q$5,NFI,5,0),1,0)*Table_NFI[[#This Row],[Plastic Mat]],Table_NFI[Plastic Mat])","v":0},{"$f":"IFERROR(VLOOKUP(Table_NFI[[#This Row],[Camp Name]],CL,2,0),\"\")","v":"MMR001CMP032"},{"$f":"IFERROR(VLOOKUP(Table_NFI[[#This Row],[Camp Name]],CL,3,0),\"\")","v":"Open"},{"$f":"IFERROR(Table_NFI[[#This Row],[Kitchen Set]]/VLOOKUP(Table_NFI[[#This Row],[Camp Name]],CL,4,0),\"\")","v":0}]
[24.566666666666666,"2011-12-26","UNHCR","KBC","Kachin","Waingmaw","Qtr. 2 Myoma Baptist Church",null,null,0,54,33,54,33,33,33,33,{"$f":"IF(NFI_Expiration=1,IF($A40<VLOOKUP(H$5,NFI,5,0),1,0)*Table_NFI[[#This Row],[Hygiene Kit]],Table_NFI[Hygiene Kit])","v":0},{"$f":"IF(NFI_Expiration=1,IF($A40<VLOOKUP(I$5,NFI,5,0),1,0)*Table_NFI[[#This Row],[NFI Core Kit]],Table_NFI[NFI Core Kit])","v":0},{"$f":"IF(NFI_Expiration=1,IF($A40<VLOOKUP(J$5,NFI,5,0),1,0)*Table_NFI[[#This Row],[Sanitary Kit]],Table_NFI[Sanitary Kit])","v":0},{"$f":"IF(NFI_Expiration=1,IF($A40<VLOOKUP(K$5,NFI,5,0),1,0)*Table_NFI[[#This Row],[Mosquito net]],Table_NFI[Mosquito net])","v":0},{"$f":"IF(NFI_Expiration=1,IF($A40<VLOOKUP(L$5,NFI,5,0),1,0)*Table_NFI[[#This Row],[Tarpaulin]],Table_NFI[[#This Row],[Tarpaulin]])","v":0},{"$f":"IF(NFI_Expiration=1,IF($A40<VLOOKUP(M$5,NFI,5,0),1,0)*Table_NFI[[#This Row],[Blanket]],Table_NFI[[#This Row],[Blanket]])","v":0},{"$f":"IF(NFI_Expiration=1,IF($A40<VLOOKUP(N$5,NFI,5,0),1,0)*Table_NFI[[#This Row],[Kitchen Set]],Table_NFI[Kitchen Set])","v":0},{"$f":"IF(NFI_Expiration=1,IF($A40<VLOOKUP(O$5,NFI,5,0),1,0)*Table_NFI[[#This Row],[Complementary Kit]],Table_NFI[Complementary Kit])","v":0},{"$f":"IF(NFI_Expiration=1,IF($A40<VLOOKUP(P$5,NFI,5,0),1,0)*Table_NFI[[#This Row],[Plastic Bucket]],Table_NFI[Plastic Bucket])","v":0},{"$f":"IF(NFI_Expiration=1,IF($A40<VLOOKUP(Q$5,NFI,5,0),1,0)*Table_NFI[[#This Row],[Plastic Mat]],Table_NFI[Plastic Mat])","v":0},{"$f":"IFERROR(VLOOKUP(Table_NFI[[#This Row],[Camp Name]],CL,2,0),\"\")","v":"MMR001CMP025"},{"$f":"IFERROR(VLOOKUP(Table_NFI[[#This Row],[Camp Name]],CL,3,0),\"\")","v":"Open"},{"$f":"IFERROR(Table_NFI[[#This Row],[Kitchen Set]]/VLOOKUP(Table_NFI[[#This Row],[Camp Name]],CL,4,0),\"\")","v":0.39759036144578314}]
[24.5,"2011-12-28","UNHCR","Shan Community","Kachin","Waingmaw","Hkat Cho ",null,null,0,31,19,31,19,19,19,19,{"$f":"IF(NFI_Expiration=1,IF($A41<VLOOKUP(H$5,NFI,5,0),1,0)*Table_NFI[[#This Row],[Hygiene Kit]],Table_NFI[Hygiene Kit])","v":0},{"$f":"IF(NFI_Expiration=1,IF($A41<VLOOKUP(I$5,NFI,5,0),1,0)*Table_NFI[[#This Row],[NFI Core Kit]],Table_NFI[NFI Core Kit])","v":0},{"$f":"IF(NFI_Expiration=1,IF($A41<VLOOKUP(J$5,NFI,5,0),1,0)*Table_NFI[[#This Row],[Sanitary Kit]],Table_NFI[Sanitary Kit])","v":0},{"$f":"IF(NFI_Expiration=1,IF($A41<VLOOKUP(K$5,NFI,5,0),1,0)*Table_NFI[[#This Row],[Mosquito net]],Table_NFI[Mosquito net])","v":0},{"$f":"IF(NFI_Expiration=1,IF($A41<VLOOKUP(L$5,NFI,5,0),1,0)*Table_NFI[[#This Row],[Tarpaulin]],Table_NFI[[#This Row],[Tarpaulin]])","v":0},{"$f":"IF(NFI_Expiration=1,IF($A41<VLOOKUP(M$5,NFI,5,0),1,0)*Table_NFI[[#This Row],[Blanket]],Table_NFI[[#This Row],[Blanket]])","v":0},{"$f":"IF(NFI_Expiration=1,IF($A41<VLOOKUP(N$5,NFI,5,0),1,0)*Table_NFI[[#This Row],[Kitchen Set]],Table_NFI[Kitchen Set])","v":0},{"$f":"IF(NFI_Expiration=1,IF($A41<VLOOKUP(O$5,NFI,5,0),1,0)*Table_NFI[[#This Row],[Complementary Kit]],Table_NFI[Complementary Kit])","v":0},{"$f":"IF(NFI_Expiration=1,IF($A41<VLOOKUP(P$5,NFI,5,0),1,0)*Table_NFI[[#This Row],[Plastic Bucket]],Table_NFI[Plastic Bucket])","v":0},{"$f":"IF(NFI_Expiration=1,IF($A41<VLOOKUP(Q$5,NFI,5,0),1,0)*Table_NFI[[#This Row],[Plastic Mat]],Table_NFI[Plastic Mat])","v":0},{"$f":"IFERROR(VLOOKUP(Table_NFI[[#This Row],[Camp Name]],CL,2,0),\"\")","v":"MMR001CMP028"},{"$f":"IFERROR(VLOOKUP(Table_NFI[[#This Row],[Camp Name]],CL,3,0),\"\")","v":"Open"},{"$f":"IFERROR(Table_NFI[[#This Row],[Kitchen Set]]/VLOOKUP(Table_NFI[[#This Row],[Camp Name]],CL,4,0),\"\")","v":0.1417910447761194}]
[24.433333333333334,"2011-12-30","UNHCR","KBC","Kachin","Myitkyina","Jan Mai Kawng Baptist Church",null,null,0,56,29,56,29,29,29,29,{"$f":"IF(NFI_Expiration=1,IF($A42<VLOOKUP(H$5,NFI,5,0),1,0)*Table_NFI[[#This Row],[Hygiene Kit]],Table_NFI[Hygiene Kit])","v":0},{"$f":"IF(NFI_Expiration=1,IF($A42<VLOOKUP(I$5,NFI,5,0),1,0)*Table_NFI[[#This Row],[NFI Core Kit]],Table_NFI[NFI Core Kit])","v":0},{"$f":"IF(NFI_Expiration=1,IF($A42<VLOOKUP(J$5,NFI,5,0),1,0)*Table_NFI[[#This Row],[Sanitary Kit]],Table_NFI[Sanitary Kit])","v":0},{"$f":"IF(NFI_Expiration=1,IF($A42<VLOOKUP(K$5,NFI,5,0),1,0)*Table_NFI[[#This Row],[Mosquito net]],Table_NFI[Mosquito net])","v":0},{"$f":"IF(NFI_Expiration=1,IF($A42<VLOOKUP(L$5,NFI,5,0),1,0)*Table_NFI[[#This Row],[Tarpaulin]],Table_NFI[[#This Row],[Tarpaulin]])","v":0},{"$f":"IF(NFI_Expiration=1,IF($A42<VLOOKUP(M$5,NFI,5,0),1,0)*Table_NFI[[#This Row],[Blanket]],Table_NFI[[#This Row],[Blanket]])","v":0},{"$f":"IF(NFI_Expiration=1,IF($A42<VLOOKUP(N$5,NFI,5,0),1,0)*Table_NFI[[#This Row],[Kitchen Set]],Table_NFI[Kitchen Set])","v":0},{"$f":"IF(NFI_Expiration=1,IF($A42<VLOOKUP(O$5,NFI,5,0),1,0)*Table_NFI[[#This Row],[Complementary Kit]],Table_NFI[Complementary Kit])","v":0},{"$f":"IF(NFI_Expiration=1,IF($A42<VLOOKUP(P$5,NFI,5,0),1,0)*Table_NFI[[#This Row],[Plastic Bucket]],Table_NFI[Plastic Bucket])","v":0},{"$f":"IF(NFI_Expiration=1,IF($A42<VLOOKUP(Q$5,NFI,5,0),1,0)*Table_NFI[[#This Row],[Plastic Mat]],Table_NFI[Plastic Mat])","v":0},{"$f":"IFERROR(VLOOKUP(Table_NFI[[#This Row],[Camp Name]],CL,2,0),\"\")","v":"MMR001CMP018"},{"$f":"IFERROR(VLOOKUP(Table_NFI[[#This Row],[Camp Name]],CL,3,0),\"\")","v":"Open"},{"$f":"IFERROR(Table_NFI[[#This Row],[Kitchen Set]]/VLOOKUP(Table_NFI[[#This Row],[Camp Name]],CL,4,0),\"\")","v":0.14285714285714285}]
[24.4,"2011-12-31","UNHCR","KMSS","Kachin","Waingmaw","Maina Catholic Church (St. Joseph)",null,null,0,46,27,47,27,27,27,27,{"$f":"IF(NFI_Expiration=1,IF($A43<VLOOKUP(H$5,NFI,5,0),1,0)*Table_NFI[[#This Row],[Hygiene Kit]],Table_NFI[Hygiene Kit])","v":0},{"$f":"IF(NFI_Expiration=1,IF($A43<VLOOKUP(I$5,NFI,5,0),1,0)*Table_NFI[[#This Row],[NFI Core Kit]],Table_NFI[NFI Core Kit])","v":0},{"$f":"IF(NFI_Expiration=1,IF($A43<VLOOKUP(J$5,NFI,5,0),1,0)*Table_NFI[[#This Row],[Sanitary Kit]],Table_NFI[Sanitary Kit])","v":0},{"$f":"IF(NFI_Expiration=1,IF($A43<VLOOKUP(K$5,NFI,5,0),1,0)*Table_NFI[[#This Row],[Mosquito net]],Table_NFI[Mosquito net])","v":0},{"$f":"IF(NFI_Expiration=1,IF($A43<VLOOKUP(L$5,NFI,5,0),1,0)*Table_NFI[[#This Row],[Tarpaulin]],Table_NFI[[#This Row],[Tarpaulin]])","v":0},{"$f":"IF(NFI_Expiration=1,IF($A43<VLOOKUP(M$5,NFI,5,0),1,0)*Table_NFI[[#This Row],[Blanket]],Table_NFI[[#This Row],[Blanket]])","v":0},{"$f":"IF(NFI_Expiration=1,IF($A43<VLOOKUP(N$5,NFI,5,0),1,0)*Table_NFI[[#This Row],[Kitchen Set]],Table_NFI[Kitchen Set])","v":0},{"$f":"IF(NFI_Expiration=1,IF($A43<VLOOKUP(O$5,NFI,5,0),1,0)*Table_NFI[[#This Row],[Complementary Kit]],Table_NFI[Complementary Kit])","v":0},{"$f":"IF(NFI_Expiration=1,IF($A43<VLOOKUP(P$5,NFI,5,0),1,0)*Table_NFI[[#This Row],[Plastic Bucket]],Table_NFI[Plastic Bucket])","v":0},{"$f":"IF(NFI_Expiration=1,IF($A43<VLOOKUP(Q$5,NFI,5,0),1,0)*Table_NFI[[#This Row],[Plastic Mat]],Table_NFI[Plastic Mat])","v":0},{"$f":"IFERROR(VLOOKUP(Table_NFI[[#This Row],[Camp Name]],CL,2,0),\"\")","v":"MMR001CMP029"},{"$f":"IFERROR(VLOOKUP(Table_NFI[[#This Row],[Camp Name]],CL,3,0),\"\")","v":"Open"},{"$f":"IFERROR(Table_NFI[[#This Row],[Kitchen Set]]/VLOOKUP(Table_NFI[[#This Row],[Camp Name]],CL,4,0),\"\")","v":0.11637931034482758}]
[24.3,"2012-01-03","UNHCR","KMSS","Kachin","Myitkyina","Tat Kone Emanuel Church",null,null,0,0,0,0,0,8,8,8,{"$f":"IF(NFI_Expiration=1,IF($A44<VLOOKUP(H$5,NFI,5,0),1,0)*Table_NFI[[#This Row],[Hygiene Kit]],Table_NFI[Hygiene Kit])","v":0},{"$f":"IF(NFI_Expiration=1,IF($A44<VLOOKUP(I$5,NFI,5,0),1,0)*Table_NFI[[#This Row],[NFI Core Kit]],Table_NFI[NFI Core Kit])","v":0},{"$f":"IF(NFI_Expiration=1,IF($A44<VLOOKUP(J$5,NFI,5,0),1,0)*Table_NFI[[#This Row],[Sanitary Kit]],Table_NFI[Sanitary Kit])","v":0},{"$f":"IF(NFI_Expiration=1,IF($A44<VLOOKUP(K$5,NFI,5,0),1,0)*Table_NFI[[#This Row],[Mosquito net]],Table_NFI[Mosquito net])","v":0},{"$f":"IF(NFI_Expiration=1,IF($A44<VLOOKUP(L$5,NFI,5,0),1,0)*Table_NFI[[#This Row],[Tarpaulin]],Table_NFI[[#This Row],[Tarpaulin]])","v":0},{"$f":"IF(NFI_Expiration=1,IF($A44<VLOOKUP(M$5,NFI,5,0),1,0)*Table_NFI[[#This Row],[Blanket]],Table_NFI[[#This Row],[Blanket]])","v":0},{"$f":"IF(NFI_Expiration=1,IF($A44<VLOOKUP(N$5,NFI,5,0),1,0)*Table_NFI[[#This Row],[Kitchen Set]],Table_NFI[Kitchen Set])","v":0},{"$f":"IF(NFI_Expiration=1,IF($A44<VLOOKUP(O$5,NFI,5,0),1,0)*Table_NFI[[#This Row],[Complementary Kit]],Table_NFI[Complementary Kit])","v":0},{"$f":"IF(NFI_Expiration=1,IF($A44<VLOOKUP(P$5,NFI,5,0),1,0)*Table_NFI[[#This Row],[Plastic Bucket]],Table_NFI[Plastic Bucket])","v":0},{"$f":"IF(NFI_Expiration=1,IF($A44<VLOOKUP(Q$5,NFI,5,0),1,0)*Table_NFI[[#This Row],[Plastic Mat]],Table_NFI[Plastic Mat])","v":0},{"$f":"IFERROR(VLOOKUP(Table_NFI[[#This Row],[Camp Name]],CL,2,0),\"\")","v":"MMR001CMP004"},{"$f":"IFERROR(VLOOKUP(Table_NFI[[#This Row],[Camp Name]],CL,3,0),\"\")","v":"Open"},{"$f":"IFERROR(Table_NFI[[#This Row],[Kitchen Set]]/VLOOKUP(Table_NFI[[#This Row],[Camp Name]],CL,4,0),\"\")","v":0}]
[24.233333333333334,"2012-01-05","UNHCR","KBC","Kachin","Waingmaw","Maina Lawang Baptist Church",null,null,0,52,29,52,29,29,29,29,{"$f":"IF(NFI_Expiration=1,IF($A45<VLOOKUP(H$5,NFI,5,0),1,0)*Table_NFI[[#This Row],[Hygiene Kit]],Table_NFI[Hygiene Kit])","v":0},{"$f":"IF(NFI_Expiration=1,IF($A45<VLOOKUP(I$5,NFI,5,0),1,0)*Table_NFI[[#This Row],[NFI Core Kit]],Table_NFI[NFI Core Kit])","v":0},{"$f":"IF(NFI_Expiration=1,IF($A45<VLOOKUP(J$5,NFI,5,0),1,0)*Table_NFI[[#This Row],[Sanitary Kit]],Table_NFI[Sanitary Kit])","v":0},{"$f":"IF(NFI_Expiration=1,IF($A45<VLOOKUP(K$5,NFI,5,0),1,0)*Table_NFI[[#This Row],[Mosquito net]],Table_NFI[Mosquito net])","v":0},{"$f":"IF(NFI_Expiration=1,IF($A45<VLOOKUP(L$5,NFI,5,0),1,0)*Table_NFI[[#This Row],[Tarpaulin]],Table_NFI[[#This Row],[Tarpaulin]])","v":0},{"$f":"IF(NFI_Expiration=1,IF($A45<VLOOKUP(M$5,NFI,5,0),1,0)*Table_NFI[[#This Row],[Blanket]],Table_NFI[[#This Row],[Blanket]])","v":0},{"$f":"IF(NFI_Expiration=1,IF($A45<VLOOKUP(N$5,NFI,5,0),1,0)*Table_NFI[[#This Row],[Kitchen Set]],Table_NFI[Kitchen Set])","v":0},{"$f":"IF(NFI_Expiration=1,IF($A45<VLOOKUP(O$5,NFI,5,0),1,0)*Table_NFI[[#This Row],[Complementary Kit]],Table_NFI[Complementary Kit])","v":0},{"$f":"IF(NFI_Expiration=1,IF($A45<VLOOKUP(P$5,NFI,5,0),1,0)*Table_NFI[[#This Row],[Plastic Bucket]],Table_NFI[Plastic Bucket])","v":0},{"$f":"IF(NFI_Expiration=1,IF($A45<VLOOKUP(Q$5,NFI,5,0),1,0)*Table_NFI[[#This Row],[Plastic Mat]],Table_NFI[Plastic Mat])","v":0},{"$f":"IFERROR(VLOOKUP(Table_NFI[[#This Row],[Camp Name]],CL,2,0),\"\")","v":"MMR001CMP039"},{"$f":"IFERROR(VLOOKUP(Table_NFI[[#This Row],[Camp Name]],CL,3,0),\"\")","v":"Open"},{"$f":"IFERROR(Table_NFI[[#This Row],[Kitchen Set]]/VLOOKUP(Table_NFI[[#This Row],[Camp Name]],CL,4,0),\"\")","v":0.59183673469387754}]
[24.2,"2012-01-06","UNHCR","KMSS","Kachin","Myitkyina","Jan Mai Kawng Catholic Church",null,null,0,0,0,0,0,9,9,9,{"$f":"IF(NFI_Expiration=1,IF($A46<VLOOKUP(H$5,NFI,5,0),1,0)*Table_NFI[[#This Row],[Hygiene Kit]],Table_NFI[Hygiene Kit])","v":0},{"$f":"IF(NFI_Expiration=1,IF($A46<VLOOKUP(I$5,NFI,5,0),1,0)*Table_NFI[[#This Row],[NFI Core Kit]],Table_NFI[NFI Core Kit])","v":0},{"$f":"IF(NFI_Expiration=1,IF($A46<VLOOKUP(J$5,NFI,5,0),1,0)*Table_NFI[[#This Row],[Sanitary Kit]],Table_NFI[Sanitary Kit])","v":0},{"$f":"IF(NFI_Expiration=1,IF($A46<VLOOKUP(K$5,NFI,5,0),1,0)*Table_NFI[[#This Row],[Mosquito net]],Table_NFI[Mosquito net])","v":0},{"$f":"IF(NFI_Expiration=1,IF($A46<VLOOKUP(L$5,NFI,5,0),1,0)*Table_NFI[[#This Row],[Tarpaulin]],Table_NFI[[#This Row],[Tarpaulin]])","v":0},{"$f":"IF(NFI_Expiration=1,IF($A46<VLOOKUP(M$5,NFI,5,0),1,0)*Table_NFI[[#This Row],[Blanket]],Table_NFI[[#This Row],[Blanket]])","v":0},{"$f":"IF(NFI_Expiration=1,IF($A46<VLOOKUP(N$5,NFI,5,0),1,0)*Table_NFI[[#This Row],[Kitchen Set]],Table_NFI[Kitchen Set])","v":0},{"$f":"IF(NFI_Expiration=1,IF($A46<VLOOKUP(O$5,NFI,5,0),1,0)*Table_NFI[[#This Row],[Complementary Kit]],Table_NFI[Complementary Kit])","v":0},{"$f":"IF(NFI_Expiration=1,IF($A46<VLOOKUP(P$5,NFI,5,0),1,0)*Table_NFI[[#This Row],[Plastic Bucket]],Table_NFI[Plastic Bucket])","v":0},{"$f":"IF(NFI_Expiration=1,IF($A46<VLOOKUP(Q$5,NFI,5,0),1,0)*Table_NFI[[#This Row],[Plastic Mat]],Table_NFI[Plastic Mat])","v":0},{"$f":"IFERROR(VLOOKUP(Table_NFI[[#This Row],[Camp Name]],CL,2,0),\"\")","v":"MMR001CMP019"},{"$f":"IFERROR(VLOOKUP(Table_NFI[[#This Row],[Camp Name]],CL,3,0),\"\")","v":"Open"},{"$f":"IFERROR(Table_NFI[[#This Row],[Kitchen Set]]/VLOOKUP(Table_NFI[[#This Row],[Camp Name]],CL,4,0),\"\")","v":0}]
[24.2,"2012-01-06","UNHCR","UNHCR","Kachin","Waingmaw","Thargaya Lisu Baptist Church",null,null,0,29,0,29,15,15,15,15,{"$f":"IF(NFI_Expiration=1,IF($A47<VLOOKUP(H$5,NFI,5,0),1,0)*Table_NFI[[#This Row],[Hygiene Kit]],Table_NFI[Hygiene Kit])","v":0},{"$f":"IF(NFI_Expiration=1,IF($A47<VLOOKUP(I$5,NFI,5,0),1,0)*Table_NFI[[#This Row],[NFI Core Kit]],Table_NFI[NFI Core Kit])","v":0},{"$f":"IF(NFI_Expiration=1,IF($A47<VLOOKUP(J$5,NFI,5,0),1,0)*Table_NFI[[#This Row],[Sanitary Kit]],Table_NFI[Sanitary Kit])","v":0},{"$f":"IF(NFI_Expiration=1,IF($A47<VLOOKUP(K$5,NFI,5,0),1,0)*Table_NFI[[#This Row],[Mosquito net]],Table_NFI[Mosquito net])","v":0},{"$f":"IF(NFI_Expiration=1,IF($A47<VLOOKUP(L$5,NFI,5,0),1,0)*Table_NFI[[#This Row],[Tarpaulin]],Table_NFI[[#This Row],[Tarpaulin]])","v":0},{"$f":"IF(NFI_Expiration=1,IF($A47<VLOOKUP(M$5,NFI,5,0),1,0)*Table_NFI[[#This Row],[Blanket]],Table_NFI[[#This Row],[Blanket]])","v":0},{"$f":"IF(NFI_Expiration=1,IF($A47<VLOOKUP(N$5,NFI,5,0),1,0)*Table_NFI[[#This Row],[Kitchen Set]],Table_NFI[Kitchen Set])","v":0},{"$f":"IF(NFI_Expiration=1,IF($A47<VLOOKUP(O$5,NFI,5,0),1,0)*Table_NFI[[#This Row],[Complementary Kit]],Table_NFI[Complementary Kit])","v":0},{"$f":"IF(NFI_Expiration=1,IF($A47<VLOOKUP(P$5,NFI,5,0),1,0)*Table_NFI[[#This Row],[Plastic Bucket]],Table_NFI[Plastic Bucket])","v":0},{"$f":"IF(NFI_Expiration=1,IF($A47<VLOOKUP(Q$5,NFI,5,0),1,0)*Table_NFI[[#This Row],[Plastic Mat]],Table_NFI[Plastic Mat])","v":0},{"$f":"IFERROR(VLOOKUP(Table_NFI[[#This Row],[Camp Name]],CL,2,0),\"\")","v":"MMR001CMP037"},{"$f":"IFERROR(VLOOKUP(Table_NFI[[#This Row],[Camp Name]],CL,3,0),\"\")","v":"Open"},{"$f":"IFERROR(Table_NFI[[#This Row],[Kitchen Set]]/VLOOKUP(Table_NFI[[#This Row],[Camp Name]],CL,4,0),\"\")","v":0.20270270270270271}]
[24.2,"2012-01-06","UNHCR","UNHCR","Kachin","Waingmaw","Thargaya Lisu Baptist Church",null,null,0,59,30,59,30,30,30,30,{"$f":"IF(NFI_Expiration=1,IF($A48<VLOOKUP(H$5,NFI,5,0),1,0)*Table_NFI[[#This Row],[Hygiene Kit]],Table_NFI[Hygiene Kit])","v":0},{"$f":"IF(NFI_Expiration=1,IF($A48<VLOOKUP(I$5,NFI,5,0),1,0)*Table_NFI[[#This Row],[NFI Core Kit]],Table_NFI[NFI Core Kit])","v":0},{"$f":"IF(NFI_Expiration=1,IF($A48<VLOOKUP(J$5,NFI,5,0),1,0)*Table_NFI[[#This Row],[Sanitary Kit]],Table_NFI[Sanitary Kit])","v":0},{"$f":"IF(NFI_Expiration=1,IF($A48<VLOOKUP(K$5,NFI,5,0),1,0)*Table_NFI[[#This Row],[Mosquito net]],Table_NFI[Mosquito net])","v":0},{"$f":"IF(NFI_Expiration=1,IF($A48<VLOOKUP(L$5,NFI,5,0),1,0)*Table_NFI[[#This Row],[Tarpaulin]],Table_NFI[[#This Row],[Tarpaulin]])","v":0},{"$f":"IF(NFI_Expiration=1,IF($A48<VLOOKUP(M$5,NFI,5,0),1,0)*Table_NFI[[#This Row],[Blanket]],Table_NFI[[#This Row],[Blanket]])","v":0},{"$f":"IF(NFI_Expiration=1,IF($A48<VLOOKUP(N$5,NFI,5,0),1,0)*Table_NFI[[#This Row],[Kitchen Set]],Table_NFI[Kitchen Set])","v":0},{"$f":"IF(NFI_Expiration=1,IF($A48<VLOOKUP(O$5,NFI,5,0),1,0)*Table_NFI[[#This Row],[Complementary Kit]],Table_NFI[Complementary Kit])","v":0},{"$f":"IF(NFI_Expiration=1,IF($A48<VLOOKUP(P$5,NFI,5,0),1,0)*Table_NFI[[#This Row],[Plastic Bucket]],Table_NFI[Plastic Bucket])","v":0},{"$f":"IF(NFI_Expiration=1,IF($A48<VLOOKUP(Q$5,NFI,5,0),1,0)*Table_NFI[[#This Row],[Plastic Mat]],Table_NFI[Plastic Mat])","v":0},{"$f":"IFERROR(VLOOKUP(Table_NFI[[#This Row],[Camp Name]],CL,2,0),\"\")","v":"MMR001CMP037"},{"$f":"IFERROR(VLOOKUP(Table_NFI[[#This Row],[Camp Name]],CL,3,0),\"\")","v":"Open"},{"$f":"IFERROR(Table_NFI[[#This Row],[Kitchen Set]]/VLOOKUP(Table_NFI[[#This Row],[Camp Name]],CL,4,0),\"\")","v":0.40540540540540543}]
[24.2,"2012-01-06","UNHCR","UNHCR","Kachin","Waingmaw","Waingmaw AG Church",null,null,0,29,14,29,14,14,14,14,{"$f":"IF(NFI_Expiration=1,IF($A49<VLOOKUP(H$5,NFI,5,0),1,0)*Table_NFI[[#This Row],[Hygiene Kit]],Table_NFI[Hygiene Kit])","v":0},{"$f":"IF(NFI_Expiration=1,IF($A49<VLOOKUP(I$5,NFI,5,0),1,0)*Table_NFI[[#This Row],[NFI Core Kit]],Table_NFI[NFI Core Kit])","v":0},{"$f":"IF(NFI_Expiration=1,IF($A49<VLOOKUP(J$5,NFI,5,0),1,0)*Table_NFI[[#This Row],[Sanitary Kit]],Table_NFI[Sanitary Kit])","v":0},{"$f":"IF(NFI_Expiration=1,IF($A49<VLOOKUP(K$5,NFI,5,0),1,0)*Table_NFI[[#This Row],[Mosquito net]],Table_NFI[Mosquito net])","v":0},{"$f":"IF(NFI_Expiration=1,IF($A49<VLOOKUP(L$5,NFI,5,0),1,0)*Table_NFI[[#This Row],[Tarpaulin]],Table_NFI[[#This Row],[Tarpaulin]])","v":0},{"$f":"IF(NFI_Expiration=1,IF($A49<VLOOKUP(M$5,NFI,5,0),1,0)*Table_NFI[[#This Row],[Blanket]],Table_NFI[[#This Row],[Blanket]])","v":0},{"$f":"IF(NFI_Expiration=1,IF($A49<VLOOKUP(N$5,NFI,5,0),1,0)*Table_NFI[[#This Row],[Kitchen Set]],Table_NFI[Kitchen Set])","v":0},{"$f":"IF(NFI_Expiration=1,IF($A49<VLOOKUP(O$5,NFI,5,0),1,0)*Table_NFI[[#This Row],[Complementary Kit]],Table_NFI[Complementary Kit])","v":0},{"$f":"IF(NFI_Expiration=1,IF($A49<VLOOKUP(P$5,NFI,5,0),1,0)*Table_NFI[[#This Row],[Plastic Bucket]],Table_NFI[Plastic Bucket])","v":0},{"$f":"IF(NFI_Expiration=1,IF($A49<VLOOKUP(Q$5,NFI,5,0),1,0)*Table_NFI[[#This Row],[Plastic Mat]],Table_NFI[Plastic Mat])","v":0},{"$f":"IFERROR(VLOOKUP(Table_NFI[[#This Row],[Camp Name]],CL,2,0),\"\")","v":"MMR001CMP038"},{"$f":"IFERROR(VLOOKUP(Table_NFI[[#This Row],[Camp Name]],CL,3,0),\"\")","v":"Open"},{"$f":"IFERROR(Table_NFI[[#This Row],[Kitchen Set]]/VLOOKUP(Table_NFI[[#This Row],[Camp Name]],CL,4,0),\"\")","v":0.1728395061728395}]
[24.166666666666668,"2012-01-07","UNHCR","KMSS","Kachin","Myitkyina","Jan Mai Kawng Baptist Church",null,null,0,32,16,32,16,16,16,16,{"$f":"IF(NFI_Expiration=1,IF($A50<VLOOKUP(H$5,NFI,5,0),1,0)*Table_NFI[[#This Row],[Hygiene Kit]],Table_NFI[Hygiene Kit])","v":0},{"$f":"IF(NFI_Expiration=1,IF($A50<VLOOKUP(I$5,NFI,5,0),1,0)*Table_NFI[[#This Row],[NFI Core Kit]],Table_NFI[NFI Core Kit])","v":0},{"$f":"IF(NFI_Expiration=1,IF($A50<VLOOKUP(J$5,NFI,5,0),1,0)*Table_NFI[[#This Row],[Sanitary Kit]],Table_NFI[Sanitary Kit])","v":0},{"$f":"IF(NFI_Expiration=1,IF($A50<VLOOKUP(K$5,NFI,5,0),1,0)*Table_NFI[[#This Row],[Mosquito net]],Table_NFI[Mosquito net])","v":0},{"$f":"IF(NFI_Expiration=1,IF($A50<VLOOKUP(L$5,NFI,5,0),1,0)*Table_NFI[[#This Row],[Tarpaulin]],Table_NFI[[#This Row],[Tarpaulin]])","v":0},{"$f":"IF(NFI_Expiration=1,IF($A50<VLOOKUP(M$5,NFI,5,0),1,0)*Table_NFI[[#This Row],[Blanket]],Table_NFI[[#This Row],[Blanket]])","v":0},{"$f":"IF(NFI_Expiration=1,IF($A50<VLOOKUP(N$5,NFI,5,0),1,0)*Table_NFI[[#This Row],[Kitchen Set]],Table_NFI[Kitchen Set])","v":0},{"$f":"IF(NFI_Expiration=1,IF($A50<VLOOKUP(O$5,NFI,5,0),1,0)*Table_NFI[[#This Row],[Complementary Kit]],Table_NFI[Complementary Kit])","v":0},{"$f":"IF(NFI_Expiration=1,IF($A50<VLOOKUP(P$5,NFI,5,0),1,0)*Table_NFI[[#This Row],[Plastic Bucket]],Table_NFI[Plastic Bucket])","v":0},{"$f":"IF(NFI_Expiration=1,IF($A50<VLOOKUP(Q$5,NFI,5,0),1,0)*Table_NFI[[#This Row],[Plastic Mat]],Table_NFI[Plastic Mat])","v":0},{"$f":"IFERROR(VLOOKUP(Table_NFI[[#This Row],[Camp Name]],CL,2,0),\"\")","v":"MMR001CMP018"},{"$f":"IFERROR(VLOOKUP(Table_NFI[[#This Row],[Camp Name]],CL,3,0),\"\")","v":"Open"},{"$f":"IFERROR(Table_NFI[[#This Row],[Kitchen Set]]/VLOOKUP(Table_NFI[[#This Row],[Camp Name]],CL,4,0),\"\")","v":7.8817733990147784E-2}]
[24.166666666666668,"2012-01-07","UNHCR","KMSS","Kachin","Waingmaw","Maina Catholic Church (St. Joseph)",null,null,0,50,25,50,25,27,27,27,{"$f":"IF(NFI_Expiration=1,IF($A51<VLOOKUP(H$5,NFI,5,0),1,0)*Table_NFI[[#This Row],[Hygiene Kit]],Table_NFI[Hygiene Kit])","v":0},{"$f":"IF(NFI_Expiration=1,IF($A51<VLOOKUP(I$5,NFI,5,0),1,0)*Table_NFI[[#This Row],[NFI Core Kit]],Table_NFI[NFI Core Kit])","v":0},{"$f":"IF(NFI_Expiration=1,IF($A51<VLOOKUP(J$5,NFI,5,0),1,0)*Table_NFI[[#This Row],[Sanitary Kit]],Table_NFI[Sanitary Kit])","v":0},{"$f":"IF(NFI_Expiration=1,IF($A51<VLOOKUP(K$5,NFI,5,0),1,0)*Table_NFI[[#This Row],[Mosquito net]],Table_NFI[Mosquito net])","v":0},{"$f":"IF(NFI_Expiration=1,IF($A51<VLOOKUP(L$5,NFI,5,0),1,0)*Table_NFI[[#This Row],[Tarpaulin]],Table_NFI[[#This Row],[Tarpaulin]])","v":0},{"$f":"IF(NFI_Expiration=1,IF($A51<VLOOKUP(M$5,NFI,5,0),1,0)*Table_NFI[[#This Row],[Blanket]],Table_NFI[[#This Row],[Blanket]])","v":0},{"$f":"IF(NFI_Expiration=1,IF($A51<VLOOKUP(N$5,NFI,5,0),1,0)*Table_NFI[[#This Row],[Kitchen Set]],Table_NFI[Kitchen Set])","v":0},{"$f":"IF(NFI_Expiration=1,IF($A51<VLOOKUP(O$5,NFI,5,0),1,0)*Table_NFI[[#This Row],[Complementary Kit]],Table_NFI[Complementary Kit])","v":0},{"$f":"IF(NFI_Expiration=1,IF($A51<VLOOKUP(P$5,NFI,5,0),1,0)*Table_NFI[[#This Row],[Plastic Bucket]],Table_NFI[Plastic Bucket])","v":0},{"$f":"IF(NFI_Expiration=1,IF($A51<VLOOKUP(Q$5,NFI,5,0),1,0)*Table_NFI[[#This Row],[Plastic Mat]],Table_NFI[Plastic Mat])","v":0},{"$f":"IFERROR(VLOOKUP(Table_NFI[[#This Row],[Camp Name]],CL,2,0),\"\")","v":"MMR001CMP029"},{"$f":"IFERROR(VLOOKUP(Table_NFI[[#This Row],[Camp Name]],CL,3,0),\"\")","v":"Open"},{"$f":"IFERROR(Table_NFI[[#This Row],[Kitchen Set]]/VLOOKUP(Table_NFI[[#This Row],[Camp Name]],CL,4,0),\"\")","v":0.10775862068965517}]
[24.033333333333335,"2012-01-11","UNHCR","KBC","Kachin","Waingmaw","Shing Jai",null,null,0,536,268,536,268,268,268,268,{"$f":"IF(NFI_Expiration=1,IF($A52<VLOOKUP(H$5,NFI,5,0),1,0)*Table_NFI[[#This Row],[Hygiene Kit]],Table_NFI[Hygiene Kit])","v":0},{"$f":"IF(NFI_Expiration=1,IF($A52<VLOOKUP(I$5,NFI,5,0),1,0)*Table_NFI[[#This Row],[NFI Core Kit]],Table_NFI[NFI Core Kit])","v":0},{"$f":"IF(NFI_Expiration=1,IF($A52<VLOOKUP(J$5,NFI,5,0),1,0)*Table_NFI[[#This Row],[Sanitary Kit]],Table_NFI[Sanitary Kit])","v":0},{"$f":"IF(NFI_Expiration=1,IF($A52<VLOOKUP(K$5,NFI,5,0),1,0)*Table_NFI[[#This Row],[Mosquito net]],Table_NFI[Mosquito net])","v":0},{"$f":"IF(NFI_Expiration=1,IF($A52<VLOOKUP(L$5,NFI,5,0),1,0)*Table_NFI[[#This Row],[Tarpaulin]],Table_NFI[[#This Row],[Tarpaulin]])","v":0},{"$f":"IF(NFI_Expiration=1,IF($A52<VLOOKUP(M$5,NFI,5,0),1,0)*Table_NFI[[#This Row],[Blanket]],Table_NFI[[#This Row],[Blanket]])","v":0},{"$f":"IF(NFI_Expiration=1,IF($A52<VLOOKUP(N$5,NFI,5,0),1,0)*Table_NFI[[#This Row],[Kitchen Set]],Table_NFI[Kitchen Set])","v":0},{"$f":"IF(NFI_Expiration=1,IF($A52<VLOOKUP(O$5,NFI,5,0),1,0)*Table_NFI[[#This Row],[Complementary Kit]],Table_NFI[Complementary Kit])","v":0},{"$f":"IF(NFI_Expiration=1,IF($A52<VLOOKUP(P$5,NFI,5,0),1,0)*Table_NFI[[#This Row],[Plastic Bucket]],Table_NFI[Plastic Bucket])","v":0},{"$f":"IF(NFI_Expiration=1,IF($A52<VLOOKUP(Q$5,NFI,5,0),1,0)*Table_NFI[[#This Row],[Plastic Mat]],Table_NFI[Plastic Mat])","v":0},{"$f":"IFERROR(VLOOKUP(Table_NFI[[#This Row],[Camp Name]],CL,2,0),\"\")","v":"MMR001CMP041"},{"$f":"IFERROR(VLOOKUP(Table_NFI[[#This Row],[Camp Name]],CL,3,0),\"\")","v":"Open"},{"$f":"IFERROR(Table_NFI[[#This Row],[Kitchen Set]]/VLOOKUP(Table_NFI[[#This Row],[Camp Name]],CL,4,0),\"\")","v":1.425531914893617}]
[23.966666666666665,"2012-01-13","UNHCR","UNHCR","Kachin","Waingmaw","Maina Lawang Baptist Church",null,null,0,35,17,35,17,17,17,17,{"$f":"IF(NFI_Expiration=1,IF($A53<VLOOKUP(H$5,NFI,5,0),1,0)*Table_NFI[[#This Row],[Hygiene Kit]],Table_NFI[Hygiene Kit])","v":0},{"$f":"IF(NFI_Expiration=1,IF($A53<VLOOKUP(I$5,NFI,5,0),1,0)*Table_NFI[[#This Row],[NFI Core Kit]],Table_NFI[NFI Core Kit])","v":0},{"$f":"IF(NFI_Expiration=1,IF($A53<VLOOKUP(J$5,NFI,5,0),1,0)*Table_NFI[[#This Row],[Sanitary Kit]],Table_NFI[Sanitary Kit])","v":0},{"$f":"IF(NFI_Expiration=1,IF($A53<VLOOKUP(K$5,NFI,5,0),1,0)*Table_NFI[[#This Row],[Mosquito net]],Table_NFI[Mosquito net])","v":0},{"$f":"IF(NFI_Expiration=1,IF($A53<VLOOKUP(L$5,NFI,5,0),1,0)*Table_NFI[[#This Row],[Tarpaulin]],Table_NFI[[#This Row],[Tarpaulin]])","v":0},{"$f":"IF(NFI_Expiration=1,IF($A53<VLOOKUP(M$5,NFI,5,0),1,0)*Table_NFI[[#This Row],[Blanket]],Table_NFI[[#This Row],[Blanket]])","v":0},{"$f":"IF(NFI_Expiration=1,IF($A53<VLOOKUP(N$5,NFI,5,0),1,0)*Table_NFI[[#This Row],[Kitchen Set]],Table_NFI[Kitchen Set])","v":0},{"$f":"IF(NFI_Expiration=1,IF($A53<VLOOKUP(O$5,NFI,5,0),1,0)*Table_NFI[[#This Row],[Complementary Kit]],Table_NFI[Complementary Kit])","v":0},{"$f":"IF(NFI_Expiration=1,IF($A53<VLOOKUP(P$5,NFI,5,0),1,0)*Table_NFI[[#This Row],[Plastic Bucket]],Table_NFI[Plastic Bucket])","v":0},{"$f":"IF(NFI_Expiration=1,IF($A53<VLOOKUP(Q$5,NFI,5,0),1,0)*Table_NFI[[#This Row],[Plastic Mat]],Table_NFI[Plastic Mat])","v":0},{"$f":"IFERROR(VLOOKUP(Table_NFI[[#This Row],[Camp Name]],CL,2,0),\"\")","v":"MMR001CMP039"},{"$f":"IFERROR(VLOOKUP(Table_NFI[[#This Row],[Camp Name]],CL,3,0),\"\")","v":"Open"},{"$f":"IFERROR(Table_NFI[[#This Row],[Kitchen Set]]/VLOOKUP(Table_NFI[[#This Row],[Camp Name]],CL,4,0),\"\")","v":0.34693877551020408}]
[23.966666666666665,"2012-01-13","UNHCR","KBC","Kachin","Hpakant","Nga Pyaw Taw Baptist Nursery School ",null,null,0,112,56,56,0,56,56,56,{"$f":"IF(NFI_Expiration=1,IF($A54<VLOOKUP(H$5,NFI,5,0),1,0)*Table_NFI[[#This Row],[Hygiene Kit]],Table_NFI[Hygiene Kit])","v":0},{"$f":"IF(NFI_Expiration=1,IF($A54<VLOOKUP(I$5,NFI,5,0),1,0)*Table_NFI[[#This Row],[NFI Core Kit]],Table_NFI[NFI Core Kit])","v":0},{"$f":"IF(NFI_Expiration=1,IF($A54<VLOOKUP(J$5,NFI,5,0),1,0)*Table_NFI[[#This Row],[Sanitary Kit]],Table_NFI[Sanitary Kit])","v":0},{"$f":"IF(NFI_Expiration=1,IF($A54<VLOOKUP(K$5,NFI,5,0),1,0)*Table_NFI[[#This Row],[Mosquito net]],Table_NFI[Mosquito net])","v":0},{"$f":"IF(NFI_Expiration=1,IF($A54<VLOOKUP(L$5,NFI,5,0),1,0)*Table_NFI[[#This Row],[Tarpaulin]],Table_NFI[[#This Row],[Tarpaulin]])","v":0},{"$f":"IF(NFI_Expiration=1,IF($A54<VLOOKUP(M$5,NFI,5,0),1,0)*Table_NFI[[#This Row],[Blanket]],Table_NFI[[#This Row],[Blanket]])","v":0},{"$f":"IF(NFI_Expiration=1,IF($A54<VLOOKUP(N$5,NFI,5,0),1,0)*Table_NFI[[#This Row],[Kitchen Set]],Table_NFI[Kitchen Set])","v":0},{"$f":"IF(NFI_Expiration=1,IF($A54<VLOOKUP(O$5,NFI,5,0),1,0)*Table_NFI[[#This Row],[Complementary Kit]],Table_NFI[Complementary Kit])","v":0},{"$f":"IF(NFI_Expiration=1,IF($A54<VLOOKUP(P$5,NFI,5,0),1,0)*Table_NFI[[#This Row],[Plastic Bucket]],Table_NFI[Plastic Bucket])","v":0},{"$f":"IF(NFI_Expiration=1,IF($A54<VLOOKUP(Q$5,NFI,5,0),1,0)*Table_NFI[[#This Row],[Plastic Mat]],Table_NFI[Plastic Mat])","v":0},{"$f":"IFERROR(VLOOKUP(Table_NFI[[#This Row],[Camp Name]],CL,2,0),\"\")","v":"MMR001CMP082"},{"$f":"IFERROR(VLOOKUP(Table_NFI[[#This Row],[Camp Name]],CL,3,0),\"\")","v":"Open"},{"$f":"IFERROR(Table_NFI[[#This Row],[Kitchen Set]]/VLOOKUP(Table_NFI[[#This Row],[Camp Name]],CL,4,0),\"\")","v":0}]
[23.966666666666665,"2012-01-13","UNHCR","KBC","Kachin","Hpakant","Maw Wan, Kachin Baptist Church",null,null,0,34,17,17,0,17,17,17,{"$f":"IF(NFI_Expiration=1,IF($A55<VLOOKUP(H$5,NFI,5,0),1,0)*Table_NFI[[#This Row],[Hygiene Kit]],Table_NFI[Hygiene Kit])","v":0},{"$f":"IF(NFI_Expiration=1,IF($A55<VLOOKUP(I$5,NFI,5,0),1,0)*Table_NFI[[#This Row],[NFI Core Kit]],Table_NFI[NFI Core Kit])","v":0},{"$f":"IF(NFI_Expiration=1,IF($A55<VLOOKUP(J$5,NFI,5,0),1,0)*Table_NFI[[#This Row],[Sanitary Kit]],Table_NFI[Sanitary Kit])","v":0},{"$f":"IF(NFI_Expiration=1,IF($A55<VLOOKUP(K$5,NFI,5,0),1,0)*Table_NFI[[#This Row],[Mosquito net]],Table_NFI[Mosquito net])","v":0},{"$f":"IF(NFI_Expiration=1,IF($A55<VLOOKUP(L$5,NFI,5,0),1,0)*Table_NFI[[#This Row],[Tarpaulin]],Table_NFI[[#This Row],[Tarpaulin]])","v":0},{"$f":"IF(NFI_Expiration=1,IF($A55<VLOOKUP(M$5,NFI,5,0),1,0)*Table_NFI[[#This Row],[Blanket]],Table_NFI[[#This Row],[Blanket]])","v":0},{"$f":"IF(NFI_Expiration=1,IF($A55<VLOOKUP(N$5,NFI,5,0),1,0)*Table_NFI[[#This Row],[Kitchen Set]],Table_NFI[Kitchen Set])","v":0},{"$f":"IF(NFI_Expiration=1,IF($A55<VLOOKUP(O$5,NFI,5,0),1,0)*Table_NFI[[#This Row],[Complementary Kit]],Table_NFI[Complementary Kit])","v":0},{"$f":"IF(NFI_Expiration=1,IF($A55<VLOOKUP(P$5,NFI,5,0),1,0)*Table_NFI[[#This Row],[Plastic Bucket]],Table_NFI[Plastic Bucket])","v":0},{"$f":"IF(NFI_Expiration=1,IF($A55<VLOOKUP(Q$5,NFI,5,0),1,0)*Table_NFI[[#This Row],[Plastic Mat]],Table_NFI[Plastic Mat])","v":0},{"$f":"IFERROR(VLOOKUP(Table_NFI[[#This Row],[Camp Name]],CL,2,0),\"\")","v":"MMR001CMP085"},{"$f":"IFERROR(VLOOKUP(Table_NFI[[#This Row],[Camp Name]],CL,3,0),\"\")","v":"Closed"},{"$f":"IFERROR(Table_NFI[[#This Row],[Kitchen Set]]/VLOOKUP(Table_NFI[[#This Row],[Camp Name]],CL,4,0),\"\")","v":""}]
[23.966666666666665,"2012-01-13","UNHCR","KBC","Kachin","Hpakant","Maw Si Zar, Thiriyardanar Sein, Damma Compound, Lone Khin",null,null,0,224,112,112,0,112,112,112,{"$f":"IF(NFI_Expiration=1,IF($A56<VLOOKUP(H$5,NFI,5,0),1,0)*Table_NFI[[#This Row],[Hygiene Kit]],Table_NFI[Hygiene Kit])","v":0},{"$f":"IF(NFI_Expiration=1,IF($A56<VLOOKUP(I$5,NFI,5,0),1,0)*Table_NFI[[#This Row],[NFI Core Kit]],Table_NFI[NFI Core Kit])","v":0},{"$f":"IF(NFI_Expiration=1,IF($A56<VLOOKUP(J$5,NFI,5,0),1,0)*Table_NFI[[#This Row],[Sanitary Kit]],Table_NFI[Sanitary Kit])","v":0},{"$f":"IF(NFI_Expiration=1,IF($A56<VLOOKUP(K$5,NFI,5,0),1,0)*Table_NFI[[#This Row],[Mosquito net]],Table_NFI[Mosquito net])","v":0},{"$f":"IF(NFI_Expiration=1,IF($A56<VLOOKUP(L$5,NFI,5,0),1,0)*Table_NFI[[#This Row],[Tarpaulin]],Table_NFI[[#This Row],[Tarpaulin]])","v":0},{"$f":"IF(NFI_Expiration=1,IF($A56<VLOOKUP(M$5,NFI,5,0),1,0)*Table_NFI[[#This Row],[Blanket]],Table_NFI[[#This Row],[Blanket]])","v":0},{"$f":"IF(NFI_Expiration=1,IF($A56<VLOOKUP(N$5,NFI,5,0),1,0)*Table_NFI[[#This Row],[Kitchen Set]],Table_NFI[Kitchen Set])","v":0},{"$f":"IF(NFI_Expiration=1,IF($A56<VLOOKUP(O$5,NFI,5,0),1,0)*Table_NFI[[#This Row],[Complementary Kit]],Table_NFI[Complementary Kit])","v":0},{"$f":"IF(NFI_Expiration=1,IF($A56<VLOOKUP(P$5,NFI,5,0),1,0)*Table_NFI[[#This Row],[Plastic Bucket]],Table_NFI[Plastic Bucket])","v":0},{"$f":"IF(NFI_Expiration=1,IF($A56<VLOOKUP(Q$5,NFI,5,0),1,0)*Table_NFI[[#This Row],[Plastic Mat]],Table_NFI[Plastic Mat])","v":0},{"$f":"IFERROR(VLOOKUP(Table_NFI[[#This Row],[Camp Name]],CL,2,0),\"\")","v":"MMR001CMP106"},{"$f":"IFERROR(VLOOKUP(Table_NFI[[#This Row],[Camp Name]],CL,3,0),\"\")","v":"Closed"},{"$f":"IFERROR(Table_NFI[[#This Row],[Kitchen Set]]/VLOOKUP(Table_NFI[[#This Row],[Camp Name]],CL,4,0),\"\")","v":""}]
[23.966666666666665,"2012-01-13","UNHCR","KBC","Kachin","Hpakant","Hlaing Naung Baptist",null,null,0,10,5,5,0,5,5,5,{"$f":"IF(NFI_Expiration=1,IF($A57<VLOOKUP(H$5,NFI,5,0),1,0)*Table_NFI[[#This Row],[Hygiene Kit]],Table_NFI[Hygiene Kit])","v":0},{"$f":"IF(NFI_Expiration=1,IF($A57<VLOOKUP(I$5,NFI,5,0),1,0)*Table_NFI[[#This Row],[NFI Core Kit]],Table_NFI[NFI Core Kit])","v":0},{"$f":"IF(NFI_Expiration=1,IF($A57<VLOOKUP(J$5,NFI,5,0),1,0)*Table_NFI[[#This Row],[Sanitary Kit]],Table_NFI[Sanitary Kit])","v":0},{"$f":"IF(NFI_Expiration=1,IF($A57<VLOOKUP(K$5,NFI,5,0),1,0)*Table_NFI[[#This Row],[Mosquito net]],Table_NFI[Mosquito net])","v":0},{"$f":"IF(NFI_Expiration=1,IF($A57<VLOOKUP(L$5,NFI,5,0),1,0)*Table_NFI[[#This Row],[Tarpaulin]],Table_NFI[[#This Row],[Tarpaulin]])","v":0},{"$f":"IF(NFI_Expiration=1,IF($A57<VLOOKUP(M$5,NFI,5,0),1,0)*Table_NFI[[#This Row],[Blanket]],Table_NFI[[#This Row],[Blanket]])","v":0},{"$f":"IF(NFI_Expiration=1,IF($A57<VLOOKUP(N$5,NFI,5,0),1,0)*Table_NFI[[#This Row],[Kitchen Set]],Table_NFI[Kitchen Set])","v":0},{"$f":"IF(NFI_Expiration=1,IF($A57<VLOOKUP(O$5,NFI,5,0),1,0)*Table_NFI[[#This Row],[Complementary Kit]],Table_NFI[Complementary Kit])","v":0},{"$f":"IF(NFI_Expiration=1,IF($A57<VLOOKUP(P$5,NFI,5,0),1,0)*Table_NFI[[#This Row],[Plastic Bucket]],Table_NFI[Plastic Bucket])","v":0},{"$f":"IF(NFI_Expiration=1,IF($A57<VLOOKUP(Q$5,NFI,5,0),1,0)*Table_NFI[[#This Row],[Plastic Mat]],Table_NFI[Plastic Mat])","v":0},{"$f":"IFERROR(VLOOKUP(Table_NFI[[#This Row],[Camp Name]],CL,2,0),\"\")","v":"MMR001CMP148"},{"$f":"IFERROR(VLOOKUP(Table_NFI[[#This Row],[Camp Name]],CL,3,0),\"\")","v":"Open"},{"$f":"IFERROR(Table_NFI[[#This Row],[Kitchen Set]]/VLOOKUP(Table_NFI[[#This Row],[Camp Name]],CL,4,0),\"\")","v":0}]
[23.966666666666665,"2012-01-13","UNHCR","KBC","Kachin","Hpakant","Baptist Church, Hmaw Si Sar(Lon Khin)",null,null,0,70,35,35,0,35,35,35,{"$f":"IF(NFI_Expiration=1,IF($A58<VLOOKUP(H$5,NFI,5,0),1,0)*Table_NFI[[#This Row],[Hygiene Kit]],Table_NFI[Hygiene Kit])","v":0},{"$f":"IF(NFI_Expiration=1,IF($A58<VLOOKUP(I$5,NFI,5,0),1,0)*Table_NFI[[#This Row],[NFI Core Kit]],Table_NFI[NFI Core Kit])","v":0},{"$f":"IF(NFI_Expiration=1,IF($A58<VLOOKUP(J$5,NFI,5,0),1,0)*Table_NFI[[#This Row],[Sanitary Kit]],Table_NFI[Sanitary Kit])","v":0},{"$f":"IF(NFI_Expiration=1,IF($A58<VLOOKUP(K$5,NFI,5,0),1,0)*Table_NFI[[#This Row],[Mosquito net]],Table_NFI[Mosquito net])","v":0},{"$f":"IF(NFI_Expiration=1,IF($A58<VLOOKUP(L$5,NFI,5,0),1,0)*Table_NFI[[#This Row],[Tarpaulin]],Table_NFI[[#This Row],[Tarpaulin]])","v":0},{"$f":"IF(NFI_Expiration=1,IF($A58<VLOOKUP(M$5,NFI,5,0),1,0)*Table_NFI[[#This Row],[Blanket]],Table_NFI[[#This Row],[Blanket]])","v":0},{"$f":"IF(NFI_Expiration=1,IF($A58<VLOOKUP(N$5,NFI,5,0),1,0)*Table_NFI[[#This Row],[Kitchen Set]],Table_NFI[Kitchen Set])","v":0},{"$f":"IF(NFI_Expiration=1,IF($A58<VLOOKUP(O$5,NFI,5,0),1,0)*Table_NFI[[#This Row],[Complementary Kit]],Table_NFI[Complementary Kit])","v":0},{"$f":"IF(NFI_Expiration=1,IF($A58<VLOOKUP(P$5,NFI,5,0),1,0)*Table_NFI[[#This Row],[Plastic Bucket]],Table_NFI[Plastic Bucket])","v":0},{"$f":"IF(NFI_Expiration=1,IF($A58<VLOOKUP(Q$5,NFI,5,0),1,0)*Table_NFI[[#This Row],[Plastic Mat]],Table_NFI[Plastic Mat])","v":0},{"$f":"IFERROR(VLOOKUP(Table_NFI[[#This Row],[Camp Name]],CL,2,0),\"\")","v":"MMR001CMP169"},{"$f":"IFERROR(VLOOKUP(Table_NFI[[#This Row],[Camp Name]],CL,3,0),\"\")","v":"Open"},{"$f":"IFERROR(Table_NFI[[#This Row],[Kitchen Set]]/VLOOKUP(Table_NFI[[#This Row],[Camp Name]],CL,4,0),\"\")","v":0}]
[23.966666666666665,"2012-01-13","UNHCR","KBC","Kachin","Hpakant","5 Ward Baptist Church(lon Khin)",null,null,0,52,26,36,0,26,26,26,{"$f":"IF(NFI_Expiration=1,IF($A59<VLOOKUP(H$5,NFI,5,0),1,0)*Table_NFI[[#This Row],[Hygiene Kit]],Table_NFI[Hygiene Kit])","v":0},{"$f":"IF(NFI_Expiration=1,IF($A59<VLOOKUP(I$5,NFI,5,0),1,0)*Table_NFI[[#This Row],[NFI Core Kit]],Table_NFI[NFI Core Kit])","v":0},{"$f":"IF(NFI_Expiration=1,IF($A59<VLOOKUP(J$5,NFI,5,0),1,0)*Table_NFI[[#This Row],[Sanitary Kit]],Table_NFI[Sanitary Kit])","v":0},{"$f":"IF(NFI_Expiration=1,IF($A59<VLOOKUP(K$5,NFI,5,0),1,0)*Table_NFI[[#This Row],[Mosquito net]],Table_NFI[Mosquito net])","v":0},{"$f":"IF(NFI_Expiration=1,IF($A59<VLOOKUP(L$5,NFI,5,0),1,0)*Table_NFI[[#This Row],[Tarpaulin]],Table_NFI[[#This Row],[Tarpaulin]])","v":0},{"$f":"IF(NFI_Expiration=1,IF($A59<VLOOKUP(M$5,NFI,5,0),1,0)*Table_NFI[[#This Row],[Blanket]],Table_NFI[[#This Row],[Blanket]])","v":0},{"$f":"IF(NFI_Expiration=1,IF($A59<VLOOKUP(N$5,NFI,5,0),1,0)*Table_NFI[[#This Row],[Kitchen Set]],Table_NFI[Kitchen Set])","v":0},{"$f":"IF(NFI_Expiration=1,IF($A59<VLOOKUP(O$5,NFI,5,0),1,0)*Table_NFI[[#This Row],[Complementary Kit]],Table_NFI[Complementary Kit])","v":0},{"$f":"IF(NFI_Expiration=1,IF($A59<VLOOKUP(P$5,NFI,5,0),1,0)*Table_NFI[[#This Row],[Plastic Bucket]],Table_NFI[Plastic Bucket])","v":0},{"$f":"IF(NFI_Expiration=1,IF($A59<VLOOKUP(Q$5,NFI,5,0),1,0)*Table_NFI[[#This Row],[Plastic Mat]],Table_NFI[Plastic Mat])","v":0},{"$f":"IFERROR(VLOOKUP(Table_NFI[[#This Row],[Camp Name]],CL,2,0),\"\")","v":"MMR001CMP179"},{"$f":"IFERROR(VLOOKUP(Table_NFI[[#This Row],[Camp Name]],CL,3,0),\"\")","v":"Open"},{"$f":"IFERROR(Table_NFI[[#This Row],[Kitchen Set]]/VLOOKUP(Table_NFI[[#This Row],[Camp Name]],CL,4,0),\"\")","v":0}]
[23.966666666666665,"2012-01-13","UNHCR","KBC","Kachin","Hpakant","5 Ward Baptist Church(lon Khin)",null,null,0,120,60,60,0,60,60,60,{"$f":"IF(NFI_Expiration=1,IF($A60<VLOOKUP(H$5,NFI,5,0),1,0)*Table_NFI[[#This Row],[Hygiene Kit]],Table_NFI[Hygiene Kit])","v":0},{"$f":"IF(NFI_Expiration=1,IF($A60<VLOOKUP(I$5,NFI,5,0),1,0)*Table_NFI[[#This Row],[NFI Core Kit]],Table_NFI[NFI Core Kit])","v":0},{"$f":"IF(NFI_Expiration=1,IF($A60<VLOOKUP(J$5,NFI,5,0),1,0)*Table_NFI[[#This Row],[Sanitary Kit]],Table_NFI[Sanitary Kit])","v":0},{"$f":"IF(NFI_Expiration=1,IF($A60<VLOOKUP(K$5,NFI,5,0),1,0)*Table_NFI[[#This Row],[Mosquito net]],Table_NFI[Mosquito net])","v":0},{"$f":"IF(NFI_Expiration=1,IF($A60<VLOOKUP(L$5,NFI,5,0),1,0)*Table_NFI[[#This Row],[Tarpaulin]],Table_NFI[[#This Row],[Tarpaulin]])","v":0},{"$f":"IF(NFI_Expiration=1,IF($A60<VLOOKUP(M$5,NFI,5,0),1,0)*Table_NFI[[#This Row],[Blanket]],Table_NFI[[#This Row],[Blanket]])","v":0},{"$f":"IF(NFI_Expiration=1,IF($A60<VLOOKUP(N$5,NFI,5,0),1,0)*Table_NFI[[#This Row],[Kitchen Set]],Table_NFI[Kitchen Set])","v":0},{"$f":"IF(NFI_Expiration=1,IF($A60<VLOOKUP(O$5,NFI,5,0),1,0)*Table_NFI[[#This Row],[Complementary Kit]],Table_NFI[Complementary Kit])","v":0},{"$f":"IF(NFI_Expiration=1,IF($A60<VLOOKUP(P$5,NFI,5,0),1,0)*Table_NFI[[#This Row],[Plastic Bucket]],Table_NFI[Plastic Bucket])","v":0},{"$f":"IF(NFI_Expiration=1,IF($A60<VLOOKUP(Q$5,NFI,5,0),1,0)*Table_NFI[[#This Row],[Plastic Mat]],Table_NFI[Plastic Mat])","v":0},{"$f":"IFERROR(VLOOKUP(Table_NFI[[#This Row],[Camp Name]],CL,2,0),\"\")","v":"MMR001CMP179"},{"$f":"IFERROR(VLOOKUP(Table_NFI[[#This Row],[Camp Name]],CL,3,0),\"\")","v":"Open"},{"$f":"IFERROR(Table_NFI[[#This Row],[Kitchen Set]]/VLOOKUP(Table_NFI[[#This Row],[Camp Name]],CL,4,0),\"\")","v":0}]
[23.966666666666665,"2012-01-13","UNHCR","KBC","Kachin","Hpakant","5 Ward Baptist Church(lon Khin)",null,null,0,148,74,74,0,74,74,74,{"$f":"IF(NFI_Expiration=1,IF($A61<VLOOKUP(H$5,NFI,5,0),1,0)*Table_NFI[[#This Row],[Hygiene Kit]],Table_NFI[Hygiene Kit])","v":0},{"$f":"IF(NFI_Expiration=1,IF($A61<VLOOKUP(I$5,NFI,5,0),1,0)*Table_NFI[[#This Row],[NFI Core Kit]],Table_NFI[NFI Core Kit])","v":0},{"$f":"IF(NFI_Expiration=1,IF($A61<VLOOKUP(J$5,NFI,5,0),1,0)*Table_NFI[[#This Row],[Sanitary Kit]],Table_NFI[Sanitary Kit])","v":0},{"$f":"IF(NFI_Expiration=1,IF($A61<VLOOKUP(K$5,NFI,5,0),1,0)*Table_NFI[[#This Row],[Mosquito net]],Table_NFI[Mosquito net])","v":0},{"$f":"IF(NFI_Expiration=1,IF($A61<VLOOKUP(L$5,NFI,5,0),1,0)*Table_NFI[[#This Row],[Tarpaulin]],Table_NFI[[#This Row],[Tarpaulin]])","v":0},{"$f":"IF(NFI_Expiration=1,IF($A61<VLOOKUP(M$5,NFI,5,0),1,0)*Table_NFI[[#This Row],[Blanket]],Table_NFI[[#This Row],[Blanket]])","v":0},{"$f":"IF(NFI_Expiration=1,IF($A61<VLOOKUP(N$5,NFI,5,0),1,0)*Table_NFI[[#This Row],[Kitchen Set]],Table_NFI[Kitchen Set])","v":0},{"$f":"IF(NFI_Expiration=1,IF($A61<VLOOKUP(O$5,NFI,5,0),1,0)*Table_NFI[[#This Row],[Complementary Kit]],Table_NFI[Complementary Kit])","v":0},{"$f":"IF(NFI_Expiration=1,IF($A61<VLOOKUP(P$5,NFI,5,0),1,0)*Table_NFI[[#This Row],[Plastic Bucket]],Table_NFI[Plastic Bucket])","v":0},{"$f":"IF(NFI_Expiration=1,IF($A61<VLOOKUP(Q$5,NFI,5,0),1,0)*Table_NFI[[#This Row],[Plastic Mat]],Table_NFI[Plastic Mat])","v":0},{"$f":"IFERROR(VLOOKUP(Table_NFI[[#This Row],[Camp Name]],CL,2,0),\"\")","v":"MMR001CMP179"},{"$f":"IFERROR(VLOOKUP(Table_NFI[[#This Row],[Camp Name]],CL,3,0),\"\")","v":"Open"},{"$f":"IFERROR(Table_NFI[[#This Row],[Kitchen Set]]/VLOOKUP(Table_NFI[[#This Row],[Camp Name]],CL,4,0),\"\")","v":0}]
[23.966666666666665,"2012-01-13","UNHCR","KBC","Kachin",null,"Kat Hmaw Zut Baptist Church",null,null,0,76,38,38,0,38,38,38,{"$f":"IF(NFI_Expiration=1,IF($A62<VLOOKUP(H$5,NFI,5,0),1,0)*Table_NFI[[#This Row],[Hygiene Kit]],Table_NFI[Hygiene Kit])","v":0},{"$f":"IF(NFI_Expiration=1,IF($A62<VLOOKUP(I$5,NFI,5,0),1,0)*Table_NFI[[#This Row],[NFI Core Kit]],Table_NFI[NFI Core Kit])","v":0},{"$f":"IF(NFI_Expiration=1,IF($A62<VLOOKUP(J$5,NFI,5,0),1,0)*Table_NFI[[#This Row],[Sanitary Kit]],Table_NFI[Sanitary Kit])","v":0},{"$f":"IF(NFI_Expiration=1,IF($A62<VLOOKUP(K$5,NFI,5,0),1,0)*Table_NFI[[#This Row],[Mosquito net]],Table_NFI[Mosquito net])","v":0},{"$f":"IF(NFI_Expiration=1,IF($A62<VLOOKUP(L$5,NFI,5,0),1,0)*Table_NFI[[#This Row],[Tarpaulin]],Table_NFI[[#This Row],[Tarpaulin]])","v":0},{"$f":"IF(NFI_Expiration=1,IF($A62<VLOOKUP(M$5,NFI,5,0),1,0)*Table_NFI[[#This Row],[Blanket]],Table_NFI[[#This Row],[Blanket]])","v":0},{"$f":"IF(NFI_Expiration=1,IF($A62<VLOOKUP(N$5,NFI,5,0),1,0)*Table_NFI[[#This Row],[Kitchen Set]],Table_NFI[Kitchen Set])","v":0},{"$f":"IF(NFI_Expiration=1,IF($A62<VLOOKUP(O$5,NFI,5,0),1,0)*Table_NFI[[#This Row],[Complementary Kit]],Table_NFI[Complementary Kit])","v":0},{"$f":"IF(NFI_Expiration=1,IF($A62<VLOOKUP(P$5,NFI,5,0),1,0)*Table_NFI[[#This Row],[Plastic Bucket]],Table_NFI[Plastic Bucket])","v":0},{"$f":"IF(NFI_Expiration=1,IF($A62<VLOOKUP(Q$5,NFI,5,0),1,0)*Table_NFI[[#This Row],[Plastic Mat]],Table_NFI[Plastic Mat])","v":0},{"$f":"IFERROR(VLOOKUP(Table_NFI[[#This Row],[Camp Name]],CL,2,0),\"\")","v":""},{"$f":"IFERROR(VLOOKUP(Table_NFI[[#This Row],[Camp Name]],CL,3,0),\"\")","v":""},{"$f":"IFERROR(Table_NFI[[#This Row],[Kitchen Set]]/VLOOKUP(Table_NFI[[#This Row],[Camp Name]],CL,4,0),\"\")","v":""}]
[23.966666666666665,"2012-01-13","UNHCR","KBC","Kachin",null,"Le Pyin - Kar Gyi Winn",null,null,0,18,9,9,0,9,9,9,{"$f":"IF(NFI_Expiration=1,IF($A63<VLOOKUP(H$5,NFI,5,0),1,0)*Table_NFI[[#This Row],[Hygiene Kit]],Table_NFI[Hygiene Kit])","v":0},{"$f":"IF(NFI_Expiration=1,IF($A63<VLOOKUP(I$5,NFI,5,0),1,0)*Table_NFI[[#This Row],[NFI Core Kit]],Table_NFI[NFI Core Kit])","v":0},{"$f":"IF(NFI_Expiration=1,IF($A63<VLOOKUP(J$5,NFI,5,0),1,0)*Table_NFI[[#This Row],[Sanitary Kit]],Table_NFI[Sanitary Kit])","v":0},{"$f":"IF(NFI_Expiration=1,IF($A63<VLOOKUP(K$5,NFI,5,0),1,0)*Table_NFI[[#This Row],[Mosquito net]],Table_NFI[Mosquito net])","v":0},{"$f":"IF(NFI_Expiration=1,IF($A63<VLOOKUP(L$5,NFI,5,0),1,0)*Table_NFI[[#This Row],[Tarpaulin]],Table_NFI[[#This Row],[Tarpaulin]])","v":0},{"$f":"IF(NFI_Expiration=1,IF($A63<VLOOKUP(M$5,NFI,5,0),1,0)*Table_NFI[[#This Row],[Blanket]],Table_NFI[[#This Row],[Blanket]])","v":0},{"$f":"IF(NFI_Expiration=1,IF($A63<VLOOKUP(N$5,NFI,5,0),1,0)*Table_NFI[[#This Row],[Kitchen Set]],Table_NFI[Kitchen Set])","v":0},{"$f":"IF(NFI_Expiration=1,IF($A63<VLOOKUP(O$5,NFI,5,0),1,0)*Table_NFI[[#This Row],[Complementary Kit]],Table_NFI[Complementary Kit])","v":0},{"$f":"IF(NFI_Expiration=1,IF($A63<VLOOKUP(P$5,NFI,5,0),1,0)*Table_NFI[[#This Row],[Plastic Bucket]],Table_NFI[Plastic Bucket])","v":0},{"$f":"IF(NFI_Expiration=1,IF($A63<VLOOKUP(Q$5,NFI,5,0),1,0)*Table_NFI[[#This Row],[Plastic Mat]],Table_NFI[Plastic Mat])","v":0},{"$f":"IFERROR(VLOOKUP(Table_NFI[[#This Row],[Camp Name]],CL,2,0),\"\")","v":""},{"$f":"IFERROR(VLOOKUP(Table_NFI[[#This Row],[Camp Name]],CL,3,0),\"\")","v":""},{"$f":"IFERROR(Table_NFI[[#This Row],[Kitchen Set]]/VLOOKUP(Table_NFI[[#This Row],[Camp Name]],CL,4,0),\"\")","v":""}]
[23.966666666666665,"2012-01-13","UNHCR","KBC","Kachin",null,"Le Pyin Christian Church",null,null,0,10,5,5,0,5,5,5,{"$f":"IF(NFI_Expiration=1,IF($A64<VLOOKUP(H$5,NFI,5,0),1,0)*Table_NFI[[#This Row],[Hygiene Kit]],Table_NFI[Hygiene Kit])","v":0},{"$f":"IF(NFI_Expiration=1,IF($A64<VLOOKUP(I$5,NFI,5,0),1,0)*Table_NFI[[#This Row],[NFI Core Kit]],Table_NFI[NFI Core Kit])","v":0},{"$f":"IF(NFI_Expiration=1,IF($A64<VLOOKUP(J$5,NFI,5,0),1,0)*Table_NFI[[#This Row],[Sanitary Kit]],Table_NFI[Sanitary Kit])","v":0},{"$f":"IF(NFI_Expiration=1,IF($A64<VLOOKUP(K$5,NFI,5,0),1,0)*Table_NFI[[#This Row],[Mosquito net]],Table_NFI[Mosquito net])","v":0},{"$f":"IF(NFI_Expiration=1,IF($A64<VLOOKUP(L$5,NFI,5,0),1,0)*Table_NFI[[#This Row],[Tarpaulin]],Table_NFI[[#This Row],[Tarpaulin]])","v":0},{"$f":"IF(NFI_Expiration=1,IF($A64<VLOOKUP(M$5,NFI,5,0),1,0)*Table_NFI[[#This Row],[Blanket]],Table_NFI[[#This Row],[Blanket]])","v":0},{"$f":"IF(NFI_Expiration=1,IF($A64<VLOOKUP(N$5,NFI,5,0),1,0)*Table_NFI[[#This Row],[Kitchen Set]],Table_NFI[Kitchen Set])","v":0},{"$f":"IF(NFI_Expiration=1,IF($A64<VLOOKUP(O$5,NFI,5,0),1,0)*Table_NFI[[#This Row],[Complementary Kit]],Table_NFI[Complementary Kit])","v":0},{"$f":"IF(NFI_Expiration=1,IF($A64<VLOOKUP(P$5,NFI,5,0),1,0)*Table_NFI[[#This Row],[Plastic Bucket]],Table_NFI[Plastic Bucket])","v":0},{"$f":"IF(NFI_Expiration=1,IF($A64<VLOOKUP(Q$5,NFI,5,0),1,0)*Table_NFI[[#This Row],[Plastic Mat]],Table_NFI[Plastic Mat])","v":0},{"$f":"IFERROR(VLOOKUP(Table_NFI[[#This Row],[Camp Name]],CL,2,0),\"\")","v":""},{"$f":"IFERROR(VLOOKUP(Table_NFI[[#This Row],[Camp Name]],CL,3,0),\"\")","v":""},{"$f":"IFERROR(Table_NFI[[#This Row],[Kitchen Set]]/VLOOKUP(Table_NFI[[#This Row],[Camp Name]],CL,4,0),\"\")","v":""}]
[23.966666666666665,"2012-01-13","UNHCR","KBC","Kachin",null,"Nant Yar Baptist Church",null,null,0,126,63,63,0,63,63,63,{"$f":"IF(NFI_Expiration=1,IF($A65<VLOOKUP(H$5,NFI,5,0),1,0)*Table_NFI[[#This Row],[Hygiene Kit]],Table_NFI[Hygiene Kit])","v":0},{"$f":"IF(NFI_Expiration=1,IF($A65<VLOOKUP(I$5,NFI,5,0),1,0)*Table_NFI[[#This Row],[NFI Core Kit]],Table_NFI[NFI Core Kit])","v":0},{"$f":"IF(NFI_Expiration=1,IF($A65<VLOOKUP(J$5,NFI,5,0),1,0)*Table_NFI[[#This Row],[Sanitary Kit]],Table_NFI[Sanitary Kit])","v":0},{"$f":"IF(NFI_Expiration=1,IF($A65<VLOOKUP(K$5,NFI,5,0),1,0)*Table_NFI[[#This Row],[Mosquito net]],Table_NFI[Mosquito net])","v":0},{"$f":"IF(NFI_Expiration=1,IF($A65<VLOOKUP(L$5,NFI,5,0),1,0)*Table_NFI[[#This Row],[Tarpaulin]],Table_NFI[[#This Row],[Tarpaulin]])","v":0},{"$f":"IF(NFI_Expiration=1,IF($A65<VLOOKUP(M$5,NFI,5,0),1,0)*Table_NFI[[#This Row],[Blanket]],Table_NFI[[#This Row],[Blanket]])","v":0},{"$f":"IF(NFI_Expiration=1,IF($A65<VLOOKUP(N$5,NFI,5,0),1,0)*Table_NFI[[#This Row],[Kitchen Set]],Table_NFI[Kitchen Set])","v":0},{"$f":"IF(NFI_Expiration=1,IF($A65<VLOOKUP(O$5,NFI,5,0),1,0)*Table_NFI[[#This Row],[Complementary Kit]],Table_NFI[Complementary Kit])","v":0},{"$f":"IF(NFI_Expiration=1,IF($A65<VLOOKUP(P$5,NFI,5,0),1,0)*Table_NFI[[#This Row],[Plastic Bucket]],Table_NFI[Plastic Bucket])","v":0},{"$f":"IF(NFI_Expiration=1,IF($A65<VLOOKUP(Q$5,NFI,5,0),1,0)*Table_NFI[[#This Row],[Plastic Mat]],Table_NFI[Plastic Mat])","v":0},{"$f":"IFERROR(VLOOKUP(Table_NFI[[#This Row],[Camp Name]],CL,2,0),\"\")","v":""},{"$f":"IFERROR(VLOOKUP(Table_NFI[[#This Row],[Camp Name]],CL,3,0),\"\")","v":""},{"$f":"IFERROR(Table_NFI[[#This Row],[Kitchen Set]]/VLOOKUP(Table_NFI[[#This Row],[Camp Name]],CL,4,0),\"\")","v":""}]
[23.766666666666666,"2012-01-19","UNHCR","KBC","Kachin","Myitkyina","Jan Mai Kawng Baptist Church",null,null,0,0,0,0,0,118,118,118,{"$f":"IF(NFI_Expiration=1,IF($A66<VLOOKUP(H$5,NFI,5,0),1,0)*Table_NFI[[#This Row],[Hygiene Kit]],Table_NFI[Hygiene Kit])","v":0},{"$f":"IF(NFI_Expiration=1,IF($A66<VLOOKUP(I$5,NFI,5,0),1,0)*Table_NFI[[#This Row],[NFI Core Kit]],Table_NFI[NFI Core Kit])","v":0},{"$f":"IF(NFI_Expiration=1,IF($A66<VLOOKUP(J$5,NFI,5,0),1,0)*Table_NFI[[#This Row],[Sanitary Kit]],Table_NFI[Sanitary Kit])","v":0},{"$f":"IF(NFI_Expiration=1,IF($A66<VLOOKUP(K$5,NFI,5,0),1,0)*Table_NFI[[#This Row],[Mosquito net]],Table_NFI[Mosquito net])","v":0},{"$f":"IF(NFI_Expiration=1,IF($A66<VLOOKUP(L$5,NFI,5,0),1,0)*Table_NFI[[#This Row],[Tarpaulin]],Table_NFI[[#This Row],[Tarpaulin]])","v":0},{"$f":"IF(NFI_Expiration=1,IF($A66<VLOOKUP(M$5,NFI,5,0),1,0)*Table_NFI[[#This Row],[Blanket]],Table_NFI[[#This Row],[Blanket]])","v":0},{"$f":"IF(NFI_Expiration=1,IF($A66<VLOOKUP(N$5,NFI,5,0),1,0)*Table_NFI[[#This Row],[Kitchen Set]],Table_NFI[Kitchen Set])","v":0},{"$f":"IF(NFI_Expiration=1,IF($A66<VLOOKUP(O$5,NFI,5,0),1,0)*Table_NFI[[#This Row],[Complementary Kit]],Table_NFI[Complementary Kit])","v":0},{"$f":"IF(NFI_Expiration=1,IF($A66<VLOOKUP(P$5,NFI,5,0),1,0)*Table_NFI[[#This Row],[Plastic Bucket]],Table_NFI[Plastic Bucket])","v":0},{"$f":"IF(NFI_Expiration=1,IF($A66<VLOOKUP(Q$5,NFI,5,0),1,0)*Table_NFI[[#This Row],[Plastic Mat]],Table_NFI[Plastic Mat])","v":0},{"$f":"IFERROR(VLOOKUP(Table_NFI[[#This Row],[Camp Name]],CL,2,0),\"\")","v":"MMR001CMP018"},{"$f":"IFERROR(VLOOKUP(Table_NFI[[#This Row],[Camp Name]],CL,3,0),\"\")","v":"Open"},{"$f":"IFERROR(Table_NFI[[#This Row],[Kitchen Set]]/VLOOKUP(Table_NFI[[#This Row],[Camp Name]],CL,4,0),\"\")","v":0}]
[23.366666666666667,"2012-01-31","UNHCR","UNHCR","Kachin","Waingmaw","Qtr. 4 Monestry (Thargaya Thayett Taw)",null,null,0,0,0,0,0,61,61,61,{"$f":"IF(NFI_Expiration=1,IF($A67<VLOOKUP(H$5,NFI,5,0),1,0)*Table_NFI[[#This Row],[Hygiene Kit]],Table_NFI[Hygiene Kit])","v":0},{"$f":"IF(NFI_Expiration=1,IF($A67<VLOOKUP(I$5,NFI,5,0),1,0)*Table_NFI[[#This Row],[NFI Core Kit]],Table_NFI[NFI Core Kit])","v":0},{"$f":"IF(NFI_Expiration=1,IF($A67<VLOOKUP(J$5,NFI,5,0),1,0)*Table_NFI[[#This Row],[Sanitary Kit]],Table_NFI[Sanitary Kit])","v":0},{"$f":"IF(NFI_Expiration=1,IF($A67<VLOOKUP(K$5,NFI,5,0),1,0)*Table_NFI[[#This Row],[Mosquito net]],Table_NFI[Mosquito net])","v":0},{"$f":"IF(NFI_Expiration=1,IF($A67<VLOOKUP(L$5,NFI,5,0),1,0)*Table_NFI[[#This Row],[Tarpaulin]],Table_NFI[[#This Row],[Tarpaulin]])","v":0},{"$f":"IF(NFI_Expiration=1,IF($A67<VLOOKUP(M$5,NFI,5,0),1,0)*Table_NFI[[#This Row],[Blanket]],Table_NFI[[#This Row],[Blanket]])","v":0},{"$f":"IF(NFI_Expiration=1,IF($A67<VLOOKUP(N$5,NFI,5,0),1,0)*Table_NFI[[#This Row],[Kitchen Set]],Table_NFI[Kitchen Set])","v":0},{"$f":"IF(NFI_Expiration=1,IF($A67<VLOOKUP(O$5,NFI,5,0),1,0)*Table_NFI[[#This Row],[Complementary Kit]],Table_NFI[Complementary Kit])","v":0},{"$f":"IF(NFI_Expiration=1,IF($A67<VLOOKUP(P$5,NFI,5,0),1,0)*Table_NFI[[#This Row],[Plastic Bucket]],Table_NFI[Plastic Bucket])","v":0},{"$f":"IF(NFI_Expiration=1,IF($A67<VLOOKUP(Q$5,NFI,5,0),1,0)*Table_NFI[[#This Row],[Plastic Mat]],Table_NFI[Plastic Mat])","v":0},{"$f":"IFERROR(VLOOKUP(Table_NFI[[#This Row],[Camp Name]],CL,2,0),\"\")","v":"MMR001CMP026"},{"$f":"IFERROR(VLOOKUP(Table_NFI[[#This Row],[Camp Name]],CL,3,0),\"\")","v":"Open"},{"$f":"IFERROR(Table_NFI[[#This Row],[Kitchen Set]]/VLOOKUP(Table_NFI[[#This Row],[Camp Name]],CL,4,0),\"\")","v":0}]
[23.166666666666668,"2012-02-06","UNHCR","UNHCR","Kachin","Waingmaw","Qtr. 4 Monestry (Thargaya Thayett Taw)",null,null,0,0,0,0,0,13,13,13,{"$f":"IF(NFI_Expiration=1,IF($A68<VLOOKUP(H$5,NFI,5,0),1,0)*Table_NFI[[#This Row],[Hygiene Kit]],Table_NFI[Hygiene Kit])","v":0},{"$f":"IF(NFI_Expiration=1,IF($A68<VLOOKUP(I$5,NFI,5,0),1,0)*Table_NFI[[#This Row],[NFI Core Kit]],Table_NFI[NFI Core Kit])","v":0},{"$f":"IF(NFI_Expiration=1,IF($A68<VLOOKUP(J$5,NFI,5,0),1,0)*Table_NFI[[#This Row],[Sanitary Kit]],Table_NFI[Sanitary Kit])","v":0},{"$f":"IF(NFI_Expiration=1,IF($A68<VLOOKUP(K$5,NFI,5,0),1,0)*Table_NFI[[#This Row],[Mosquito net]],Table_NFI[Mosquito net])","v":0},{"$f":"IF(NFI_Expiration=1,IF($A68<VLOOKUP(L$5,NFI,5,0),1,0)*Table_NFI[[#This Row],[Tarpaulin]],Table_NFI[[#This Row],[Tarpaulin]])","v":0},{"$f":"IF(NFI_Expiration=1,IF($A68<VLOOKUP(M$5,NFI,5,0),1,0)*Table_NFI[[#This Row],[Blanket]],Table_NFI[[#This Row],[Blanket]])","v":0},{"$f":"IF(NFI_Expiration=1,IF($A68<VLOOKUP(N$5,NFI,5,0),1,0)*Table_NFI[[#This Row],[Kitchen Set]],Table_NFI[Kitchen Set])","v":0},{"$f":"IF(NFI_Expiration=1,IF($A68<VLOOKUP(O$5,NFI,5,0),1,0)*Table_NFI[[#This Row],[Complementary Kit]],Table_NFI[Complementary Kit])","v":0},{"$f":"IF(NFI_Expiration=1,IF($A68<VLOOKUP(P$5,NFI,5,0),1,0)*Table_NFI[[#This Row],[Plastic Bucket]],Table_NFI[Plastic Bucket])","v":0},{"$f":"IF(NFI_Expiration=1,IF($A68<VLOOKUP(Q$5,NFI,5,0),1,0)*Table_NFI[[#This Row],[Plastic Mat]],Table_NFI[Plastic Mat])","v":0},{"$f":"IFERROR(VLOOKUP(Table_NFI[[#This Row],[Camp Name]],CL,2,0),\"\")","v":"MMR001CMP026"},{"$f":"IFERROR(VLOOKUP(Table_NFI[[#This Row],[Camp Name]],CL,3,0),\"\")","v":"Open"},{"$f":"IFERROR(Table_NFI[[#This Row],[Kitchen Set]]/VLOOKUP(Table_NFI[[#This Row],[Camp Name]],CL,4,0),\"\")","v":0}]
[23.133333333333333,"2012-02-07","UNHCR","SC&L Group","Kachin","Myitkyina","Maw Hpawng Hka Nan Baptist Church",null,null,0,38,18,38,18,18,18,18,{"$f":"IF(NFI_Expiration=1,IF($A69<VLOOKUP(H$5,NFI,5,0),1,0)*Table_NFI[[#This Row],[Hygiene Kit]],Table_NFI[Hygiene Kit])","v":0},{"$f":"IF(NFI_Expiration=1,IF($A69<VLOOKUP(I$5,NFI,5,0),1,0)*Table_NFI[[#This Row],[NFI Core Kit]],Table_NFI[NFI Core Kit])","v":0},{"$f":"IF(NFI_Expiration=1,IF($A69<VLOOKUP(J$5,NFI,5,0),1,0)*Table_NFI[[#This Row],[Sanitary Kit]],Table_NFI[Sanitary Kit])","v":0},{"$f":"IF(NFI_Expiration=1,IF($A69<VLOOKUP(K$5,NFI,5,0),1,0)*Table_NFI[[#This Row],[Mosquito net]],Table_NFI[Mosquito net])","v":0},{"$f":"IF(NFI_Expiration=1,IF($A69<VLOOKUP(L$5,NFI,5,0),1,0)*Table_NFI[[#This Row],[Tarpaulin]],Table_NFI[[#This Row],[Tarpaulin]])","v":0},{"$f":"IF(NFI_Expiration=1,IF($A69<VLOOKUP(M$5,NFI,5,0),1,0)*Table_NFI[[#This Row],[Blanket]],Table_NFI[[#This Row],[Blanket]])","v":0},{"$f":"IF(NFI_Expiration=1,IF($A69<VLOOKUP(N$5,NFI,5,0),1,0)*Table_NFI[[#This Row],[Kitchen Set]],Table_NFI[Kitchen Set])","v":0},{"$f":"IF(NFI_Expiration=1,IF($A69<VLOOKUP(O$5,NFI,5,0),1,0)*Table_NFI[[#This Row],[Complementary Kit]],Table_NFI[Complementary Kit])","v":0},{"$f":"IF(NFI_Expiration=1,IF($A69<VLOOKUP(P$5,NFI,5,0),1,0)*Table_NFI[[#This Row],[Plastic Bucket]],Table_NFI[Plastic Bucket])","v":0},{"$f":"IF(NFI_Expiration=1,IF($A69<VLOOKUP(Q$5,NFI,5,0),1,0)*Table_NFI[[#This Row],[Plastic Mat]],Table_NFI[Plastic Mat])","v":0},{"$f":"IFERROR(VLOOKUP(Table_NFI[[#This Row],[Camp Name]],CL,2,0),\"\")","v":"MMR001CMP020"},{"$f":"IFERROR(VLOOKUP(Table_NFI[[#This Row],[Camp Name]],CL,3,0),\"\")","v":"Open"},{"$f":"IFERROR(Table_NFI[[#This Row],[Kitchen Set]]/VLOOKUP(Table_NFI[[#This Row],[Camp Name]],CL,4,0),\"\")","v":0.69230769230769229}]
[{"$f":"IF(ISBLANK(B70),\"\",(Report_Date-B70)/30)","v":22.5},"2012-02-26","UNHCR","UNHCR","Kachin","Myitkyina","Pamati Kayan",null,null,0,25,18,25,18,18,18,18,{"$f":"IF(NFI_Expiration=1,IF($A70<VLOOKUP(H$5,NFI,5,0),1,0)*Table_NFI[[#This Row],[Hygiene Kit]],Table_NFI[Hygiene Kit])","v":0},{"$f":"IF(NFI_Expiration=1,IF($A70<VLOOKUP(I$5,NFI,5,0),1,0)*Table_NFI[[#This Row],[NFI Core Kit]],Table_NFI[NFI Core Kit])","v":0},{"$f":"IF(NFI_Expiration=1,IF($A70<VLOOKUP(J$5,NFI,5,0),1,0)*Table_NFI[[#This Row],[Sanitary Kit]],Table_NFI[Sanitary Kit])","v":0},{"$f":"IF(NFI_Expiration=1,IF($A70<VLOOKUP(K$5,NFI,5,0),1,0)*Table_NFI[[#This Row],[Mosquito net]],Table_NFI[Mosquito net])","v":0},{"$f":"IF(NFI_Expiration=1,IF($A70<VLOOKUP(L$5,NFI,5,0),1,0)*Table_NFI[[#This Row],[Tarpaulin]],Table_NFI[[#This Row],[Tarpaulin]])","v":0},{"$f":"IF(NFI_Expiration=1,IF($A70<VLOOKUP(M$5,NFI,5,0),1,0)*Table_NFI[[#This Row],[Blanket]],Table_NFI[[#This Row],[Blanket]])","v":0},{"$f":"IF(NFI_Expiration=1,IF($A70<VLOOKUP(N$5,NFI,5,0),1,0)*Table_NFI[[#This Row],[Kitchen Set]],Table_NFI[Kitchen Set])","v":0},{"$f":"IF(NFI_Expiration=1,IF($A70<VLOOKUP(O$5,NFI,5,0),1,0)*Table_NFI[[#This Row],[Complementary Kit]],Table_NFI[Complementary Kit])","v":0},{"$f":"IF(NFI_Expiration=1,IF($A70<VLOOKUP(P$5,NFI,5,0),1,0)*Table_NFI[[#This Row],[Plastic Bucket]],Table_NFI[Plastic Bucket])","v":0},{"$f":"IF(NFI_Expiration=1,IF($A70<VLOOKUP(Q$5,NFI,5,0),1,0)*Table_NFI[[#This Row],[Plastic Mat]],Table_NFI[Plastic Mat])","v":0},{"$f":"IFERROR(VLOOKUP(Table_NFI[[#This Row],[Camp Name]],CL,2,0),\"\")","v":""},{"$f":"IFERROR(VLOOKUP(Table_NFI[[#This Row],[Camp Name]],CL,3,0),\"\")","v":""},{"$f":"IFERROR(Table_NFI[[#This Row],[Kitchen Set]]/VLOOKUP(Table_NFI[[#This Row],[Camp Name]],CL,4,0),\"\")","v":""}]
[22.5,"2012-02-26","UNHCR","SC&L Group","Kachin","Myitkyina","Pan Ma Tee",null,null,0,25,0,25,0,10,10,10,{"$f":"IF(NFI_Expiration=1,IF($A71<VLOOKUP(H$5,NFI,5,0),1,0)*Table_NFI[[#This Row],[Hygiene Kit]],Table_NFI[Hygiene Kit])","v":0},{"$f":"IF(NFI_Expiration=1,IF($A71<VLOOKUP(I$5,NFI,5,0),1,0)*Table_NFI[[#This Row],[NFI Core Kit]],Table_NFI[NFI Core Kit])","v":0},{"$f":"IF(NFI_Expiration=1,IF($A71<VLOOKUP(J$5,NFI,5,0),1,0)*Table_NFI[[#This Row],[Sanitary Kit]],Table_NFI[Sanitary Kit])","v":0},{"$f":"IF(NFI_Expiration=1,IF($A71<VLOOKUP(K$5,NFI,5,0),1,0)*Table_NFI[[#This Row],[Mosquito net]],Table_NFI[Mosquito net])","v":0},{"$f":"IF(NFI_Expiration=1,IF($A71<VLOOKUP(L$5,NFI,5,0),1,0)*Table_NFI[[#This Row],[Tarpaulin]],Table_NFI[[#This Row],[Tarpaulin]])","v":0},{"$f":"IF(NFI_Expiration=1,IF($A71<VLOOKUP(M$5,NFI,5,0),1,0)*Table_NFI[[#This Row],[Blanket]],Table_NFI[[#This Row],[Blanket]])","v":0},{"$f":"IF(NFI_Expiration=1,IF($A71<VLOOKUP(N$5,NFI,5,0),1,0)*Table_NFI[[#This Row],[Kitchen Set]],Table_NFI[Kitchen Set])","v":0},{"$f":"IF(NFI_Expiration=1,IF($A71<VLOOKUP(O$5,NFI,5,0),1,0)*Table_NFI[[#This Row],[Complementary Kit]],Table_NFI[Complementary Kit])","v":0},{"$f":"IF(NFI_Expiration=1,IF($A71<VLOOKUP(P$5,NFI,5,0),1,0)*Table_NFI[[#This Row],[Plastic Bucket]],Table_NFI[Plastic Bucket])","v":0},{"$f":"IF(NFI_Expiration=1,IF($A71<VLOOKUP(Q$5,NFI,5,0),1,0)*Table_NFI[[#This Row],[Plastic Mat]],Table_NFI[Plastic Mat])","v":0},{"$f":"IFERROR(VLOOKUP(Table_NFI[[#This Row],[Camp Name]],CL,2,0),\"\")","v":""},{"$f":"IFERROR(VLOOKUP(Table_NFI[[#This Row],[Camp Name]],CL,3,0),\"\")","v":""},{"$f":"IFERROR(Table_NFI[[#This Row],[Kitchen Set]]/VLOOKUP(Table_NFI[[#This Row],[Camp Name]],CL,4,0),\"\")","v":""}]
[22.466666666666665,"2012-02-27","UNHCR","SC&L Group","Kachin","Myitkyina","Wun Tho Buddhist Monastery",null,null,0,34,0,34,0,34,34,34,{"$f":"IF(NFI_Expiration=1,IF($A72<VLOOKUP(H$5,NFI,5,0),1,0)*Table_NFI[[#This Row],[Hygiene Kit]],Table_NFI[Hygiene Kit])","v":0},{"$f":"IF(NFI_Expiration=1,IF($A72<VLOOKUP(I$5,NFI,5,0),1,0)*Table_NFI[[#This Row],[NFI Core Kit]],Table_NFI[NFI Core Kit])","v":0},{"$f":"IF(NFI_Expiration=1,IF($A72<VLOOKUP(J$5,NFI,5,0),1,0)*Table_NFI[[#This Row],[Sanitary Kit]],Table_NFI[Sanitary Kit])","v":0},{"$f":"IF(NFI_Expiration=1,IF($A72<VLOOKUP(K$5,NFI,5,0),1,0)*Table_NFI[[#This Row],[Mosquito net]],Table_NFI[Mosquito net])","v":0},{"$f":"IF(NFI_Expiration=1,IF($A72<VLOOKUP(L$5,NFI,5,0),1,0)*Table_NFI[[#This Row],[Tarpaulin]],Table_NFI[[#This Row],[Tarpaulin]])","v":0},{"$f":"IF(NFI_Expiration=1,IF($A72<VLOOKUP(M$5,NFI,5,0),1,0)*Table_NFI[[#This Row],[Blanket]],Table_NFI[[#This Row],[Blanket]])","v":0},{"$f":"IF(NFI_Expiration=1,IF($A72<VLOOKUP(N$5,NFI,5,0),1,0)*Table_NFI[[#This Row],[Kitchen Set]],Table_NFI[Kitchen Set])","v":0},{"$f":"IF(NFI_Expiration=1,IF($A72<VLOOKUP(O$5,NFI,5,0),1,0)*Table_NFI[[#This Row],[Complementary Kit]],Table_NFI[Complementary Kit])","v":0},{"$f":"IF(NFI_Expiration=1,IF($A72<VLOOKUP(P$5,NFI,5,0),1,0)*Table_NFI[[#This Row],[Plastic Bucket]],Table_NFI[Plastic Bucket])","v":0},{"$f":"IF(NFI_Expiration=1,IF($A72<VLOOKUP(Q$5,NFI,5,0),1,0)*Table_NFI[[#This Row],[Plastic Mat]],Table_NFI[Plastic Mat])","v":0},{"$f":"IFERROR(VLOOKUP(Table_NFI[[#This Row],[Camp Name]],CL,2,0),\"\")","v":"MMR001CMP022"},{"$f":"IFERROR(VLOOKUP(Table_NFI[[#This Row],[Camp Name]],CL,3,0),\"\")","v":"Open"},{"$f":"IFERROR(Table_NFI[[#This Row],[Kitchen Set]]/VLOOKUP(Table_NFI[[#This Row],[Camp Name]],CL,4,0),\"\")","v":0}]
[22.166666666666668,"2012-03-07","UNHCR","UNHCR","Kachin","Waingmaw","Qtr. 2 Lhaovo Baptist Church",null,null,0,12,8,12,8,8,8,8,{"$f":"IF(NFI_Expiration=1,IF($A73<VLOOKUP(H$5,NFI,5,0),1,0)*Table_NFI[[#This Row],[Hygiene Kit]],Table_NFI[Hygiene Kit])","v":0},{"$f":"IF(NFI_Expiration=1,IF($A73<VLOOKUP(I$5,NFI,5,0),1,0)*Table_NFI[[#This Row],[NFI Core Kit]],Table_NFI[NFI Core Kit])","v":0},{"$f":"IF(NFI_Expiration=1,IF($A73<VLOOKUP(J$5,NFI,5,0),1,0)*Table_NFI[[#This Row],[Sanitary Kit]],Table_NFI[Sanitary Kit])","v":0},{"$f":"IF(NFI_Expiration=1,IF($A73<VLOOKUP(K$5,NFI,5,0),1,0)*Table_NFI[[#This Row],[Mosquito net]],Table_NFI[Mosquito net])","v":0},{"$f":"IF(NFI_Expiration=1,IF($A73<VLOOKUP(L$5,NFI,5,0),1,0)*Table_NFI[[#This Row],[Tarpaulin]],Table_NFI[[#This Row],[Tarpaulin]])","v":0},{"$f":"IF(NFI_Expiration=1,IF($A73<VLOOKUP(M$5,NFI,5,0),1,0)*Table_NFI[[#This Row],[Blanket]],Table_NFI[[#This Row],[Blanket]])","v":0},{"$f":"IF(NFI_Expiration=1,IF($A73<VLOOKUP(N$5,NFI,5,0),1,0)*Table_NFI[[#This Row],[Kitchen Set]],Table_NFI[Kitchen Set])","v":0},{"$f":"IF(NFI_Expiration=1,IF($A73<VLOOKUP(O$5,NFI,5,0),1,0)*Table_NFI[[#This Row],[Complementary Kit]],Table_NFI[Complementary Kit])","v":0},{"$f":"IF(NFI_Expiration=1,IF($A73<VLOOKUP(P$5,NFI,5,0),1,0)*Table_NFI[[#This Row],[Plastic Bucket]],Table_NFI[Plastic Bucket])","v":0},{"$f":"IF(NFI_Expiration=1,IF($A73<VLOOKUP(Q$5,NFI,5,0),1,0)*Table_NFI[[#This Row],[Plastic Mat]],Table_NFI[Plastic Mat])","v":0},{"$f":"IFERROR(VLOOKUP(Table_NFI[[#This Row],[Camp Name]],CL,2,0),\"\")","v":"MMR001CMP032"},{"$f":"IFERROR(VLOOKUP(Table_NFI[[#This Row],[Camp Name]],CL,3,0),\"\")","v":"Open"},{"$f":"IFERROR(Table_NFI[[#This Row],[Kitchen Set]]/VLOOKUP(Table_NFI[[#This Row],[Camp Name]],CL,4,0),\"\")","v":6.6666666666666666E-2}]
[22.166666666666668,"2012-03-07","UNHCR","UNHCR","Kachin","Waingmaw","Thargaya Lisu Baptist Church",null,null,0,38,18,38,17,18,18,18,{"$f":"IF(NFI_Expiration=1,IF($A74<VLOOKUP(H$5,NFI,5,0),1,0)*Table_NFI[[#This Row],[Hygiene Kit]],Table_NFI[Hygiene Kit])","v":0},{"$f":"IF(NFI_Expiration=1,IF($A74<VLOOKUP(I$5,NFI,5,0),1,0)*Table_NFI[[#This Row],[NFI Core Kit]],Table_NFI[NFI Core Kit])","v":0},{"$f":"IF(NFI_Expiration=1,IF($A74<VLOOKUP(J$5,NFI,5,0),1,0)*Table_NFI[[#This Row],[Sanitary Kit]],Table_NFI[Sanitary Kit])","v":0},{"$f":"IF(NFI_Expiration=1,IF($A74<VLOOKUP(K$5,NFI,5,0),1,0)*Table_NFI[[#This Row],[Mosquito net]],Table_NFI[Mosquito net])","v":0},{"$f":"IF(NFI_Expiration=1,IF($A74<VLOOKUP(L$5,NFI,5,0),1,0)*Table_NFI[[#This Row],[Tarpaulin]],Table_NFI[[#This Row],[Tarpaulin]])","v":0},{"$f":"IF(NFI_Expiration=1,IF($A74<VLOOKUP(M$5,NFI,5,0),1,0)*Table_NFI[[#This Row],[Blanket]],Table_NFI[[#This Row],[Blanket]])","v":0},{"$f":"IF(NFI_Expiration=1,IF($A74<VLOOKUP(N$5,NFI,5,0),1,0)*Table_NFI[[#This Row],[Kitchen Set]],Table_NFI[Kitchen Set])","v":0},{"$f":"IF(NFI_Expiration=1,IF($A74<VLOOKUP(O$5,NFI,5,0),1,0)*Table_NFI[[#This Row],[Complementary Kit]],Table_NFI[Complementary Kit])","v":0},{"$f":"IF(NFI_Expiration=1,IF($A74<VLOOKUP(P$5,NFI,5,0),1,0)*Table_NFI[[#This Row],[Plastic Bucket]],Table_NFI[Plastic Bucket])","v":0},{"$f":"IF(NFI_Expiration=1,IF($A74<VLOOKUP(Q$5,NFI,5,0),1,0)*Table_NFI[[#This Row],[Plastic Mat]],Table_NFI[Plastic Mat])","v":0},{"$f":"IFERROR(VLOOKUP(Table_NFI[[#This Row],[Camp Name]],CL,2,0),\"\")","v":"MMR001CMP037"},{"$f":"IFERROR(VLOOKUP(Table_NFI[[#This Row],[Camp Name]],CL,3,0),\"\")","v":"Open"},{"$f":"IFERROR(Table_NFI[[#This Row],[Kitchen Set]]/VLOOKUP(Table_NFI[[#This Row],[Camp Name]],CL,4,0),\"\")","v":0.22972972972972974}]
[21.533333333333335,"2012-03-26","UNHCR","UNHCR","Kachin","Momauk","Momauk Catholic Church (St. Patrick)",null,null,0,49,49,0,0,49,49,49,{"$f":"IF(NFI_Expiration=1,IF($A75<VLOOKUP(H$5,NFI,5,0),1,0)*Table_NFI[[#This Row],[Hygiene Kit]],Table_NFI[Hygiene Kit])","v":0},{"$f":"IF(NFI_Expiration=1,IF($A75<VLOOKUP(I$5,NFI,5,0),1,0)*Table_NFI[[#This Row],[NFI Core Kit]],Table_NFI[NFI Core Kit])","v":0},{"$f":"IF(NFI_Expiration=1,IF($A75<VLOOKUP(J$5,NFI,5,0),1,0)*Table_NFI[[#This Row],[Sanitary Kit]],Table_NFI[Sanitary Kit])","v":0},{"$f":"IF(NFI_Expiration=1,IF($A75<VLOOKUP(K$5,NFI,5,0),1,0)*Table_NFI[[#This Row],[Mosquito net]],Table_NFI[Mosquito net])","v":0},{"$f":"IF(NFI_Expiration=1,IF($A75<VLOOKUP(L$5,NFI,5,0),1,0)*Table_NFI[[#This Row],[Tarpaulin]],Table_NFI[[#This Row],[Tarpaulin]])","v":0},{"$f":"IF(NFI_Expiration=1,IF($A75<VLOOKUP(M$5,NFI,5,0),1,0)*Table_NFI[[#This Row],[Blanket]],Table_NFI[[#This Row],[Blanket]])","v":0},{"$f":"IF(NFI_Expiration=1,IF($A75<VLOOKUP(N$5,NFI,5,0),1,0)*Table_NFI[[#This Row],[Kitchen Set]],Table_NFI[Kitchen Set])","v":0},{"$f":"IF(NFI_Expiration=1,IF($A75<VLOOKUP(O$5,NFI,5,0),1,0)*Table_NFI[[#This Row],[Complementary Kit]],Table_NFI[Complementary Kit])","v":0},{"$f":"IF(NFI_Expiration=1,IF($A75<VLOOKUP(P$5,NFI,5,0),1,0)*Table_NFI[[#This Row],[Plastic Bucket]],Table_NFI[Plastic Bucket])","v":0},{"$f":"IF(NFI_Expiration=1,IF($A75<VLOOKUP(Q$5,NFI,5,0),1,0)*Table_NFI[[#This Row],[Plastic Mat]],Table_NFI[Plastic Mat])","v":0},{"$f":"IFERROR(VLOOKUP(Table_NFI[[#This Row],[Camp Name]],CL,2,0),\"\")","v":"MMR001CMP057"},{"$f":"IFERROR(VLOOKUP(Table_NFI[[#This Row],[Camp Name]],CL,3,0),\"\")","v":"Open"},{"$f":"IFERROR(Table_NFI[[#This Row],[Kitchen Set]]/VLOOKUP(Table_NFI[[#This Row],[Camp Name]],CL,4,0),\"\")","v":0}]
[21.533333333333335,"2012-03-26","UNHCR","UNHCR","Kachin","Waingmaw","Border Post 8",null,null,0,460,250,460,230,0,null,null,{"$f":"IF(NFI_Expiration=1,IF($A76<VLOOKUP(H$5,NFI,5,0),1,0)*Table_NFI[[#This Row],[Hygiene Kit]],Table_NFI[Hygiene Kit])","v":0},{"$f":"IF(NFI_Expiration=1,IF($A76<VLOOKUP(I$5,NFI,5,0),1,0)*Table_NFI[[#This Row],[NFI Core Kit]],Table_NFI[NFI Core Kit])","v":0},{"$f":"IF(NFI_Expiration=1,IF($A76<VLOOKUP(J$5,NFI,5,0),1,0)*Table_NFI[[#This Row],[Sanitary Kit]],Table_NFI[Sanitary Kit])","v":0},{"$f":"IF(NFI_Expiration=1,IF($A76<VLOOKUP(K$5,NFI,5,0),1,0)*Table_NFI[[#This Row],[Mosquito net]],Table_NFI[Mosquito net])","v":0},{"$f":"IF(NFI_Expiration=1,IF($A76<VLOOKUP(L$5,NFI,5,0),1,0)*Table_NFI[[#This Row],[Tarpaulin]],Table_NFI[[#This Row],[Tarpaulin]])","v":0},{"$f":"IF(NFI_Expiration=1,IF($A76<VLOOKUP(M$5,NFI,5,0),1,0)*Table_NFI[[#This Row],[Blanket]],Table_NFI[[#This Row],[Blanket]])","v":0},{"$f":"IF(NFI_Expiration=1,IF($A76<VLOOKUP(N$5,NFI,5,0),1,0)*Table_NFI[[#This Row],[Kitchen Set]],Table_NFI[Kitchen Set])","v":0},{"$f":"IF(NFI_Expiration=1,IF($A76<VLOOKUP(O$5,NFI,5,0),1,0)*Table_NFI[[#This Row],[Complementary Kit]],Table_NFI[Complementary Kit])","v":0},{"$f":"IF(NFI_Expiration=1,IF($A76<VLOOKUP(P$5,NFI,5,0),1,0)*Table_NFI[[#This Row],[Plastic Bucket]],Table_NFI[Plastic Bucket])","v":0},{"$f":"IF(NFI_Expiration=1,IF($A76<VLOOKUP(Q$5,NFI,5,0),1,0)*Table_NFI[[#This Row],[Plastic Mat]],Table_NFI[Plastic Mat])","v":0},{"$f":"IFERROR(VLOOKUP(Table_NFI[[#This Row],[Camp Name]],CL,2,0),\"\")","v":"MMR001CMP113"},{"$f":"IFERROR(VLOOKUP(Table_NFI[[#This Row],[Camp Name]],CL,3,0),\"\")","v":"Open"},{"$f":"IFERROR(Table_NFI[[#This Row],[Kitchen Set]]/VLOOKUP(Table_NFI[[#This Row],[Camp Name]],CL,4,0),\"\")","v":1.3450292397660819}]
[21.5,"2012-03-27","UNHCR","UNHCR","Kachin","Bhamo","Robert Church",null,null,0,1000,500,1000,500,500,500,500,{"$f":"IF(NFI_Expiration=1,IF($A77<VLOOKUP(H$5,NFI,5,0),1,0)*Table_NFI[[#This Row],[Hygiene Kit]],Table_NFI[Hygiene Kit])","v":0},{"$f":"IF(NFI_Expiration=1,IF($A77<VLOOKUP(I$5,NFI,5,0),1,0)*Table_NFI[[#This Row],[NFI Core Kit]],Table_NFI[NFI Core Kit])","v":0},{"$f":"IF(NFI_Expiration=1,IF($A77<VLOOKUP(J$5,NFI,5,0),1,0)*Table_NFI[[#This Row],[Sanitary Kit]],Table_NFI[Sanitary Kit])","v":0},{"$f":"IF(NFI_Expiration=1,IF($A77<VLOOKUP(K$5,NFI,5,0),1,0)*Table_NFI[[#This Row],[Mosquito net]],Table_NFI[Mosquito net])","v":0},{"$f":"IF(NFI_Expiration=1,IF($A77<VLOOKUP(L$5,NFI,5,0),1,0)*Table_NFI[[#This Row],[Tarpaulin]],Table_NFI[[#This Row],[Tarpaulin]])","v":0},{"$f":"IF(NFI_Expiration=1,IF($A77<VLOOKUP(M$5,NFI,5,0),1,0)*Table_NFI[[#This Row],[Blanket]],Table_NFI[[#This Row],[Blanket]])","v":0},{"$f":"IF(NFI_Expiration=1,IF($A77<VLOOKUP(N$5,NFI,5,0),1,0)*Table_NFI[[#This Row],[Kitchen Set]],Table_NFI[Kitchen Set])","v":0},{"$f":"IF(NFI_Expiration=1,IF($A77<VLOOKUP(O$5,NFI,5,0),1,0)*Table_NFI[[#This Row],[Complementary Kit]],Table_NFI[Complementary Kit])","v":0},{"$f":"IF(NFI_Expiration=1,IF($A77<VLOOKUP(P$5,NFI,5,0),1,0)*Table_NFI[[#This Row],[Plastic Bucket]],Table_NFI[Plastic Bucket])","v":0},{"$f":"IF(NFI_Expiration=1,IF($A77<VLOOKUP(Q$5,NFI,5,0),1,0)*Table_NFI[[#This Row],[Plastic Mat]],Table_NFI[Plastic Mat])","v":0},{"$f":"IFERROR(VLOOKUP(Table_NFI[[#This Row],[Camp Name]],CL,2,0),\"\")","v":"MMR001CMP047"},{"$f":"IFERROR(VLOOKUP(Table_NFI[[#This Row],[Camp Name]],CL,3,0),\"\")","v":"Open"},{"$f":"IFERROR(Table_NFI[[#This Row],[Kitchen Set]]/VLOOKUP(Table_NFI[[#This Row],[Camp Name]],CL,4,0),\"\")","v":0.89605734767025091}]
[21.5,"2012-03-27","UNHCR","UNHCR","Kachin","Bhamo","AD-2000 Tharthana Compound",null,null,0,560,280,560,280,280,280,280,{"$f":"IF(NFI_Expiration=1,IF($A78<VLOOKUP(H$5,NFI,5,0),1,0)*Table_NFI[[#This Row],[Hygiene Kit]],Table_NFI[Hygiene Kit])","v":0},{"$f":"IF(NFI_Expiration=1,IF($A78<VLOOKUP(I$5,NFI,5,0),1,0)*Table_NFI[[#This Row],[NFI Core Kit]],Table_NFI[NFI Core Kit])","v":0},{"$f":"IF(NFI_Expiration=1,IF($A78<VLOOKUP(J$5,NFI,5,0),1,0)*Table_NFI[[#This Row],[Sanitary Kit]],Table_NFI[Sanitary Kit])","v":0},{"$f":"IF(NFI_Expiration=1,IF($A78<VLOOKUP(K$5,NFI,5,0),1,0)*Table_NFI[[#This Row],[Mosquito net]],Table_NFI[Mosquito net])","v":0},{"$f":"IF(NFI_Expiration=1,IF($A78<VLOOKUP(L$5,NFI,5,0),1,0)*Table_NFI[[#This Row],[Tarpaulin]],Table_NFI[[#This Row],[Tarpaulin]])","v":0},{"$f":"IF(NFI_Expiration=1,IF($A78<VLOOKUP(M$5,NFI,5,0),1,0)*Table_NFI[[#This Row],[Blanket]],Table_NFI[[#This Row],[Blanket]])","v":0},{"$f":"IF(NFI_Expiration=1,IF($A78<VLOOKUP(N$5,NFI,5,0),1,0)*Table_NFI[[#This Row],[Kitchen Set]],Table_NFI[Kitchen Set])","v":0},{"$f":"IF(NFI_Expiration=1,IF($A78<VLOOKUP(O$5,NFI,5,0),1,0)*Table_NFI[[#This Row],[Complementary Kit]],Table_NFI[Complementary Kit])","v":0},{"$f":"IF(NFI_Expiration=1,IF($A78<VLOOKUP(P$5,NFI,5,0),1,0)*Table_NFI[[#This Row],[Plastic Bucket]],Table_NFI[Plastic Bucket])","v":0},{"$f":"IF(NFI_Expiration=1,IF($A78<VLOOKUP(Q$5,NFI,5,0),1,0)*Table_NFI[[#This Row],[Plastic Mat]],Table_NFI[Plastic Mat])","v":0},{"$f":"IFERROR(VLOOKUP(Table_NFI[[#This Row],[Camp Name]],CL,2,0),\"\")","v":"MMR001CMP050"},{"$f":"IFERROR(VLOOKUP(Table_NFI[[#This Row],[Camp Name]],CL,3,0),\"\")","v":"Open"},{"$f":"IFERROR(Table_NFI[[#This Row],[Kitchen Set]]/VLOOKUP(Table_NFI[[#This Row],[Camp Name]],CL,4,0),\"\")","v":1.1965811965811965}]
[21.5,"2012-03-27","UNHCR","UNHCR","Kachin","Waingmaw","Border Post 8",null,null,0,460,228,460,228,228,228,228,{"$f":"IF(NFI_Expiration=1,IF($A79<VLOOKUP(H$5,NFI,5,0),1,0)*Table_NFI[[#This Row],[Hygiene Kit]],Table_NFI[Hygiene Kit])","v":0},{"$f":"IF(NFI_Expiration=1,IF($A79<VLOOKUP(I$5,NFI,5,0),1,0)*Table_NFI[[#This Row],[NFI Core Kit]],Table_NFI[NFI Core Kit])","v":0},{"$f":"IF(NFI_Expiration=1,IF($A79<VLOOKUP(J$5,NFI,5,0),1,0)*Table_NFI[[#This Row],[Sanitary Kit]],Table_NFI[Sanitary Kit])","v":0},{"$f":"IF(NFI_Expiration=1,IF($A79<VLOOKUP(K$5,NFI,5,0),1,0)*Table_NFI[[#This Row],[Mosquito net]],Table_NFI[Mosquito net])","v":0},{"$f":"IF(NFI_Expiration=1,IF($A79<VLOOKUP(L$5,NFI,5,0),1,0)*Table_NFI[[#This Row],[Tarpaulin]],Table_NFI[[#This Row],[Tarpaulin]])","v":0},{"$f":"IF(NFI_Expiration=1,IF($A79<VLOOKUP(M$5,NFI,5,0),1,0)*Table_NFI[[#This Row],[Blanket]],Table_NFI[[#This Row],[Blanket]])","v":0},{"$f":"IF(NFI_Expiration=1,IF($A79<VLOOKUP(N$5,NFI,5,0),1,0)*Table_NFI[[#This Row],[Kitchen Set]],Table_NFI[Kitchen Set])","v":0},{"$f":"IF(NFI_Expiration=1,IF($A79<VLOOKUP(O$5,NFI,5,0),1,0)*Table_NFI[[#This Row],[Complementary Kit]],Table_NFI[Complementary Kit])","v":0},{"$f":"IF(NFI_Expiration=1,IF($A79<VLOOKUP(P$5,NFI,5,0),1,0)*Table_NFI[[#This Row],[Plastic Bucket]],Table_NFI[Plastic Bucket])","v":0},{"$f":"IF(NFI_Expiration=1,IF($A79<VLOOKUP(Q$5,NFI,5,0),1,0)*Table_NFI[[#This Row],[Plastic Mat]],Table_NFI[Plastic Mat])","v":0},{"$f":"IFERROR(VLOOKUP(Table_NFI[[#This Row],[Camp Name]],CL,2,0),\"\")","v":"MMR001CMP113"},{"$f":"IFERROR(VLOOKUP(Table_NFI[[#This Row],[Camp Name]],CL,3,0),\"\")","v":"Open"},{"$f":"IFERROR(Table_NFI[[#This Row],[Kitchen Set]]/VLOOKUP(Table_NFI[[#This Row],[Camp Name]],CL,4,0),\"\")","v":1.3333333333333333}]
[21.5,"2012-03-27","UNHCR","UNHCR","Kachin","Waingmaw","Post 6 Camp",null,null,0,0,40,0,0,0,null,null,{"$f":"IF(NFI_Expiration=1,IF($A80<VLOOKUP(H$5,NFI,5,0),1,0)*Table_NFI[[#This Row],[Hygiene Kit]],Table_NFI[Hygiene Kit])","v":0},{"$f":"IF(NFI_Expiration=1,IF($A80<VLOOKUP(I$5,NFI,5,0),1,0)*Table_NFI[[#This Row],[NFI Core Kit]],Table_NFI[NFI Core Kit])","v":0},{"$f":"IF(NFI_Expiration=1,IF($A80<VLOOKUP(J$5,NFI,5,0),1,0)*Table_NFI[[#This Row],[Sanitary Kit]],Table_NFI[Sanitary Kit])","v":0},{"$f":"IF(NFI_Expiration=1,IF($A80<VLOOKUP(K$5,NFI,5,0),1,0)*Table_NFI[[#This Row],[Mosquito net]],Table_NFI[Mosquito net])","v":0},{"$f":"IF(NFI_Expiration=1,IF($A80<VLOOKUP(L$5,NFI,5,0),1,0)*Table_NFI[[#This Row],[Tarpaulin]],Table_NFI[[#This Row],[Tarpaulin]])","v":0},{"$f":"IF(NFI_Expiration=1,IF($A80<VLOOKUP(M$5,NFI,5,0),1,0)*Table_NFI[[#This Row],[Blanket]],Table_NFI[[#This Row],[Blanket]])","v":0},{"$f":"IF(NFI_Expiration=1,IF($A80<VLOOKUP(N$5,NFI,5,0),1,0)*Table_NFI[[#This Row],[Kitchen Set]],Table_NFI[Kitchen Set])","v":0},{"$f":"IF(NFI_Expiration=1,IF($A80<VLOOKUP(O$5,NFI,5,0),1,0)*Table_NFI[[#This Row],[Complementary Kit]],Table_NFI[Complementary Kit])","v":0},{"$f":"IF(NFI_Expiration=1,IF($A80<VLOOKUP(P$5,NFI,5,0),1,0)*Table_NFI[[#This Row],[Plastic Bucket]],Table_NFI[Plastic Bucket])","v":0},{"$f":"IF(NFI_Expiration=1,IF($A80<VLOOKUP(Q$5,NFI,5,0),1,0)*Table_NFI[[#This Row],[Plastic Mat]],Table_NFI[Plastic Mat])","v":0},{"$f":"IFERROR(VLOOKUP(Table_NFI[[#This Row],[Camp Name]],CL,2,0),\"\")","v":"MMR001CMP160"},{"$f":"IFERROR(VLOOKUP(Table_NFI[[#This Row],[Camp Name]],CL,3,0),\"\")","v":"Open"},{"$f":"IFERROR(Table_NFI[[#This Row],[Kitchen Set]]/VLOOKUP(Table_NFI[[#This Row],[Camp Name]],CL,4,0),\"\")","v":0}]
[21.5,"2012-03-27","UNHCR","UNHCR","Kachin","Momauk","Mai Ja Yang Gat Pa ",null,null,0,52,52,0,0,0,null,null,{"$f":"IF(NFI_Expiration=1,IF($A81<VLOOKUP(H$5,NFI,5,0),1,0)*Table_NFI[[#This Row],[Hygiene Kit]],Table_NFI[Hygiene Kit])","v":0},{"$f":"IF(NFI_Expiration=1,IF($A81<VLOOKUP(I$5,NFI,5,0),1,0)*Table_NFI[[#This Row],[NFI Core Kit]],Table_NFI[NFI Core Kit])","v":0},{"$f":"IF(NFI_Expiration=1,IF($A81<VLOOKUP(J$5,NFI,5,0),1,0)*Table_NFI[[#This Row],[Sanitary Kit]],Table_NFI[Sanitary Kit])","v":0},{"$f":"IF(NFI_Expiration=1,IF($A81<VLOOKUP(K$5,NFI,5,0),1,0)*Table_NFI[[#This Row],[Mosquito net]],Table_NFI[Mosquito net])","v":0},{"$f":"IF(NFI_Expiration=1,IF($A81<VLOOKUP(L$5,NFI,5,0),1,0)*Table_NFI[[#This Row],[Tarpaulin]],Table_NFI[[#This Row],[Tarpaulin]])","v":0},{"$f":"IF(NFI_Expiration=1,IF($A81<VLOOKUP(M$5,NFI,5,0),1,0)*Table_NFI[[#This Row],[Blanket]],Table_NFI[[#This Row],[Blanket]])","v":0},{"$f":"IF(NFI_Expiration=1,IF($A81<VLOOKUP(N$5,NFI,5,0),1,0)*Table_NFI[[#This Row],[Kitchen Set]],Table_NFI[Kitchen Set])","v":0},{"$f":"IF(NFI_Expiration=1,IF($A81<VLOOKUP(O$5,NFI,5,0),1,0)*Table_NFI[[#This Row],[Complementary Kit]],Table_NFI[Complementary Kit])","v":0},{"$f":"IF(NFI_Expiration=1,IF($A81<VLOOKUP(P$5,NFI,5,0),1,0)*Table_NFI[[#This Row],[Plastic Bucket]],Table_NFI[Plastic Bucket])","v":0},{"$f":"IF(NFI_Expiration=1,IF($A81<VLOOKUP(Q$5,NFI,5,0),1,0)*Table_NFI[[#This Row],[Plastic Mat]],Table_NFI[Plastic Mat])","v":0},{"$f":"IFERROR(VLOOKUP(Table_NFI[[#This Row],[Camp Name]],CL,2,0),\"\")","v":""},{"$f":"IFERROR(VLOOKUP(Table_NFI[[#This Row],[Camp Name]],CL,3,0),\"\")","v":""},{"$f":"IFERROR(Table_NFI[[#This Row],[Kitchen Set]]/VLOOKUP(Table_NFI[[#This Row],[Camp Name]],CL,4,0),\"\")","v":""}]
[21.466666666666665,"2012-03-28","UNHCR","UNHCR","Kachin","Momauk","Mai Ja Yang Ung Lung ",null,null,0,217,217,0,0,0,null,null,{"$f":"IF(NFI_Expiration=1,IF($A82<VLOOKUP(H$5,NFI,5,0),1,0)*Table_NFI[[#This Row],[Hygiene Kit]],Table_NFI[Hygiene Kit])","v":0},{"$f":"IF(NFI_Expiration=1,IF($A82<VLOOKUP(I$5,NFI,5,0),1,0)*Table_NFI[[#This Row],[NFI Core Kit]],Table_NFI[NFI Core Kit])","v":0},{"$f":"IF(NFI_Expiration=1,IF($A82<VLOOKUP(J$5,NFI,5,0),1,0)*Table_NFI[[#This Row],[Sanitary Kit]],Table_NFI[Sanitary Kit])","v":0},{"$f":"IF(NFI_Expiration=1,IF($A82<VLOOKUP(K$5,NFI,5,0),1,0)*Table_NFI[[#This Row],[Mosquito net]],Table_NFI[Mosquito net])","v":0},{"$f":"IF(NFI_Expiration=1,IF($A82<VLOOKUP(L$5,NFI,5,0),1,0)*Table_NFI[[#This Row],[Tarpaulin]],Table_NFI[[#This Row],[Tarpaulin]])","v":0},{"$f":"IF(NFI_Expiration=1,IF($A82<VLOOKUP(M$5,NFI,5,0),1,0)*Table_NFI[[#This Row],[Blanket]],Table_NFI[[#This Row],[Blanket]])","v":0},{"$f":"IF(NFI_Expiration=1,IF($A82<VLOOKUP(N$5,NFI,5,0),1,0)*Table_NFI[[#This Row],[Kitchen Set]],Table_NFI[Kitchen Set])","v":0},{"$f":"IF(NFI_Expiration=1,IF($A82<VLOOKUP(O$5,NFI,5,0),1,0)*Table_NFI[[#This Row],[Complementary Kit]],Table_NFI[Complementary Kit])","v":0},{"$f":"IF(NFI_Expiration=1,IF($A82<VLOOKUP(P$5,NFI,5,0),1,0)*Table_NFI[[#This Row],[Plastic Bucket]],Table_NFI[Plastic Bucket])","v":0},{"$f":"IF(NFI_Expiration=1,IF($A82<VLOOKUP(Q$5,NFI,5,0),1,0)*Table_NFI[[#This Row],[Plastic Mat]],Table_NFI[Plastic Mat])","v":0},{"$f":"IFERROR(VLOOKUP(Table_NFI[[#This Row],[Camp Name]],CL,2,0),\"\")","v":""},{"$f":"IFERROR(VLOOKUP(Table_NFI[[#This Row],[Camp Name]],CL,3,0),\"\")","v":""},{"$f":"IFERROR(Table_NFI[[#This Row],[Kitchen Set]]/VLOOKUP(Table_NFI[[#This Row],[Camp Name]],CL,4,0),\"\")","v":""}]
[21.433333333333334,"2012-03-29","UNHCR","UNHCR","Kachin","Momauk","Seng Ja ",null,null,0,66,66,0,0,0,null,null,{"$f":"IF(NFI_Expiration=1,IF($A83<VLOOKUP(H$5,NFI,5,0),1,0)*Table_NFI[[#This Row],[Hygiene Kit]],Table_NFI[Hygiene Kit])","v":0},{"$f":"IF(NFI_Expiration=1,IF($A83<VLOOKUP(I$5,NFI,5,0),1,0)*Table_NFI[[#This Row],[NFI Core Kit]],Table_NFI[NFI Core Kit])","v":0},{"$f":"IF(NFI_Expiration=1,IF($A83<VLOOKUP(J$5,NFI,5,0),1,0)*Table_NFI[[#This Row],[Sanitary Kit]],Table_NFI[Sanitary Kit])","v":0},{"$f":"IF(NFI_Expiration=1,IF($A83<VLOOKUP(K$5,NFI,5,0),1,0)*Table_NFI[[#This Row],[Mosquito net]],Table_NFI[Mosquito net])","v":0},{"$f":"IF(NFI_Expiration=1,IF($A83<VLOOKUP(L$5,NFI,5,0),1,0)*Table_NFI[[#This Row],[Tarpaulin]],Table_NFI[[#This Row],[Tarpaulin]])","v":0},{"$f":"IF(NFI_Expiration=1,IF($A83<VLOOKUP(M$5,NFI,5,0),1,0)*Table_NFI[[#This Row],[Blanket]],Table_NFI[[#This Row],[Blanket]])","v":0},{"$f":"IF(NFI_Expiration=1,IF($A83<VLOOKUP(N$5,NFI,5,0),1,0)*Table_NFI[[#This Row],[Kitchen Set]],Table_NFI[Kitchen Set])","v":0},{"$f":"IF(NFI_Expiration=1,IF($A83<VLOOKUP(O$5,NFI,5,0),1,0)*Table_NFI[[#This Row],[Complementary Kit]],Table_NFI[Complementary Kit])","v":0},{"$f":"IF(NFI_Expiration=1,IF($A83<VLOOKUP(P$5,NFI,5,0),1,0)*Table_NFI[[#This Row],[Plastic Bucket]],Table_NFI[Plastic Bucket])","v":0},{"$f":"IF(NFI_Expiration=1,IF($A83<VLOOKUP(Q$5,NFI,5,0),1,0)*Table_NFI[[#This Row],[Plastic Mat]],Table_NFI[Plastic Mat])","v":0},{"$f":"IFERROR(VLOOKUP(Table_NFI[[#This Row],[Camp Name]],CL,2,0),\"\")","v":"MMR001CMP073"},{"$f":"IFERROR(VLOOKUP(Table_NFI[[#This Row],[Camp Name]],CL,3,0),\"\")","v":"Open"},{"$f":"IFERROR(Table_NFI[[#This Row],[Kitchen Set]]/VLOOKUP(Table_NFI[[#This Row],[Camp Name]],CL,4,0),\"\")","v":0}]
[21.433333333333334,"2012-03-29","UNHCR","UNHCR","Kachin","Momauk","Pa Kahtawng ",null,null,0,0,50,0,0,0,null,null,{"$f":"IF(NFI_Expiration=1,IF($A84<VLOOKUP(H$5,NFI,5,0),1,0)*Table_NFI[[#This Row],[Hygiene Kit]],Table_NFI[Hygiene Kit])","v":0},{"$f":"IF(NFI_Expiration=1,IF($A84<VLOOKUP(I$5,NFI,5,0),1,0)*Table_NFI[[#This Row],[NFI Core Kit]],Table_NFI[NFI Core Kit])","v":0},{"$f":"IF(NFI_Expiration=1,IF($A84<VLOOKUP(J$5,NFI,5,0),1,0)*Table_NFI[[#This Row],[Sanitary Kit]],Table_NFI[Sanitary Kit])","v":0},{"$f":"IF(NFI_Expiration=1,IF($A84<VLOOKUP(K$5,NFI,5,0),1,0)*Table_NFI[[#This Row],[Mosquito net]],Table_NFI[Mosquito net])","v":0},{"$f":"IF(NFI_Expiration=1,IF($A84<VLOOKUP(L$5,NFI,5,0),1,0)*Table_NFI[[#This Row],[Tarpaulin]],Table_NFI[[#This Row],[Tarpaulin]])","v":0},{"$f":"IF(NFI_Expiration=1,IF($A84<VLOOKUP(M$5,NFI,5,0),1,0)*Table_NFI[[#This Row],[Blanket]],Table_NFI[[#This Row],[Blanket]])","v":0},{"$f":"IF(NFI_Expiration=1,IF($A84<VLOOKUP(N$5,NFI,5,0),1,0)*Table_NFI[[#This Row],[Kitchen Set]],Table_NFI[Kitchen Set])","v":0},{"$f":"IF(NFI_Expiration=1,IF($A84<VLOOKUP(O$5,NFI,5,0),1,0)*Table_NFI[[#This Row],[Complementary Kit]],Table_NFI[Complementary Kit])","v":0},{"$f":"IF(NFI_Expiration=1,IF($A84<VLOOKUP(P$5,NFI,5,0),1,0)*Table_NFI[[#This Row],[Plastic Bucket]],Table_NFI[Plastic Bucket])","v":0},{"$f":"IF(NFI_Expiration=1,IF($A84<VLOOKUP(Q$5,NFI,5,0),1,0)*Table_NFI[[#This Row],[Plastic Mat]],Table_NFI[Plastic Mat])","v":0},{"$f":"IFERROR(VLOOKUP(Table_NFI[[#This Row],[Camp Name]],CL,2,0),\"\")","v":"MMR001CMP126"},{"$f":"IFERROR(VLOOKUP(Table_NFI[[#This Row],[Camp Name]],CL,3,0),\"\")","v":"Open"},{"$f":"IFERROR(Table_NFI[[#This Row],[Kitchen Set]]/VLOOKUP(Table_NFI[[#This Row],[Camp Name]],CL,4,0),\"\")","v":0}]
[21.433333333333334,"2012-03-29","UNHCR","UNHCR","Kachin","Momauk","Bum Tsit Pa ",null,null,0,66,66,0,0,0,null,null,{"$f":"IF(NFI_Expiration=1,IF($A85<VLOOKUP(H$5,NFI,5,0),1,0)*Table_NFI[[#This Row],[Hygiene Kit]],Table_NFI[Hygiene Kit])","v":0},{"$f":"IF(NFI_Expiration=1,IF($A85<VLOOKUP(I$5,NFI,5,0),1,0)*Table_NFI[[#This Row],[NFI Core Kit]],Table_NFI[NFI Core Kit])","v":0},{"$f":"IF(NFI_Expiration=1,IF($A85<VLOOKUP(J$5,NFI,5,0),1,0)*Table_NFI[[#This Row],[Sanitary Kit]],Table_NFI[Sanitary Kit])","v":0},{"$f":"IF(NFI_Expiration=1,IF($A85<VLOOKUP(K$5,NFI,5,0),1,0)*Table_NFI[[#This Row],[Mosquito net]],Table_NFI[Mosquito net])","v":0},{"$f":"IF(NFI_Expiration=1,IF($A85<VLOOKUP(L$5,NFI,5,0),1,0)*Table_NFI[[#This Row],[Tarpaulin]],Table_NFI[[#This Row],[Tarpaulin]])","v":0},{"$f":"IF(NFI_Expiration=1,IF($A85<VLOOKUP(M$5,NFI,5,0),1,0)*Table_NFI[[#This Row],[Blanket]],Table_NFI[[#This Row],[Blanket]])","v":0},{"$f":"IF(NFI_Expiration=1,IF($A85<VLOOKUP(N$5,NFI,5,0),1,0)*Table_NFI[[#This Row],[Kitchen Set]],Table_NFI[Kitchen Set])","v":0},{"$f":"IF(NFI_Expiration=1,IF($A85<VLOOKUP(O$5,NFI,5,0),1,0)*Table_NFI[[#This Row],[Complementary Kit]],Table_NFI[Complementary Kit])","v":0},{"$f":"IF(NFI_Expiration=1,IF($A85<VLOOKUP(P$5,NFI,5,0),1,0)*Table_NFI[[#This Row],[Plastic Bucket]],Table_NFI[Plastic Bucket])","v":0},{"$f":"IF(NFI_Expiration=1,IF($A85<VLOOKUP(Q$5,NFI,5,0),1,0)*Table_NFI[[#This Row],[Plastic Mat]],Table_NFI[Plastic Mat])","v":0},{"$f":"IFERROR(VLOOKUP(Table_NFI[[#This Row],[Camp Name]],CL,2,0),\"\")","v":"MMR001CMP129"},{"$f":"IFERROR(VLOOKUP(Table_NFI[[#This Row],[Camp Name]],CL,3,0),\"\")","v":"Open"},{"$f":"IFERROR(Table_NFI[[#This Row],[Kitchen Set]]/VLOOKUP(Table_NFI[[#This Row],[Camp Name]],CL,4,0),\"\")","v":0}]
[21.266666666666666,"2012-04-03","UNHCR","UNHCR","Kachin","Momauk","Lana Zup Ja ",null,null,0,510,0,510,255,255,255,255,{"$f":"IF(NFI_Expiration=1,IF($A86<VLOOKUP(H$5,NFI,5,0),1,0)*Table_NFI[[#This Row],[Hygiene Kit]],Table_NFI[Hygiene Kit])","v":0},{"$f":"IF(NFI_Expiration=1,IF($A86<VLOOKUP(I$5,NFI,5,0),1,0)*Table_NFI[[#This Row],[NFI Core Kit]],Table_NFI[NFI Core Kit])","v":0},{"$f":"IF(NFI_Expiration=1,IF($A86<VLOOKUP(J$5,NFI,5,0),1,0)*Table_NFI[[#This Row],[Sanitary Kit]],Table_NFI[Sanitary Kit])","v":0},{"$f":"IF(NFI_Expiration=1,IF($A86<VLOOKUP(K$5,NFI,5,0),1,0)*Table_NFI[[#This Row],[Mosquito net]],Table_NFI[Mosquito net])","v":0},{"$f":"IF(NFI_Expiration=1,IF($A86<VLOOKUP(L$5,NFI,5,0),1,0)*Table_NFI[[#This Row],[Tarpaulin]],Table_NFI[[#This Row],[Tarpaulin]])","v":0},{"$f":"IF(NFI_Expiration=1,IF($A86<VLOOKUP(M$5,NFI,5,0),1,0)*Table_NFI[[#This Row],[Blanket]],Table_NFI[[#This Row],[Blanket]])","v":0},{"$f":"IF(NFI_Expiration=1,IF($A86<VLOOKUP(N$5,NFI,5,0),1,0)*Table_NFI[[#This Row],[Kitchen Set]],Table_NFI[Kitchen Set])","v":0},{"$f":"IF(NFI_Expiration=1,IF($A86<VLOOKUP(O$5,NFI,5,0),1,0)*Table_NFI[[#This Row],[Complementary Kit]],Table_NFI[Complementary Kit])","v":0},{"$f":"IF(NFI_Expiration=1,IF($A86<VLOOKUP(P$5,NFI,5,0),1,0)*Table_NFI[[#This Row],[Plastic Bucket]],Table_NFI[Plastic Bucket])","v":0},{"$f":"IF(NFI_Expiration=1,IF($A86<VLOOKUP(Q$5,NFI,5,0),1,0)*Table_NFI[[#This Row],[Plastic Mat]],Table_NFI[Plastic Mat])","v":0},{"$f":"IFERROR(VLOOKUP(Table_NFI[[#This Row],[Camp Name]],CL,2,0),\"\")","v":"MMR001CMP128"},{"$f":"IFERROR(VLOOKUP(Table_NFI[[#This Row],[Camp Name]],CL,3,0),\"\")","v":"Open"},{"$f":"IFERROR(Table_NFI[[#This Row],[Kitchen Set]]/VLOOKUP(Table_NFI[[#This Row],[Camp Name]],CL,4,0),\"\")","v":0.4627949183303085}]
[21.233333333333334,"2012-04-04","UNHCR","UNHCR","Kachin","Momauk","Bum Tsit Pa ",null,null,0,216,108,216,108,108,108,108,{"$f":"IF(NFI_Expiration=1,IF($A87<VLOOKUP(H$5,NFI,5,0),1,0)*Table_NFI[[#This Row],[Hygiene Kit]],Table_NFI[Hygiene Kit])","v":0},{"$f":"IF(NFI_Expiration=1,IF($A87<VLOOKUP(I$5,NFI,5,0),1,0)*Table_NFI[[#This Row],[NFI Core Kit]],Table_NFI[NFI Core Kit])","v":0},{"$f":"IF(NFI_Expiration=1,IF($A87<VLOOKUP(J$5,NFI,5,0),1,0)*Table_NFI[[#This Row],[Sanitary Kit]],Table_NFI[Sanitary Kit])","v":0},{"$f":"IF(NFI_Expiration=1,IF($A87<VLOOKUP(K$5,NFI,5,0),1,0)*Table_NFI[[#This Row],[Mosquito net]],Table_NFI[Mosquito net])","v":0},{"$f":"IF(NFI_Expiration=1,IF($A87<VLOOKUP(L$5,NFI,5,0),1,0)*Table_NFI[[#This Row],[Tarpaulin]],Table_NFI[[#This Row],[Tarpaulin]])","v":0},{"$f":"IF(NFI_Expiration=1,IF($A87<VLOOKUP(M$5,NFI,5,0),1,0)*Table_NFI[[#This Row],[Blanket]],Table_NFI[[#This Row],[Blanket]])","v":0},{"$f":"IF(NFI_Expiration=1,IF($A87<VLOOKUP(N$5,NFI,5,0),1,0)*Table_NFI[[#This Row],[Kitchen Set]],Table_NFI[Kitchen Set])","v":0},{"$f":"IF(NFI_Expiration=1,IF($A87<VLOOKUP(O$5,NFI,5,0),1,0)*Table_NFI[[#This Row],[Complementary Kit]],Table_NFI[Complementary Kit])","v":0},{"$f":"IF(NFI_Expiration=1,IF($A87<VLOOKUP(P$5,NFI,5,0),1,0)*Table_NFI[[#This Row],[Plastic Bucket]],Table_NFI[Plastic Bucket])","v":0},{"$f":"IF(NFI_Expiration=1,IF($A87<VLOOKUP(Q$5,NFI,5,0),1,0)*Table_NFI[[#This Row],[Plastic Mat]],Table_NFI[Plastic Mat])","v":0},{"$f":"IFERROR(VLOOKUP(Table_NFI[[#This Row],[Camp Name]],CL,2,0),\"\")","v":"MMR001CMP129"},{"$f":"IFERROR(VLOOKUP(Table_NFI[[#This Row],[Camp Name]],CL,3,0),\"\")","v":"Open"},{"$f":"IFERROR(Table_NFI[[#This Row],[Kitchen Set]]/VLOOKUP(Table_NFI[[#This Row],[Camp Name]],CL,4,0),\"\")","v":0.18274111675126903}]
[21.2,"2012-04-05","UNHCR","UNHCR","Kachin","Momauk","Momauk Catholic Church (St. Patrick)",null,null,0,0,50,0,0,0,null,null,{"$f":"IF(NFI_Expiration=1,IF($A88<VLOOKUP(H$5,NFI,5,0),1,0)*Table_NFI[[#This Row],[Hygiene Kit]],Table_NFI[Hygiene Kit])","v":0},{"$f":"IF(NFI_Expiration=1,IF($A88<VLOOKUP(I$5,NFI,5,0),1,0)*Table_NFI[[#This Row],[NFI Core Kit]],Table_NFI[NFI Core Kit])","v":0},{"$f":"IF(NFI_Expiration=1,IF($A88<VLOOKUP(J$5,NFI,5,0),1,0)*Table_NFI[[#This Row],[Sanitary Kit]],Table_NFI[Sanitary Kit])","v":0},{"$f":"IF(NFI_Expiration=1,IF($A88<VLOOKUP(K$5,NFI,5,0),1,0)*Table_NFI[[#This Row],[Mosquito net]],Table_NFI[Mosquito net])","v":0},{"$f":"IF(NFI_Expiration=1,IF($A88<VLOOKUP(L$5,NFI,5,0),1,0)*Table_NFI[[#This Row],[Tarpaulin]],Table_NFI[[#This Row],[Tarpaulin]])","v":0},{"$f":"IF(NFI_Expiration=1,IF($A88<VLOOKUP(M$5,NFI,5,0),1,0)*Table_NFI[[#This Row],[Blanket]],Table_NFI[[#This Row],[Blanket]])","v":0},{"$f":"IF(NFI_Expiration=1,IF($A88<VLOOKUP(N$5,NFI,5,0),1,0)*Table_NFI[[#This Row],[Kitchen Set]],Table_NFI[Kitchen Set])","v":0},{"$f":"IF(NFI_Expiration=1,IF($A88<VLOOKUP(O$5,NFI,5,0),1,0)*Table_NFI[[#This Row],[Complementary Kit]],Table_NFI[Complementary Kit])","v":0},{"$f":"IF(NFI_Expiration=1,IF($A88<VLOOKUP(P$5,NFI,5,0),1,0)*Table_NFI[[#This Row],[Plastic Bucket]],Table_NFI[Plastic Bucket])","v":0},{"$f":"IF(NFI_Expiration=1,IF($A88<VLOOKUP(Q$5,NFI,5,0),1,0)*Table_NFI[[#This Row],[Plastic Mat]],Table_NFI[Plastic Mat])","v":0},{"$f":"IFERROR(VLOOKUP(Table_NFI[[#This Row],[Camp Name]],CL,2,0),\"\")","v":"MMR001CMP057"},{"$f":"IFERROR(VLOOKUP(Table_NFI[[#This Row],[Camp Name]],CL,3,0),\"\")","v":"Open"},{"$f":"IFERROR(Table_NFI[[#This Row],[Kitchen Set]]/VLOOKUP(Table_NFI[[#This Row],[Camp Name]],CL,4,0),\"\")","v":0}]
[21.033333333333335,"2012-04-10","UNHCR","KBSS","Kachin","Shwegu","Shwe Gu Baptist Church",null,null,0,46,27,46,27,27,27,27,{"$f":"IF(NFI_Expiration=1,IF($A89<VLOOKUP(H$5,NFI,5,0),1,0)*Table_NFI[[#This Row],[Hygiene Kit]],Table_NFI[Hygiene Kit])","v":0},{"$f":"IF(NFI_Expiration=1,IF($A89<VLOOKUP(I$5,NFI,5,0),1,0)*Table_NFI[[#This Row],[NFI Core Kit]],Table_NFI[NFI Core Kit])","v":0},{"$f":"IF(NFI_Expiration=1,IF($A89<VLOOKUP(J$5,NFI,5,0),1,0)*Table_NFI[[#This Row],[Sanitary Kit]],Table_NFI[Sanitary Kit])","v":0},{"$f":"IF(NFI_Expiration=1,IF($A89<VLOOKUP(K$5,NFI,5,0),1,0)*Table_NFI[[#This Row],[Mosquito net]],Table_NFI[Mosquito net])","v":0},{"$f":"IF(NFI_Expiration=1,IF($A89<VLOOKUP(L$5,NFI,5,0),1,0)*Table_NFI[[#This Row],[Tarpaulin]],Table_NFI[[#This Row],[Tarpaulin]])","v":0},{"$f":"IF(NFI_Expiration=1,IF($A89<VLOOKUP(M$5,NFI,5,0),1,0)*Table_NFI[[#This Row],[Blanket]],Table_NFI[[#This Row],[Blanket]])","v":0},{"$f":"IF(NFI_Expiration=1,IF($A89<VLOOKUP(N$5,NFI,5,0),1,0)*Table_NFI[[#This Row],[Kitchen Set]],Table_NFI[Kitchen Set])","v":0},{"$f":"IF(NFI_Expiration=1,IF($A89<VLOOKUP(O$5,NFI,5,0),1,0)*Table_NFI[[#This Row],[Complementary Kit]],Table_NFI[Complementary Kit])","v":0},{"$f":"IF(NFI_Expiration=1,IF($A89<VLOOKUP(P$5,NFI,5,0),1,0)*Table_NFI[[#This Row],[Plastic Bucket]],Table_NFI[Plastic Bucket])","v":0},{"$f":"IF(NFI_Expiration=1,IF($A89<VLOOKUP(Q$5,NFI,5,0),1,0)*Table_NFI[[#This Row],[Plastic Mat]],Table_NFI[Plastic Mat])","v":0},{"$f":"IFERROR(VLOOKUP(Table_NFI[[#This Row],[Camp Name]],CL,2,0),\"\")","v":"MMR001CMP067"},{"$f":"IFERROR(VLOOKUP(Table_NFI[[#This Row],[Camp Name]],CL,3,0),\"\")","v":"Open"},{"$f":"IFERROR(Table_NFI[[#This Row],[Kitchen Set]]/VLOOKUP(Table_NFI[[#This Row],[Camp Name]],CL,4,0),\"\")","v":0.34177215189873417}]
[21.033333333333335,"2012-04-10","UNHCR","KBSS","Kachin","Shwegu","Shwe Gu Catholic Church",null,null,0,43,25,43,25,25,25,25,{"$f":"IF(NFI_Expiration=1,IF($A90<VLOOKUP(H$5,NFI,5,0),1,0)*Table_NFI[[#This Row],[Hygiene Kit]],Table_NFI[Hygiene Kit])","v":0},{"$f":"IF(NFI_Expiration=1,IF($A90<VLOOKUP(I$5,NFI,5,0),1,0)*Table_NFI[[#This Row],[NFI Core Kit]],Table_NFI[NFI Core Kit])","v":0},{"$f":"IF(NFI_Expiration=1,IF($A90<VLOOKUP(J$5,NFI,5,0),1,0)*Table_NFI[[#This Row],[Sanitary Kit]],Table_NFI[Sanitary Kit])","v":0},{"$f":"IF(NFI_Expiration=1,IF($A90<VLOOKUP(K$5,NFI,5,0),1,0)*Table_NFI[[#This Row],[Mosquito net]],Table_NFI[Mosquito net])","v":0},{"$f":"IF(NFI_Expiration=1,IF($A90<VLOOKUP(L$5,NFI,5,0),1,0)*Table_NFI[[#This Row],[Tarpaulin]],Table_NFI[[#This Row],[Tarpaulin]])","v":0},{"$f":"IF(NFI_Expiration=1,IF($A90<VLOOKUP(M$5,NFI,5,0),1,0)*Table_NFI[[#This Row],[Blanket]],Table_NFI[[#This Row],[Blanket]])","v":0},{"$f":"IF(NFI_Expiration=1,IF($A90<VLOOKUP(N$5,NFI,5,0),1,0)*Table_NFI[[#This Row],[Kitchen Set]],Table_NFI[Kitchen Set])","v":0},{"$f":"IF(NFI_Expiration=1,IF($A90<VLOOKUP(O$5,NFI,5,0),1,0)*Table_NFI[[#This Row],[Complementary Kit]],Table_NFI[Complementary Kit])","v":0},{"$f":"IF(NFI_Expiration=1,IF($A90<VLOOKUP(P$5,NFI,5,0),1,0)*Table_NFI[[#This Row],[Plastic Bucket]],Table_NFI[Plastic Bucket])","v":0},{"$f":"IF(NFI_Expiration=1,IF($A90<VLOOKUP(Q$5,NFI,5,0),1,0)*Table_NFI[[#This Row],[Plastic Mat]],Table_NFI[Plastic Mat])","v":0},{"$f":"IFERROR(VLOOKUP(Table_NFI[[#This Row],[Camp Name]],CL,2,0),\"\")","v":"MMR001CMP068"},{"$f":"IFERROR(VLOOKUP(Table_NFI[[#This Row],[Camp Name]],CL,3,0),\"\")","v":"Open"},{"$f":"IFERROR(Table_NFI[[#This Row],[Kitchen Set]]/VLOOKUP(Table_NFI[[#This Row],[Camp Name]],CL,4,0),\"\")","v":0.53191489361702127}]
[20.966666666666665,"2012-04-12","UNHCR","UNHCR","Kachin","Waingmaw","Post 6 Camp",null,null,0,123,95,123,95,95,95,95,{"$f":"IF(NFI_Expiration=1,IF($A91<VLOOKUP(H$5,NFI,5,0),1,0)*Table_NFI[[#This Row],[Hygiene Kit]],Table_NFI[Hygiene Kit])","v":0},{"$f":"IF(NFI_Expiration=1,IF($A91<VLOOKUP(I$5,NFI,5,0),1,0)*Table_NFI[[#This Row],[NFI Core Kit]],Table_NFI[NFI Core Kit])","v":0},{"$f":"IF(NFI_Expiration=1,IF($A91<VLOOKUP(J$5,NFI,5,0),1,0)*Table_NFI[[#This Row],[Sanitary Kit]],Table_NFI[Sanitary Kit])","v":0},{"$f":"IF(NFI_Expiration=1,IF($A91<VLOOKUP(K$5,NFI,5,0),1,0)*Table_NFI[[#This Row],[Mosquito net]],Table_NFI[Mosquito net])","v":0},{"$f":"IF(NFI_Expiration=1,IF($A91<VLOOKUP(L$5,NFI,5,0),1,0)*Table_NFI[[#This Row],[Tarpaulin]],Table_NFI[[#This Row],[Tarpaulin]])","v":0},{"$f":"IF(NFI_Expiration=1,IF($A91<VLOOKUP(M$5,NFI,5,0),1,0)*Table_NFI[[#This Row],[Blanket]],Table_NFI[[#This Row],[Blanket]])","v":0},{"$f":"IF(NFI_Expiration=1,IF($A91<VLOOKUP(N$5,NFI,5,0),1,0)*Table_NFI[[#This Row],[Kitchen Set]],Table_NFI[Kitchen Set])","v":0},{"$f":"IF(NFI_Expiration=1,IF($A91<VLOOKUP(O$5,NFI,5,0),1,0)*Table_NFI[[#This Row],[Complementary Kit]],Table_NFI[Complementary Kit])","v":0},{"$f":"IF(NFI_Expiration=1,IF($A91<VLOOKUP(P$5,NFI,5,0),1,0)*Table_NFI[[#This Row],[Plastic Bucket]],Table_NFI[Plastic Bucket])","v":0},{"$f":"IF(NFI_Expiration=1,IF($A91<VLOOKUP(Q$5,NFI,5,0),1,0)*Table_NFI[[#This Row],[Plastic Mat]],Table_NFI[Plastic Mat])","v":0},{"$f":"IFERROR(VLOOKUP(Table_NFI[[#This Row],[Camp Name]],CL,2,0),\"\")","v":"MMR001CMP160"},{"$f":"IFERROR(VLOOKUP(Table_NFI[[#This Row],[Camp Name]],CL,3,0),\"\")","v":"Open"},{"$f":"IFERROR(Table_NFI[[#This Row],[Kitchen Set]]/VLOOKUP(Table_NFI[[#This Row],[Camp Name]],CL,4,0),\"\")","v":0.65972222222222221}]
[20.633333333333333,"2012-04-22","UNHCR","UNHCR","Kachin","Momauk","Je Gau  (+ WaRaPa )",null,null,0,846,423,846,423,423,423,423,{"$f":"IF(NFI_Expiration=1,IF($A92<VLOOKUP(H$5,NFI,5,0),1,0)*Table_NFI[[#This Row],[Hygiene Kit]],Table_NFI[Hygiene Kit])","v":0},{"$f":"IF(NFI_Expiration=1,IF($A92<VLOOKUP(I$5,NFI,5,0),1,0)*Table_NFI[[#This Row],[NFI Core Kit]],Table_NFI[NFI Core Kit])","v":0},{"$f":"IF(NFI_Expiration=1,IF($A92<VLOOKUP(J$5,NFI,5,0),1,0)*Table_NFI[[#This Row],[Sanitary Kit]],Table_NFI[Sanitary Kit])","v":0},{"$f":"IF(NFI_Expiration=1,IF($A92<VLOOKUP(K$5,NFI,5,0),1,0)*Table_NFI[[#This Row],[Mosquito net]],Table_NFI[Mosquito net])","v":0},{"$f":"IF(NFI_Expiration=1,IF($A92<VLOOKUP(L$5,NFI,5,0),1,0)*Table_NFI[[#This Row],[Tarpaulin]],Table_NFI[[#This Row],[Tarpaulin]])","v":0},{"$f":"IF(NFI_Expiration=1,IF($A92<VLOOKUP(M$5,NFI,5,0),1,0)*Table_NFI[[#This Row],[Blanket]],Table_NFI[[#This Row],[Blanket]])","v":0},{"$f":"IF(NFI_Expiration=1,IF($A92<VLOOKUP(N$5,NFI,5,0),1,0)*Table_NFI[[#This Row],[Kitchen Set]],Table_NFI[Kitchen Set])","v":0},{"$f":"IF(NFI_Expiration=1,IF($A92<VLOOKUP(O$5,NFI,5,0),1,0)*Table_NFI[[#This Row],[Complementary Kit]],Table_NFI[Complementary Kit])","v":0},{"$f":"IF(NFI_Expiration=1,IF($A92<VLOOKUP(P$5,NFI,5,0),1,0)*Table_NFI[[#This Row],[Plastic Bucket]],Table_NFI[Plastic Bucket])","v":0},{"$f":"IF(NFI_Expiration=1,IF($A92<VLOOKUP(Q$5,NFI,5,0),1,0)*Table_NFI[[#This Row],[Plastic Mat]],Table_NFI[Plastic Mat])","v":0},{"$f":"IFERROR(VLOOKUP(Table_NFI[[#This Row],[Camp Name]],CL,2,0),\"\")","v":""},{"$f":"IFERROR(VLOOKUP(Table_NFI[[#This Row],[Camp Name]],CL,3,0),\"\")","v":""},{"$f":"IFERROR(Table_NFI[[#This Row],[Kitchen Set]]/VLOOKUP(Table_NFI[[#This Row],[Camp Name]],CL,4,0),\"\")","v":""}]
[20.533333333333335,"2012-04-25","UNHCR","UNHCR","Kachin","Myitkyina","Wun Tho Buddhist Monastery",null,null,0,39,19,78,19,0,null,null,{"$f":"IF(NFI_Expiration=1,IF($A93<VLOOKUP(H$5,NFI,5,0),1,0)*Table_NFI[[#This Row],[Hygiene Kit]],Table_NFI[Hygiene Kit])","v":0},{"$f":"IF(NFI_Expiration=1,IF($A93<VLOOKUP(I$5,NFI,5,0),1,0)*Table_NFI[[#This Row],[NFI Core Kit]],Table_NFI[NFI Core Kit])","v":0},{"$f":"IF(NFI_Expiration=1,IF($A93<VLOOKUP(J$5,NFI,5,0),1,0)*Table_NFI[[#This Row],[Sanitary Kit]],Table_NFI[Sanitary Kit])","v":0},{"$f":"IF(NFI_Expiration=1,IF($A93<VLOOKUP(K$5,NFI,5,0),1,0)*Table_NFI[[#This Row],[Mosquito net]],Table_NFI[Mosquito net])","v":0},{"$f":"IF(NFI_Expiration=1,IF($A93<VLOOKUP(L$5,NFI,5,0),1,0)*Table_NFI[[#This Row],[Tarpaulin]],Table_NFI[[#This Row],[Tarpaulin]])","v":0},{"$f":"IF(NFI_Expiration=1,IF($A93<VLOOKUP(M$5,NFI,5,0),1,0)*Table_NFI[[#This Row],[Blanket]],Table_NFI[[#This Row],[Blanket]])","v":0},{"$f":"IF(NFI_Expiration=1,IF($A93<VLOOKUP(N$5,NFI,5,0),1,0)*Table_NFI[[#This Row],[Kitchen Set]],Table_NFI[Kitchen Set])","v":0},{"$f":"IF(NFI_Expiration=1,IF($A93<VLOOKUP(O$5,NFI,5,0),1,0)*Table_NFI[[#This Row],[Complementary Kit]],Table_NFI[Complementary Kit])","v":0},{"$f":"IF(NFI_Expiration=1,IF($A93<VLOOKUP(P$5,NFI,5,0),1,0)*Table_NFI[[#This Row],[Plastic Bucket]],Table_NFI[Plastic Bucket])","v":0},{"$f":"IF(NFI_Expiration=1,IF($A93<VLOOKUP(Q$5,NFI,5,0),1,0)*Table_NFI[[#This Row],[Plastic Mat]],Table_NFI[Plastic Mat])","v":0},{"$f":"IFERROR(VLOOKUP(Table_NFI[[#This Row],[Camp Name]],CL,2,0),\"\")","v":"MMR001CMP022"},{"$f":"IFERROR(VLOOKUP(Table_NFI[[#This Row],[Camp Name]],CL,3,0),\"\")","v":"Open"},{"$f":"IFERROR(Table_NFI[[#This Row],[Kitchen Set]]/VLOOKUP(Table_NFI[[#This Row],[Camp Name]],CL,4,0),\"\")","v":3.1666666666666665}]
[20.533333333333335,"2012-04-25","UNHCR","UNHCR","Kachin","Momauk","Dum Bung ",null,null,0,198,99,198,99,99,99,99,{"$f":"IF(NFI_Expiration=1,IF($A94<VLOOKUP(H$5,NFI,5,0),1,0)*Table_NFI[[#This Row],[Hygiene Kit]],Table_NFI[Hygiene Kit])","v":0},{"$f":"IF(NFI_Expiration=1,IF($A94<VLOOKUP(I$5,NFI,5,0),1,0)*Table_NFI[[#This Row],[NFI Core Kit]],Table_NFI[NFI Core Kit])","v":0},{"$f":"IF(NFI_Expiration=1,IF($A94<VLOOKUP(J$5,NFI,5,0),1,0)*Table_NFI[[#This Row],[Sanitary Kit]],Table_NFI[Sanitary Kit])","v":0},{"$f":"IF(NFI_Expiration=1,IF($A94<VLOOKUP(K$5,NFI,5,0),1,0)*Table_NFI[[#This Row],[Mosquito net]],Table_NFI[Mosquito net])","v":0},{"$f":"IF(NFI_Expiration=1,IF($A94<VLOOKUP(L$5,NFI,5,0),1,0)*Table_NFI[[#This Row],[Tarpaulin]],Table_NFI[[#This Row],[Tarpaulin]])","v":0},{"$f":"IF(NFI_Expiration=1,IF($A94<VLOOKUP(M$5,NFI,5,0),1,0)*Table_NFI[[#This Row],[Blanket]],Table_NFI[[#This Row],[Blanket]])","v":0},{"$f":"IF(NFI_Expiration=1,IF($A94<VLOOKUP(N$5,NFI,5,0),1,0)*Table_NFI[[#This Row],[Kitchen Set]],Table_NFI[Kitchen Set])","v":0},{"$f":"IF(NFI_Expiration=1,IF($A94<VLOOKUP(O$5,NFI,5,0),1,0)*Table_NFI[[#This Row],[Complementary Kit]],Table_NFI[Complementary Kit])","v":0},{"$f":"IF(NFI_Expiration=1,IF($A94<VLOOKUP(P$5,NFI,5,0),1,0)*Table_NFI[[#This Row],[Plastic Bucket]],Table_NFI[Plastic Bucket])","v":0},{"$f":"IF(NFI_Expiration=1,IF($A94<VLOOKUP(Q$5,NFI,5,0),1,0)*Table_NFI[[#This Row],[Plastic Mat]],Table_NFI[Plastic Mat])","v":0},{"$f":"IFERROR(VLOOKUP(Table_NFI[[#This Row],[Camp Name]],CL,2,0),\"\")","v":"MMR001CMP123"},{"$f":"IFERROR(VLOOKUP(Table_NFI[[#This Row],[Camp Name]],CL,3,0),\"\")","v":"Open"},{"$f":"IFERROR(Table_NFI[[#This Row],[Kitchen Set]]/VLOOKUP(Table_NFI[[#This Row],[Camp Name]],CL,4,0),\"\")","v":0.83193277310924374}]
[20.333333333333332,"2012-05-01","UNHCR","UNHCR","Kachin","Waingmaw","Qtr. 4 Monestry (Thargaya Thayett Taw)",null,null,0,52,0,52,0,24,24,24,{"$f":"IF(NFI_Expiration=1,IF($A95<VLOOKUP(H$5,NFI,5,0),1,0)*Table_NFI[[#This Row],[Hygiene Kit]],Table_NFI[Hygiene Kit])","v":0},{"$f":"IF(NFI_Expiration=1,IF($A95<VLOOKUP(I$5,NFI,5,0),1,0)*Table_NFI[[#This Row],[NFI Core Kit]],Table_NFI[NFI Core Kit])","v":0},{"$f":"IF(NFI_Expiration=1,IF($A95<VLOOKUP(J$5,NFI,5,0),1,0)*Table_NFI[[#This Row],[Sanitary Kit]],Table_NFI[Sanitary Kit])","v":0},{"$f":"IF(NFI_Expiration=1,IF($A95<VLOOKUP(K$5,NFI,5,0),1,0)*Table_NFI[[#This Row],[Mosquito net]],Table_NFI[Mosquito net])","v":0},{"$f":"IF(NFI_Expiration=1,IF($A95<VLOOKUP(L$5,NFI,5,0),1,0)*Table_NFI[[#This Row],[Tarpaulin]],Table_NFI[[#This Row],[Tarpaulin]])","v":0},{"$f":"IF(NFI_Expiration=1,IF($A95<VLOOKUP(M$5,NFI,5,0),1,0)*Table_NFI[[#This Row],[Blanket]],Table_NFI[[#This Row],[Blanket]])","v":0},{"$f":"IF(NFI_Expiration=1,IF($A95<VLOOKUP(N$5,NFI,5,0),1,0)*Table_NFI[[#This Row],[Kitchen Set]],Table_NFI[Kitchen Set])","v":0},{"$f":"IF(NFI_Expiration=1,IF($A95<VLOOKUP(O$5,NFI,5,0),1,0)*Table_NFI[[#This Row],[Complementary Kit]],Table_NFI[Complementary Kit])","v":0},{"$f":"IF(NFI_Expiration=1,IF($A95<VLOOKUP(P$5,NFI,5,0),1,0)*Table_NFI[[#This Row],[Plastic Bucket]],Table_NFI[Plastic Bucket])","v":0},{"$f":"IF(NFI_Expiration=1,IF($A95<VLOOKUP(Q$5,NFI,5,0),1,0)*Table_NFI[[#This Row],[Plastic Mat]],Table_NFI[Plastic Mat])","v":0},{"$f":"IFERROR(VLOOKUP(Table_NFI[[#This Row],[Camp Name]],CL,2,0),\"\")","v":"MMR001CMP026"},{"$f":"IFERROR(VLOOKUP(Table_NFI[[#This Row],[Camp Name]],CL,3,0),\"\")","v":"Open"},{"$f":"IFERROR(Table_NFI[[#This Row],[Kitchen Set]]/VLOOKUP(Table_NFI[[#This Row],[Camp Name]],CL,4,0),\"\")","v":0}]
[20.266666666666666,"2012-05-03","UNHCR","UNHCR","Kachin","Myitkyina","Myay Myint Baptist Church",null,null,0,0,0,0,0,5,5,5,{"$f":"IF(NFI_Expiration=1,IF($A96<VLOOKUP(H$5,NFI,5,0),1,0)*Table_NFI[[#This Row],[Hygiene Kit]],Table_NFI[Hygiene Kit])","v":0},{"$f":"IF(NFI_Expiration=1,IF($A96<VLOOKUP(I$5,NFI,5,0),1,0)*Table_NFI[[#This Row],[NFI Core Kit]],Table_NFI[NFI Core Kit])","v":0},{"$f":"IF(NFI_Expiration=1,IF($A96<VLOOKUP(J$5,NFI,5,0),1,0)*Table_NFI[[#This Row],[Sanitary Kit]],Table_NFI[Sanitary Kit])","v":0},{"$f":"IF(NFI_Expiration=1,IF($A96<VLOOKUP(K$5,NFI,5,0),1,0)*Table_NFI[[#This Row],[Mosquito net]],Table_NFI[Mosquito net])","v":0},{"$f":"IF(NFI_Expiration=1,IF($A96<VLOOKUP(L$5,NFI,5,0),1,0)*Table_NFI[[#This Row],[Tarpaulin]],Table_NFI[[#This Row],[Tarpaulin]])","v":0},{"$f":"IF(NFI_Expiration=1,IF($A96<VLOOKUP(M$5,NFI,5,0),1,0)*Table_NFI[[#This Row],[Blanket]],Table_NFI[[#This Row],[Blanket]])","v":0},{"$f":"IF(NFI_Expiration=1,IF($A96<VLOOKUP(N$5,NFI,5,0),1,0)*Table_NFI[[#This Row],[Kitchen Set]],Table_NFI[Kitchen Set])","v":0},{"$f":"IF(NFI_Expiration=1,IF($A96<VLOOKUP(O$5,NFI,5,0),1,0)*Table_NFI[[#This Row],[Complementary Kit]],Table_NFI[Complementary Kit])","v":0},{"$f":"IF(NFI_Expiration=1,IF($A96<VLOOKUP(P$5,NFI,5,0),1,0)*Table_NFI[[#This Row],[Plastic Bucket]],Table_NFI[Plastic Bucket])","v":0},{"$f":"IF(NFI_Expiration=1,IF($A96<VLOOKUP(Q$5,NFI,5,0),1,0)*Table_NFI[[#This Row],[Plastic Mat]],Table_NFI[Plastic Mat])","v":0},{"$f":"IFERROR(VLOOKUP(Table_NFI[[#This Row],[Camp Name]],CL,2,0),\"\")","v":"MMR001CMP017"},{"$f":"IFERROR(VLOOKUP(Table_NFI[[#This Row],[Camp Name]],CL,3,0),\"\")","v":"Open"},{"$f":"IFERROR(Table_NFI[[#This Row],[Kitchen Set]]/VLOOKUP(Table_NFI[[#This Row],[Camp Name]],CL,4,0),\"\")","v":0}]
[20.266666666666666,"2012-05-03","UNHCR","UNHCR","Kachin","Waingmaw","Qtr. 4 Monestry (Thargaya Thayett Taw)",null,null,0,34,0,34,0,18,18,18,{"$f":"IF(NFI_Expiration=1,IF($A97<VLOOKUP(H$5,NFI,5,0),1,0)*Table_NFI[[#This Row],[Hygiene Kit]],Table_NFI[Hygiene Kit])","v":0},{"$f":"IF(NFI_Expiration=1,IF($A97<VLOOKUP(I$5,NFI,5,0),1,0)*Table_NFI[[#This Row],[NFI Core Kit]],Table_NFI[NFI Core Kit])","v":0},{"$f":"IF(NFI_Expiration=1,IF($A97<VLOOKUP(J$5,NFI,5,0),1,0)*Table_NFI[[#This Row],[Sanitary Kit]],Table_NFI[Sanitary Kit])","v":0},{"$f":"IF(NFI_Expiration=1,IF($A97<VLOOKUP(K$5,NFI,5,0),1,0)*Table_NFI[[#This Row],[Mosquito net]],Table_NFI[Mosquito net])","v":0},{"$f":"IF(NFI_Expiration=1,IF($A97<VLOOKUP(L$5,NFI,5,0),1,0)*Table_NFI[[#This Row],[Tarpaulin]],Table_NFI[[#This Row],[Tarpaulin]])","v":0},{"$f":"IF(NFI_Expiration=1,IF($A97<VLOOKUP(M$5,NFI,5,0),1,0)*Table_NFI[[#This Row],[Blanket]],Table_NFI[[#This Row],[Blanket]])","v":0},{"$f":"IF(NFI_Expiration=1,IF($A97<VLOOKUP(N$5,NFI,5,0),1,0)*Table_NFI[[#This Row],[Kitchen Set]],Table_NFI[Kitchen Set])","v":0},{"$f":"IF(NFI_Expiration=1,IF($A97<VLOOKUP(O$5,NFI,5,0),1,0)*Table_NFI[[#This Row],[Complementary Kit]],Table_NFI[Complementary Kit])","v":0},{"$f":"IF(NFI_Expiration=1,IF($A97<VLOOKUP(P$5,NFI,5,0),1,0)*Table_NFI[[#This Row],[Plastic Bucket]],Table_NFI[Plastic Bucket])","v":0},{"$f":"IF(NFI_Expiration=1,IF($A97<VLOOKUP(Q$5,NFI,5,0),1,0)*Table_NFI[[#This Row],[Plastic Mat]],Table_NFI[Plastic Mat])","v":0},{"$f":"IFERROR(VLOOKUP(Table_NFI[[#This Row],[Camp Name]],CL,2,0),\"\")","v":"MMR001CMP026"},{"$f":"IFERROR(VLOOKUP(Table_NFI[[#This Row],[Camp Name]],CL,3,0),\"\")","v":"Open"},{"$f":"IFERROR(Table_NFI[[#This Row],[Kitchen Set]]/VLOOKUP(Table_NFI[[#This Row],[Camp Name]],CL,4,0),\"\")","v":0}]
[20.266666666666666,"2012-05-03","UNHCR","UNHCR","Kachin","Waingmaw","Qtr. 3 Mu-yin  Baptist Church",null,null,0,12,0,12,6,6,6,6,{"$f":"IF(NFI_Expiration=1,IF($A98<VLOOKUP(H$5,NFI,5,0),1,0)*Table_NFI[[#This Row],[Hygiene Kit]],Table_NFI[Hygiene Kit])","v":0},{"$f":"IF(NFI_Expiration=1,IF($A98<VLOOKUP(I$5,NFI,5,0),1,0)*Table_NFI[[#This Row],[NFI Core Kit]],Table_NFI[NFI Core Kit])","v":0},{"$f":"IF(NFI_Expiration=1,IF($A98<VLOOKUP(J$5,NFI,5,0),1,0)*Table_NFI[[#This Row],[Sanitary Kit]],Table_NFI[Sanitary Kit])","v":0},{"$f":"IF(NFI_Expiration=1,IF($A98<VLOOKUP(K$5,NFI,5,0),1,0)*Table_NFI[[#This Row],[Mosquito net]],Table_NFI[Mosquito net])","v":0},{"$f":"IF(NFI_Expiration=1,IF($A98<VLOOKUP(L$5,NFI,5,0),1,0)*Table_NFI[[#This Row],[Tarpaulin]],Table_NFI[[#This Row],[Tarpaulin]])","v":0},{"$f":"IF(NFI_Expiration=1,IF($A98<VLOOKUP(M$5,NFI,5,0),1,0)*Table_NFI[[#This Row],[Blanket]],Table_NFI[[#This Row],[Blanket]])","v":0},{"$f":"IF(NFI_Expiration=1,IF($A98<VLOOKUP(N$5,NFI,5,0),1,0)*Table_NFI[[#This Row],[Kitchen Set]],Table_NFI[Kitchen Set])","v":0},{"$f":"IF(NFI_Expiration=1,IF($A98<VLOOKUP(O$5,NFI,5,0),1,0)*Table_NFI[[#This Row],[Complementary Kit]],Table_NFI[Complementary Kit])","v":0},{"$f":"IF(NFI_Expiration=1,IF($A98<VLOOKUP(P$5,NFI,5,0),1,0)*Table_NFI[[#This Row],[Plastic Bucket]],Table_NFI[Plastic Bucket])","v":0},{"$f":"IF(NFI_Expiration=1,IF($A98<VLOOKUP(Q$5,NFI,5,0),1,0)*Table_NFI[[#This Row],[Plastic Mat]],Table_NFI[Plastic Mat])","v":0},{"$f":"IFERROR(VLOOKUP(Table_NFI[[#This Row],[Camp Name]],CL,2,0),\"\")","v":"MMR001CMP030"},{"$f":"IFERROR(VLOOKUP(Table_NFI[[#This Row],[Camp Name]],CL,3,0),\"\")","v":"Open"},{"$f":"IFERROR(Table_NFI[[#This Row],[Kitchen Set]]/VLOOKUP(Table_NFI[[#This Row],[Camp Name]],CL,4,0),\"\")","v":0.2}]
[20.266666666666666,"2012-05-03","UNHCR","UNHCR","Kachin","Waingmaw","Maina AG Church",null,null,0,42,0,42,0,20,20,20,{"$f":"IF(NFI_Expiration=1,IF($A99<VLOOKUP(H$5,NFI,5,0),1,0)*Table_NFI[[#This Row],[Hygiene Kit]],Table_NFI[Hygiene Kit])","v":0},{"$f":"IF(NFI_Expiration=1,IF($A99<VLOOKUP(I$5,NFI,5,0),1,0)*Table_NFI[[#This Row],[NFI Core Kit]],Table_NFI[NFI Core Kit])","v":0},{"$f":"IF(NFI_Expiration=1,IF($A99<VLOOKUP(J$5,NFI,5,0),1,0)*Table_NFI[[#This Row],[Sanitary Kit]],Table_NFI[Sanitary Kit])","v":0},{"$f":"IF(NFI_Expiration=1,IF($A99<VLOOKUP(K$5,NFI,5,0),1,0)*Table_NFI[[#This Row],[Mosquito net]],Table_NFI[Mosquito net])","v":0},{"$f":"IF(NFI_Expiration=1,IF($A99<VLOOKUP(L$5,NFI,5,0),1,0)*Table_NFI[[#This Row],[Tarpaulin]],Table_NFI[[#This Row],[Tarpaulin]])","v":0},{"$f":"IF(NFI_Expiration=1,IF($A99<VLOOKUP(M$5,NFI,5,0),1,0)*Table_NFI[[#This Row],[Blanket]],Table_NFI[[#This Row],[Blanket]])","v":0},{"$f":"IF(NFI_Expiration=1,IF($A99<VLOOKUP(N$5,NFI,5,0),1,0)*Table_NFI[[#This Row],[Kitchen Set]],Table_NFI[Kitchen Set])","v":0},{"$f":"IF(NFI_Expiration=1,IF($A99<VLOOKUP(O$5,NFI,5,0),1,0)*Table_NFI[[#This Row],[Complementary Kit]],Table_NFI[Complementary Kit])","v":0},{"$f":"IF(NFI_Expiration=1,IF($A99<VLOOKUP(P$5,NFI,5,0),1,0)*Table_NFI[[#This Row],[Plastic Bucket]],Table_NFI[Plastic Bucket])","v":0},{"$f":"IF(NFI_Expiration=1,IF($A99<VLOOKUP(Q$5,NFI,5,0),1,0)*Table_NFI[[#This Row],[Plastic Mat]],Table_NFI[Plastic Mat])","v":0},{"$f":"IFERROR(VLOOKUP(Table_NFI[[#This Row],[Camp Name]],CL,2,0),\"\")","v":"MMR001CMP031"},{"$f":"IFERROR(VLOOKUP(Table_NFI[[#This Row],[Camp Name]],CL,3,0),\"\")","v":"Open"},{"$f":"IFERROR(Table_NFI[[#This Row],[Kitchen Set]]/VLOOKUP(Table_NFI[[#This Row],[Camp Name]],CL,4,0),\"\")","v":0}]
[20.066666666666666,"2012-05-09","UNHCR","UNHCR","Kachin","Waingmaw","Waingmaw Baptist Zonal Office",null,null,0,161,83,161,83,83,83,83,{"$f":"IF(NFI_Expiration=1,IF($A100<VLOOKUP(H$5,NFI,5,0),1,0)*Table_NFI[[#This Row],[Hygiene Kit]],Table_NFI[Hygiene Kit])","v":0},{"$f":"IF(NFI_Expiration=1,IF($A100<VLOOKUP(I$5,NFI,5,0),1,0)*Table_NFI[[#This Row],[NFI Core Kit]],Table_NFI[NFI Core Kit])","v":0},{"$f":"IF(NFI_Expiration=1,IF($A100<VLOOKUP(J$5,NFI,5,0),1,0)*Table_NFI[[#This Row],[Sanitary Kit]],Table_NFI[Sanitary Kit])","v":0},{"$f":"IF(NFI_Expiration=1,IF($A100<VLOOKUP(K$5,NFI,5,0),1,0)*Table_NFI[[#This Row],[Mosquito net]],Table_NFI[Mosquito net])","v":0},{"$f":"IF(NFI_Expiration=1,IF($A100<VLOOKUP(L$5,NFI,5,0),1,0)*Table_NFI[[#This Row],[Tarpaulin]],Table_NFI[[#This Row],[Tarpaulin]])","v":0},{"$f":"IF(NFI_Expiration=1,IF($A100<VLOOKUP(M$5,NFI,5,0),1,0)*Table_NFI[[#This Row],[Blanket]],Table_NFI[[#This Row],[Blanket]])","v":0},{"$f":"IF(NFI_Expiration=1,IF($A100<VLOOKUP(N$5,NFI,5,0),1,0)*Table_NFI[[#This Row],[Kitchen Set]],Table_NFI[Kitchen Set])","v":0},{"$f":"IF(NFI_Expiration=1,IF($A100<VLOOKUP(O$5,NFI,5,0),1,0)*Table_NFI[[#This Row],[Complementary Kit]],Table_NFI[Complementary Kit])","v":0},{"$f":"IF(NFI_Expiration=1,IF($A100<VLOOKUP(P$5,NFI,5,0),1,0)*Table_NFI[[#This Row],[Plastic Bucket]],Table_NFI[Plastic Bucket])","v":0},{"$f":"IF(NFI_Expiration=1,IF($A100<VLOOKUP(Q$5,NFI,5,0),1,0)*Table_NFI[[#This Row],[Plastic Mat]],Table_NFI[Plastic Mat])","v":0},{"$f":"IFERROR(VLOOKUP(Table_NFI[[#This Row],[Camp Name]],CL,2,0),\"\")","v":"MMR001CMP036"},{"$f":"IFERROR(VLOOKUP(Table_NFI[[#This Row],[Camp Name]],CL,3,0),\"\")","v":"Open"},{"$f":"IFERROR(Table_NFI[[#This Row],[Kitchen Set]]/VLOOKUP(Table_NFI[[#This Row],[Camp Name]],CL,4,0),\"\")","v":""}]
[20,"2012-05-11","UNHCR","UNHCR","Kachin","Waingmaw","Maina Catholic Church (St. Joseph)",null,null,0,57,29,57,29,29,29,29,{"$f":"IF(NFI_Expiration=1,IF($A101<VLOOKUP(H$5,NFI,5,0),1,0)*Table_NFI[[#This Row],[Hygiene Kit]],Table_NFI[Hygiene Kit])","v":0},{"$f":"IF(NFI_Expiration=1,IF($A101<VLOOKUP(I$5,NFI,5,0),1,0)*Table_NFI[[#This Row],[NFI Core Kit]],Table_NFI[NFI Core Kit])","v":0},{"$f":"IF(NFI_Expiration=1,IF($A101<VLOOKUP(J$5,NFI,5,0),1,0)*Table_NFI[[#This Row],[Sanitary Kit]],Table_NFI[Sanitary Kit])","v":0},{"$f":"IF(NFI_Expiration=1,IF($A101<VLOOKUP(K$5,NFI,5,0),1,0)*Table_NFI[[#This Row],[Mosquito net]],Table_NFI[Mosquito net])","v":0},{"$f":"IF(NFI_Expiration=1,IF($A101<VLOOKUP(L$5,NFI,5,0),1,0)*Table_NFI[[#This Row],[Tarpaulin]],Table_NFI[[#This Row],[Tarpaulin]])","v":0},{"$f":"IF(NFI_Expiration=1,IF($A101<VLOOKUP(M$5,NFI,5,0),1,0)*Table_NFI[[#This Row],[Blanket]],Table_NFI[[#This Row],[Blanket]])","v":0},{"$f":"IF(NFI_Expiration=1,IF($A101<VLOOKUP(N$5,NFI,5,0),1,0)*Table_NFI[[#This Row],[Kitchen Set]],Table_NFI[Kitchen Set])","v":0},{"$f":"IF(NFI_Expiration=1,IF($A101<VLOOKUP(O$5,NFI,5,0),1,0)*Table_NFI[[#This Row],[Complementary Kit]],Table_NFI[Complementary Kit])","v":0},{"$f":"IF(NFI_Expiration=1,IF($A101<VLOOKUP(P$5,NFI,5,0),1,0)*Table_NFI[[#This Row],[Plastic Bucket]],Table_NFI[Plastic Bucket])","v":0},{"$f":"IF(NFI_Expiration=1,IF($A101<VLOOKUP(Q$5,NFI,5,0),1,0)*Table_NFI[[#This Row],[Plastic Mat]],Table_NFI[Plastic Mat])","v":0},{"$f":"IFERROR(VLOOKUP(Table_NFI[[#This Row],[Camp Name]],CL,2,0),\"\")","v":"MMR001CMP029"},{"$f":"IFERROR(VLOOKUP(Table_NFI[[#This Row],[Camp Name]],CL,3,0),\"\")","v":"Open"},{"$f":"IFERROR(Table_NFI[[#This Row],[Kitchen Set]]/VLOOKUP(Table_NFI[[#This Row],[Camp Name]],CL,4,0),\"\")","v":0.125}]
[20,"2012-05-11","UNHCR","UNHCR","Kachin","Waingmaw","Maina KBC (Bawng Ring)",null,null,0,50,25,50,24,13,13,13,{"$f":"IF(NFI_Expiration=1,IF($A102<VLOOKUP(H$5,NFI,5,0),1,0)*Table_NFI[[#This Row],[Hygiene Kit]],Table_NFI[Hygiene Kit])","v":0},{"$f":"IF(NFI_Expiration=1,IF($A102<VLOOKUP(I$5,NFI,5,0),1,0)*Table_NFI[[#This Row],[NFI Core Kit]],Table_NFI[NFI Core Kit])","v":0},{"$f":"IF(NFI_Expiration=1,IF($A102<VLOOKUP(J$5,NFI,5,0),1,0)*Table_NFI[[#This Row],[Sanitary Kit]],Table_NFI[Sanitary Kit])","v":0},{"$f":"IF(NFI_Expiration=1,IF($A102<VLOOKUP(K$5,NFI,5,0),1,0)*Table_NFI[[#This Row],[Mosquito net]],Table_NFI[Mosquito net])","v":0},{"$f":"IF(NFI_Expiration=1,IF($A102<VLOOKUP(L$5,NFI,5,0),1,0)*Table_NFI[[#This Row],[Tarpaulin]],Table_NFI[[#This Row],[Tarpaulin]])","v":0},{"$f":"IF(NFI_Expiration=1,IF($A102<VLOOKUP(M$5,NFI,5,0),1,0)*Table_NFI[[#This Row],[Blanket]],Table_NFI[[#This Row],[Blanket]])","v":0},{"$f":"IF(NFI_Expiration=1,IF($A102<VLOOKUP(N$5,NFI,5,0),1,0)*Table_NFI[[#This Row],[Kitchen Set]],Table_NFI[Kitchen Set])","v":0},{"$f":"IF(NFI_Expiration=1,IF($A102<VLOOKUP(O$5,NFI,5,0),1,0)*Table_NFI[[#This Row],[Complementary Kit]],Table_NFI[Complementary Kit])","v":0},{"$f":"IF(NFI_Expiration=1,IF($A102<VLOOKUP(P$5,NFI,5,0),1,0)*Table_NFI[[#This Row],[Plastic Bucket]],Table_NFI[Plastic Bucket])","v":0},{"$f":"IF(NFI_Expiration=1,IF($A102<VLOOKUP(Q$5,NFI,5,0),1,0)*Table_NFI[[#This Row],[Plastic Mat]],Table_NFI[Plastic Mat])","v":0},{"$f":"IFERROR(VLOOKUP(Table_NFI[[#This Row],[Camp Name]],CL,2,0),\"\")","v":"MMR001CMP040"},{"$f":"IFERROR(VLOOKUP(Table_NFI[[#This Row],[Camp Name]],CL,3,0),\"\")","v":"Open"},{"$f":"IFERROR(Table_NFI[[#This Row],[Kitchen Set]]/VLOOKUP(Table_NFI[[#This Row],[Camp Name]],CL,4,0),\"\")","v":5.7142857142857141E-2}]
[20,"2012-05-11","UNHCR","KBSS","Kachin","Shwegu","Shwe Gu Baptist Church",null,null,0,38,23,38,23,23,23,23,{"$f":"IF(NFI_Expiration=1,IF($A103<VLOOKUP(H$5,NFI,5,0),1,0)*Table_NFI[[#This Row],[Hygiene Kit]],Table_NFI[Hygiene Kit])","v":0},{"$f":"IF(NFI_Expiration=1,IF($A103<VLOOKUP(I$5,NFI,5,0),1,0)*Table_NFI[[#This Row],[NFI Core Kit]],Table_NFI[NFI Core Kit])","v":0},{"$f":"IF(NFI_Expiration=1,IF($A103<VLOOKUP(J$5,NFI,5,0),1,0)*Table_NFI[[#This Row],[Sanitary Kit]],Table_NFI[Sanitary Kit])","v":0},{"$f":"IF(NFI_Expiration=1,IF($A103<VLOOKUP(K$5,NFI,5,0),1,0)*Table_NFI[[#This Row],[Mosquito net]],Table_NFI[Mosquito net])","v":0},{"$f":"IF(NFI_Expiration=1,IF($A103<VLOOKUP(L$5,NFI,5,0),1,0)*Table_NFI[[#This Row],[Tarpaulin]],Table_NFI[[#This Row],[Tarpaulin]])","v":0},{"$f":"IF(NFI_Expiration=1,IF($A103<VLOOKUP(M$5,NFI,5,0),1,0)*Table_NFI[[#This Row],[Blanket]],Table_NFI[[#This Row],[Blanket]])","v":0},{"$f":"IF(NFI_Expiration=1,IF($A103<VLOOKUP(N$5,NFI,5,0),1,0)*Table_NFI[[#This Row],[Kitchen Set]],Table_NFI[Kitchen Set])","v":0},{"$f":"IF(NFI_Expiration=1,IF($A103<VLOOKUP(O$5,NFI,5,0),1,0)*Table_NFI[[#This Row],[Complementary Kit]],Table_NFI[Complementary Kit])","v":0},{"$f":"IF(NFI_Expiration=1,IF($A103<VLOOKUP(P$5,NFI,5,0),1,0)*Table_NFI[[#This Row],[Plastic Bucket]],Table_NFI[Plastic Bucket])","v":0},{"$f":"IF(NFI_Expiration=1,IF($A103<VLOOKUP(Q$5,NFI,5,0),1,0)*Table_NFI[[#This Row],[Plastic Mat]],Table_NFI[Plastic Mat])","v":0},{"$f":"IFERROR(VLOOKUP(Table_NFI[[#This Row],[Camp Name]],CL,2,0),\"\")","v":"MMR001CMP067"},{"$f":"IFERROR(VLOOKUP(Table_NFI[[#This Row],[Camp Name]],CL,3,0),\"\")","v":"Open"},{"$f":"IFERROR(Table_NFI[[#This Row],[Kitchen Set]]/VLOOKUP(Table_NFI[[#This Row],[Camp Name]],CL,4,0),\"\")","v":0.29113924050632911}]
[20,"2012-05-11","UNHCR","KBSS","Kachin","Shwegu","Shwe Gu Catholic Church",null,null,0,37,22,37,22,22,22,22,{"$f":"IF(NFI_Expiration=1,IF($A104<VLOOKUP(H$5,NFI,5,0),1,0)*Table_NFI[[#This Row],[Hygiene Kit]],Table_NFI[Hygiene Kit])","v":0},{"$f":"IF(NFI_Expiration=1,IF($A104<VLOOKUP(I$5,NFI,5,0),1,0)*Table_NFI[[#This Row],[NFI Core Kit]],Table_NFI[NFI Core Kit])","v":0},{"$f":"IF(NFI_Expiration=1,IF($A104<VLOOKUP(J$5,NFI,5,0),1,0)*Table_NFI[[#This Row],[Sanitary Kit]],Table_NFI[Sanitary Kit])","v":0},{"$f":"IF(NFI_Expiration=1,IF($A104<VLOOKUP(K$5,NFI,5,0),1,0)*Table_NFI[[#This Row],[Mosquito net]],Table_NFI[Mosquito net])","v":0},{"$f":"IF(NFI_Expiration=1,IF($A104<VLOOKUP(L$5,NFI,5,0),1,0)*Table_NFI[[#This Row],[Tarpaulin]],Table_NFI[[#This Row],[Tarpaulin]])","v":0},{"$f":"IF(NFI_Expiration=1,IF($A104<VLOOKUP(M$5,NFI,5,0),1,0)*Table_NFI[[#This Row],[Blanket]],Table_NFI[[#This Row],[Blanket]])","v":0},{"$f":"IF(NFI_Expiration=1,IF($A104<VLOOKUP(N$5,NFI,5,0),1,0)*Table_NFI[[#This Row],[Kitchen Set]],Table_NFI[Kitchen Set])","v":0},{"$f":"IF(NFI_Expiration=1,IF($A104<VLOOKUP(O$5,NFI,5,0),1,0)*Table_NFI[[#This Row],[Complementary Kit]],Table_NFI[Complementary Kit])","v":0},{"$f":"IF(NFI_Expiration=1,IF($A104<VLOOKUP(P$5,NFI,5,0),1,0)*Table_NFI[[#This Row],[Plastic Bucket]],Table_NFI[Plastic Bucket])","v":0},{"$f":"IF(NFI_Expiration=1,IF($A104<VLOOKUP(Q$5,NFI,5,0),1,0)*Table_NFI[[#This Row],[Plastic Mat]],Table_NFI[Plastic Mat])","v":0},{"$f":"IFERROR(VLOOKUP(Table_NFI[[#This Row],[Camp Name]],CL,2,0),\"\")","v":"MMR001CMP068"},{"$f":"IFERROR(VLOOKUP(Table_NFI[[#This Row],[Camp Name]],CL,3,0),\"\")","v":"Open"},{"$f":"IFERROR(Table_NFI[[#This Row],[Kitchen Set]]/VLOOKUP(Table_NFI[[#This Row],[Camp Name]],CL,4,0),\"\")","v":0.46808510638297873}]
[19.866666666666667,"2012-05-15","UNHCR","KBSS","Kachin","Bhamo","AD-2000 Tharthana Compound",null,null,0,90,0,0,0,0,null,null,{"$f":"IF(NFI_Expiration=1,IF($A105<VLOOKUP(H$5,NFI,5,0),1,0)*Table_NFI[[#This Row],[Hygiene Kit]],Table_NFI[Hygiene Kit])","v":0},{"$f":"IF(NFI_Expiration=1,IF($A105<VLOOKUP(I$5,NFI,5,0),1,0)*Table_NFI[[#This Row],[NFI Core Kit]],Table_NFI[NFI Core Kit])","v":0},{"$f":"IF(NFI_Expiration=1,IF($A105<VLOOKUP(J$5,NFI,5,0),1,0)*Table_NFI[[#This Row],[Sanitary Kit]],Table_NFI[Sanitary Kit])","v":0},{"$f":"IF(NFI_Expiration=1,IF($A105<VLOOKUP(K$5,NFI,5,0),1,0)*Table_NFI[[#This Row],[Mosquito net]],Table_NFI[Mosquito net])","v":0},{"$f":"IF(NFI_Expiration=1,IF($A105<VLOOKUP(L$5,NFI,5,0),1,0)*Table_NFI[[#This Row],[Tarpaulin]],Table_NFI[[#This Row],[Tarpaulin]])","v":0},{"$f":"IF(NFI_Expiration=1,IF($A105<VLOOKUP(M$5,NFI,5,0),1,0)*Table_NFI[[#This Row],[Blanket]],Table_NFI[[#This Row],[Blanket]])","v":0},{"$f":"IF(NFI_Expiration=1,IF($A105<VLOOKUP(N$5,NFI,5,0),1,0)*Table_NFI[[#This Row],[Kitchen Set]],Table_NFI[Kitchen Set])","v":0},{"$f":"IF(NFI_Expiration=1,IF($A105<VLOOKUP(O$5,NFI,5,0),1,0)*Table_NFI[[#This Row],[Complementary Kit]],Table_NFI[Complementary Kit])","v":0},{"$f":"IF(NFI_Expiration=1,IF($A105<VLOOKUP(P$5,NFI,5,0),1,0)*Table_NFI[[#This Row],[Plastic Bucket]],Table_NFI[Plastic Bucket])","v":0},{"$f":"IF(NFI_Expiration=1,IF($A105<VLOOKUP(Q$5,NFI,5,0),1,0)*Table_NFI[[#This Row],[Plastic Mat]],Table_NFI[Plastic Mat])","v":0},{"$f":"IFERROR(VLOOKUP(Table_NFI[[#This Row],[Camp Name]],CL,2,0),\"\")","v":"MMR001CMP050"},{"$f":"IFERROR(VLOOKUP(Table_NFI[[#This Row],[Camp Name]],CL,3,0),\"\")","v":"Open"},{"$f":"IFERROR(Table_NFI[[#This Row],[Kitchen Set]]/VLOOKUP(Table_NFI[[#This Row],[Camp Name]],CL,4,0),\"\")","v":0}]
[19.666666666666668,"2012-05-21","UNHCR","UNHCR","Kachin","Bhamo","AD-2000 Tharthana Compound",null,null,0,0,15,0,0,0,null,null,{"$f":"IF(NFI_Expiration=1,IF($A106<VLOOKUP(H$5,NFI,5,0),1,0)*Table_NFI[[#This Row],[Hygiene Kit]],Table_NFI[Hygiene Kit])","v":0},{"$f":"IF(NFI_Expiration=1,IF($A106<VLOOKUP(I$5,NFI,5,0),1,0)*Table_NFI[[#This Row],[NFI Core Kit]],Table_NFI[NFI Core Kit])","v":0},{"$f":"IF(NFI_Expiration=1,IF($A106<VLOOKUP(J$5,NFI,5,0),1,0)*Table_NFI[[#This Row],[Sanitary Kit]],Table_NFI[Sanitary Kit])","v":0},{"$f":"IF(NFI_Expiration=1,IF($A106<VLOOKUP(K$5,NFI,5,0),1,0)*Table_NFI[[#This Row],[Mosquito net]],Table_NFI[Mosquito net])","v":0},{"$f":"IF(NFI_Expiration=1,IF($A106<VLOOKUP(L$5,NFI,5,0),1,0)*Table_NFI[[#This Row],[Tarpaulin]],Table_NFI[[#This Row],[Tarpaulin]])","v":0},{"$f":"IF(NFI_Expiration=1,IF($A106<VLOOKUP(M$5,NFI,5,0),1,0)*Table_NFI[[#This Row],[Blanket]],Table_NFI[[#This Row],[Blanket]])","v":0},{"$f":"IF(NFI_Expiration=1,IF($A106<VLOOKUP(N$5,NFI,5,0),1,0)*Table_NFI[[#This Row],[Kitchen Set]],Table_NFI[Kitchen Set])","v":0},{"$f":"IF(NFI_Expiration=1,IF($A106<VLOOKUP(O$5,NFI,5,0),1,0)*Table_NFI[[#This Row],[Complementary Kit]],Table_NFI[Complementary Kit])","v":0},{"$f":"IF(NFI_Expiration=1,IF($A106<VLOOKUP(P$5,NFI,5,0),1,0)*Table_NFI[[#This Row],[Plastic Bucket]],Table_NFI[Plastic Bucket])","v":0},{"$f":"IF(NFI_Expiration=1,IF($A106<VLOOKUP(Q$5,NFI,5,0),1,0)*Table_NFI[[#This Row],[Plastic Mat]],Table_NFI[Plastic Mat])","v":0},{"$f":"IFERROR(VLOOKUP(Table_NFI[[#This Row],[Camp Name]],CL,2,0),\"\")","v":"MMR001CMP050"},{"$f":"IFERROR(VLOOKUP(Table_NFI[[#This Row],[Camp Name]],CL,3,0),\"\")","v":"Open"},{"$f":"IFERROR(Table_NFI[[#This Row],[Kitchen Set]]/VLOOKUP(Table_NFI[[#This Row],[Camp Name]],CL,4,0),\"\")","v":0}]
[19.600000000000001,"2012-05-23","UNHCR","UNHCR","Kachin","Myitkyina","Tat Kone Baptist Church",null,null,0,54,29,54,29,29,29,29,{"$f":"IF(NFI_Expiration=1,IF($A107<VLOOKUP(H$5,NFI,5,0),1,0)*Table_NFI[[#This Row],[Hygiene Kit]],Table_NFI[Hygiene Kit])","v":0},{"$f":"IF(NFI_Expiration=1,IF($A107<VLOOKUP(I$5,NFI,5,0),1,0)*Table_NFI[[#This Row],[NFI Core Kit]],Table_NFI[NFI Core Kit])","v":0},{"$f":"IF(NFI_Expiration=1,IF($A107<VLOOKUP(J$5,NFI,5,0),1,0)*Table_NFI[[#This Row],[Sanitary Kit]],Table_NFI[Sanitary Kit])","v":0},{"$f":"IF(NFI_Expiration=1,IF($A107<VLOOKUP(K$5,NFI,5,0),1,0)*Table_NFI[[#This Row],[Mosquito net]],Table_NFI[Mosquito net])","v":0},{"$f":"IF(NFI_Expiration=1,IF($A107<VLOOKUP(L$5,NFI,5,0),1,0)*Table_NFI[[#This Row],[Tarpaulin]],Table_NFI[[#This Row],[Tarpaulin]])","v":0},{"$f":"IF(NFI_Expiration=1,IF($A107<VLOOKUP(M$5,NFI,5,0),1,0)*Table_NFI[[#This Row],[Blanket]],Table_NFI[[#This Row],[Blanket]])","v":0},{"$f":"IF(NFI_Expiration=1,IF($A107<VLOOKUP(N$5,NFI,5,0),1,0)*Table_NFI[[#This Row],[Kitchen Set]],Table_NFI[Kitchen Set])","v":0},{"$f":"IF(NFI_Expiration=1,IF($A107<VLOOKUP(O$5,NFI,5,0),1,0)*Table_NFI[[#This Row],[Complementary Kit]],Table_NFI[Complementary Kit])","v":0},{"$f":"IF(NFI_Expiration=1,IF($A107<VLOOKUP(P$5,NFI,5,0),1,0)*Table_NFI[[#This Row],[Plastic Bucket]],Table_NFI[Plastic Bucket])","v":0},{"$f":"IF(NFI_Expiration=1,IF($A107<VLOOKUP(Q$5,NFI,5,0),1,0)*Table_NFI[[#This Row],[Plastic Mat]],Table_NFI[Plastic Mat])","v":0},{"$f":"IFERROR(VLOOKUP(Table_NFI[[#This Row],[Camp Name]],CL,2,0),\"\")","v":"MMR001CMP001"},{"$f":"IFERROR(VLOOKUP(Table_NFI[[#This Row],[Camp Name]],CL,3,0),\"\")","v":"Open"},{"$f":"IFERROR(Table_NFI[[#This Row],[Kitchen Set]]/VLOOKUP(Table_NFI[[#This Row],[Camp Name]],CL,4,0),\"\")","v":0.5178571428571429}]
[19.600000000000001,"2012-05-23","UNHCR","UNHCR","Kachin","Myitkyina","Jan Mai Kawng Baptist Church",null,null,0,22,15,22,15,15,15,15,{"$f":"IF(NFI_Expiration=1,IF($A108<VLOOKUP(H$5,NFI,5,0),1,0)*Table_NFI[[#This Row],[Hygiene Kit]],Table_NFI[Hygiene Kit])","v":0},{"$f":"IF(NFI_Expiration=1,IF($A108<VLOOKUP(I$5,NFI,5,0),1,0)*Table_NFI[[#This Row],[NFI Core Kit]],Table_NFI[NFI Core Kit])","v":0},{"$f":"IF(NFI_Expiration=1,IF($A108<VLOOKUP(J$5,NFI,5,0),1,0)*Table_NFI[[#This Row],[Sanitary Kit]],Table_NFI[Sanitary Kit])","v":0},{"$f":"IF(NFI_Expiration=1,IF($A108<VLOOKUP(K$5,NFI,5,0),1,0)*Table_NFI[[#This Row],[Mosquito net]],Table_NFI[Mosquito net])","v":0},{"$f":"IF(NFI_Expiration=1,IF($A108<VLOOKUP(L$5,NFI,5,0),1,0)*Table_NFI[[#This Row],[Tarpaulin]],Table_NFI[[#This Row],[Tarpaulin]])","v":0},{"$f":"IF(NFI_Expiration=1,IF($A108<VLOOKUP(M$5,NFI,5,0),1,0)*Table_NFI[[#This Row],[Blanket]],Table_NFI[[#This Row],[Blanket]])","v":0},{"$f":"IF(NFI_Expiration=1,IF($A108<VLOOKUP(N$5,NFI,5,0),1,0)*Table_NFI[[#This Row],[Kitchen Set]],Table_NFI[Kitchen Set])","v":0},{"$f":"IF(NFI_Expiration=1,IF($A108<VLOOKUP(O$5,NFI,5,0),1,0)*Table_NFI[[#This Row],[Complementary Kit]],Table_NFI[Complementary Kit])","v":0},{"$f":"IF(NFI_Expiration=1,IF($A108<VLOOKUP(P$5,NFI,5,0),1,0)*Table_NFI[[#This Row],[Plastic Bucket]],Table_NFI[Plastic Bucket])","v":0},{"$f":"IF(NFI_Expiration=1,IF($A108<VLOOKUP(Q$5,NFI,5,0),1,0)*Table_NFI[[#This Row],[Plastic Mat]],Table_NFI[Plastic Mat])","v":0},{"$f":"IFERROR(VLOOKUP(Table_NFI[[#This Row],[Camp Name]],CL,2,0),\"\")","v":"MMR001CMP018"},{"$f":"IFERROR(VLOOKUP(Table_NFI[[#This Row],[Camp Name]],CL,3,0),\"\")","v":"Open"},{"$f":"IFERROR(Table_NFI[[#This Row],[Kitchen Set]]/VLOOKUP(Table_NFI[[#This Row],[Camp Name]],CL,4,0),\"\")","v":7.3891625615763554E-2}]
[19.600000000000001,"2012-05-23","UNHCR","UNHCR","Kachin","Myitkyina","Nan Kway St. John Catholic Church",null,null,0,58,29,58,29,29,29,29,{"$f":"IF(NFI_Expiration=1,IF($A109<VLOOKUP(H$5,NFI,5,0),1,0)*Table_NFI[[#This Row],[Hygiene Kit]],Table_NFI[Hygiene Kit])","v":0},{"$f":"IF(NFI_Expiration=1,IF($A109<VLOOKUP(I$5,NFI,5,0),1,0)*Table_NFI[[#This Row],[NFI Core Kit]],Table_NFI[NFI Core Kit])","v":0},{"$f":"IF(NFI_Expiration=1,IF($A109<VLOOKUP(J$5,NFI,5,0),1,0)*Table_NFI[[#This Row],[Sanitary Kit]],Table_NFI[Sanitary Kit])","v":0},{"$f":"IF(NFI_Expiration=1,IF($A109<VLOOKUP(K$5,NFI,5,0),1,0)*Table_NFI[[#This Row],[Mosquito net]],Table_NFI[Mosquito net])","v":0},{"$f":"IF(NFI_Expiration=1,IF($A109<VLOOKUP(L$5,NFI,5,0),1,0)*Table_NFI[[#This Row],[Tarpaulin]],Table_NFI[[#This Row],[Tarpaulin]])","v":0},{"$f":"IF(NFI_Expiration=1,IF($A109<VLOOKUP(M$5,NFI,5,0),1,0)*Table_NFI[[#This Row],[Blanket]],Table_NFI[[#This Row],[Blanket]])","v":0},{"$f":"IF(NFI_Expiration=1,IF($A109<VLOOKUP(N$5,NFI,5,0),1,0)*Table_NFI[[#This Row],[Kitchen Set]],Table_NFI[Kitchen Set])","v":0},{"$f":"IF(NFI_Expiration=1,IF($A109<VLOOKUP(O$5,NFI,5,0),1,0)*Table_NFI[[#This Row],[Complementary Kit]],Table_NFI[Complementary Kit])","v":0},{"$f":"IF(NFI_Expiration=1,IF($A109<VLOOKUP(P$5,NFI,5,0),1,0)*Table_NFI[[#This Row],[Plastic Bucket]],Table_NFI[Plastic Bucket])","v":0},{"$f":"IF(NFI_Expiration=1,IF($A109<VLOOKUP(Q$5,NFI,5,0),1,0)*Table_NFI[[#This Row],[Plastic Mat]],Table_NFI[Plastic Mat])","v":0},{"$f":"IFERROR(VLOOKUP(Table_NFI[[#This Row],[Camp Name]],CL,2,0),\"\")","v":"MMR001CMP024"},{"$f":"IFERROR(VLOOKUP(Table_NFI[[#This Row],[Camp Name]],CL,3,0),\"\")","v":"Open"},{"$f":"IFERROR(Table_NFI[[#This Row],[Kitchen Set]]/VLOOKUP(Table_NFI[[#This Row],[Camp Name]],CL,4,0),\"\")","v":0.40277777777777779}]
[19.533333333333335,"2012-05-25","UNHCR","UNHCR","Kachin","Myitkyina","Shwe Zet Baptist Church",null,null,0,0,25,0,0,0,null,null,{"$f":"IF(NFI_Expiration=1,IF($A110<VLOOKUP(H$5,NFI,5,0),1,0)*Table_NFI[[#This Row],[Hygiene Kit]],Table_NFI[Hygiene Kit])","v":0},{"$f":"IF(NFI_Expiration=1,IF($A110<VLOOKUP(I$5,NFI,5,0),1,0)*Table_NFI[[#This Row],[NFI Core Kit]],Table_NFI[NFI Core Kit])","v":0},{"$f":"IF(NFI_Expiration=1,IF($A110<VLOOKUP(J$5,NFI,5,0),1,0)*Table_NFI[[#This Row],[Sanitary Kit]],Table_NFI[Sanitary Kit])","v":0},{"$f":"IF(NFI_Expiration=1,IF($A110<VLOOKUP(K$5,NFI,5,0),1,0)*Table_NFI[[#This Row],[Mosquito net]],Table_NFI[Mosquito net])","v":0},{"$f":"IF(NFI_Expiration=1,IF($A110<VLOOKUP(L$5,NFI,5,0),1,0)*Table_NFI[[#This Row],[Tarpaulin]],Table_NFI[[#This Row],[Tarpaulin]])","v":0},{"$f":"IF(NFI_Expiration=1,IF($A110<VLOOKUP(M$5,NFI,5,0),1,0)*Table_NFI[[#This Row],[Blanket]],Table_NFI[[#This Row],[Blanket]])","v":0},{"$f":"IF(NFI_Expiration=1,IF($A110<VLOOKUP(N$5,NFI,5,0),1,0)*Table_NFI[[#This Row],[Kitchen Set]],Table_NFI[Kitchen Set])","v":0},{"$f":"IF(NFI_Expiration=1,IF($A110<VLOOKUP(O$5,NFI,5,0),1,0)*Table_NFI[[#This Row],[Complementary Kit]],Table_NFI[Complementary Kit])","v":0},{"$f":"IF(NFI_Expiration=1,IF($A110<VLOOKUP(P$5,NFI,5,0),1,0)*Table_NFI[[#This Row],[Plastic Bucket]],Table_NFI[Plastic Bucket])","v":0},{"$f":"IF(NFI_Expiration=1,IF($A110<VLOOKUP(Q$5,NFI,5,0),1,0)*Table_NFI[[#This Row],[Plastic Mat]],Table_NFI[Plastic Mat])","v":0},{"$f":"IFERROR(VLOOKUP(Table_NFI[[#This Row],[Camp Name]],CL,2,0),\"\")","v":"MMR001CMP009"},{"$f":"IFERROR(VLOOKUP(Table_NFI[[#This Row],[Camp Name]],CL,3,0),\"\")","v":"Open"},{"$f":"IFERROR(Table_NFI[[#This Row],[Kitchen Set]]/VLOOKUP(Table_NFI[[#This Row],[Camp Name]],CL,4,0),\"\")","v":0}]
[19.5,"2012-05-26","UNHCR","KBC","Kachin","Shwegu","Lawk Awng Mare D. (Sinbo Area)",null,null,0,200,200,0,0,0,null,null,{"$f":"IF(NFI_Expiration=1,IF($A111<VLOOKUP(H$5,NFI,5,0),1,0)*Table_NFI[[#This Row],[Hygiene Kit]],Table_NFI[Hygiene Kit])","v":0},{"$f":"IF(NFI_Expiration=1,IF($A111<VLOOKUP(I$5,NFI,5,0),1,0)*Table_NFI[[#This Row],[NFI Core Kit]],Table_NFI[NFI Core Kit])","v":0},{"$f":"IF(NFI_Expiration=1,IF($A111<VLOOKUP(J$5,NFI,5,0),1,0)*Table_NFI[[#This Row],[Sanitary Kit]],Table_NFI[Sanitary Kit])","v":0},{"$f":"IF(NFI_Expiration=1,IF($A111<VLOOKUP(K$5,NFI,5,0),1,0)*Table_NFI[[#This Row],[Mosquito net]],Table_NFI[Mosquito net])","v":0},{"$f":"IF(NFI_Expiration=1,IF($A111<VLOOKUP(L$5,NFI,5,0),1,0)*Table_NFI[[#This Row],[Tarpaulin]],Table_NFI[[#This Row],[Tarpaulin]])","v":0},{"$f":"IF(NFI_Expiration=1,IF($A111<VLOOKUP(M$5,NFI,5,0),1,0)*Table_NFI[[#This Row],[Blanket]],Table_NFI[[#This Row],[Blanket]])","v":0},{"$f":"IF(NFI_Expiration=1,IF($A111<VLOOKUP(N$5,NFI,5,0),1,0)*Table_NFI[[#This Row],[Kitchen Set]],Table_NFI[Kitchen Set])","v":0},{"$f":"IF(NFI_Expiration=1,IF($A111<VLOOKUP(O$5,NFI,5,0),1,0)*Table_NFI[[#This Row],[Complementary Kit]],Table_NFI[Complementary Kit])","v":0},{"$f":"IF(NFI_Expiration=1,IF($A111<VLOOKUP(P$5,NFI,5,0),1,0)*Table_NFI[[#This Row],[Plastic Bucket]],Table_NFI[Plastic Bucket])","v":0},{"$f":"IF(NFI_Expiration=1,IF($A111<VLOOKUP(Q$5,NFI,5,0),1,0)*Table_NFI[[#This Row],[Plastic Mat]],Table_NFI[Plastic Mat])","v":0},{"$f":"IFERROR(VLOOKUP(Table_NFI[[#This Row],[Camp Name]],CL,2,0),\"\")","v":"MMR001CMP147"},{"$f":"IFERROR(VLOOKUP(Table_NFI[[#This Row],[Camp Name]],CL,3,0),\"\")","v":"Open"},{"$f":"IFERROR(Table_NFI[[#This Row],[Kitchen Set]]/VLOOKUP(Table_NFI[[#This Row],[Camp Name]],CL,4,0),\"\")","v":0}]
[19.433333333333334,"2012-05-28","UNHCR","UNHCR","Kachin","Waingmaw","Qtr. 3 Mu-yin  Baptist Church",null,null,0,0,11,0,0,0,null,null,{"$f":"IF(NFI_Expiration=1,IF($A112<VLOOKUP(H$5,NFI,5,0),1,0)*Table_NFI[[#This Row],[Hygiene Kit]],Table_NFI[Hygiene Kit])","v":0},{"$f":"IF(NFI_Expiration=1,IF($A112<VLOOKUP(I$5,NFI,5,0),1,0)*Table_NFI[[#This Row],[NFI Core Kit]],Table_NFI[NFI Core Kit])","v":0},{"$f":"IF(NFI_Expiration=1,IF($A112<VLOOKUP(J$5,NFI,5,0),1,0)*Table_NFI[[#This Row],[Sanitary Kit]],Table_NFI[Sanitary Kit])","v":0},{"$f":"IF(NFI_Expiration=1,IF($A112<VLOOKUP(K$5,NFI,5,0),1,0)*Table_NFI[[#This Row],[Mosquito net]],Table_NFI[Mosquito net])","v":0},{"$f":"IF(NFI_Expiration=1,IF($A112<VLOOKUP(L$5,NFI,5,0),1,0)*Table_NFI[[#This Row],[Tarpaulin]],Table_NFI[[#This Row],[Tarpaulin]])","v":0},{"$f":"IF(NFI_Expiration=1,IF($A112<VLOOKUP(M$5,NFI,5,0),1,0)*Table_NFI[[#This Row],[Blanket]],Table_NFI[[#This Row],[Blanket]])","v":0},{"$f":"IF(NFI_Expiration=1,IF($A112<VLOOKUP(N$5,NFI,5,0),1,0)*Table_NFI[[#This Row],[Kitchen Set]],Table_NFI[Kitchen Set])","v":0},{"$f":"IF(NFI_Expiration=1,IF($A112<VLOOKUP(O$5,NFI,5,0),1,0)*Table_NFI[[#This Row],[Complementary Kit]],Table_NFI[Complementary Kit])","v":0},{"$f":"IF(NFI_Expiration=1,IF($A112<VLOOKUP(P$5,NFI,5,0),1,0)*Table_NFI[[#This Row],[Plastic Bucket]],Table_NFI[Plastic Bucket])","v":0},{"$f":"IF(NFI_Expiration=1,IF($A112<VLOOKUP(Q$5,NFI,5,0),1,0)*Table_NFI[[#This Row],[Plastic Mat]],Table_NFI[Plastic Mat])","v":0},{"$f":"IFERROR(VLOOKUP(Table_NFI[[#This Row],[Camp Name]],CL,2,0),\"\")","v":"MMR001CMP030"},{"$f":"IFERROR(VLOOKUP(Table_NFI[[#This Row],[Camp Name]],CL,3,0),\"\")","v":"Open"},{"$f":"IFERROR(Table_NFI[[#This Row],[Kitchen Set]]/VLOOKUP(Table_NFI[[#This Row],[Camp Name]],CL,4,0),\"\")","v":0}]
[19.333333333333332,"2012-05-31","UNHCR","KBC","Kachin","Bhamo","Robert Church",null,null,0,0,20,0,0,0,null,null,{"$f":"IF(NFI_Expiration=1,IF($A113<VLOOKUP(H$5,NFI,5,0),1,0)*Table_NFI[[#This Row],[Hygiene Kit]],Table_NFI[Hygiene Kit])","v":0},{"$f":"IF(NFI_Expiration=1,IF($A113<VLOOKUP(I$5,NFI,5,0),1,0)*Table_NFI[[#This Row],[NFI Core Kit]],Table_NFI[NFI Core Kit])","v":0},{"$f":"IF(NFI_Expiration=1,IF($A113<VLOOKUP(J$5,NFI,5,0),1,0)*Table_NFI[[#This Row],[Sanitary Kit]],Table_NFI[Sanitary Kit])","v":0},{"$f":"IF(NFI_Expiration=1,IF($A113<VLOOKUP(K$5,NFI,5,0),1,0)*Table_NFI[[#This Row],[Mosquito net]],Table_NFI[Mosquito net])","v":0},{"$f":"IF(NFI_Expiration=1,IF($A113<VLOOKUP(L$5,NFI,5,0),1,0)*Table_NFI[[#This Row],[Tarpaulin]],Table_NFI[[#This Row],[Tarpaulin]])","v":0},{"$f":"IF(NFI_Expiration=1,IF($A113<VLOOKUP(M$5,NFI,5,0),1,0)*Table_NFI[[#This Row],[Blanket]],Table_NFI[[#This Row],[Blanket]])","v":0},{"$f":"IF(NFI_Expiration=1,IF($A113<VLOOKUP(N$5,NFI,5,0),1,0)*Table_NFI[[#This Row],[Kitchen Set]],Table_NFI[Kitchen Set])","v":0},{"$f":"IF(NFI_Expiration=1,IF($A113<VLOOKUP(O$5,NFI,5,0),1,0)*Table_NFI[[#This Row],[Complementary Kit]],Table_NFI[Complementary Kit])","v":0},{"$f":"IF(NFI_Expiration=1,IF($A113<VLOOKUP(P$5,NFI,5,0),1,0)*Table_NFI[[#This Row],[Plastic Bucket]],Table_NFI[Plastic Bucket])","v":0},{"$f":"IF(NFI_Expiration=1,IF($A113<VLOOKUP(Q$5,NFI,5,0),1,0)*Table_NFI[[#This Row],[Plastic Mat]],Table_NFI[Plastic Mat])","v":0},{"$f":"IFERROR(VLOOKUP(Table_NFI[[#This Row],[Camp Name]],CL,2,0),\"\")","v":"MMR001CMP047"},{"$f":"IFERROR(VLOOKUP(Table_NFI[[#This Row],[Camp Name]],CL,3,0),\"\")","v":"Open"},{"$f":"IFERROR(Table_NFI[[#This Row],[Kitchen Set]]/VLOOKUP(Table_NFI[[#This Row],[Camp Name]],CL,4,0),\"\")","v":0}]
[19.3,"2012-06-01","UNHCR","UNHCR","Kachin","Myitkyina","Maw Hpawng Hka Nan Baptist Church",null,null,0,22,11,22,11,11,11,11,{"$f":"IF(NFI_Expiration=1,IF($A114<VLOOKUP(H$5,NFI,5,0),1,0)*Table_NFI[[#This Row],[Hygiene Kit]],Table_NFI[Hygiene Kit])","v":0},{"$f":"IF(NFI_Expiration=1,IF($A114<VLOOKUP(I$5,NFI,5,0),1,0)*Table_NFI[[#This Row],[NFI Core Kit]],Table_NFI[NFI Core Kit])","v":0},{"$f":"IF(NFI_Expiration=1,IF($A114<VLOOKUP(J$5,NFI,5,0),1,0)*Table_NFI[[#This Row],[Sanitary Kit]],Table_NFI[Sanitary Kit])","v":0},{"$f":"IF(NFI_Expiration=1,IF($A114<VLOOKUP(K$5,NFI,5,0),1,0)*Table_NFI[[#This Row],[Mosquito net]],Table_NFI[Mosquito net])","v":0},{"$f":"IF(NFI_Expiration=1,IF($A114<VLOOKUP(L$5,NFI,5,0),1,0)*Table_NFI[[#This Row],[Tarpaulin]],Table_NFI[[#This Row],[Tarpaulin]])","v":0},{"$f":"IF(NFI_Expiration=1,IF($A114<VLOOKUP(M$5,NFI,5,0),1,0)*Table_NFI[[#This Row],[Blanket]],Table_NFI[[#This Row],[Blanket]])","v":0},{"$f":"IF(NFI_Expiration=1,IF($A114<VLOOKUP(N$5,NFI,5,0),1,0)*Table_NFI[[#This Row],[Kitchen Set]],Table_NFI[Kitchen Set])","v":0},{"$f":"IF(NFI_Expiration=1,IF($A114<VLOOKUP(O$5,NFI,5,0),1,0)*Table_NFI[[#This Row],[Complementary Kit]],Table_NFI[Complementary Kit])","v":0},{"$f":"IF(NFI_Expiration=1,IF($A114<VLOOKUP(P$5,NFI,5,0),1,0)*Table_NFI[[#This Row],[Plastic Bucket]],Table_NFI[Plastic Bucket])","v":0},{"$f":"IF(NFI_Expiration=1,IF($A114<VLOOKUP(Q$5,NFI,5,0),1,0)*Table_NFI[[#This Row],[Plastic Mat]],Table_NFI[Plastic Mat])","v":0},{"$f":"IFERROR(VLOOKUP(Table_NFI[[#This Row],[Camp Name]],CL,2,0),\"\")","v":"MMR001CMP020"},{"$f":"IFERROR(VLOOKUP(Table_NFI[[#This Row],[Camp Name]],CL,3,0),\"\")","v":"Open"},{"$f":"IFERROR(Table_NFI[[#This Row],[Kitchen Set]]/VLOOKUP(Table_NFI[[#This Row],[Camp Name]],CL,4,0),\"\")","v":0.42307692307692307}]
[19.3,"2012-06-01","UNHCR","UNHCR","Kachin","Myitkyina","Maw Hpawng Lhaovo Baptist Church",null,null,0,35,17,35,17,17,17,17,{"$f":"IF(NFI_Expiration=1,IF($A115<VLOOKUP(H$5,NFI,5,0),1,0)*Table_NFI[[#This Row],[Hygiene Kit]],Table_NFI[Hygiene Kit])","v":0},{"$f":"IF(NFI_Expiration=1,IF($A115<VLOOKUP(I$5,NFI,5,0),1,0)*Table_NFI[[#This Row],[NFI Core Kit]],Table_NFI[NFI Core Kit])","v":0},{"$f":"IF(NFI_Expiration=1,IF($A115<VLOOKUP(J$5,NFI,5,0),1,0)*Table_NFI[[#This Row],[Sanitary Kit]],Table_NFI[Sanitary Kit])","v":0},{"$f":"IF(NFI_Expiration=1,IF($A115<VLOOKUP(K$5,NFI,5,0),1,0)*Table_NFI[[#This Row],[Mosquito net]],Table_NFI[Mosquito net])","v":0},{"$f":"IF(NFI_Expiration=1,IF($A115<VLOOKUP(L$5,NFI,5,0),1,0)*Table_NFI[[#This Row],[Tarpaulin]],Table_NFI[[#This Row],[Tarpaulin]])","v":0},{"$f":"IF(NFI_Expiration=1,IF($A115<VLOOKUP(M$5,NFI,5,0),1,0)*Table_NFI[[#This Row],[Blanket]],Table_NFI[[#This Row],[Blanket]])","v":0},{"$f":"IF(NFI_Expiration=1,IF($A115<VLOOKUP(N$5,NFI,5,0),1,0)*Table_NFI[[#This Row],[Kitchen Set]],Table_NFI[Kitchen Set])","v":0},{"$f":"IF(NFI_Expiration=1,IF($A115<VLOOKUP(O$5,NFI,5,0),1,0)*Table_NFI[[#This Row],[Complementary Kit]],Table_NFI[Complementary Kit])","v":0},{"$f":"IF(NFI_Expiration=1,IF($A115<VLOOKUP(P$5,NFI,5,0),1,0)*Table_NFI[[#This Row],[Plastic Bucket]],Table_NFI[Plastic Bucket])","v":0},{"$f":"IF(NFI_Expiration=1,IF($A115<VLOOKUP(Q$5,NFI,5,0),1,0)*Table_NFI[[#This Row],[Plastic Mat]],Table_NFI[Plastic Mat])","v":0},{"$f":"IFERROR(VLOOKUP(Table_NFI[[#This Row],[Camp Name]],CL,2,0),\"\")","v":"MMR001CMP021"},{"$f":"IFERROR(VLOOKUP(Table_NFI[[#This Row],[Camp Name]],CL,3,0),\"\")","v":"Open"},{"$f":"IFERROR(Table_NFI[[#This Row],[Kitchen Set]]/VLOOKUP(Table_NFI[[#This Row],[Camp Name]],CL,4,0),\"\")","v":0.80952380952380953}]
[19.166666666666668,"2012-06-05","UNHCR","UNHCR","Kachin","Momauk","Momauk Catholic Church (St. Patrick)",null,null,0,10,5,10,5,5,5,5,{"$f":"IF(NFI_Expiration=1,IF($A116<VLOOKUP(H$5,NFI,5,0),1,0)*Table_NFI[[#This Row],[Hygiene Kit]],Table_NFI[Hygiene Kit])","v":0},{"$f":"IF(NFI_Expiration=1,IF($A116<VLOOKUP(I$5,NFI,5,0),1,0)*Table_NFI[[#This Row],[NFI Core Kit]],Table_NFI[NFI Core Kit])","v":0},{"$f":"IF(NFI_Expiration=1,IF($A116<VLOOKUP(J$5,NFI,5,0),1,0)*Table_NFI[[#This Row],[Sanitary Kit]],Table_NFI[Sanitary Kit])","v":0},{"$f":"IF(NFI_Expiration=1,IF($A116<VLOOKUP(K$5,NFI,5,0),1,0)*Table_NFI[[#This Row],[Mosquito net]],Table_NFI[Mosquito net])","v":0},{"$f":"IF(NFI_Expiration=1,IF($A116<VLOOKUP(L$5,NFI,5,0),1,0)*Table_NFI[[#This Row],[Tarpaulin]],Table_NFI[[#This Row],[Tarpaulin]])","v":0},{"$f":"IF(NFI_Expiration=1,IF($A116<VLOOKUP(M$5,NFI,5,0),1,0)*Table_NFI[[#This Row],[Blanket]],Table_NFI[[#This Row],[Blanket]])","v":0},{"$f":"IF(NFI_Expiration=1,IF($A116<VLOOKUP(N$5,NFI,5,0),1,0)*Table_NFI[[#This Row],[Kitchen Set]],Table_NFI[Kitchen Set])","v":0},{"$f":"IF(NFI_Expiration=1,IF($A116<VLOOKUP(O$5,NFI,5,0),1,0)*Table_NFI[[#This Row],[Complementary Kit]],Table_NFI[Complementary Kit])","v":0},{"$f":"IF(NFI_Expiration=1,IF($A116<VLOOKUP(P$5,NFI,5,0),1,0)*Table_NFI[[#This Row],[Plastic Bucket]],Table_NFI[Plastic Bucket])","v":0},{"$f":"IF(NFI_Expiration=1,IF($A116<VLOOKUP(Q$5,NFI,5,0),1,0)*Table_NFI[[#This Row],[Plastic Mat]],Table_NFI[Plastic Mat])","v":0},{"$f":"IFERROR(VLOOKUP(Table_NFI[[#This Row],[Camp Name]],CL,2,0),\"\")","v":"MMR001CMP057"},{"$f":"IFERROR(VLOOKUP(Table_NFI[[#This Row],[Camp Name]],CL,3,0),\"\")","v":"Open"},{"$f":"IFERROR(Table_NFI[[#This Row],[Kitchen Set]]/VLOOKUP(Table_NFI[[#This Row],[Camp Name]],CL,4,0),\"\")","v":1.7605633802816902E-2}]
[19.133333333333333,"2012-06-06","UNHCR","UNHCR ","Kachin","Momauk","Hpun Lum Yang ",null,null,0,0,200,0,0,0,null,null,{"$f":"IF(NFI_Expiration=1,IF($A117<VLOOKUP(H$5,NFI,5,0),1,0)*Table_NFI[[#This Row],[Hygiene Kit]],Table_NFI[Hygiene Kit])","v":0},{"$f":"IF(NFI_Expiration=1,IF($A117<VLOOKUP(I$5,NFI,5,0),1,0)*Table_NFI[[#This Row],[NFI Core Kit]],Table_NFI[NFI Core Kit])","v":0},{"$f":"IF(NFI_Expiration=1,IF($A117<VLOOKUP(J$5,NFI,5,0),1,0)*Table_NFI[[#This Row],[Sanitary Kit]],Table_NFI[Sanitary Kit])","v":0},{"$f":"IF(NFI_Expiration=1,IF($A117<VLOOKUP(K$5,NFI,5,0),1,0)*Table_NFI[[#This Row],[Mosquito net]],Table_NFI[Mosquito net])","v":0},{"$f":"IF(NFI_Expiration=1,IF($A117<VLOOKUP(L$5,NFI,5,0),1,0)*Table_NFI[[#This Row],[Tarpaulin]],Table_NFI[[#This Row],[Tarpaulin]])","v":0},{"$f":"IF(NFI_Expiration=1,IF($A117<VLOOKUP(M$5,NFI,5,0),1,0)*Table_NFI[[#This Row],[Blanket]],Table_NFI[[#This Row],[Blanket]])","v":0},{"$f":"IF(NFI_Expiration=1,IF($A117<VLOOKUP(N$5,NFI,5,0),1,0)*Table_NFI[[#This Row],[Kitchen Set]],Table_NFI[Kitchen Set])","v":0},{"$f":"IF(NFI_Expiration=1,IF($A117<VLOOKUP(O$5,NFI,5,0),1,0)*Table_NFI[[#This Row],[Complementary Kit]],Table_NFI[Complementary Kit])","v":0},{"$f":"IF(NFI_Expiration=1,IF($A117<VLOOKUP(P$5,NFI,5,0),1,0)*Table_NFI[[#This Row],[Plastic Bucket]],Table_NFI[Plastic Bucket])","v":0},{"$f":"IF(NFI_Expiration=1,IF($A117<VLOOKUP(Q$5,NFI,5,0),1,0)*Table_NFI[[#This Row],[Plastic Mat]],Table_NFI[Plastic Mat])","v":0},{"$f":"IFERROR(VLOOKUP(Table_NFI[[#This Row],[Camp Name]],CL,2,0),\"\")","v":"MMR001CMP122"},{"$f":"IFERROR(VLOOKUP(Table_NFI[[#This Row],[Camp Name]],CL,3,0),\"\")","v":"Open"},{"$f":"IFERROR(Table_NFI[[#This Row],[Kitchen Set]]/VLOOKUP(Table_NFI[[#This Row],[Camp Name]],CL,4,0),\"\")","v":0}]
[19.133333333333333,"2012-06-06","UNHCR","UNHCR","Kachin","Momauk","Pa Kahtawng ",null,null,0,144,76,143,76,78,78,78,{"$f":"IF(NFI_Expiration=1,IF($A118<VLOOKUP(H$5,NFI,5,0),1,0)*Table_NFI[[#This Row],[Hygiene Kit]],Table_NFI[Hygiene Kit])","v":0},{"$f":"IF(NFI_Expiration=1,IF($A118<VLOOKUP(I$5,NFI,5,0),1,0)*Table_NFI[[#This Row],[NFI Core Kit]],Table_NFI[NFI Core Kit])","v":0},{"$f":"IF(NFI_Expiration=1,IF($A118<VLOOKUP(J$5,NFI,5,0),1,0)*Table_NFI[[#This Row],[Sanitary Kit]],Table_NFI[Sanitary Kit])","v":0},{"$f":"IF(NFI_Expiration=1,IF($A118<VLOOKUP(K$5,NFI,5,0),1,0)*Table_NFI[[#This Row],[Mosquito net]],Table_NFI[Mosquito net])","v":0},{"$f":"IF(NFI_Expiration=1,IF($A118<VLOOKUP(L$5,NFI,5,0),1,0)*Table_NFI[[#This Row],[Tarpaulin]],Table_NFI[[#This Row],[Tarpaulin]])","v":0},{"$f":"IF(NFI_Expiration=1,IF($A118<VLOOKUP(M$5,NFI,5,0),1,0)*Table_NFI[[#This Row],[Blanket]],Table_NFI[[#This Row],[Blanket]])","v":0},{"$f":"IF(NFI_Expiration=1,IF($A118<VLOOKUP(N$5,NFI,5,0),1,0)*Table_NFI[[#This Row],[Kitchen Set]],Table_NFI[Kitchen Set])","v":0},{"$f":"IF(NFI_Expiration=1,IF($A118<VLOOKUP(O$5,NFI,5,0),1,0)*Table_NFI[[#This Row],[Complementary Kit]],Table_NFI[Complementary Kit])","v":0},{"$f":"IF(NFI_Expiration=1,IF($A118<VLOOKUP(P$5,NFI,5,0),1,0)*Table_NFI[[#This Row],[Plastic Bucket]],Table_NFI[Plastic Bucket])","v":0},{"$f":"IF(NFI_Expiration=1,IF($A118<VLOOKUP(Q$5,NFI,5,0),1,0)*Table_NFI[[#This Row],[Plastic Mat]],Table_NFI[Plastic Mat])","v":0},{"$f":"IFERROR(VLOOKUP(Table_NFI[[#This Row],[Camp Name]],CL,2,0),\"\")","v":"MMR001CMP126"},{"$f":"IFERROR(VLOOKUP(Table_NFI[[#This Row],[Camp Name]],CL,3,0),\"\")","v":"Open"},{"$f":"IFERROR(Table_NFI[[#This Row],[Kitchen Set]]/VLOOKUP(Table_NFI[[#This Row],[Camp Name]],CL,4,0),\"\")","v":0.14728682170542637}]
[19.066666666666666,"2012-06-08","UNHCR","UNHCR","Kachin","Bhamo","Nant Hlaing Church",null,null,0,12,6,12,6,6,6,6,{"$f":"IF(NFI_Expiration=1,IF($A119<VLOOKUP(H$5,NFI,5,0),1,0)*Table_NFI[[#This Row],[Hygiene Kit]],Table_NFI[Hygiene Kit])","v":0},{"$f":"IF(NFI_Expiration=1,IF($A119<VLOOKUP(I$5,NFI,5,0),1,0)*Table_NFI[[#This Row],[NFI Core Kit]],Table_NFI[NFI Core Kit])","v":0},{"$f":"IF(NFI_Expiration=1,IF($A119<VLOOKUP(J$5,NFI,5,0),1,0)*Table_NFI[[#This Row],[Sanitary Kit]],Table_NFI[Sanitary Kit])","v":0},{"$f":"IF(NFI_Expiration=1,IF($A119<VLOOKUP(K$5,NFI,5,0),1,0)*Table_NFI[[#This Row],[Mosquito net]],Table_NFI[Mosquito net])","v":0},{"$f":"IF(NFI_Expiration=1,IF($A119<VLOOKUP(L$5,NFI,5,0),1,0)*Table_NFI[[#This Row],[Tarpaulin]],Table_NFI[[#This Row],[Tarpaulin]])","v":0},{"$f":"IF(NFI_Expiration=1,IF($A119<VLOOKUP(M$5,NFI,5,0),1,0)*Table_NFI[[#This Row],[Blanket]],Table_NFI[[#This Row],[Blanket]])","v":0},{"$f":"IF(NFI_Expiration=1,IF($A119<VLOOKUP(N$5,NFI,5,0),1,0)*Table_NFI[[#This Row],[Kitchen Set]],Table_NFI[Kitchen Set])","v":0},{"$f":"IF(NFI_Expiration=1,IF($A119<VLOOKUP(O$5,NFI,5,0),1,0)*Table_NFI[[#This Row],[Complementary Kit]],Table_NFI[Complementary Kit])","v":0},{"$f":"IF(NFI_Expiration=1,IF($A119<VLOOKUP(P$5,NFI,5,0),1,0)*Table_NFI[[#This Row],[Plastic Bucket]],Table_NFI[Plastic Bucket])","v":0},{"$f":"IF(NFI_Expiration=1,IF($A119<VLOOKUP(Q$5,NFI,5,0),1,0)*Table_NFI[[#This Row],[Plastic Mat]],Table_NFI[Plastic Mat])","v":0},{"$f":"IFERROR(VLOOKUP(Table_NFI[[#This Row],[Camp Name]],CL,2,0),\"\")","v":"MMR001CMP054"},{"$f":"IFERROR(VLOOKUP(Table_NFI[[#This Row],[Camp Name]],CL,3,0),\"\")","v":"Open"},{"$f":"IFERROR(Table_NFI[[#This Row],[Kitchen Set]]/VLOOKUP(Table_NFI[[#This Row],[Camp Name]],CL,4,0),\"\")","v":0.27272727272727271}]
[19,"2012-06-10","UNHCR","UNHCR","Kachin","Chipwi","Lhaovao Baptist Church (LBC)",null,null,0,200,100,150,100,100,100,100,{"$f":"IF(NFI_Expiration=1,IF($A120<VLOOKUP(H$5,NFI,5,0),1,0)*Table_NFI[[#This Row],[Hygiene Kit]],Table_NFI[Hygiene Kit])","v":0},{"$f":"IF(NFI_Expiration=1,IF($A120<VLOOKUP(I$5,NFI,5,0),1,0)*Table_NFI[[#This Row],[NFI Core Kit]],Table_NFI[NFI Core Kit])","v":0},{"$f":"IF(NFI_Expiration=1,IF($A120<VLOOKUP(J$5,NFI,5,0),1,0)*Table_NFI[[#This Row],[Sanitary Kit]],Table_NFI[Sanitary Kit])","v":0},{"$f":"IF(NFI_Expiration=1,IF($A120<VLOOKUP(K$5,NFI,5,0),1,0)*Table_NFI[[#This Row],[Mosquito net]],Table_NFI[Mosquito net])","v":0},{"$f":"IF(NFI_Expiration=1,IF($A120<VLOOKUP(L$5,NFI,5,0),1,0)*Table_NFI[[#This Row],[Tarpaulin]],Table_NFI[[#This Row],[Tarpaulin]])","v":0},{"$f":"IF(NFI_Expiration=1,IF($A120<VLOOKUP(M$5,NFI,5,0),1,0)*Table_NFI[[#This Row],[Blanket]],Table_NFI[[#This Row],[Blanket]])","v":0},{"$f":"IF(NFI_Expiration=1,IF($A120<VLOOKUP(N$5,NFI,5,0),1,0)*Table_NFI[[#This Row],[Kitchen Set]],Table_NFI[Kitchen Set])","v":0},{"$f":"IF(NFI_Expiration=1,IF($A120<VLOOKUP(O$5,NFI,5,0),1,0)*Table_NFI[[#This Row],[Complementary Kit]],Table_NFI[Complementary Kit])","v":0},{"$f":"IF(NFI_Expiration=1,IF($A120<VLOOKUP(P$5,NFI,5,0),1,0)*Table_NFI[[#This Row],[Plastic Bucket]],Table_NFI[Plastic Bucket])","v":0},{"$f":"IF(NFI_Expiration=1,IF($A120<VLOOKUP(Q$5,NFI,5,0),1,0)*Table_NFI[[#This Row],[Plastic Mat]],Table_NFI[Plastic Mat])","v":0},{"$f":"IFERROR(VLOOKUP(Table_NFI[[#This Row],[Camp Name]],CL,2,0),\"\")","v":"MMR001CMP195"},{"$f":"IFERROR(VLOOKUP(Table_NFI[[#This Row],[Camp Name]],CL,3,0),\"\")","v":"Open"},{"$f":"IFERROR(Table_NFI[[#This Row],[Kitchen Set]]/VLOOKUP(Table_NFI[[#This Row],[Camp Name]],CL,4,0),\"\")","v":0.72992700729927007}]
[18.7,"2012-06-19","UNHCR","UNHCR","Kachin","Waingmaw","Thargaya Lisu Baptist Church",null,null,0,31,15,31,15,15,15,15,{"$f":"IF(NFI_Expiration=1,IF($A121<VLOOKUP(H$5,NFI,5,0),1,0)*Table_NFI[[#This Row],[Hygiene Kit]],Table_NFI[Hygiene Kit])","v":0},{"$f":"IF(NFI_Expiration=1,IF($A121<VLOOKUP(I$5,NFI,5,0),1,0)*Table_NFI[[#This Row],[NFI Core Kit]],Table_NFI[NFI Core Kit])","v":0},{"$f":"IF(NFI_Expiration=1,IF($A121<VLOOKUP(J$5,NFI,5,0),1,0)*Table_NFI[[#This Row],[Sanitary Kit]],Table_NFI[Sanitary Kit])","v":0},{"$f":"IF(NFI_Expiration=1,IF($A121<VLOOKUP(K$5,NFI,5,0),1,0)*Table_NFI[[#This Row],[Mosquito net]],Table_NFI[Mosquito net])","v":0},{"$f":"IF(NFI_Expiration=1,IF($A121<VLOOKUP(L$5,NFI,5,0),1,0)*Table_NFI[[#This Row],[Tarpaulin]],Table_NFI[[#This Row],[Tarpaulin]])","v":0},{"$f":"IF(NFI_Expiration=1,IF($A121<VLOOKUP(M$5,NFI,5,0),1,0)*Table_NFI[[#This Row],[Blanket]],Table_NFI[[#This Row],[Blanket]])","v":0},{"$f":"IF(NFI_Expiration=1,IF($A121<VLOOKUP(N$5,NFI,5,0),1,0)*Table_NFI[[#This Row],[Kitchen Set]],Table_NFI[Kitchen Set])","v":0},{"$f":"IF(NFI_Expiration=1,IF($A121<VLOOKUP(O$5,NFI,5,0),1,0)*Table_NFI[[#This Row],[Complementary Kit]],Table_NFI[Complementary Kit])","v":0},{"$f":"IF(NFI_Expiration=1,IF($A121<VLOOKUP(P$5,NFI,5,0),1,0)*Table_NFI[[#This Row],[Plastic Bucket]],Table_NFI[Plastic Bucket])","v":0},{"$f":"IF(NFI_Expiration=1,IF($A121<VLOOKUP(Q$5,NFI,5,0),1,0)*Table_NFI[[#This Row],[Plastic Mat]],Table_NFI[Plastic Mat])","v":0},{"$f":"IFERROR(VLOOKUP(Table_NFI[[#This Row],[Camp Name]],CL,2,0),\"\")","v":"MMR001CMP037"},{"$f":"IFERROR(VLOOKUP(Table_NFI[[#This Row],[Camp Name]],CL,3,0),\"\")","v":"Open"},{"$f":"IFERROR(Table_NFI[[#This Row],[Kitchen Set]]/VLOOKUP(Table_NFI[[#This Row],[Camp Name]],CL,4,0),\"\")","v":0.20270270270270271}]
[18.7,"2012-06-19","UNHCR","UNHCR","Kachin","Waingmaw","Waingmaw AG Church",null,null,0,28,15,28,15,15,15,15,{"$f":"IF(NFI_Expiration=1,IF($A122<VLOOKUP(H$5,NFI,5,0),1,0)*Table_NFI[[#This Row],[Hygiene Kit]],Table_NFI[Hygiene Kit])","v":0},{"$f":"IF(NFI_Expiration=1,IF($A122<VLOOKUP(I$5,NFI,5,0),1,0)*Table_NFI[[#This Row],[NFI Core Kit]],Table_NFI[NFI Core Kit])","v":0},{"$f":"IF(NFI_Expiration=1,IF($A122<VLOOKUP(J$5,NFI,5,0),1,0)*Table_NFI[[#This Row],[Sanitary Kit]],Table_NFI[Sanitary Kit])","v":0},{"$f":"IF(NFI_Expiration=1,IF($A122<VLOOKUP(K$5,NFI,5,0),1,0)*Table_NFI[[#This Row],[Mosquito net]],Table_NFI[Mosquito net])","v":0},{"$f":"IF(NFI_Expiration=1,IF($A122<VLOOKUP(L$5,NFI,5,0),1,0)*Table_NFI[[#This Row],[Tarpaulin]],Table_NFI[[#This Row],[Tarpaulin]])","v":0},{"$f":"IF(NFI_Expiration=1,IF($A122<VLOOKUP(M$5,NFI,5,0),1,0)*Table_NFI[[#This Row],[Blanket]],Table_NFI[[#This Row],[Blanket]])","v":0},{"$f":"IF(NFI_Expiration=1,IF($A122<VLOOKUP(N$5,NFI,5,0),1,0)*Table_NFI[[#This Row],[Kitchen Set]],Table_NFI[Kitchen Set])","v":0},{"$f":"IF(NFI_Expiration=1,IF($A122<VLOOKUP(O$5,NFI,5,0),1,0)*Table_NFI[[#This Row],[Complementary Kit]],Table_NFI[Complementary Kit])","v":0},{"$f":"IF(NFI_Expiration=1,IF($A122<VLOOKUP(P$5,NFI,5,0),1,0)*Table_NFI[[#This Row],[Plastic Bucket]],Table_NFI[Plastic Bucket])","v":0},{"$f":"IF(NFI_Expiration=1,IF($A122<VLOOKUP(Q$5,NFI,5,0),1,0)*Table_NFI[[#This Row],[Plastic Mat]],Table_NFI[Plastic Mat])","v":0},{"$f":"IFERROR(VLOOKUP(Table_NFI[[#This Row],[Camp Name]],CL,2,0),\"\")","v":"MMR001CMP038"},{"$f":"IFERROR(VLOOKUP(Table_NFI[[#This Row],[Camp Name]],CL,3,0),\"\")","v":"Open"},{"$f":"IFERROR(Table_NFI[[#This Row],[Kitchen Set]]/VLOOKUP(Table_NFI[[#This Row],[Camp Name]],CL,4,0),\"\")","v":0.18518518518518517}]
[18.7,"2012-06-19","UNHCR","UNHCR","Kachin","Waingmaw","Maina KBC (Bawng Ring)",null,null,0,32,17,32,17,17,17,17,{"$f":"IF(NFI_Expiration=1,IF($A123<VLOOKUP(H$5,NFI,5,0),1,0)*Table_NFI[[#This Row],[Hygiene Kit]],Table_NFI[Hygiene Kit])","v":0},{"$f":"IF(NFI_Expiration=1,IF($A123<VLOOKUP(I$5,NFI,5,0),1,0)*Table_NFI[[#This Row],[NFI Core Kit]],Table_NFI[NFI Core Kit])","v":0},{"$f":"IF(NFI_Expiration=1,IF($A123<VLOOKUP(J$5,NFI,5,0),1,0)*Table_NFI[[#This Row],[Sanitary Kit]],Table_NFI[Sanitary Kit])","v":0},{"$f":"IF(NFI_Expiration=1,IF($A123<VLOOKUP(K$5,NFI,5,0),1,0)*Table_NFI[[#This Row],[Mosquito net]],Table_NFI[Mosquito net])","v":0},{"$f":"IF(NFI_Expiration=1,IF($A123<VLOOKUP(L$5,NFI,5,0),1,0)*Table_NFI[[#This Row],[Tarpaulin]],Table_NFI[[#This Row],[Tarpaulin]])","v":0},{"$f":"IF(NFI_Expiration=1,IF($A123<VLOOKUP(M$5,NFI,5,0),1,0)*Table_NFI[[#This Row],[Blanket]],Table_NFI[[#This Row],[Blanket]])","v":0},{"$f":"IF(NFI_Expiration=1,IF($A123<VLOOKUP(N$5,NFI,5,0),1,0)*Table_NFI[[#This Row],[Kitchen Set]],Table_NFI[Kitchen Set])","v":0},{"$f":"IF(NFI_Expiration=1,IF($A123<VLOOKUP(O$5,NFI,5,0),1,0)*Table_NFI[[#This Row],[Complementary Kit]],Table_NFI[Complementary Kit])","v":0},{"$f":"IF(NFI_Expiration=1,IF($A123<VLOOKUP(P$5,NFI,5,0),1,0)*Table_NFI[[#This Row],[Plastic Bucket]],Table_NFI[Plastic Bucket])","v":0},{"$f":"IF(NFI_Expiration=1,IF($A123<VLOOKUP(Q$5,NFI,5,0),1,0)*Table_NFI[[#This Row],[Plastic Mat]],Table_NFI[Plastic Mat])","v":0},{"$f":"IFERROR(VLOOKUP(Table_NFI[[#This Row],[Camp Name]],CL,2,0),\"\")","v":"MMR001CMP040"},{"$f":"IFERROR(VLOOKUP(Table_NFI[[#This Row],[Camp Name]],CL,3,0),\"\")","v":"Open"},{"$f":"IFERROR(Table_NFI[[#This Row],[Kitchen Set]]/VLOOKUP(Table_NFI[[#This Row],[Camp Name]],CL,4,0),\"\")","v":4.0476190476190478E-2}]
[18.666666666666668,"2012-06-20","UNHCR","UNHCR","Kachin","Waingmaw","Waingmaw Baptist Zonal Office",null,null,0,141,81,148,84,78,78,78,{"$f":"IF(NFI_Expiration=1,IF($A124<VLOOKUP(H$5,NFI,5,0),1,0)*Table_NFI[[#This Row],[Hygiene Kit]],Table_NFI[Hygiene Kit])","v":0},{"$f":"IF(NFI_Expiration=1,IF($A124<VLOOKUP(I$5,NFI,5,0),1,0)*Table_NFI[[#This Row],[NFI Core Kit]],Table_NFI[NFI Core Kit])","v":0},{"$f":"IF(NFI_Expiration=1,IF($A124<VLOOKUP(J$5,NFI,5,0),1,0)*Table_NFI[[#This Row],[Sanitary Kit]],Table_NFI[Sanitary Kit])","v":0},{"$f":"IF(NFI_Expiration=1,IF($A124<VLOOKUP(K$5,NFI,5,0),1,0)*Table_NFI[[#This Row],[Mosquito net]],Table_NFI[Mosquito net])","v":0},{"$f":"IF(NFI_Expiration=1,IF($A124<VLOOKUP(L$5,NFI,5,0),1,0)*Table_NFI[[#This Row],[Tarpaulin]],Table_NFI[[#This Row],[Tarpaulin]])","v":0},{"$f":"IF(NFI_Expiration=1,IF($A124<VLOOKUP(M$5,NFI,5,0),1,0)*Table_NFI[[#This Row],[Blanket]],Table_NFI[[#This Row],[Blanket]])","v":0},{"$f":"IF(NFI_Expiration=1,IF($A124<VLOOKUP(N$5,NFI,5,0),1,0)*Table_NFI[[#This Row],[Kitchen Set]],Table_NFI[Kitchen Set])","v":0},{"$f":"IF(NFI_Expiration=1,IF($A124<VLOOKUP(O$5,NFI,5,0),1,0)*Table_NFI[[#This Row],[Complementary Kit]],Table_NFI[Complementary Kit])","v":0},{"$f":"IF(NFI_Expiration=1,IF($A124<VLOOKUP(P$5,NFI,5,0),1,0)*Table_NFI[[#This Row],[Plastic Bucket]],Table_NFI[Plastic Bucket])","v":0},{"$f":"IF(NFI_Expiration=1,IF($A124<VLOOKUP(Q$5,NFI,5,0),1,0)*Table_NFI[[#This Row],[Plastic Mat]],Table_NFI[Plastic Mat])","v":0},{"$f":"IFERROR(VLOOKUP(Table_NFI[[#This Row],[Camp Name]],CL,2,0),\"\")","v":"MMR001CMP036"},{"$f":"IFERROR(VLOOKUP(Table_NFI[[#This Row],[Camp Name]],CL,3,0),\"\")","v":"Open"},{"$f":"IFERROR(Table_NFI[[#This Row],[Kitchen Set]]/VLOOKUP(Table_NFI[[#This Row],[Camp Name]],CL,4,0),\"\")","v":""}]
[18.600000000000001,"2012-06-22","UNHCR","UNHCR","Kachin","Momauk","Nhkawng Pa ",null,null,0,140,70,140,70,70,70,70,{"$f":"IF(NFI_Expiration=1,IF($A125<VLOOKUP(H$5,NFI,5,0),1,0)*Table_NFI[[#This Row],[Hygiene Kit]],Table_NFI[Hygiene Kit])","v":0},{"$f":"IF(NFI_Expiration=1,IF($A125<VLOOKUP(I$5,NFI,5,0),1,0)*Table_NFI[[#This Row],[NFI Core Kit]],Table_NFI[NFI Core Kit])","v":0},{"$f":"IF(NFI_Expiration=1,IF($A125<VLOOKUP(J$5,NFI,5,0),1,0)*Table_NFI[[#This Row],[Sanitary Kit]],Table_NFI[Sanitary Kit])","v":0},{"$f":"IF(NFI_Expiration=1,IF($A125<VLOOKUP(K$5,NFI,5,0),1,0)*Table_NFI[[#This Row],[Mosquito net]],Table_NFI[Mosquito net])","v":0},{"$f":"IF(NFI_Expiration=1,IF($A125<VLOOKUP(L$5,NFI,5,0),1,0)*Table_NFI[[#This Row],[Tarpaulin]],Table_NFI[[#This Row],[Tarpaulin]])","v":0},{"$f":"IF(NFI_Expiration=1,IF($A125<VLOOKUP(M$5,NFI,5,0),1,0)*Table_NFI[[#This Row],[Blanket]],Table_NFI[[#This Row],[Blanket]])","v":0},{"$f":"IF(NFI_Expiration=1,IF($A125<VLOOKUP(N$5,NFI,5,0),1,0)*Table_NFI[[#This Row],[Kitchen Set]],Table_NFI[Kitchen Set])","v":0},{"$f":"IF(NFI_Expiration=1,IF($A125<VLOOKUP(O$5,NFI,5,0),1,0)*Table_NFI[[#This Row],[Complementary Kit]],Table_NFI[Complementary Kit])","v":0},{"$f":"IF(NFI_Expiration=1,IF($A125<VLOOKUP(P$5,NFI,5,0),1,0)*Table_NFI[[#This Row],[Plastic Bucket]],Table_NFI[Plastic Bucket])","v":0},{"$f":"IF(NFI_Expiration=1,IF($A125<VLOOKUP(Q$5,NFI,5,0),1,0)*Table_NFI[[#This Row],[Plastic Mat]],Table_NFI[Plastic Mat])","v":0},{"$f":"IFERROR(VLOOKUP(Table_NFI[[#This Row],[Camp Name]],CL,2,0),\"\")","v":"MMR001CMP131"},{"$f":"IFERROR(VLOOKUP(Table_NFI[[#This Row],[Camp Name]],CL,3,0),\"\")","v":"Open"},{"$f":"IFERROR(Table_NFI[[#This Row],[Kitchen Set]]/VLOOKUP(Table_NFI[[#This Row],[Camp Name]],CL,4,0),\"\")","v":0.18087855297157623}]
[18.566666666666666,"2012-06-23","UNHCR","UNHCR","Kachin","Momauk","Dum Bung ",null,null,0,24,13,24,13,13,13,13,{"$f":"IF(NFI_Expiration=1,IF($A126<VLOOKUP(H$5,NFI,5,0),1,0)*Table_NFI[[#This Row],[Hygiene Kit]],Table_NFI[Hygiene Kit])","v":0},{"$f":"IF(NFI_Expiration=1,IF($A126<VLOOKUP(I$5,NFI,5,0),1,0)*Table_NFI[[#This Row],[NFI Core Kit]],Table_NFI[NFI Core Kit])","v":0},{"$f":"IF(NFI_Expiration=1,IF($A126<VLOOKUP(J$5,NFI,5,0),1,0)*Table_NFI[[#This Row],[Sanitary Kit]],Table_NFI[Sanitary Kit])","v":0},{"$f":"IF(NFI_Expiration=1,IF($A126<VLOOKUP(K$5,NFI,5,0),1,0)*Table_NFI[[#This Row],[Mosquito net]],Table_NFI[Mosquito net])","v":0},{"$f":"IF(NFI_Expiration=1,IF($A126<VLOOKUP(L$5,NFI,5,0),1,0)*Table_NFI[[#This Row],[Tarpaulin]],Table_NFI[[#This Row],[Tarpaulin]])","v":0},{"$f":"IF(NFI_Expiration=1,IF($A126<VLOOKUP(M$5,NFI,5,0),1,0)*Table_NFI[[#This Row],[Blanket]],Table_NFI[[#This Row],[Blanket]])","v":0},{"$f":"IF(NFI_Expiration=1,IF($A126<VLOOKUP(N$5,NFI,5,0),1,0)*Table_NFI[[#This Row],[Kitchen Set]],Table_NFI[Kitchen Set])","v":0},{"$f":"IF(NFI_Expiration=1,IF($A126<VLOOKUP(O$5,NFI,5,0),1,0)*Table_NFI[[#This Row],[Complementary Kit]],Table_NFI[Complementary Kit])","v":0},{"$f":"IF(NFI_Expiration=1,IF($A126<VLOOKUP(P$5,NFI,5,0),1,0)*Table_NFI[[#This Row],[Plastic Bucket]],Table_NFI[Plastic Bucket])","v":0},{"$f":"IF(NFI_Expiration=1,IF($A126<VLOOKUP(Q$5,NFI,5,0),1,0)*Table_NFI[[#This Row],[Plastic Mat]],Table_NFI[Plastic Mat])","v":0},{"$f":"IFERROR(VLOOKUP(Table_NFI[[#This Row],[Camp Name]],CL,2,0),\"\")","v":"MMR001CMP123"},{"$f":"IFERROR(VLOOKUP(Table_NFI[[#This Row],[Camp Name]],CL,3,0),\"\")","v":"Open"},{"$f":"IFERROR(Table_NFI[[#This Row],[Kitchen Set]]/VLOOKUP(Table_NFI[[#This Row],[Camp Name]],CL,4,0),\"\")","v":0.1092436974789916}]
[18.5,"2012-06-25","UNHCR","UNHCR","Kachin","Momauk","Momauk Baptist Church",null,null,0,290,145,290,145,145,145,145,{"$f":"IF(NFI_Expiration=1,IF($A127<VLOOKUP(H$5,NFI,5,0),1,0)*Table_NFI[[#This Row],[Hygiene Kit]],Table_NFI[Hygiene Kit])","v":0},{"$f":"IF(NFI_Expiration=1,IF($A127<VLOOKUP(I$5,NFI,5,0),1,0)*Table_NFI[[#This Row],[NFI Core Kit]],Table_NFI[NFI Core Kit])","v":0},{"$f":"IF(NFI_Expiration=1,IF($A127<VLOOKUP(J$5,NFI,5,0),1,0)*Table_NFI[[#This Row],[Sanitary Kit]],Table_NFI[Sanitary Kit])","v":0},{"$f":"IF(NFI_Expiration=1,IF($A127<VLOOKUP(K$5,NFI,5,0),1,0)*Table_NFI[[#This Row],[Mosquito net]],Table_NFI[Mosquito net])","v":0},{"$f":"IF(NFI_Expiration=1,IF($A127<VLOOKUP(L$5,NFI,5,0),1,0)*Table_NFI[[#This Row],[Tarpaulin]],Table_NFI[[#This Row],[Tarpaulin]])","v":0},{"$f":"IF(NFI_Expiration=1,IF($A127<VLOOKUP(M$5,NFI,5,0),1,0)*Table_NFI[[#This Row],[Blanket]],Table_NFI[[#This Row],[Blanket]])","v":0},{"$f":"IF(NFI_Expiration=1,IF($A127<VLOOKUP(N$5,NFI,5,0),1,0)*Table_NFI[[#This Row],[Kitchen Set]],Table_NFI[Kitchen Set])","v":0},{"$f":"IF(NFI_Expiration=1,IF($A127<VLOOKUP(O$5,NFI,5,0),1,0)*Table_NFI[[#This Row],[Complementary Kit]],Table_NFI[Complementary Kit])","v":0},{"$f":"IF(NFI_Expiration=1,IF($A127<VLOOKUP(P$5,NFI,5,0),1,0)*Table_NFI[[#This Row],[Plastic Bucket]],Table_NFI[Plastic Bucket])","v":0},{"$f":"IF(NFI_Expiration=1,IF($A127<VLOOKUP(Q$5,NFI,5,0),1,0)*Table_NFI[[#This Row],[Plastic Mat]],Table_NFI[Plastic Mat])","v":0},{"$f":"IFERROR(VLOOKUP(Table_NFI[[#This Row],[Camp Name]],CL,2,0),\"\")","v":"MMR001CMP056"},{"$f":"IFERROR(VLOOKUP(Table_NFI[[#This Row],[Camp Name]],CL,3,0),\"\")","v":"Open"},{"$f":"IFERROR(Table_NFI[[#This Row],[Kitchen Set]]/VLOOKUP(Table_NFI[[#This Row],[Camp Name]],CL,4,0),\"\")","v":0.36340852130325813}]
[18.166666666666668,"2012-07-05","UNHCR","UNHCR","Kachin","Bhamo","Ta Gun Taing Monastery (Shwe Kyi Na)",null,null,0,36,14,36,14,14,14,14,{"$f":"IF(NFI_Expiration=1,IF($A128<VLOOKUP(H$5,NFI,5,0),1,0)*Table_NFI[[#This Row],[Hygiene Kit]],Table_NFI[Hygiene Kit])","v":0},{"$f":"IF(NFI_Expiration=1,IF($A128<VLOOKUP(I$5,NFI,5,0),1,0)*Table_NFI[[#This Row],[NFI Core Kit]],Table_NFI[NFI Core Kit])","v":0},{"$f":"IF(NFI_Expiration=1,IF($A128<VLOOKUP(J$5,NFI,5,0),1,0)*Table_NFI[[#This Row],[Sanitary Kit]],Table_NFI[Sanitary Kit])","v":0},{"$f":"IF(NFI_Expiration=1,IF($A128<VLOOKUP(K$5,NFI,5,0),1,0)*Table_NFI[[#This Row],[Mosquito net]],Table_NFI[Mosquito net])","v":0},{"$f":"IF(NFI_Expiration=1,IF($A128<VLOOKUP(L$5,NFI,5,0),1,0)*Table_NFI[[#This Row],[Tarpaulin]],Table_NFI[[#This Row],[Tarpaulin]])","v":0},{"$f":"IF(NFI_Expiration=1,IF($A128<VLOOKUP(M$5,NFI,5,0),1,0)*Table_NFI[[#This Row],[Blanket]],Table_NFI[[#This Row],[Blanket]])","v":0},{"$f":"IF(NFI_Expiration=1,IF($A128<VLOOKUP(N$5,NFI,5,0),1,0)*Table_NFI[[#This Row],[Kitchen Set]],Table_NFI[Kitchen Set])","v":0},{"$f":"IF(NFI_Expiration=1,IF($A128<VLOOKUP(O$5,NFI,5,0),1,0)*Table_NFI[[#This Row],[Complementary Kit]],Table_NFI[Complementary Kit])","v":0},{"$f":"IF(NFI_Expiration=1,IF($A128<VLOOKUP(P$5,NFI,5,0),1,0)*Table_NFI[[#This Row],[Plastic Bucket]],Table_NFI[Plastic Bucket])","v":0},{"$f":"IF(NFI_Expiration=1,IF($A128<VLOOKUP(Q$5,NFI,5,0),1,0)*Table_NFI[[#This Row],[Plastic Mat]],Table_NFI[Plastic Mat])","v":0},{"$f":"IFERROR(VLOOKUP(Table_NFI[[#This Row],[Camp Name]],CL,2,0),\"\")","v":"MMR001CMP055"},{"$f":"IFERROR(VLOOKUP(Table_NFI[[#This Row],[Camp Name]],CL,3,0),\"\")","v":"Open"},{"$f":"IFERROR(Table_NFI[[#This Row],[Kitchen Set]]/VLOOKUP(Table_NFI[[#This Row],[Camp Name]],CL,4,0),\"\")","v":0.22950819672131148}]
[18.133333333333333,"2012-07-06","UNHCR","UNHCR","Kachin","Waingmaw","Waingmaw AG Church",null,null,0,17,17,17,17,17,17,17,{"$f":"IF(NFI_Expiration=1,IF($A129<VLOOKUP(H$5,NFI,5,0),1,0)*Table_NFI[[#This Row],[Hygiene Kit]],Table_NFI[Hygiene Kit])","v":0},{"$f":"IF(NFI_Expiration=1,IF($A129<VLOOKUP(I$5,NFI,5,0),1,0)*Table_NFI[[#This Row],[NFI Core Kit]],Table_NFI[NFI Core Kit])","v":0},{"$f":"IF(NFI_Expiration=1,IF($A129<VLOOKUP(J$5,NFI,5,0),1,0)*Table_NFI[[#This Row],[Sanitary Kit]],Table_NFI[Sanitary Kit])","v":0},{"$f":"IF(NFI_Expiration=1,IF($A129<VLOOKUP(K$5,NFI,5,0),1,0)*Table_NFI[[#This Row],[Mosquito net]],Table_NFI[Mosquito net])","v":0},{"$f":"IF(NFI_Expiration=1,IF($A129<VLOOKUP(L$5,NFI,5,0),1,0)*Table_NFI[[#This Row],[Tarpaulin]],Table_NFI[[#This Row],[Tarpaulin]])","v":0},{"$f":"IF(NFI_Expiration=1,IF($A129<VLOOKUP(M$5,NFI,5,0),1,0)*Table_NFI[[#This Row],[Blanket]],Table_NFI[[#This Row],[Blanket]])","v":0},{"$f":"IF(NFI_Expiration=1,IF($A129<VLOOKUP(N$5,NFI,5,0),1,0)*Table_NFI[[#This Row],[Kitchen Set]],Table_NFI[Kitchen Set])","v":0},{"$f":"IF(NFI_Expiration=1,IF($A129<VLOOKUP(O$5,NFI,5,0),1,0)*Table_NFI[[#This Row],[Complementary Kit]],Table_NFI[Complementary Kit])","v":0},{"$f":"IF(NFI_Expiration=1,IF($A129<VLOOKUP(P$5,NFI,5,0),1,0)*Table_NFI[[#This Row],[Plastic Bucket]],Table_NFI[Plastic Bucket])","v":0},{"$f":"IF(NFI_Expiration=1,IF($A129<VLOOKUP(Q$5,NFI,5,0),1,0)*Table_NFI[[#This Row],[Plastic Mat]],Table_NFI[Plastic Mat])","v":0},{"$f":"IFERROR(VLOOKUP(Table_NFI[[#This Row],[Camp Name]],CL,2,0),\"\")","v":"MMR001CMP038"},{"$f":"IFERROR(VLOOKUP(Table_NFI[[#This Row],[Camp Name]],CL,3,0),\"\")","v":"Open"},{"$f":"IFERROR(Table_NFI[[#This Row],[Kitchen Set]]/VLOOKUP(Table_NFI[[#This Row],[Camp Name]],CL,4,0),\"\")","v":0.20987654320987653}]
[18.033333333333335,"2012-07-09","UNHCR","UNHCR","Kachin","Waingmaw","Qtr. 2 Lhaovo Baptist Church",null,null,0,77,34,77,35,52,52,52,{"$f":"IF(NFI_Expiration=1,IF($A130<VLOOKUP(H$5,NFI,5,0),1,0)*Table_NFI[[#This Row],[Hygiene Kit]],Table_NFI[Hygiene Kit])","v":0},{"$f":"IF(NFI_Expiration=1,IF($A130<VLOOKUP(I$5,NFI,5,0),1,0)*Table_NFI[[#This Row],[NFI Core Kit]],Table_NFI[NFI Core Kit])","v":0},{"$f":"IF(NFI_Expiration=1,IF($A130<VLOOKUP(J$5,NFI,5,0),1,0)*Table_NFI[[#This Row],[Sanitary Kit]],Table_NFI[Sanitary Kit])","v":0},{"$f":"IF(NFI_Expiration=1,IF($A130<VLOOKUP(K$5,NFI,5,0),1,0)*Table_NFI[[#This Row],[Mosquito net]],Table_NFI[Mosquito net])","v":0},{"$f":"IF(NFI_Expiration=1,IF($A130<VLOOKUP(L$5,NFI,5,0),1,0)*Table_NFI[[#This Row],[Tarpaulin]],Table_NFI[[#This Row],[Tarpaulin]])","v":0},{"$f":"IF(NFI_Expiration=1,IF($A130<VLOOKUP(M$5,NFI,5,0),1,0)*Table_NFI[[#This Row],[Blanket]],Table_NFI[[#This Row],[Blanket]])","v":0},{"$f":"IF(NFI_Expiration=1,IF($A130<VLOOKUP(N$5,NFI,5,0),1,0)*Table_NFI[[#This Row],[Kitchen Set]],Table_NFI[Kitchen Set])","v":0},{"$f":"IF(NFI_Expiration=1,IF($A130<VLOOKUP(O$5,NFI,5,0),1,0)*Table_NFI[[#This Row],[Complementary Kit]],Table_NFI[Complementary Kit])","v":0},{"$f":"IF(NFI_Expiration=1,IF($A130<VLOOKUP(P$5,NFI,5,0),1,0)*Table_NFI[[#This Row],[Plastic Bucket]],Table_NFI[Plastic Bucket])","v":0},{"$f":"IF(NFI_Expiration=1,IF($A130<VLOOKUP(Q$5,NFI,5,0),1,0)*Table_NFI[[#This Row],[Plastic Mat]],Table_NFI[Plastic Mat])","v":0},{"$f":"IFERROR(VLOOKUP(Table_NFI[[#This Row],[Camp Name]],CL,2,0),\"\")","v":"MMR001CMP032"},{"$f":"IFERROR(VLOOKUP(Table_NFI[[#This Row],[Camp Name]],CL,3,0),\"\")","v":"Open"},{"$f":"IFERROR(Table_NFI[[#This Row],[Kitchen Set]]/VLOOKUP(Table_NFI[[#This Row],[Camp Name]],CL,4,0),\"\")","v":0.29166666666666669}]
[18,"2012-07-10","UNHCR","KMSS","Kachin","Waingmaw","Maga Yang ",null,null,0,0,599,675,599,0,null,null,{"$f":"IF(NFI_Expiration=1,IF($A131<VLOOKUP(H$5,NFI,5,0),1,0)*Table_NFI[[#This Row],[Hygiene Kit]],Table_NFI[Hygiene Kit])","v":0},{"$f":"IF(NFI_Expiration=1,IF($A131<VLOOKUP(I$5,NFI,5,0),1,0)*Table_NFI[[#This Row],[NFI Core Kit]],Table_NFI[NFI Core Kit])","v":0},{"$f":"IF(NFI_Expiration=1,IF($A131<VLOOKUP(J$5,NFI,5,0),1,0)*Table_NFI[[#This Row],[Sanitary Kit]],Table_NFI[Sanitary Kit])","v":0},{"$f":"IF(NFI_Expiration=1,IF($A131<VLOOKUP(K$5,NFI,5,0),1,0)*Table_NFI[[#This Row],[Mosquito net]],Table_NFI[Mosquito net])","v":0},{"$f":"IF(NFI_Expiration=1,IF($A131<VLOOKUP(L$5,NFI,5,0),1,0)*Table_NFI[[#This Row],[Tarpaulin]],Table_NFI[[#This Row],[Tarpaulin]])","v":0},{"$f":"IF(NFI_Expiration=1,IF($A131<VLOOKUP(M$5,NFI,5,0),1,0)*Table_NFI[[#This Row],[Blanket]],Table_NFI[[#This Row],[Blanket]])","v":0},{"$f":"IF(NFI_Expiration=1,IF($A131<VLOOKUP(N$5,NFI,5,0),1,0)*Table_NFI[[#This Row],[Kitchen Set]],Table_NFI[Kitchen Set])","v":0},{"$f":"IF(NFI_Expiration=1,IF($A131<VLOOKUP(O$5,NFI,5,0),1,0)*Table_NFI[[#This Row],[Complementary Kit]],Table_NFI[Complementary Kit])","v":0},{"$f":"IF(NFI_Expiration=1,IF($A131<VLOOKUP(P$5,NFI,5,0),1,0)*Table_NFI[[#This Row],[Plastic Bucket]],Table_NFI[Plastic Bucket])","v":0},{"$f":"IF(NFI_Expiration=1,IF($A131<VLOOKUP(Q$5,NFI,5,0),1,0)*Table_NFI[[#This Row],[Plastic Mat]],Table_NFI[Plastic Mat])","v":0},{"$f":"IFERROR(VLOOKUP(Table_NFI[[#This Row],[Camp Name]],CL,2,0),\"\")","v":"MMR001CMP119"},{"$f":"IFERROR(VLOOKUP(Table_NFI[[#This Row],[Camp Name]],CL,3,0),\"\")","v":"Open"},{"$f":"IFERROR(Table_NFI[[#This Row],[Kitchen Set]]/VLOOKUP(Table_NFI[[#This Row],[Camp Name]],CL,4,0),\"\")","v":0.9614767255216693}]
[17.899999999999999,"2012-07-13","UNHCR","UNHCR","Kachin","Waingmaw","Qtr. 4 Monestry (Thargaya Thayett Taw)",null,null,0,3,3,3,3,3,3,3,{"$f":"IF(NFI_Expiration=1,IF($A132<VLOOKUP(H$5,NFI,5,0),1,0)*Table_NFI[[#This Row],[Hygiene Kit]],Table_NFI[Hygiene Kit])","v":0},{"$f":"IF(NFI_Expiration=1,IF($A132<VLOOKUP(I$5,NFI,5,0),1,0)*Table_NFI[[#This Row],[NFI Core Kit]],Table_NFI[NFI Core Kit])","v":0},{"$f":"IF(NFI_Expiration=1,IF($A132<VLOOKUP(J$5,NFI,5,0),1,0)*Table_NFI[[#This Row],[Sanitary Kit]],Table_NFI[Sanitary Kit])","v":0},{"$f":"IF(NFI_Expiration=1,IF($A132<VLOOKUP(K$5,NFI,5,0),1,0)*Table_NFI[[#This Row],[Mosquito net]],Table_NFI[Mosquito net])","v":0},{"$f":"IF(NFI_Expiration=1,IF($A132<VLOOKUP(L$5,NFI,5,0),1,0)*Table_NFI[[#This Row],[Tarpaulin]],Table_NFI[[#This Row],[Tarpaulin]])","v":0},{"$f":"IF(NFI_Expiration=1,IF($A132<VLOOKUP(M$5,NFI,5,0),1,0)*Table_NFI[[#This Row],[Blanket]],Table_NFI[[#This Row],[Blanket]])","v":0},{"$f":"IF(NFI_Expiration=1,IF($A132<VLOOKUP(N$5,NFI,5,0),1,0)*Table_NFI[[#This Row],[Kitchen Set]],Table_NFI[Kitchen Set])","v":0},{"$f":"IF(NFI_Expiration=1,IF($A132<VLOOKUP(O$5,NFI,5,0),1,0)*Table_NFI[[#This Row],[Complementary Kit]],Table_NFI[Complementary Kit])","v":0},{"$f":"IF(NFI_Expiration=1,IF($A132<VLOOKUP(P$5,NFI,5,0),1,0)*Table_NFI[[#This Row],[Plastic Bucket]],Table_NFI[Plastic Bucket])","v":0},{"$f":"IF(NFI_Expiration=1,IF($A132<VLOOKUP(Q$5,NFI,5,0),1,0)*Table_NFI[[#This Row],[Plastic Mat]],Table_NFI[Plastic Mat])","v":0},{"$f":"IFERROR(VLOOKUP(Table_NFI[[#This Row],[Camp Name]],CL,2,0),\"\")","v":"MMR001CMP026"},{"$f":"IFERROR(VLOOKUP(Table_NFI[[#This Row],[Camp Name]],CL,3,0),\"\")","v":"Open"},{"$f":"IFERROR(Table_NFI[[#This Row],[Kitchen Set]]/VLOOKUP(Table_NFI[[#This Row],[Camp Name]],CL,4,0),\"\")","v":2.9702970297029702E-2}]
[17.899999999999999,"2012-07-13","UNHCR","UNHCR","Kachin","Waingmaw","Hkat Cho ",null,null,0,9,9,9,9,9,9,9,{"$f":"IF(NFI_Expiration=1,IF($A133<VLOOKUP(H$5,NFI,5,0),1,0)*Table_NFI[[#This Row],[Hygiene Kit]],Table_NFI[Hygiene Kit])","v":0},{"$f":"IF(NFI_Expiration=1,IF($A133<VLOOKUP(I$5,NFI,5,0),1,0)*Table_NFI[[#This Row],[NFI Core Kit]],Table_NFI[NFI Core Kit])","v":0},{"$f":"IF(NFI_Expiration=1,IF($A133<VLOOKUP(J$5,NFI,5,0),1,0)*Table_NFI[[#This Row],[Sanitary Kit]],Table_NFI[Sanitary Kit])","v":0},{"$f":"IF(NFI_Expiration=1,IF($A133<VLOOKUP(K$5,NFI,5,0),1,0)*Table_NFI[[#This Row],[Mosquito net]],Table_NFI[Mosquito net])","v":0},{"$f":"IF(NFI_Expiration=1,IF($A133<VLOOKUP(L$5,NFI,5,0),1,0)*Table_NFI[[#This Row],[Tarpaulin]],Table_NFI[[#This Row],[Tarpaulin]])","v":0},{"$f":"IF(NFI_Expiration=1,IF($A133<VLOOKUP(M$5,NFI,5,0),1,0)*Table_NFI[[#This Row],[Blanket]],Table_NFI[[#This Row],[Blanket]])","v":0},{"$f":"IF(NFI_Expiration=1,IF($A133<VLOOKUP(N$5,NFI,5,0),1,0)*Table_NFI[[#This Row],[Kitchen Set]],Table_NFI[Kitchen Set])","v":0},{"$f":"IF(NFI_Expiration=1,IF($A133<VLOOKUP(O$5,NFI,5,0),1,0)*Table_NFI[[#This Row],[Complementary Kit]],Table_NFI[Complementary Kit])","v":0},{"$f":"IF(NFI_Expiration=1,IF($A133<VLOOKUP(P$5,NFI,5,0),1,0)*Table_NFI[[#This Row],[Plastic Bucket]],Table_NFI[Plastic Bucket])","v":0},{"$f":"IF(NFI_Expiration=1,IF($A133<VLOOKUP(Q$5,NFI,5,0),1,0)*Table_NFI[[#This Row],[Plastic Mat]],Table_NFI[Plastic Mat])","v":0},{"$f":"IFERROR(VLOOKUP(Table_NFI[[#This Row],[Camp Name]],CL,2,0),\"\")","v":"MMR001CMP028"},{"$f":"IFERROR(VLOOKUP(Table_NFI[[#This Row],[Camp Name]],CL,3,0),\"\")","v":"Open"},{"$f":"IFERROR(Table_NFI[[#This Row],[Kitchen Set]]/VLOOKUP(Table_NFI[[#This Row],[Camp Name]],CL,4,0),\"\")","v":6.7164179104477612E-2}]
[{"$f":"IF(ISBLANK(B134),\"\",(Report_Date-B134)/30)","v":17.899999999999999},"2012-07-13","UNHCR","UNHCR","Kachin","Waingmaw","Qtr. 2 Lhaovo Baptist Church",null,null,0,13,13,13,13,13,13,13,{"$f":"IF(NFI_Expiration=1,IF($A134<VLOOKUP(H$5,NFI,5,0),1,0)*Table_NFI[[#This Row],[Hygiene Kit]],Table_NFI[Hygiene Kit])","v":0},{"$f":"IF(NFI_Expiration=1,IF($A134<VLOOKUP(I$5,NFI,5,0),1,0)*Table_NFI[[#This Row],[NFI Core Kit]],Table_NFI[NFI Core Kit])","v":0},{"$f":"IF(NFI_Expiration=1,IF($A134<VLOOKUP(J$5,NFI,5,0),1,0)*Table_NFI[[#This Row],[Sanitary Kit]],Table_NFI[Sanitary Kit])","v":0},{"$f":"IF(NFI_Expiration=1,IF($A134<VLOOKUP(K$5,NFI,5,0),1,0)*Table_NFI[[#This Row],[Mosquito net]],Table_NFI[Mosquito net])","v":0},{"$f":"IF(NFI_Expiration=1,IF($A134<VLOOKUP(L$5,NFI,5,0),1,0)*Table_NFI[[#This Row],[Tarpaulin]],Table_NFI[[#This Row],[Tarpaulin]])","v":0},{"$f":"IF(NFI_Expiration=1,IF($A134<VLOOKUP(M$5,NFI,5,0),1,0)*Table_NFI[[#This Row],[Blanket]],Table_NFI[[#This Row],[Blanket]])","v":0},{"$f":"IF(NFI_Expiration=1,IF($A134<VLOOKUP(N$5,NFI,5,0),1,0)*Table_NFI[[#This Row],[Kitchen Set]],Table_NFI[Kitchen Set])","v":0},{"$f":"IF(NFI_Expiration=1,IF($A134<VLOOKUP(O$5,NFI,5,0),1,0)*Table_NFI[[#This Row],[Complementary Kit]],Table_NFI[Complementary Kit])","v":0},{"$f":"IF(NFI_Expiration=1,IF($A134<VLOOKUP(P$5,NFI,5,0),1,0)*Table_NFI[[#This Row],[Plastic Bucket]],Table_NFI[Plastic Bucket])","v":0},{"$f":"IF(NFI_Expiration=1,IF($A134<VLOOKUP(Q$5,NFI,5,0),1,0)*Table_NFI[[#This Row],[Plastic Mat]],Table_NFI[Plastic Mat])","v":0},{"$f":"IFERROR(VLOOKUP(Table_NFI[[#This Row],[Camp Name]],CL,2,0),\"\")","v":"MMR001CMP032"},{"$f":"IFERROR(VLOOKUP(Table_NFI[[#This Row],[Camp Name]],CL,3,0),\"\")","v":"Open"},{"$f":"IFERROR(Table_NFI[[#This Row],[Kitchen Set]]/VLOOKUP(Table_NFI[[#This Row],[Camp Name]],CL,4,0),\"\")","v":0.10833333333333334}]
[17.899999999999999,"2012-07-13","UNHCR","UNHCR","Kachin","Waingmaw","Waingmaw Baptist Zonal Office",null,null,0,2,2,2,2,2,2,2,{"$f":"IF(NFI_Expiration=1,IF($A135<VLOOKUP(H$5,NFI,5,0),1,0)*Table_NFI[[#This Row],[Hygiene Kit]],Table_NFI[Hygiene Kit])","v":0},{"$f":"IF(NFI_Expiration=1,IF($A135<VLOOKUP(I$5,NFI,5,0),1,0)*Table_NFI[[#This Row],[NFI Core Kit]],Table_NFI[NFI Core Kit])","v":0},{"$f":"IF(NFI_Expiration=1,IF($A135<VLOOKUP(J$5,NFI,5,0),1,0)*Table_NFI[[#This Row],[Sanitary Kit]],Table_NFI[Sanitary Kit])","v":0},{"$f":"IF(NFI_Expiration=1,IF($A135<VLOOKUP(K$5,NFI,5,0),1,0)*Table_NFI[[#This Row],[Mosquito net]],Table_NFI[Mosquito net])","v":0},{"$f":"IF(NFI_Expiration=1,IF($A135<VLOOKUP(L$5,NFI,5,0),1,0)*Table_NFI[[#This Row],[Tarpaulin]],Table_NFI[[#This Row],[Tarpaulin]])","v":0},{"$f":"IF(NFI_Expiration=1,IF($A135<VLOOKUP(M$5,NFI,5,0),1,0)*Table_NFI[[#This Row],[Blanket]],Table_NFI[[#This Row],[Blanket]])","v":0},{"$f":"IF(NFI_Expiration=1,IF($A135<VLOOKUP(N$5,NFI,5,0),1,0)*Table_NFI[[#This Row],[Kitchen Set]],Table_NFI[Kitchen Set])","v":0},{"$f":"IF(NFI_Expiration=1,IF($A135<VLOOKUP(O$5,NFI,5,0),1,0)*Table_NFI[[#This Row],[Complementary Kit]],Table_NFI[Complementary Kit])","v":0},{"$f":"IF(NFI_Expiration=1,IF($A135<VLOOKUP(P$5,NFI,5,0),1,0)*Table_NFI[[#This Row],[Plastic Bucket]],Table_NFI[Plastic Bucket])","v":0},{"$f":"IF(NFI_Expiration=1,IF($A135<VLOOKUP(Q$5,NFI,5,0),1,0)*Table_NFI[[#This Row],[Plastic Mat]],Table_NFI[Plastic Mat])","v":0},{"$f":"IFERROR(VLOOKUP(Table_NFI[[#This Row],[Camp Name]],CL,2,0),\"\")","v":"MMR001CMP036"},{"$f":"IFERROR(VLOOKUP(Table_NFI[[#This Row],[Camp Name]],CL,3,0),\"\")","v":"Open"},{"$f":"IFERROR(Table_NFI[[#This Row],[Kitchen Set]]/VLOOKUP(Table_NFI[[#This Row],[Camp Name]],CL,4,0),\"\")","v":""}]
[17.899999999999999,"2012-07-13","UNHCR","UNHCR","Kachin","Waingmaw","Thargaya Lisu Baptist Church",null,null,0,8,8,8,8,8,8,8,{"$f":"IF(NFI_Expiration=1,IF($A136<VLOOKUP(H$5,NFI,5,0),1,0)*Table_NFI[[#This Row],[Hygiene Kit]],Table_NFI[Hygiene Kit])","v":0},{"$f":"IF(NFI_Expiration=1,IF($A136<VLOOKUP(I$5,NFI,5,0),1,0)*Table_NFI[[#This Row],[NFI Core Kit]],Table_NFI[NFI Core Kit])","v":0},{"$f":"IF(NFI_Expiration=1,IF($A136<VLOOKUP(J$5,NFI,5,0),1,0)*Table_NFI[[#This Row],[Sanitary Kit]],Table_NFI[Sanitary Kit])","v":0},{"$f":"IF(NFI_Expiration=1,IF($A136<VLOOKUP(K$5,NFI,5,0),1,0)*Table_NFI[[#This Row],[Mosquito net]],Table_NFI[Mosquito net])","v":0},{"$f":"IF(NFI_Expiration=1,IF($A136<VLOOKUP(L$5,NFI,5,0),1,0)*Table_NFI[[#This Row],[Tarpaulin]],Table_NFI[[#This Row],[Tarpaulin]])","v":0},{"$f":"IF(NFI_Expiration=1,IF($A136<VLOOKUP(M$5,NFI,5,0),1,0)*Table_NFI[[#This Row],[Blanket]],Table_NFI[[#This Row],[Blanket]])","v":0},{"$f":"IF(NFI_Expiration=1,IF($A136<VLOOKUP(N$5,NFI,5,0),1,0)*Table_NFI[[#This Row],[Kitchen Set]],Table_NFI[Kitchen Set])","v":0},{"$f":"IF(NFI_Expiration=1,IF($A136<VLOOKUP(O$5,NFI,5,0),1,0)*Table_NFI[[#This Row],[Complementary Kit]],Table_NFI[Complementary Kit])","v":0},{"$f":"IF(NFI_Expiration=1,IF($A136<VLOOKUP(P$5,NFI,5,0),1,0)*Table_NFI[[#This Row],[Plastic Bucket]],Table_NFI[Plastic Bucket])","v":0},{"$f":"IF(NFI_Expiration=1,IF($A136<VLOOKUP(Q$5,NFI,5,0),1,0)*Table_NFI[[#This Row],[Plastic Mat]],Table_NFI[Plastic Mat])","v":0},{"$f":"IFERROR(VLOOKUP(Table_NFI[[#This Row],[Camp Name]],CL,2,0),\"\")","v":"MMR001CMP037"},{"$f":"IFERROR(VLOOKUP(Table_NFI[[#This Row],[Camp Name]],CL,3,0),\"\")","v":"Open"},{"$f":"IFERROR(Table_NFI[[#This Row],[Kitchen Set]]/VLOOKUP(Table_NFI[[#This Row],[Camp Name]],CL,4,0),\"\")","v":0.10810810810810811}]
[17.899999999999999,"2012-07-13","UNHCR","UNHCR","Kachin","Waingmaw","Maina Lawang Baptist Church",null,null,0,6,6,6,6,6,6,6,{"$f":"IF(NFI_Expiration=1,IF($A137<VLOOKUP(H$5,NFI,5,0),1,0)*Table_NFI[[#This Row],[Hygiene Kit]],Table_NFI[Hygiene Kit])","v":0},{"$f":"IF(NFI_Expiration=1,IF($A137<VLOOKUP(I$5,NFI,5,0),1,0)*Table_NFI[[#This Row],[NFI Core Kit]],Table_NFI[NFI Core Kit])","v":0},{"$f":"IF(NFI_Expiration=1,IF($A137<VLOOKUP(J$5,NFI,5,0),1,0)*Table_NFI[[#This Row],[Sanitary Kit]],Table_NFI[Sanitary Kit])","v":0},{"$f":"IF(NFI_Expiration=1,IF($A137<VLOOKUP(K$5,NFI,5,0),1,0)*Table_NFI[[#This Row],[Mosquito net]],Table_NFI[Mosquito net])","v":0},{"$f":"IF(NFI_Expiration=1,IF($A137<VLOOKUP(L$5,NFI,5,0),1,0)*Table_NFI[[#This Row],[Tarpaulin]],Table_NFI[[#This Row],[Tarpaulin]])","v":0},{"$f":"IF(NFI_Expiration=1,IF($A137<VLOOKUP(M$5,NFI,5,0),1,0)*Table_NFI[[#This Row],[Blanket]],Table_NFI[[#This Row],[Blanket]])","v":0},{"$f":"IF(NFI_Expiration=1,IF($A137<VLOOKUP(N$5,NFI,5,0),1,0)*Table_NFI[[#This Row],[Kitchen Set]],Table_NFI[Kitchen Set])","v":0},{"$f":"IF(NFI_Expiration=1,IF($A137<VLOOKUP(O$5,NFI,5,0),1,0)*Table_NFI[[#This Row],[Complementary Kit]],Table_NFI[Complementary Kit])","v":0},{"$f":"IF(NFI_Expiration=1,IF($A137<VLOOKUP(P$5,NFI,5,0),1,0)*Table_NFI[[#This Row],[Plastic Bucket]],Table_NFI[Plastic Bucket])","v":0},{"$f":"IF(NFI_Expiration=1,IF($A137<VLOOKUP(Q$5,NFI,5,0),1,0)*Table_NFI[[#This Row],[Plastic Mat]],Table_NFI[Plastic Mat])","v":0},{"$f":"IFERROR(VLOOKUP(Table_NFI[[#This Row],[Camp Name]],CL,2,0),\"\")","v":"MMR001CMP039"},{"$f":"IFERROR(VLOOKUP(Table_NFI[[#This Row],[Camp Name]],CL,3,0),\"\")","v":"Open"},{"$f":"IFERROR(Table_NFI[[#This Row],[Kitchen Set]]/VLOOKUP(Table_NFI[[#This Row],[Camp Name]],CL,4,0),\"\")","v":0.12244897959183673}]
[17.8,"2012-07-16","UNHCR","UNHCR","Kachin","Myitkyina","Njang Dung Baptist Church ",null,null,0,25,25,25,25,25,25,25,{"$f":"IF(NFI_Expiration=1,IF($A138<VLOOKUP(H$5,NFI,5,0),1,0)*Table_NFI[[#This Row],[Hygiene Kit]],Table_NFI[Hygiene Kit])","v":0},{"$f":"IF(NFI_Expiration=1,IF($A138<VLOOKUP(I$5,NFI,5,0),1,0)*Table_NFI[[#This Row],[NFI Core Kit]],Table_NFI[NFI Core Kit])","v":0},{"$f":"IF(NFI_Expiration=1,IF($A138<VLOOKUP(J$5,NFI,5,0),1,0)*Table_NFI[[#This Row],[Sanitary Kit]],Table_NFI[Sanitary Kit])","v":0},{"$f":"IF(NFI_Expiration=1,IF($A138<VLOOKUP(K$5,NFI,5,0),1,0)*Table_NFI[[#This Row],[Mosquito net]],Table_NFI[Mosquito net])","v":0},{"$f":"IF(NFI_Expiration=1,IF($A138<VLOOKUP(L$5,NFI,5,0),1,0)*Table_NFI[[#This Row],[Tarpaulin]],Table_NFI[[#This Row],[Tarpaulin]])","v":0},{"$f":"IF(NFI_Expiration=1,IF($A138<VLOOKUP(M$5,NFI,5,0),1,0)*Table_NFI[[#This Row],[Blanket]],Table_NFI[[#This Row],[Blanket]])","v":0},{"$f":"IF(NFI_Expiration=1,IF($A138<VLOOKUP(N$5,NFI,5,0),1,0)*Table_NFI[[#This Row],[Kitchen Set]],Table_NFI[Kitchen Set])","v":0},{"$f":"IF(NFI_Expiration=1,IF($A138<VLOOKUP(O$5,NFI,5,0),1,0)*Table_NFI[[#This Row],[Complementary Kit]],Table_NFI[Complementary Kit])","v":0},{"$f":"IF(NFI_Expiration=1,IF($A138<VLOOKUP(P$5,NFI,5,0),1,0)*Table_NFI[[#This Row],[Plastic Bucket]],Table_NFI[Plastic Bucket])","v":0},{"$f":"IF(NFI_Expiration=1,IF($A138<VLOOKUP(Q$5,NFI,5,0),1,0)*Table_NFI[[#This Row],[Plastic Mat]],Table_NFI[Plastic Mat])","v":0},{"$f":"IFERROR(VLOOKUP(Table_NFI[[#This Row],[Camp Name]],CL,2,0),\"\")","v":"MMR001CMP002"},{"$f":"IFERROR(VLOOKUP(Table_NFI[[#This Row],[Camp Name]],CL,3,0),\"\")","v":"Open"},{"$f":"IFERROR(Table_NFI[[#This Row],[Kitchen Set]]/VLOOKUP(Table_NFI[[#This Row],[Camp Name]],CL,4,0),\"\")","v":0.43859649122807015}]
[17.8,"2012-07-16","UNHCR","UNHCR","Kachin","Myitkyina","Kyun Pin Thar Baptist Church",null,null,0,33,33,33,33,33,33,33,{"$f":"IF(NFI_Expiration=1,IF($A139<VLOOKUP(H$5,NFI,5,0),1,0)*Table_NFI[[#This Row],[Hygiene Kit]],Table_NFI[Hygiene Kit])","v":0},{"$f":"IF(NFI_Expiration=1,IF($A139<VLOOKUP(I$5,NFI,5,0),1,0)*Table_NFI[[#This Row],[NFI Core Kit]],Table_NFI[NFI Core Kit])","v":0},{"$f":"IF(NFI_Expiration=1,IF($A139<VLOOKUP(J$5,NFI,5,0),1,0)*Table_NFI[[#This Row],[Sanitary Kit]],Table_NFI[Sanitary Kit])","v":0},{"$f":"IF(NFI_Expiration=1,IF($A139<VLOOKUP(K$5,NFI,5,0),1,0)*Table_NFI[[#This Row],[Mosquito net]],Table_NFI[Mosquito net])","v":0},{"$f":"IF(NFI_Expiration=1,IF($A139<VLOOKUP(L$5,NFI,5,0),1,0)*Table_NFI[[#This Row],[Tarpaulin]],Table_NFI[[#This Row],[Tarpaulin]])","v":0},{"$f":"IF(NFI_Expiration=1,IF($A139<VLOOKUP(M$5,NFI,5,0),1,0)*Table_NFI[[#This Row],[Blanket]],Table_NFI[[#This Row],[Blanket]])","v":0},{"$f":"IF(NFI_Expiration=1,IF($A139<VLOOKUP(N$5,NFI,5,0),1,0)*Table_NFI[[#This Row],[Kitchen Set]],Table_NFI[Kitchen Set])","v":0},{"$f":"IF(NFI_Expiration=1,IF($A139<VLOOKUP(O$5,NFI,5,0),1,0)*Table_NFI[[#This Row],[Complementary Kit]],Table_NFI[Complementary Kit])","v":0},{"$f":"IF(NFI_Expiration=1,IF($A139<VLOOKUP(P$5,NFI,5,0),1,0)*Table_NFI[[#This Row],[Plastic Bucket]],Table_NFI[Plastic Bucket])","v":0},{"$f":"IF(NFI_Expiration=1,IF($A139<VLOOKUP(Q$5,NFI,5,0),1,0)*Table_NFI[[#This Row],[Plastic Mat]],Table_NFI[Plastic Mat])","v":0},{"$f":"IFERROR(VLOOKUP(Table_NFI[[#This Row],[Camp Name]],CL,2,0),\"\")","v":"MMR001CMP013"},{"$f":"IFERROR(VLOOKUP(Table_NFI[[#This Row],[Camp Name]],CL,3,0),\"\")","v":"Open"},{"$f":"IFERROR(Table_NFI[[#This Row],[Kitchen Set]]/VLOOKUP(Table_NFI[[#This Row],[Camp Name]],CL,4,0),\"\")","v":0.73333333333333328}]
[17.8,"2012-07-16","UNHCR","UNHCR","Kachin","Myitkyina","Le Kone Ziun Baptist Church ",null,null,0,50,50,50,50,50,50,50,{"$f":"IF(NFI_Expiration=1,IF($A140<VLOOKUP(H$5,NFI,5,0),1,0)*Table_NFI[[#This Row],[Hygiene Kit]],Table_NFI[Hygiene Kit])","v":0},{"$f":"IF(NFI_Expiration=1,IF($A140<VLOOKUP(I$5,NFI,5,0),1,0)*Table_NFI[[#This Row],[NFI Core Kit]],Table_NFI[NFI Core Kit])","v":0},{"$f":"IF(NFI_Expiration=1,IF($A140<VLOOKUP(J$5,NFI,5,0),1,0)*Table_NFI[[#This Row],[Sanitary Kit]],Table_NFI[Sanitary Kit])","v":0},{"$f":"IF(NFI_Expiration=1,IF($A140<VLOOKUP(K$5,NFI,5,0),1,0)*Table_NFI[[#This Row],[Mosquito net]],Table_NFI[Mosquito net])","v":0},{"$f":"IF(NFI_Expiration=1,IF($A140<VLOOKUP(L$5,NFI,5,0),1,0)*Table_NFI[[#This Row],[Tarpaulin]],Table_NFI[[#This Row],[Tarpaulin]])","v":0},{"$f":"IF(NFI_Expiration=1,IF($A140<VLOOKUP(M$5,NFI,5,0),1,0)*Table_NFI[[#This Row],[Blanket]],Table_NFI[[#This Row],[Blanket]])","v":0},{"$f":"IF(NFI_Expiration=1,IF($A140<VLOOKUP(N$5,NFI,5,0),1,0)*Table_NFI[[#This Row],[Kitchen Set]],Table_NFI[Kitchen Set])","v":0},{"$f":"IF(NFI_Expiration=1,IF($A140<VLOOKUP(O$5,NFI,5,0),1,0)*Table_NFI[[#This Row],[Complementary Kit]],Table_NFI[Complementary Kit])","v":0},{"$f":"IF(NFI_Expiration=1,IF($A140<VLOOKUP(P$5,NFI,5,0),1,0)*Table_NFI[[#This Row],[Plastic Bucket]],Table_NFI[Plastic Bucket])","v":0},{"$f":"IF(NFI_Expiration=1,IF($A140<VLOOKUP(Q$5,NFI,5,0),1,0)*Table_NFI[[#This Row],[Plastic Mat]],Table_NFI[Plastic Mat])","v":0},{"$f":"IFERROR(VLOOKUP(Table_NFI[[#This Row],[Camp Name]],CL,2,0),\"\")","v":"MMR001CMP014"},{"$f":"IFERROR(VLOOKUP(Table_NFI[[#This Row],[Camp Name]],CL,3,0),\"\")","v":"Open"},{"$f":"IFERROR(Table_NFI[[#This Row],[Kitchen Set]]/VLOOKUP(Table_NFI[[#This Row],[Camp Name]],CL,4,0),\"\")","v":0.34246575342465752}]
[17.8,"2012-07-16","UNHCR","UNHCR","Kachin","Myitkyina","Le Kone Bethlehem Church",null,null,0,6,6,6,6,6,6,6,{"$f":"IF(NFI_Expiration=1,IF($A141<VLOOKUP(H$5,NFI,5,0),1,0)*Table_NFI[[#This Row],[Hygiene Kit]],Table_NFI[Hygiene Kit])","v":0},{"$f":"IF(NFI_Expiration=1,IF($A141<VLOOKUP(I$5,NFI,5,0),1,0)*Table_NFI[[#This Row],[NFI Core Kit]],Table_NFI[NFI Core Kit])","v":0},{"$f":"IF(NFI_Expiration=1,IF($A141<VLOOKUP(J$5,NFI,5,0),1,0)*Table_NFI[[#This Row],[Sanitary Kit]],Table_NFI[Sanitary Kit])","v":0},{"$f":"IF(NFI_Expiration=1,IF($A141<VLOOKUP(K$5,NFI,5,0),1,0)*Table_NFI[[#This Row],[Mosquito net]],Table_NFI[Mosquito net])","v":0},{"$f":"IF(NFI_Expiration=1,IF($A141<VLOOKUP(L$5,NFI,5,0),1,0)*Table_NFI[[#This Row],[Tarpaulin]],Table_NFI[[#This Row],[Tarpaulin]])","v":0},{"$f":"IF(NFI_Expiration=1,IF($A141<VLOOKUP(M$5,NFI,5,0),1,0)*Table_NFI[[#This Row],[Blanket]],Table_NFI[[#This Row],[Blanket]])","v":0},{"$f":"IF(NFI_Expiration=1,IF($A141<VLOOKUP(N$5,NFI,5,0),1,0)*Table_NFI[[#This Row],[Kitchen Set]],Table_NFI[Kitchen Set])","v":0},{"$f":"IF(NFI_Expiration=1,IF($A141<VLOOKUP(O$5,NFI,5,0),1,0)*Table_NFI[[#This Row],[Complementary Kit]],Table_NFI[Complementary Kit])","v":0},{"$f":"IF(NFI_Expiration=1,IF($A141<VLOOKUP(P$5,NFI,5,0),1,0)*Table_NFI[[#This Row],[Plastic Bucket]],Table_NFI[Plastic Bucket])","v":0},{"$f":"IF(NFI_Expiration=1,IF($A141<VLOOKUP(Q$5,NFI,5,0),1,0)*Table_NFI[[#This Row],[Plastic Mat]],Table_NFI[Plastic Mat])","v":0},{"$f":"IFERROR(VLOOKUP(Table_NFI[[#This Row],[Camp Name]],CL,2,0),\"\")","v":"MMR001CMP015"},{"$f":"IFERROR(VLOOKUP(Table_NFI[[#This Row],[Camp Name]],CL,3,0),\"\")","v":"Open"},{"$f":"IFERROR(Table_NFI[[#This Row],[Kitchen Set]]/VLOOKUP(Table_NFI[[#This Row],[Camp Name]],CL,4,0),\"\")","v":6.8965517241379309E-2}]
[17.8,"2012-07-16","UNHCR","UNHCR","Kachin","Myitkyina","Le Kone Bethlehem Church",null,null,0,13,13,13,13,13,13,13,{"$f":"IF(NFI_Expiration=1,IF($A142<VLOOKUP(H$5,NFI,5,0),1,0)*Table_NFI[[#This Row],[Hygiene Kit]],Table_NFI[Hygiene Kit])","v":0},{"$f":"IF(NFI_Expiration=1,IF($A142<VLOOKUP(I$5,NFI,5,0),1,0)*Table_NFI[[#This Row],[NFI Core Kit]],Table_NFI[NFI Core Kit])","v":0},{"$f":"IF(NFI_Expiration=1,IF($A142<VLOOKUP(J$5,NFI,5,0),1,0)*Table_NFI[[#This Row],[Sanitary Kit]],Table_NFI[Sanitary Kit])","v":0},{"$f":"IF(NFI_Expiration=1,IF($A142<VLOOKUP(K$5,NFI,5,0),1,0)*Table_NFI[[#This Row],[Mosquito net]],Table_NFI[Mosquito net])","v":0},{"$f":"IF(NFI_Expiration=1,IF($A142<VLOOKUP(L$5,NFI,5,0),1,0)*Table_NFI[[#This Row],[Tarpaulin]],Table_NFI[[#This Row],[Tarpaulin]])","v":0},{"$f":"IF(NFI_Expiration=1,IF($A142<VLOOKUP(M$5,NFI,5,0),1,0)*Table_NFI[[#This Row],[Blanket]],Table_NFI[[#This Row],[Blanket]])","v":0},{"$f":"IF(NFI_Expiration=1,IF($A142<VLOOKUP(N$5,NFI,5,0),1,0)*Table_NFI[[#This Row],[Kitchen Set]],Table_NFI[Kitchen Set])","v":0},{"$f":"IF(NFI_Expiration=1,IF($A142<VLOOKUP(O$5,NFI,5,0),1,0)*Table_NFI[[#This Row],[Complementary Kit]],Table_NFI[Complementary Kit])","v":0},{"$f":"IF(NFI_Expiration=1,IF($A142<VLOOKUP(P$5,NFI,5,0),1,0)*Table_NFI[[#This Row],[Plastic Bucket]],Table_NFI[Plastic Bucket])","v":0},{"$f":"IF(NFI_Expiration=1,IF($A142<VLOOKUP(Q$5,NFI,5,0),1,0)*Table_NFI[[#This Row],[Plastic Mat]],Table_NFI[Plastic Mat])","v":0},{"$f":"IFERROR(VLOOKUP(Table_NFI[[#This Row],[Camp Name]],CL,2,0),\"\")","v":"MMR001CMP015"},{"$f":"IFERROR(VLOOKUP(Table_NFI[[#This Row],[Camp Name]],CL,3,0),\"\")","v":"Open"},{"$f":"IFERROR(Table_NFI[[#This Row],[Kitchen Set]]/VLOOKUP(Table_NFI[[#This Row],[Camp Name]],CL,4,0),\"\")","v":0.14942528735632185}]
[17.8,"2012-07-16","UNHCR","UNHCR","Kachin","Myitkyina","Maliyang Baptist Church",null,null,0,3,3,3,3,3,3,3,{"$f":"IF(NFI_Expiration=1,IF($A143<VLOOKUP(H$5,NFI,5,0),1,0)*Table_NFI[[#This Row],[Hygiene Kit]],Table_NFI[Hygiene Kit])","v":0},{"$f":"IF(NFI_Expiration=1,IF($A143<VLOOKUP(I$5,NFI,5,0),1,0)*Table_NFI[[#This Row],[NFI Core Kit]],Table_NFI[NFI Core Kit])","v":0},{"$f":"IF(NFI_Expiration=1,IF($A143<VLOOKUP(J$5,NFI,5,0),1,0)*Table_NFI[[#This Row],[Sanitary Kit]],Table_NFI[Sanitary Kit])","v":0},{"$f":"IF(NFI_Expiration=1,IF($A143<VLOOKUP(K$5,NFI,5,0),1,0)*Table_NFI[[#This Row],[Mosquito net]],Table_NFI[Mosquito net])","v":0},{"$f":"IF(NFI_Expiration=1,IF($A143<VLOOKUP(L$5,NFI,5,0),1,0)*Table_NFI[[#This Row],[Tarpaulin]],Table_NFI[[#This Row],[Tarpaulin]])","v":0},{"$f":"IF(NFI_Expiration=1,IF($A143<VLOOKUP(M$5,NFI,5,0),1,0)*Table_NFI[[#This Row],[Blanket]],Table_NFI[[#This Row],[Blanket]])","v":0},{"$f":"IF(NFI_Expiration=1,IF($A143<VLOOKUP(N$5,NFI,5,0),1,0)*Table_NFI[[#This Row],[Kitchen Set]],Table_NFI[Kitchen Set])","v":0},{"$f":"IF(NFI_Expiration=1,IF($A143<VLOOKUP(O$5,NFI,5,0),1,0)*Table_NFI[[#This Row],[Complementary Kit]],Table_NFI[Complementary Kit])","v":0},{"$f":"IF(NFI_Expiration=1,IF($A143<VLOOKUP(P$5,NFI,5,0),1,0)*Table_NFI[[#This Row],[Plastic Bucket]],Table_NFI[Plastic Bucket])","v":0},{"$f":"IF(NFI_Expiration=1,IF($A143<VLOOKUP(Q$5,NFI,5,0),1,0)*Table_NFI[[#This Row],[Plastic Mat]],Table_NFI[Plastic Mat])","v":0},{"$f":"IFERROR(VLOOKUP(Table_NFI[[#This Row],[Camp Name]],CL,2,0),\"\")","v":"MMR001CMP016"},{"$f":"IFERROR(VLOOKUP(Table_NFI[[#This Row],[Camp Name]],CL,3,0),\"\")","v":"Open"},{"$f":"IFERROR(Table_NFI[[#This Row],[Kitchen Set]]/VLOOKUP(Table_NFI[[#This Row],[Camp Name]],CL,4,0),\"\")","v":4.1666666666666664E-2}]
[17.766666666666666,"2012-07-17","UNHCR","UNHCR","Kachin","Myitkyina","Tat Kone Galile Baptist Church",null,null,0,7,7,7,7,7,7,7,{"$f":"IF(NFI_Expiration=1,IF($A144<VLOOKUP(H$5,NFI,5,0),1,0)*Table_NFI[[#This Row],[Hygiene Kit]],Table_NFI[Hygiene Kit])","v":0},{"$f":"IF(NFI_Expiration=1,IF($A144<VLOOKUP(I$5,NFI,5,0),1,0)*Table_NFI[[#This Row],[NFI Core Kit]],Table_NFI[NFI Core Kit])","v":0},{"$f":"IF(NFI_Expiration=1,IF($A144<VLOOKUP(J$5,NFI,5,0),1,0)*Table_NFI[[#This Row],[Sanitary Kit]],Table_NFI[Sanitary Kit])","v":0},{"$f":"IF(NFI_Expiration=1,IF($A144<VLOOKUP(K$5,NFI,5,0),1,0)*Table_NFI[[#This Row],[Mosquito net]],Table_NFI[Mosquito net])","v":0},{"$f":"IF(NFI_Expiration=1,IF($A144<VLOOKUP(L$5,NFI,5,0),1,0)*Table_NFI[[#This Row],[Tarpaulin]],Table_NFI[[#This Row],[Tarpaulin]])","v":0},{"$f":"IF(NFI_Expiration=1,IF($A144<VLOOKUP(M$5,NFI,5,0),1,0)*Table_NFI[[#This Row],[Blanket]],Table_NFI[[#This Row],[Blanket]])","v":0},{"$f":"IF(NFI_Expiration=1,IF($A144<VLOOKUP(N$5,NFI,5,0),1,0)*Table_NFI[[#This Row],[Kitchen Set]],Table_NFI[Kitchen Set])","v":0},{"$f":"IF(NFI_Expiration=1,IF($A144<VLOOKUP(O$5,NFI,5,0),1,0)*Table_NFI[[#This Row],[Complementary Kit]],Table_NFI[Complementary Kit])","v":0},{"$f":"IF(NFI_Expiration=1,IF($A144<VLOOKUP(P$5,NFI,5,0),1,0)*Table_NFI[[#This Row],[Plastic Bucket]],Table_NFI[Plastic Bucket])","v":0},{"$f":"IF(NFI_Expiration=1,IF($A144<VLOOKUP(Q$5,NFI,5,0),1,0)*Table_NFI[[#This Row],[Plastic Mat]],Table_NFI[Plastic Mat])","v":0},{"$f":"IFERROR(VLOOKUP(Table_NFI[[#This Row],[Camp Name]],CL,2,0),\"\")","v":"MMR001CMP003"},{"$f":"IFERROR(VLOOKUP(Table_NFI[[#This Row],[Camp Name]],CL,3,0),\"\")","v":"Open"},{"$f":"IFERROR(Table_NFI[[#This Row],[Kitchen Set]]/VLOOKUP(Table_NFI[[#This Row],[Camp Name]],CL,4,0),\"\")","v":0.23333333333333334}]
[17.766666666666666,"2012-07-17","UNHCR","UNHCR","Kachin","Myitkyina","Shatapru Thida Aye Baptist Church",null,null,0,3,3,3,3,3,3,3,{"$f":"IF(NFI_Expiration=1,IF($A145<VLOOKUP(H$5,NFI,5,0),1,0)*Table_NFI[[#This Row],[Hygiene Kit]],Table_NFI[Hygiene Kit])","v":0},{"$f":"IF(NFI_Expiration=1,IF($A145<VLOOKUP(I$5,NFI,5,0),1,0)*Table_NFI[[#This Row],[NFI Core Kit]],Table_NFI[NFI Core Kit])","v":0},{"$f":"IF(NFI_Expiration=1,IF($A145<VLOOKUP(J$5,NFI,5,0),1,0)*Table_NFI[[#This Row],[Sanitary Kit]],Table_NFI[Sanitary Kit])","v":0},{"$f":"IF(NFI_Expiration=1,IF($A145<VLOOKUP(K$5,NFI,5,0),1,0)*Table_NFI[[#This Row],[Mosquito net]],Table_NFI[Mosquito net])","v":0},{"$f":"IF(NFI_Expiration=1,IF($A145<VLOOKUP(L$5,NFI,5,0),1,0)*Table_NFI[[#This Row],[Tarpaulin]],Table_NFI[[#This Row],[Tarpaulin]])","v":0},{"$f":"IF(NFI_Expiration=1,IF($A145<VLOOKUP(M$5,NFI,5,0),1,0)*Table_NFI[[#This Row],[Blanket]],Table_NFI[[#This Row],[Blanket]])","v":0},{"$f":"IF(NFI_Expiration=1,IF($A145<VLOOKUP(N$5,NFI,5,0),1,0)*Table_NFI[[#This Row],[Kitchen Set]],Table_NFI[Kitchen Set])","v":0},{"$f":"IF(NFI_Expiration=1,IF($A145<VLOOKUP(O$5,NFI,5,0),1,0)*Table_NFI[[#This Row],[Complementary Kit]],Table_NFI[Complementary Kit])","v":0},{"$f":"IF(NFI_Expiration=1,IF($A145<VLOOKUP(P$5,NFI,5,0),1,0)*Table_NFI[[#This Row],[Plastic Bucket]],Table_NFI[Plastic Bucket])","v":0},{"$f":"IF(NFI_Expiration=1,IF($A145<VLOOKUP(Q$5,NFI,5,0),1,0)*Table_NFI[[#This Row],[Plastic Mat]],Table_NFI[Plastic Mat])","v":0},{"$f":"IFERROR(VLOOKUP(Table_NFI[[#This Row],[Camp Name]],CL,2,0),\"\")","v":"MMR001CMP007"},{"$f":"IFERROR(VLOOKUP(Table_NFI[[#This Row],[Camp Name]],CL,3,0),\"\")","v":"Open"},{"$f":"IFERROR(Table_NFI[[#This Row],[Kitchen Set]]/VLOOKUP(Table_NFI[[#This Row],[Camp Name]],CL,4,0),\"\")","v":0.2}]
[17.766666666666666,"2012-07-17","UNHCR","UNHCR","Kachin","Myitkyina","Du Kahtawng Qtr. 4",null,null,0,6,6,6,6,6,6,6,{"$f":"IF(NFI_Expiration=1,IF($A146<VLOOKUP(H$5,NFI,5,0),1,0)*Table_NFI[[#This Row],[Hygiene Kit]],Table_NFI[Hygiene Kit])","v":0},{"$f":"IF(NFI_Expiration=1,IF($A146<VLOOKUP(I$5,NFI,5,0),1,0)*Table_NFI[[#This Row],[NFI Core Kit]],Table_NFI[NFI Core Kit])","v":0},{"$f":"IF(NFI_Expiration=1,IF($A146<VLOOKUP(J$5,NFI,5,0),1,0)*Table_NFI[[#This Row],[Sanitary Kit]],Table_NFI[Sanitary Kit])","v":0},{"$f":"IF(NFI_Expiration=1,IF($A146<VLOOKUP(K$5,NFI,5,0),1,0)*Table_NFI[[#This Row],[Mosquito net]],Table_NFI[Mosquito net])","v":0},{"$f":"IF(NFI_Expiration=1,IF($A146<VLOOKUP(L$5,NFI,5,0),1,0)*Table_NFI[[#This Row],[Tarpaulin]],Table_NFI[[#This Row],[Tarpaulin]])","v":0},{"$f":"IF(NFI_Expiration=1,IF($A146<VLOOKUP(M$5,NFI,5,0),1,0)*Table_NFI[[#This Row],[Blanket]],Table_NFI[[#This Row],[Blanket]])","v":0},{"$f":"IF(NFI_Expiration=1,IF($A146<VLOOKUP(N$5,NFI,5,0),1,0)*Table_NFI[[#This Row],[Kitchen Set]],Table_NFI[Kitchen Set])","v":0},{"$f":"IF(NFI_Expiration=1,IF($A146<VLOOKUP(O$5,NFI,5,0),1,0)*Table_NFI[[#This Row],[Complementary Kit]],Table_NFI[Complementary Kit])","v":0},{"$f":"IF(NFI_Expiration=1,IF($A146<VLOOKUP(P$5,NFI,5,0),1,0)*Table_NFI[[#This Row],[Plastic Bucket]],Table_NFI[Plastic Bucket])","v":0},{"$f":"IF(NFI_Expiration=1,IF($A146<VLOOKUP(Q$5,NFI,5,0),1,0)*Table_NFI[[#This Row],[Plastic Mat]],Table_NFI[Plastic Mat])","v":0},{"$f":"IFERROR(VLOOKUP(Table_NFI[[#This Row],[Camp Name]],CL,2,0),\"\")","v":"MMR001CMP010"},{"$f":"IFERROR(VLOOKUP(Table_NFI[[#This Row],[Camp Name]],CL,3,0),\"\")","v":"Open"},{"$f":"IFERROR(Table_NFI[[#This Row],[Kitchen Set]]/VLOOKUP(Table_NFI[[#This Row],[Camp Name]],CL,4,0),\"\")","v":1}]
[17.766666666666666,"2012-07-17","UNHCR","UNHCR","Kachin","Myitkyina","Du Kahtawng Qtr. 5",null,null,0,6,6,6,6,6,6,6,{"$f":"IF(NFI_Expiration=1,IF($A147<VLOOKUP(H$5,NFI,5,0),1,0)*Table_NFI[[#This Row],[Hygiene Kit]],Table_NFI[Hygiene Kit])","v":0},{"$f":"IF(NFI_Expiration=1,IF($A147<VLOOKUP(I$5,NFI,5,0),1,0)*Table_NFI[[#This Row],[NFI Core Kit]],Table_NFI[NFI Core Kit])","v":0},{"$f":"IF(NFI_Expiration=1,IF($A147<VLOOKUP(J$5,NFI,5,0),1,0)*Table_NFI[[#This Row],[Sanitary Kit]],Table_NFI[Sanitary Kit])","v":0},{"$f":"IF(NFI_Expiration=1,IF($A147<VLOOKUP(K$5,NFI,5,0),1,0)*Table_NFI[[#This Row],[Mosquito net]],Table_NFI[Mosquito net])","v":0},{"$f":"IF(NFI_Expiration=1,IF($A147<VLOOKUP(L$5,NFI,5,0),1,0)*Table_NFI[[#This Row],[Tarpaulin]],Table_NFI[[#This Row],[Tarpaulin]])","v":0},{"$f":"IF(NFI_Expiration=1,IF($A147<VLOOKUP(M$5,NFI,5,0),1,0)*Table_NFI[[#This Row],[Blanket]],Table_NFI[[#This Row],[Blanket]])","v":0},{"$f":"IF(NFI_Expiration=1,IF($A147<VLOOKUP(N$5,NFI,5,0),1,0)*Table_NFI[[#This Row],[Kitchen Set]],Table_NFI[Kitchen Set])","v":0},{"$f":"IF(NFI_Expiration=1,IF($A147<VLOOKUP(O$5,NFI,5,0),1,0)*Table_NFI[[#This Row],[Complementary Kit]],Table_NFI[Complementary Kit])","v":0},{"$f":"IF(NFI_Expiration=1,IF($A147<VLOOKUP(P$5,NFI,5,0),1,0)*Table_NFI[[#This Row],[Plastic Bucket]],Table_NFI[Plastic Bucket])","v":0},{"$f":"IF(NFI_Expiration=1,IF($A147<VLOOKUP(Q$5,NFI,5,0),1,0)*Table_NFI[[#This Row],[Plastic Mat]],Table_NFI[Plastic Mat])","v":0},{"$f":"IFERROR(VLOOKUP(Table_NFI[[#This Row],[Camp Name]],CL,2,0),\"\")","v":"MMR001CMP011"},{"$f":"IFERROR(VLOOKUP(Table_NFI[[#This Row],[Camp Name]],CL,3,0),\"\")","v":"Open"},{"$f":"IFERROR(Table_NFI[[#This Row],[Kitchen Set]]/VLOOKUP(Table_NFI[[#This Row],[Camp Name]],CL,4,0),\"\")","v":0.75}]
[17.766666666666666,"2012-07-17","UNHCR","UNHCR","Kachin","Myitkyina","Du Kahtawng Qtr. 14",null,null,0,5,5,5,5,5,5,5,{"$f":"IF(NFI_Expiration=1,IF($A148<VLOOKUP(H$5,NFI,5,0),1,0)*Table_NFI[[#This Row],[Hygiene Kit]],Table_NFI[Hygiene Kit])","v":0},{"$f":"IF(NFI_Expiration=1,IF($A148<VLOOKUP(I$5,NFI,5,0),1,0)*Table_NFI[[#This Row],[NFI Core Kit]],Table_NFI[NFI Core Kit])","v":0},{"$f":"IF(NFI_Expiration=1,IF($A148<VLOOKUP(J$5,NFI,5,0),1,0)*Table_NFI[[#This Row],[Sanitary Kit]],Table_NFI[Sanitary Kit])","v":0},{"$f":"IF(NFI_Expiration=1,IF($A148<VLOOKUP(K$5,NFI,5,0),1,0)*Table_NFI[[#This Row],[Mosquito net]],Table_NFI[Mosquito net])","v":0},{"$f":"IF(NFI_Expiration=1,IF($A148<VLOOKUP(L$5,NFI,5,0),1,0)*Table_NFI[[#This Row],[Tarpaulin]],Table_NFI[[#This Row],[Tarpaulin]])","v":0},{"$f":"IF(NFI_Expiration=1,IF($A148<VLOOKUP(M$5,NFI,5,0),1,0)*Table_NFI[[#This Row],[Blanket]],Table_NFI[[#This Row],[Blanket]])","v":0},{"$f":"IF(NFI_Expiration=1,IF($A148<VLOOKUP(N$5,NFI,5,0),1,0)*Table_NFI[[#This Row],[Kitchen Set]],Table_NFI[Kitchen Set])","v":0},{"$f":"IF(NFI_Expiration=1,IF($A148<VLOOKUP(O$5,NFI,5,0),1,0)*Table_NFI[[#This Row],[Complementary Kit]],Table_NFI[Complementary Kit])","v":0},{"$f":"IF(NFI_Expiration=1,IF($A148<VLOOKUP(P$5,NFI,5,0),1,0)*Table_NFI[[#This Row],[Plastic Bucket]],Table_NFI[Plastic Bucket])","v":0},{"$f":"IF(NFI_Expiration=1,IF($A148<VLOOKUP(Q$5,NFI,5,0),1,0)*Table_NFI[[#This Row],[Plastic Mat]],Table_NFI[Plastic Mat])","v":0},{"$f":"IFERROR(VLOOKUP(Table_NFI[[#This Row],[Camp Name]],CL,2,0),\"\")","v":"MMR001CMP012"},{"$f":"IFERROR(VLOOKUP(Table_NFI[[#This Row],[Camp Name]],CL,3,0),\"\")","v":"Open"},{"$f":"IFERROR(Table_NFI[[#This Row],[Kitchen Set]]/VLOOKUP(Table_NFI[[#This Row],[Camp Name]],CL,4,0),\"\")","v":0.83333333333333337}]
[17.766666666666666,"2012-07-17","UNHCR","UNHCR","Kachin","Myitkyina","Jan Mai Kawng Baptist Church",null,null,0,21,21,21,21,21,21,21,{"$f":"IF(NFI_Expiration=1,IF($A149<VLOOKUP(H$5,NFI,5,0),1,0)*Table_NFI[[#This Row],[Hygiene Kit]],Table_NFI[Hygiene Kit])","v":0},{"$f":"IF(NFI_Expiration=1,IF($A149<VLOOKUP(I$5,NFI,5,0),1,0)*Table_NFI[[#This Row],[NFI Core Kit]],Table_NFI[NFI Core Kit])","v":0},{"$f":"IF(NFI_Expiration=1,IF($A149<VLOOKUP(J$5,NFI,5,0),1,0)*Table_NFI[[#This Row],[Sanitary Kit]],Table_NFI[Sanitary Kit])","v":0},{"$f":"IF(NFI_Expiration=1,IF($A149<VLOOKUP(K$5,NFI,5,0),1,0)*Table_NFI[[#This Row],[Mosquito net]],Table_NFI[Mosquito net])","v":0},{"$f":"IF(NFI_Expiration=1,IF($A149<VLOOKUP(L$5,NFI,5,0),1,0)*Table_NFI[[#This Row],[Tarpaulin]],Table_NFI[[#This Row],[Tarpaulin]])","v":0},{"$f":"IF(NFI_Expiration=1,IF($A149<VLOOKUP(M$5,NFI,5,0),1,0)*Table_NFI[[#This Row],[Blanket]],Table_NFI[[#This Row],[Blanket]])","v":0},{"$f":"IF(NFI_Expiration=1,IF($A149<VLOOKUP(N$5,NFI,5,0),1,0)*Table_NFI[[#This Row],[Kitchen Set]],Table_NFI[Kitchen Set])","v":0},{"$f":"IF(NFI_Expiration=1,IF($A149<VLOOKUP(O$5,NFI,5,0),1,0)*Table_NFI[[#This Row],[Complementary Kit]],Table_NFI[Complementary Kit])","v":0},{"$f":"IF(NFI_Expiration=1,IF($A149<VLOOKUP(P$5,NFI,5,0),1,0)*Table_NFI[[#This Row],[Plastic Bucket]],Table_NFI[Plastic Bucket])","v":0},{"$f":"IF(NFI_Expiration=1,IF($A149<VLOOKUP(Q$5,NFI,5,0),1,0)*Table_NFI[[#This Row],[Plastic Mat]],Table_NFI[Plastic Mat])","v":0},{"$f":"IFERROR(VLOOKUP(Table_NFI[[#This Row],[Camp Name]],CL,2,0),\"\")","v":"MMR001CMP018"},{"$f":"IFERROR(VLOOKUP(Table_NFI[[#This Row],[Camp Name]],CL,3,0),\"\")","v":"Open"},{"$f":"IFERROR(Table_NFI[[#This Row],[Kitchen Set]]/VLOOKUP(Table_NFI[[#This Row],[Camp Name]],CL,4,0),\"\")","v":0.10344827586206896}]
[17.766666666666666,"2012-07-17","UNHCR","UNHCR","Kachin","Myitkyina","Maw Hpawng Hka Nan Baptist Church",null,null,0,0,0,0,0,0,null,null,{"$f":"IF(NFI_Expiration=1,IF($A150<VLOOKUP(H$5,NFI,5,0),1,0)*Table_NFI[[#This Row],[Hygiene Kit]],Table_NFI[Hygiene Kit])","v":0},{"$f":"IF(NFI_Expiration=1,IF($A150<VLOOKUP(I$5,NFI,5,0),1,0)*Table_NFI[[#This Row],[NFI Core Kit]],Table_NFI[NFI Core Kit])","v":0},{"$f":"IF(NFI_Expiration=1,IF($A150<VLOOKUP(J$5,NFI,5,0),1,0)*Table_NFI[[#This Row],[Sanitary Kit]],Table_NFI[Sanitary Kit])","v":0},{"$f":"IF(NFI_Expiration=1,IF($A150<VLOOKUP(K$5,NFI,5,0),1,0)*Table_NFI[[#This Row],[Mosquito net]],Table_NFI[Mosquito net])","v":0},{"$f":"IF(NFI_Expiration=1,IF($A150<VLOOKUP(L$5,NFI,5,0),1,0)*Table_NFI[[#This Row],[Tarpaulin]],Table_NFI[[#This Row],[Tarpaulin]])","v":0},{"$f":"IF(NFI_Expiration=1,IF($A150<VLOOKUP(M$5,NFI,5,0),1,0)*Table_NFI[[#This Row],[Blanket]],Table_NFI[[#This Row],[Blanket]])","v":0},{"$f":"IF(NFI_Expiration=1,IF($A150<VLOOKUP(N$5,NFI,5,0),1,0)*Table_NFI[[#This Row],[Kitchen Set]],Table_NFI[Kitchen Set])","v":0},{"$f":"IF(NFI_Expiration=1,IF($A150<VLOOKUP(O$5,NFI,5,0),1,0)*Table_NFI[[#This Row],[Complementary Kit]],Table_NFI[Complementary Kit])","v":0},{"$f":"IF(NFI_Expiration=1,IF($A150<VLOOKUP(P$5,NFI,5,0),1,0)*Table_NFI[[#This Row],[Plastic Bucket]],Table_NFI[Plastic Bucket])","v":0},{"$f":"IF(NFI_Expiration=1,IF($A150<VLOOKUP(Q$5,NFI,5,0),1,0)*Table_NFI[[#This Row],[Plastic Mat]],Table_NFI[Plastic Mat])","v":0},{"$f":"IFERROR(VLOOKUP(Table_NFI[[#This Row],[Camp Name]],CL,2,0),\"\")","v":"MMR001CMP020"},{"$f":"IFERROR(VLOOKUP(Table_NFI[[#This Row],[Camp Name]],CL,3,0),\"\")","v":"Open"},{"$f":"IFERROR(Table_NFI[[#This Row],[Kitchen Set]]/VLOOKUP(Table_NFI[[#This Row],[Camp Name]],CL,4,0),\"\")","v":0}]
[17.766666666666666,"2012-07-17","UNHCR","UNHCR","Kachin","Myitkyina","Maw Hpawng Hka Nan Baptist Church",null,null,0,19,19,19,19,19,19,19,{"$f":"IF(NFI_Expiration=1,IF($A151<VLOOKUP(H$5,NFI,5,0),1,0)*Table_NFI[[#This Row],[Hygiene Kit]],Table_NFI[Hygiene Kit])","v":0},{"$f":"IF(NFI_Expiration=1,IF($A151<VLOOKUP(I$5,NFI,5,0),1,0)*Table_NFI[[#This Row],[NFI Core Kit]],Table_NFI[NFI Core Kit])","v":0},{"$f":"IF(NFI_Expiration=1,IF($A151<VLOOKUP(J$5,NFI,5,0),1,0)*Table_NFI[[#This Row],[Sanitary Kit]],Table_NFI[Sanitary Kit])","v":0},{"$f":"IF(NFI_Expiration=1,IF($A151<VLOOKUP(K$5,NFI,5,0),1,0)*Table_NFI[[#This Row],[Mosquito net]],Table_NFI[Mosquito net])","v":0},{"$f":"IF(NFI_Expiration=1,IF($A151<VLOOKUP(L$5,NFI,5,0),1,0)*Table_NFI[[#This Row],[Tarpaulin]],Table_NFI[[#This Row],[Tarpaulin]])","v":0},{"$f":"IF(NFI_Expiration=1,IF($A151<VLOOKUP(M$5,NFI,5,0),1,0)*Table_NFI[[#This Row],[Blanket]],Table_NFI[[#This Row],[Blanket]])","v":0},{"$f":"IF(NFI_Expiration=1,IF($A151<VLOOKUP(N$5,NFI,5,0),1,0)*Table_NFI[[#This Row],[Kitchen Set]],Table_NFI[Kitchen Set])","v":0},{"$f":"IF(NFI_Expiration=1,IF($A151<VLOOKUP(O$5,NFI,5,0),1,0)*Table_NFI[[#This Row],[Complementary Kit]],Table_NFI[Complementary Kit])","v":0},{"$f":"IF(NFI_Expiration=1,IF($A151<VLOOKUP(P$5,NFI,5,0),1,0)*Table_NFI[[#This Row],[Plastic Bucket]],Table_NFI[Plastic Bucket])","v":0},{"$f":"IF(NFI_Expiration=1,IF($A151<VLOOKUP(Q$5,NFI,5,0),1,0)*Table_NFI[[#This Row],[Plastic Mat]],Table_NFI[Plastic Mat])","v":0},{"$f":"IFERROR(VLOOKUP(Table_NFI[[#This Row],[Camp Name]],CL,2,0),\"\")","v":"MMR001CMP020"},{"$f":"IFERROR(VLOOKUP(Table_NFI[[#This Row],[Camp Name]],CL,3,0),\"\")","v":"Open"},{"$f":"IFERROR(Table_NFI[[#This Row],[Kitchen Set]]/VLOOKUP(Table_NFI[[#This Row],[Camp Name]],CL,4,0),\"\")","v":0.73076923076923073}]
[17.766666666666666,"2012-07-17","UNHCR","UNHCR","Kachin","Myitkyina","Nan Kway St. John Catholic Church",null,null,0,6,6,6,6,6,6,6,{"$f":"IF(NFI_Expiration=1,IF($A152<VLOOKUP(H$5,NFI,5,0),1,0)*Table_NFI[[#This Row],[Hygiene Kit]],Table_NFI[Hygiene Kit])","v":0},{"$f":"IF(NFI_Expiration=1,IF($A152<VLOOKUP(I$5,NFI,5,0),1,0)*Table_NFI[[#This Row],[NFI Core Kit]],Table_NFI[NFI Core Kit])","v":0},{"$f":"IF(NFI_Expiration=1,IF($A152<VLOOKUP(J$5,NFI,5,0),1,0)*Table_NFI[[#This Row],[Sanitary Kit]],Table_NFI[Sanitary Kit])","v":0},{"$f":"IF(NFI_Expiration=1,IF($A152<VLOOKUP(K$5,NFI,5,0),1,0)*Table_NFI[[#This Row],[Mosquito net]],Table_NFI[Mosquito net])","v":0},{"$f":"IF(NFI_Expiration=1,IF($A152<VLOOKUP(L$5,NFI,5,0),1,0)*Table_NFI[[#This Row],[Tarpaulin]],Table_NFI[[#This Row],[Tarpaulin]])","v":0},{"$f":"IF(NFI_Expiration=1,IF($A152<VLOOKUP(M$5,NFI,5,0),1,0)*Table_NFI[[#This Row],[Blanket]],Table_NFI[[#This Row],[Blanket]])","v":0},{"$f":"IF(NFI_Expiration=1,IF($A152<VLOOKUP(N$5,NFI,5,0),1,0)*Table_NFI[[#This Row],[Kitchen Set]],Table_NFI[Kitchen Set])","v":0},{"$f":"IF(NFI_Expiration=1,IF($A152<VLOOKUP(O$5,NFI,5,0),1,0)*Table_NFI[[#This Row],[Complementary Kit]],Table_NFI[Complementary Kit])","v":0},{"$f":"IF(NFI_Expiration=1,IF($A152<VLOOKUP(P$5,NFI,5,0),1,0)*Table_NFI[[#This Row],[Plastic Bucket]],Table_NFI[Plastic Bucket])","v":0},{"$f":"IF(NFI_Expiration=1,IF($A152<VLOOKUP(Q$5,NFI,5,0),1,0)*Table_NFI[[#This Row],[Plastic Mat]],Table_NFI[Plastic Mat])","v":0},{"$f":"IFERROR(VLOOKUP(Table_NFI[[#This Row],[Camp Name]],CL,2,0),\"\")","v":"MMR001CMP024"},{"$f":"IFERROR(VLOOKUP(Table_NFI[[#This Row],[Camp Name]],CL,3,0),\"\")","v":"Open"},{"$f":"IFERROR(Table_NFI[[#This Row],[Kitchen Set]]/VLOOKUP(Table_NFI[[#This Row],[Camp Name]],CL,4,0),\"\")","v":8.3333333333333329E-2}]
[17.766666666666666,"2012-07-17","UNHCR","UNHCR","Kachin","Waingmaw","Moke Lwe Village / Hkar Shi",null,null,0,0,0,0,0,0,null,null,{"$f":"IF(NFI_Expiration=1,IF($A153<VLOOKUP(H$5,NFI,5,0),1,0)*Table_NFI[[#This Row],[Hygiene Kit]],Table_NFI[Hygiene Kit])","v":0},{"$f":"IF(NFI_Expiration=1,IF($A153<VLOOKUP(I$5,NFI,5,0),1,0)*Table_NFI[[#This Row],[NFI Core Kit]],Table_NFI[NFI Core Kit])","v":0},{"$f":"IF(NFI_Expiration=1,IF($A153<VLOOKUP(J$5,NFI,5,0),1,0)*Table_NFI[[#This Row],[Sanitary Kit]],Table_NFI[Sanitary Kit])","v":0},{"$f":"IF(NFI_Expiration=1,IF($A153<VLOOKUP(K$5,NFI,5,0),1,0)*Table_NFI[[#This Row],[Mosquito net]],Table_NFI[Mosquito net])","v":0},{"$f":"IF(NFI_Expiration=1,IF($A153<VLOOKUP(L$5,NFI,5,0),1,0)*Table_NFI[[#This Row],[Tarpaulin]],Table_NFI[[#This Row],[Tarpaulin]])","v":0},{"$f":"IF(NFI_Expiration=1,IF($A153<VLOOKUP(M$5,NFI,5,0),1,0)*Table_NFI[[#This Row],[Blanket]],Table_NFI[[#This Row],[Blanket]])","v":0},{"$f":"IF(NFI_Expiration=1,IF($A153<VLOOKUP(N$5,NFI,5,0),1,0)*Table_NFI[[#This Row],[Kitchen Set]],Table_NFI[Kitchen Set])","v":0},{"$f":"IF(NFI_Expiration=1,IF($A153<VLOOKUP(O$5,NFI,5,0),1,0)*Table_NFI[[#This Row],[Complementary Kit]],Table_NFI[Complementary Kit])","v":0},{"$f":"IF(NFI_Expiration=1,IF($A153<VLOOKUP(P$5,NFI,5,0),1,0)*Table_NFI[[#This Row],[Plastic Bucket]],Table_NFI[Plastic Bucket])","v":0},{"$f":"IF(NFI_Expiration=1,IF($A153<VLOOKUP(Q$5,NFI,5,0),1,0)*Table_NFI[[#This Row],[Plastic Mat]],Table_NFI[Plastic Mat])","v":0},{"$f":"IFERROR(VLOOKUP(Table_NFI[[#This Row],[Camp Name]],CL,2,0),\"\")","v":"MMR001CMP035"},{"$f":"IFERROR(VLOOKUP(Table_NFI[[#This Row],[Camp Name]],CL,3,0),\"\")","v":"Closed"},{"$f":"IFERROR(Table_NFI[[#This Row],[Kitchen Set]]/VLOOKUP(Table_NFI[[#This Row],[Camp Name]],CL,4,0),\"\")","v":""}]
[17.766666666666666,"2012-07-17","UNHCR","UNHCR","Kachin","Momauk","Mai Khat ",null,null,0,0,0,0,0,0,null,null,{"$f":"IF(NFI_Expiration=1,IF($A154<VLOOKUP(H$5,NFI,5,0),1,0)*Table_NFI[[#This Row],[Hygiene Kit]],Table_NFI[Hygiene Kit])","v":0},{"$f":"IF(NFI_Expiration=1,IF($A154<VLOOKUP(I$5,NFI,5,0),1,0)*Table_NFI[[#This Row],[NFI Core Kit]],Table_NFI[NFI Core Kit])","v":0},{"$f":"IF(NFI_Expiration=1,IF($A154<VLOOKUP(J$5,NFI,5,0),1,0)*Table_NFI[[#This Row],[Sanitary Kit]],Table_NFI[Sanitary Kit])","v":0},{"$f":"IF(NFI_Expiration=1,IF($A154<VLOOKUP(K$5,NFI,5,0),1,0)*Table_NFI[[#This Row],[Mosquito net]],Table_NFI[Mosquito net])","v":0},{"$f":"IF(NFI_Expiration=1,IF($A154<VLOOKUP(L$5,NFI,5,0),1,0)*Table_NFI[[#This Row],[Tarpaulin]],Table_NFI[[#This Row],[Tarpaulin]])","v":0},{"$f":"IF(NFI_Expiration=1,IF($A154<VLOOKUP(M$5,NFI,5,0),1,0)*Table_NFI[[#This Row],[Blanket]],Table_NFI[[#This Row],[Blanket]])","v":0},{"$f":"IF(NFI_Expiration=1,IF($A154<VLOOKUP(N$5,NFI,5,0),1,0)*Table_NFI[[#This Row],[Kitchen Set]],Table_NFI[Kitchen Set])","v":0},{"$f":"IF(NFI_Expiration=1,IF($A154<VLOOKUP(O$5,NFI,5,0),1,0)*Table_NFI[[#This Row],[Complementary Kit]],Table_NFI[Complementary Kit])","v":0},{"$f":"IF(NFI_Expiration=1,IF($A154<VLOOKUP(P$5,NFI,5,0),1,0)*Table_NFI[[#This Row],[Plastic Bucket]],Table_NFI[Plastic Bucket])","v":0},{"$f":"IF(NFI_Expiration=1,IF($A154<VLOOKUP(Q$5,NFI,5,0),1,0)*Table_NFI[[#This Row],[Plastic Mat]],Table_NFI[Plastic Mat])","v":0},{"$f":"IFERROR(VLOOKUP(Table_NFI[[#This Row],[Camp Name]],CL,2,0),\"\")","v":"MMR001CMP064"},{"$f":"IFERROR(VLOOKUP(Table_NFI[[#This Row],[Camp Name]],CL,3,0),\"\")","v":"Open"},{"$f":"IFERROR(Table_NFI[[#This Row],[Kitchen Set]]/VLOOKUP(Table_NFI[[#This Row],[Camp Name]],CL,4,0),\"\")","v":0}]
[17.766666666666666,"2012-07-17","UNHCR","UNHCR","Kachin","Momauk","Mai Khat ",null,null,0,0,0,0,0,0,null,null,{"$f":"IF(NFI_Expiration=1,IF($A155<VLOOKUP(H$5,NFI,5,0),1,0)*Table_NFI[[#This Row],[Hygiene Kit]],Table_NFI[Hygiene Kit])","v":0},{"$f":"IF(NFI_Expiration=1,IF($A155<VLOOKUP(I$5,NFI,5,0),1,0)*Table_NFI[[#This Row],[NFI Core Kit]],Table_NFI[NFI Core Kit])","v":0},{"$f":"IF(NFI_Expiration=1,IF($A155<VLOOKUP(J$5,NFI,5,0),1,0)*Table_NFI[[#This Row],[Sanitary Kit]],Table_NFI[Sanitary Kit])","v":0},{"$f":"IF(NFI_Expiration=1,IF($A155<VLOOKUP(K$5,NFI,5,0),1,0)*Table_NFI[[#This Row],[Mosquito net]],Table_NFI[Mosquito net])","v":0},{"$f":"IF(NFI_Expiration=1,IF($A155<VLOOKUP(L$5,NFI,5,0),1,0)*Table_NFI[[#This Row],[Tarpaulin]],Table_NFI[[#This Row],[Tarpaulin]])","v":0},{"$f":"IF(NFI_Expiration=1,IF($A155<VLOOKUP(M$5,NFI,5,0),1,0)*Table_NFI[[#This Row],[Blanket]],Table_NFI[[#This Row],[Blanket]])","v":0},{"$f":"IF(NFI_Expiration=1,IF($A155<VLOOKUP(N$5,NFI,5,0),1,0)*Table_NFI[[#This Row],[Kitchen Set]],Table_NFI[Kitchen Set])","v":0},{"$f":"IF(NFI_Expiration=1,IF($A155<VLOOKUP(O$5,NFI,5,0),1,0)*Table_NFI[[#This Row],[Complementary Kit]],Table_NFI[Complementary Kit])","v":0},{"$f":"IF(NFI_Expiration=1,IF($A155<VLOOKUP(P$5,NFI,5,0),1,0)*Table_NFI[[#This Row],[Plastic Bucket]],Table_NFI[Plastic Bucket])","v":0},{"$f":"IF(NFI_Expiration=1,IF($A155<VLOOKUP(Q$5,NFI,5,0),1,0)*Table_NFI[[#This Row],[Plastic Mat]],Table_NFI[Plastic Mat])","v":0},{"$f":"IFERROR(VLOOKUP(Table_NFI[[#This Row],[Camp Name]],CL,2,0),\"\")","v":"MMR001CMP064"},{"$f":"IFERROR(VLOOKUP(Table_NFI[[#This Row],[Camp Name]],CL,3,0),\"\")","v":"Open"},{"$f":"IFERROR(Table_NFI[[#This Row],[Kitchen Set]]/VLOOKUP(Table_NFI[[#This Row],[Camp Name]],CL,4,0),\"\")","v":0}]
[17.766666666666666,"2012-07-17","UNHCR","UNHCR","Kachin","Momauk","Loi Je Lisu Camp",null,null,0,0,0,0,0,0,null,null,{"$f":"IF(NFI_Expiration=1,IF($A156<VLOOKUP(H$5,NFI,5,0),1,0)*Table_NFI[[#This Row],[Hygiene Kit]],Table_NFI[Hygiene Kit])","v":0},{"$f":"IF(NFI_Expiration=1,IF($A156<VLOOKUP(I$5,NFI,5,0),1,0)*Table_NFI[[#This Row],[NFI Core Kit]],Table_NFI[NFI Core Kit])","v":0},{"$f":"IF(NFI_Expiration=1,IF($A156<VLOOKUP(J$5,NFI,5,0),1,0)*Table_NFI[[#This Row],[Sanitary Kit]],Table_NFI[Sanitary Kit])","v":0},{"$f":"IF(NFI_Expiration=1,IF($A156<VLOOKUP(K$5,NFI,5,0),1,0)*Table_NFI[[#This Row],[Mosquito net]],Table_NFI[Mosquito net])","v":0},{"$f":"IF(NFI_Expiration=1,IF($A156<VLOOKUP(L$5,NFI,5,0),1,0)*Table_NFI[[#This Row],[Tarpaulin]],Table_NFI[[#This Row],[Tarpaulin]])","v":0},{"$f":"IF(NFI_Expiration=1,IF($A156<VLOOKUP(M$5,NFI,5,0),1,0)*Table_NFI[[#This Row],[Blanket]],Table_NFI[[#This Row],[Blanket]])","v":0},{"$f":"IF(NFI_Expiration=1,IF($A156<VLOOKUP(N$5,NFI,5,0),1,0)*Table_NFI[[#This Row],[Kitchen Set]],Table_NFI[Kitchen Set])","v":0},{"$f":"IF(NFI_Expiration=1,IF($A156<VLOOKUP(O$5,NFI,5,0),1,0)*Table_NFI[[#This Row],[Complementary Kit]],Table_NFI[Complementary Kit])","v":0},{"$f":"IF(NFI_Expiration=1,IF($A156<VLOOKUP(P$5,NFI,5,0),1,0)*Table_NFI[[#This Row],[Plastic Bucket]],Table_NFI[Plastic Bucket])","v":0},{"$f":"IF(NFI_Expiration=1,IF($A156<VLOOKUP(Q$5,NFI,5,0),1,0)*Table_NFI[[#This Row],[Plastic Mat]],Table_NFI[Plastic Mat])","v":0},{"$f":"IFERROR(VLOOKUP(Table_NFI[[#This Row],[Camp Name]],CL,2,0),\"\")","v":"MMR001CMP070"},{"$f":"IFERROR(VLOOKUP(Table_NFI[[#This Row],[Camp Name]],CL,3,0),\"\")","v":"Open"},{"$f":"IFERROR(Table_NFI[[#This Row],[Kitchen Set]]/VLOOKUP(Table_NFI[[#This Row],[Camp Name]],CL,4,0),\"\")","v":0}]
[17.766666666666666,"2012-07-17","UNHCR","UNHCR","Kachin","Waingmaw","Border Post 8",null,null,0,19,19,19,19,19,19,19,{"$f":"IF(NFI_Expiration=1,IF($A157<VLOOKUP(H$5,NFI,5,0),1,0)*Table_NFI[[#This Row],[Hygiene Kit]],Table_NFI[Hygiene Kit])","v":0},{"$f":"IF(NFI_Expiration=1,IF($A157<VLOOKUP(I$5,NFI,5,0),1,0)*Table_NFI[[#This Row],[NFI Core Kit]],Table_NFI[NFI Core Kit])","v":0},{"$f":"IF(NFI_Expiration=1,IF($A157<VLOOKUP(J$5,NFI,5,0),1,0)*Table_NFI[[#This Row],[Sanitary Kit]],Table_NFI[Sanitary Kit])","v":0},{"$f":"IF(NFI_Expiration=1,IF($A157<VLOOKUP(K$5,NFI,5,0),1,0)*Table_NFI[[#This Row],[Mosquito net]],Table_NFI[Mosquito net])","v":0},{"$f":"IF(NFI_Expiration=1,IF($A157<VLOOKUP(L$5,NFI,5,0),1,0)*Table_NFI[[#This Row],[Tarpaulin]],Table_NFI[[#This Row],[Tarpaulin]])","v":0},{"$f":"IF(NFI_Expiration=1,IF($A157<VLOOKUP(M$5,NFI,5,0),1,0)*Table_NFI[[#This Row],[Blanket]],Table_NFI[[#This Row],[Blanket]])","v":0},{"$f":"IF(NFI_Expiration=1,IF($A157<VLOOKUP(N$5,NFI,5,0),1,0)*Table_NFI[[#This Row],[Kitchen Set]],Table_NFI[Kitchen Set])","v":0},{"$f":"IF(NFI_Expiration=1,IF($A157<VLOOKUP(O$5,NFI,5,0),1,0)*Table_NFI[[#This Row],[Complementary Kit]],Table_NFI[Complementary Kit])","v":0},{"$f":"IF(NFI_Expiration=1,IF($A157<VLOOKUP(P$5,NFI,5,0),1,0)*Table_NFI[[#This Row],[Plastic Bucket]],Table_NFI[Plastic Bucket])","v":0},{"$f":"IF(NFI_Expiration=1,IF($A157<VLOOKUP(Q$5,NFI,5,0),1,0)*Table_NFI[[#This Row],[Plastic Mat]],Table_NFI[Plastic Mat])","v":0},{"$f":"IFERROR(VLOOKUP(Table_NFI[[#This Row],[Camp Name]],CL,2,0),\"\")","v":"MMR001CMP113"},{"$f":"IFERROR(VLOOKUP(Table_NFI[[#This Row],[Camp Name]],CL,3,0),\"\")","v":"Open"},{"$f":"IFERROR(Table_NFI[[#This Row],[Kitchen Set]]/VLOOKUP(Table_NFI[[#This Row],[Camp Name]],CL,4,0),\"\")","v":0.1111111111111111}]
[17.766666666666666,"2012-07-17","UNHCR","UNHCR","Kachin","Momauk","Hpun Lum Yang ",null,null,0,0,0,0,0,0,null,null,{"$f":"IF(NFI_Expiration=1,IF($A158<VLOOKUP(H$5,NFI,5,0),1,0)*Table_NFI[[#This Row],[Hygiene Kit]],Table_NFI[Hygiene Kit])","v":0},{"$f":"IF(NFI_Expiration=1,IF($A158<VLOOKUP(I$5,NFI,5,0),1,0)*Table_NFI[[#This Row],[NFI Core Kit]],Table_NFI[NFI Core Kit])","v":0},{"$f":"IF(NFI_Expiration=1,IF($A158<VLOOKUP(J$5,NFI,5,0),1,0)*Table_NFI[[#This Row],[Sanitary Kit]],Table_NFI[Sanitary Kit])","v":0},{"$f":"IF(NFI_Expiration=1,IF($A158<VLOOKUP(K$5,NFI,5,0),1,0)*Table_NFI[[#This Row],[Mosquito net]],Table_NFI[Mosquito net])","v":0},{"$f":"IF(NFI_Expiration=1,IF($A158<VLOOKUP(L$5,NFI,5,0),1,0)*Table_NFI[[#This Row],[Tarpaulin]],Table_NFI[[#This Row],[Tarpaulin]])","v":0},{"$f":"IF(NFI_Expiration=1,IF($A158<VLOOKUP(M$5,NFI,5,0),1,0)*Table_NFI[[#This Row],[Blanket]],Table_NFI[[#This Row],[Blanket]])","v":0},{"$f":"IF(NFI_Expiration=1,IF($A158<VLOOKUP(N$5,NFI,5,0),1,0)*Table_NFI[[#This Row],[Kitchen Set]],Table_NFI[Kitchen Set])","v":0},{"$f":"IF(NFI_Expiration=1,IF($A158<VLOOKUP(O$5,NFI,5,0),1,0)*Table_NFI[[#This Row],[Complementary Kit]],Table_NFI[Complementary Kit])","v":0},{"$f":"IF(NFI_Expiration=1,IF($A158<VLOOKUP(P$5,NFI,5,0),1,0)*Table_NFI[[#This Row],[Plastic Bucket]],Table_NFI[Plastic Bucket])","v":0},{"$f":"IF(NFI_Expiration=1,IF($A158<VLOOKUP(Q$5,NFI,5,0),1,0)*Table_NFI[[#This Row],[Plastic Mat]],Table_NFI[Plastic Mat])","v":0},{"$f":"IFERROR(VLOOKUP(Table_NFI[[#This Row],[Camp Name]],CL,2,0),\"\")","v":"MMR001CMP122"},{"$f":"IFERROR(VLOOKUP(Table_NFI[[#This Row],[Camp Name]],CL,3,0),\"\")","v":"Open"},{"$f":"IFERROR(Table_NFI[[#This Row],[Kitchen Set]]/VLOOKUP(Table_NFI[[#This Row],[Camp Name]],CL,4,0),\"\")","v":0}]
[17.766666666666666,"2012-07-17","UNHCR","UNHCR","Kachin","Momauk","Dum Bung ",null,null,0,380,156,380,156,156,156,156,{"$f":"IF(NFI_Expiration=1,IF($A159<VLOOKUP(H$5,NFI,5,0),1,0)*Table_NFI[[#This Row],[Hygiene Kit]],Table_NFI[Hygiene Kit])","v":0},{"$f":"IF(NFI_Expiration=1,IF($A159<VLOOKUP(I$5,NFI,5,0),1,0)*Table_NFI[[#This Row],[NFI Core Kit]],Table_NFI[NFI Core Kit])","v":0},{"$f":"IF(NFI_Expiration=1,IF($A159<VLOOKUP(J$5,NFI,5,0),1,0)*Table_NFI[[#This Row],[Sanitary Kit]],Table_NFI[Sanitary Kit])","v":0},{"$f":"IF(NFI_Expiration=1,IF($A159<VLOOKUP(K$5,NFI,5,0),1,0)*Table_NFI[[#This Row],[Mosquito net]],Table_NFI[Mosquito net])","v":0},{"$f":"IF(NFI_Expiration=1,IF($A159<VLOOKUP(L$5,NFI,5,0),1,0)*Table_NFI[[#This Row],[Tarpaulin]],Table_NFI[[#This Row],[Tarpaulin]])","v":0},{"$f":"IF(NFI_Expiration=1,IF($A159<VLOOKUP(M$5,NFI,5,0),1,0)*Table_NFI[[#This Row],[Blanket]],Table_NFI[[#This Row],[Blanket]])","v":0},{"$f":"IF(NFI_Expiration=1,IF($A159<VLOOKUP(N$5,NFI,5,0),1,0)*Table_NFI[[#This Row],[Kitchen Set]],Table_NFI[Kitchen Set])","v":0},{"$f":"IF(NFI_Expiration=1,IF($A159<VLOOKUP(O$5,NFI,5,0),1,0)*Table_NFI[[#This Row],[Complementary Kit]],Table_NFI[Complementary Kit])","v":0},{"$f":"IF(NFI_Expiration=1,IF($A159<VLOOKUP(P$5,NFI,5,0),1,0)*Table_NFI[[#This Row],[Plastic Bucket]],Table_NFI[Plastic Bucket])","v":0},{"$f":"IF(NFI_Expiration=1,IF($A159<VLOOKUP(Q$5,NFI,5,0),1,0)*Table_NFI[[#This Row],[Plastic Mat]],Table_NFI[Plastic Mat])","v":0},{"$f":"IFERROR(VLOOKUP(Table_NFI[[#This Row],[Camp Name]],CL,2,0),\"\")","v":"MMR001CMP123"},{"$f":"IFERROR(VLOOKUP(Table_NFI[[#This Row],[Camp Name]],CL,3,0),\"\")","v":"Open"},{"$f":"IFERROR(Table_NFI[[#This Row],[Kitchen Set]]/VLOOKUP(Table_NFI[[#This Row],[Camp Name]],CL,4,0),\"\")","v":1.3109243697478992}]
[17.766666666666666,"2012-07-17","UNHCR","UNHCR","Kachin","Momauk","Pa Kahtawng ",null,null,0,0,0,0,0,0,null,null,{"$f":"IF(NFI_Expiration=1,IF($A160<VLOOKUP(H$5,NFI,5,0),1,0)*Table_NFI[[#This Row],[Hygiene Kit]],Table_NFI[Hygiene Kit])","v":0},{"$f":"IF(NFI_Expiration=1,IF($A160<VLOOKUP(I$5,NFI,5,0),1,0)*Table_NFI[[#This Row],[NFI Core Kit]],Table_NFI[NFI Core Kit])","v":0},{"$f":"IF(NFI_Expiration=1,IF($A160<VLOOKUP(J$5,NFI,5,0),1,0)*Table_NFI[[#This Row],[Sanitary Kit]],Table_NFI[Sanitary Kit])","v":0},{"$f":"IF(NFI_Expiration=1,IF($A160<VLOOKUP(K$5,NFI,5,0),1,0)*Table_NFI[[#This Row],[Mosquito net]],Table_NFI[Mosquito net])","v":0},{"$f":"IF(NFI_Expiration=1,IF($A160<VLOOKUP(L$5,NFI,5,0),1,0)*Table_NFI[[#This Row],[Tarpaulin]],Table_NFI[[#This Row],[Tarpaulin]])","v":0},{"$f":"IF(NFI_Expiration=1,IF($A160<VLOOKUP(M$5,NFI,5,0),1,0)*Table_NFI[[#This Row],[Blanket]],Table_NFI[[#This Row],[Blanket]])","v":0},{"$f":"IF(NFI_Expiration=1,IF($A160<VLOOKUP(N$5,NFI,5,0),1,0)*Table_NFI[[#This Row],[Kitchen Set]],Table_NFI[Kitchen Set])","v":0},{"$f":"IF(NFI_Expiration=1,IF($A160<VLOOKUP(O$5,NFI,5,0),1,0)*Table_NFI[[#This Row],[Complementary Kit]],Table_NFI[Complementary Kit])","v":0},{"$f":"IF(NFI_Expiration=1,IF($A160<VLOOKUP(P$5,NFI,5,0),1,0)*Table_NFI[[#This Row],[Plastic Bucket]],Table_NFI[Plastic Bucket])","v":0},{"$f":"IF(NFI_Expiration=1,IF($A160<VLOOKUP(Q$5,NFI,5,0),1,0)*Table_NFI[[#This Row],[Plastic Mat]],Table_NFI[Plastic Mat])","v":0},{"$f":"IFERROR(VLOOKUP(Table_NFI[[#This Row],[Camp Name]],CL,2,0),\"\")","v":"MMR001CMP126"},{"$f":"IFERROR(VLOOKUP(Table_NFI[[#This Row],[Camp Name]],CL,3,0),\"\")","v":"Open"},{"$f":"IFERROR(Table_NFI[[#This Row],[Kitchen Set]]/VLOOKUP(Table_NFI[[#This Row],[Camp Name]],CL,4,0),\"\")","v":0}]
[17.766666666666666,"2012-07-17","UNHCR","UNHCR","Kachin","Momauk","Pa Kahtawng ",null,null,0,0,0,0,0,0,null,null,{"$f":"IF(NFI_Expiration=1,IF($A161<VLOOKUP(H$5,NFI,5,0),1,0)*Table_NFI[[#This Row],[Hygiene Kit]],Table_NFI[Hygiene Kit])","v":0},{"$f":"IF(NFI_Expiration=1,IF($A161<VLOOKUP(I$5,NFI,5,0),1,0)*Table_NFI[[#This Row],[NFI Core Kit]],Table_NFI[NFI Core Kit])","v":0},{"$f":"IF(NFI_Expiration=1,IF($A161<VLOOKUP(J$5,NFI,5,0),1,0)*Table_NFI[[#This Row],[Sanitary Kit]],Table_NFI[Sanitary Kit])","v":0},{"$f":"IF(NFI_Expiration=1,IF($A161<VLOOKUP(K$5,NFI,5,0),1,0)*Table_NFI[[#This Row],[Mosquito net]],Table_NFI[Mosquito net])","v":0},{"$f":"IF(NFI_Expiration=1,IF($A161<VLOOKUP(L$5,NFI,5,0),1,0)*Table_NFI[[#This Row],[Tarpaulin]],Table_NFI[[#This Row],[Tarpaulin]])","v":0},{"$f":"IF(NFI_Expiration=1,IF($A161<VLOOKUP(M$5,NFI,5,0),1,0)*Table_NFI[[#This Row],[Blanket]],Table_NFI[[#This Row],[Blanket]])","v":0},{"$f":"IF(NFI_Expiration=1,IF($A161<VLOOKUP(N$5,NFI,5,0),1,0)*Table_NFI[[#This Row],[Kitchen Set]],Table_NFI[Kitchen Set])","v":0},{"$f":"IF(NFI_Expiration=1,IF($A161<VLOOKUP(O$5,NFI,5,0),1,0)*Table_NFI[[#This Row],[Complementary Kit]],Table_NFI[Complementary Kit])","v":0},{"$f":"IF(NFI_Expiration=1,IF($A161<VLOOKUP(P$5,NFI,5,0),1,0)*Table_NFI[[#This Row],[Plastic Bucket]],Table_NFI[Plastic Bucket])","v":0},{"$f":"IF(NFI_Expiration=1,IF($A161<VLOOKUP(Q$5,NFI,5,0),1,0)*Table_NFI[[#This Row],[Plastic Mat]],Table_NFI[Plastic Mat])","v":0},{"$f":"IFERROR(VLOOKUP(Table_NFI[[#This Row],[Camp Name]],CL,2,0),\"\")","v":"MMR001CMP126"},{"$f":"IFERROR(VLOOKUP(Table_NFI[[#This Row],[Camp Name]],CL,3,0),\"\")","v":"Open"},{"$f":"IFERROR(Table_NFI[[#This Row],[Kitchen Set]]/VLOOKUP(Table_NFI[[#This Row],[Camp Name]],CL,4,0),\"\")","v":0}]
[17.766666666666666,"2012-07-17","UNHCR","UNHCR","Kachin","Mansi","Man Wing Baptist Church",null,null,0,0,0,0,0,0,null,null,{"$f":"IF(NFI_Expiration=1,IF($A162<VLOOKUP(H$5,NFI,5,0),1,0)*Table_NFI[[#This Row],[Hygiene Kit]],Table_NFI[Hygiene Kit])","v":0},{"$f":"IF(NFI_Expiration=1,IF($A162<VLOOKUP(I$5,NFI,5,0),1,0)*Table_NFI[[#This Row],[NFI Core Kit]],Table_NFI[NFI Core Kit])","v":0},{"$f":"IF(NFI_Expiration=1,IF($A162<VLOOKUP(J$5,NFI,5,0),1,0)*Table_NFI[[#This Row],[Sanitary Kit]],Table_NFI[Sanitary Kit])","v":0},{"$f":"IF(NFI_Expiration=1,IF($A162<VLOOKUP(K$5,NFI,5,0),1,0)*Table_NFI[[#This Row],[Mosquito net]],Table_NFI[Mosquito net])","v":0},{"$f":"IF(NFI_Expiration=1,IF($A162<VLOOKUP(L$5,NFI,5,0),1,0)*Table_NFI[[#This Row],[Tarpaulin]],Table_NFI[[#This Row],[Tarpaulin]])","v":0},{"$f":"IF(NFI_Expiration=1,IF($A162<VLOOKUP(M$5,NFI,5,0),1,0)*Table_NFI[[#This Row],[Blanket]],Table_NFI[[#This Row],[Blanket]])","v":0},{"$f":"IF(NFI_Expiration=1,IF($A162<VLOOKUP(N$5,NFI,5,0),1,0)*Table_NFI[[#This Row],[Kitchen Set]],Table_NFI[Kitchen Set])","v":0},{"$f":"IF(NFI_Expiration=1,IF($A162<VLOOKUP(O$5,NFI,5,0),1,0)*Table_NFI[[#This Row],[Complementary Kit]],Table_NFI[Complementary Kit])","v":0},{"$f":"IF(NFI_Expiration=1,IF($A162<VLOOKUP(P$5,NFI,5,0),1,0)*Table_NFI[[#This Row],[Plastic Bucket]],Table_NFI[Plastic Bucket])","v":0},{"$f":"IF(NFI_Expiration=1,IF($A162<VLOOKUP(Q$5,NFI,5,0),1,0)*Table_NFI[[#This Row],[Plastic Mat]],Table_NFI[Plastic Mat])","v":0},{"$f":"IFERROR(VLOOKUP(Table_NFI[[#This Row],[Camp Name]],CL,2,0),\"\")","v":"MMR001CMP133"},{"$f":"IFERROR(VLOOKUP(Table_NFI[[#This Row],[Camp Name]],CL,3,0),\"\")","v":"Open"},{"$f":"IFERROR(Table_NFI[[#This Row],[Kitchen Set]]/VLOOKUP(Table_NFI[[#This Row],[Camp Name]],CL,4,0),\"\")","v":0}]
[17.766666666666666,"2012-07-17","UNHCR","UNHCR","Kachin","Mansi","Lung Kawk  ( Hka Hkye Zup)",null,null,0,0,0,0,0,0,null,null,{"$f":"IF(NFI_Expiration=1,IF($A163<VLOOKUP(H$5,NFI,5,0),1,0)*Table_NFI[[#This Row],[Hygiene Kit]],Table_NFI[Hygiene Kit])","v":0},{"$f":"IF(NFI_Expiration=1,IF($A163<VLOOKUP(I$5,NFI,5,0),1,0)*Table_NFI[[#This Row],[NFI Core Kit]],Table_NFI[NFI Core Kit])","v":0},{"$f":"IF(NFI_Expiration=1,IF($A163<VLOOKUP(J$5,NFI,5,0),1,0)*Table_NFI[[#This Row],[Sanitary Kit]],Table_NFI[Sanitary Kit])","v":0},{"$f":"IF(NFI_Expiration=1,IF($A163<VLOOKUP(K$5,NFI,5,0),1,0)*Table_NFI[[#This Row],[Mosquito net]],Table_NFI[Mosquito net])","v":0},{"$f":"IF(NFI_Expiration=1,IF($A163<VLOOKUP(L$5,NFI,5,0),1,0)*Table_NFI[[#This Row],[Tarpaulin]],Table_NFI[[#This Row],[Tarpaulin]])","v":0},{"$f":"IF(NFI_Expiration=1,IF($A163<VLOOKUP(M$5,NFI,5,0),1,0)*Table_NFI[[#This Row],[Blanket]],Table_NFI[[#This Row],[Blanket]])","v":0},{"$f":"IF(NFI_Expiration=1,IF($A163<VLOOKUP(N$5,NFI,5,0),1,0)*Table_NFI[[#This Row],[Kitchen Set]],Table_NFI[Kitchen Set])","v":0},{"$f":"IF(NFI_Expiration=1,IF($A163<VLOOKUP(O$5,NFI,5,0),1,0)*Table_NFI[[#This Row],[Complementary Kit]],Table_NFI[Complementary Kit])","v":0},{"$f":"IF(NFI_Expiration=1,IF($A163<VLOOKUP(P$5,NFI,5,0),1,0)*Table_NFI[[#This Row],[Plastic Bucket]],Table_NFI[Plastic Bucket])","v":0},{"$f":"IF(NFI_Expiration=1,IF($A163<VLOOKUP(Q$5,NFI,5,0),1,0)*Table_NFI[[#This Row],[Plastic Mat]],Table_NFI[Plastic Mat])","v":0},{"$f":"IFERROR(VLOOKUP(Table_NFI[[#This Row],[Camp Name]],CL,2,0),\"\")","v":"MMR001CMP135"},{"$f":"IFERROR(VLOOKUP(Table_NFI[[#This Row],[Camp Name]],CL,3,0),\"\")","v":"Open"},{"$f":"IFERROR(Table_NFI[[#This Row],[Kitchen Set]]/VLOOKUP(Table_NFI[[#This Row],[Camp Name]],CL,4,0),\"\")","v":0}]
[17.733333333333334,"2012-07-18","UNHCR","UNHCR","Kachin","Mansi","Nam Lim Pa - Scattered IDPs in forest",null,null,0,206,78,206,103,103,103,103,{"$f":"IF(NFI_Expiration=1,IF($A164<VLOOKUP(H$5,NFI,5,0),1,0)*Table_NFI[[#This Row],[Hygiene Kit]],Table_NFI[Hygiene Kit])","v":0},{"$f":"IF(NFI_Expiration=1,IF($A164<VLOOKUP(I$5,NFI,5,0),1,0)*Table_NFI[[#This Row],[NFI Core Kit]],Table_NFI[NFI Core Kit])","v":0},{"$f":"IF(NFI_Expiration=1,IF($A164<VLOOKUP(J$5,NFI,5,0),1,0)*Table_NFI[[#This Row],[Sanitary Kit]],Table_NFI[Sanitary Kit])","v":0},{"$f":"IF(NFI_Expiration=1,IF($A164<VLOOKUP(K$5,NFI,5,0),1,0)*Table_NFI[[#This Row],[Mosquito net]],Table_NFI[Mosquito net])","v":0},{"$f":"IF(NFI_Expiration=1,IF($A164<VLOOKUP(L$5,NFI,5,0),1,0)*Table_NFI[[#This Row],[Tarpaulin]],Table_NFI[[#This Row],[Tarpaulin]])","v":0},{"$f":"IF(NFI_Expiration=1,IF($A164<VLOOKUP(M$5,NFI,5,0),1,0)*Table_NFI[[#This Row],[Blanket]],Table_NFI[[#This Row],[Blanket]])","v":0},{"$f":"IF(NFI_Expiration=1,IF($A164<VLOOKUP(N$5,NFI,5,0),1,0)*Table_NFI[[#This Row],[Kitchen Set]],Table_NFI[Kitchen Set])","v":0},{"$f":"IF(NFI_Expiration=1,IF($A164<VLOOKUP(O$5,NFI,5,0),1,0)*Table_NFI[[#This Row],[Complementary Kit]],Table_NFI[Complementary Kit])","v":0},{"$f":"IF(NFI_Expiration=1,IF($A164<VLOOKUP(P$5,NFI,5,0),1,0)*Table_NFI[[#This Row],[Plastic Bucket]],Table_NFI[Plastic Bucket])","v":0},{"$f":"IF(NFI_Expiration=1,IF($A164<VLOOKUP(Q$5,NFI,5,0),1,0)*Table_NFI[[#This Row],[Plastic Mat]],Table_NFI[Plastic Mat])","v":0},{"$f":"IFERROR(VLOOKUP(Table_NFI[[#This Row],[Camp Name]],CL,2,0),\"\")","v":"MMR001CMP137"},{"$f":"IFERROR(VLOOKUP(Table_NFI[[#This Row],[Camp Name]],CL,3,0),\"\")","v":"Closed"},{"$f":"IFERROR(Table_NFI[[#This Row],[Kitchen Set]]/VLOOKUP(Table_NFI[[#This Row],[Camp Name]],CL,4,0),\"\")","v":""}]
[17.733333333333334,"2012-07-18","UNHCR","UNHCR","Kachin","Mansi","Mung Ding Pa  (Boarder)",null,null,0,170,16,170,85,85,85,85,{"$f":"IF(NFI_Expiration=1,IF($A165<VLOOKUP(H$5,NFI,5,0),1,0)*Table_NFI[[#This Row],[Hygiene Kit]],Table_NFI[Hygiene Kit])","v":0},{"$f":"IF(NFI_Expiration=1,IF($A165<VLOOKUP(I$5,NFI,5,0),1,0)*Table_NFI[[#This Row],[NFI Core Kit]],Table_NFI[NFI Core Kit])","v":0},{"$f":"IF(NFI_Expiration=1,IF($A165<VLOOKUP(J$5,NFI,5,0),1,0)*Table_NFI[[#This Row],[Sanitary Kit]],Table_NFI[Sanitary Kit])","v":0},{"$f":"IF(NFI_Expiration=1,IF($A165<VLOOKUP(K$5,NFI,5,0),1,0)*Table_NFI[[#This Row],[Mosquito net]],Table_NFI[Mosquito net])","v":0},{"$f":"IF(NFI_Expiration=1,IF($A165<VLOOKUP(L$5,NFI,5,0),1,0)*Table_NFI[[#This Row],[Tarpaulin]],Table_NFI[[#This Row],[Tarpaulin]])","v":0},{"$f":"IF(NFI_Expiration=1,IF($A165<VLOOKUP(M$5,NFI,5,0),1,0)*Table_NFI[[#This Row],[Blanket]],Table_NFI[[#This Row],[Blanket]])","v":0},{"$f":"IF(NFI_Expiration=1,IF($A165<VLOOKUP(N$5,NFI,5,0),1,0)*Table_NFI[[#This Row],[Kitchen Set]],Table_NFI[Kitchen Set])","v":0},{"$f":"IF(NFI_Expiration=1,IF($A165<VLOOKUP(O$5,NFI,5,0),1,0)*Table_NFI[[#This Row],[Complementary Kit]],Table_NFI[Complementary Kit])","v":0},{"$f":"IF(NFI_Expiration=1,IF($A165<VLOOKUP(P$5,NFI,5,0),1,0)*Table_NFI[[#This Row],[Plastic Bucket]],Table_NFI[Plastic Bucket])","v":0},{"$f":"IF(NFI_Expiration=1,IF($A165<VLOOKUP(Q$5,NFI,5,0),1,0)*Table_NFI[[#This Row],[Plastic Mat]],Table_NFI[Plastic Mat])","v":0},{"$f":"IFERROR(VLOOKUP(Table_NFI[[#This Row],[Camp Name]],CL,2,0),\"\")","v":"MMR001CMP203"},{"$f":"IFERROR(VLOOKUP(Table_NFI[[#This Row],[Camp Name]],CL,3,0),\"\")","v":"Closed"},{"$f":"IFERROR(Table_NFI[[#This Row],[Kitchen Set]]/VLOOKUP(Table_NFI[[#This Row],[Camp Name]],CL,4,0),\"\")","v":""}]
[17.7,"2012-07-19","UNHCR","UNHCR","Kachin","Myitkyina","Kyun Pin Thar Baptist Church",null,null,0,6,4,6,4,4,4,4,{"$f":"IF(NFI_Expiration=1,IF($A166<VLOOKUP(H$5,NFI,5,0),1,0)*Table_NFI[[#This Row],[Hygiene Kit]],Table_NFI[Hygiene Kit])","v":0},{"$f":"IF(NFI_Expiration=1,IF($A166<VLOOKUP(I$5,NFI,5,0),1,0)*Table_NFI[[#This Row],[NFI Core Kit]],Table_NFI[NFI Core Kit])","v":0},{"$f":"IF(NFI_Expiration=1,IF($A166<VLOOKUP(J$5,NFI,5,0),1,0)*Table_NFI[[#This Row],[Sanitary Kit]],Table_NFI[Sanitary Kit])","v":0},{"$f":"IF(NFI_Expiration=1,IF($A166<VLOOKUP(K$5,NFI,5,0),1,0)*Table_NFI[[#This Row],[Mosquito net]],Table_NFI[Mosquito net])","v":0},{"$f":"IF(NFI_Expiration=1,IF($A166<VLOOKUP(L$5,NFI,5,0),1,0)*Table_NFI[[#This Row],[Tarpaulin]],Table_NFI[[#This Row],[Tarpaulin]])","v":0},{"$f":"IF(NFI_Expiration=1,IF($A166<VLOOKUP(M$5,NFI,5,0),1,0)*Table_NFI[[#This Row],[Blanket]],Table_NFI[[#This Row],[Blanket]])","v":0},{"$f":"IF(NFI_Expiration=1,IF($A166<VLOOKUP(N$5,NFI,5,0),1,0)*Table_NFI[[#This Row],[Kitchen Set]],Table_NFI[Kitchen Set])","v":0},{"$f":"IF(NFI_Expiration=1,IF($A166<VLOOKUP(O$5,NFI,5,0),1,0)*Table_NFI[[#This Row],[Complementary Kit]],Table_NFI[Complementary Kit])","v":0},{"$f":"IF(NFI_Expiration=1,IF($A166<VLOOKUP(P$5,NFI,5,0),1,0)*Table_NFI[[#This Row],[Plastic Bucket]],Table_NFI[Plastic Bucket])","v":0},{"$f":"IF(NFI_Expiration=1,IF($A166<VLOOKUP(Q$5,NFI,5,0),1,0)*Table_NFI[[#This Row],[Plastic Mat]],Table_NFI[Plastic Mat])","v":0},{"$f":"IFERROR(VLOOKUP(Table_NFI[[#This Row],[Camp Name]],CL,2,0),\"\")","v":"MMR001CMP013"},{"$f":"IFERROR(VLOOKUP(Table_NFI[[#This Row],[Camp Name]],CL,3,0),\"\")","v":"Open"},{"$f":"IFERROR(Table_NFI[[#This Row],[Kitchen Set]]/VLOOKUP(Table_NFI[[#This Row],[Camp Name]],CL,4,0),\"\")","v":8.8888888888888892E-2}]
[17.7,"2012-07-19","UNHCR","UNHCR","Kachin","Myitkyina","Wun Tho Buddhist Monastery",null,null,0,9,5,9,5,5,5,5,{"$f":"IF(NFI_Expiration=1,IF($A167<VLOOKUP(H$5,NFI,5,0),1,0)*Table_NFI[[#This Row],[Hygiene Kit]],Table_NFI[Hygiene Kit])","v":0},{"$f":"IF(NFI_Expiration=1,IF($A167<VLOOKUP(I$5,NFI,5,0),1,0)*Table_NFI[[#This Row],[NFI Core Kit]],Table_NFI[NFI Core Kit])","v":0},{"$f":"IF(NFI_Expiration=1,IF($A167<VLOOKUP(J$5,NFI,5,0),1,0)*Table_NFI[[#This Row],[Sanitary Kit]],Table_NFI[Sanitary Kit])","v":0},{"$f":"IF(NFI_Expiration=1,IF($A167<VLOOKUP(K$5,NFI,5,0),1,0)*Table_NFI[[#This Row],[Mosquito net]],Table_NFI[Mosquito net])","v":0},{"$f":"IF(NFI_Expiration=1,IF($A167<VLOOKUP(L$5,NFI,5,0),1,0)*Table_NFI[[#This Row],[Tarpaulin]],Table_NFI[[#This Row],[Tarpaulin]])","v":0},{"$f":"IF(NFI_Expiration=1,IF($A167<VLOOKUP(M$5,NFI,5,0),1,0)*Table_NFI[[#This Row],[Blanket]],Table_NFI[[#This Row],[Blanket]])","v":0},{"$f":"IF(NFI_Expiration=1,IF($A167<VLOOKUP(N$5,NFI,5,0),1,0)*Table_NFI[[#This Row],[Kitchen Set]],Table_NFI[Kitchen Set])","v":0},{"$f":"IF(NFI_Expiration=1,IF($A167<VLOOKUP(O$5,NFI,5,0),1,0)*Table_NFI[[#This Row],[Complementary Kit]],Table_NFI[Complementary Kit])","v":0},{"$f":"IF(NFI_Expiration=1,IF($A167<VLOOKUP(P$5,NFI,5,0),1,0)*Table_NFI[[#This Row],[Plastic Bucket]],Table_NFI[Plastic Bucket])","v":0},{"$f":"IF(NFI_Expiration=1,IF($A167<VLOOKUP(Q$5,NFI,5,0),1,0)*Table_NFI[[#This Row],[Plastic Mat]],Table_NFI[Plastic Mat])","v":0},{"$f":"IFERROR(VLOOKUP(Table_NFI[[#This Row],[Camp Name]],CL,2,0),\"\")","v":"MMR001CMP022"},{"$f":"IFERROR(VLOOKUP(Table_NFI[[#This Row],[Camp Name]],CL,3,0),\"\")","v":"Open"},{"$f":"IFERROR(Table_NFI[[#This Row],[Kitchen Set]]/VLOOKUP(Table_NFI[[#This Row],[Camp Name]],CL,4,0),\"\")","v":0.83333333333333337}]
[17.7,"2012-07-19","UNHCR","UNHCR","Kachin","Myitkyina","Tat Kone COC Baptist / Tat Kone Htoi San",null,null,0,3,2,3,2,2,2,2,{"$f":"IF(NFI_Expiration=1,IF($A168<VLOOKUP(H$5,NFI,5,0),1,0)*Table_NFI[[#This Row],[Hygiene Kit]],Table_NFI[Hygiene Kit])","v":0},{"$f":"IF(NFI_Expiration=1,IF($A168<VLOOKUP(I$5,NFI,5,0),1,0)*Table_NFI[[#This Row],[NFI Core Kit]],Table_NFI[NFI Core Kit])","v":0},{"$f":"IF(NFI_Expiration=1,IF($A168<VLOOKUP(J$5,NFI,5,0),1,0)*Table_NFI[[#This Row],[Sanitary Kit]],Table_NFI[Sanitary Kit])","v":0},{"$f":"IF(NFI_Expiration=1,IF($A168<VLOOKUP(K$5,NFI,5,0),1,0)*Table_NFI[[#This Row],[Mosquito net]],Table_NFI[Mosquito net])","v":0},{"$f":"IF(NFI_Expiration=1,IF($A168<VLOOKUP(L$5,NFI,5,0),1,0)*Table_NFI[[#This Row],[Tarpaulin]],Table_NFI[[#This Row],[Tarpaulin]])","v":0},{"$f":"IF(NFI_Expiration=1,IF($A168<VLOOKUP(M$5,NFI,5,0),1,0)*Table_NFI[[#This Row],[Blanket]],Table_NFI[[#This Row],[Blanket]])","v":0},{"$f":"IF(NFI_Expiration=1,IF($A168<VLOOKUP(N$5,NFI,5,0),1,0)*Table_NFI[[#This Row],[Kitchen Set]],Table_NFI[Kitchen Set])","v":0},{"$f":"IF(NFI_Expiration=1,IF($A168<VLOOKUP(O$5,NFI,5,0),1,0)*Table_NFI[[#This Row],[Complementary Kit]],Table_NFI[Complementary Kit])","v":0},{"$f":"IF(NFI_Expiration=1,IF($A168<VLOOKUP(P$5,NFI,5,0),1,0)*Table_NFI[[#This Row],[Plastic Bucket]],Table_NFI[Plastic Bucket])","v":0},{"$f":"IF(NFI_Expiration=1,IF($A168<VLOOKUP(Q$5,NFI,5,0),1,0)*Table_NFI[[#This Row],[Plastic Mat]],Table_NFI[Plastic Mat])","v":0},{"$f":"IFERROR(VLOOKUP(Table_NFI[[#This Row],[Camp Name]],CL,2,0),\"\")","v":"MMR001CMP023"},{"$f":"IFERROR(VLOOKUP(Table_NFI[[#This Row],[Camp Name]],CL,3,0),\"\")","v":"Open"},{"$f":"IFERROR(Table_NFI[[#This Row],[Kitchen Set]]/VLOOKUP(Table_NFI[[#This Row],[Camp Name]],CL,4,0),\"\")","v":2.8985507246376812E-2}]
[17.566666666666666,"2012-07-23","UNHCR","UNHCR","Kachin","Myitkyina","Tat Kone San Pya Baptist Church",null,null,0,24,8,24,8,13,13,13,{"$f":"IF(NFI_Expiration=1,IF($A169<VLOOKUP(H$5,NFI,5,0),1,0)*Table_NFI[[#This Row],[Hygiene Kit]],Table_NFI[Hygiene Kit])","v":0},{"$f":"IF(NFI_Expiration=1,IF($A169<VLOOKUP(I$5,NFI,5,0),1,0)*Table_NFI[[#This Row],[NFI Core Kit]],Table_NFI[NFI Core Kit])","v":0},{"$f":"IF(NFI_Expiration=1,IF($A169<VLOOKUP(J$5,NFI,5,0),1,0)*Table_NFI[[#This Row],[Sanitary Kit]],Table_NFI[Sanitary Kit])","v":0},{"$f":"IF(NFI_Expiration=1,IF($A169<VLOOKUP(K$5,NFI,5,0),1,0)*Table_NFI[[#This Row],[Mosquito net]],Table_NFI[Mosquito net])","v":0},{"$f":"IF(NFI_Expiration=1,IF($A169<VLOOKUP(L$5,NFI,5,0),1,0)*Table_NFI[[#This Row],[Tarpaulin]],Table_NFI[[#This Row],[Tarpaulin]])","v":0},{"$f":"IF(NFI_Expiration=1,IF($A169<VLOOKUP(M$5,NFI,5,0),1,0)*Table_NFI[[#This Row],[Blanket]],Table_NFI[[#This Row],[Blanket]])","v":0},{"$f":"IF(NFI_Expiration=1,IF($A169<VLOOKUP(N$5,NFI,5,0),1,0)*Table_NFI[[#This Row],[Kitchen Set]],Table_NFI[Kitchen Set])","v":0},{"$f":"IF(NFI_Expiration=1,IF($A169<VLOOKUP(O$5,NFI,5,0),1,0)*Table_NFI[[#This Row],[Complementary Kit]],Table_NFI[Complementary Kit])","v":0},{"$f":"IF(NFI_Expiration=1,IF($A169<VLOOKUP(P$5,NFI,5,0),1,0)*Table_NFI[[#This Row],[Plastic Bucket]],Table_NFI[Plastic Bucket])","v":0},{"$f":"IF(NFI_Expiration=1,IF($A169<VLOOKUP(Q$5,NFI,5,0),1,0)*Table_NFI[[#This Row],[Plastic Mat]],Table_NFI[Plastic Mat])","v":0},{"$f":"IFERROR(VLOOKUP(Table_NFI[[#This Row],[Camp Name]],CL,2,0),\"\")","v":"MMR001CMP005"},{"$f":"IFERROR(VLOOKUP(Table_NFI[[#This Row],[Camp Name]],CL,3,0),\"\")","v":"Open"},{"$f":"IFERROR(Table_NFI[[#This Row],[Kitchen Set]]/VLOOKUP(Table_NFI[[#This Row],[Camp Name]],CL,4,0),\"\")","v":0.18604651162790697}]
[17.566666666666666,"2012-07-23","UNHCR","UNHCR","Kachin","Myitkyina","Shatapru Thida Aye Baptist Church",null,null,0,30,12,30,12,14,14,14,{"$f":"IF(NFI_Expiration=1,IF($A170<VLOOKUP(H$5,NFI,5,0),1,0)*Table_NFI[[#This Row],[Hygiene Kit]],Table_NFI[Hygiene Kit])","v":0},{"$f":"IF(NFI_Expiration=1,IF($A170<VLOOKUP(I$5,NFI,5,0),1,0)*Table_NFI[[#This Row],[NFI Core Kit]],Table_NFI[NFI Core Kit])","v":0},{"$f":"IF(NFI_Expiration=1,IF($A170<VLOOKUP(J$5,NFI,5,0),1,0)*Table_NFI[[#This Row],[Sanitary Kit]],Table_NFI[Sanitary Kit])","v":0},{"$f":"IF(NFI_Expiration=1,IF($A170<VLOOKUP(K$5,NFI,5,0),1,0)*Table_NFI[[#This Row],[Mosquito net]],Table_NFI[Mosquito net])","v":0},{"$f":"IF(NFI_Expiration=1,IF($A170<VLOOKUP(L$5,NFI,5,0),1,0)*Table_NFI[[#This Row],[Tarpaulin]],Table_NFI[[#This Row],[Tarpaulin]])","v":0},{"$f":"IF(NFI_Expiration=1,IF($A170<VLOOKUP(M$5,NFI,5,0),1,0)*Table_NFI[[#This Row],[Blanket]],Table_NFI[[#This Row],[Blanket]])","v":0},{"$f":"IF(NFI_Expiration=1,IF($A170<VLOOKUP(N$5,NFI,5,0),1,0)*Table_NFI[[#This Row],[Kitchen Set]],Table_NFI[Kitchen Set])","v":0},{"$f":"IF(NFI_Expiration=1,IF($A170<VLOOKUP(O$5,NFI,5,0),1,0)*Table_NFI[[#This Row],[Complementary Kit]],Table_NFI[Complementary Kit])","v":0},{"$f":"IF(NFI_Expiration=1,IF($A170<VLOOKUP(P$5,NFI,5,0),1,0)*Table_NFI[[#This Row],[Plastic Bucket]],Table_NFI[Plastic Bucket])","v":0},{"$f":"IF(NFI_Expiration=1,IF($A170<VLOOKUP(Q$5,NFI,5,0),1,0)*Table_NFI[[#This Row],[Plastic Mat]],Table_NFI[Plastic Mat])","v":0},{"$f":"IFERROR(VLOOKUP(Table_NFI[[#This Row],[Camp Name]],CL,2,0),\"\")","v":"MMR001CMP007"},{"$f":"IFERROR(VLOOKUP(Table_NFI[[#This Row],[Camp Name]],CL,3,0),\"\")","v":"Open"},{"$f":"IFERROR(Table_NFI[[#This Row],[Kitchen Set]]/VLOOKUP(Table_NFI[[#This Row],[Camp Name]],CL,4,0),\"\")","v":0.8}]
[17.566666666666666,"2012-07-23","UNHCR","UNHCR","Kachin","Myitkyina","Maliyang Baptist Church",null,null,0,72,39,72,39,39,39,39,{"$f":"IF(NFI_Expiration=1,IF($A171<VLOOKUP(H$5,NFI,5,0),1,0)*Table_NFI[[#This Row],[Hygiene Kit]],Table_NFI[Hygiene Kit])","v":0},{"$f":"IF(NFI_Expiration=1,IF($A171<VLOOKUP(I$5,NFI,5,0),1,0)*Table_NFI[[#This Row],[NFI Core Kit]],Table_NFI[NFI Core Kit])","v":0},{"$f":"IF(NFI_Expiration=1,IF($A171<VLOOKUP(J$5,NFI,5,0),1,0)*Table_NFI[[#This Row],[Sanitary Kit]],Table_NFI[Sanitary Kit])","v":0},{"$f":"IF(NFI_Expiration=1,IF($A171<VLOOKUP(K$5,NFI,5,0),1,0)*Table_NFI[[#This Row],[Mosquito net]],Table_NFI[Mosquito net])","v":0},{"$f":"IF(NFI_Expiration=1,IF($A171<VLOOKUP(L$5,NFI,5,0),1,0)*Table_NFI[[#This Row],[Tarpaulin]],Table_NFI[[#This Row],[Tarpaulin]])","v":0},{"$f":"IF(NFI_Expiration=1,IF($A171<VLOOKUP(M$5,NFI,5,0),1,0)*Table_NFI[[#This Row],[Blanket]],Table_NFI[[#This Row],[Blanket]])","v":0},{"$f":"IF(NFI_Expiration=1,IF($A171<VLOOKUP(N$5,NFI,5,0),1,0)*Table_NFI[[#This Row],[Kitchen Set]],Table_NFI[Kitchen Set])","v":0},{"$f":"IF(NFI_Expiration=1,IF($A171<VLOOKUP(O$5,NFI,5,0),1,0)*Table_NFI[[#This Row],[Complementary Kit]],Table_NFI[Complementary Kit])","v":0},{"$f":"IF(NFI_Expiration=1,IF($A171<VLOOKUP(P$5,NFI,5,0),1,0)*Table_NFI[[#This Row],[Plastic Bucket]],Table_NFI[Plastic Bucket])","v":0},{"$f":"IF(NFI_Expiration=1,IF($A171<VLOOKUP(Q$5,NFI,5,0),1,0)*Table_NFI[[#This Row],[Plastic Mat]],Table_NFI[Plastic Mat])","v":0},{"$f":"IFERROR(VLOOKUP(Table_NFI[[#This Row],[Camp Name]],CL,2,0),\"\")","v":"MMR001CMP016"},{"$f":"IFERROR(VLOOKUP(Table_NFI[[#This Row],[Camp Name]],CL,3,0),\"\")","v":"Open"},{"$f":"IFERROR(Table_NFI[[#This Row],[Kitchen Set]]/VLOOKUP(Table_NFI[[#This Row],[Camp Name]],CL,4,0),\"\")","v":0.54166666666666663}]
[17.566666666666666,"2012-07-23","UNHCR","UNHCR","Kachin","Myitkyina","Jan Mai Kawng Catholic Church",null,null,0,19,10,19,10,11,11,11,{"$f":"IF(NFI_Expiration=1,IF($A172<VLOOKUP(H$5,NFI,5,0),1,0)*Table_NFI[[#This Row],[Hygiene Kit]],Table_NFI[Hygiene Kit])","v":0},{"$f":"IF(NFI_Expiration=1,IF($A172<VLOOKUP(I$5,NFI,5,0),1,0)*Table_NFI[[#This Row],[NFI Core Kit]],Table_NFI[NFI Core Kit])","v":0},{"$f":"IF(NFI_Expiration=1,IF($A172<VLOOKUP(J$5,NFI,5,0),1,0)*Table_NFI[[#This Row],[Sanitary Kit]],Table_NFI[Sanitary Kit])","v":0},{"$f":"IF(NFI_Expiration=1,IF($A172<VLOOKUP(K$5,NFI,5,0),1,0)*Table_NFI[[#This Row],[Mosquito net]],Table_NFI[Mosquito net])","v":0},{"$f":"IF(NFI_Expiration=1,IF($A172<VLOOKUP(L$5,NFI,5,0),1,0)*Table_NFI[[#This Row],[Tarpaulin]],Table_NFI[[#This Row],[Tarpaulin]])","v":0},{"$f":"IF(NFI_Expiration=1,IF($A172<VLOOKUP(M$5,NFI,5,0),1,0)*Table_NFI[[#This Row],[Blanket]],Table_NFI[[#This Row],[Blanket]])","v":0},{"$f":"IF(NFI_Expiration=1,IF($A172<VLOOKUP(N$5,NFI,5,0),1,0)*Table_NFI[[#This Row],[Kitchen Set]],Table_NFI[Kitchen Set])","v":0},{"$f":"IF(NFI_Expiration=1,IF($A172<VLOOKUP(O$5,NFI,5,0),1,0)*Table_NFI[[#This Row],[Complementary Kit]],Table_NFI[Complementary Kit])","v":0},{"$f":"IF(NFI_Expiration=1,IF($A172<VLOOKUP(P$5,NFI,5,0),1,0)*Table_NFI[[#This Row],[Plastic Bucket]],Table_NFI[Plastic Bucket])","v":0},{"$f":"IF(NFI_Expiration=1,IF($A172<VLOOKUP(Q$5,NFI,5,0),1,0)*Table_NFI[[#This Row],[Plastic Mat]],Table_NFI[Plastic Mat])","v":0},{"$f":"IFERROR(VLOOKUP(Table_NFI[[#This Row],[Camp Name]],CL,2,0),\"\")","v":"MMR001CMP019"},{"$f":"IFERROR(VLOOKUP(Table_NFI[[#This Row],[Camp Name]],CL,3,0),\"\")","v":"Open"},{"$f":"IFERROR(Table_NFI[[#This Row],[Kitchen Set]]/VLOOKUP(Table_NFI[[#This Row],[Camp Name]],CL,4,0),\"\")","v":8.8495575221238937E-2}]
[17.466666666666665,"2012-07-26","UNHCR","UNHCR","Kachin","Mogaung","Mang Hawng Baptist Church",null,null,0,31,15,31,15,16,16,16,{"$f":"IF(NFI_Expiration=1,IF($A173<VLOOKUP(H$5,NFI,5,0),1,0)*Table_NFI[[#This Row],[Hygiene Kit]],Table_NFI[Hygiene Kit])","v":0},{"$f":"IF(NFI_Expiration=1,IF($A173<VLOOKUP(I$5,NFI,5,0),1,0)*Table_NFI[[#This Row],[NFI Core Kit]],Table_NFI[NFI Core Kit])","v":0},{"$f":"IF(NFI_Expiration=1,IF($A173<VLOOKUP(J$5,NFI,5,0),1,0)*Table_NFI[[#This Row],[Sanitary Kit]],Table_NFI[Sanitary Kit])","v":0},{"$f":"IF(NFI_Expiration=1,IF($A173<VLOOKUP(K$5,NFI,5,0),1,0)*Table_NFI[[#This Row],[Mosquito net]],Table_NFI[Mosquito net])","v":0},{"$f":"IF(NFI_Expiration=1,IF($A173<VLOOKUP(L$5,NFI,5,0),1,0)*Table_NFI[[#This Row],[Tarpaulin]],Table_NFI[[#This Row],[Tarpaulin]])","v":0},{"$f":"IF(NFI_Expiration=1,IF($A173<VLOOKUP(M$5,NFI,5,0),1,0)*Table_NFI[[#This Row],[Blanket]],Table_NFI[[#This Row],[Blanket]])","v":0},{"$f":"IF(NFI_Expiration=1,IF($A173<VLOOKUP(N$5,NFI,5,0),1,0)*Table_NFI[[#This Row],[Kitchen Set]],Table_NFI[Kitchen Set])","v":0},{"$f":"IF(NFI_Expiration=1,IF($A173<VLOOKUP(O$5,NFI,5,0),1,0)*Table_NFI[[#This Row],[Complementary Kit]],Table_NFI[Complementary Kit])","v":0},{"$f":"IF(NFI_Expiration=1,IF($A173<VLOOKUP(P$5,NFI,5,0),1,0)*Table_NFI[[#This Row],[Plastic Bucket]],Table_NFI[Plastic Bucket])","v":0},{"$f":"IF(NFI_Expiration=1,IF($A173<VLOOKUP(Q$5,NFI,5,0),1,0)*Table_NFI[[#This Row],[Plastic Mat]],Table_NFI[Plastic Mat])","v":0},{"$f":"IFERROR(VLOOKUP(Table_NFI[[#This Row],[Camp Name]],CL,2,0),\"\")","v":"MMR001CMP077"},{"$f":"IFERROR(VLOOKUP(Table_NFI[[#This Row],[Camp Name]],CL,3,0),\"\")","v":"Open"},{"$f":"IFERROR(Table_NFI[[#This Row],[Kitchen Set]]/VLOOKUP(Table_NFI[[#This Row],[Camp Name]],CL,4,0),\"\")","v":1.0714285714285714}]
[17.466666666666665,"2012-07-26","UNHCR","UNHCR","Kachin","Mogaung","Nat Gyi Kone Baptist Church ",null,null,0,21,17,21,17,17,17,17,{"$f":"IF(NFI_Expiration=1,IF($A174<VLOOKUP(H$5,NFI,5,0),1,0)*Table_NFI[[#This Row],[Hygiene Kit]],Table_NFI[Hygiene Kit])","v":0},{"$f":"IF(NFI_Expiration=1,IF($A174<VLOOKUP(I$5,NFI,5,0),1,0)*Table_NFI[[#This Row],[NFI Core Kit]],Table_NFI[NFI Core Kit])","v":0},{"$f":"IF(NFI_Expiration=1,IF($A174<VLOOKUP(J$5,NFI,5,0),1,0)*Table_NFI[[#This Row],[Sanitary Kit]],Table_NFI[Sanitary Kit])","v":0},{"$f":"IF(NFI_Expiration=1,IF($A174<VLOOKUP(K$5,NFI,5,0),1,0)*Table_NFI[[#This Row],[Mosquito net]],Table_NFI[Mosquito net])","v":0},{"$f":"IF(NFI_Expiration=1,IF($A174<VLOOKUP(L$5,NFI,5,0),1,0)*Table_NFI[[#This Row],[Tarpaulin]],Table_NFI[[#This Row],[Tarpaulin]])","v":0},{"$f":"IF(NFI_Expiration=1,IF($A174<VLOOKUP(M$5,NFI,5,0),1,0)*Table_NFI[[#This Row],[Blanket]],Table_NFI[[#This Row],[Blanket]])","v":0},{"$f":"IF(NFI_Expiration=1,IF($A174<VLOOKUP(N$5,NFI,5,0),1,0)*Table_NFI[[#This Row],[Kitchen Set]],Table_NFI[Kitchen Set])","v":0},{"$f":"IF(NFI_Expiration=1,IF($A174<VLOOKUP(O$5,NFI,5,0),1,0)*Table_NFI[[#This Row],[Complementary Kit]],Table_NFI[Complementary Kit])","v":0},{"$f":"IF(NFI_Expiration=1,IF($A174<VLOOKUP(P$5,NFI,5,0),1,0)*Table_NFI[[#This Row],[Plastic Bucket]],Table_NFI[Plastic Bucket])","v":0},{"$f":"IF(NFI_Expiration=1,IF($A174<VLOOKUP(Q$5,NFI,5,0),1,0)*Table_NFI[[#This Row],[Plastic Mat]],Table_NFI[Plastic Mat])","v":0},{"$f":"IFERROR(VLOOKUP(Table_NFI[[#This Row],[Camp Name]],CL,2,0),\"\")","v":"MMR001CMP079"},{"$f":"IFERROR(VLOOKUP(Table_NFI[[#This Row],[Camp Name]],CL,3,0),\"\")","v":"Open"},{"$f":"IFERROR(Table_NFI[[#This Row],[Kitchen Set]]/VLOOKUP(Table_NFI[[#This Row],[Camp Name]],CL,4,0),\"\")","v":1.4166666666666667}]
[17.433333333333334,"2012-07-27","UNHCR","UNHCR","Kachin","Mogaung","Kyun Taw Baptist Church ",null,null,0,35,14,35,14,14,14,14,{"$f":"IF(NFI_Expiration=1,IF($A175<VLOOKUP(H$5,NFI,5,0),1,0)*Table_NFI[[#This Row],[Hygiene Kit]],Table_NFI[Hygiene Kit])","v":0},{"$f":"IF(NFI_Expiration=1,IF($A175<VLOOKUP(I$5,NFI,5,0),1,0)*Table_NFI[[#This Row],[NFI Core Kit]],Table_NFI[NFI Core Kit])","v":0},{"$f":"IF(NFI_Expiration=1,IF($A175<VLOOKUP(J$5,NFI,5,0),1,0)*Table_NFI[[#This Row],[Sanitary Kit]],Table_NFI[Sanitary Kit])","v":0},{"$f":"IF(NFI_Expiration=1,IF($A175<VLOOKUP(K$5,NFI,5,0),1,0)*Table_NFI[[#This Row],[Mosquito net]],Table_NFI[Mosquito net])","v":0},{"$f":"IF(NFI_Expiration=1,IF($A175<VLOOKUP(L$5,NFI,5,0),1,0)*Table_NFI[[#This Row],[Tarpaulin]],Table_NFI[[#This Row],[Tarpaulin]])","v":0},{"$f":"IF(NFI_Expiration=1,IF($A175<VLOOKUP(M$5,NFI,5,0),1,0)*Table_NFI[[#This Row],[Blanket]],Table_NFI[[#This Row],[Blanket]])","v":0},{"$f":"IF(NFI_Expiration=1,IF($A175<VLOOKUP(N$5,NFI,5,0),1,0)*Table_NFI[[#This Row],[Kitchen Set]],Table_NFI[Kitchen Set])","v":0},{"$f":"IF(NFI_Expiration=1,IF($A175<VLOOKUP(O$5,NFI,5,0),1,0)*Table_NFI[[#This Row],[Complementary Kit]],Table_NFI[Complementary Kit])","v":0},{"$f":"IF(NFI_Expiration=1,IF($A175<VLOOKUP(P$5,NFI,5,0),1,0)*Table_NFI[[#This Row],[Plastic Bucket]],Table_NFI[Plastic Bucket])","v":0},{"$f":"IF(NFI_Expiration=1,IF($A175<VLOOKUP(Q$5,NFI,5,0),1,0)*Table_NFI[[#This Row],[Plastic Mat]],Table_NFI[Plastic Mat])","v":0},{"$f":"IFERROR(VLOOKUP(Table_NFI[[#This Row],[Camp Name]],CL,2,0),\"\")","v":"MMR001CMP078"},{"$f":"IFERROR(VLOOKUP(Table_NFI[[#This Row],[Camp Name]],CL,3,0),\"\")","v":"Open"},{"$f":"IFERROR(Table_NFI[[#This Row],[Kitchen Set]]/VLOOKUP(Table_NFI[[#This Row],[Camp Name]],CL,4,0),\"\")","v":1.0769230769230769}]
[17.433333333333334,"2012-07-27","UNHCR","UNHCR","Kachin","Mohnyin","St. Patrick Catholic Church ",null,null,0,0,8,0,8,8,8,8,{"$f":"IF(NFI_Expiration=1,IF($A176<VLOOKUP(H$5,NFI,5,0),1,0)*Table_NFI[[#This Row],[Hygiene Kit]],Table_NFI[Hygiene Kit])","v":0},{"$f":"IF(NFI_Expiration=1,IF($A176<VLOOKUP(I$5,NFI,5,0),1,0)*Table_NFI[[#This Row],[NFI Core Kit]],Table_NFI[NFI Core Kit])","v":0},{"$f":"IF(NFI_Expiration=1,IF($A176<VLOOKUP(J$5,NFI,5,0),1,0)*Table_NFI[[#This Row],[Sanitary Kit]],Table_NFI[Sanitary Kit])","v":0},{"$f":"IF(NFI_Expiration=1,IF($A176<VLOOKUP(K$5,NFI,5,0),1,0)*Table_NFI[[#This Row],[Mosquito net]],Table_NFI[Mosquito net])","v":0},{"$f":"IF(NFI_Expiration=1,IF($A176<VLOOKUP(L$5,NFI,5,0),1,0)*Table_NFI[[#This Row],[Tarpaulin]],Table_NFI[[#This Row],[Tarpaulin]])","v":0},{"$f":"IF(NFI_Expiration=1,IF($A176<VLOOKUP(M$5,NFI,5,0),1,0)*Table_NFI[[#This Row],[Blanket]],Table_NFI[[#This Row],[Blanket]])","v":0},{"$f":"IF(NFI_Expiration=1,IF($A176<VLOOKUP(N$5,NFI,5,0),1,0)*Table_NFI[[#This Row],[Kitchen Set]],Table_NFI[Kitchen Set])","v":0},{"$f":"IF(NFI_Expiration=1,IF($A176<VLOOKUP(O$5,NFI,5,0),1,0)*Table_NFI[[#This Row],[Complementary Kit]],Table_NFI[Complementary Kit])","v":0},{"$f":"IF(NFI_Expiration=1,IF($A176<VLOOKUP(P$5,NFI,5,0),1,0)*Table_NFI[[#This Row],[Plastic Bucket]],Table_NFI[Plastic Bucket])","v":0},{"$f":"IF(NFI_Expiration=1,IF($A176<VLOOKUP(Q$5,NFI,5,0),1,0)*Table_NFI[[#This Row],[Plastic Mat]],Table_NFI[Plastic Mat])","v":0},{"$f":"IFERROR(VLOOKUP(Table_NFI[[#This Row],[Camp Name]],CL,2,0),\"\")","v":"MMR001CMP080"},{"$f":"IFERROR(VLOOKUP(Table_NFI[[#This Row],[Camp Name]],CL,3,0),\"\")","v":"Open"},{"$f":"IFERROR(Table_NFI[[#This Row],[Kitchen Set]]/VLOOKUP(Table_NFI[[#This Row],[Camp Name]],CL,4,0),\"\")","v":0.66666666666666663}]
[17.066666666666666,"2012-08-07","UNHCR","UNHCR ","Kachin","Mansi","Mansi Baptist Church",null,null,0,0,73,0,73,73,73,73,{"$f":"IF(NFI_Expiration=1,IF($A177<VLOOKUP(H$5,NFI,5,0),1,0)*Table_NFI[[#This Row],[Hygiene Kit]],Table_NFI[Hygiene Kit])","v":0},{"$f":"IF(NFI_Expiration=1,IF($A177<VLOOKUP(I$5,NFI,5,0),1,0)*Table_NFI[[#This Row],[NFI Core Kit]],Table_NFI[NFI Core Kit])","v":0},{"$f":"IF(NFI_Expiration=1,IF($A177<VLOOKUP(J$5,NFI,5,0),1,0)*Table_NFI[[#This Row],[Sanitary Kit]],Table_NFI[Sanitary Kit])","v":0},{"$f":"IF(NFI_Expiration=1,IF($A177<VLOOKUP(K$5,NFI,5,0),1,0)*Table_NFI[[#This Row],[Mosquito net]],Table_NFI[Mosquito net])","v":0},{"$f":"IF(NFI_Expiration=1,IF($A177<VLOOKUP(L$5,NFI,5,0),1,0)*Table_NFI[[#This Row],[Tarpaulin]],Table_NFI[[#This Row],[Tarpaulin]])","v":0},{"$f":"IF(NFI_Expiration=1,IF($A177<VLOOKUP(M$5,NFI,5,0),1,0)*Table_NFI[[#This Row],[Blanket]],Table_NFI[[#This Row],[Blanket]])","v":0},{"$f":"IF(NFI_Expiration=1,IF($A177<VLOOKUP(N$5,NFI,5,0),1,0)*Table_NFI[[#This Row],[Kitchen Set]],Table_NFI[Kitchen Set])","v":0},{"$f":"IF(NFI_Expiration=1,IF($A177<VLOOKUP(O$5,NFI,5,0),1,0)*Table_NFI[[#This Row],[Complementary Kit]],Table_NFI[Complementary Kit])","v":0},{"$f":"IF(NFI_Expiration=1,IF($A177<VLOOKUP(P$5,NFI,5,0),1,0)*Table_NFI[[#This Row],[Plastic Bucket]],Table_NFI[Plastic Bucket])","v":0},{"$f":"IF(NFI_Expiration=1,IF($A177<VLOOKUP(Q$5,NFI,5,0),1,0)*Table_NFI[[#This Row],[Plastic Mat]],Table_NFI[Plastic Mat])","v":0},{"$f":"IFERROR(VLOOKUP(Table_NFI[[#This Row],[Camp Name]],CL,2,0),\"\")","v":"MMR001CMP066"},{"$f":"IFERROR(VLOOKUP(Table_NFI[[#This Row],[Camp Name]],CL,3,0),\"\")","v":"Open"},{"$f":"IFERROR(Table_NFI[[#This Row],[Kitchen Set]]/VLOOKUP(Table_NFI[[#This Row],[Camp Name]],CL,4,0),\"\")","v":0.78494623655913975}]
[17,"2012-08-09","UNHCR","UNHCR","Kachin","Myitkyina","Maliyang Baptist Church",null,null,0,2,1,2,1,1,1,1,{"$f":"IF(NFI_Expiration=1,IF($A178<VLOOKUP(H$5,NFI,5,0),1,0)*Table_NFI[[#This Row],[Hygiene Kit]],Table_NFI[Hygiene Kit])","v":0},{"$f":"IF(NFI_Expiration=1,IF($A178<VLOOKUP(I$5,NFI,5,0),1,0)*Table_NFI[[#This Row],[NFI Core Kit]],Table_NFI[NFI Core Kit])","v":0},{"$f":"IF(NFI_Expiration=1,IF($A178<VLOOKUP(J$5,NFI,5,0),1,0)*Table_NFI[[#This Row],[Sanitary Kit]],Table_NFI[Sanitary Kit])","v":0},{"$f":"IF(NFI_Expiration=1,IF($A178<VLOOKUP(K$5,NFI,5,0),1,0)*Table_NFI[[#This Row],[Mosquito net]],Table_NFI[Mosquito net])","v":0},{"$f":"IF(NFI_Expiration=1,IF($A178<VLOOKUP(L$5,NFI,5,0),1,0)*Table_NFI[[#This Row],[Tarpaulin]],Table_NFI[[#This Row],[Tarpaulin]])","v":0},{"$f":"IF(NFI_Expiration=1,IF($A178<VLOOKUP(M$5,NFI,5,0),1,0)*Table_NFI[[#This Row],[Blanket]],Table_NFI[[#This Row],[Blanket]])","v":0},{"$f":"IF(NFI_Expiration=1,IF($A178<VLOOKUP(N$5,NFI,5,0),1,0)*Table_NFI[[#This Row],[Kitchen Set]],Table_NFI[Kitchen Set])","v":0},{"$f":"IF(NFI_Expiration=1,IF($A178<VLOOKUP(O$5,NFI,5,0),1,0)*Table_NFI[[#This Row],[Complementary Kit]],Table_NFI[Complementary Kit])","v":0},{"$f":"IF(NFI_Expiration=1,IF($A178<VLOOKUP(P$5,NFI,5,0),1,0)*Table_NFI[[#This Row],[Plastic Bucket]],Table_NFI[Plastic Bucket])","v":0},{"$f":"IF(NFI_Expiration=1,IF($A178<VLOOKUP(Q$5,NFI,5,0),1,0)*Table_NFI[[#This Row],[Plastic Mat]],Table_NFI[Plastic Mat])","v":0},{"$f":"IFERROR(VLOOKUP(Table_NFI[[#This Row],[Camp Name]],CL,2,0),\"\")","v":"MMR001CMP016"},{"$f":"IFERROR(VLOOKUP(Table_NFI[[#This Row],[Camp Name]],CL,3,0),\"\")","v":"Open"},{"$f":"IFERROR(Table_NFI[[#This Row],[Kitchen Set]]/VLOOKUP(Table_NFI[[#This Row],[Camp Name]],CL,4,0),\"\")","v":1.3888888888888888E-2}]
[17,"2012-08-09","UNHCR","UNHCR","Kachin","Myitkyina","Jan Mai Kawng Baptist Church",null,null,0,7,3,7,3,3,3,3,{"$f":"IF(NFI_Expiration=1,IF($A179<VLOOKUP(H$5,NFI,5,0),1,0)*Table_NFI[[#This Row],[Hygiene Kit]],Table_NFI[Hygiene Kit])","v":0},{"$f":"IF(NFI_Expiration=1,IF($A179<VLOOKUP(I$5,NFI,5,0),1,0)*Table_NFI[[#This Row],[NFI Core Kit]],Table_NFI[NFI Core Kit])","v":0},{"$f":"IF(NFI_Expiration=1,IF($A179<VLOOKUP(J$5,NFI,5,0),1,0)*Table_NFI[[#This Row],[Sanitary Kit]],Table_NFI[Sanitary Kit])","v":0},{"$f":"IF(NFI_Expiration=1,IF($A179<VLOOKUP(K$5,NFI,5,0),1,0)*Table_NFI[[#This Row],[Mosquito net]],Table_NFI[Mosquito net])","v":0},{"$f":"IF(NFI_Expiration=1,IF($A179<VLOOKUP(L$5,NFI,5,0),1,0)*Table_NFI[[#This Row],[Tarpaulin]],Table_NFI[[#This Row],[Tarpaulin]])","v":0},{"$f":"IF(NFI_Expiration=1,IF($A179<VLOOKUP(M$5,NFI,5,0),1,0)*Table_NFI[[#This Row],[Blanket]],Table_NFI[[#This Row],[Blanket]])","v":0},{"$f":"IF(NFI_Expiration=1,IF($A179<VLOOKUP(N$5,NFI,5,0),1,0)*Table_NFI[[#This Row],[Kitchen Set]],Table_NFI[Kitchen Set])","v":0},{"$f":"IF(NFI_Expiration=1,IF($A179<VLOOKUP(O$5,NFI,5,0),1,0)*Table_NFI[[#This Row],[Complementary Kit]],Table_NFI[Complementary Kit])","v":0},{"$f":"IF(NFI_Expiration=1,IF($A179<VLOOKUP(P$5,NFI,5,0),1,0)*Table_NFI[[#This Row],[Plastic Bucket]],Table_NFI[Plastic Bucket])","v":0},{"$f":"IF(NFI_Expiration=1,IF($A179<VLOOKUP(Q$5,NFI,5,0),1,0)*Table_NFI[[#This Row],[Plastic Mat]],Table_NFI[Plastic Mat])","v":0},{"$f":"IFERROR(VLOOKUP(Table_NFI[[#This Row],[Camp Name]],CL,2,0),\"\")","v":"MMR001CMP018"},{"$f":"IFERROR(VLOOKUP(Table_NFI[[#This Row],[Camp Name]],CL,3,0),\"\")","v":"Open"},{"$f":"IFERROR(Table_NFI[[#This Row],[Kitchen Set]]/VLOOKUP(Table_NFI[[#This Row],[Camp Name]],CL,4,0),\"\")","v":1.4778325123152709E-2}]
[17,"2012-08-09","UNHCR","UNHCR","Kachin","Myitkyina","Maw Hpawng Hka Nan Baptist Church",null,null,0,2,1,2,1,1,1,1,{"$f":"IF(NFI_Expiration=1,IF($A180<VLOOKUP(H$5,NFI,5,0),1,0)*Table_NFI[[#This Row],[Hygiene Kit]],Table_NFI[Hygiene Kit])","v":0},{"$f":"IF(NFI_Expiration=1,IF($A180<VLOOKUP(I$5,NFI,5,0),1,0)*Table_NFI[[#This Row],[NFI Core Kit]],Table_NFI[NFI Core Kit])","v":0},{"$f":"IF(NFI_Expiration=1,IF($A180<VLOOKUP(J$5,NFI,5,0),1,0)*Table_NFI[[#This Row],[Sanitary Kit]],Table_NFI[Sanitary Kit])","v":0},{"$f":"IF(NFI_Expiration=1,IF($A180<VLOOKUP(K$5,NFI,5,0),1,0)*Table_NFI[[#This Row],[Mosquito net]],Table_NFI[Mosquito net])","v":0},{"$f":"IF(NFI_Expiration=1,IF($A180<VLOOKUP(L$5,NFI,5,0),1,0)*Table_NFI[[#This Row],[Tarpaulin]],Table_NFI[[#This Row],[Tarpaulin]])","v":0},{"$f":"IF(NFI_Expiration=1,IF($A180<VLOOKUP(M$5,NFI,5,0),1,0)*Table_NFI[[#This Row],[Blanket]],Table_NFI[[#This Row],[Blanket]])","v":0},{"$f":"IF(NFI_Expiration=1,IF($A180<VLOOKUP(N$5,NFI,5,0),1,0)*Table_NFI[[#This Row],[Kitchen Set]],Table_NFI[Kitchen Set])","v":0},{"$f":"IF(NFI_Expiration=1,IF($A180<VLOOKUP(O$5,NFI,5,0),1,0)*Table_NFI[[#This Row],[Complementary Kit]],Table_NFI[Complementary Kit])","v":0},{"$f":"IF(NFI_Expiration=1,IF($A180<VLOOKUP(P$5,NFI,5,0),1,0)*Table_NFI[[#This Row],[Plastic Bucket]],Table_NFI[Plastic Bucket])","v":0},{"$f":"IF(NFI_Expiration=1,IF($A180<VLOOKUP(Q$5,NFI,5,0),1,0)*Table_NFI[[#This Row],[Plastic Mat]],Table_NFI[Plastic Mat])","v":0},{"$f":"IFERROR(VLOOKUP(Table_NFI[[#This Row],[Camp Name]],CL,2,0),\"\")","v":"MMR001CMP020"},{"$f":"IFERROR(VLOOKUP(Table_NFI[[#This Row],[Camp Name]],CL,3,0),\"\")","v":"Open"},{"$f":"IFERROR(Table_NFI[[#This Row],[Kitchen Set]]/VLOOKUP(Table_NFI[[#This Row],[Camp Name]],CL,4,0),\"\")","v":3.8461538461538464E-2}]
[17,"2012-08-09","UNHCR","UNHCR","Kachin","Myitkyina","Maw Hpawng Lhaovo Baptist Church",null,null,0,10,5,10,5,5,5,5,{"$f":"IF(NFI_Expiration=1,IF($A181<VLOOKUP(H$5,NFI,5,0),1,0)*Table_NFI[[#This Row],[Hygiene Kit]],Table_NFI[Hygiene Kit])","v":0},{"$f":"IF(NFI_Expiration=1,IF($A181<VLOOKUP(I$5,NFI,5,0),1,0)*Table_NFI[[#This Row],[NFI Core Kit]],Table_NFI[NFI Core Kit])","v":0},{"$f":"IF(NFI_Expiration=1,IF($A181<VLOOKUP(J$5,NFI,5,0),1,0)*Table_NFI[[#This Row],[Sanitary Kit]],Table_NFI[Sanitary Kit])","v":0},{"$f":"IF(NFI_Expiration=1,IF($A181<VLOOKUP(K$5,NFI,5,0),1,0)*Table_NFI[[#This Row],[Mosquito net]],Table_NFI[Mosquito net])","v":0},{"$f":"IF(NFI_Expiration=1,IF($A181<VLOOKUP(L$5,NFI,5,0),1,0)*Table_NFI[[#This Row],[Tarpaulin]],Table_NFI[[#This Row],[Tarpaulin]])","v":0},{"$f":"IF(NFI_Expiration=1,IF($A181<VLOOKUP(M$5,NFI,5,0),1,0)*Table_NFI[[#This Row],[Blanket]],Table_NFI[[#This Row],[Blanket]])","v":0},{"$f":"IF(NFI_Expiration=1,IF($A181<VLOOKUP(N$5,NFI,5,0),1,0)*Table_NFI[[#This Row],[Kitchen Set]],Table_NFI[Kitchen Set])","v":0},{"$f":"IF(NFI_Expiration=1,IF($A181<VLOOKUP(O$5,NFI,5,0),1,0)*Table_NFI[[#This Row],[Complementary Kit]],Table_NFI[Complementary Kit])","v":0},{"$f":"IF(NFI_Expiration=1,IF($A181<VLOOKUP(P$5,NFI,5,0),1,0)*Table_NFI[[#This Row],[Plastic Bucket]],Table_NFI[Plastic Bucket])","v":0},{"$f":"IF(NFI_Expiration=1,IF($A181<VLOOKUP(Q$5,NFI,5,0),1,0)*Table_NFI[[#This Row],[Plastic Mat]],Table_NFI[Plastic Mat])","v":0},{"$f":"IFERROR(VLOOKUP(Table_NFI[[#This Row],[Camp Name]],CL,2,0),\"\")","v":"MMR001CMP021"},{"$f":"IFERROR(VLOOKUP(Table_NFI[[#This Row],[Camp Name]],CL,3,0),\"\")","v":"Open"},{"$f":"IFERROR(Table_NFI[[#This Row],[Kitchen Set]]/VLOOKUP(Table_NFI[[#This Row],[Camp Name]],CL,4,0),\"\")","v":0.23809523809523808}]
[17,"2012-08-09","UNHCR","UNHCR","Kachin","Myitkyina","Wun Tho Buddhist Monastery",null,null,0,10,5,10,5,5,5,5,{"$f":"IF(NFI_Expiration=1,IF($A182<VLOOKUP(H$5,NFI,5,0),1,0)*Table_NFI[[#This Row],[Hygiene Kit]],Table_NFI[Hygiene Kit])","v":0},{"$f":"IF(NFI_Expiration=1,IF($A182<VLOOKUP(I$5,NFI,5,0),1,0)*Table_NFI[[#This Row],[NFI Core Kit]],Table_NFI[NFI Core Kit])","v":0},{"$f":"IF(NFI_Expiration=1,IF($A182<VLOOKUP(J$5,NFI,5,0),1,0)*Table_NFI[[#This Row],[Sanitary Kit]],Table_NFI[Sanitary Kit])","v":0},{"$f":"IF(NFI_Expiration=1,IF($A182<VLOOKUP(K$5,NFI,5,0),1,0)*Table_NFI[[#This Row],[Mosquito net]],Table_NFI[Mosquito net])","v":0},{"$f":"IF(NFI_Expiration=1,IF($A182<VLOOKUP(L$5,NFI,5,0),1,0)*Table_NFI[[#This Row],[Tarpaulin]],Table_NFI[[#This Row],[Tarpaulin]])","v":0},{"$f":"IF(NFI_Expiration=1,IF($A182<VLOOKUP(M$5,NFI,5,0),1,0)*Table_NFI[[#This Row],[Blanket]],Table_NFI[[#This Row],[Blanket]])","v":0},{"$f":"IF(NFI_Expiration=1,IF($A182<VLOOKUP(N$5,NFI,5,0),1,0)*Table_NFI[[#This Row],[Kitchen Set]],Table_NFI[Kitchen Set])","v":0},{"$f":"IF(NFI_Expiration=1,IF($A182<VLOOKUP(O$5,NFI,5,0),1,0)*Table_NFI[[#This Row],[Complementary Kit]],Table_NFI[Complementary Kit])","v":0},{"$f":"IF(NFI_Expiration=1,IF($A182<VLOOKUP(P$5,NFI,5,0),1,0)*Table_NFI[[#This Row],[Plastic Bucket]],Table_NFI[Plastic Bucket])","v":0},{"$f":"IF(NFI_Expiration=1,IF($A182<VLOOKUP(Q$5,NFI,5,0),1,0)*Table_NFI[[#This Row],[Plastic Mat]],Table_NFI[Plastic Mat])","v":0},{"$f":"IFERROR(VLOOKUP(Table_NFI[[#This Row],[Camp Name]],CL,2,0),\"\")","v":"MMR001CMP022"},{"$f":"IFERROR(VLOOKUP(Table_NFI[[#This Row],[Camp Name]],CL,3,0),\"\")","v":"Open"},{"$f":"IFERROR(Table_NFI[[#This Row],[Kitchen Set]]/VLOOKUP(Table_NFI[[#This Row],[Camp Name]],CL,4,0),\"\")","v":0.83333333333333337}]
[17,"2012-08-09","UNHCR","UNHCR","Kachin","Myitkyina","Nan Kway St. John Catholic Church",null,null,0,42,20,42,20,20,20,20,{"$f":"IF(NFI_Expiration=1,IF($A183<VLOOKUP(H$5,NFI,5,0),1,0)*Table_NFI[[#This Row],[Hygiene Kit]],Table_NFI[Hygiene Kit])","v":0},{"$f":"IF(NFI_Expiration=1,IF($A183<VLOOKUP(I$5,NFI,5,0),1,0)*Table_NFI[[#This Row],[NFI Core Kit]],Table_NFI[NFI Core Kit])","v":0},{"$f":"IF(NFI_Expiration=1,IF($A183<VLOOKUP(J$5,NFI,5,0),1,0)*Table_NFI[[#This Row],[Sanitary Kit]],Table_NFI[Sanitary Kit])","v":0},{"$f":"IF(NFI_Expiration=1,IF($A183<VLOOKUP(K$5,NFI,5,0),1,0)*Table_NFI[[#This Row],[Mosquito net]],Table_NFI[Mosquito net])","v":0},{"$f":"IF(NFI_Expiration=1,IF($A183<VLOOKUP(L$5,NFI,5,0),1,0)*Table_NFI[[#This Row],[Tarpaulin]],Table_NFI[[#This Row],[Tarpaulin]])","v":0},{"$f":"IF(NFI_Expiration=1,IF($A183<VLOOKUP(M$5,NFI,5,0),1,0)*Table_NFI[[#This Row],[Blanket]],Table_NFI[[#This Row],[Blanket]])","v":0},{"$f":"IF(NFI_Expiration=1,IF($A183<VLOOKUP(N$5,NFI,5,0),1,0)*Table_NFI[[#This Row],[Kitchen Set]],Table_NFI[Kitchen Set])","v":0},{"$f":"IF(NFI_Expiration=1,IF($A183<VLOOKUP(O$5,NFI,5,0),1,0)*Table_NFI[[#This Row],[Complementary Kit]],Table_NFI[Complementary Kit])","v":0},{"$f":"IF(NFI_Expiration=1,IF($A183<VLOOKUP(P$5,NFI,5,0),1,0)*Table_NFI[[#This Row],[Plastic Bucket]],Table_NFI[Plastic Bucket])","v":0},{"$f":"IF(NFI_Expiration=1,IF($A183<VLOOKUP(Q$5,NFI,5,0),1,0)*Table_NFI[[#This Row],[Plastic Mat]],Table_NFI[Plastic Mat])","v":0},{"$f":"IFERROR(VLOOKUP(Table_NFI[[#This Row],[Camp Name]],CL,2,0),\"\")","v":"MMR001CMP024"},{"$f":"IFERROR(VLOOKUP(Table_NFI[[#This Row],[Camp Name]],CL,3,0),\"\")","v":"Open"},{"$f":"IFERROR(Table_NFI[[#This Row],[Kitchen Set]]/VLOOKUP(Table_NFI[[#This Row],[Camp Name]],CL,4,0),\"\")","v":0.27777777777777779}]
[16.866666666666667,"2012-08-13","UNHCR","UNHCR ","Kachin","Bhamo","Robert Church",null,null,0,310,151,310,151,151,151,151,{"$f":"IF(NFI_Expiration=1,IF($A184<VLOOKUP(H$5,NFI,5,0),1,0)*Table_NFI[[#This Row],[Hygiene Kit]],Table_NFI[Hygiene Kit])","v":0},{"$f":"IF(NFI_Expiration=1,IF($A184<VLOOKUP(I$5,NFI,5,0),1,0)*Table_NFI[[#This Row],[NFI Core Kit]],Table_NFI[NFI Core Kit])","v":0},{"$f":"IF(NFI_Expiration=1,IF($A184<VLOOKUP(J$5,NFI,5,0),1,0)*Table_NFI[[#This Row],[Sanitary Kit]],Table_NFI[Sanitary Kit])","v":0},{"$f":"IF(NFI_Expiration=1,IF($A184<VLOOKUP(K$5,NFI,5,0),1,0)*Table_NFI[[#This Row],[Mosquito net]],Table_NFI[Mosquito net])","v":0},{"$f":"IF(NFI_Expiration=1,IF($A184<VLOOKUP(L$5,NFI,5,0),1,0)*Table_NFI[[#This Row],[Tarpaulin]],Table_NFI[[#This Row],[Tarpaulin]])","v":0},{"$f":"IF(NFI_Expiration=1,IF($A184<VLOOKUP(M$5,NFI,5,0),1,0)*Table_NFI[[#This Row],[Blanket]],Table_NFI[[#This Row],[Blanket]])","v":0},{"$f":"IF(NFI_Expiration=1,IF($A184<VLOOKUP(N$5,NFI,5,0),1,0)*Table_NFI[[#This Row],[Kitchen Set]],Table_NFI[Kitchen Set])","v":0},{"$f":"IF(NFI_Expiration=1,IF($A184<VLOOKUP(O$5,NFI,5,0),1,0)*Table_NFI[[#This Row],[Complementary Kit]],Table_NFI[Complementary Kit])","v":0},{"$f":"IF(NFI_Expiration=1,IF($A184<VLOOKUP(P$5,NFI,5,0),1,0)*Table_NFI[[#This Row],[Plastic Bucket]],Table_NFI[Plastic Bucket])","v":0},{"$f":"IF(NFI_Expiration=1,IF($A184<VLOOKUP(Q$5,NFI,5,0),1,0)*Table_NFI[[#This Row],[Plastic Mat]],Table_NFI[Plastic Mat])","v":0},{"$f":"IFERROR(VLOOKUP(Table_NFI[[#This Row],[Camp Name]],CL,2,0),\"\")","v":"MMR001CMP047"},{"$f":"IFERROR(VLOOKUP(Table_NFI[[#This Row],[Camp Name]],CL,3,0),\"\")","v":"Open"},{"$f":"IFERROR(Table_NFI[[#This Row],[Kitchen Set]]/VLOOKUP(Table_NFI[[#This Row],[Camp Name]],CL,4,0),\"\")","v":0.27060931899641577}]
[16.399999999999999,"2012-08-27","UNHCR","UNHCR","Kachin","Myitkyina","Maliyang Baptist Church",null,null,0,2,1,2,1,1,1,1,{"$f":"IF(NFI_Expiration=1,IF($A185<VLOOKUP(H$5,NFI,5,0),1,0)*Table_NFI[[#This Row],[Hygiene Kit]],Table_NFI[Hygiene Kit])","v":0},{"$f":"IF(NFI_Expiration=1,IF($A185<VLOOKUP(I$5,NFI,5,0),1,0)*Table_NFI[[#This Row],[NFI Core Kit]],Table_NFI[NFI Core Kit])","v":0},{"$f":"IF(NFI_Expiration=1,IF($A185<VLOOKUP(J$5,NFI,5,0),1,0)*Table_NFI[[#This Row],[Sanitary Kit]],Table_NFI[Sanitary Kit])","v":0},{"$f":"IF(NFI_Expiration=1,IF($A185<VLOOKUP(K$5,NFI,5,0),1,0)*Table_NFI[[#This Row],[Mosquito net]],Table_NFI[Mosquito net])","v":0},{"$f":"IF(NFI_Expiration=1,IF($A185<VLOOKUP(L$5,NFI,5,0),1,0)*Table_NFI[[#This Row],[Tarpaulin]],Table_NFI[[#This Row],[Tarpaulin]])","v":0},{"$f":"IF(NFI_Expiration=1,IF($A185<VLOOKUP(M$5,NFI,5,0),1,0)*Table_NFI[[#This Row],[Blanket]],Table_NFI[[#This Row],[Blanket]])","v":0},{"$f":"IF(NFI_Expiration=1,IF($A185<VLOOKUP(N$5,NFI,5,0),1,0)*Table_NFI[[#This Row],[Kitchen Set]],Table_NFI[Kitchen Set])","v":0},{"$f":"IF(NFI_Expiration=1,IF($A185<VLOOKUP(O$5,NFI,5,0),1,0)*Table_NFI[[#This Row],[Complementary Kit]],Table_NFI[Complementary Kit])","v":0},{"$f":"IF(NFI_Expiration=1,IF($A185<VLOOKUP(P$5,NFI,5,0),1,0)*Table_NFI[[#This Row],[Plastic Bucket]],Table_NFI[Plastic Bucket])","v":0},{"$f":"IF(NFI_Expiration=1,IF($A185<VLOOKUP(Q$5,NFI,5,0),1,0)*Table_NFI[[#This Row],[Plastic Mat]],Table_NFI[Plastic Mat])","v":0},{"$f":"IFERROR(VLOOKUP(Table_NFI[[#This Row],[Camp Name]],CL,2,0),\"\")","v":"MMR001CMP016"},{"$f":"IFERROR(VLOOKUP(Table_NFI[[#This Row],[Camp Name]],CL,3,0),\"\")","v":"Open"},{"$f":"IFERROR(Table_NFI[[#This Row],[Kitchen Set]]/VLOOKUP(Table_NFI[[#This Row],[Camp Name]],CL,4,0),\"\")","v":1.3888888888888888E-2}]
[16.399999999999999,"2012-08-27","UNHCR","UNHCR","Kachin","Myitkyina","Jan Mai Kawng Baptist Church",null,null,0,7,4,7,3,3,3,3,{"$f":"IF(NFI_Expiration=1,IF($A186<VLOOKUP(H$5,NFI,5,0),1,0)*Table_NFI[[#This Row],[Hygiene Kit]],Table_NFI[Hygiene Kit])","v":0},{"$f":"IF(NFI_Expiration=1,IF($A186<VLOOKUP(I$5,NFI,5,0),1,0)*Table_NFI[[#This Row],[NFI Core Kit]],Table_NFI[NFI Core Kit])","v":0},{"$f":"IF(NFI_Expiration=1,IF($A186<VLOOKUP(J$5,NFI,5,0),1,0)*Table_NFI[[#This Row],[Sanitary Kit]],Table_NFI[Sanitary Kit])","v":0},{"$f":"IF(NFI_Expiration=1,IF($A186<VLOOKUP(K$5,NFI,5,0),1,0)*Table_NFI[[#This Row],[Mosquito net]],Table_NFI[Mosquito net])","v":0},{"$f":"IF(NFI_Expiration=1,IF($A186<VLOOKUP(L$5,NFI,5,0),1,0)*Table_NFI[[#This Row],[Tarpaulin]],Table_NFI[[#This Row],[Tarpaulin]])","v":0},{"$f":"IF(NFI_Expiration=1,IF($A186<VLOOKUP(M$5,NFI,5,0),1,0)*Table_NFI[[#This Row],[Blanket]],Table_NFI[[#This Row],[Blanket]])","v":0},{"$f":"IF(NFI_Expiration=1,IF($A186<VLOOKUP(N$5,NFI,5,0),1,0)*Table_NFI[[#This Row],[Kitchen Set]],Table_NFI[Kitchen Set])","v":0},{"$f":"IF(NFI_Expiration=1,IF($A186<VLOOKUP(O$5,NFI,5,0),1,0)*Table_NFI[[#This Row],[Complementary Kit]],Table_NFI[Complementary Kit])","v":0},{"$f":"IF(NFI_Expiration=1,IF($A186<VLOOKUP(P$5,NFI,5,0),1,0)*Table_NFI[[#This Row],[Plastic Bucket]],Table_NFI[Plastic Bucket])","v":0},{"$f":"IF(NFI_Expiration=1,IF($A186<VLOOKUP(Q$5,NFI,5,0),1,0)*Table_NFI[[#This Row],[Plastic Mat]],Table_NFI[Plastic Mat])","v":0},{"$f":"IFERROR(VLOOKUP(Table_NFI[[#This Row],[Camp Name]],CL,2,0),\"\")","v":"MMR001CMP018"},{"$f":"IFERROR(VLOOKUP(Table_NFI[[#This Row],[Camp Name]],CL,3,0),\"\")","v":"Open"},{"$f":"IFERROR(Table_NFI[[#This Row],[Kitchen Set]]/VLOOKUP(Table_NFI[[#This Row],[Camp Name]],CL,4,0),\"\")","v":1.4778325123152709E-2}]
[16.399999999999999,"2012-08-27","UNHCR","UNHCR","Kachin","Myitkyina","Maw Hpawng Hka Nan Baptist Church",null,null,0,2,1,2,1,1,1,1,{"$f":"IF(NFI_Expiration=1,IF($A187<VLOOKUP(H$5,NFI,5,0),1,0)*Table_NFI[[#This Row],[Hygiene Kit]],Table_NFI[Hygiene Kit])","v":0},{"$f":"IF(NFI_Expiration=1,IF($A187<VLOOKUP(I$5,NFI,5,0),1,0)*Table_NFI[[#This Row],[NFI Core Kit]],Table_NFI[NFI Core Kit])","v":0},{"$f":"IF(NFI_Expiration=1,IF($A187<VLOOKUP(J$5,NFI,5,0),1,0)*Table_NFI[[#This Row],[Sanitary Kit]],Table_NFI[Sanitary Kit])","v":0},{"$f":"IF(NFI_Expiration=1,IF($A187<VLOOKUP(K$5,NFI,5,0),1,0)*Table_NFI[[#This Row],[Mosquito net]],Table_NFI[Mosquito net])","v":0},{"$f":"IF(NFI_Expiration=1,IF($A187<VLOOKUP(L$5,NFI,5,0),1,0)*Table_NFI[[#This Row],[Tarpaulin]],Table_NFI[[#This Row],[Tarpaulin]])","v":0},{"$f":"IF(NFI_Expiration=1,IF($A187<VLOOKUP(M$5,NFI,5,0),1,0)*Table_NFI[[#This Row],[Blanket]],Table_NFI[[#This Row],[Blanket]])","v":0},{"$f":"IF(NFI_Expiration=1,IF($A187<VLOOKUP(N$5,NFI,5,0),1,0)*Table_NFI[[#This Row],[Kitchen Set]],Table_NFI[Kitchen Set])","v":0},{"$f":"IF(NFI_Expiration=1,IF($A187<VLOOKUP(O$5,NFI,5,0),1,0)*Table_NFI[[#This Row],[Complementary Kit]],Table_NFI[Complementary Kit])","v":0},{"$f":"IF(NFI_Expiration=1,IF($A187<VLOOKUP(P$5,NFI,5,0),1,0)*Table_NFI[[#This Row],[Plastic Bucket]],Table_NFI[Plastic Bucket])","v":0},{"$f":"IF(NFI_Expiration=1,IF($A187<VLOOKUP(Q$5,NFI,5,0),1,0)*Table_NFI[[#This Row],[Plastic Mat]],Table_NFI[Plastic Mat])","v":0},{"$f":"IFERROR(VLOOKUP(Table_NFI[[#This Row],[Camp Name]],CL,2,0),\"\")","v":"MMR001CMP020"},{"$f":"IFERROR(VLOOKUP(Table_NFI[[#This Row],[Camp Name]],CL,3,0),\"\")","v":"Open"},{"$f":"IFERROR(Table_NFI[[#This Row],[Kitchen Set]]/VLOOKUP(Table_NFI[[#This Row],[Camp Name]],CL,4,0),\"\")","v":3.8461538461538464E-2}]
[16.399999999999999,"2012-08-27","UNHCR","UNHCR","Kachin","Myitkyina","Maw Hpawng Lhaovo Baptist Church",null,null,0,10,5,10,5,5,5,5,{"$f":"IF(NFI_Expiration=1,IF($A188<VLOOKUP(H$5,NFI,5,0),1,0)*Table_NFI[[#This Row],[Hygiene Kit]],Table_NFI[Hygiene Kit])","v":0},{"$f":"IF(NFI_Expiration=1,IF($A188<VLOOKUP(I$5,NFI,5,0),1,0)*Table_NFI[[#This Row],[NFI Core Kit]],Table_NFI[NFI Core Kit])","v":0},{"$f":"IF(NFI_Expiration=1,IF($A188<VLOOKUP(J$5,NFI,5,0),1,0)*Table_NFI[[#This Row],[Sanitary Kit]],Table_NFI[Sanitary Kit])","v":0},{"$f":"IF(NFI_Expiration=1,IF($A188<VLOOKUP(K$5,NFI,5,0),1,0)*Table_NFI[[#This Row],[Mosquito net]],Table_NFI[Mosquito net])","v":0},{"$f":"IF(NFI_Expiration=1,IF($A188<VLOOKUP(L$5,NFI,5,0),1,0)*Table_NFI[[#This Row],[Tarpaulin]],Table_NFI[[#This Row],[Tarpaulin]])","v":0},{"$f":"IF(NFI_Expiration=1,IF($A188<VLOOKUP(M$5,NFI,5,0),1,0)*Table_NFI[[#This Row],[Blanket]],Table_NFI[[#This Row],[Blanket]])","v":0},{"$f":"IF(NFI_Expiration=1,IF($A188<VLOOKUP(N$5,NFI,5,0),1,0)*Table_NFI[[#This Row],[Kitchen Set]],Table_NFI[Kitchen Set])","v":0},{"$f":"IF(NFI_Expiration=1,IF($A188<VLOOKUP(O$5,NFI,5,0),1,0)*Table_NFI[[#This Row],[Complementary Kit]],Table_NFI[Complementary Kit])","v":0},{"$f":"IF(NFI_Expiration=1,IF($A188<VLOOKUP(P$5,NFI,5,0),1,0)*Table_NFI[[#This Row],[Plastic Bucket]],Table_NFI[Plastic Bucket])","v":0},{"$f":"IF(NFI_Expiration=1,IF($A188<VLOOKUP(Q$5,NFI,5,0),1,0)*Table_NFI[[#This Row],[Plastic Mat]],Table_NFI[Plastic Mat])","v":0},{"$f":"IFERROR(VLOOKUP(Table_NFI[[#This Row],[Camp Name]],CL,2,0),\"\")","v":"MMR001CMP021"},{"$f":"IFERROR(VLOOKUP(Table_NFI[[#This Row],[Camp Name]],CL,3,0),\"\")","v":"Open"},{"$f":"IFERROR(Table_NFI[[#This Row],[Kitchen Set]]/VLOOKUP(Table_NFI[[#This Row],[Camp Name]],CL,4,0),\"\")","v":0.23809523809523808}]
[16.399999999999999,"2012-08-27","UNHCR","UNHCR","Kachin","Myitkyina","Wun Tho Buddhist Monastery",null,null,0,10,5,10,5,5,5,5,{"$f":"IF(NFI_Expiration=1,IF($A189<VLOOKUP(H$5,NFI,5,0),1,0)*Table_NFI[[#This Row],[Hygiene Kit]],Table_NFI[Hygiene Kit])","v":0},{"$f":"IF(NFI_Expiration=1,IF($A189<VLOOKUP(I$5,NFI,5,0),1,0)*Table_NFI[[#This Row],[NFI Core Kit]],Table_NFI[NFI Core Kit])","v":0},{"$f":"IF(NFI_Expiration=1,IF($A189<VLOOKUP(J$5,NFI,5,0),1,0)*Table_NFI[[#This Row],[Sanitary Kit]],Table_NFI[Sanitary Kit])","v":0},{"$f":"IF(NFI_Expiration=1,IF($A189<VLOOKUP(K$5,NFI,5,0),1,0)*Table_NFI[[#This Row],[Mosquito net]],Table_NFI[Mosquito net])","v":0},{"$f":"IF(NFI_Expiration=1,IF($A189<VLOOKUP(L$5,NFI,5,0),1,0)*Table_NFI[[#This Row],[Tarpaulin]],Table_NFI[[#This Row],[Tarpaulin]])","v":0},{"$f":"IF(NFI_Expiration=1,IF($A189<VLOOKUP(M$5,NFI,5,0),1,0)*Table_NFI[[#This Row],[Blanket]],Table_NFI[[#This Row],[Blanket]])","v":0},{"$f":"IF(NFI_Expiration=1,IF($A189<VLOOKUP(N$5,NFI,5,0),1,0)*Table_NFI[[#This Row],[Kitchen Set]],Table_NFI[Kitchen Set])","v":0},{"$f":"IF(NFI_Expiration=1,IF($A189<VLOOKUP(O$5,NFI,5,0),1,0)*Table_NFI[[#This Row],[Complementary Kit]],Table_NFI[Complementary Kit])","v":0},{"$f":"IF(NFI_Expiration=1,IF($A189<VLOOKUP(P$5,NFI,5,0),1,0)*Table_NFI[[#This Row],[Plastic Bucket]],Table_NFI[Plastic Bucket])","v":0},{"$f":"IF(NFI_Expiration=1,IF($A189<VLOOKUP(Q$5,NFI,5,0),1,0)*Table_NFI[[#This Row],[Plastic Mat]],Table_NFI[Plastic Mat])","v":0},{"$f":"IFERROR(VLOOKUP(Table_NFI[[#This Row],[Camp Name]],CL,2,0),\"\")","v":"MMR001CMP022"},{"$f":"IFERROR(VLOOKUP(Table_NFI[[#This Row],[Camp Name]],CL,3,0),\"\")","v":"Open"},{"$f":"IFERROR(Table_NFI[[#This Row],[Kitchen Set]]/VLOOKUP(Table_NFI[[#This Row],[Camp Name]],CL,4,0),\"\")","v":0.83333333333333337}]
[16.333333333333332,"2012-08-29","UNHCR","UNHCR","Kachin","Momauk","Nyaung Na Pin ",null,null,0,112,41,112,41,41,41,41,{"$f":"IF(NFI_Expiration=1,IF($A190<VLOOKUP(H$5,NFI,5,0),1,0)*Table_NFI[[#This Row],[Hygiene Kit]],Table_NFI[Hygiene Kit])","v":0},{"$f":"IF(NFI_Expiration=1,IF($A190<VLOOKUP(I$5,NFI,5,0),1,0)*Table_NFI[[#This Row],[NFI Core Kit]],Table_NFI[NFI Core Kit])","v":0},{"$f":"IF(NFI_Expiration=1,IF($A190<VLOOKUP(J$5,NFI,5,0),1,0)*Table_NFI[[#This Row],[Sanitary Kit]],Table_NFI[Sanitary Kit])","v":0},{"$f":"IF(NFI_Expiration=1,IF($A190<VLOOKUP(K$5,NFI,5,0),1,0)*Table_NFI[[#This Row],[Mosquito net]],Table_NFI[Mosquito net])","v":0},{"$f":"IF(NFI_Expiration=1,IF($A190<VLOOKUP(L$5,NFI,5,0),1,0)*Table_NFI[[#This Row],[Tarpaulin]],Table_NFI[[#This Row],[Tarpaulin]])","v":0},{"$f":"IF(NFI_Expiration=1,IF($A190<VLOOKUP(M$5,NFI,5,0),1,0)*Table_NFI[[#This Row],[Blanket]],Table_NFI[[#This Row],[Blanket]])","v":0},{"$f":"IF(NFI_Expiration=1,IF($A190<VLOOKUP(N$5,NFI,5,0),1,0)*Table_NFI[[#This Row],[Kitchen Set]],Table_NFI[Kitchen Set])","v":0},{"$f":"IF(NFI_Expiration=1,IF($A190<VLOOKUP(O$5,NFI,5,0),1,0)*Table_NFI[[#This Row],[Complementary Kit]],Table_NFI[Complementary Kit])","v":0},{"$f":"IF(NFI_Expiration=1,IF($A190<VLOOKUP(P$5,NFI,5,0),1,0)*Table_NFI[[#This Row],[Plastic Bucket]],Table_NFI[Plastic Bucket])","v":0},{"$f":"IF(NFI_Expiration=1,IF($A190<VLOOKUP(Q$5,NFI,5,0),1,0)*Table_NFI[[#This Row],[Plastic Mat]],Table_NFI[Plastic Mat])","v":0},{"$f":"IFERROR(VLOOKUP(Table_NFI[[#This Row],[Camp Name]],CL,2,0),\"\")","v":"MMR001CMP072"},{"$f":"IFERROR(VLOOKUP(Table_NFI[[#This Row],[Camp Name]],CL,3,0),\"\")","v":"Open"},{"$f":"IFERROR(Table_NFI[[#This Row],[Kitchen Set]]/VLOOKUP(Table_NFI[[#This Row],[Camp Name]],CL,4,0),\"\")","v":0.87234042553191493}]
[16.100000000000001,"2012-09-05","UNHCR","UNHCR","Kachin","Momauk","Loi Je Catholic Church",null,null,0,21,10,21,10,10,10,10,{"$f":"IF(NFI_Expiration=1,IF($A191<VLOOKUP(H$5,NFI,5,0),1,0)*Table_NFI[[#This Row],[Hygiene Kit]],Table_NFI[Hygiene Kit])","v":0},{"$f":"IF(NFI_Expiration=1,IF($A191<VLOOKUP(I$5,NFI,5,0),1,0)*Table_NFI[[#This Row],[NFI Core Kit]],Table_NFI[NFI Core Kit])","v":0},{"$f":"IF(NFI_Expiration=1,IF($A191<VLOOKUP(J$5,NFI,5,0),1,0)*Table_NFI[[#This Row],[Sanitary Kit]],Table_NFI[Sanitary Kit])","v":0},{"$f":"IF(NFI_Expiration=1,IF($A191<VLOOKUP(K$5,NFI,5,0),1,0)*Table_NFI[[#This Row],[Mosquito net]],Table_NFI[Mosquito net])","v":0},{"$f":"IF(NFI_Expiration=1,IF($A191<VLOOKUP(L$5,NFI,5,0),1,0)*Table_NFI[[#This Row],[Tarpaulin]],Table_NFI[[#This Row],[Tarpaulin]])","v":0},{"$f":"IF(NFI_Expiration=1,IF($A191<VLOOKUP(M$5,NFI,5,0),1,0)*Table_NFI[[#This Row],[Blanket]],Table_NFI[[#This Row],[Blanket]])","v":0},{"$f":"IF(NFI_Expiration=1,IF($A191<VLOOKUP(N$5,NFI,5,0),1,0)*Table_NFI[[#This Row],[Kitchen Set]],Table_NFI[Kitchen Set])","v":0},{"$f":"IF(NFI_Expiration=1,IF($A191<VLOOKUP(O$5,NFI,5,0),1,0)*Table_NFI[[#This Row],[Complementary Kit]],Table_NFI[Complementary Kit])","v":0},{"$f":"IF(NFI_Expiration=1,IF($A191<VLOOKUP(P$5,NFI,5,0),1,0)*Table_NFI[[#This Row],[Plastic Bucket]],Table_NFI[Plastic Bucket])","v":0},{"$f":"IF(NFI_Expiration=1,IF($A191<VLOOKUP(Q$5,NFI,5,0),1,0)*Table_NFI[[#This Row],[Plastic Mat]],Table_NFI[Plastic Mat])","v":0},{"$f":"IFERROR(VLOOKUP(Table_NFI[[#This Row],[Camp Name]],CL,2,0),\"\")","v":"MMR001CMP069"},{"$f":"IFERROR(VLOOKUP(Table_NFI[[#This Row],[Camp Name]],CL,3,0),\"\")","v":"Open"},{"$f":"IFERROR(Table_NFI[[#This Row],[Kitchen Set]]/VLOOKUP(Table_NFI[[#This Row],[Camp Name]],CL,4,0),\"\")","v":0.21739130434782608}]
[16.100000000000001,"2012-09-05","UNHCR","UNHCR","Kachin","Momauk","Loi Je Lisu Camp",null,null,0,133,62,133,62,62,62,62,{"$f":"IF(NFI_Expiration=1,IF($A192<VLOOKUP(H$5,NFI,5,0),1,0)*Table_NFI[[#This Row],[Hygiene Kit]],Table_NFI[Hygiene Kit])","v":0},{"$f":"IF(NFI_Expiration=1,IF($A192<VLOOKUP(I$5,NFI,5,0),1,0)*Table_NFI[[#This Row],[NFI Core Kit]],Table_NFI[NFI Core Kit])","v":0},{"$f":"IF(NFI_Expiration=1,IF($A192<VLOOKUP(J$5,NFI,5,0),1,0)*Table_NFI[[#This Row],[Sanitary Kit]],Table_NFI[Sanitary Kit])","v":0},{"$f":"IF(NFI_Expiration=1,IF($A192<VLOOKUP(K$5,NFI,5,0),1,0)*Table_NFI[[#This Row],[Mosquito net]],Table_NFI[Mosquito net])","v":0},{"$f":"IF(NFI_Expiration=1,IF($A192<VLOOKUP(L$5,NFI,5,0),1,0)*Table_NFI[[#This Row],[Tarpaulin]],Table_NFI[[#This Row],[Tarpaulin]])","v":0},{"$f":"IF(NFI_Expiration=1,IF($A192<VLOOKUP(M$5,NFI,5,0),1,0)*Table_NFI[[#This Row],[Blanket]],Table_NFI[[#This Row],[Blanket]])","v":0},{"$f":"IF(NFI_Expiration=1,IF($A192<VLOOKUP(N$5,NFI,5,0),1,0)*Table_NFI[[#This Row],[Kitchen Set]],Table_NFI[Kitchen Set])","v":0},{"$f":"IF(NFI_Expiration=1,IF($A192<VLOOKUP(O$5,NFI,5,0),1,0)*Table_NFI[[#This Row],[Complementary Kit]],Table_NFI[Complementary Kit])","v":0},{"$f":"IF(NFI_Expiration=1,IF($A192<VLOOKUP(P$5,NFI,5,0),1,0)*Table_NFI[[#This Row],[Plastic Bucket]],Table_NFI[Plastic Bucket])","v":0},{"$f":"IF(NFI_Expiration=1,IF($A192<VLOOKUP(Q$5,NFI,5,0),1,0)*Table_NFI[[#This Row],[Plastic Mat]],Table_NFI[Plastic Mat])","v":0},{"$f":"IFERROR(VLOOKUP(Table_NFI[[#This Row],[Camp Name]],CL,2,0),\"\")","v":"MMR001CMP070"},{"$f":"IFERROR(VLOOKUP(Table_NFI[[#This Row],[Camp Name]],CL,3,0),\"\")","v":"Open"},{"$f":"IFERROR(Table_NFI[[#This Row],[Kitchen Set]]/VLOOKUP(Table_NFI[[#This Row],[Camp Name]],CL,4,0),\"\")","v":0.43661971830985913}]
[16.100000000000001,"2012-09-05","UNHCR","UNHCR","Kachin","Momauk","Loi Je Baptist Church",null,null,0,40,17,40,17,17,17,17,{"$f":"IF(NFI_Expiration=1,IF($A193<VLOOKUP(H$5,NFI,5,0),1,0)*Table_NFI[[#This Row],[Hygiene Kit]],Table_NFI[Hygiene Kit])","v":0},{"$f":"IF(NFI_Expiration=1,IF($A193<VLOOKUP(I$5,NFI,5,0),1,0)*Table_NFI[[#This Row],[NFI Core Kit]],Table_NFI[NFI Core Kit])","v":0},{"$f":"IF(NFI_Expiration=1,IF($A193<VLOOKUP(J$5,NFI,5,0),1,0)*Table_NFI[[#This Row],[Sanitary Kit]],Table_NFI[Sanitary Kit])","v":0},{"$f":"IF(NFI_Expiration=1,IF($A193<VLOOKUP(K$5,NFI,5,0),1,0)*Table_NFI[[#This Row],[Mosquito net]],Table_NFI[Mosquito net])","v":0},{"$f":"IF(NFI_Expiration=1,IF($A193<VLOOKUP(L$5,NFI,5,0),1,0)*Table_NFI[[#This Row],[Tarpaulin]],Table_NFI[[#This Row],[Tarpaulin]])","v":0},{"$f":"IF(NFI_Expiration=1,IF($A193<VLOOKUP(M$5,NFI,5,0),1,0)*Table_NFI[[#This Row],[Blanket]],Table_NFI[[#This Row],[Blanket]])","v":0},{"$f":"IF(NFI_Expiration=1,IF($A193<VLOOKUP(N$5,NFI,5,0),1,0)*Table_NFI[[#This Row],[Kitchen Set]],Table_NFI[Kitchen Set])","v":0},{"$f":"IF(NFI_Expiration=1,IF($A193<VLOOKUP(O$5,NFI,5,0),1,0)*Table_NFI[[#This Row],[Complementary Kit]],Table_NFI[Complementary Kit])","v":0},{"$f":"IF(NFI_Expiration=1,IF($A193<VLOOKUP(P$5,NFI,5,0),1,0)*Table_NFI[[#This Row],[Plastic Bucket]],Table_NFI[Plastic Bucket])","v":0},{"$f":"IF(NFI_Expiration=1,IF($A193<VLOOKUP(Q$5,NFI,5,0),1,0)*Table_NFI[[#This Row],[Plastic Mat]],Table_NFI[Plastic Mat])","v":0},{"$f":"IFERROR(VLOOKUP(Table_NFI[[#This Row],[Camp Name]],CL,2,0),\"\")","v":"MMR001CMP071"},{"$f":"IFERROR(VLOOKUP(Table_NFI[[#This Row],[Camp Name]],CL,3,0),\"\")","v":"Open"},{"$f":"IFERROR(Table_NFI[[#This Row],[Kitchen Set]]/VLOOKUP(Table_NFI[[#This Row],[Camp Name]],CL,4,0),\"\")","v":0.65384615384615385}]
[16.100000000000001,"2012-09-05","UNHCR","UNHCR","Kachin","Momauk","Seng Ja ",null,null,0,26,11,26,11,11,11,11,{"$f":"IF(NFI_Expiration=1,IF($A194<VLOOKUP(H$5,NFI,5,0),1,0)*Table_NFI[[#This Row],[Hygiene Kit]],Table_NFI[Hygiene Kit])","v":0},{"$f":"IF(NFI_Expiration=1,IF($A194<VLOOKUP(I$5,NFI,5,0),1,0)*Table_NFI[[#This Row],[NFI Core Kit]],Table_NFI[NFI Core Kit])","v":0},{"$f":"IF(NFI_Expiration=1,IF($A194<VLOOKUP(J$5,NFI,5,0),1,0)*Table_NFI[[#This Row],[Sanitary Kit]],Table_NFI[Sanitary Kit])","v":0},{"$f":"IF(NFI_Expiration=1,IF($A194<VLOOKUP(K$5,NFI,5,0),1,0)*Table_NFI[[#This Row],[Mosquito net]],Table_NFI[Mosquito net])","v":0},{"$f":"IF(NFI_Expiration=1,IF($A194<VLOOKUP(L$5,NFI,5,0),1,0)*Table_NFI[[#This Row],[Tarpaulin]],Table_NFI[[#This Row],[Tarpaulin]])","v":0},{"$f":"IF(NFI_Expiration=1,IF($A194<VLOOKUP(M$5,NFI,5,0),1,0)*Table_NFI[[#This Row],[Blanket]],Table_NFI[[#This Row],[Blanket]])","v":0},{"$f":"IF(NFI_Expiration=1,IF($A194<VLOOKUP(N$5,NFI,5,0),1,0)*Table_NFI[[#This Row],[Kitchen Set]],Table_NFI[Kitchen Set])","v":0},{"$f":"IF(NFI_Expiration=1,IF($A194<VLOOKUP(O$5,NFI,5,0),1,0)*Table_NFI[[#This Row],[Complementary Kit]],Table_NFI[Complementary Kit])","v":0},{"$f":"IF(NFI_Expiration=1,IF($A194<VLOOKUP(P$5,NFI,5,0),1,0)*Table_NFI[[#This Row],[Plastic Bucket]],Table_NFI[Plastic Bucket])","v":0},{"$f":"IF(NFI_Expiration=1,IF($A194<VLOOKUP(Q$5,NFI,5,0),1,0)*Table_NFI[[#This Row],[Plastic Mat]],Table_NFI[Plastic Mat])","v":0},{"$f":"IFERROR(VLOOKUP(Table_NFI[[#This Row],[Camp Name]],CL,2,0),\"\")","v":"MMR001CMP073"},{"$f":"IFERROR(VLOOKUP(Table_NFI[[#This Row],[Camp Name]],CL,3,0),\"\")","v":"Open"},{"$f":"IFERROR(Table_NFI[[#This Row],[Kitchen Set]]/VLOOKUP(Table_NFI[[#This Row],[Camp Name]],CL,4,0),\"\")","v":0.31428571428571428}]
[15.933333333333334,"2012-09-10","UNHCR","UNHCR","Kachin","Myitkyina","Myay Myint Baptist Church",null,null,0,10,6,10,6,6,6,6,{"$f":"IF(NFI_Expiration=1,IF($A195<VLOOKUP(H$5,NFI,5,0),1,0)*Table_NFI[[#This Row],[Hygiene Kit]],Table_NFI[Hygiene Kit])","v":0},{"$f":"IF(NFI_Expiration=1,IF($A195<VLOOKUP(I$5,NFI,5,0),1,0)*Table_NFI[[#This Row],[NFI Core Kit]],Table_NFI[NFI Core Kit])","v":0},{"$f":"IF(NFI_Expiration=1,IF($A195<VLOOKUP(J$5,NFI,5,0),1,0)*Table_NFI[[#This Row],[Sanitary Kit]],Table_NFI[Sanitary Kit])","v":0},{"$f":"IF(NFI_Expiration=1,IF($A195<VLOOKUP(K$5,NFI,5,0),1,0)*Table_NFI[[#This Row],[Mosquito net]],Table_NFI[Mosquito net])","v":0},{"$f":"IF(NFI_Expiration=1,IF($A195<VLOOKUP(L$5,NFI,5,0),1,0)*Table_NFI[[#This Row],[Tarpaulin]],Table_NFI[[#This Row],[Tarpaulin]])","v":0},{"$f":"IF(NFI_Expiration=1,IF($A195<VLOOKUP(M$5,NFI,5,0),1,0)*Table_NFI[[#This Row],[Blanket]],Table_NFI[[#This Row],[Blanket]])","v":0},{"$f":"IF(NFI_Expiration=1,IF($A195<VLOOKUP(N$5,NFI,5,0),1,0)*Table_NFI[[#This Row],[Kitchen Set]],Table_NFI[Kitchen Set])","v":0},{"$f":"IF(NFI_Expiration=1,IF($A195<VLOOKUP(O$5,NFI,5,0),1,0)*Table_NFI[[#This Row],[Complementary Kit]],Table_NFI[Complementary Kit])","v":0},{"$f":"IF(NFI_Expiration=1,IF($A195<VLOOKUP(P$5,NFI,5,0),1,0)*Table_NFI[[#This Row],[Plastic Bucket]],Table_NFI[Plastic Bucket])","v":0},{"$f":"IF(NFI_Expiration=1,IF($A195<VLOOKUP(Q$5,NFI,5,0),1,0)*Table_NFI[[#This Row],[Plastic Mat]],Table_NFI[Plastic Mat])","v":0},{"$f":"IFERROR(VLOOKUP(Table_NFI[[#This Row],[Camp Name]],CL,2,0),\"\")","v":"MMR001CMP017"},{"$f":"IFERROR(VLOOKUP(Table_NFI[[#This Row],[Camp Name]],CL,3,0),\"\")","v":"Open"},{"$f":"IFERROR(Table_NFI[[#This Row],[Kitchen Set]]/VLOOKUP(Table_NFI[[#This Row],[Camp Name]],CL,4,0),\"\")","v":0.5}]
[15.8,"2012-09-14","UNHCR","UNHCR","Kachin","Waingmaw","Maina Catholic Church (St. Joseph)",null,null,0,94,48,94,48,48,48,48,{"$f":"IF(NFI_Expiration=1,IF($A196<VLOOKUP(H$5,NFI,5,0),1,0)*Table_NFI[[#This Row],[Hygiene Kit]],Table_NFI[Hygiene Kit])","v":0},{"$f":"IF(NFI_Expiration=1,IF($A196<VLOOKUP(I$5,NFI,5,0),1,0)*Table_NFI[[#This Row],[NFI Core Kit]],Table_NFI[NFI Core Kit])","v":0},{"$f":"IF(NFI_Expiration=1,IF($A196<VLOOKUP(J$5,NFI,5,0),1,0)*Table_NFI[[#This Row],[Sanitary Kit]],Table_NFI[Sanitary Kit])","v":0},{"$f":"IF(NFI_Expiration=1,IF($A196<VLOOKUP(K$5,NFI,5,0),1,0)*Table_NFI[[#This Row],[Mosquito net]],Table_NFI[Mosquito net])","v":0},{"$f":"IF(NFI_Expiration=1,IF($A196<VLOOKUP(L$5,NFI,5,0),1,0)*Table_NFI[[#This Row],[Tarpaulin]],Table_NFI[[#This Row],[Tarpaulin]])","v":0},{"$f":"IF(NFI_Expiration=1,IF($A196<VLOOKUP(M$5,NFI,5,0),1,0)*Table_NFI[[#This Row],[Blanket]],Table_NFI[[#This Row],[Blanket]])","v":0},{"$f":"IF(NFI_Expiration=1,IF($A196<VLOOKUP(N$5,NFI,5,0),1,0)*Table_NFI[[#This Row],[Kitchen Set]],Table_NFI[Kitchen Set])","v":0},{"$f":"IF(NFI_Expiration=1,IF($A196<VLOOKUP(O$5,NFI,5,0),1,0)*Table_NFI[[#This Row],[Complementary Kit]],Table_NFI[Complementary Kit])","v":0},{"$f":"IF(NFI_Expiration=1,IF($A196<VLOOKUP(P$5,NFI,5,0),1,0)*Table_NFI[[#This Row],[Plastic Bucket]],Table_NFI[Plastic Bucket])","v":0},{"$f":"IF(NFI_Expiration=1,IF($A196<VLOOKUP(Q$5,NFI,5,0),1,0)*Table_NFI[[#This Row],[Plastic Mat]],Table_NFI[Plastic Mat])","v":0},{"$f":"IFERROR(VLOOKUP(Table_NFI[[#This Row],[Camp Name]],CL,2,0),\"\")","v":"MMR001CMP029"},{"$f":"IFERROR(VLOOKUP(Table_NFI[[#This Row],[Camp Name]],CL,3,0),\"\")","v":"Open"},{"$f":"IFERROR(Table_NFI[[#This Row],[Kitchen Set]]/VLOOKUP(Table_NFI[[#This Row],[Camp Name]],CL,4,0),\"\")","v":0.20689655172413793}]
[15.8,"2012-09-14","UNHCR","UNHCR","Kachin","Waingmaw","Waingmaw AG Church",null,null,0,14,8,14,8,8,8,8,{"$f":"IF(NFI_Expiration=1,IF($A197<VLOOKUP(H$5,NFI,5,0),1,0)*Table_NFI[[#This Row],[Hygiene Kit]],Table_NFI[Hygiene Kit])","v":0},{"$f":"IF(NFI_Expiration=1,IF($A197<VLOOKUP(I$5,NFI,5,0),1,0)*Table_NFI[[#This Row],[NFI Core Kit]],Table_NFI[NFI Core Kit])","v":0},{"$f":"IF(NFI_Expiration=1,IF($A197<VLOOKUP(J$5,NFI,5,0),1,0)*Table_NFI[[#This Row],[Sanitary Kit]],Table_NFI[Sanitary Kit])","v":0},{"$f":"IF(NFI_Expiration=1,IF($A197<VLOOKUP(K$5,NFI,5,0),1,0)*Table_NFI[[#This Row],[Mosquito net]],Table_NFI[Mosquito net])","v":0},{"$f":"IF(NFI_Expiration=1,IF($A197<VLOOKUP(L$5,NFI,5,0),1,0)*Table_NFI[[#This Row],[Tarpaulin]],Table_NFI[[#This Row],[Tarpaulin]])","v":0},{"$f":"IF(NFI_Expiration=1,IF($A197<VLOOKUP(M$5,NFI,5,0),1,0)*Table_NFI[[#This Row],[Blanket]],Table_NFI[[#This Row],[Blanket]])","v":0},{"$f":"IF(NFI_Expiration=1,IF($A197<VLOOKUP(N$5,NFI,5,0),1,0)*Table_NFI[[#This Row],[Kitchen Set]],Table_NFI[Kitchen Set])","v":0},{"$f":"IF(NFI_Expiration=1,IF($A197<VLOOKUP(O$5,NFI,5,0),1,0)*Table_NFI[[#This Row],[Complementary Kit]],Table_NFI[Complementary Kit])","v":0},{"$f":"IF(NFI_Expiration=1,IF($A197<VLOOKUP(P$5,NFI,5,0),1,0)*Table_NFI[[#This Row],[Plastic Bucket]],Table_NFI[Plastic Bucket])","v":0},{"$f":"IF(NFI_Expiration=1,IF($A197<VLOOKUP(Q$5,NFI,5,0),1,0)*Table_NFI[[#This Row],[Plastic Mat]],Table_NFI[Plastic Mat])","v":0},{"$f":"IFERROR(VLOOKUP(Table_NFI[[#This Row],[Camp Name]],CL,2,0),\"\")","v":"MMR001CMP038"},{"$f":"IFERROR(VLOOKUP(Table_NFI[[#This Row],[Camp Name]],CL,3,0),\"\")","v":"Open"},{"$f":"IFERROR(Table_NFI[[#This Row],[Kitchen Set]]/VLOOKUP(Table_NFI[[#This Row],[Camp Name]],CL,4,0),\"\")","v":9.8765432098765427E-2}]
[{"$f":"IF(ISBLANK(B198),\"\",(Report_Date-B198)/30)","v":15.7},"2012-09-17","UNHCR","UNHCR","Kachin","Momauk","Momauk Catholic Church (St. Patrick)",null,null,0,86,43,86,43,43,43,43,{"$f":"IF(NFI_Expiration=1,IF($A198<VLOOKUP(H$5,NFI,5,0),1,0)*Table_NFI[[#This Row],[Hygiene Kit]],Table_NFI[Hygiene Kit])","v":0},{"$f":"IF(NFI_Expiration=1,IF($A198<VLOOKUP(I$5,NFI,5,0),1,0)*Table_NFI[[#This Row],[NFI Core Kit]],Table_NFI[NFI Core Kit])","v":0},{"$f":"IF(NFI_Expiration=1,IF($A198<VLOOKUP(J$5,NFI,5,0),1,0)*Table_NFI[[#This Row],[Sanitary Kit]],Table_NFI[Sanitary Kit])","v":0},{"$f":"IF(NFI_Expiration=1,IF($A198<VLOOKUP(K$5,NFI,5,0),1,0)*Table_NFI[[#This Row],[Mosquito net]],Table_NFI[Mosquito net])","v":0},{"$f":"IF(NFI_Expiration=1,IF($A198<VLOOKUP(L$5,NFI,5,0),1,0)*Table_NFI[[#This Row],[Tarpaulin]],Table_NFI[[#This Row],[Tarpaulin]])","v":0},{"$f":"IF(NFI_Expiration=1,IF($A198<VLOOKUP(M$5,NFI,5,0),1,0)*Table_NFI[[#This Row],[Blanket]],Table_NFI[[#This Row],[Blanket]])","v":0},{"$f":"IF(NFI_Expiration=1,IF($A198<VLOOKUP(N$5,NFI,5,0),1,0)*Table_NFI[[#This Row],[Kitchen Set]],Table_NFI[Kitchen Set])","v":0},{"$f":"IF(NFI_Expiration=1,IF($A198<VLOOKUP(O$5,NFI,5,0),1,0)*Table_NFI[[#This Row],[Complementary Kit]],Table_NFI[Complementary Kit])","v":0},{"$f":"IF(NFI_Expiration=1,IF($A198<VLOOKUP(P$5,NFI,5,0),1,0)*Table_NFI[[#This Row],[Plastic Bucket]],Table_NFI[Plastic Bucket])","v":0},{"$f":"IF(NFI_Expiration=1,IF($A198<VLOOKUP(Q$5,NFI,5,0),1,0)*Table_NFI[[#This Row],[Plastic Mat]],Table_NFI[Plastic Mat])","v":0},{"$f":"IFERROR(VLOOKUP(Table_NFI[[#This Row],[Camp Name]],CL,2,0),\"\")","v":"MMR001CMP057"},{"$f":"IFERROR(VLOOKUP(Table_NFI[[#This Row],[Camp Name]],CL,3,0),\"\")","v":"Open"},{"$f":"IFERROR(Table_NFI[[#This Row],[Kitchen Set]]/VLOOKUP(Table_NFI[[#This Row],[Camp Name]],CL,4,0),\"\")","v":0.15140845070422534}]
[15.7,"2012-09-17","UNHCR","UNHCR","Kachin","Momauk","Man Bung Catholic compound",null,null,0,86,43,86,43,43,43,43,{"$f":"IF(NFI_Expiration=1,IF($A199<VLOOKUP(H$5,NFI,5,0),1,0)*Table_NFI[[#This Row],[Hygiene Kit]],Table_NFI[Hygiene Kit])","v":0},{"$f":"IF(NFI_Expiration=1,IF($A199<VLOOKUP(I$5,NFI,5,0),1,0)*Table_NFI[[#This Row],[NFI Core Kit]],Table_NFI[NFI Core Kit])","v":0},{"$f":"IF(NFI_Expiration=1,IF($A199<VLOOKUP(J$5,NFI,5,0),1,0)*Table_NFI[[#This Row],[Sanitary Kit]],Table_NFI[Sanitary Kit])","v":0},{"$f":"IF(NFI_Expiration=1,IF($A199<VLOOKUP(K$5,NFI,5,0),1,0)*Table_NFI[[#This Row],[Mosquito net]],Table_NFI[Mosquito net])","v":0},{"$f":"IF(NFI_Expiration=1,IF($A199<VLOOKUP(L$5,NFI,5,0),1,0)*Table_NFI[[#This Row],[Tarpaulin]],Table_NFI[[#This Row],[Tarpaulin]])","v":0},{"$f":"IF(NFI_Expiration=1,IF($A199<VLOOKUP(M$5,NFI,5,0),1,0)*Table_NFI[[#This Row],[Blanket]],Table_NFI[[#This Row],[Blanket]])","v":0},{"$f":"IF(NFI_Expiration=1,IF($A199<VLOOKUP(N$5,NFI,5,0),1,0)*Table_NFI[[#This Row],[Kitchen Set]],Table_NFI[Kitchen Set])","v":0},{"$f":"IF(NFI_Expiration=1,IF($A199<VLOOKUP(O$5,NFI,5,0),1,0)*Table_NFI[[#This Row],[Complementary Kit]],Table_NFI[Complementary Kit])","v":0},{"$f":"IF(NFI_Expiration=1,IF($A199<VLOOKUP(P$5,NFI,5,0),1,0)*Table_NFI[[#This Row],[Plastic Bucket]],Table_NFI[Plastic Bucket])","v":0},{"$f":"IF(NFI_Expiration=1,IF($A199<VLOOKUP(Q$5,NFI,5,0),1,0)*Table_NFI[[#This Row],[Plastic Mat]],Table_NFI[Plastic Mat])","v":0},{"$f":"IFERROR(VLOOKUP(Table_NFI[[#This Row],[Camp Name]],CL,2,0),\"\")","v":"MMR001CMP062"},{"$f":"IFERROR(VLOOKUP(Table_NFI[[#This Row],[Camp Name]],CL,3,0),\"\")","v":"Open"},{"$f":"IFERROR(Table_NFI[[#This Row],[Kitchen Set]]/VLOOKUP(Table_NFI[[#This Row],[Camp Name]],CL,4,0),\"\")","v":0.36752136752136755}]
[15.433333333333334,"2012-09-25","UNHCR","Chipwe CM","Kachin","Chipwi","Chipwi KBC camp",null,null,0,33,11,33,11,11,11,11,{"$f":"IF(NFI_Expiration=1,IF($A200<VLOOKUP(H$5,NFI,5,0),1,0)*Table_NFI[[#This Row],[Hygiene Kit]],Table_NFI[Hygiene Kit])","v":0},{"$f":"IF(NFI_Expiration=1,IF($A200<VLOOKUP(I$5,NFI,5,0),1,0)*Table_NFI[[#This Row],[NFI Core Kit]],Table_NFI[NFI Core Kit])","v":0},{"$f":"IF(NFI_Expiration=1,IF($A200<VLOOKUP(J$5,NFI,5,0),1,0)*Table_NFI[[#This Row],[Sanitary Kit]],Table_NFI[Sanitary Kit])","v":0},{"$f":"IF(NFI_Expiration=1,IF($A200<VLOOKUP(K$5,NFI,5,0),1,0)*Table_NFI[[#This Row],[Mosquito net]],Table_NFI[Mosquito net])","v":0},{"$f":"IF(NFI_Expiration=1,IF($A200<VLOOKUP(L$5,NFI,5,0),1,0)*Table_NFI[[#This Row],[Tarpaulin]],Table_NFI[[#This Row],[Tarpaulin]])","v":0},{"$f":"IF(NFI_Expiration=1,IF($A200<VLOOKUP(M$5,NFI,5,0),1,0)*Table_NFI[[#This Row],[Blanket]],Table_NFI[[#This Row],[Blanket]])","v":0},{"$f":"IF(NFI_Expiration=1,IF($A200<VLOOKUP(N$5,NFI,5,0),1,0)*Table_NFI[[#This Row],[Kitchen Set]],Table_NFI[Kitchen Set])","v":0},{"$f":"IF(NFI_Expiration=1,IF($A200<VLOOKUP(O$5,NFI,5,0),1,0)*Table_NFI[[#This Row],[Complementary Kit]],Table_NFI[Complementary Kit])","v":0},{"$f":"IF(NFI_Expiration=1,IF($A200<VLOOKUP(P$5,NFI,5,0),1,0)*Table_NFI[[#This Row],[Plastic Bucket]],Table_NFI[Plastic Bucket])","v":0},{"$f":"IF(NFI_Expiration=1,IF($A200<VLOOKUP(Q$5,NFI,5,0),1,0)*Table_NFI[[#This Row],[Plastic Mat]],Table_NFI[Plastic Mat])","v":0},{"$f":"IFERROR(VLOOKUP(Table_NFI[[#This Row],[Camp Name]],CL,2,0),\"\")","v":"MMR001CMP042"},{"$f":"IFERROR(VLOOKUP(Table_NFI[[#This Row],[Camp Name]],CL,3,0),\"\")","v":"Open"},{"$f":"IFERROR(Table_NFI[[#This Row],[Kitchen Set]]/VLOOKUP(Table_NFI[[#This Row],[Camp Name]],CL,4,0),\"\")","v":0.10280373831775701}]
[15.4,"2012-09-26","UNHCR","Chipwe CM","Kachin","Chipwi","Gant Gwin",null,null,0,33,11,33,11,11,11,11,{"$f":"IF(NFI_Expiration=1,IF($A201<VLOOKUP(H$5,NFI,5,0),1,0)*Table_NFI[[#This Row],[Hygiene Kit]],Table_NFI[Hygiene Kit])","v":0},{"$f":"IF(NFI_Expiration=1,IF($A201<VLOOKUP(I$5,NFI,5,0),1,0)*Table_NFI[[#This Row],[NFI Core Kit]],Table_NFI[NFI Core Kit])","v":0},{"$f":"IF(NFI_Expiration=1,IF($A201<VLOOKUP(J$5,NFI,5,0),1,0)*Table_NFI[[#This Row],[Sanitary Kit]],Table_NFI[Sanitary Kit])","v":0},{"$f":"IF(NFI_Expiration=1,IF($A201<VLOOKUP(K$5,NFI,5,0),1,0)*Table_NFI[[#This Row],[Mosquito net]],Table_NFI[Mosquito net])","v":0},{"$f":"IF(NFI_Expiration=1,IF($A201<VLOOKUP(L$5,NFI,5,0),1,0)*Table_NFI[[#This Row],[Tarpaulin]],Table_NFI[[#This Row],[Tarpaulin]])","v":0},{"$f":"IF(NFI_Expiration=1,IF($A201<VLOOKUP(M$5,NFI,5,0),1,0)*Table_NFI[[#This Row],[Blanket]],Table_NFI[[#This Row],[Blanket]])","v":0},{"$f":"IF(NFI_Expiration=1,IF($A201<VLOOKUP(N$5,NFI,5,0),1,0)*Table_NFI[[#This Row],[Kitchen Set]],Table_NFI[Kitchen Set])","v":0},{"$f":"IF(NFI_Expiration=1,IF($A201<VLOOKUP(O$5,NFI,5,0),1,0)*Table_NFI[[#This Row],[Complementary Kit]],Table_NFI[Complementary Kit])","v":0},{"$f":"IF(NFI_Expiration=1,IF($A201<VLOOKUP(P$5,NFI,5,0),1,0)*Table_NFI[[#This Row],[Plastic Bucket]],Table_NFI[Plastic Bucket])","v":0},{"$f":"IF(NFI_Expiration=1,IF($A201<VLOOKUP(Q$5,NFI,5,0),1,0)*Table_NFI[[#This Row],[Plastic Mat]],Table_NFI[Plastic Mat])","v":0},{"$f":"IFERROR(VLOOKUP(Table_NFI[[#This Row],[Camp Name]],CL,2,0),\"\")","v":"MMR001CMP046"},{"$f":"IFERROR(VLOOKUP(Table_NFI[[#This Row],[Camp Name]],CL,3,0),\"\")","v":"Open"},{"$f":"IFERROR(Table_NFI[[#This Row],[Kitchen Set]]/VLOOKUP(Table_NFI[[#This Row],[Camp Name]],CL,4,0),\"\")","v":4.3137254901960784E-2}]
[15.366666666666667,"2012-09-27","UNHCR","Chipwe CM","Kachin","Chipwi","Hpare Hkyer - BP6",null,null,0,33,11,33,11,11,11,11,{"$f":"IF(NFI_Expiration=1,IF($A202<VLOOKUP(H$5,NFI,5,0),1,0)*Table_NFI[[#This Row],[Hygiene Kit]],Table_NFI[Hygiene Kit])","v":0},{"$f":"IF(NFI_Expiration=1,IF($A202<VLOOKUP(I$5,NFI,5,0),1,0)*Table_NFI[[#This Row],[NFI Core Kit]],Table_NFI[NFI Core Kit])","v":0},{"$f":"IF(NFI_Expiration=1,IF($A202<VLOOKUP(J$5,NFI,5,0),1,0)*Table_NFI[[#This Row],[Sanitary Kit]],Table_NFI[Sanitary Kit])","v":0},{"$f":"IF(NFI_Expiration=1,IF($A202<VLOOKUP(K$5,NFI,5,0),1,0)*Table_NFI[[#This Row],[Mosquito net]],Table_NFI[Mosquito net])","v":0},{"$f":"IF(NFI_Expiration=1,IF($A202<VLOOKUP(L$5,NFI,5,0),1,0)*Table_NFI[[#This Row],[Tarpaulin]],Table_NFI[[#This Row],[Tarpaulin]])","v":0},{"$f":"IF(NFI_Expiration=1,IF($A202<VLOOKUP(M$5,NFI,5,0),1,0)*Table_NFI[[#This Row],[Blanket]],Table_NFI[[#This Row],[Blanket]])","v":0},{"$f":"IF(NFI_Expiration=1,IF($A202<VLOOKUP(N$5,NFI,5,0),1,0)*Table_NFI[[#This Row],[Kitchen Set]],Table_NFI[Kitchen Set])","v":0},{"$f":"IF(NFI_Expiration=1,IF($A202<VLOOKUP(O$5,NFI,5,0),1,0)*Table_NFI[[#This Row],[Complementary Kit]],Table_NFI[Complementary Kit])","v":0},{"$f":"IF(NFI_Expiration=1,IF($A202<VLOOKUP(P$5,NFI,5,0),1,0)*Table_NFI[[#This Row],[Plastic Bucket]],Table_NFI[Plastic Bucket])","v":0},{"$f":"IF(NFI_Expiration=1,IF($A202<VLOOKUP(Q$5,NFI,5,0),1,0)*Table_NFI[[#This Row],[Plastic Mat]],Table_NFI[Plastic Mat])","v":0},{"$f":"IFERROR(VLOOKUP(Table_NFI[[#This Row],[Camp Name]],CL,2,0),\"\")","v":"MMR001CMP043"},{"$f":"IFERROR(VLOOKUP(Table_NFI[[#This Row],[Camp Name]],CL,3,0),\"\")","v":"Open"},{"$f":"IFERROR(Table_NFI[[#This Row],[Kitchen Set]]/VLOOKUP(Table_NFI[[#This Row],[Camp Name]],CL,4,0),\"\")","v":7.6388888888888895E-2}]
[15.333333333333334,"2012-09-28","UNHCR","Chipwe CM","Kachin","Chipwi","Lan Jaw ",null,null,0,33,11,33,11,11,11,11,{"$f":"IF(NFI_Expiration=1,IF($A203<VLOOKUP(H$5,NFI,5,0),1,0)*Table_NFI[[#This Row],[Hygiene Kit]],Table_NFI[Hygiene Kit])","v":0},{"$f":"IF(NFI_Expiration=1,IF($A203<VLOOKUP(I$5,NFI,5,0),1,0)*Table_NFI[[#This Row],[NFI Core Kit]],Table_NFI[NFI Core Kit])","v":0},{"$f":"IF(NFI_Expiration=1,IF($A203<VLOOKUP(J$5,NFI,5,0),1,0)*Table_NFI[[#This Row],[Sanitary Kit]],Table_NFI[Sanitary Kit])","v":0},{"$f":"IF(NFI_Expiration=1,IF($A203<VLOOKUP(K$5,NFI,5,0),1,0)*Table_NFI[[#This Row],[Mosquito net]],Table_NFI[Mosquito net])","v":0},{"$f":"IF(NFI_Expiration=1,IF($A203<VLOOKUP(L$5,NFI,5,0),1,0)*Table_NFI[[#This Row],[Tarpaulin]],Table_NFI[[#This Row],[Tarpaulin]])","v":0},{"$f":"IF(NFI_Expiration=1,IF($A203<VLOOKUP(M$5,NFI,5,0),1,0)*Table_NFI[[#This Row],[Blanket]],Table_NFI[[#This Row],[Blanket]])","v":0},{"$f":"IF(NFI_Expiration=1,IF($A203<VLOOKUP(N$5,NFI,5,0),1,0)*Table_NFI[[#This Row],[Kitchen Set]],Table_NFI[Kitchen Set])","v":0},{"$f":"IF(NFI_Expiration=1,IF($A203<VLOOKUP(O$5,NFI,5,0),1,0)*Table_NFI[[#This Row],[Complementary Kit]],Table_NFI[Complementary Kit])","v":0},{"$f":"IF(NFI_Expiration=1,IF($A203<VLOOKUP(P$5,NFI,5,0),1,0)*Table_NFI[[#This Row],[Plastic Bucket]],Table_NFI[Plastic Bucket])","v":0},{"$f":"IF(NFI_Expiration=1,IF($A203<VLOOKUP(Q$5,NFI,5,0),1,0)*Table_NFI[[#This Row],[Plastic Mat]],Table_NFI[Plastic Mat])","v":0},{"$f":"IFERROR(VLOOKUP(Table_NFI[[#This Row],[Camp Name]],CL,2,0),\"\")","v":"MMR001CMP045"},{"$f":"IFERROR(VLOOKUP(Table_NFI[[#This Row],[Camp Name]],CL,3,0),\"\")","v":"Open"},{"$f":"IFERROR(Table_NFI[[#This Row],[Kitchen Set]]/VLOOKUP(Table_NFI[[#This Row],[Camp Name]],CL,4,0),\"\")","v":""}]
[15.3,"2012-09-29","UNHCR","UNHCR","Kachin","Momauk","Loi Je Lisu Camp",null,null,0,151,59,151,59,59,59,59,{"$f":"IF(NFI_Expiration=1,IF($A204<VLOOKUP(H$5,NFI,5,0),1,0)*Table_NFI[[#This Row],[Hygiene Kit]],Table_NFI[Hygiene Kit])","v":0},{"$f":"IF(NFI_Expiration=1,IF($A204<VLOOKUP(I$5,NFI,5,0),1,0)*Table_NFI[[#This Row],[NFI Core Kit]],Table_NFI[NFI Core Kit])","v":0},{"$f":"IF(NFI_Expiration=1,IF($A204<VLOOKUP(J$5,NFI,5,0),1,0)*Table_NFI[[#This Row],[Sanitary Kit]],Table_NFI[Sanitary Kit])","v":0},{"$f":"IF(NFI_Expiration=1,IF($A204<VLOOKUP(K$5,NFI,5,0),1,0)*Table_NFI[[#This Row],[Mosquito net]],Table_NFI[Mosquito net])","v":0},{"$f":"IF(NFI_Expiration=1,IF($A204<VLOOKUP(L$5,NFI,5,0),1,0)*Table_NFI[[#This Row],[Tarpaulin]],Table_NFI[[#This Row],[Tarpaulin]])","v":0},{"$f":"IF(NFI_Expiration=1,IF($A204<VLOOKUP(M$5,NFI,5,0),1,0)*Table_NFI[[#This Row],[Blanket]],Table_NFI[[#This Row],[Blanket]])","v":0},{"$f":"IF(NFI_Expiration=1,IF($A204<VLOOKUP(N$5,NFI,5,0),1,0)*Table_NFI[[#This Row],[Kitchen Set]],Table_NFI[Kitchen Set])","v":0},{"$f":"IF(NFI_Expiration=1,IF($A204<VLOOKUP(O$5,NFI,5,0),1,0)*Table_NFI[[#This Row],[Complementary Kit]],Table_NFI[Complementary Kit])","v":0},{"$f":"IF(NFI_Expiration=1,IF($A204<VLOOKUP(P$5,NFI,5,0),1,0)*Table_NFI[[#This Row],[Plastic Bucket]],Table_NFI[Plastic Bucket])","v":0},{"$f":"IF(NFI_Expiration=1,IF($A204<VLOOKUP(Q$5,NFI,5,0),1,0)*Table_NFI[[#This Row],[Plastic Mat]],Table_NFI[Plastic Mat])","v":0},{"$f":"IFERROR(VLOOKUP(Table_NFI[[#This Row],[Camp Name]],CL,2,0),\"\")","v":"MMR001CMP070"},{"$f":"IFERROR(VLOOKUP(Table_NFI[[#This Row],[Camp Name]],CL,3,0),\"\")","v":"Open"},{"$f":"IFERROR(Table_NFI[[#This Row],[Kitchen Set]]/VLOOKUP(Table_NFI[[#This Row],[Camp Name]],CL,4,0),\"\")","v":0.41549295774647887}]
[15.3,"2012-09-29","UNHCR","Chipwe CM","Kachin","Chipwi","Lhaovao Baptist Church (LBC)",null,null,0,34,12,34,12,12,12,12,{"$f":"IF(NFI_Expiration=1,IF($A205<VLOOKUP(H$5,NFI,5,0),1,0)*Table_NFI[[#This Row],[Hygiene Kit]],Table_NFI[Hygiene Kit])","v":0},{"$f":"IF(NFI_Expiration=1,IF($A205<VLOOKUP(I$5,NFI,5,0),1,0)*Table_NFI[[#This Row],[NFI Core Kit]],Table_NFI[NFI Core Kit])","v":0},{"$f":"IF(NFI_Expiration=1,IF($A205<VLOOKUP(J$5,NFI,5,0),1,0)*Table_NFI[[#This Row],[Sanitary Kit]],Table_NFI[Sanitary Kit])","v":0},{"$f":"IF(NFI_Expiration=1,IF($A205<VLOOKUP(K$5,NFI,5,0),1,0)*Table_NFI[[#This Row],[Mosquito net]],Table_NFI[Mosquito net])","v":0},{"$f":"IF(NFI_Expiration=1,IF($A205<VLOOKUP(L$5,NFI,5,0),1,0)*Table_NFI[[#This Row],[Tarpaulin]],Table_NFI[[#This Row],[Tarpaulin]])","v":0},{"$f":"IF(NFI_Expiration=1,IF($A205<VLOOKUP(M$5,NFI,5,0),1,0)*Table_NFI[[#This Row],[Blanket]],Table_NFI[[#This Row],[Blanket]])","v":0},{"$f":"IF(NFI_Expiration=1,IF($A205<VLOOKUP(N$5,NFI,5,0),1,0)*Table_NFI[[#This Row],[Kitchen Set]],Table_NFI[Kitchen Set])","v":0},{"$f":"IF(NFI_Expiration=1,IF($A205<VLOOKUP(O$5,NFI,5,0),1,0)*Table_NFI[[#This Row],[Complementary Kit]],Table_NFI[Complementary Kit])","v":0},{"$f":"IF(NFI_Expiration=1,IF($A205<VLOOKUP(P$5,NFI,5,0),1,0)*Table_NFI[[#This Row],[Plastic Bucket]],Table_NFI[Plastic Bucket])","v":0},{"$f":"IF(NFI_Expiration=1,IF($A205<VLOOKUP(Q$5,NFI,5,0),1,0)*Table_NFI[[#This Row],[Plastic Mat]],Table_NFI[Plastic Mat])","v":0},{"$f":"IFERROR(VLOOKUP(Table_NFI[[#This Row],[Camp Name]],CL,2,0),\"\")","v":"MMR001CMP195"},{"$f":"IFERROR(VLOOKUP(Table_NFI[[#This Row],[Camp Name]],CL,3,0),\"\")","v":"Open"},{"$f":"IFERROR(Table_NFI[[#This Row],[Kitchen Set]]/VLOOKUP(Table_NFI[[#This Row],[Camp Name]],CL,4,0),\"\")","v":8.7591240875912413E-2}]
[15.266666666666667,"2012-09-30","UNHCR","Chipwe CM","Kachin","Chipwi","Women's Affairs Association Building",null,null,0,34,12,34,12,12,12,12,{"$f":"IF(NFI_Expiration=1,IF($A206<VLOOKUP(H$5,NFI,5,0),1,0)*Table_NFI[[#This Row],[Hygiene Kit]],Table_NFI[Hygiene Kit])","v":0},{"$f":"IF(NFI_Expiration=1,IF($A206<VLOOKUP(I$5,NFI,5,0),1,0)*Table_NFI[[#This Row],[NFI Core Kit]],Table_NFI[NFI Core Kit])","v":0},{"$f":"IF(NFI_Expiration=1,IF($A206<VLOOKUP(J$5,NFI,5,0),1,0)*Table_NFI[[#This Row],[Sanitary Kit]],Table_NFI[Sanitary Kit])","v":0},{"$f":"IF(NFI_Expiration=1,IF($A206<VLOOKUP(K$5,NFI,5,0),1,0)*Table_NFI[[#This Row],[Mosquito net]],Table_NFI[Mosquito net])","v":0},{"$f":"IF(NFI_Expiration=1,IF($A206<VLOOKUP(L$5,NFI,5,0),1,0)*Table_NFI[[#This Row],[Tarpaulin]],Table_NFI[[#This Row],[Tarpaulin]])","v":0},{"$f":"IF(NFI_Expiration=1,IF($A206<VLOOKUP(M$5,NFI,5,0),1,0)*Table_NFI[[#This Row],[Blanket]],Table_NFI[[#This Row],[Blanket]])","v":0},{"$f":"IF(NFI_Expiration=1,IF($A206<VLOOKUP(N$5,NFI,5,0),1,0)*Table_NFI[[#This Row],[Kitchen Set]],Table_NFI[Kitchen Set])","v":0},{"$f":"IF(NFI_Expiration=1,IF($A206<VLOOKUP(O$5,NFI,5,0),1,0)*Table_NFI[[#This Row],[Complementary Kit]],Table_NFI[Complementary Kit])","v":0},{"$f":"IF(NFI_Expiration=1,IF($A206<VLOOKUP(P$5,NFI,5,0),1,0)*Table_NFI[[#This Row],[Plastic Bucket]],Table_NFI[Plastic Bucket])","v":0},{"$f":"IF(NFI_Expiration=1,IF($A206<VLOOKUP(Q$5,NFI,5,0),1,0)*Table_NFI[[#This Row],[Plastic Mat]],Table_NFI[Plastic Mat])","v":0},{"$f":"IFERROR(VLOOKUP(Table_NFI[[#This Row],[Camp Name]],CL,2,0),\"\")","v":"MMR001CMP044"},{"$f":"IFERROR(VLOOKUP(Table_NFI[[#This Row],[Camp Name]],CL,3,0),\"\")","v":"Closed"},{"$f":"IFERROR(Table_NFI[[#This Row],[Kitchen Set]]/VLOOKUP(Table_NFI[[#This Row],[Camp Name]],CL,4,0),\"\")","v":""}]
[14.9,"2012-10-11","UNHCR","UNHCR","Kachin","Momauk","Seng Ja ",null,null,0,28,17,28,17,17,17,17,{"$f":"IF(NFI_Expiration=1,IF($A207<VLOOKUP(H$5,NFI,5,0),1,0)*Table_NFI[[#This Row],[Hygiene Kit]],Table_NFI[Hygiene Kit])","v":0},{"$f":"IF(NFI_Expiration=1,IF($A207<VLOOKUP(I$5,NFI,5,0),1,0)*Table_NFI[[#This Row],[NFI Core Kit]],Table_NFI[NFI Core Kit])","v":0},{"$f":"IF(NFI_Expiration=1,IF($A207<VLOOKUP(J$5,NFI,5,0),1,0)*Table_NFI[[#This Row],[Sanitary Kit]],Table_NFI[Sanitary Kit])","v":0},{"$f":"IF(NFI_Expiration=1,IF($A207<VLOOKUP(K$5,NFI,5,0),1,0)*Table_NFI[[#This Row],[Mosquito net]],Table_NFI[Mosquito net])","v":0},{"$f":"IF(NFI_Expiration=1,IF($A207<VLOOKUP(L$5,NFI,5,0),1,0)*Table_NFI[[#This Row],[Tarpaulin]],Table_NFI[[#This Row],[Tarpaulin]])","v":0},{"$f":"IF(NFI_Expiration=1,IF($A207<VLOOKUP(M$5,NFI,5,0),1,0)*Table_NFI[[#This Row],[Blanket]],Table_NFI[[#This Row],[Blanket]])","v":0},{"$f":"IF(NFI_Expiration=1,IF($A207<VLOOKUP(N$5,NFI,5,0),1,0)*Table_NFI[[#This Row],[Kitchen Set]],Table_NFI[Kitchen Set])","v":0},{"$f":"IF(NFI_Expiration=1,IF($A207<VLOOKUP(O$5,NFI,5,0),1,0)*Table_NFI[[#This Row],[Complementary Kit]],Table_NFI[Complementary Kit])","v":0},{"$f":"IF(NFI_Expiration=1,IF($A207<VLOOKUP(P$5,NFI,5,0),1,0)*Table_NFI[[#This Row],[Plastic Bucket]],Table_NFI[Plastic Bucket])","v":0},{"$f":"IF(NFI_Expiration=1,IF($A207<VLOOKUP(Q$5,NFI,5,0),1,0)*Table_NFI[[#This Row],[Plastic Mat]],Table_NFI[Plastic Mat])","v":0},{"$f":"IFERROR(VLOOKUP(Table_NFI[[#This Row],[Camp Name]],CL,2,0),\"\")","v":"MMR001CMP073"},{"$f":"IFERROR(VLOOKUP(Table_NFI[[#This Row],[Camp Name]],CL,3,0),\"\")","v":"Open"},{"$f":"IFERROR(Table_NFI[[#This Row],[Kitchen Set]]/VLOOKUP(Table_NFI[[#This Row],[Camp Name]],CL,4,0),\"\")","v":0.48571428571428571}]
[14.066666666666666,"2012-11-05","UNHCR","UNHCR","Kachin","Hpakant","Hlaing Naung Baptist",null,null,0,70,40,70,40,40,40,40,{"$f":"IF(NFI_Expiration=1,IF($A208<VLOOKUP(H$5,NFI,5,0),1,0)*Table_NFI[[#This Row],[Hygiene Kit]],Table_NFI[Hygiene Kit])","v":0},{"$f":"IF(NFI_Expiration=1,IF($A208<VLOOKUP(I$5,NFI,5,0),1,0)*Table_NFI[[#This Row],[NFI Core Kit]],Table_NFI[NFI Core Kit])","v":0},{"$f":"IF(NFI_Expiration=1,IF($A208<VLOOKUP(J$5,NFI,5,0),1,0)*Table_NFI[[#This Row],[Sanitary Kit]],Table_NFI[Sanitary Kit])","v":0},{"$f":"IF(NFI_Expiration=1,IF($A208<VLOOKUP(K$5,NFI,5,0),1,0)*Table_NFI[[#This Row],[Mosquito net]],Table_NFI[Mosquito net])","v":0},{"$f":"IF(NFI_Expiration=1,IF($A208<VLOOKUP(L$5,NFI,5,0),1,0)*Table_NFI[[#This Row],[Tarpaulin]],Table_NFI[[#This Row],[Tarpaulin]])","v":0},{"$f":"IF(NFI_Expiration=1,IF($A208<VLOOKUP(M$5,NFI,5,0),1,0)*Table_NFI[[#This Row],[Blanket]],Table_NFI[[#This Row],[Blanket]])","v":0},{"$f":"IF(NFI_Expiration=1,IF($A208<VLOOKUP(N$5,NFI,5,0),1,0)*Table_NFI[[#This Row],[Kitchen Set]],Table_NFI[Kitchen Set])","v":0},{"$f":"IF(NFI_Expiration=1,IF($A208<VLOOKUP(O$5,NFI,5,0),1,0)*Table_NFI[[#This Row],[Complementary Kit]],Table_NFI[Complementary Kit])","v":0},{"$f":"IF(NFI_Expiration=1,IF($A208<VLOOKUP(P$5,NFI,5,0),1,0)*Table_NFI[[#This Row],[Plastic Bucket]],Table_NFI[Plastic Bucket])","v":0},{"$f":"IF(NFI_Expiration=1,IF($A208<VLOOKUP(Q$5,NFI,5,0),1,0)*Table_NFI[[#This Row],[Plastic Mat]],Table_NFI[Plastic Mat])","v":0},{"$f":"IFERROR(VLOOKUP(Table_NFI[[#This Row],[Camp Name]],CL,2,0),\"\")","v":"MMR001CMP148"},{"$f":"IFERROR(VLOOKUP(Table_NFI[[#This Row],[Camp Name]],CL,3,0),\"\")","v":"Open"},{"$f":"IFERROR(Table_NFI[[#This Row],[Kitchen Set]]/VLOOKUP(Table_NFI[[#This Row],[Camp Name]],CL,4,0),\"\")","v":1.7391304347826086}]
[13.9,"2012-11-10","UNHCR","UNHCR","Kachin","Hpakant","Hlaing Naung Baptist",null,null,0,12,0,12,0,0,null,null,{"$f":"IF(NFI_Expiration=1,IF($A209<VLOOKUP(H$5,NFI,5,0),1,0)*Table_NFI[[#This Row],[Hygiene Kit]],Table_NFI[Hygiene Kit])","v":0},{"$f":"IF(NFI_Expiration=1,IF($A209<VLOOKUP(I$5,NFI,5,0),1,0)*Table_NFI[[#This Row],[NFI Core Kit]],Table_NFI[NFI Core Kit])","v":0},{"$f":"IF(NFI_Expiration=1,IF($A209<VLOOKUP(J$5,NFI,5,0),1,0)*Table_NFI[[#This Row],[Sanitary Kit]],Table_NFI[Sanitary Kit])","v":0},{"$f":"IF(NFI_Expiration=1,IF($A209<VLOOKUP(K$5,NFI,5,0),1,0)*Table_NFI[[#This Row],[Mosquito net]],Table_NFI[Mosquito net])","v":0},{"$f":"IF(NFI_Expiration=1,IF($A209<VLOOKUP(L$5,NFI,5,0),1,0)*Table_NFI[[#This Row],[Tarpaulin]],Table_NFI[[#This Row],[Tarpaulin]])","v":0},{"$f":"IF(NFI_Expiration=1,IF($A209<VLOOKUP(M$5,NFI,5,0),1,0)*Table_NFI[[#This Row],[Blanket]],Table_NFI[[#This Row],[Blanket]])","v":0},{"$f":"IF(NFI_Expiration=1,IF($A209<VLOOKUP(N$5,NFI,5,0),1,0)*Table_NFI[[#This Row],[Kitchen Set]],Table_NFI[Kitchen Set])","v":0},{"$f":"IF(NFI_Expiration=1,IF($A209<VLOOKUP(O$5,NFI,5,0),1,0)*Table_NFI[[#This Row],[Complementary Kit]],Table_NFI[Complementary Kit])","v":0},{"$f":"IF(NFI_Expiration=1,IF($A209<VLOOKUP(P$5,NFI,5,0),1,0)*Table_NFI[[#This Row],[Plastic Bucket]],Table_NFI[Plastic Bucket])","v":0},{"$f":"IF(NFI_Expiration=1,IF($A209<VLOOKUP(Q$5,NFI,5,0),1,0)*Table_NFI[[#This Row],[Plastic Mat]],Table_NFI[Plastic Mat])","v":0},{"$f":"IFERROR(VLOOKUP(Table_NFI[[#This Row],[Camp Name]],CL,2,0),\"\")","v":"MMR001CMP148"},{"$f":"IFERROR(VLOOKUP(Table_NFI[[#This Row],[Camp Name]],CL,3,0),\"\")","v":"Open"},{"$f":"IFERROR(Table_NFI[[#This Row],[Kitchen Set]]/VLOOKUP(Table_NFI[[#This Row],[Camp Name]],CL,4,0),\"\")","v":0}]
[13.833333333333334,"2012-11-12","UNHCR","UNHCR","Kachin","Waingmaw","Qtr. 2 Lhaovo Baptist Church",null,null,0,12,12,12,5,5,5,5,{"$f":"IF(NFI_Expiration=1,IF($A210<VLOOKUP(H$5,NFI,5,0),1,0)*Table_NFI[[#This Row],[Hygiene Kit]],Table_NFI[Hygiene Kit])","v":0},{"$f":"IF(NFI_Expiration=1,IF($A210<VLOOKUP(I$5,NFI,5,0),1,0)*Table_NFI[[#This Row],[NFI Core Kit]],Table_NFI[NFI Core Kit])","v":0},{"$f":"IF(NFI_Expiration=1,IF($A210<VLOOKUP(J$5,NFI,5,0),1,0)*Table_NFI[[#This Row],[Sanitary Kit]],Table_NFI[Sanitary Kit])","v":0},{"$f":"IF(NFI_Expiration=1,IF($A210<VLOOKUP(K$5,NFI,5,0),1,0)*Table_NFI[[#This Row],[Mosquito net]],Table_NFI[Mosquito net])","v":0},{"$f":"IF(NFI_Expiration=1,IF($A210<VLOOKUP(L$5,NFI,5,0),1,0)*Table_NFI[[#This Row],[Tarpaulin]],Table_NFI[[#This Row],[Tarpaulin]])","v":0},{"$f":"IF(NFI_Expiration=1,IF($A210<VLOOKUP(M$5,NFI,5,0),1,0)*Table_NFI[[#This Row],[Blanket]],Table_NFI[[#This Row],[Blanket]])","v":0},{"$f":"IF(NFI_Expiration=1,IF($A210<VLOOKUP(N$5,NFI,5,0),1,0)*Table_NFI[[#This Row],[Kitchen Set]],Table_NFI[Kitchen Set])","v":0},{"$f":"IF(NFI_Expiration=1,IF($A210<VLOOKUP(O$5,NFI,5,0),1,0)*Table_NFI[[#This Row],[Complementary Kit]],Table_NFI[Complementary Kit])","v":0},{"$f":"IF(NFI_Expiration=1,IF($A210<VLOOKUP(P$5,NFI,5,0),1,0)*Table_NFI[[#This Row],[Plastic Bucket]],Table_NFI[Plastic Bucket])","v":0},{"$f":"IF(NFI_Expiration=1,IF($A210<VLOOKUP(Q$5,NFI,5,0),1,0)*Table_NFI[[#This Row],[Plastic Mat]],Table_NFI[Plastic Mat])","v":0},{"$f":"IFERROR(VLOOKUP(Table_NFI[[#This Row],[Camp Name]],CL,2,0),\"\")","v":"MMR001CMP032"},{"$f":"IFERROR(VLOOKUP(Table_NFI[[#This Row],[Camp Name]],CL,3,0),\"\")","v":"Open"},{"$f":"IFERROR(Table_NFI[[#This Row],[Kitchen Set]]/VLOOKUP(Table_NFI[[#This Row],[Camp Name]],CL,4,0),\"\")","v":4.1666666666666664E-2}]
[12.966666666666667,"2012-12-08","Solidarities","Solidarities","Kachin","Waingmaw","Laiza Market 3 / Laiza Gat",1690,null,2245,null,null,null,null,null,0,0,{"$f":"IF(NFI_Expiration=1,IF($A211<VLOOKUP(H$5,NFI,5,0),1,0)*Table_NFI[[#This Row],[Hygiene Kit]],Table_NFI[Hygiene Kit])","v":0},{"$f":"IF(NFI_Expiration=1,IF($A211<VLOOKUP(I$5,NFI,5,0),1,0)*Table_NFI[[#This Row],[NFI Core Kit]],Table_NFI[NFI Core Kit])","v":0},{"$f":"IF(NFI_Expiration=1,IF($A211<VLOOKUP(J$5,NFI,5,0),1,0)*Table_NFI[[#This Row],[Sanitary Kit]],Table_NFI[Sanitary Kit])","v":0},{"$f":"IF(NFI_Expiration=1,IF($A211<VLOOKUP(K$5,NFI,5,0),1,0)*Table_NFI[[#This Row],[Mosquito net]],Table_NFI[Mosquito net])","v":0},{"$f":"IF(NFI_Expiration=1,IF($A211<VLOOKUP(L$5,NFI,5,0),1,0)*Table_NFI[[#This Row],[Tarpaulin]],Table_NFI[[#This Row],[Tarpaulin]])","v":0},{"$f":"IF(NFI_Expiration=1,IF($A211<VLOOKUP(M$5,NFI,5,0),1,0)*Table_NFI[[#This Row],[Blanket]],Table_NFI[[#This Row],[Blanket]])","v":0},{"$f":"IF(NFI_Expiration=1,IF($A211<VLOOKUP(N$5,NFI,5,0),1,0)*Table_NFI[[#This Row],[Kitchen Set]],Table_NFI[Kitchen Set])","v":0},{"$f":"IF(NFI_Expiration=1,IF($A211<VLOOKUP(O$5,NFI,5,0),1,0)*Table_NFI[[#This Row],[Complementary Kit]],Table_NFI[Complementary Kit])","v":0},{"$f":"IF(NFI_Expiration=1,IF($A211<VLOOKUP(P$5,NFI,5,0),1,0)*Table_NFI[[#This Row],[Plastic Bucket]],Table_NFI[Plastic Bucket])","v":0},{"$f":"IF(NFI_Expiration=1,IF($A211<VLOOKUP(Q$5,NFI,5,0),1,0)*Table_NFI[[#This Row],[Plastic Mat]],Table_NFI[Plastic Mat])","v":0},{"$f":"IFERROR(VLOOKUP(Table_NFI[[#This Row],[Camp Name]],CL,2,0),\"\")","v":"MMR001CMP117"},{"$f":"IFERROR(VLOOKUP(Table_NFI[[#This Row],[Camp Name]],CL,3,0),\"\")","v":"Open"},{"$f":"IFERROR(Table_NFI[[#This Row],[Kitchen Set]]/VLOOKUP(Table_NFI[[#This Row],[Camp Name]],CL,4,0),\"\")","v":0}]
[12.9,"2012-12-10","Solidarities","Solidarities","Kachin","Waingmaw","Woi Chyai ",4285,null,4055,null,null,null,null,null,0,0,{"$f":"IF(NFI_Expiration=1,IF($A212<VLOOKUP(H$5,NFI,5,0),1,0)*Table_NFI[[#This Row],[Hygiene Kit]],Table_NFI[Hygiene Kit])","v":0},{"$f":"IF(NFI_Expiration=1,IF($A212<VLOOKUP(I$5,NFI,5,0),1,0)*Table_NFI[[#This Row],[NFI Core Kit]],Table_NFI[NFI Core Kit])","v":0},{"$f":"IF(NFI_Expiration=1,IF($A212<VLOOKUP(J$5,NFI,5,0),1,0)*Table_NFI[[#This Row],[Sanitary Kit]],Table_NFI[Sanitary Kit])","v":0},{"$f":"IF(NFI_Expiration=1,IF($A212<VLOOKUP(K$5,NFI,5,0),1,0)*Table_NFI[[#This Row],[Mosquito net]],Table_NFI[Mosquito net])","v":0},{"$f":"IF(NFI_Expiration=1,IF($A212<VLOOKUP(L$5,NFI,5,0),1,0)*Table_NFI[[#This Row],[Tarpaulin]],Table_NFI[[#This Row],[Tarpaulin]])","v":0},{"$f":"IF(NFI_Expiration=1,IF($A212<VLOOKUP(M$5,NFI,5,0),1,0)*Table_NFI[[#This Row],[Blanket]],Table_NFI[[#This Row],[Blanket]])","v":0},{"$f":"IF(NFI_Expiration=1,IF($A212<VLOOKUP(N$5,NFI,5,0),1,0)*Table_NFI[[#This Row],[Kitchen Set]],Table_NFI[Kitchen Set])","v":0},{"$f":"IF(NFI_Expiration=1,IF($A212<VLOOKUP(O$5,NFI,5,0),1,0)*Table_NFI[[#This Row],[Complementary Kit]],Table_NFI[Complementary Kit])","v":0},{"$f":"IF(NFI_Expiration=1,IF($A212<VLOOKUP(P$5,NFI,5,0),1,0)*Table_NFI[[#This Row],[Plastic Bucket]],Table_NFI[Plastic Bucket])","v":0},{"$f":"IF(NFI_Expiration=1,IF($A212<VLOOKUP(Q$5,NFI,5,0),1,0)*Table_NFI[[#This Row],[Plastic Mat]],Table_NFI[Plastic Mat])","v":0},{"$f":"IFERROR(VLOOKUP(Table_NFI[[#This Row],[Camp Name]],CL,2,0),\"\")","v":"MMR001CMP116"},{"$f":"IFERROR(VLOOKUP(Table_NFI[[#This Row],[Camp Name]],CL,3,0),\"\")","v":"Open"},{"$f":"IFERROR(Table_NFI[[#This Row],[Kitchen Set]]/VLOOKUP(Table_NFI[[#This Row],[Camp Name]],CL,4,0),\"\")","v":0}]
[12.866666666666667,"2012-12-11","Solidarities","Solidarities","Kachin","Momauk","Hpun Lum Yang ",1658,null,2085,null,null,null,null,null,0,0,{"$f":"IF(NFI_Expiration=1,IF($A213<VLOOKUP(H$5,NFI,5,0),1,0)*Table_NFI[[#This Row],[Hygiene Kit]],Table_NFI[Hygiene Kit])","v":0},{"$f":"IF(NFI_Expiration=1,IF($A213<VLOOKUP(I$5,NFI,5,0),1,0)*Table_NFI[[#This Row],[NFI Core Kit]],Table_NFI[NFI Core Kit])","v":0},{"$f":"IF(NFI_Expiration=1,IF($A213<VLOOKUP(J$5,NFI,5,0),1,0)*Table_NFI[[#This Row],[Sanitary Kit]],Table_NFI[Sanitary Kit])","v":0},{"$f":"IF(NFI_Expiration=1,IF($A213<VLOOKUP(K$5,NFI,5,0),1,0)*Table_NFI[[#This Row],[Mosquito net]],Table_NFI[Mosquito net])","v":0},{"$f":"IF(NFI_Expiration=1,IF($A213<VLOOKUP(L$5,NFI,5,0),1,0)*Table_NFI[[#This Row],[Tarpaulin]],Table_NFI[[#This Row],[Tarpaulin]])","v":0},{"$f":"IF(NFI_Expiration=1,IF($A213<VLOOKUP(M$5,NFI,5,0),1,0)*Table_NFI[[#This Row],[Blanket]],Table_NFI[[#This Row],[Blanket]])","v":0},{"$f":"IF(NFI_Expiration=1,IF($A213<VLOOKUP(N$5,NFI,5,0),1,0)*Table_NFI[[#This Row],[Kitchen Set]],Table_NFI[Kitchen Set])","v":0},{"$f":"IF(NFI_Expiration=1,IF($A213<VLOOKUP(O$5,NFI,5,0),1,0)*Table_NFI[[#This Row],[Complementary Kit]],Table_NFI[Complementary Kit])","v":0},{"$f":"IF(NFI_Expiration=1,IF($A213<VLOOKUP(P$5,NFI,5,0),1,0)*Table_NFI[[#This Row],[Plastic Bucket]],Table_NFI[Plastic Bucket])","v":0},{"$f":"IF(NFI_Expiration=1,IF($A213<VLOOKUP(Q$5,NFI,5,0),1,0)*Table_NFI[[#This Row],[Plastic Mat]],Table_NFI[Plastic Mat])","v":0},{"$f":"IFERROR(VLOOKUP(Table_NFI[[#This Row],[Camp Name]],CL,2,0),\"\")","v":"MMR001CMP122"},{"$f":"IFERROR(VLOOKUP(Table_NFI[[#This Row],[Camp Name]],CL,3,0),\"\")","v":"Open"},{"$f":"IFERROR(Table_NFI[[#This Row],[Kitchen Set]]/VLOOKUP(Table_NFI[[#This Row],[Camp Name]],CL,4,0),\"\")","v":0}]
[12.833333333333334,"2012-12-12","Solidarities","Solidarities","Kachin","Momauk","Je Yang Hka ",5228,null,6005,null,null,null,null,null,0,0,{"$f":"IF(NFI_Expiration=1,IF($A214<VLOOKUP(H$5,NFI,5,0),1,0)*Table_NFI[[#This Row],[Hygiene Kit]],Table_NFI[Hygiene Kit])","v":0},{"$f":"IF(NFI_Expiration=1,IF($A214<VLOOKUP(I$5,NFI,5,0),1,0)*Table_NFI[[#This Row],[NFI Core Kit]],Table_NFI[NFI Core Kit])","v":0},{"$f":"IF(NFI_Expiration=1,IF($A214<VLOOKUP(J$5,NFI,5,0),1,0)*Table_NFI[[#This Row],[Sanitary Kit]],Table_NFI[Sanitary Kit])","v":0},{"$f":"IF(NFI_Expiration=1,IF($A214<VLOOKUP(K$5,NFI,5,0),1,0)*Table_NFI[[#This Row],[Mosquito net]],Table_NFI[Mosquito net])","v":0},{"$f":"IF(NFI_Expiration=1,IF($A214<VLOOKUP(L$5,NFI,5,0),1,0)*Table_NFI[[#This Row],[Tarpaulin]],Table_NFI[[#This Row],[Tarpaulin]])","v":0},{"$f":"IF(NFI_Expiration=1,IF($A214<VLOOKUP(M$5,NFI,5,0),1,0)*Table_NFI[[#This Row],[Blanket]],Table_NFI[[#This Row],[Blanket]])","v":0},{"$f":"IF(NFI_Expiration=1,IF($A214<VLOOKUP(N$5,NFI,5,0),1,0)*Table_NFI[[#This Row],[Kitchen Set]],Table_NFI[Kitchen Set])","v":0},{"$f":"IF(NFI_Expiration=1,IF($A214<VLOOKUP(O$5,NFI,5,0),1,0)*Table_NFI[[#This Row],[Complementary Kit]],Table_NFI[Complementary Kit])","v":0},{"$f":"IF(NFI_Expiration=1,IF($A214<VLOOKUP(P$5,NFI,5,0),1,0)*Table_NFI[[#This Row],[Plastic Bucket]],Table_NFI[Plastic Bucket])","v":0},{"$f":"IF(NFI_Expiration=1,IF($A214<VLOOKUP(Q$5,NFI,5,0),1,0)*Table_NFI[[#This Row],[Plastic Mat]],Table_NFI[Plastic Mat])","v":0},{"$f":"IFERROR(VLOOKUP(Table_NFI[[#This Row],[Camp Name]],CL,2,0),\"\")","v":"MMR001CMP121"},{"$f":"IFERROR(VLOOKUP(Table_NFI[[#This Row],[Camp Name]],CL,3,0),\"\")","v":"Open"},{"$f":"IFERROR(Table_NFI[[#This Row],[Kitchen Set]]/VLOOKUP(Table_NFI[[#This Row],[Camp Name]],CL,4,0),\"\")","v":0}]
[12.8,"2012-12-13","UNHCR","UNHCR","Kachin","Myitkyina","Nan Kway St. John Catholic Church",null,null,0,16,7,16,7,7,7,7,{"$f":"IF(NFI_Expiration=1,IF($A215<VLOOKUP(H$5,NFI,5,0),1,0)*Table_NFI[[#This Row],[Hygiene Kit]],Table_NFI[Hygiene Kit])","v":0},{"$f":"IF(NFI_Expiration=1,IF($A215<VLOOKUP(I$5,NFI,5,0),1,0)*Table_NFI[[#This Row],[NFI Core Kit]],Table_NFI[NFI Core Kit])","v":0},{"$f":"IF(NFI_Expiration=1,IF($A215<VLOOKUP(J$5,NFI,5,0),1,0)*Table_NFI[[#This Row],[Sanitary Kit]],Table_NFI[Sanitary Kit])","v":0},{"$f":"IF(NFI_Expiration=1,IF($A215<VLOOKUP(K$5,NFI,5,0),1,0)*Table_NFI[[#This Row],[Mosquito net]],Table_NFI[Mosquito net])","v":0},{"$f":"IF(NFI_Expiration=1,IF($A215<VLOOKUP(L$5,NFI,5,0),1,0)*Table_NFI[[#This Row],[Tarpaulin]],Table_NFI[[#This Row],[Tarpaulin]])","v":0},{"$f":"IF(NFI_Expiration=1,IF($A215<VLOOKUP(M$5,NFI,5,0),1,0)*Table_NFI[[#This Row],[Blanket]],Table_NFI[[#This Row],[Blanket]])","v":0},{"$f":"IF(NFI_Expiration=1,IF($A215<VLOOKUP(N$5,NFI,5,0),1,0)*Table_NFI[[#This Row],[Kitchen Set]],Table_NFI[Kitchen Set])","v":0},{"$f":"IF(NFI_Expiration=1,IF($A215<VLOOKUP(O$5,NFI,5,0),1,0)*Table_NFI[[#This Row],[Complementary Kit]],Table_NFI[Complementary Kit])","v":0},{"$f":"IF(NFI_Expiration=1,IF($A215<VLOOKUP(P$5,NFI,5,0),1,0)*Table_NFI[[#This Row],[Plastic Bucket]],Table_NFI[Plastic Bucket])","v":0},{"$f":"IF(NFI_Expiration=1,IF($A215<VLOOKUP(Q$5,NFI,5,0),1,0)*Table_NFI[[#This Row],[Plastic Mat]],Table_NFI[Plastic Mat])","v":0},{"$f":"IFERROR(VLOOKUP(Table_NFI[[#This Row],[Camp Name]],CL,2,0),\"\")","v":"MMR001CMP024"},{"$f":"IFERROR(VLOOKUP(Table_NFI[[#This Row],[Camp Name]],CL,3,0),\"\")","v":"Open"},{"$f":"IFERROR(Table_NFI[[#This Row],[Kitchen Set]]/VLOOKUP(Table_NFI[[#This Row],[Camp Name]],CL,4,0),\"\")","v":9.7222222222222224E-2}]
[12.733333333333333,"2012-12-15","Solidarities","Solidarities","Kachin","Mansi","Bum Tsit Pa ",587,null,855,null,null,null,null,null,0,0,{"$f":"IF(NFI_Expiration=1,IF($A216<VLOOKUP(H$5,NFI,5,0),1,0)*Table_NFI[[#This Row],[Hygiene Kit]],Table_NFI[Hygiene Kit])","v":0},{"$f":"IF(NFI_Expiration=1,IF($A216<VLOOKUP(I$5,NFI,5,0),1,0)*Table_NFI[[#This Row],[NFI Core Kit]],Table_NFI[NFI Core Kit])","v":0},{"$f":"IF(NFI_Expiration=1,IF($A216<VLOOKUP(J$5,NFI,5,0),1,0)*Table_NFI[[#This Row],[Sanitary Kit]],Table_NFI[Sanitary Kit])","v":0},{"$f":"IF(NFI_Expiration=1,IF($A216<VLOOKUP(K$5,NFI,5,0),1,0)*Table_NFI[[#This Row],[Mosquito net]],Table_NFI[Mosquito net])","v":0},{"$f":"IF(NFI_Expiration=1,IF($A216<VLOOKUP(L$5,NFI,5,0),1,0)*Table_NFI[[#This Row],[Tarpaulin]],Table_NFI[[#This Row],[Tarpaulin]])","v":0},{"$f":"IF(NFI_Expiration=1,IF($A216<VLOOKUP(M$5,NFI,5,0),1,0)*Table_NFI[[#This Row],[Blanket]],Table_NFI[[#This Row],[Blanket]])","v":0},{"$f":"IF(NFI_Expiration=1,IF($A216<VLOOKUP(N$5,NFI,5,0),1,0)*Table_NFI[[#This Row],[Kitchen Set]],Table_NFI[Kitchen Set])","v":0},{"$f":"IF(NFI_Expiration=1,IF($A216<VLOOKUP(O$5,NFI,5,0),1,0)*Table_NFI[[#This Row],[Complementary Kit]],Table_NFI[Complementary Kit])","v":0},{"$f":"IF(NFI_Expiration=1,IF($A216<VLOOKUP(P$5,NFI,5,0),1,0)*Table_NFI[[#This Row],[Plastic Bucket]],Table_NFI[Plastic Bucket])","v":0},{"$f":"IF(NFI_Expiration=1,IF($A216<VLOOKUP(Q$5,NFI,5,0),1,0)*Table_NFI[[#This Row],[Plastic Mat]],Table_NFI[Plastic Mat])","v":0},{"$f":"IFERROR(VLOOKUP(Table_NFI[[#This Row],[Camp Name]],CL,2,0),\"\")","v":"MMR001CMP129"},{"$f":"IFERROR(VLOOKUP(Table_NFI[[#This Row],[Camp Name]],CL,3,0),\"\")","v":"Open"},{"$f":"IFERROR(Table_NFI[[#This Row],[Kitchen Set]]/VLOOKUP(Table_NFI[[#This Row],[Camp Name]],CL,4,0),\"\")","v":0}]
[12.633333333333333,"2012-12-18","UNHCR","UNHCR","Kachin","Myitkyina","Shwe Zet Baptist Church",null,null,0,30,20,30,20,20,20,20,{"$f":"IF(NFI_Expiration=1,IF($A217<VLOOKUP(H$5,NFI,5,0),1,0)*Table_NFI[[#This Row],[Hygiene Kit]],Table_NFI[Hygiene Kit])","v":0},{"$f":"IF(NFI_Expiration=1,IF($A217<VLOOKUP(I$5,NFI,5,0),1,0)*Table_NFI[[#This Row],[NFI Core Kit]],Table_NFI[NFI Core Kit])","v":0},{"$f":"IF(NFI_Expiration=1,IF($A217<VLOOKUP(J$5,NFI,5,0),1,0)*Table_NFI[[#This Row],[Sanitary Kit]],Table_NFI[Sanitary Kit])","v":0},{"$f":"IF(NFI_Expiration=1,IF($A217<VLOOKUP(K$5,NFI,5,0),1,0)*Table_NFI[[#This Row],[Mosquito net]],Table_NFI[Mosquito net])","v":0},{"$f":"IF(NFI_Expiration=1,IF($A217<VLOOKUP(L$5,NFI,5,0),1,0)*Table_NFI[[#This Row],[Tarpaulin]],Table_NFI[[#This Row],[Tarpaulin]])","v":0},{"$f":"IF(NFI_Expiration=1,IF($A217<VLOOKUP(M$5,NFI,5,0),1,0)*Table_NFI[[#This Row],[Blanket]],Table_NFI[[#This Row],[Blanket]])","v":0},{"$f":"IF(NFI_Expiration=1,IF($A217<VLOOKUP(N$5,NFI,5,0),1,0)*Table_NFI[[#This Row],[Kitchen Set]],Table_NFI[Kitchen Set])","v":0},{"$f":"IF(NFI_Expiration=1,IF($A217<VLOOKUP(O$5,NFI,5,0),1,0)*Table_NFI[[#This Row],[Complementary Kit]],Table_NFI[Complementary Kit])","v":0},{"$f":"IF(NFI_Expiration=1,IF($A217<VLOOKUP(P$5,NFI,5,0),1,0)*Table_NFI[[#This Row],[Plastic Bucket]],Table_NFI[Plastic Bucket])","v":0},{"$f":"IF(NFI_Expiration=1,IF($A217<VLOOKUP(Q$5,NFI,5,0),1,0)*Table_NFI[[#This Row],[Plastic Mat]],Table_NFI[Plastic Mat])","v":0},{"$f":"IFERROR(VLOOKUP(Table_NFI[[#This Row],[Camp Name]],CL,2,0),\"\")","v":"MMR001CMP009"},{"$f":"IFERROR(VLOOKUP(Table_NFI[[#This Row],[Camp Name]],CL,3,0),\"\")","v":"Open"},{"$f":"IFERROR(Table_NFI[[#This Row],[Kitchen Set]]/VLOOKUP(Table_NFI[[#This Row],[Camp Name]],CL,4,0),\"\")","v":0.23809523809523808}]
[12.6,"2012-12-19","UNHCR","UNHCR","Kachin","Myitkyina","Pa Dauk Myaing(Pa La Na)",null,null,0,37,10,37,10,10,10,10,{"$f":"IF(NFI_Expiration=1,IF($A218<VLOOKUP(H$5,NFI,5,0),1,0)*Table_NFI[[#This Row],[Hygiene Kit]],Table_NFI[Hygiene Kit])","v":0},{"$f":"IF(NFI_Expiration=1,IF($A218<VLOOKUP(I$5,NFI,5,0),1,0)*Table_NFI[[#This Row],[NFI Core Kit]],Table_NFI[NFI Core Kit])","v":0},{"$f":"IF(NFI_Expiration=1,IF($A218<VLOOKUP(J$5,NFI,5,0),1,0)*Table_NFI[[#This Row],[Sanitary Kit]],Table_NFI[Sanitary Kit])","v":0},{"$f":"IF(NFI_Expiration=1,IF($A218<VLOOKUP(K$5,NFI,5,0),1,0)*Table_NFI[[#This Row],[Mosquito net]],Table_NFI[Mosquito net])","v":0},{"$f":"IF(NFI_Expiration=1,IF($A218<VLOOKUP(L$5,NFI,5,0),1,0)*Table_NFI[[#This Row],[Tarpaulin]],Table_NFI[[#This Row],[Tarpaulin]])","v":0},{"$f":"IF(NFI_Expiration=1,IF($A218<VLOOKUP(M$5,NFI,5,0),1,0)*Table_NFI[[#This Row],[Blanket]],Table_NFI[[#This Row],[Blanket]])","v":0},{"$f":"IF(NFI_Expiration=1,IF($A218<VLOOKUP(N$5,NFI,5,0),1,0)*Table_NFI[[#This Row],[Kitchen Set]],Table_NFI[Kitchen Set])","v":0},{"$f":"IF(NFI_Expiration=1,IF($A218<VLOOKUP(O$5,NFI,5,0),1,0)*Table_NFI[[#This Row],[Complementary Kit]],Table_NFI[Complementary Kit])","v":0},{"$f":"IF(NFI_Expiration=1,IF($A218<VLOOKUP(P$5,NFI,5,0),1,0)*Table_NFI[[#This Row],[Plastic Bucket]],Table_NFI[Plastic Bucket])","v":0},{"$f":"IF(NFI_Expiration=1,IF($A218<VLOOKUP(Q$5,NFI,5,0),1,0)*Table_NFI[[#This Row],[Plastic Mat]],Table_NFI[Plastic Mat])","v":0},{"$f":"IFERROR(VLOOKUP(Table_NFI[[#This Row],[Camp Name]],CL,2,0),\"\")","v":"MMR001CMP162"},{"$f":"IFERROR(VLOOKUP(Table_NFI[[#This Row],[Camp Name]],CL,3,0),\"\")","v":"Open"},{"$f":"IFERROR(Table_NFI[[#This Row],[Kitchen Set]]/VLOOKUP(Table_NFI[[#This Row],[Camp Name]],CL,4,0),\"\")","v":0.32258064516129031}]
[12.566666666666666,"2012-12-20","UNHCR","UNHCR","Kachin","Myitkyina","Jan Mai Kawng Baptist Church",null,null,0,19,10,19,10,10,10,10,{"$f":"IF(NFI_Expiration=1,IF($A219<VLOOKUP(H$5,NFI,5,0),1,0)*Table_NFI[[#This Row],[Hygiene Kit]],Table_NFI[Hygiene Kit])","v":0},{"$f":"IF(NFI_Expiration=1,IF($A219<VLOOKUP(I$5,NFI,5,0),1,0)*Table_NFI[[#This Row],[NFI Core Kit]],Table_NFI[NFI Core Kit])","v":0},{"$f":"IF(NFI_Expiration=1,IF($A219<VLOOKUP(J$5,NFI,5,0),1,0)*Table_NFI[[#This Row],[Sanitary Kit]],Table_NFI[Sanitary Kit])","v":0},{"$f":"IF(NFI_Expiration=1,IF($A219<VLOOKUP(K$5,NFI,5,0),1,0)*Table_NFI[[#This Row],[Mosquito net]],Table_NFI[Mosquito net])","v":0},{"$f":"IF(NFI_Expiration=1,IF($A219<VLOOKUP(L$5,NFI,5,0),1,0)*Table_NFI[[#This Row],[Tarpaulin]],Table_NFI[[#This Row],[Tarpaulin]])","v":0},{"$f":"IF(NFI_Expiration=1,IF($A219<VLOOKUP(M$5,NFI,5,0),1,0)*Table_NFI[[#This Row],[Blanket]],Table_NFI[[#This Row],[Blanket]])","v":0},{"$f":"IF(NFI_Expiration=1,IF($A219<VLOOKUP(N$5,NFI,5,0),1,0)*Table_NFI[[#This Row],[Kitchen Set]],Table_NFI[Kitchen Set])","v":0},{"$f":"IF(NFI_Expiration=1,IF($A219<VLOOKUP(O$5,NFI,5,0),1,0)*Table_NFI[[#This Row],[Complementary Kit]],Table_NFI[Complementary Kit])","v":0},{"$f":"IF(NFI_Expiration=1,IF($A219<VLOOKUP(P$5,NFI,5,0),1,0)*Table_NFI[[#This Row],[Plastic Bucket]],Table_NFI[Plastic Bucket])","v":0},{"$f":"IF(NFI_Expiration=1,IF($A219<VLOOKUP(Q$5,NFI,5,0),1,0)*Table_NFI[[#This Row],[Plastic Mat]],Table_NFI[Plastic Mat])","v":0},{"$f":"IFERROR(VLOOKUP(Table_NFI[[#This Row],[Camp Name]],CL,2,0),\"\")","v":"MMR001CMP018"},{"$f":"IFERROR(VLOOKUP(Table_NFI[[#This Row],[Camp Name]],CL,3,0),\"\")","v":"Open"},{"$f":"IFERROR(Table_NFI[[#This Row],[Kitchen Set]]/VLOOKUP(Table_NFI[[#This Row],[Camp Name]],CL,4,0),\"\")","v":4.9261083743842367E-2}]
[12.566666666666666,"2012-12-20","UNHCR","KBC","Kachin","Hpakant","Hlaing Naung Baptist",null,null,0,12,0,12,0,0,null,null,{"$f":"IF(NFI_Expiration=1,IF($A220<VLOOKUP(H$5,NFI,5,0),1,0)*Table_NFI[[#This Row],[Hygiene Kit]],Table_NFI[Hygiene Kit])","v":0},{"$f":"IF(NFI_Expiration=1,IF($A220<VLOOKUP(I$5,NFI,5,0),1,0)*Table_NFI[[#This Row],[NFI Core Kit]],Table_NFI[NFI Core Kit])","v":0},{"$f":"IF(NFI_Expiration=1,IF($A220<VLOOKUP(J$5,NFI,5,0),1,0)*Table_NFI[[#This Row],[Sanitary Kit]],Table_NFI[Sanitary Kit])","v":0},{"$f":"IF(NFI_Expiration=1,IF($A220<VLOOKUP(K$5,NFI,5,0),1,0)*Table_NFI[[#This Row],[Mosquito net]],Table_NFI[Mosquito net])","v":0},{"$f":"IF(NFI_Expiration=1,IF($A220<VLOOKUP(L$5,NFI,5,0),1,0)*Table_NFI[[#This Row],[Tarpaulin]],Table_NFI[[#This Row],[Tarpaulin]])","v":0},{"$f":"IF(NFI_Expiration=1,IF($A220<VLOOKUP(M$5,NFI,5,0),1,0)*Table_NFI[[#This Row],[Blanket]],Table_NFI[[#This Row],[Blanket]])","v":0},{"$f":"IF(NFI_Expiration=1,IF($A220<VLOOKUP(N$5,NFI,5,0),1,0)*Table_NFI[[#This Row],[Kitchen Set]],Table_NFI[Kitchen Set])","v":0},{"$f":"IF(NFI_Expiration=1,IF($A220<VLOOKUP(O$5,NFI,5,0),1,0)*Table_NFI[[#This Row],[Complementary Kit]],Table_NFI[Complementary Kit])","v":0},{"$f":"IF(NFI_Expiration=1,IF($A220<VLOOKUP(P$5,NFI,5,0),1,0)*Table_NFI[[#This Row],[Plastic Bucket]],Table_NFI[Plastic Bucket])","v":0},{"$f":"IF(NFI_Expiration=1,IF($A220<VLOOKUP(Q$5,NFI,5,0),1,0)*Table_NFI[[#This Row],[Plastic Mat]],Table_NFI[Plastic Mat])","v":0},{"$f":"IFERROR(VLOOKUP(Table_NFI[[#This Row],[Camp Name]],CL,2,0),\"\")","v":"MMR001CMP148"},{"$f":"IFERROR(VLOOKUP(Table_NFI[[#This Row],[Camp Name]],CL,3,0),\"\")","v":"Open"},{"$f":"IFERROR(Table_NFI[[#This Row],[Kitchen Set]]/VLOOKUP(Table_NFI[[#This Row],[Camp Name]],CL,4,0),\"\")","v":0}]
[12.533333333333333,"2012-12-21","UNHCR","UNHCR","Kachin","Bhamo","Robert Church",null,null,0,0,0,73,0,0,null,null,{"$f":"IF(NFI_Expiration=1,IF($A221<VLOOKUP(H$5,NFI,5,0),1,0)*Table_NFI[[#This Row],[Hygiene Kit]],Table_NFI[Hygiene Kit])","v":0},{"$f":"IF(NFI_Expiration=1,IF($A221<VLOOKUP(I$5,NFI,5,0),1,0)*Table_NFI[[#This Row],[NFI Core Kit]],Table_NFI[NFI Core Kit])","v":0},{"$f":"IF(NFI_Expiration=1,IF($A221<VLOOKUP(J$5,NFI,5,0),1,0)*Table_NFI[[#This Row],[Sanitary Kit]],Table_NFI[Sanitary Kit])","v":0},{"$f":"IF(NFI_Expiration=1,IF($A221<VLOOKUP(K$5,NFI,5,0),1,0)*Table_NFI[[#This Row],[Mosquito net]],Table_NFI[Mosquito net])","v":0},{"$f":"IF(NFI_Expiration=1,IF($A221<VLOOKUP(L$5,NFI,5,0),1,0)*Table_NFI[[#This Row],[Tarpaulin]],Table_NFI[[#This Row],[Tarpaulin]])","v":0},{"$f":"IF(NFI_Expiration=1,IF($A221<VLOOKUP(M$5,NFI,5,0),1,0)*Table_NFI[[#This Row],[Blanket]],Table_NFI[[#This Row],[Blanket]])","v":0},{"$f":"IF(NFI_Expiration=1,IF($A221<VLOOKUP(N$5,NFI,5,0),1,0)*Table_NFI[[#This Row],[Kitchen Set]],Table_NFI[Kitchen Set])","v":0},{"$f":"IF(NFI_Expiration=1,IF($A221<VLOOKUP(O$5,NFI,5,0),1,0)*Table_NFI[[#This Row],[Complementary Kit]],Table_NFI[Complementary Kit])","v":0},{"$f":"IF(NFI_Expiration=1,IF($A221<VLOOKUP(P$5,NFI,5,0),1,0)*Table_NFI[[#This Row],[Plastic Bucket]],Table_NFI[Plastic Bucket])","v":0},{"$f":"IF(NFI_Expiration=1,IF($A221<VLOOKUP(Q$5,NFI,5,0),1,0)*Table_NFI[[#This Row],[Plastic Mat]],Table_NFI[Plastic Mat])","v":0},{"$f":"IFERROR(VLOOKUP(Table_NFI[[#This Row],[Camp Name]],CL,2,0),\"\")","v":"MMR001CMP047"},{"$f":"IFERROR(VLOOKUP(Table_NFI[[#This Row],[Camp Name]],CL,3,0),\"\")","v":"Open"},{"$f":"IFERROR(Table_NFI[[#This Row],[Kitchen Set]]/VLOOKUP(Table_NFI[[#This Row],[Camp Name]],CL,4,0),\"\")","v":0}]
[12.533333333333333,"2012-12-21","UNHCR","UNHCR","Kachin","Bhamo","Robert Church",null,null,0,24,12,24,12,12,12,12,{"$f":"IF(NFI_Expiration=1,IF($A222<VLOOKUP(H$5,NFI,5,0),1,0)*Table_NFI[[#This Row],[Hygiene Kit]],Table_NFI[Hygiene Kit])","v":0},{"$f":"IF(NFI_Expiration=1,IF($A222<VLOOKUP(I$5,NFI,5,0),1,0)*Table_NFI[[#This Row],[NFI Core Kit]],Table_NFI[NFI Core Kit])","v":0},{"$f":"IF(NFI_Expiration=1,IF($A222<VLOOKUP(J$5,NFI,5,0),1,0)*Table_NFI[[#This Row],[Sanitary Kit]],Table_NFI[Sanitary Kit])","v":0},{"$f":"IF(NFI_Expiration=1,IF($A222<VLOOKUP(K$5,NFI,5,0),1,0)*Table_NFI[[#This Row],[Mosquito net]],Table_NFI[Mosquito net])","v":0},{"$f":"IF(NFI_Expiration=1,IF($A222<VLOOKUP(L$5,NFI,5,0),1,0)*Table_NFI[[#This Row],[Tarpaulin]],Table_NFI[[#This Row],[Tarpaulin]])","v":0},{"$f":"IF(NFI_Expiration=1,IF($A222<VLOOKUP(M$5,NFI,5,0),1,0)*Table_NFI[[#This Row],[Blanket]],Table_NFI[[#This Row],[Blanket]])","v":0},{"$f":"IF(NFI_Expiration=1,IF($A222<VLOOKUP(N$5,NFI,5,0),1,0)*Table_NFI[[#This Row],[Kitchen Set]],Table_NFI[Kitchen Set])","v":0},{"$f":"IF(NFI_Expiration=1,IF($A222<VLOOKUP(O$5,NFI,5,0),1,0)*Table_NFI[[#This Row],[Complementary Kit]],Table_NFI[Complementary Kit])","v":0},{"$f":"IF(NFI_Expiration=1,IF($A222<VLOOKUP(P$5,NFI,5,0),1,0)*Table_NFI[[#This Row],[Plastic Bucket]],Table_NFI[Plastic Bucket])","v":0},{"$f":"IF(NFI_Expiration=1,IF($A222<VLOOKUP(Q$5,NFI,5,0),1,0)*Table_NFI[[#This Row],[Plastic Mat]],Table_NFI[Plastic Mat])","v":0},{"$f":"IFERROR(VLOOKUP(Table_NFI[[#This Row],[Camp Name]],CL,2,0),\"\")","v":"MMR001CMP047"},{"$f":"IFERROR(VLOOKUP(Table_NFI[[#This Row],[Camp Name]],CL,3,0),\"\")","v":"Open"},{"$f":"IFERROR(Table_NFI[[#This Row],[Kitchen Set]]/VLOOKUP(Table_NFI[[#This Row],[Camp Name]],CL,4,0),\"\")","v":2.1505376344086023E-2}]
[12.533333333333333,"2012-12-21","UNHCR","UNHCR","Kachin","Bhamo","Lisu Boarding-House",null,null,0,0,12,0,12,12,12,12,{"$f":"IF(NFI_Expiration=1,IF($A223<VLOOKUP(H$5,NFI,5,0),1,0)*Table_NFI[[#This Row],[Hygiene Kit]],Table_NFI[Hygiene Kit])","v":0},{"$f":"IF(NFI_Expiration=1,IF($A223<VLOOKUP(I$5,NFI,5,0),1,0)*Table_NFI[[#This Row],[NFI Core Kit]],Table_NFI[NFI Core Kit])","v":0},{"$f":"IF(NFI_Expiration=1,IF($A223<VLOOKUP(J$5,NFI,5,0),1,0)*Table_NFI[[#This Row],[Sanitary Kit]],Table_NFI[Sanitary Kit])","v":0},{"$f":"IF(NFI_Expiration=1,IF($A223<VLOOKUP(K$5,NFI,5,0),1,0)*Table_NFI[[#This Row],[Mosquito net]],Table_NFI[Mosquito net])","v":0},{"$f":"IF(NFI_Expiration=1,IF($A223<VLOOKUP(L$5,NFI,5,0),1,0)*Table_NFI[[#This Row],[Tarpaulin]],Table_NFI[[#This Row],[Tarpaulin]])","v":0},{"$f":"IF(NFI_Expiration=1,IF($A223<VLOOKUP(M$5,NFI,5,0),1,0)*Table_NFI[[#This Row],[Blanket]],Table_NFI[[#This Row],[Blanket]])","v":0},{"$f":"IF(NFI_Expiration=1,IF($A223<VLOOKUP(N$5,NFI,5,0),1,0)*Table_NFI[[#This Row],[Kitchen Set]],Table_NFI[Kitchen Set])","v":0},{"$f":"IF(NFI_Expiration=1,IF($A223<VLOOKUP(O$5,NFI,5,0),1,0)*Table_NFI[[#This Row],[Complementary Kit]],Table_NFI[Complementary Kit])","v":0},{"$f":"IF(NFI_Expiration=1,IF($A223<VLOOKUP(P$5,NFI,5,0),1,0)*Table_NFI[[#This Row],[Plastic Bucket]],Table_NFI[Plastic Bucket])","v":0},{"$f":"IF(NFI_Expiration=1,IF($A223<VLOOKUP(Q$5,NFI,5,0),1,0)*Table_NFI[[#This Row],[Plastic Mat]],Table_NFI[Plastic Mat])","v":0},{"$f":"IFERROR(VLOOKUP(Table_NFI[[#This Row],[Camp Name]],CL,2,0),\"\")","v":"MMR001CMP049"},{"$f":"IFERROR(VLOOKUP(Table_NFI[[#This Row],[Camp Name]],CL,3,0),\"\")","v":"Open"},{"$f":"IFERROR(Table_NFI[[#This Row],[Kitchen Set]]/VLOOKUP(Table_NFI[[#This Row],[Camp Name]],CL,4,0),\"\")","v":0.17647058823529413}]
[12.533333333333333,"2012-12-21","UNHCR","UNHCR","Kachin","Bhamo","Yoe Kyi Monastery",null,null,0,0,3,0,3,3,3,3,{"$f":"IF(NFI_Expiration=1,IF($A224<VLOOKUP(H$5,NFI,5,0),1,0)*Table_NFI[[#This Row],[Hygiene Kit]],Table_NFI[Hygiene Kit])","v":0},{"$f":"IF(NFI_Expiration=1,IF($A224<VLOOKUP(I$5,NFI,5,0),1,0)*Table_NFI[[#This Row],[NFI Core Kit]],Table_NFI[NFI Core Kit])","v":0},{"$f":"IF(NFI_Expiration=1,IF($A224<VLOOKUP(J$5,NFI,5,0),1,0)*Table_NFI[[#This Row],[Sanitary Kit]],Table_NFI[Sanitary Kit])","v":0},{"$f":"IF(NFI_Expiration=1,IF($A224<VLOOKUP(K$5,NFI,5,0),1,0)*Table_NFI[[#This Row],[Mosquito net]],Table_NFI[Mosquito net])","v":0},{"$f":"IF(NFI_Expiration=1,IF($A224<VLOOKUP(L$5,NFI,5,0),1,0)*Table_NFI[[#This Row],[Tarpaulin]],Table_NFI[[#This Row],[Tarpaulin]])","v":0},{"$f":"IF(NFI_Expiration=1,IF($A224<VLOOKUP(M$5,NFI,5,0),1,0)*Table_NFI[[#This Row],[Blanket]],Table_NFI[[#This Row],[Blanket]])","v":0},{"$f":"IF(NFI_Expiration=1,IF($A224<VLOOKUP(N$5,NFI,5,0),1,0)*Table_NFI[[#This Row],[Kitchen Set]],Table_NFI[Kitchen Set])","v":0},{"$f":"IF(NFI_Expiration=1,IF($A224<VLOOKUP(O$5,NFI,5,0),1,0)*Table_NFI[[#This Row],[Complementary Kit]],Table_NFI[Complementary Kit])","v":0},{"$f":"IF(NFI_Expiration=1,IF($A224<VLOOKUP(P$5,NFI,5,0),1,0)*Table_NFI[[#This Row],[Plastic Bucket]],Table_NFI[Plastic Bucket])","v":0},{"$f":"IF(NFI_Expiration=1,IF($A224<VLOOKUP(Q$5,NFI,5,0),1,0)*Table_NFI[[#This Row],[Plastic Mat]],Table_NFI[Plastic Mat])","v":0},{"$f":"IFERROR(VLOOKUP(Table_NFI[[#This Row],[Camp Name]],CL,2,0),\"\")","v":"MMR001CMP053"},{"$f":"IFERROR(VLOOKUP(Table_NFI[[#This Row],[Camp Name]],CL,3,0),\"\")","v":"Open"},{"$f":"IFERROR(Table_NFI[[#This Row],[Kitchen Set]]/VLOOKUP(Table_NFI[[#This Row],[Camp Name]],CL,4,0),\"\")","v":0.10344827586206896}]
[12.533333333333333,"2012-12-21","UNHCR","UNHCR","Kachin","Shwegu","Shwe Gu Baptist Church",null,null,0,0,0,83,0,0,null,null,{"$f":"IF(NFI_Expiration=1,IF($A225<VLOOKUP(H$5,NFI,5,0),1,0)*Table_NFI[[#This Row],[Hygiene Kit]],Table_NFI[Hygiene Kit])","v":0},{"$f":"IF(NFI_Expiration=1,IF($A225<VLOOKUP(I$5,NFI,5,0),1,0)*Table_NFI[[#This Row],[NFI Core Kit]],Table_NFI[NFI Core Kit])","v":0},{"$f":"IF(NFI_Expiration=1,IF($A225<VLOOKUP(J$5,NFI,5,0),1,0)*Table_NFI[[#This Row],[Sanitary Kit]],Table_NFI[Sanitary Kit])","v":0},{"$f":"IF(NFI_Expiration=1,IF($A225<VLOOKUP(K$5,NFI,5,0),1,0)*Table_NFI[[#This Row],[Mosquito net]],Table_NFI[Mosquito net])","v":0},{"$f":"IF(NFI_Expiration=1,IF($A225<VLOOKUP(L$5,NFI,5,0),1,0)*Table_NFI[[#This Row],[Tarpaulin]],Table_NFI[[#This Row],[Tarpaulin]])","v":0},{"$f":"IF(NFI_Expiration=1,IF($A225<VLOOKUP(M$5,NFI,5,0),1,0)*Table_NFI[[#This Row],[Blanket]],Table_NFI[[#This Row],[Blanket]])","v":0},{"$f":"IF(NFI_Expiration=1,IF($A225<VLOOKUP(N$5,NFI,5,0),1,0)*Table_NFI[[#This Row],[Kitchen Set]],Table_NFI[Kitchen Set])","v":0},{"$f":"IF(NFI_Expiration=1,IF($A225<VLOOKUP(O$5,NFI,5,0),1,0)*Table_NFI[[#This Row],[Complementary Kit]],Table_NFI[Complementary Kit])","v":0},{"$f":"IF(NFI_Expiration=1,IF($A225<VLOOKUP(P$5,NFI,5,0),1,0)*Table_NFI[[#This Row],[Plastic Bucket]],Table_NFI[Plastic Bucket])","v":0},{"$f":"IF(NFI_Expiration=1,IF($A225<VLOOKUP(Q$5,NFI,5,0),1,0)*Table_NFI[[#This Row],[Plastic Mat]],Table_NFI[Plastic Mat])","v":0},{"$f":"IFERROR(VLOOKUP(Table_NFI[[#This Row],[Camp Name]],CL,2,0),\"\")","v":"MMR001CMP067"},{"$f":"IFERROR(VLOOKUP(Table_NFI[[#This Row],[Camp Name]],CL,3,0),\"\")","v":"Open"},{"$f":"IFERROR(Table_NFI[[#This Row],[Kitchen Set]]/VLOOKUP(Table_NFI[[#This Row],[Camp Name]],CL,4,0),\"\")","v":0}]
[12.2,"2012-12-31","DRC","DRC","Kachin","Myitkyina","Tat Kone Emanuel Church",14,null,null,null,null,null,null,null,0,0,{"$f":"IF(NFI_Expiration=1,IF($A226<VLOOKUP(H$5,NFI,5,0),1,0)*Table_NFI[[#This Row],[Hygiene Kit]],Table_NFI[Hygiene Kit])","v":0},{"$f":"IF(NFI_Expiration=1,IF($A226<VLOOKUP(I$5,NFI,5,0),1,0)*Table_NFI[[#This Row],[NFI Core Kit]],Table_NFI[NFI Core Kit])","v":0},{"$f":"IF(NFI_Expiration=1,IF($A226<VLOOKUP(J$5,NFI,5,0),1,0)*Table_NFI[[#This Row],[Sanitary Kit]],Table_NFI[Sanitary Kit])","v":0},{"$f":"IF(NFI_Expiration=1,IF($A226<VLOOKUP(K$5,NFI,5,0),1,0)*Table_NFI[[#This Row],[Mosquito net]],Table_NFI[Mosquito net])","v":0},{"$f":"IF(NFI_Expiration=1,IF($A226<VLOOKUP(L$5,NFI,5,0),1,0)*Table_NFI[[#This Row],[Tarpaulin]],Table_NFI[[#This Row],[Tarpaulin]])","v":0},{"$f":"IF(NFI_Expiration=1,IF($A226<VLOOKUP(M$5,NFI,5,0),1,0)*Table_NFI[[#This Row],[Blanket]],Table_NFI[[#This Row],[Blanket]])","v":0},{"$f":"IF(NFI_Expiration=1,IF($A226<VLOOKUP(N$5,NFI,5,0),1,0)*Table_NFI[[#This Row],[Kitchen Set]],Table_NFI[Kitchen Set])","v":0},{"$f":"IF(NFI_Expiration=1,IF($A226<VLOOKUP(O$5,NFI,5,0),1,0)*Table_NFI[[#This Row],[Complementary Kit]],Table_NFI[Complementary Kit])","v":0},{"$f":"IF(NFI_Expiration=1,IF($A226<VLOOKUP(P$5,NFI,5,0),1,0)*Table_NFI[[#This Row],[Plastic Bucket]],Table_NFI[Plastic Bucket])","v":0},{"$f":"IF(NFI_Expiration=1,IF($A226<VLOOKUP(Q$5,NFI,5,0),1,0)*Table_NFI[[#This Row],[Plastic Mat]],Table_NFI[Plastic Mat])","v":0},{"$f":"IFERROR(VLOOKUP(Table_NFI[[#This Row],[Camp Name]],CL,2,0),\"\")","v":"MMR001CMP004"},{"$f":"IFERROR(VLOOKUP(Table_NFI[[#This Row],[Camp Name]],CL,3,0),\"\")","v":"Open"},{"$f":"IFERROR(Table_NFI[[#This Row],[Kitchen Set]]/VLOOKUP(Table_NFI[[#This Row],[Camp Name]],CL,4,0),\"\")","v":0}]
[12.2,"2012-12-31","DRC","DRC","Kachin","Myitkyina","Shatapru Thida Aye Baptist Church",17,null,null,null,null,null,null,null,0,0,{"$f":"IF(NFI_Expiration=1,IF($A227<VLOOKUP(H$5,NFI,5,0),1,0)*Table_NFI[[#This Row],[Hygiene Kit]],Table_NFI[Hygiene Kit])","v":0},{"$f":"IF(NFI_Expiration=1,IF($A227<VLOOKUP(I$5,NFI,5,0),1,0)*Table_NFI[[#This Row],[NFI Core Kit]],Table_NFI[NFI Core Kit])","v":0},{"$f":"IF(NFI_Expiration=1,IF($A227<VLOOKUP(J$5,NFI,5,0),1,0)*Table_NFI[[#This Row],[Sanitary Kit]],Table_NFI[Sanitary Kit])","v":0},{"$f":"IF(NFI_Expiration=1,IF($A227<VLOOKUP(K$5,NFI,5,0),1,0)*Table_NFI[[#This Row],[Mosquito net]],Table_NFI[Mosquito net])","v":0},{"$f":"IF(NFI_Expiration=1,IF($A227<VLOOKUP(L$5,NFI,5,0),1,0)*Table_NFI[[#This Row],[Tarpaulin]],Table_NFI[[#This Row],[Tarpaulin]])","v":0},{"$f":"IF(NFI_Expiration=1,IF($A227<VLOOKUP(M$5,NFI,5,0),1,0)*Table_NFI[[#This Row],[Blanket]],Table_NFI[[#This Row],[Blanket]])","v":0},{"$f":"IF(NFI_Expiration=1,IF($A227<VLOOKUP(N$5,NFI,5,0),1,0)*Table_NFI[[#This Row],[Kitchen Set]],Table_NFI[Kitchen Set])","v":0},{"$f":"IF(NFI_Expiration=1,IF($A227<VLOOKUP(O$5,NFI,5,0),1,0)*Table_NFI[[#This Row],[Complementary Kit]],Table_NFI[Complementary Kit])","v":0},{"$f":"IF(NFI_Expiration=1,IF($A227<VLOOKUP(P$5,NFI,5,0),1,0)*Table_NFI[[#This Row],[Plastic Bucket]],Table_NFI[Plastic Bucket])","v":0},{"$f":"IF(NFI_Expiration=1,IF($A227<VLOOKUP(Q$5,NFI,5,0),1,0)*Table_NFI[[#This Row],[Plastic Mat]],Table_NFI[Plastic Mat])","v":0},{"$f":"IFERROR(VLOOKUP(Table_NFI[[#This Row],[Camp Name]],CL,2,0),\"\")","v":"MMR001CMP007"},{"$f":"IFERROR(VLOOKUP(Table_NFI[[#This Row],[Camp Name]],CL,3,0),\"\")","v":"Open"},{"$f":"IFERROR(Table_NFI[[#This Row],[Kitchen Set]]/VLOOKUP(Table_NFI[[#This Row],[Camp Name]],CL,4,0),\"\")","v":0}]
[12.2,"2012-12-31","DRC","DRC","Kachin","Myitkyina","Myay Myint Baptist Church",12,null,null,null,null,null,null,null,0,0,{"$f":"IF(NFI_Expiration=1,IF($A228<VLOOKUP(H$5,NFI,5,0),1,0)*Table_NFI[[#This Row],[Hygiene Kit]],Table_NFI[Hygiene Kit])","v":0},{"$f":"IF(NFI_Expiration=1,IF($A228<VLOOKUP(I$5,NFI,5,0),1,0)*Table_NFI[[#This Row],[NFI Core Kit]],Table_NFI[NFI Core Kit])","v":0},{"$f":"IF(NFI_Expiration=1,IF($A228<VLOOKUP(J$5,NFI,5,0),1,0)*Table_NFI[[#This Row],[Sanitary Kit]],Table_NFI[Sanitary Kit])","v":0},{"$f":"IF(NFI_Expiration=1,IF($A228<VLOOKUP(K$5,NFI,5,0),1,0)*Table_NFI[[#This Row],[Mosquito net]],Table_NFI[Mosquito net])","v":0},{"$f":"IF(NFI_Expiration=1,IF($A228<VLOOKUP(L$5,NFI,5,0),1,0)*Table_NFI[[#This Row],[Tarpaulin]],Table_NFI[[#This Row],[Tarpaulin]])","v":0},{"$f":"IF(NFI_Expiration=1,IF($A228<VLOOKUP(M$5,NFI,5,0),1,0)*Table_NFI[[#This Row],[Blanket]],Table_NFI[[#This Row],[Blanket]])","v":0},{"$f":"IF(NFI_Expiration=1,IF($A228<VLOOKUP(N$5,NFI,5,0),1,0)*Table_NFI[[#This Row],[Kitchen Set]],Table_NFI[Kitchen Set])","v":0},{"$f":"IF(NFI_Expiration=1,IF($A228<VLOOKUP(O$5,NFI,5,0),1,0)*Table_NFI[[#This Row],[Complementary Kit]],Table_NFI[Complementary Kit])","v":0},{"$f":"IF(NFI_Expiration=1,IF($A228<VLOOKUP(P$5,NFI,5,0),1,0)*Table_NFI[[#This Row],[Plastic Bucket]],Table_NFI[Plastic Bucket])","v":0},{"$f":"IF(NFI_Expiration=1,IF($A228<VLOOKUP(Q$5,NFI,5,0),1,0)*Table_NFI[[#This Row],[Plastic Mat]],Table_NFI[Plastic Mat])","v":0},{"$f":"IFERROR(VLOOKUP(Table_NFI[[#This Row],[Camp Name]],CL,2,0),\"\")","v":"MMR001CMP017"},{"$f":"IFERROR(VLOOKUP(Table_NFI[[#This Row],[Camp Name]],CL,3,0),\"\")","v":"Open"},{"$f":"IFERROR(Table_NFI[[#This Row],[Kitchen Set]]/VLOOKUP(Table_NFI[[#This Row],[Camp Name]],CL,4,0),\"\")","v":0}]
[12.2,"2012-12-31","DRC","DRC","Kachin","Myitkyina","Maw Hpawng Hka Nan Baptist Church",14,null,null,null,null,null,null,null,0,0,{"$f":"IF(NFI_Expiration=1,IF($A229<VLOOKUP(H$5,NFI,5,0),1,0)*Table_NFI[[#This Row],[Hygiene Kit]],Table_NFI[Hygiene Kit])","v":0},{"$f":"IF(NFI_Expiration=1,IF($A229<VLOOKUP(I$5,NFI,5,0),1,0)*Table_NFI[[#This Row],[NFI Core Kit]],Table_NFI[NFI Core Kit])","v":0},{"$f":"IF(NFI_Expiration=1,IF($A229<VLOOKUP(J$5,NFI,5,0),1,0)*Table_NFI[[#This Row],[Sanitary Kit]],Table_NFI[Sanitary Kit])","v":0},{"$f":"IF(NFI_Expiration=1,IF($A229<VLOOKUP(K$5,NFI,5,0),1,0)*Table_NFI[[#This Row],[Mosquito net]],Table_NFI[Mosquito net])","v":0},{"$f":"IF(NFI_Expiration=1,IF($A229<VLOOKUP(L$5,NFI,5,0),1,0)*Table_NFI[[#This Row],[Tarpaulin]],Table_NFI[[#This Row],[Tarpaulin]])","v":0},{"$f":"IF(NFI_Expiration=1,IF($A229<VLOOKUP(M$5,NFI,5,0),1,0)*Table_NFI[[#This Row],[Blanket]],Table_NFI[[#This Row],[Blanket]])","v":0},{"$f":"IF(NFI_Expiration=1,IF($A229<VLOOKUP(N$5,NFI,5,0),1,0)*Table_NFI[[#This Row],[Kitchen Set]],Table_NFI[Kitchen Set])","v":0},{"$f":"IF(NFI_Expiration=1,IF($A229<VLOOKUP(O$5,NFI,5,0),1,0)*Table_NFI[[#This Row],[Complementary Kit]],Table_NFI[Complementary Kit])","v":0},{"$f":"IF(NFI_Expiration=1,IF($A229<VLOOKUP(P$5,NFI,5,0),1,0)*Table_NFI[[#This Row],[Plastic Bucket]],Table_NFI[Plastic Bucket])","v":0},{"$f":"IF(NFI_Expiration=1,IF($A229<VLOOKUP(Q$5,NFI,5,0),1,0)*Table_NFI[[#This Row],[Plastic Mat]],Table_NFI[Plastic Mat])","v":0},{"$f":"IFERROR(VLOOKUP(Table_NFI[[#This Row],[Camp Name]],CL,2,0),\"\")","v":"MMR001CMP020"},{"$f":"IFERROR(VLOOKUP(Table_NFI[[#This Row],[Camp Name]],CL,3,0),\"\")","v":"Open"},{"$f":"IFERROR(Table_NFI[[#This Row],[Kitchen Set]]/VLOOKUP(Table_NFI[[#This Row],[Camp Name]],CL,4,0),\"\")","v":0}]
[12.2,"2012-12-31","DRC","DRC","Kachin","Myitkyina","Maw Hpawng Lhaovo Baptist Church",23,null,null,null,null,null,null,null,0,0,{"$f":"IF(NFI_Expiration=1,IF($A230<VLOOKUP(H$5,NFI,5,0),1,0)*Table_NFI[[#This Row],[Hygiene Kit]],Table_NFI[Hygiene Kit])","v":0},{"$f":"IF(NFI_Expiration=1,IF($A230<VLOOKUP(I$5,NFI,5,0),1,0)*Table_NFI[[#This Row],[NFI Core Kit]],Table_NFI[NFI Core Kit])","v":0},{"$f":"IF(NFI_Expiration=1,IF($A230<VLOOKUP(J$5,NFI,5,0),1,0)*Table_NFI[[#This Row],[Sanitary Kit]],Table_NFI[Sanitary Kit])","v":0},{"$f":"IF(NFI_Expiration=1,IF($A230<VLOOKUP(K$5,NFI,5,0),1,0)*Table_NFI[[#This Row],[Mosquito net]],Table_NFI[Mosquito net])","v":0},{"$f":"IF(NFI_Expiration=1,IF($A230<VLOOKUP(L$5,NFI,5,0),1,0)*Table_NFI[[#This Row],[Tarpaulin]],Table_NFI[[#This Row],[Tarpaulin]])","v":0},{"$f":"IF(NFI_Expiration=1,IF($A230<VLOOKUP(M$5,NFI,5,0),1,0)*Table_NFI[[#This Row],[Blanket]],Table_NFI[[#This Row],[Blanket]])","v":0},{"$f":"IF(NFI_Expiration=1,IF($A230<VLOOKUP(N$5,NFI,5,0),1,0)*Table_NFI[[#This Row],[Kitchen Set]],Table_NFI[Kitchen Set])","v":0},{"$f":"IF(NFI_Expiration=1,IF($A230<VLOOKUP(O$5,NFI,5,0),1,0)*Table_NFI[[#This Row],[Complementary Kit]],Table_NFI[Complementary Kit])","v":0},{"$f":"IF(NFI_Expiration=1,IF($A230<VLOOKUP(P$5,NFI,5,0),1,0)*Table_NFI[[#This Row],[Plastic Bucket]],Table_NFI[Plastic Bucket])","v":0},{"$f":"IF(NFI_Expiration=1,IF($A230<VLOOKUP(Q$5,NFI,5,0),1,0)*Table_NFI[[#This Row],[Plastic Mat]],Table_NFI[Plastic Mat])","v":0},{"$f":"IFERROR(VLOOKUP(Table_NFI[[#This Row],[Camp Name]],CL,2,0),\"\")","v":"MMR001CMP021"},{"$f":"IFERROR(VLOOKUP(Table_NFI[[#This Row],[Camp Name]],CL,3,0),\"\")","v":"Open"},{"$f":"IFERROR(Table_NFI[[#This Row],[Kitchen Set]]/VLOOKUP(Table_NFI[[#This Row],[Camp Name]],CL,4,0),\"\")","v":0}]
[12.2,"2012-12-31","DRC","DRC","Kachin","Myitkyina","Wun Tho Buddhist Monastery",24,null,null,null,null,null,null,null,0,0,{"$f":"IF(NFI_Expiration=1,IF($A231<VLOOKUP(H$5,NFI,5,0),1,0)*Table_NFI[[#This Row],[Hygiene Kit]],Table_NFI[Hygiene Kit])","v":0},{"$f":"IF(NFI_Expiration=1,IF($A231<VLOOKUP(I$5,NFI,5,0),1,0)*Table_NFI[[#This Row],[NFI Core Kit]],Table_NFI[NFI Core Kit])","v":0},{"$f":"IF(NFI_Expiration=1,IF($A231<VLOOKUP(J$5,NFI,5,0),1,0)*Table_NFI[[#This Row],[Sanitary Kit]],Table_NFI[Sanitary Kit])","v":0},{"$f":"IF(NFI_Expiration=1,IF($A231<VLOOKUP(K$5,NFI,5,0),1,0)*Table_NFI[[#This Row],[Mosquito net]],Table_NFI[Mosquito net])","v":0},{"$f":"IF(NFI_Expiration=1,IF($A231<VLOOKUP(L$5,NFI,5,0),1,0)*Table_NFI[[#This Row],[Tarpaulin]],Table_NFI[[#This Row],[Tarpaulin]])","v":0},{"$f":"IF(NFI_Expiration=1,IF($A231<VLOOKUP(M$5,NFI,5,0),1,0)*Table_NFI[[#This Row],[Blanket]],Table_NFI[[#This Row],[Blanket]])","v":0},{"$f":"IF(NFI_Expiration=1,IF($A231<VLOOKUP(N$5,NFI,5,0),1,0)*Table_NFI[[#This Row],[Kitchen Set]],Table_NFI[Kitchen Set])","v":0},{"$f":"IF(NFI_Expiration=1,IF($A231<VLOOKUP(O$5,NFI,5,0),1,0)*Table_NFI[[#This Row],[Complementary Kit]],Table_NFI[Complementary Kit])","v":0},{"$f":"IF(NFI_Expiration=1,IF($A231<VLOOKUP(P$5,NFI,5,0),1,0)*Table_NFI[[#This Row],[Plastic Bucket]],Table_NFI[Plastic Bucket])","v":0},{"$f":"IF(NFI_Expiration=1,IF($A231<VLOOKUP(Q$5,NFI,5,0),1,0)*Table_NFI[[#This Row],[Plastic Mat]],Table_NFI[Plastic Mat])","v":0},{"$f":"IFERROR(VLOOKUP(Table_NFI[[#This Row],[Camp Name]],CL,2,0),\"\")","v":"MMR001CMP022"},{"$f":"IFERROR(VLOOKUP(Table_NFI[[#This Row],[Camp Name]],CL,3,0),\"\")","v":"Open"},{"$f":"IFERROR(Table_NFI[[#This Row],[Kitchen Set]]/VLOOKUP(Table_NFI[[#This Row],[Camp Name]],CL,4,0),\"\")","v":0}]
[12.2,"2012-12-31","DRC","DRC","Kachin","Myitkyina","Tat Kone COC Baptist / Tat Kone Htoi San",34,null,null,null,null,null,null,null,0,0,{"$f":"IF(NFI_Expiration=1,IF($A232<VLOOKUP(H$5,NFI,5,0),1,0)*Table_NFI[[#This Row],[Hygiene Kit]],Table_NFI[Hygiene Kit])","v":0},{"$f":"IF(NFI_Expiration=1,IF($A232<VLOOKUP(I$5,NFI,5,0),1,0)*Table_NFI[[#This Row],[NFI Core Kit]],Table_NFI[NFI Core Kit])","v":0},{"$f":"IF(NFI_Expiration=1,IF($A232<VLOOKUP(J$5,NFI,5,0),1,0)*Table_NFI[[#This Row],[Sanitary Kit]],Table_NFI[Sanitary Kit])","v":0},{"$f":"IF(NFI_Expiration=1,IF($A232<VLOOKUP(K$5,NFI,5,0),1,0)*Table_NFI[[#This Row],[Mosquito net]],Table_NFI[Mosquito net])","v":0},{"$f":"IF(NFI_Expiration=1,IF($A232<VLOOKUP(L$5,NFI,5,0),1,0)*Table_NFI[[#This Row],[Tarpaulin]],Table_NFI[[#This Row],[Tarpaulin]])","v":0},{"$f":"IF(NFI_Expiration=1,IF($A232<VLOOKUP(M$5,NFI,5,0),1,0)*Table_NFI[[#This Row],[Blanket]],Table_NFI[[#This Row],[Blanket]])","v":0},{"$f":"IF(NFI_Expiration=1,IF($A232<VLOOKUP(N$5,NFI,5,0),1,0)*Table_NFI[[#This Row],[Kitchen Set]],Table_NFI[Kitchen Set])","v":0},{"$f":"IF(NFI_Expiration=1,IF($A232<VLOOKUP(O$5,NFI,5,0),1,0)*Table_NFI[[#This Row],[Complementary Kit]],Table_NFI[Complementary Kit])","v":0},{"$f":"IF(NFI_Expiration=1,IF($A232<VLOOKUP(P$5,NFI,5,0),1,0)*Table_NFI[[#This Row],[Plastic Bucket]],Table_NFI[Plastic Bucket])","v":0},{"$f":"IF(NFI_Expiration=1,IF($A232<VLOOKUP(Q$5,NFI,5,0),1,0)*Table_NFI[[#This Row],[Plastic Mat]],Table_NFI[Plastic Mat])","v":0},{"$f":"IFERROR(VLOOKUP(Table_NFI[[#This Row],[Camp Name]],CL,2,0),\"\")","v":"MMR001CMP023"},{"$f":"IFERROR(VLOOKUP(Table_NFI[[#This Row],[Camp Name]],CL,3,0),\"\")","v":"Open"},{"$f":"IFERROR(Table_NFI[[#This Row],[Kitchen Set]]/VLOOKUP(Table_NFI[[#This Row],[Camp Name]],CL,4,0),\"\")","v":0}]
[12.2,"2012-12-31","DRC","DRC","Kachin","Waingmaw","Qtr. 4 Monestry (Thargaya Thayett Taw)",96,null,null,null,null,null,null,null,0,0,{"$f":"IF(NFI_Expiration=1,IF($A233<VLOOKUP(H$5,NFI,5,0),1,0)*Table_NFI[[#This Row],[Hygiene Kit]],Table_NFI[Hygiene Kit])","v":0},{"$f":"IF(NFI_Expiration=1,IF($A233<VLOOKUP(I$5,NFI,5,0),1,0)*Table_NFI[[#This Row],[NFI Core Kit]],Table_NFI[NFI Core Kit])","v":0},{"$f":"IF(NFI_Expiration=1,IF($A233<VLOOKUP(J$5,NFI,5,0),1,0)*Table_NFI[[#This Row],[Sanitary Kit]],Table_NFI[Sanitary Kit])","v":0},{"$f":"IF(NFI_Expiration=1,IF($A233<VLOOKUP(K$5,NFI,5,0),1,0)*Table_NFI[[#This Row],[Mosquito net]],Table_NFI[Mosquito net])","v":0},{"$f":"IF(NFI_Expiration=1,IF($A233<VLOOKUP(L$5,NFI,5,0),1,0)*Table_NFI[[#This Row],[Tarpaulin]],Table_NFI[[#This Row],[Tarpaulin]])","v":0},{"$f":"IF(NFI_Expiration=1,IF($A233<VLOOKUP(M$5,NFI,5,0),1,0)*Table_NFI[[#This Row],[Blanket]],Table_NFI[[#This Row],[Blanket]])","v":0},{"$f":"IF(NFI_Expiration=1,IF($A233<VLOOKUP(N$5,NFI,5,0),1,0)*Table_NFI[[#This Row],[Kitchen Set]],Table_NFI[Kitchen Set])","v":0},{"$f":"IF(NFI_Expiration=1,IF($A233<VLOOKUP(O$5,NFI,5,0),1,0)*Table_NFI[[#This Row],[Complementary Kit]],Table_NFI[Complementary Kit])","v":0},{"$f":"IF(NFI_Expiration=1,IF($A233<VLOOKUP(P$5,NFI,5,0),1,0)*Table_NFI[[#This Row],[Plastic Bucket]],Table_NFI[Plastic Bucket])","v":0},{"$f":"IF(NFI_Expiration=1,IF($A233<VLOOKUP(Q$5,NFI,5,0),1,0)*Table_NFI[[#This Row],[Plastic Mat]],Table_NFI[Plastic Mat])","v":0},{"$f":"IFERROR(VLOOKUP(Table_NFI[[#This Row],[Camp Name]],CL,2,0),\"\")","v":"MMR001CMP026"},{"$f":"IFERROR(VLOOKUP(Table_NFI[[#This Row],[Camp Name]],CL,3,0),\"\")","v":"Open"},{"$f":"IFERROR(Table_NFI[[#This Row],[Kitchen Set]]/VLOOKUP(Table_NFI[[#This Row],[Camp Name]],CL,4,0),\"\")","v":0}]
[12.2,"2012-12-31","DRC","DRC","Kachin","Waingmaw","Mading Baptist Church",23,null,null,null,null,null,null,null,0,0,{"$f":"IF(NFI_Expiration=1,IF($A234<VLOOKUP(H$5,NFI,5,0),1,0)*Table_NFI[[#This Row],[Hygiene Kit]],Table_NFI[Hygiene Kit])","v":0},{"$f":"IF(NFI_Expiration=1,IF($A234<VLOOKUP(I$5,NFI,5,0),1,0)*Table_NFI[[#This Row],[NFI Core Kit]],Table_NFI[NFI Core Kit])","v":0},{"$f":"IF(NFI_Expiration=1,IF($A234<VLOOKUP(J$5,NFI,5,0),1,0)*Table_NFI[[#This Row],[Sanitary Kit]],Table_NFI[Sanitary Kit])","v":0},{"$f":"IF(NFI_Expiration=1,IF($A234<VLOOKUP(K$5,NFI,5,0),1,0)*Table_NFI[[#This Row],[Mosquito net]],Table_NFI[Mosquito net])","v":0},{"$f":"IF(NFI_Expiration=1,IF($A234<VLOOKUP(L$5,NFI,5,0),1,0)*Table_NFI[[#This Row],[Tarpaulin]],Table_NFI[[#This Row],[Tarpaulin]])","v":0},{"$f":"IF(NFI_Expiration=1,IF($A234<VLOOKUP(M$5,NFI,5,0),1,0)*Table_NFI[[#This Row],[Blanket]],Table_NFI[[#This Row],[Blanket]])","v":0},{"$f":"IF(NFI_Expiration=1,IF($A234<VLOOKUP(N$5,NFI,5,0),1,0)*Table_NFI[[#This Row],[Kitchen Set]],Table_NFI[Kitchen Set])","v":0},{"$f":"IF(NFI_Expiration=1,IF($A234<VLOOKUP(O$5,NFI,5,0),1,0)*Table_NFI[[#This Row],[Complementary Kit]],Table_NFI[Complementary Kit])","v":0},{"$f":"IF(NFI_Expiration=1,IF($A234<VLOOKUP(P$5,NFI,5,0),1,0)*Table_NFI[[#This Row],[Plastic Bucket]],Table_NFI[Plastic Bucket])","v":0},{"$f":"IF(NFI_Expiration=1,IF($A234<VLOOKUP(Q$5,NFI,5,0),1,0)*Table_NFI[[#This Row],[Plastic Mat]],Table_NFI[Plastic Mat])","v":0},{"$f":"IFERROR(VLOOKUP(Table_NFI[[#This Row],[Camp Name]],CL,2,0),\"\")","v":"MMR001CMP027"},{"$f":"IFERROR(VLOOKUP(Table_NFI[[#This Row],[Camp Name]],CL,3,0),\"\")","v":"Open"},{"$f":"IFERROR(Table_NFI[[#This Row],[Kitchen Set]]/VLOOKUP(Table_NFI[[#This Row],[Camp Name]],CL,4,0),\"\")","v":0}]
[12.2,"2012-12-31","DRC","DRC","Kachin","Waingmaw","Hkat Cho ",136,null,null,null,null,null,null,null,0,0,{"$f":"IF(NFI_Expiration=1,IF($A235<VLOOKUP(H$5,NFI,5,0),1,0)*Table_NFI[[#This Row],[Hygiene Kit]],Table_NFI[Hygiene Kit])","v":0},{"$f":"IF(NFI_Expiration=1,IF($A235<VLOOKUP(I$5,NFI,5,0),1,0)*Table_NFI[[#This Row],[NFI Core Kit]],Table_NFI[NFI Core Kit])","v":0},{"$f":"IF(NFI_Expiration=1,IF($A235<VLOOKUP(J$5,NFI,5,0),1,0)*Table_NFI[[#This Row],[Sanitary Kit]],Table_NFI[Sanitary Kit])","v":0},{"$f":"IF(NFI_Expiration=1,IF($A235<VLOOKUP(K$5,NFI,5,0),1,0)*Table_NFI[[#This Row],[Mosquito net]],Table_NFI[Mosquito net])","v":0},{"$f":"IF(NFI_Expiration=1,IF($A235<VLOOKUP(L$5,NFI,5,0),1,0)*Table_NFI[[#This Row],[Tarpaulin]],Table_NFI[[#This Row],[Tarpaulin]])","v":0},{"$f":"IF(NFI_Expiration=1,IF($A235<VLOOKUP(M$5,NFI,5,0),1,0)*Table_NFI[[#This Row],[Blanket]],Table_NFI[[#This Row],[Blanket]])","v":0},{"$f":"IF(NFI_Expiration=1,IF($A235<VLOOKUP(N$5,NFI,5,0),1,0)*Table_NFI[[#This Row],[Kitchen Set]],Table_NFI[Kitchen Set])","v":0},{"$f":"IF(NFI_Expiration=1,IF($A235<VLOOKUP(O$5,NFI,5,0),1,0)*Table_NFI[[#This Row],[Complementary Kit]],Table_NFI[Complementary Kit])","v":0},{"$f":"IF(NFI_Expiration=1,IF($A235<VLOOKUP(P$5,NFI,5,0),1,0)*Table_NFI[[#This Row],[Plastic Bucket]],Table_NFI[Plastic Bucket])","v":0},{"$f":"IF(NFI_Expiration=1,IF($A235<VLOOKUP(Q$5,NFI,5,0),1,0)*Table_NFI[[#This Row],[Plastic Mat]],Table_NFI[Plastic Mat])","v":0},{"$f":"IFERROR(VLOOKUP(Table_NFI[[#This Row],[Camp Name]],CL,2,0),\"\")","v":"MMR001CMP028"},{"$f":"IFERROR(VLOOKUP(Table_NFI[[#This Row],[Camp Name]],CL,3,0),\"\")","v":"Open"},{"$f":"IFERROR(Table_NFI[[#This Row],[Kitchen Set]]/VLOOKUP(Table_NFI[[#This Row],[Camp Name]],CL,4,0),\"\")","v":0}]
[12.2,"2012-12-31","DRC","DRC","Kachin","Waingmaw","Qtr. 3 Mu-yin  Baptist Church",27,null,null,null,null,null,null,null,0,0,{"$f":"IF(NFI_Expiration=1,IF($A236<VLOOKUP(H$5,NFI,5,0),1,0)*Table_NFI[[#This Row],[Hygiene Kit]],Table_NFI[Hygiene Kit])","v":0},{"$f":"IF(NFI_Expiration=1,IF($A236<VLOOKUP(I$5,NFI,5,0),1,0)*Table_NFI[[#This Row],[NFI Core Kit]],Table_NFI[NFI Core Kit])","v":0},{"$f":"IF(NFI_Expiration=1,IF($A236<VLOOKUP(J$5,NFI,5,0),1,0)*Table_NFI[[#This Row],[Sanitary Kit]],Table_NFI[Sanitary Kit])","v":0},{"$f":"IF(NFI_Expiration=1,IF($A236<VLOOKUP(K$5,NFI,5,0),1,0)*Table_NFI[[#This Row],[Mosquito net]],Table_NFI[Mosquito net])","v":0},{"$f":"IF(NFI_Expiration=1,IF($A236<VLOOKUP(L$5,NFI,5,0),1,0)*Table_NFI[[#This Row],[Tarpaulin]],Table_NFI[[#This Row],[Tarpaulin]])","v":0},{"$f":"IF(NFI_Expiration=1,IF($A236<VLOOKUP(M$5,NFI,5,0),1,0)*Table_NFI[[#This Row],[Blanket]],Table_NFI[[#This Row],[Blanket]])","v":0},{"$f":"IF(NFI_Expiration=1,IF($A236<VLOOKUP(N$5,NFI,5,0),1,0)*Table_NFI[[#This Row],[Kitchen Set]],Table_NFI[Kitchen Set])","v":0},{"$f":"IF(NFI_Expiration=1,IF($A236<VLOOKUP(O$5,NFI,5,0),1,0)*Table_NFI[[#This Row],[Complementary Kit]],Table_NFI[Complementary Kit])","v":0},{"$f":"IF(NFI_Expiration=1,IF($A236<VLOOKUP(P$5,NFI,5,0),1,0)*Table_NFI[[#This Row],[Plastic Bucket]],Table_NFI[Plastic Bucket])","v":0},{"$f":"IF(NFI_Expiration=1,IF($A236<VLOOKUP(Q$5,NFI,5,0),1,0)*Table_NFI[[#This Row],[Plastic Mat]],Table_NFI[Plastic Mat])","v":0},{"$f":"IFERROR(VLOOKUP(Table_NFI[[#This Row],[Camp Name]],CL,2,0),\"\")","v":"MMR001CMP030"},{"$f":"IFERROR(VLOOKUP(Table_NFI[[#This Row],[Camp Name]],CL,3,0),\"\")","v":"Open"},{"$f":"IFERROR(Table_NFI[[#This Row],[Kitchen Set]]/VLOOKUP(Table_NFI[[#This Row],[Camp Name]],CL,4,0),\"\")","v":0}]
[12.2,"2012-12-31","DRC","DRC","Kachin","Waingmaw","Maina AG Church",79,null,null,null,null,null,null,null,0,0,{"$f":"IF(NFI_Expiration=1,IF($A237<VLOOKUP(H$5,NFI,5,0),1,0)*Table_NFI[[#This Row],[Hygiene Kit]],Table_NFI[Hygiene Kit])","v":0},{"$f":"IF(NFI_Expiration=1,IF($A237<VLOOKUP(I$5,NFI,5,0),1,0)*Table_NFI[[#This Row],[NFI Core Kit]],Table_NFI[NFI Core Kit])","v":0},{"$f":"IF(NFI_Expiration=1,IF($A237<VLOOKUP(J$5,NFI,5,0),1,0)*Table_NFI[[#This Row],[Sanitary Kit]],Table_NFI[Sanitary Kit])","v":0},{"$f":"IF(NFI_Expiration=1,IF($A237<VLOOKUP(K$5,NFI,5,0),1,0)*Table_NFI[[#This Row],[Mosquito net]],Table_NFI[Mosquito net])","v":0},{"$f":"IF(NFI_Expiration=1,IF($A237<VLOOKUP(L$5,NFI,5,0),1,0)*Table_NFI[[#This Row],[Tarpaulin]],Table_NFI[[#This Row],[Tarpaulin]])","v":0},{"$f":"IF(NFI_Expiration=1,IF($A237<VLOOKUP(M$5,NFI,5,0),1,0)*Table_NFI[[#This Row],[Blanket]],Table_NFI[[#This Row],[Blanket]])","v":0},{"$f":"IF(NFI_Expiration=1,IF($A237<VLOOKUP(N$5,NFI,5,0),1,0)*Table_NFI[[#This Row],[Kitchen Set]],Table_NFI[Kitchen Set])","v":0},{"$f":"IF(NFI_Expiration=1,IF($A237<VLOOKUP(O$5,NFI,5,0),1,0)*Table_NFI[[#This Row],[Complementary Kit]],Table_NFI[Complementary Kit])","v":0},{"$f":"IF(NFI_Expiration=1,IF($A237<VLOOKUP(P$5,NFI,5,0),1,0)*Table_NFI[[#This Row],[Plastic Bucket]],Table_NFI[Plastic Bucket])","v":0},{"$f":"IF(NFI_Expiration=1,IF($A237<VLOOKUP(Q$5,NFI,5,0),1,0)*Table_NFI[[#This Row],[Plastic Mat]],Table_NFI[Plastic Mat])","v":0},{"$f":"IFERROR(VLOOKUP(Table_NFI[[#This Row],[Camp Name]],CL,2,0),\"\")","v":"MMR001CMP031"},{"$f":"IFERROR(VLOOKUP(Table_NFI[[#This Row],[Camp Name]],CL,3,0),\"\")","v":"Open"},{"$f":"IFERROR(Table_NFI[[#This Row],[Kitchen Set]]/VLOOKUP(Table_NFI[[#This Row],[Camp Name]],CL,4,0),\"\")","v":0}]
[12.2,"2012-12-31","DRC","DRC","Kachin","Waingmaw","Qtr. 2 Lhaovo Baptist Church",92,null,null,null,null,null,null,null,0,0,{"$f":"IF(NFI_Expiration=1,IF($A238<VLOOKUP(H$5,NFI,5,0),1,0)*Table_NFI[[#This Row],[Hygiene Kit]],Table_NFI[Hygiene Kit])","v":0},{"$f":"IF(NFI_Expiration=1,IF($A238<VLOOKUP(I$5,NFI,5,0),1,0)*Table_NFI[[#This Row],[NFI Core Kit]],Table_NFI[NFI Core Kit])","v":0},{"$f":"IF(NFI_Expiration=1,IF($A238<VLOOKUP(J$5,NFI,5,0),1,0)*Table_NFI[[#This Row],[Sanitary Kit]],Table_NFI[Sanitary Kit])","v":0},{"$f":"IF(NFI_Expiration=1,IF($A238<VLOOKUP(K$5,NFI,5,0),1,0)*Table_NFI[[#This Row],[Mosquito net]],Table_NFI[Mosquito net])","v":0},{"$f":"IF(NFI_Expiration=1,IF($A238<VLOOKUP(L$5,NFI,5,0),1,0)*Table_NFI[[#This Row],[Tarpaulin]],Table_NFI[[#This Row],[Tarpaulin]])","v":0},{"$f":"IF(NFI_Expiration=1,IF($A238<VLOOKUP(M$5,NFI,5,0),1,0)*Table_NFI[[#This Row],[Blanket]],Table_NFI[[#This Row],[Blanket]])","v":0},{"$f":"IF(NFI_Expiration=1,IF($A238<VLOOKUP(N$5,NFI,5,0),1,0)*Table_NFI[[#This Row],[Kitchen Set]],Table_NFI[Kitchen Set])","v":0},{"$f":"IF(NFI_Expiration=1,IF($A238<VLOOKUP(O$5,NFI,5,0),1,0)*Table_NFI[[#This Row],[Complementary Kit]],Table_NFI[Complementary Kit])","v":0},{"$f":"IF(NFI_Expiration=1,IF($A238<VLOOKUP(P$5,NFI,5,0),1,0)*Table_NFI[[#This Row],[Plastic Bucket]],Table_NFI[Plastic Bucket])","v":0},{"$f":"IF(NFI_Expiration=1,IF($A238<VLOOKUP(Q$5,NFI,5,0),1,0)*Table_NFI[[#This Row],[Plastic Mat]],Table_NFI[Plastic Mat])","v":0},{"$f":"IFERROR(VLOOKUP(Table_NFI[[#This Row],[Camp Name]],CL,2,0),\"\")","v":"MMR001CMP032"},{"$f":"IFERROR(VLOOKUP(Table_NFI[[#This Row],[Camp Name]],CL,3,0),\"\")","v":"Open"},{"$f":"IFERROR(Table_NFI[[#This Row],[Kitchen Set]]/VLOOKUP(Table_NFI[[#This Row],[Camp Name]],CL,4,0),\"\")","v":0}]
[12.2,"2012-12-31","DRC","DRC","Kachin","Waingmaw","Thargaya Lisu Baptist Church",68,null,null,null,null,null,null,null,0,0,{"$f":"IF(NFI_Expiration=1,IF($A239<VLOOKUP(H$5,NFI,5,0),1,0)*Table_NFI[[#This Row],[Hygiene Kit]],Table_NFI[Hygiene Kit])","v":0},{"$f":"IF(NFI_Expiration=1,IF($A239<VLOOKUP(I$5,NFI,5,0),1,0)*Table_NFI[[#This Row],[NFI Core Kit]],Table_NFI[NFI Core Kit])","v":0},{"$f":"IF(NFI_Expiration=1,IF($A239<VLOOKUP(J$5,NFI,5,0),1,0)*Table_NFI[[#This Row],[Sanitary Kit]],Table_NFI[Sanitary Kit])","v":0},{"$f":"IF(NFI_Expiration=1,IF($A239<VLOOKUP(K$5,NFI,5,0),1,0)*Table_NFI[[#This Row],[Mosquito net]],Table_NFI[Mosquito net])","v":0},{"$f":"IF(NFI_Expiration=1,IF($A239<VLOOKUP(L$5,NFI,5,0),1,0)*Table_NFI[[#This Row],[Tarpaulin]],Table_NFI[[#This Row],[Tarpaulin]])","v":0},{"$f":"IF(NFI_Expiration=1,IF($A239<VLOOKUP(M$5,NFI,5,0),1,0)*Table_NFI[[#This Row],[Blanket]],Table_NFI[[#This Row],[Blanket]])","v":0},{"$f":"IF(NFI_Expiration=1,IF($A239<VLOOKUP(N$5,NFI,5,0),1,0)*Table_NFI[[#This Row],[Kitchen Set]],Table_NFI[Kitchen Set])","v":0},{"$f":"IF(NFI_Expiration=1,IF($A239<VLOOKUP(O$5,NFI,5,0),1,0)*Table_NFI[[#This Row],[Complementary Kit]],Table_NFI[Complementary Kit])","v":0},{"$f":"IF(NFI_Expiration=1,IF($A239<VLOOKUP(P$5,NFI,5,0),1,0)*Table_NFI[[#This Row],[Plastic Bucket]],Table_NFI[Plastic Bucket])","v":0},{"$f":"IF(NFI_Expiration=1,IF($A239<VLOOKUP(Q$5,NFI,5,0),1,0)*Table_NFI[[#This Row],[Plastic Mat]],Table_NFI[Plastic Mat])","v":0},{"$f":"IFERROR(VLOOKUP(Table_NFI[[#This Row],[Camp Name]],CL,2,0),\"\")","v":"MMR001CMP037"},{"$f":"IFERROR(VLOOKUP(Table_NFI[[#This Row],[Camp Name]],CL,3,0),\"\")","v":"Open"},{"$f":"IFERROR(Table_NFI[[#This Row],[Kitchen Set]]/VLOOKUP(Table_NFI[[#This Row],[Camp Name]],CL,4,0),\"\")","v":0}]
[12.2,"2012-12-31","DRC","DRC","Kachin","Waingmaw","Waingmaw AG Church",56,null,null,null,null,null,null,null,0,0,{"$f":"IF(NFI_Expiration=1,IF($A240<VLOOKUP(H$5,NFI,5,0),1,0)*Table_NFI[[#This Row],[Hygiene Kit]],Table_NFI[Hygiene Kit])","v":0},{"$f":"IF(NFI_Expiration=1,IF($A240<VLOOKUP(I$5,NFI,5,0),1,0)*Table_NFI[[#This Row],[NFI Core Kit]],Table_NFI[NFI Core Kit])","v":0},{"$f":"IF(NFI_Expiration=1,IF($A240<VLOOKUP(J$5,NFI,5,0),1,0)*Table_NFI[[#This Row],[Sanitary Kit]],Table_NFI[Sanitary Kit])","v":0},{"$f":"IF(NFI_Expiration=1,IF($A240<VLOOKUP(K$5,NFI,5,0),1,0)*Table_NFI[[#This Row],[Mosquito net]],Table_NFI[Mosquito net])","v":0},{"$f":"IF(NFI_Expiration=1,IF($A240<VLOOKUP(L$5,NFI,5,0),1,0)*Table_NFI[[#This Row],[Tarpaulin]],Table_NFI[[#This Row],[Tarpaulin]])","v":0},{"$f":"IF(NFI_Expiration=1,IF($A240<VLOOKUP(M$5,NFI,5,0),1,0)*Table_NFI[[#This Row],[Blanket]],Table_NFI[[#This Row],[Blanket]])","v":0},{"$f":"IF(NFI_Expiration=1,IF($A240<VLOOKUP(N$5,NFI,5,0),1,0)*Table_NFI[[#This Row],[Kitchen Set]],Table_NFI[Kitchen Set])","v":0},{"$f":"IF(NFI_Expiration=1,IF($A240<VLOOKUP(O$5,NFI,5,0),1,0)*Table_NFI[[#This Row],[Complementary Kit]],Table_NFI[Complementary Kit])","v":0},{"$f":"IF(NFI_Expiration=1,IF($A240<VLOOKUP(P$5,NFI,5,0),1,0)*Table_NFI[[#This Row],[Plastic Bucket]],Table_NFI[Plastic Bucket])","v":0},{"$f":"IF(NFI_Expiration=1,IF($A240<VLOOKUP(Q$5,NFI,5,0),1,0)*Table_NFI[[#This Row],[Plastic Mat]],Table_NFI[Plastic Mat])","v":0},{"$f":"IFERROR(VLOOKUP(Table_NFI[[#This Row],[Camp Name]],CL,2,0),\"\")","v":"MMR001CMP038"},{"$f":"IFERROR(VLOOKUP(Table_NFI[[#This Row],[Camp Name]],CL,3,0),\"\")","v":"Open"},{"$f":"IFERROR(Table_NFI[[#This Row],[Kitchen Set]]/VLOOKUP(Table_NFI[[#This Row],[Camp Name]],CL,4,0),\"\")","v":0}]
[12.2,"2012-12-31","DRC","DRC","Kachin","Hpakant","Nga Pyaw Taw Roman Catholic Church",3,null,null,null,null,null,null,null,0,0,{"$f":"IF(NFI_Expiration=1,IF($A241<VLOOKUP(H$5,NFI,5,0),1,0)*Table_NFI[[#This Row],[Hygiene Kit]],Table_NFI[Hygiene Kit])","v":0},{"$f":"IF(NFI_Expiration=1,IF($A241<VLOOKUP(I$5,NFI,5,0),1,0)*Table_NFI[[#This Row],[NFI Core Kit]],Table_NFI[NFI Core Kit])","v":0},{"$f":"IF(NFI_Expiration=1,IF($A241<VLOOKUP(J$5,NFI,5,0),1,0)*Table_NFI[[#This Row],[Sanitary Kit]],Table_NFI[Sanitary Kit])","v":0},{"$f":"IF(NFI_Expiration=1,IF($A241<VLOOKUP(K$5,NFI,5,0),1,0)*Table_NFI[[#This Row],[Mosquito net]],Table_NFI[Mosquito net])","v":0},{"$f":"IF(NFI_Expiration=1,IF($A241<VLOOKUP(L$5,NFI,5,0),1,0)*Table_NFI[[#This Row],[Tarpaulin]],Table_NFI[[#This Row],[Tarpaulin]])","v":0},{"$f":"IF(NFI_Expiration=1,IF($A241<VLOOKUP(M$5,NFI,5,0),1,0)*Table_NFI[[#This Row],[Blanket]],Table_NFI[[#This Row],[Blanket]])","v":0},{"$f":"IF(NFI_Expiration=1,IF($A241<VLOOKUP(N$5,NFI,5,0),1,0)*Table_NFI[[#This Row],[Kitchen Set]],Table_NFI[Kitchen Set])","v":0},{"$f":"IF(NFI_Expiration=1,IF($A241<VLOOKUP(O$5,NFI,5,0),1,0)*Table_NFI[[#This Row],[Complementary Kit]],Table_NFI[Complementary Kit])","v":0},{"$f":"IF(NFI_Expiration=1,IF($A241<VLOOKUP(P$5,NFI,5,0),1,0)*Table_NFI[[#This Row],[Plastic Bucket]],Table_NFI[Plastic Bucket])","v":0},{"$f":"IF(NFI_Expiration=1,IF($A241<VLOOKUP(Q$5,NFI,5,0),1,0)*Table_NFI[[#This Row],[Plastic Mat]],Table_NFI[Plastic Mat])","v":0},{"$f":"IFERROR(VLOOKUP(Table_NFI[[#This Row],[Camp Name]],CL,2,0),\"\")","v":"MMR001CMP083"},{"$f":"IFERROR(VLOOKUP(Table_NFI[[#This Row],[Camp Name]],CL,3,0),\"\")","v":"Closed"},{"$f":"IFERROR(Table_NFI[[#This Row],[Kitchen Set]]/VLOOKUP(Table_NFI[[#This Row],[Camp Name]],CL,4,0),\"\")","v":""}]
[12.2,"2012-12-31","DRC","DRC","Kachin","Hpakant","Maw Wan, Kachin Baptist Church",10,null,null,null,null,null,null,null,0,0,{"$f":"IF(NFI_Expiration=1,IF($A242<VLOOKUP(H$5,NFI,5,0),1,0)*Table_NFI[[#This Row],[Hygiene Kit]],Table_NFI[Hygiene Kit])","v":0},{"$f":"IF(NFI_Expiration=1,IF($A242<VLOOKUP(I$5,NFI,5,0),1,0)*Table_NFI[[#This Row],[NFI Core Kit]],Table_NFI[NFI Core Kit])","v":0},{"$f":"IF(NFI_Expiration=1,IF($A242<VLOOKUP(J$5,NFI,5,0),1,0)*Table_NFI[[#This Row],[Sanitary Kit]],Table_NFI[Sanitary Kit])","v":0},{"$f":"IF(NFI_Expiration=1,IF($A242<VLOOKUP(K$5,NFI,5,0),1,0)*Table_NFI[[#This Row],[Mosquito net]],Table_NFI[Mosquito net])","v":0},{"$f":"IF(NFI_Expiration=1,IF($A242<VLOOKUP(L$5,NFI,5,0),1,0)*Table_NFI[[#This Row],[Tarpaulin]],Table_NFI[[#This Row],[Tarpaulin]])","v":0},{"$f":"IF(NFI_Expiration=1,IF($A242<VLOOKUP(M$5,NFI,5,0),1,0)*Table_NFI[[#This Row],[Blanket]],Table_NFI[[#This Row],[Blanket]])","v":0},{"$f":"IF(NFI_Expiration=1,IF($A242<VLOOKUP(N$5,NFI,5,0),1,0)*Table_NFI[[#This Row],[Kitchen Set]],Table_NFI[Kitchen Set])","v":0},{"$f":"IF(NFI_Expiration=1,IF($A242<VLOOKUP(O$5,NFI,5,0),1,0)*Table_NFI[[#This Row],[Complementary Kit]],Table_NFI[Complementary Kit])","v":0},{"$f":"IF(NFI_Expiration=1,IF($A242<VLOOKUP(P$5,NFI,5,0),1,0)*Table_NFI[[#This Row],[Plastic Bucket]],Table_NFI[Plastic Bucket])","v":0},{"$f":"IF(NFI_Expiration=1,IF($A242<VLOOKUP(Q$5,NFI,5,0),1,0)*Table_NFI[[#This Row],[Plastic Mat]],Table_NFI[Plastic Mat])","v":0},{"$f":"IFERROR(VLOOKUP(Table_NFI[[#This Row],[Camp Name]],CL,2,0),\"\")","v":"MMR001CMP085"},{"$f":"IFERROR(VLOOKUP(Table_NFI[[#This Row],[Camp Name]],CL,3,0),\"\")","v":"Closed"},{"$f":"IFERROR(Table_NFI[[#This Row],[Kitchen Set]]/VLOOKUP(Table_NFI[[#This Row],[Camp Name]],CL,4,0),\"\")","v":""}]
[12.2,"2012-12-31","DRC","DRC","Kachin","Hpakant","Maw Wan, Mu-yin Baptist Church",2,null,null,null,null,null,null,null,0,0,{"$f":"IF(NFI_Expiration=1,IF($A243<VLOOKUP(H$5,NFI,5,0),1,0)*Table_NFI[[#This Row],[Hygiene Kit]],Table_NFI[Hygiene Kit])","v":0},{"$f":"IF(NFI_Expiration=1,IF($A243<VLOOKUP(I$5,NFI,5,0),1,0)*Table_NFI[[#This Row],[NFI Core Kit]],Table_NFI[NFI Core Kit])","v":0},{"$f":"IF(NFI_Expiration=1,IF($A243<VLOOKUP(J$5,NFI,5,0),1,0)*Table_NFI[[#This Row],[Sanitary Kit]],Table_NFI[Sanitary Kit])","v":0},{"$f":"IF(NFI_Expiration=1,IF($A243<VLOOKUP(K$5,NFI,5,0),1,0)*Table_NFI[[#This Row],[Mosquito net]],Table_NFI[Mosquito net])","v":0},{"$f":"IF(NFI_Expiration=1,IF($A243<VLOOKUP(L$5,NFI,5,0),1,0)*Table_NFI[[#This Row],[Tarpaulin]],Table_NFI[[#This Row],[Tarpaulin]])","v":0},{"$f":"IF(NFI_Expiration=1,IF($A243<VLOOKUP(M$5,NFI,5,0),1,0)*Table_NFI[[#This Row],[Blanket]],Table_NFI[[#This Row],[Blanket]])","v":0},{"$f":"IF(NFI_Expiration=1,IF($A243<VLOOKUP(N$5,NFI,5,0),1,0)*Table_NFI[[#This Row],[Kitchen Set]],Table_NFI[Kitchen Set])","v":0},{"$f":"IF(NFI_Expiration=1,IF($A243<VLOOKUP(O$5,NFI,5,0),1,0)*Table_NFI[[#This Row],[Complementary Kit]],Table_NFI[Complementary Kit])","v":0},{"$f":"IF(NFI_Expiration=1,IF($A243<VLOOKUP(P$5,NFI,5,0),1,0)*Table_NFI[[#This Row],[Plastic Bucket]],Table_NFI[Plastic Bucket])","v":0},{"$f":"IF(NFI_Expiration=1,IF($A243<VLOOKUP(Q$5,NFI,5,0),1,0)*Table_NFI[[#This Row],[Plastic Mat]],Table_NFI[Plastic Mat])","v":0},{"$f":"IFERROR(VLOOKUP(Table_NFI[[#This Row],[Camp Name]],CL,2,0),\"\")","v":"MMR001CMP091"},{"$f":"IFERROR(VLOOKUP(Table_NFI[[#This Row],[Camp Name]],CL,3,0),\"\")","v":"Open"},{"$f":"IFERROR(Table_NFI[[#This Row],[Kitchen Set]]/VLOOKUP(Table_NFI[[#This Row],[Camp Name]],CL,4,0),\"\")","v":0}]
[12.2,"2012-12-31","DRC","DRC","Kachin","Hpakant","Aye Mya Tharyar Church of Christ ",16,null,null,null,null,null,null,null,0,0,{"$f":"IF(NFI_Expiration=1,IF($A244<VLOOKUP(H$5,NFI,5,0),1,0)*Table_NFI[[#This Row],[Hygiene Kit]],Table_NFI[Hygiene Kit])","v":0},{"$f":"IF(NFI_Expiration=1,IF($A244<VLOOKUP(I$5,NFI,5,0),1,0)*Table_NFI[[#This Row],[NFI Core Kit]],Table_NFI[NFI Core Kit])","v":0},{"$f":"IF(NFI_Expiration=1,IF($A244<VLOOKUP(J$5,NFI,5,0),1,0)*Table_NFI[[#This Row],[Sanitary Kit]],Table_NFI[Sanitary Kit])","v":0},{"$f":"IF(NFI_Expiration=1,IF($A244<VLOOKUP(K$5,NFI,5,0),1,0)*Table_NFI[[#This Row],[Mosquito net]],Table_NFI[Mosquito net])","v":0},{"$f":"IF(NFI_Expiration=1,IF($A244<VLOOKUP(L$5,NFI,5,0),1,0)*Table_NFI[[#This Row],[Tarpaulin]],Table_NFI[[#This Row],[Tarpaulin]])","v":0},{"$f":"IF(NFI_Expiration=1,IF($A244<VLOOKUP(M$5,NFI,5,0),1,0)*Table_NFI[[#This Row],[Blanket]],Table_NFI[[#This Row],[Blanket]])","v":0},{"$f":"IF(NFI_Expiration=1,IF($A244<VLOOKUP(N$5,NFI,5,0),1,0)*Table_NFI[[#This Row],[Kitchen Set]],Table_NFI[Kitchen Set])","v":0},{"$f":"IF(NFI_Expiration=1,IF($A244<VLOOKUP(O$5,NFI,5,0),1,0)*Table_NFI[[#This Row],[Complementary Kit]],Table_NFI[Complementary Kit])","v":0},{"$f":"IF(NFI_Expiration=1,IF($A244<VLOOKUP(P$5,NFI,5,0),1,0)*Table_NFI[[#This Row],[Plastic Bucket]],Table_NFI[Plastic Bucket])","v":0},{"$f":"IF(NFI_Expiration=1,IF($A244<VLOOKUP(Q$5,NFI,5,0),1,0)*Table_NFI[[#This Row],[Plastic Mat]],Table_NFI[Plastic Mat])","v":0},{"$f":"IFERROR(VLOOKUP(Table_NFI[[#This Row],[Camp Name]],CL,2,0),\"\")","v":"MMR001CMP092"},{"$f":"IFERROR(VLOOKUP(Table_NFI[[#This Row],[Camp Name]],CL,3,0),\"\")","v":"Closed"},{"$f":"IFERROR(Table_NFI[[#This Row],[Kitchen Set]]/VLOOKUP(Table_NFI[[#This Row],[Camp Name]],CL,4,0),\"\")","v":""}]
[12.2,"2012-12-31","DRC","DRC","Kachin","Hpakant","Mashi Kahtawng Catholic Church",2,null,null,null,null,null,null,null,0,0,{"$f":"IF(NFI_Expiration=1,IF($A245<VLOOKUP(H$5,NFI,5,0),1,0)*Table_NFI[[#This Row],[Hygiene Kit]],Table_NFI[Hygiene Kit])","v":0},{"$f":"IF(NFI_Expiration=1,IF($A245<VLOOKUP(I$5,NFI,5,0),1,0)*Table_NFI[[#This Row],[NFI Core Kit]],Table_NFI[NFI Core Kit])","v":0},{"$f":"IF(NFI_Expiration=1,IF($A245<VLOOKUP(J$5,NFI,5,0),1,0)*Table_NFI[[#This Row],[Sanitary Kit]],Table_NFI[Sanitary Kit])","v":0},{"$f":"IF(NFI_Expiration=1,IF($A245<VLOOKUP(K$5,NFI,5,0),1,0)*Table_NFI[[#This Row],[Mosquito net]],Table_NFI[Mosquito net])","v":0},{"$f":"IF(NFI_Expiration=1,IF($A245<VLOOKUP(L$5,NFI,5,0),1,0)*Table_NFI[[#This Row],[Tarpaulin]],Table_NFI[[#This Row],[Tarpaulin]])","v":0},{"$f":"IF(NFI_Expiration=1,IF($A245<VLOOKUP(M$5,NFI,5,0),1,0)*Table_NFI[[#This Row],[Blanket]],Table_NFI[[#This Row],[Blanket]])","v":0},{"$f":"IF(NFI_Expiration=1,IF($A245<VLOOKUP(N$5,NFI,5,0),1,0)*Table_NFI[[#This Row],[Kitchen Set]],Table_NFI[Kitchen Set])","v":0},{"$f":"IF(NFI_Expiration=1,IF($A245<VLOOKUP(O$5,NFI,5,0),1,0)*Table_NFI[[#This Row],[Complementary Kit]],Table_NFI[Complementary Kit])","v":0},{"$f":"IF(NFI_Expiration=1,IF($A245<VLOOKUP(P$5,NFI,5,0),1,0)*Table_NFI[[#This Row],[Plastic Bucket]],Table_NFI[Plastic Bucket])","v":0},{"$f":"IF(NFI_Expiration=1,IF($A245<VLOOKUP(Q$5,NFI,5,0),1,0)*Table_NFI[[#This Row],[Plastic Mat]],Table_NFI[Plastic Mat])","v":0},{"$f":"IFERROR(VLOOKUP(Table_NFI[[#This Row],[Camp Name]],CL,2,0),\"\")","v":"MMR001CMP093"},{"$f":"IFERROR(VLOOKUP(Table_NFI[[#This Row],[Camp Name]],CL,3,0),\"\")","v":"Closed"},{"$f":"IFERROR(Table_NFI[[#This Row],[Kitchen Set]]/VLOOKUP(Table_NFI[[#This Row],[Camp Name]],CL,4,0),\"\")","v":""}]
[12.2,"2012-12-31","DRC","DRC","Kachin","Hpakant","Mashi Kahtawng Baptist  Church",57,null,null,null,null,null,null,null,0,0,{"$f":"IF(NFI_Expiration=1,IF($A246<VLOOKUP(H$5,NFI,5,0),1,0)*Table_NFI[[#This Row],[Hygiene Kit]],Table_NFI[Hygiene Kit])","v":0},{"$f":"IF(NFI_Expiration=1,IF($A246<VLOOKUP(I$5,NFI,5,0),1,0)*Table_NFI[[#This Row],[NFI Core Kit]],Table_NFI[NFI Core Kit])","v":0},{"$f":"IF(NFI_Expiration=1,IF($A246<VLOOKUP(J$5,NFI,5,0),1,0)*Table_NFI[[#This Row],[Sanitary Kit]],Table_NFI[Sanitary Kit])","v":0},{"$f":"IF(NFI_Expiration=1,IF($A246<VLOOKUP(K$5,NFI,5,0),1,0)*Table_NFI[[#This Row],[Mosquito net]],Table_NFI[Mosquito net])","v":0},{"$f":"IF(NFI_Expiration=1,IF($A246<VLOOKUP(L$5,NFI,5,0),1,0)*Table_NFI[[#This Row],[Tarpaulin]],Table_NFI[[#This Row],[Tarpaulin]])","v":0},{"$f":"IF(NFI_Expiration=1,IF($A246<VLOOKUP(M$5,NFI,5,0),1,0)*Table_NFI[[#This Row],[Blanket]],Table_NFI[[#This Row],[Blanket]])","v":0},{"$f":"IF(NFI_Expiration=1,IF($A246<VLOOKUP(N$5,NFI,5,0),1,0)*Table_NFI[[#This Row],[Kitchen Set]],Table_NFI[Kitchen Set])","v":0},{"$f":"IF(NFI_Expiration=1,IF($A246<VLOOKUP(O$5,NFI,5,0),1,0)*Table_NFI[[#This Row],[Complementary Kit]],Table_NFI[Complementary Kit])","v":0},{"$f":"IF(NFI_Expiration=1,IF($A246<VLOOKUP(P$5,NFI,5,0),1,0)*Table_NFI[[#This Row],[Plastic Bucket]],Table_NFI[Plastic Bucket])","v":0},{"$f":"IF(NFI_Expiration=1,IF($A246<VLOOKUP(Q$5,NFI,5,0),1,0)*Table_NFI[[#This Row],[Plastic Mat]],Table_NFI[Plastic Mat])","v":0},{"$f":"IFERROR(VLOOKUP(Table_NFI[[#This Row],[Camp Name]],CL,2,0),\"\")","v":"MMR001CMP094"},{"$f":"IFERROR(VLOOKUP(Table_NFI[[#This Row],[Camp Name]],CL,3,0),\"\")","v":"Closed"},{"$f":"IFERROR(Table_NFI[[#This Row],[Kitchen Set]]/VLOOKUP(Table_NFI[[#This Row],[Camp Name]],CL,4,0),\"\")","v":""}]
[12.2,"2012-12-31","DRC","DRC","Kachin","Hpakant","Nant Ma Hpit Catholic Church",4,null,null,null,null,null,null,null,0,0,{"$f":"IF(NFI_Expiration=1,IF($A247<VLOOKUP(H$5,NFI,5,0),1,0)*Table_NFI[[#This Row],[Hygiene Kit]],Table_NFI[Hygiene Kit])","v":0},{"$f":"IF(NFI_Expiration=1,IF($A247<VLOOKUP(I$5,NFI,5,0),1,0)*Table_NFI[[#This Row],[NFI Core Kit]],Table_NFI[NFI Core Kit])","v":0},{"$f":"IF(NFI_Expiration=1,IF($A247<VLOOKUP(J$5,NFI,5,0),1,0)*Table_NFI[[#This Row],[Sanitary Kit]],Table_NFI[Sanitary Kit])","v":0},{"$f":"IF(NFI_Expiration=1,IF($A247<VLOOKUP(K$5,NFI,5,0),1,0)*Table_NFI[[#This Row],[Mosquito net]],Table_NFI[Mosquito net])","v":0},{"$f":"IF(NFI_Expiration=1,IF($A247<VLOOKUP(L$5,NFI,5,0),1,0)*Table_NFI[[#This Row],[Tarpaulin]],Table_NFI[[#This Row],[Tarpaulin]])","v":0},{"$f":"IF(NFI_Expiration=1,IF($A247<VLOOKUP(M$5,NFI,5,0),1,0)*Table_NFI[[#This Row],[Blanket]],Table_NFI[[#This Row],[Blanket]])","v":0},{"$f":"IF(NFI_Expiration=1,IF($A247<VLOOKUP(N$5,NFI,5,0),1,0)*Table_NFI[[#This Row],[Kitchen Set]],Table_NFI[Kitchen Set])","v":0},{"$f":"IF(NFI_Expiration=1,IF($A247<VLOOKUP(O$5,NFI,5,0),1,0)*Table_NFI[[#This Row],[Complementary Kit]],Table_NFI[Complementary Kit])","v":0},{"$f":"IF(NFI_Expiration=1,IF($A247<VLOOKUP(P$5,NFI,5,0),1,0)*Table_NFI[[#This Row],[Plastic Bucket]],Table_NFI[Plastic Bucket])","v":0},{"$f":"IF(NFI_Expiration=1,IF($A247<VLOOKUP(Q$5,NFI,5,0),1,0)*Table_NFI[[#This Row],[Plastic Mat]],Table_NFI[Plastic Mat])","v":0},{"$f":"IFERROR(VLOOKUP(Table_NFI[[#This Row],[Camp Name]],CL,2,0),\"\")","v":"MMR001CMP103"},{"$f":"IFERROR(VLOOKUP(Table_NFI[[#This Row],[Camp Name]],CL,3,0),\"\")","v":"Open"},{"$f":"IFERROR(Table_NFI[[#This Row],[Kitchen Set]]/VLOOKUP(Table_NFI[[#This Row],[Camp Name]],CL,4,0),\"\")","v":0}]
[12.2,"2012-12-31","DRC","DRC","Kachin","Hpakant","Yumar Baptist Church",42,null,null,null,null,null,null,null,0,0,{"$f":"IF(NFI_Expiration=1,IF($A248<VLOOKUP(H$5,NFI,5,0),1,0)*Table_NFI[[#This Row],[Hygiene Kit]],Table_NFI[Hygiene Kit])","v":0},{"$f":"IF(NFI_Expiration=1,IF($A248<VLOOKUP(I$5,NFI,5,0),1,0)*Table_NFI[[#This Row],[NFI Core Kit]],Table_NFI[NFI Core Kit])","v":0},{"$f":"IF(NFI_Expiration=1,IF($A248<VLOOKUP(J$5,NFI,5,0),1,0)*Table_NFI[[#This Row],[Sanitary Kit]],Table_NFI[Sanitary Kit])","v":0},{"$f":"IF(NFI_Expiration=1,IF($A248<VLOOKUP(K$5,NFI,5,0),1,0)*Table_NFI[[#This Row],[Mosquito net]],Table_NFI[Mosquito net])","v":0},{"$f":"IF(NFI_Expiration=1,IF($A248<VLOOKUP(L$5,NFI,5,0),1,0)*Table_NFI[[#This Row],[Tarpaulin]],Table_NFI[[#This Row],[Tarpaulin]])","v":0},{"$f":"IF(NFI_Expiration=1,IF($A248<VLOOKUP(M$5,NFI,5,0),1,0)*Table_NFI[[#This Row],[Blanket]],Table_NFI[[#This Row],[Blanket]])","v":0},{"$f":"IF(NFI_Expiration=1,IF($A248<VLOOKUP(N$5,NFI,5,0),1,0)*Table_NFI[[#This Row],[Kitchen Set]],Table_NFI[Kitchen Set])","v":0},{"$f":"IF(NFI_Expiration=1,IF($A248<VLOOKUP(O$5,NFI,5,0),1,0)*Table_NFI[[#This Row],[Complementary Kit]],Table_NFI[Complementary Kit])","v":0},{"$f":"IF(NFI_Expiration=1,IF($A248<VLOOKUP(P$5,NFI,5,0),1,0)*Table_NFI[[#This Row],[Plastic Bucket]],Table_NFI[Plastic Bucket])","v":0},{"$f":"IF(NFI_Expiration=1,IF($A248<VLOOKUP(Q$5,NFI,5,0),1,0)*Table_NFI[[#This Row],[Plastic Mat]],Table_NFI[Plastic Mat])","v":0},{"$f":"IFERROR(VLOOKUP(Table_NFI[[#This Row],[Camp Name]],CL,2,0),\"\")","v":"MMR001CMP105"},{"$f":"IFERROR(VLOOKUP(Table_NFI[[#This Row],[Camp Name]],CL,3,0),\"\")","v":"Open"},{"$f":"IFERROR(Table_NFI[[#This Row],[Kitchen Set]]/VLOOKUP(Table_NFI[[#This Row],[Camp Name]],CL,4,0),\"\")","v":0}]
[12.2,"2012-12-31","DRC","DRC","Kachin","Hpakant","Maw Si Zar, Thiriyardanar Sein, Damma Compound, Lone Khin",3,null,null,null,null,null,null,null,0,0,{"$f":"IF(NFI_Expiration=1,IF($A249<VLOOKUP(H$5,NFI,5,0),1,0)*Table_NFI[[#This Row],[Hygiene Kit]],Table_NFI[Hygiene Kit])","v":0},{"$f":"IF(NFI_Expiration=1,IF($A249<VLOOKUP(I$5,NFI,5,0),1,0)*Table_NFI[[#This Row],[NFI Core Kit]],Table_NFI[NFI Core Kit])","v":0},{"$f":"IF(NFI_Expiration=1,IF($A249<VLOOKUP(J$5,NFI,5,0),1,0)*Table_NFI[[#This Row],[Sanitary Kit]],Table_NFI[Sanitary Kit])","v":0},{"$f":"IF(NFI_Expiration=1,IF($A249<VLOOKUP(K$5,NFI,5,0),1,0)*Table_NFI[[#This Row],[Mosquito net]],Table_NFI[Mosquito net])","v":0},{"$f":"IF(NFI_Expiration=1,IF($A249<VLOOKUP(L$5,NFI,5,0),1,0)*Table_NFI[[#This Row],[Tarpaulin]],Table_NFI[[#This Row],[Tarpaulin]])","v":0},{"$f":"IF(NFI_Expiration=1,IF($A249<VLOOKUP(M$5,NFI,5,0),1,0)*Table_NFI[[#This Row],[Blanket]],Table_NFI[[#This Row],[Blanket]])","v":0},{"$f":"IF(NFI_Expiration=1,IF($A249<VLOOKUP(N$5,NFI,5,0),1,0)*Table_NFI[[#This Row],[Kitchen Set]],Table_NFI[Kitchen Set])","v":0},{"$f":"IF(NFI_Expiration=1,IF($A249<VLOOKUP(O$5,NFI,5,0),1,0)*Table_NFI[[#This Row],[Complementary Kit]],Table_NFI[Complementary Kit])","v":0},{"$f":"IF(NFI_Expiration=1,IF($A249<VLOOKUP(P$5,NFI,5,0),1,0)*Table_NFI[[#This Row],[Plastic Bucket]],Table_NFI[Plastic Bucket])","v":0},{"$f":"IF(NFI_Expiration=1,IF($A249<VLOOKUP(Q$5,NFI,5,0),1,0)*Table_NFI[[#This Row],[Plastic Mat]],Table_NFI[Plastic Mat])","v":0},{"$f":"IFERROR(VLOOKUP(Table_NFI[[#This Row],[Camp Name]],CL,2,0),\"\")","v":"MMR001CMP106"},{"$f":"IFERROR(VLOOKUP(Table_NFI[[#This Row],[Camp Name]],CL,3,0),\"\")","v":"Closed"},{"$f":"IFERROR(Table_NFI[[#This Row],[Kitchen Set]]/VLOOKUP(Table_NFI[[#This Row],[Camp Name]],CL,4,0),\"\")","v":""}]
[12.2,"2012-12-31","DRC","DRC","Kachin","Hpakant","Hlaing Naung Baptist",4,null,null,null,null,null,null,null,0,0,{"$f":"IF(NFI_Expiration=1,IF($A250<VLOOKUP(H$5,NFI,5,0),1,0)*Table_NFI[[#This Row],[Hygiene Kit]],Table_NFI[Hygiene Kit])","v":0},{"$f":"IF(NFI_Expiration=1,IF($A250<VLOOKUP(I$5,NFI,5,0),1,0)*Table_NFI[[#This Row],[NFI Core Kit]],Table_NFI[NFI Core Kit])","v":0},{"$f":"IF(NFI_Expiration=1,IF($A250<VLOOKUP(J$5,NFI,5,0),1,0)*Table_NFI[[#This Row],[Sanitary Kit]],Table_NFI[Sanitary Kit])","v":0},{"$f":"IF(NFI_Expiration=1,IF($A250<VLOOKUP(K$5,NFI,5,0),1,0)*Table_NFI[[#This Row],[Mosquito net]],Table_NFI[Mosquito net])","v":0},{"$f":"IF(NFI_Expiration=1,IF($A250<VLOOKUP(L$5,NFI,5,0),1,0)*Table_NFI[[#This Row],[Tarpaulin]],Table_NFI[[#This Row],[Tarpaulin]])","v":0},{"$f":"IF(NFI_Expiration=1,IF($A250<VLOOKUP(M$5,NFI,5,0),1,0)*Table_NFI[[#This Row],[Blanket]],Table_NFI[[#This Row],[Blanket]])","v":0},{"$f":"IF(NFI_Expiration=1,IF($A250<VLOOKUP(N$5,NFI,5,0),1,0)*Table_NFI[[#This Row],[Kitchen Set]],Table_NFI[Kitchen Set])","v":0},{"$f":"IF(NFI_Expiration=1,IF($A250<VLOOKUP(O$5,NFI,5,0),1,0)*Table_NFI[[#This Row],[Complementary Kit]],Table_NFI[Complementary Kit])","v":0},{"$f":"IF(NFI_Expiration=1,IF($A250<VLOOKUP(P$5,NFI,5,0),1,0)*Table_NFI[[#This Row],[Plastic Bucket]],Table_NFI[Plastic Bucket])","v":0},{"$f":"IF(NFI_Expiration=1,IF($A250<VLOOKUP(Q$5,NFI,5,0),1,0)*Table_NFI[[#This Row],[Plastic Mat]],Table_NFI[Plastic Mat])","v":0},{"$f":"IFERROR(VLOOKUP(Table_NFI[[#This Row],[Camp Name]],CL,2,0),\"\")","v":"MMR001CMP148"},{"$f":"IFERROR(VLOOKUP(Table_NFI[[#This Row],[Camp Name]],CL,3,0),\"\")","v":"Open"},{"$f":"IFERROR(Table_NFI[[#This Row],[Kitchen Set]]/VLOOKUP(Table_NFI[[#This Row],[Camp Name]],CL,4,0),\"\")","v":0}]
[12.2,"2012-12-31","DRC","DRC","Kachin","Hpakant","Lisu Baptist Church, Maw Wan Ward",1,null,null,null,null,null,null,null,0,0,{"$f":"IF(NFI_Expiration=1,IF($A251<VLOOKUP(H$5,NFI,5,0),1,0)*Table_NFI[[#This Row],[Hygiene Kit]],Table_NFI[Hygiene Kit])","v":0},{"$f":"IF(NFI_Expiration=1,IF($A251<VLOOKUP(I$5,NFI,5,0),1,0)*Table_NFI[[#This Row],[NFI Core Kit]],Table_NFI[NFI Core Kit])","v":0},{"$f":"IF(NFI_Expiration=1,IF($A251<VLOOKUP(J$5,NFI,5,0),1,0)*Table_NFI[[#This Row],[Sanitary Kit]],Table_NFI[Sanitary Kit])","v":0},{"$f":"IF(NFI_Expiration=1,IF($A251<VLOOKUP(K$5,NFI,5,0),1,0)*Table_NFI[[#This Row],[Mosquito net]],Table_NFI[Mosquito net])","v":0},{"$f":"IF(NFI_Expiration=1,IF($A251<VLOOKUP(L$5,NFI,5,0),1,0)*Table_NFI[[#This Row],[Tarpaulin]],Table_NFI[[#This Row],[Tarpaulin]])","v":0},{"$f":"IF(NFI_Expiration=1,IF($A251<VLOOKUP(M$5,NFI,5,0),1,0)*Table_NFI[[#This Row],[Blanket]],Table_NFI[[#This Row],[Blanket]])","v":0},{"$f":"IF(NFI_Expiration=1,IF($A251<VLOOKUP(N$5,NFI,5,0),1,0)*Table_NFI[[#This Row],[Kitchen Set]],Table_NFI[Kitchen Set])","v":0},{"$f":"IF(NFI_Expiration=1,IF($A251<VLOOKUP(O$5,NFI,5,0),1,0)*Table_NFI[[#This Row],[Complementary Kit]],Table_NFI[Complementary Kit])","v":0},{"$f":"IF(NFI_Expiration=1,IF($A251<VLOOKUP(P$5,NFI,5,0),1,0)*Table_NFI[[#This Row],[Plastic Bucket]],Table_NFI[Plastic Bucket])","v":0},{"$f":"IF(NFI_Expiration=1,IF($A251<VLOOKUP(Q$5,NFI,5,0),1,0)*Table_NFI[[#This Row],[Plastic Mat]],Table_NFI[Plastic Mat])","v":0},{"$f":"IFERROR(VLOOKUP(Table_NFI[[#This Row],[Camp Name]],CL,2,0),\"\")","v":"MMR001CMP167"},{"$f":"IFERROR(VLOOKUP(Table_NFI[[#This Row],[Camp Name]],CL,3,0),\"\")","v":"Open"},{"$f":"IFERROR(Table_NFI[[#This Row],[Kitchen Set]]/VLOOKUP(Table_NFI[[#This Row],[Camp Name]],CL,4,0),\"\")","v":0}]
[12.2,"2012-12-31","DRC","DRC","Kachin","Hpakant","5 Ward RC Church(lon Khin)",19,null,null,null,null,null,null,null,0,0,{"$f":"IF(NFI_Expiration=1,IF($A252<VLOOKUP(H$5,NFI,5,0),1,0)*Table_NFI[[#This Row],[Hygiene Kit]],Table_NFI[Hygiene Kit])","v":0},{"$f":"IF(NFI_Expiration=1,IF($A252<VLOOKUP(I$5,NFI,5,0),1,0)*Table_NFI[[#This Row],[NFI Core Kit]],Table_NFI[NFI Core Kit])","v":0},{"$f":"IF(NFI_Expiration=1,IF($A252<VLOOKUP(J$5,NFI,5,0),1,0)*Table_NFI[[#This Row],[Sanitary Kit]],Table_NFI[Sanitary Kit])","v":0},{"$f":"IF(NFI_Expiration=1,IF($A252<VLOOKUP(K$5,NFI,5,0),1,0)*Table_NFI[[#This Row],[Mosquito net]],Table_NFI[Mosquito net])","v":0},{"$f":"IF(NFI_Expiration=1,IF($A252<VLOOKUP(L$5,NFI,5,0),1,0)*Table_NFI[[#This Row],[Tarpaulin]],Table_NFI[[#This Row],[Tarpaulin]])","v":0},{"$f":"IF(NFI_Expiration=1,IF($A252<VLOOKUP(M$5,NFI,5,0),1,0)*Table_NFI[[#This Row],[Blanket]],Table_NFI[[#This Row],[Blanket]])","v":0},{"$f":"IF(NFI_Expiration=1,IF($A252<VLOOKUP(N$5,NFI,5,0),1,0)*Table_NFI[[#This Row],[Kitchen Set]],Table_NFI[Kitchen Set])","v":0},{"$f":"IF(NFI_Expiration=1,IF($A252<VLOOKUP(O$5,NFI,5,0),1,0)*Table_NFI[[#This Row],[Complementary Kit]],Table_NFI[Complementary Kit])","v":0},{"$f":"IF(NFI_Expiration=1,IF($A252<VLOOKUP(P$5,NFI,5,0),1,0)*Table_NFI[[#This Row],[Plastic Bucket]],Table_NFI[Plastic Bucket])","v":0},{"$f":"IF(NFI_Expiration=1,IF($A252<VLOOKUP(Q$5,NFI,5,0),1,0)*Table_NFI[[#This Row],[Plastic Mat]],Table_NFI[Plastic Mat])","v":0},{"$f":"IFERROR(VLOOKUP(Table_NFI[[#This Row],[Camp Name]],CL,2,0),\"\")","v":"MMR001CMP168"},{"$f":"IFERROR(VLOOKUP(Table_NFI[[#This Row],[Camp Name]],CL,3,0),\"\")","v":"Open"},{"$f":"IFERROR(Table_NFI[[#This Row],[Kitchen Set]]/VLOOKUP(Table_NFI[[#This Row],[Camp Name]],CL,4,0),\"\")","v":0}]
[12.2,"2012-12-31","DRC","DRC","Kachin","Hpakant","Baptist Church, Hmaw Si Sar(Lon Khin)",20,null,null,null,null,null,null,null,0,0,{"$f":"IF(NFI_Expiration=1,IF($A253<VLOOKUP(H$5,NFI,5,0),1,0)*Table_NFI[[#This Row],[Hygiene Kit]],Table_NFI[Hygiene Kit])","v":0},{"$f":"IF(NFI_Expiration=1,IF($A253<VLOOKUP(I$5,NFI,5,0),1,0)*Table_NFI[[#This Row],[NFI Core Kit]],Table_NFI[NFI Core Kit])","v":0},{"$f":"IF(NFI_Expiration=1,IF($A253<VLOOKUP(J$5,NFI,5,0),1,0)*Table_NFI[[#This Row],[Sanitary Kit]],Table_NFI[Sanitary Kit])","v":0},{"$f":"IF(NFI_Expiration=1,IF($A253<VLOOKUP(K$5,NFI,5,0),1,0)*Table_NFI[[#This Row],[Mosquito net]],Table_NFI[Mosquito net])","v":0},{"$f":"IF(NFI_Expiration=1,IF($A253<VLOOKUP(L$5,NFI,5,0),1,0)*Table_NFI[[#This Row],[Tarpaulin]],Table_NFI[[#This Row],[Tarpaulin]])","v":0},{"$f":"IF(NFI_Expiration=1,IF($A253<VLOOKUP(M$5,NFI,5,0),1,0)*Table_NFI[[#This Row],[Blanket]],Table_NFI[[#This Row],[Blanket]])","v":0},{"$f":"IF(NFI_Expiration=1,IF($A253<VLOOKUP(N$5,NFI,5,0),1,0)*Table_NFI[[#This Row],[Kitchen Set]],Table_NFI[Kitchen Set])","v":0},{"$f":"IF(NFI_Expiration=1,IF($A253<VLOOKUP(O$5,NFI,5,0),1,0)*Table_NFI[[#This Row],[Complementary Kit]],Table_NFI[Complementary Kit])","v":0},{"$f":"IF(NFI_Expiration=1,IF($A253<VLOOKUP(P$5,NFI,5,0),1,0)*Table_NFI[[#This Row],[Plastic Bucket]],Table_NFI[Plastic Bucket])","v":0},{"$f":"IF(NFI_Expiration=1,IF($A253<VLOOKUP(Q$5,NFI,5,0),1,0)*Table_NFI[[#This Row],[Plastic Mat]],Table_NFI[Plastic Mat])","v":0},{"$f":"IFERROR(VLOOKUP(Table_NFI[[#This Row],[Camp Name]],CL,2,0),\"\")","v":"MMR001CMP169"},{"$f":"IFERROR(VLOOKUP(Table_NFI[[#This Row],[Camp Name]],CL,3,0),\"\")","v":"Open"},{"$f":"IFERROR(Table_NFI[[#This Row],[Kitchen Set]]/VLOOKUP(Table_NFI[[#This Row],[Camp Name]],CL,4,0),\"\")","v":0}]
[12.2,"2012-12-31","DRC","DRC","Kachin","Hpakant","Baptist Church, Sai Ra village",3,null,null,null,null,null,null,null,0,0,{"$f":"IF(NFI_Expiration=1,IF($A254<VLOOKUP(H$5,NFI,5,0),1,0)*Table_NFI[[#This Row],[Hygiene Kit]],Table_NFI[Hygiene Kit])","v":0},{"$f":"IF(NFI_Expiration=1,IF($A254<VLOOKUP(I$5,NFI,5,0),1,0)*Table_NFI[[#This Row],[NFI Core Kit]],Table_NFI[NFI Core Kit])","v":0},{"$f":"IF(NFI_Expiration=1,IF($A254<VLOOKUP(J$5,NFI,5,0),1,0)*Table_NFI[[#This Row],[Sanitary Kit]],Table_NFI[Sanitary Kit])","v":0},{"$f":"IF(NFI_Expiration=1,IF($A254<VLOOKUP(K$5,NFI,5,0),1,0)*Table_NFI[[#This Row],[Mosquito net]],Table_NFI[Mosquito net])","v":0},{"$f":"IF(NFI_Expiration=1,IF($A254<VLOOKUP(L$5,NFI,5,0),1,0)*Table_NFI[[#This Row],[Tarpaulin]],Table_NFI[[#This Row],[Tarpaulin]])","v":0},{"$f":"IF(NFI_Expiration=1,IF($A254<VLOOKUP(M$5,NFI,5,0),1,0)*Table_NFI[[#This Row],[Blanket]],Table_NFI[[#This Row],[Blanket]])","v":0},{"$f":"IF(NFI_Expiration=1,IF($A254<VLOOKUP(N$5,NFI,5,0),1,0)*Table_NFI[[#This Row],[Kitchen Set]],Table_NFI[Kitchen Set])","v":0},{"$f":"IF(NFI_Expiration=1,IF($A254<VLOOKUP(O$5,NFI,5,0),1,0)*Table_NFI[[#This Row],[Complementary Kit]],Table_NFI[Complementary Kit])","v":0},{"$f":"IF(NFI_Expiration=1,IF($A254<VLOOKUP(P$5,NFI,5,0),1,0)*Table_NFI[[#This Row],[Plastic Bucket]],Table_NFI[Plastic Bucket])","v":0},{"$f":"IF(NFI_Expiration=1,IF($A254<VLOOKUP(Q$5,NFI,5,0),1,0)*Table_NFI[[#This Row],[Plastic Mat]],Table_NFI[Plastic Mat])","v":0},{"$f":"IFERROR(VLOOKUP(Table_NFI[[#This Row],[Camp Name]],CL,2,0),\"\")","v":"MMR001CMP172"},{"$f":"IFERROR(VLOOKUP(Table_NFI[[#This Row],[Camp Name]],CL,3,0),\"\")","v":"Open"},{"$f":"IFERROR(Table_NFI[[#This Row],[Kitchen Set]]/VLOOKUP(Table_NFI[[#This Row],[Camp Name]],CL,4,0),\"\")","v":0}]
[12.2,"2012-12-31","DRC","DRC","Kachin","Hpakant","Dhama Rakhita, Nyein Chan Tar Yar Ward(Lon Khin)",6,null,null,null,null,null,null,null,0,0,{"$f":"IF(NFI_Expiration=1,IF($A255<VLOOKUP(H$5,NFI,5,0),1,0)*Table_NFI[[#This Row],[Hygiene Kit]],Table_NFI[Hygiene Kit])","v":0},{"$f":"IF(NFI_Expiration=1,IF($A255<VLOOKUP(I$5,NFI,5,0),1,0)*Table_NFI[[#This Row],[NFI Core Kit]],Table_NFI[NFI Core Kit])","v":0},{"$f":"IF(NFI_Expiration=1,IF($A255<VLOOKUP(J$5,NFI,5,0),1,0)*Table_NFI[[#This Row],[Sanitary Kit]],Table_NFI[Sanitary Kit])","v":0},{"$f":"IF(NFI_Expiration=1,IF($A255<VLOOKUP(K$5,NFI,5,0),1,0)*Table_NFI[[#This Row],[Mosquito net]],Table_NFI[Mosquito net])","v":0},{"$f":"IF(NFI_Expiration=1,IF($A255<VLOOKUP(L$5,NFI,5,0),1,0)*Table_NFI[[#This Row],[Tarpaulin]],Table_NFI[[#This Row],[Tarpaulin]])","v":0},{"$f":"IF(NFI_Expiration=1,IF($A255<VLOOKUP(M$5,NFI,5,0),1,0)*Table_NFI[[#This Row],[Blanket]],Table_NFI[[#This Row],[Blanket]])","v":0},{"$f":"IF(NFI_Expiration=1,IF($A255<VLOOKUP(N$5,NFI,5,0),1,0)*Table_NFI[[#This Row],[Kitchen Set]],Table_NFI[Kitchen Set])","v":0},{"$f":"IF(NFI_Expiration=1,IF($A255<VLOOKUP(O$5,NFI,5,0),1,0)*Table_NFI[[#This Row],[Complementary Kit]],Table_NFI[Complementary Kit])","v":0},{"$f":"IF(NFI_Expiration=1,IF($A255<VLOOKUP(P$5,NFI,5,0),1,0)*Table_NFI[[#This Row],[Plastic Bucket]],Table_NFI[Plastic Bucket])","v":0},{"$f":"IF(NFI_Expiration=1,IF($A255<VLOOKUP(Q$5,NFI,5,0),1,0)*Table_NFI[[#This Row],[Plastic Mat]],Table_NFI[Plastic Mat])","v":0},{"$f":"IFERROR(VLOOKUP(Table_NFI[[#This Row],[Camp Name]],CL,2,0),\"\")","v":"MMR001CMP174"},{"$f":"IFERROR(VLOOKUP(Table_NFI[[#This Row],[Camp Name]],CL,3,0),\"\")","v":"Open"},{"$f":"IFERROR(Table_NFI[[#This Row],[Kitchen Set]]/VLOOKUP(Table_NFI[[#This Row],[Camp Name]],CL,4,0),\"\")","v":0}]
[12.2,"2012-12-31","DRC","DRC","Kachin","Hpakant","Wrad(5) Christian Association",3,null,null,null,null,null,null,null,0,0,{"$f":"IF(NFI_Expiration=1,IF($A256<VLOOKUP(H$5,NFI,5,0),1,0)*Table_NFI[[#This Row],[Hygiene Kit]],Table_NFI[Hygiene Kit])","v":0},{"$f":"IF(NFI_Expiration=1,IF($A256<VLOOKUP(I$5,NFI,5,0),1,0)*Table_NFI[[#This Row],[NFI Core Kit]],Table_NFI[NFI Core Kit])","v":0},{"$f":"IF(NFI_Expiration=1,IF($A256<VLOOKUP(J$5,NFI,5,0),1,0)*Table_NFI[[#This Row],[Sanitary Kit]],Table_NFI[Sanitary Kit])","v":0},{"$f":"IF(NFI_Expiration=1,IF($A256<VLOOKUP(K$5,NFI,5,0),1,0)*Table_NFI[[#This Row],[Mosquito net]],Table_NFI[Mosquito net])","v":0},{"$f":"IF(NFI_Expiration=1,IF($A256<VLOOKUP(L$5,NFI,5,0),1,0)*Table_NFI[[#This Row],[Tarpaulin]],Table_NFI[[#This Row],[Tarpaulin]])","v":0},{"$f":"IF(NFI_Expiration=1,IF($A256<VLOOKUP(M$5,NFI,5,0),1,0)*Table_NFI[[#This Row],[Blanket]],Table_NFI[[#This Row],[Blanket]])","v":0},{"$f":"IF(NFI_Expiration=1,IF($A256<VLOOKUP(N$5,NFI,5,0),1,0)*Table_NFI[[#This Row],[Kitchen Set]],Table_NFI[Kitchen Set])","v":0},{"$f":"IF(NFI_Expiration=1,IF($A256<VLOOKUP(O$5,NFI,5,0),1,0)*Table_NFI[[#This Row],[Complementary Kit]],Table_NFI[Complementary Kit])","v":0},{"$f":"IF(NFI_Expiration=1,IF($A256<VLOOKUP(P$5,NFI,5,0),1,0)*Table_NFI[[#This Row],[Plastic Bucket]],Table_NFI[Plastic Bucket])","v":0},{"$f":"IF(NFI_Expiration=1,IF($A256<VLOOKUP(Q$5,NFI,5,0),1,0)*Table_NFI[[#This Row],[Plastic Mat]],Table_NFI[Plastic Mat])","v":0},{"$f":"IFERROR(VLOOKUP(Table_NFI[[#This Row],[Camp Name]],CL,2,0),\"\")","v":"MMR001CMP175"},{"$f":"IFERROR(VLOOKUP(Table_NFI[[#This Row],[Camp Name]],CL,3,0),\"\")","v":"Closed"},{"$f":"IFERROR(Table_NFI[[#This Row],[Kitchen Set]]/VLOOKUP(Table_NFI[[#This Row],[Camp Name]],CL,4,0),\"\")","v":""}]
[12.2,"2012-12-31","DRC","DRC","Kachin","Hpakant","AG Church, Hmaw Si Sa",7,null,null,null,null,null,null,null,0,0,{"$f":"IF(NFI_Expiration=1,IF($A257<VLOOKUP(H$5,NFI,5,0),1,0)*Table_NFI[[#This Row],[Hygiene Kit]],Table_NFI[Hygiene Kit])","v":0},{"$f":"IF(NFI_Expiration=1,IF($A257<VLOOKUP(I$5,NFI,5,0),1,0)*Table_NFI[[#This Row],[NFI Core Kit]],Table_NFI[NFI Core Kit])","v":0},{"$f":"IF(NFI_Expiration=1,IF($A257<VLOOKUP(J$5,NFI,5,0),1,0)*Table_NFI[[#This Row],[Sanitary Kit]],Table_NFI[Sanitary Kit])","v":0},{"$f":"IF(NFI_Expiration=1,IF($A257<VLOOKUP(K$5,NFI,5,0),1,0)*Table_NFI[[#This Row],[Mosquito net]],Table_NFI[Mosquito net])","v":0},{"$f":"IF(NFI_Expiration=1,IF($A257<VLOOKUP(L$5,NFI,5,0),1,0)*Table_NFI[[#This Row],[Tarpaulin]],Table_NFI[[#This Row],[Tarpaulin]])","v":0},{"$f":"IF(NFI_Expiration=1,IF($A257<VLOOKUP(M$5,NFI,5,0),1,0)*Table_NFI[[#This Row],[Blanket]],Table_NFI[[#This Row],[Blanket]])","v":0},{"$f":"IF(NFI_Expiration=1,IF($A257<VLOOKUP(N$5,NFI,5,0),1,0)*Table_NFI[[#This Row],[Kitchen Set]],Table_NFI[Kitchen Set])","v":0},{"$f":"IF(NFI_Expiration=1,IF($A257<VLOOKUP(O$5,NFI,5,0),1,0)*Table_NFI[[#This Row],[Complementary Kit]],Table_NFI[Complementary Kit])","v":0},{"$f":"IF(NFI_Expiration=1,IF($A257<VLOOKUP(P$5,NFI,5,0),1,0)*Table_NFI[[#This Row],[Plastic Bucket]],Table_NFI[Plastic Bucket])","v":0},{"$f":"IF(NFI_Expiration=1,IF($A257<VLOOKUP(Q$5,NFI,5,0),1,0)*Table_NFI[[#This Row],[Plastic Mat]],Table_NFI[Plastic Mat])","v":0},{"$f":"IFERROR(VLOOKUP(Table_NFI[[#This Row],[Camp Name]],CL,2,0),\"\")","v":"MMR001CMP176"},{"$f":"IFERROR(VLOOKUP(Table_NFI[[#This Row],[Camp Name]],CL,3,0),\"\")","v":"Open"},{"$f":"IFERROR(Table_NFI[[#This Row],[Kitchen Set]]/VLOOKUP(Table_NFI[[#This Row],[Camp Name]],CL,4,0),\"\")","v":0}]
[12.2,"2012-12-31","DRC","DRC","Kachin","Hpakant","Muring Baptist Church, Awng Ra, Wa Ra Zut VT",1,null,null,null,null,null,null,null,0,0,{"$f":"IF(NFI_Expiration=1,IF($A258<VLOOKUP(H$5,NFI,5,0),1,0)*Table_NFI[[#This Row],[Hygiene Kit]],Table_NFI[Hygiene Kit])","v":0},{"$f":"IF(NFI_Expiration=1,IF($A258<VLOOKUP(I$5,NFI,5,0),1,0)*Table_NFI[[#This Row],[NFI Core Kit]],Table_NFI[NFI Core Kit])","v":0},{"$f":"IF(NFI_Expiration=1,IF($A258<VLOOKUP(J$5,NFI,5,0),1,0)*Table_NFI[[#This Row],[Sanitary Kit]],Table_NFI[Sanitary Kit])","v":0},{"$f":"IF(NFI_Expiration=1,IF($A258<VLOOKUP(K$5,NFI,5,0),1,0)*Table_NFI[[#This Row],[Mosquito net]],Table_NFI[Mosquito net])","v":0},{"$f":"IF(NFI_Expiration=1,IF($A258<VLOOKUP(L$5,NFI,5,0),1,0)*Table_NFI[[#This Row],[Tarpaulin]],Table_NFI[[#This Row],[Tarpaulin]])","v":0},{"$f":"IF(NFI_Expiration=1,IF($A258<VLOOKUP(M$5,NFI,5,0),1,0)*Table_NFI[[#This Row],[Blanket]],Table_NFI[[#This Row],[Blanket]])","v":0},{"$f":"IF(NFI_Expiration=1,IF($A258<VLOOKUP(N$5,NFI,5,0),1,0)*Table_NFI[[#This Row],[Kitchen Set]],Table_NFI[Kitchen Set])","v":0},{"$f":"IF(NFI_Expiration=1,IF($A258<VLOOKUP(O$5,NFI,5,0),1,0)*Table_NFI[[#This Row],[Complementary Kit]],Table_NFI[Complementary Kit])","v":0},{"$f":"IF(NFI_Expiration=1,IF($A258<VLOOKUP(P$5,NFI,5,0),1,0)*Table_NFI[[#This Row],[Plastic Bucket]],Table_NFI[Plastic Bucket])","v":0},{"$f":"IF(NFI_Expiration=1,IF($A258<VLOOKUP(Q$5,NFI,5,0),1,0)*Table_NFI[[#This Row],[Plastic Mat]],Table_NFI[Plastic Mat])","v":0},{"$f":"IFERROR(VLOOKUP(Table_NFI[[#This Row],[Camp Name]],CL,2,0),\"\")","v":"MMR001CMP177"},{"$f":"IFERROR(VLOOKUP(Table_NFI[[#This Row],[Camp Name]],CL,3,0),\"\")","v":"Open"},{"$f":"IFERROR(Table_NFI[[#This Row],[Kitchen Set]]/VLOOKUP(Table_NFI[[#This Row],[Camp Name]],CL,4,0),\"\")","v":0}]
[12.2,"2012-12-31","DRC","DRC","Kachin","Hpakant","May Di Ka Rama Monastery(Lon Khin)",5,null,null,null,null,null,null,null,0,0,{"$f":"IF(NFI_Expiration=1,IF($A259<VLOOKUP(H$5,NFI,5,0),1,0)*Table_NFI[[#This Row],[Hygiene Kit]],Table_NFI[Hygiene Kit])","v":0},{"$f":"IF(NFI_Expiration=1,IF($A259<VLOOKUP(I$5,NFI,5,0),1,0)*Table_NFI[[#This Row],[NFI Core Kit]],Table_NFI[NFI Core Kit])","v":0},{"$f":"IF(NFI_Expiration=1,IF($A259<VLOOKUP(J$5,NFI,5,0),1,0)*Table_NFI[[#This Row],[Sanitary Kit]],Table_NFI[Sanitary Kit])","v":0},{"$f":"IF(NFI_Expiration=1,IF($A259<VLOOKUP(K$5,NFI,5,0),1,0)*Table_NFI[[#This Row],[Mosquito net]],Table_NFI[Mosquito net])","v":0},{"$f":"IF(NFI_Expiration=1,IF($A259<VLOOKUP(L$5,NFI,5,0),1,0)*Table_NFI[[#This Row],[Tarpaulin]],Table_NFI[[#This Row],[Tarpaulin]])","v":0},{"$f":"IF(NFI_Expiration=1,IF($A259<VLOOKUP(M$5,NFI,5,0),1,0)*Table_NFI[[#This Row],[Blanket]],Table_NFI[[#This Row],[Blanket]])","v":0},{"$f":"IF(NFI_Expiration=1,IF($A259<VLOOKUP(N$5,NFI,5,0),1,0)*Table_NFI[[#This Row],[Kitchen Set]],Table_NFI[Kitchen Set])","v":0},{"$f":"IF(NFI_Expiration=1,IF($A259<VLOOKUP(O$5,NFI,5,0),1,0)*Table_NFI[[#This Row],[Complementary Kit]],Table_NFI[Complementary Kit])","v":0},{"$f":"IF(NFI_Expiration=1,IF($A259<VLOOKUP(P$5,NFI,5,0),1,0)*Table_NFI[[#This Row],[Plastic Bucket]],Table_NFI[Plastic Bucket])","v":0},{"$f":"IF(NFI_Expiration=1,IF($A259<VLOOKUP(Q$5,NFI,5,0),1,0)*Table_NFI[[#This Row],[Plastic Mat]],Table_NFI[Plastic Mat])","v":0},{"$f":"IFERROR(VLOOKUP(Table_NFI[[#This Row],[Camp Name]],CL,2,0),\"\")","v":"MMR001CMP178"},{"$f":"IFERROR(VLOOKUP(Table_NFI[[#This Row],[Camp Name]],CL,3,0),\"\")","v":"Closed"},{"$f":"IFERROR(Table_NFI[[#This Row],[Kitchen Set]]/VLOOKUP(Table_NFI[[#This Row],[Camp Name]],CL,4,0),\"\")","v":""}]
[12.2,"2012-12-31","DRC","DRC","Kachin","Hpakant","5 Ward Baptist Church(lon Khin)",12,null,null,null,null,null,null,null,0,0,{"$f":"IF(NFI_Expiration=1,IF($A260<VLOOKUP(H$5,NFI,5,0),1,0)*Table_NFI[[#This Row],[Hygiene Kit]],Table_NFI[Hygiene Kit])","v":0},{"$f":"IF(NFI_Expiration=1,IF($A260<VLOOKUP(I$5,NFI,5,0),1,0)*Table_NFI[[#This Row],[NFI Core Kit]],Table_NFI[NFI Core Kit])","v":0},{"$f":"IF(NFI_Expiration=1,IF($A260<VLOOKUP(J$5,NFI,5,0),1,0)*Table_NFI[[#This Row],[Sanitary Kit]],Table_NFI[Sanitary Kit])","v":0},{"$f":"IF(NFI_Expiration=1,IF($A260<VLOOKUP(K$5,NFI,5,0),1,0)*Table_NFI[[#This Row],[Mosquito net]],Table_NFI[Mosquito net])","v":0},{"$f":"IF(NFI_Expiration=1,IF($A260<VLOOKUP(L$5,NFI,5,0),1,0)*Table_NFI[[#This Row],[Tarpaulin]],Table_NFI[[#This Row],[Tarpaulin]])","v":0},{"$f":"IF(NFI_Expiration=1,IF($A260<VLOOKUP(M$5,NFI,5,0),1,0)*Table_NFI[[#This Row],[Blanket]],Table_NFI[[#This Row],[Blanket]])","v":0},{"$f":"IF(NFI_Expiration=1,IF($A260<VLOOKUP(N$5,NFI,5,0),1,0)*Table_NFI[[#This Row],[Kitchen Set]],Table_NFI[Kitchen Set])","v":0},{"$f":"IF(NFI_Expiration=1,IF($A260<VLOOKUP(O$5,NFI,5,0),1,0)*Table_NFI[[#This Row],[Complementary Kit]],Table_NFI[Complementary Kit])","v":0},{"$f":"IF(NFI_Expiration=1,IF($A260<VLOOKUP(P$5,NFI,5,0),1,0)*Table_NFI[[#This Row],[Plastic Bucket]],Table_NFI[Plastic Bucket])","v":0},{"$f":"IF(NFI_Expiration=1,IF($A260<VLOOKUP(Q$5,NFI,5,0),1,0)*Table_NFI[[#This Row],[Plastic Mat]],Table_NFI[Plastic Mat])","v":0},{"$f":"IFERROR(VLOOKUP(Table_NFI[[#This Row],[Camp Name]],CL,2,0),\"\")","v":"MMR001CMP179"},{"$f":"IFERROR(VLOOKUP(Table_NFI[[#This Row],[Camp Name]],CL,3,0),\"\")","v":"Open"},{"$f":"IFERROR(Table_NFI[[#This Row],[Kitchen Set]]/VLOOKUP(Table_NFI[[#This Row],[Camp Name]],CL,4,0),\"\")","v":0}]
[12.2,"2012-12-31","DRC","DRC","Kachin","Hpakant","AG Church, Maw Wan",4,null,null,null,null,null,null,null,0,0,{"$f":"IF(NFI_Expiration=1,IF($A261<VLOOKUP(H$5,NFI,5,0),1,0)*Table_NFI[[#This Row],[Hygiene Kit]],Table_NFI[Hygiene Kit])","v":0},{"$f":"IF(NFI_Expiration=1,IF($A261<VLOOKUP(I$5,NFI,5,0),1,0)*Table_NFI[[#This Row],[NFI Core Kit]],Table_NFI[NFI Core Kit])","v":0},{"$f":"IF(NFI_Expiration=1,IF($A261<VLOOKUP(J$5,NFI,5,0),1,0)*Table_NFI[[#This Row],[Sanitary Kit]],Table_NFI[Sanitary Kit])","v":0},{"$f":"IF(NFI_Expiration=1,IF($A261<VLOOKUP(K$5,NFI,5,0),1,0)*Table_NFI[[#This Row],[Mosquito net]],Table_NFI[Mosquito net])","v":0},{"$f":"IF(NFI_Expiration=1,IF($A261<VLOOKUP(L$5,NFI,5,0),1,0)*Table_NFI[[#This Row],[Tarpaulin]],Table_NFI[[#This Row],[Tarpaulin]])","v":0},{"$f":"IF(NFI_Expiration=1,IF($A261<VLOOKUP(M$5,NFI,5,0),1,0)*Table_NFI[[#This Row],[Blanket]],Table_NFI[[#This Row],[Blanket]])","v":0},{"$f":"IF(NFI_Expiration=1,IF($A261<VLOOKUP(N$5,NFI,5,0),1,0)*Table_NFI[[#This Row],[Kitchen Set]],Table_NFI[Kitchen Set])","v":0},{"$f":"IF(NFI_Expiration=1,IF($A261<VLOOKUP(O$5,NFI,5,0),1,0)*Table_NFI[[#This Row],[Complementary Kit]],Table_NFI[Complementary Kit])","v":0},{"$f":"IF(NFI_Expiration=1,IF($A261<VLOOKUP(P$5,NFI,5,0),1,0)*Table_NFI[[#This Row],[Plastic Bucket]],Table_NFI[Plastic Bucket])","v":0},{"$f":"IF(NFI_Expiration=1,IF($A261<VLOOKUP(Q$5,NFI,5,0),1,0)*Table_NFI[[#This Row],[Plastic Mat]],Table_NFI[Plastic Mat])","v":0},{"$f":"IFERROR(VLOOKUP(Table_NFI[[#This Row],[Camp Name]],CL,2,0),\"\")","v":"MMR001CMP190"},{"$f":"IFERROR(VLOOKUP(Table_NFI[[#This Row],[Camp Name]],CL,3,0),\"\")","v":"Open"},{"$f":"IFERROR(Table_NFI[[#This Row],[Kitchen Set]]/VLOOKUP(Table_NFI[[#This Row],[Camp Name]],CL,4,0),\"\")","v":0}]
[{"$f":"IF(ISBLANK(B262),\"\",(Report_Date-B262)/30)","v":12.2},"2012-12-31","DRC","DRC","Kachin","Hpakant","Hmaw Wan, Anglican",3,null,null,null,null,null,null,null,0,0,{"$f":"IF(NFI_Expiration=1,IF($A262<VLOOKUP(H$5,NFI,5,0),1,0)*Table_NFI[[#This Row],[Hygiene Kit]],Table_NFI[Hygiene Kit])","v":0},{"$f":"IF(NFI_Expiration=1,IF($A262<VLOOKUP(I$5,NFI,5,0),1,0)*Table_NFI[[#This Row],[NFI Core Kit]],Table_NFI[NFI Core Kit])","v":0},{"$f":"IF(NFI_Expiration=1,IF($A262<VLOOKUP(J$5,NFI,5,0),1,0)*Table_NFI[[#This Row],[Sanitary Kit]],Table_NFI[Sanitary Kit])","v":0},{"$f":"IF(NFI_Expiration=1,IF($A262<VLOOKUP(K$5,NFI,5,0),1,0)*Table_NFI[[#This Row],[Mosquito net]],Table_NFI[Mosquito net])","v":0},{"$f":"IF(NFI_Expiration=1,IF($A262<VLOOKUP(L$5,NFI,5,0),1,0)*Table_NFI[[#This Row],[Tarpaulin]],Table_NFI[[#This Row],[Tarpaulin]])","v":0},{"$f":"IF(NFI_Expiration=1,IF($A262<VLOOKUP(M$5,NFI,5,0),1,0)*Table_NFI[[#This Row],[Blanket]],Table_NFI[[#This Row],[Blanket]])","v":0},{"$f":"IF(NFI_Expiration=1,IF($A262<VLOOKUP(N$5,NFI,5,0),1,0)*Table_NFI[[#This Row],[Kitchen Set]],Table_NFI[Kitchen Set])","v":0},{"$f":"IF(NFI_Expiration=1,IF($A262<VLOOKUP(O$5,NFI,5,0),1,0)*Table_NFI[[#This Row],[Complementary Kit]],Table_NFI[Complementary Kit])","v":0},{"$f":"IF(NFI_Expiration=1,IF($A262<VLOOKUP(P$5,NFI,5,0),1,0)*Table_NFI[[#This Row],[Plastic Bucket]],Table_NFI[Plastic Bucket])","v":0},{"$f":"IF(NFI_Expiration=1,IF($A262<VLOOKUP(Q$5,NFI,5,0),1,0)*Table_NFI[[#This Row],[Plastic Mat]],Table_NFI[Plastic Mat])","v":0},{"$f":"IFERROR(VLOOKUP(Table_NFI[[#This Row],[Camp Name]],CL,2,0),\"\")","v":"MMR001CMP191"},{"$f":"IFERROR(VLOOKUP(Table_NFI[[#This Row],[Camp Name]],CL,3,0),\"\")","v":"Open"},{"$f":"IFERROR(Table_NFI[[#This Row],[Kitchen Set]]/VLOOKUP(Table_NFI[[#This Row],[Camp Name]],CL,4,0),\"\")","v":0}]
[12.2,"2012-12-31","DRC","DRC","Kachin","Hpakant","Nam Ma Phyit, COC",32,null,null,null,null,null,null,null,0,0,{"$f":"IF(NFI_Expiration=1,IF($A263<VLOOKUP(H$5,NFI,5,0),1,0)*Table_NFI[[#This Row],[Hygiene Kit]],Table_NFI[Hygiene Kit])","v":0},{"$f":"IF(NFI_Expiration=1,IF($A263<VLOOKUP(I$5,NFI,5,0),1,0)*Table_NFI[[#This Row],[NFI Core Kit]],Table_NFI[NFI Core Kit])","v":0},{"$f":"IF(NFI_Expiration=1,IF($A263<VLOOKUP(J$5,NFI,5,0),1,0)*Table_NFI[[#This Row],[Sanitary Kit]],Table_NFI[Sanitary Kit])","v":0},{"$f":"IF(NFI_Expiration=1,IF($A263<VLOOKUP(K$5,NFI,5,0),1,0)*Table_NFI[[#This Row],[Mosquito net]],Table_NFI[Mosquito net])","v":0},{"$f":"IF(NFI_Expiration=1,IF($A263<VLOOKUP(L$5,NFI,5,0),1,0)*Table_NFI[[#This Row],[Tarpaulin]],Table_NFI[[#This Row],[Tarpaulin]])","v":0},{"$f":"IF(NFI_Expiration=1,IF($A263<VLOOKUP(M$5,NFI,5,0),1,0)*Table_NFI[[#This Row],[Blanket]],Table_NFI[[#This Row],[Blanket]])","v":0},{"$f":"IF(NFI_Expiration=1,IF($A263<VLOOKUP(N$5,NFI,5,0),1,0)*Table_NFI[[#This Row],[Kitchen Set]],Table_NFI[Kitchen Set])","v":0},{"$f":"IF(NFI_Expiration=1,IF($A263<VLOOKUP(O$5,NFI,5,0),1,0)*Table_NFI[[#This Row],[Complementary Kit]],Table_NFI[Complementary Kit])","v":0},{"$f":"IF(NFI_Expiration=1,IF($A263<VLOOKUP(P$5,NFI,5,0),1,0)*Table_NFI[[#This Row],[Plastic Bucket]],Table_NFI[Plastic Bucket])","v":0},{"$f":"IF(NFI_Expiration=1,IF($A263<VLOOKUP(Q$5,NFI,5,0),1,0)*Table_NFI[[#This Row],[Plastic Mat]],Table_NFI[Plastic Mat])","v":0},{"$f":"IFERROR(VLOOKUP(Table_NFI[[#This Row],[Camp Name]],CL,2,0),\"\")","v":"MMR001CMP192"},{"$f":"IFERROR(VLOOKUP(Table_NFI[[#This Row],[Camp Name]],CL,3,0),\"\")","v":"Open"},{"$f":"IFERROR(Table_NFI[[#This Row],[Kitchen Set]]/VLOOKUP(Table_NFI[[#This Row],[Camp Name]],CL,4,0),\"\")","v":0}]
[12,"2013-01-06","Solidarities","Solidarities","Kachin","Mansi","Mansi Baptist Church",351,null,415,null,null,null,null,null,0,0,{"$f":"IF(NFI_Expiration=1,IF($A264<VLOOKUP(H$5,NFI,5,0),1,0)*Table_NFI[[#This Row],[Hygiene Kit]],Table_NFI[Hygiene Kit])","v":0},{"$f":"IF(NFI_Expiration=1,IF($A264<VLOOKUP(I$5,NFI,5,0),1,0)*Table_NFI[[#This Row],[NFI Core Kit]],Table_NFI[NFI Core Kit])","v":0},{"$f":"IF(NFI_Expiration=1,IF($A264<VLOOKUP(J$5,NFI,5,0),1,0)*Table_NFI[[#This Row],[Sanitary Kit]],Table_NFI[Sanitary Kit])","v":0},{"$f":"IF(NFI_Expiration=1,IF($A264<VLOOKUP(K$5,NFI,5,0),1,0)*Table_NFI[[#This Row],[Mosquito net]],Table_NFI[Mosquito net])","v":0},{"$f":"IF(NFI_Expiration=1,IF($A264<VLOOKUP(L$5,NFI,5,0),1,0)*Table_NFI[[#This Row],[Tarpaulin]],Table_NFI[[#This Row],[Tarpaulin]])","v":0},{"$f":"IF(NFI_Expiration=1,IF($A264<VLOOKUP(M$5,NFI,5,0),1,0)*Table_NFI[[#This Row],[Blanket]],Table_NFI[[#This Row],[Blanket]])","v":0},{"$f":"IF(NFI_Expiration=1,IF($A264<VLOOKUP(N$5,NFI,5,0),1,0)*Table_NFI[[#This Row],[Kitchen Set]],Table_NFI[Kitchen Set])","v":0},{"$f":"IF(NFI_Expiration=1,IF($A264<VLOOKUP(O$5,NFI,5,0),1,0)*Table_NFI[[#This Row],[Complementary Kit]],Table_NFI[Complementary Kit])","v":0},{"$f":"IF(NFI_Expiration=1,IF($A264<VLOOKUP(P$5,NFI,5,0),1,0)*Table_NFI[[#This Row],[Plastic Bucket]],Table_NFI[Plastic Bucket])","v":0},{"$f":"IF(NFI_Expiration=1,IF($A264<VLOOKUP(Q$5,NFI,5,0),1,0)*Table_NFI[[#This Row],[Plastic Mat]],Table_NFI[Plastic Mat])","v":0},{"$f":"IFERROR(VLOOKUP(Table_NFI[[#This Row],[Camp Name]],CL,2,0),\"\")","v":"MMR001CMP066"},{"$f":"IFERROR(VLOOKUP(Table_NFI[[#This Row],[Camp Name]],CL,3,0),\"\")","v":"Open"},{"$f":"IFERROR(Table_NFI[[#This Row],[Kitchen Set]]/VLOOKUP(Table_NFI[[#This Row],[Camp Name]],CL,4,0),\"\")","v":0}]
[11.933333333333334,"2013-01-08","Solidarities","Solidarities","Kachin","Bhamo","Yoe Kyi Monastery",132,null,180,null,null,null,null,null,0,0,{"$f":"IF(NFI_Expiration=1,IF($A265<VLOOKUP(H$5,NFI,5,0),1,0)*Table_NFI[[#This Row],[Hygiene Kit]],Table_NFI[Hygiene Kit])","v":132},{"$f":"IF(NFI_Expiration=1,IF($A265<VLOOKUP(I$5,NFI,5,0),1,0)*Table_NFI[[#This Row],[NFI Core Kit]],Table_NFI[NFI Core Kit])","v":0},{"$f":"IF(NFI_Expiration=1,IF($A265<VLOOKUP(J$5,NFI,5,0),1,0)*Table_NFI[[#This Row],[Sanitary Kit]],Table_NFI[Sanitary Kit])","v":180},{"$f":"IF(NFI_Expiration=1,IF($A265<VLOOKUP(K$5,NFI,5,0),1,0)*Table_NFI[[#This Row],[Mosquito net]],Table_NFI[Mosquito net])","v":0},{"$f":"IF(NFI_Expiration=1,IF($A265<VLOOKUP(L$5,NFI,5,0),1,0)*Table_NFI[[#This Row],[Tarpaulin]],Table_NFI[[#This Row],[Tarpaulin]])","v":0},{"$f":"IF(NFI_Expiration=1,IF($A265<VLOOKUP(M$5,NFI,5,0),1,0)*Table_NFI[[#This Row],[Blanket]],Table_NFI[[#This Row],[Blanket]])","v":0},{"$f":"IF(NFI_Expiration=1,IF($A265<VLOOKUP(N$5,NFI,5,0),1,0)*Table_NFI[[#This Row],[Kitchen Set]],Table_NFI[Kitchen Set])","v":0},{"$f":"IF(NFI_Expiration=1,IF($A265<VLOOKUP(O$5,NFI,5,0),1,0)*Table_NFI[[#This Row],[Complementary Kit]],Table_NFI[Complementary Kit])","v":0},{"$f":"IF(NFI_Expiration=1,IF($A265<VLOOKUP(P$5,NFI,5,0),1,0)*Table_NFI[[#This Row],[Plastic Bucket]],Table_NFI[Plastic Bucket])","v":0},{"$f":"IF(NFI_Expiration=1,IF($A265<VLOOKUP(Q$5,NFI,5,0),1,0)*Table_NFI[[#This Row],[Plastic Mat]],Table_NFI[Plastic Mat])","v":0},{"$f":"IFERROR(VLOOKUP(Table_NFI[[#This Row],[Camp Name]],CL,2,0),\"\")","v":"MMR001CMP053"},{"$f":"IFERROR(VLOOKUP(Table_NFI[[#This Row],[Camp Name]],CL,3,0),\"\")","v":"Open"},{"$f":"IFERROR(Table_NFI[[#This Row],[Kitchen Set]]/VLOOKUP(Table_NFI[[#This Row],[Camp Name]],CL,4,0),\"\")","v":0}]
[11.933333333333334,"2013-01-08","Solidarities","Solidarities","Kachin","Momauk","Loi Je Catholic Church",353,null,435,null,null,null,null,null,0,0,{"$f":"IF(NFI_Expiration=1,IF($A266<VLOOKUP(H$5,NFI,5,0),1,0)*Table_NFI[[#This Row],[Hygiene Kit]],Table_NFI[Hygiene Kit])","v":353},{"$f":"IF(NFI_Expiration=1,IF($A266<VLOOKUP(I$5,NFI,5,0),1,0)*Table_NFI[[#This Row],[NFI Core Kit]],Table_NFI[NFI Core Kit])","v":0},{"$f":"IF(NFI_Expiration=1,IF($A266<VLOOKUP(J$5,NFI,5,0),1,0)*Table_NFI[[#This Row],[Sanitary Kit]],Table_NFI[Sanitary Kit])","v":435},{"$f":"IF(NFI_Expiration=1,IF($A266<VLOOKUP(K$5,NFI,5,0),1,0)*Table_NFI[[#This Row],[Mosquito net]],Table_NFI[Mosquito net])","v":0},{"$f":"IF(NFI_Expiration=1,IF($A266<VLOOKUP(L$5,NFI,5,0),1,0)*Table_NFI[[#This Row],[Tarpaulin]],Table_NFI[[#This Row],[Tarpaulin]])","v":0},{"$f":"IF(NFI_Expiration=1,IF($A266<VLOOKUP(M$5,NFI,5,0),1,0)*Table_NFI[[#This Row],[Blanket]],Table_NFI[[#This Row],[Blanket]])","v":0},{"$f":"IF(NFI_Expiration=1,IF($A266<VLOOKUP(N$5,NFI,5,0),1,0)*Table_NFI[[#This Row],[Kitchen Set]],Table_NFI[Kitchen Set])","v":0},{"$f":"IF(NFI_Expiration=1,IF($A266<VLOOKUP(O$5,NFI,5,0),1,0)*Table_NFI[[#This Row],[Complementary Kit]],Table_NFI[Complementary Kit])","v":0},{"$f":"IF(NFI_Expiration=1,IF($A266<VLOOKUP(P$5,NFI,5,0),1,0)*Table_NFI[[#This Row],[Plastic Bucket]],Table_NFI[Plastic Bucket])","v":0},{"$f":"IF(NFI_Expiration=1,IF($A266<VLOOKUP(Q$5,NFI,5,0),1,0)*Table_NFI[[#This Row],[Plastic Mat]],Table_NFI[Plastic Mat])","v":0},{"$f":"IFERROR(VLOOKUP(Table_NFI[[#This Row],[Camp Name]],CL,2,0),\"\")","v":"MMR001CMP069"},{"$f":"IFERROR(VLOOKUP(Table_NFI[[#This Row],[Camp Name]],CL,3,0),\"\")","v":"Open"},{"$f":"IFERROR(Table_NFI[[#This Row],[Kitchen Set]]/VLOOKUP(Table_NFI[[#This Row],[Camp Name]],CL,4,0),\"\")","v":0}]
[11.9,"2013-01-09","Solidarities","Solidarities","Kachin","Bhamo","Lisu Boarding-House",205,null,200,null,null,null,null,null,0,0,{"$f":"IF(NFI_Expiration=1,IF($A267<VLOOKUP(H$5,NFI,5,0),1,0)*Table_NFI[[#This Row],[Hygiene Kit]],Table_NFI[Hygiene Kit])","v":205},{"$f":"IF(NFI_Expiration=1,IF($A267<VLOOKUP(I$5,NFI,5,0),1,0)*Table_NFI[[#This Row],[NFI Core Kit]],Table_NFI[NFI Core Kit])","v":0},{"$f":"IF(NFI_Expiration=1,IF($A267<VLOOKUP(J$5,NFI,5,0),1,0)*Table_NFI[[#This Row],[Sanitary Kit]],Table_NFI[Sanitary Kit])","v":200},{"$f":"IF(NFI_Expiration=1,IF($A267<VLOOKUP(K$5,NFI,5,0),1,0)*Table_NFI[[#This Row],[Mosquito net]],Table_NFI[Mosquito net])","v":0},{"$f":"IF(NFI_Expiration=1,IF($A267<VLOOKUP(L$5,NFI,5,0),1,0)*Table_NFI[[#This Row],[Tarpaulin]],Table_NFI[[#This Row],[Tarpaulin]])","v":0},{"$f":"IF(NFI_Expiration=1,IF($A267<VLOOKUP(M$5,NFI,5,0),1,0)*Table_NFI[[#This Row],[Blanket]],Table_NFI[[#This Row],[Blanket]])","v":0},{"$f":"IF(NFI_Expiration=1,IF($A267<VLOOKUP(N$5,NFI,5,0),1,0)*Table_NFI[[#This Row],[Kitchen Set]],Table_NFI[Kitchen Set])","v":0},{"$f":"IF(NFI_Expiration=1,IF($A267<VLOOKUP(O$5,NFI,5,0),1,0)*Table_NFI[[#This Row],[Complementary Kit]],Table_NFI[Complementary Kit])","v":0},{"$f":"IF(NFI_Expiration=1,IF($A267<VLOOKUP(P$5,NFI,5,0),1,0)*Table_NFI[[#This Row],[Plastic Bucket]],Table_NFI[Plastic Bucket])","v":0},{"$f":"IF(NFI_Expiration=1,IF($A267<VLOOKUP(Q$5,NFI,5,0),1,0)*Table_NFI[[#This Row],[Plastic Mat]],Table_NFI[Plastic Mat])","v":0},{"$f":"IFERROR(VLOOKUP(Table_NFI[[#This Row],[Camp Name]],CL,2,0),\"\")","v":"MMR001CMP049"},{"$f":"IFERROR(VLOOKUP(Table_NFI[[#This Row],[Camp Name]],CL,3,0),\"\")","v":"Open"},{"$f":"IFERROR(Table_NFI[[#This Row],[Kitchen Set]]/VLOOKUP(Table_NFI[[#This Row],[Camp Name]],CL,4,0),\"\")","v":0}]
[11.866666666666667,"2013-01-10","Solidarities","Solidarities","Kachin","Bhamo","Htoi San Church",212,null,240,null,null,null,null,null,0,0,{"$f":"IF(NFI_Expiration=1,IF($A268<VLOOKUP(H$5,NFI,5,0),1,0)*Table_NFI[[#This Row],[Hygiene Kit]],Table_NFI[Hygiene Kit])","v":212},{"$f":"IF(NFI_Expiration=1,IF($A268<VLOOKUP(I$5,NFI,5,0),1,0)*Table_NFI[[#This Row],[NFI Core Kit]],Table_NFI[NFI Core Kit])","v":0},{"$f":"IF(NFI_Expiration=1,IF($A268<VLOOKUP(J$5,NFI,5,0),1,0)*Table_NFI[[#This Row],[Sanitary Kit]],Table_NFI[Sanitary Kit])","v":240},{"$f":"IF(NFI_Expiration=1,IF($A268<VLOOKUP(K$5,NFI,5,0),1,0)*Table_NFI[[#This Row],[Mosquito net]],Table_NFI[Mosquito net])","v":0},{"$f":"IF(NFI_Expiration=1,IF($A268<VLOOKUP(L$5,NFI,5,0),1,0)*Table_NFI[[#This Row],[Tarpaulin]],Table_NFI[[#This Row],[Tarpaulin]])","v":0},{"$f":"IF(NFI_Expiration=1,IF($A268<VLOOKUP(M$5,NFI,5,0),1,0)*Table_NFI[[#This Row],[Blanket]],Table_NFI[[#This Row],[Blanket]])","v":0},{"$f":"IF(NFI_Expiration=1,IF($A268<VLOOKUP(N$5,NFI,5,0),1,0)*Table_NFI[[#This Row],[Kitchen Set]],Table_NFI[Kitchen Set])","v":0},{"$f":"IF(NFI_Expiration=1,IF($A268<VLOOKUP(O$5,NFI,5,0),1,0)*Table_NFI[[#This Row],[Complementary Kit]],Table_NFI[Complementary Kit])","v":0},{"$f":"IF(NFI_Expiration=1,IF($A268<VLOOKUP(P$5,NFI,5,0),1,0)*Table_NFI[[#This Row],[Plastic Bucket]],Table_NFI[Plastic Bucket])","v":0},{"$f":"IF(NFI_Expiration=1,IF($A268<VLOOKUP(Q$5,NFI,5,0),1,0)*Table_NFI[[#This Row],[Plastic Mat]],Table_NFI[Plastic Mat])","v":0},{"$f":"IFERROR(VLOOKUP(Table_NFI[[#This Row],[Camp Name]],CL,2,0),\"\")","v":"MMR001CMP052"},{"$f":"IFERROR(VLOOKUP(Table_NFI[[#This Row],[Camp Name]],CL,3,0),\"\")","v":"Open"},{"$f":"IFERROR(Table_NFI[[#This Row],[Kitchen Set]]/VLOOKUP(Table_NFI[[#This Row],[Camp Name]],CL,4,0),\"\")","v":0}]
[11.733333333333333,"2013-01-14","Solidarities","Solidarities","Kachin","Bhamo","AD-2000 Tharthana Compound",940,null,1310,null,null,null,null,null,0,0,{"$f":"IF(NFI_Expiration=1,IF($A269<VLOOKUP(H$5,NFI,5,0),1,0)*Table_NFI[[#This Row],[Hygiene Kit]],Table_NFI[Hygiene Kit])","v":940},{"$f":"IF(NFI_Expiration=1,IF($A269<VLOOKUP(I$5,NFI,5,0),1,0)*Table_NFI[[#This Row],[NFI Core Kit]],Table_NFI[NFI Core Kit])","v":0},{"$f":"IF(NFI_Expiration=1,IF($A269<VLOOKUP(J$5,NFI,5,0),1,0)*Table_NFI[[#This Row],[Sanitary Kit]],Table_NFI[Sanitary Kit])","v":1310},{"$f":"IF(NFI_Expiration=1,IF($A269<VLOOKUP(K$5,NFI,5,0),1,0)*Table_NFI[[#This Row],[Mosquito net]],Table_NFI[Mosquito net])","v":0},{"$f":"IF(NFI_Expiration=1,IF($A269<VLOOKUP(L$5,NFI,5,0),1,0)*Table_NFI[[#This Row],[Tarpaulin]],Table_NFI[[#This Row],[Tarpaulin]])","v":0},{"$f":"IF(NFI_Expiration=1,IF($A269<VLOOKUP(M$5,NFI,5,0),1,0)*Table_NFI[[#This Row],[Blanket]],Table_NFI[[#This Row],[Blanket]])","v":0},{"$f":"IF(NFI_Expiration=1,IF($A269<VLOOKUP(N$5,NFI,5,0),1,0)*Table_NFI[[#This Row],[Kitchen Set]],Table_NFI[Kitchen Set])","v":0},{"$f":"IF(NFI_Expiration=1,IF($A269<VLOOKUP(O$5,NFI,5,0),1,0)*Table_NFI[[#This Row],[Complementary Kit]],Table_NFI[Complementary Kit])","v":0},{"$f":"IF(NFI_Expiration=1,IF($A269<VLOOKUP(P$5,NFI,5,0),1,0)*Table_NFI[[#This Row],[Plastic Bucket]],Table_NFI[Plastic Bucket])","v":0},{"$f":"IF(NFI_Expiration=1,IF($A269<VLOOKUP(Q$5,NFI,5,0),1,0)*Table_NFI[[#This Row],[Plastic Mat]],Table_NFI[Plastic Mat])","v":0},{"$f":"IFERROR(VLOOKUP(Table_NFI[[#This Row],[Camp Name]],CL,2,0),\"\")","v":"MMR001CMP050"},{"$f":"IFERROR(VLOOKUP(Table_NFI[[#This Row],[Camp Name]],CL,3,0),\"\")","v":"Open"},{"$f":"IFERROR(Table_NFI[[#This Row],[Kitchen Set]]/VLOOKUP(Table_NFI[[#This Row],[Camp Name]],CL,4,0),\"\")","v":0}]
[11.666666666666666,"2013-01-16","Solidarities","Solidarities","Kachin","Momauk","Momauk Baptist Church",1215,null,1735,null,null,null,null,null,0,0,{"$f":"IF(NFI_Expiration=1,IF($A270<VLOOKUP(H$5,NFI,5,0),1,0)*Table_NFI[[#This Row],[Hygiene Kit]],Table_NFI[Hygiene Kit])","v":1215},{"$f":"IF(NFI_Expiration=1,IF($A270<VLOOKUP(I$5,NFI,5,0),1,0)*Table_NFI[[#This Row],[NFI Core Kit]],Table_NFI[NFI Core Kit])","v":0},{"$f":"IF(NFI_Expiration=1,IF($A270<VLOOKUP(J$5,NFI,5,0),1,0)*Table_NFI[[#This Row],[Sanitary Kit]],Table_NFI[Sanitary Kit])","v":1735},{"$f":"IF(NFI_Expiration=1,IF($A270<VLOOKUP(K$5,NFI,5,0),1,0)*Table_NFI[[#This Row],[Mosquito net]],Table_NFI[Mosquito net])","v":0},{"$f":"IF(NFI_Expiration=1,IF($A270<VLOOKUP(L$5,NFI,5,0),1,0)*Table_NFI[[#This Row],[Tarpaulin]],Table_NFI[[#This Row],[Tarpaulin]])","v":0},{"$f":"IF(NFI_Expiration=1,IF($A270<VLOOKUP(M$5,NFI,5,0),1,0)*Table_NFI[[#This Row],[Blanket]],Table_NFI[[#This Row],[Blanket]])","v":0},{"$f":"IF(NFI_Expiration=1,IF($A270<VLOOKUP(N$5,NFI,5,0),1,0)*Table_NFI[[#This Row],[Kitchen Set]],Table_NFI[Kitchen Set])","v":0},{"$f":"IF(NFI_Expiration=1,IF($A270<VLOOKUP(O$5,NFI,5,0),1,0)*Table_NFI[[#This Row],[Complementary Kit]],Table_NFI[Complementary Kit])","v":0},{"$f":"IF(NFI_Expiration=1,IF($A270<VLOOKUP(P$5,NFI,5,0),1,0)*Table_NFI[[#This Row],[Plastic Bucket]],Table_NFI[Plastic Bucket])","v":0},{"$f":"IF(NFI_Expiration=1,IF($A270<VLOOKUP(Q$5,NFI,5,0),1,0)*Table_NFI[[#This Row],[Plastic Mat]],Table_NFI[Plastic Mat])","v":0},{"$f":"IFERROR(VLOOKUP(Table_NFI[[#This Row],[Camp Name]],CL,2,0),\"\")","v":"MMR001CMP056"},{"$f":"IFERROR(VLOOKUP(Table_NFI[[#This Row],[Camp Name]],CL,3,0),\"\")","v":"Open"},{"$f":"IFERROR(Table_NFI[[#This Row],[Kitchen Set]]/VLOOKUP(Table_NFI[[#This Row],[Camp Name]],CL,4,0),\"\")","v":0}]
[11.5,"2013-01-21","Solidarities","Solidarities","Kachin","Bhamo","Nant Hlaing Church",85,null,105,null,null,null,null,null,0,0,{"$f":"IF(NFI_Expiration=1,IF($A271<VLOOKUP(H$5,NFI,5,0),1,0)*Table_NFI[[#This Row],[Hygiene Kit]],Table_NFI[Hygiene Kit])","v":85},{"$f":"IF(NFI_Expiration=1,IF($A271<VLOOKUP(I$5,NFI,5,0),1,0)*Table_NFI[[#This Row],[NFI Core Kit]],Table_NFI[NFI Core Kit])","v":0},{"$f":"IF(NFI_Expiration=1,IF($A271<VLOOKUP(J$5,NFI,5,0),1,0)*Table_NFI[[#This Row],[Sanitary Kit]],Table_NFI[Sanitary Kit])","v":105},{"$f":"IF(NFI_Expiration=1,IF($A271<VLOOKUP(K$5,NFI,5,0),1,0)*Table_NFI[[#This Row],[Mosquito net]],Table_NFI[Mosquito net])","v":0},{"$f":"IF(NFI_Expiration=1,IF($A271<VLOOKUP(L$5,NFI,5,0),1,0)*Table_NFI[[#This Row],[Tarpaulin]],Table_NFI[[#This Row],[Tarpaulin]])","v":0},{"$f":"IF(NFI_Expiration=1,IF($A271<VLOOKUP(M$5,NFI,5,0),1,0)*Table_NFI[[#This Row],[Blanket]],Table_NFI[[#This Row],[Blanket]])","v":0},{"$f":"IF(NFI_Expiration=1,IF($A271<VLOOKUP(N$5,NFI,5,0),1,0)*Table_NFI[[#This Row],[Kitchen Set]],Table_NFI[Kitchen Set])","v":0},{"$f":"IF(NFI_Expiration=1,IF($A271<VLOOKUP(O$5,NFI,5,0),1,0)*Table_NFI[[#This Row],[Complementary Kit]],Table_NFI[Complementary Kit])","v":0},{"$f":"IF(NFI_Expiration=1,IF($A271<VLOOKUP(P$5,NFI,5,0),1,0)*Table_NFI[[#This Row],[Plastic Bucket]],Table_NFI[Plastic Bucket])","v":0},{"$f":"IF(NFI_Expiration=1,IF($A271<VLOOKUP(Q$5,NFI,5,0),1,0)*Table_NFI[[#This Row],[Plastic Mat]],Table_NFI[Plastic Mat])","v":0},{"$f":"IFERROR(VLOOKUP(Table_NFI[[#This Row],[Camp Name]],CL,2,0),\"\")","v":"MMR001CMP054"},{"$f":"IFERROR(VLOOKUP(Table_NFI[[#This Row],[Camp Name]],CL,3,0),\"\")","v":"Open"},{"$f":"IFERROR(Table_NFI[[#This Row],[Kitchen Set]]/VLOOKUP(Table_NFI[[#This Row],[Camp Name]],CL,4,0),\"\")","v":0}]
[11.466666666666667,"2013-01-22","Solidarities","Solidarities","Kachin","Bhamo","Robert Church",1824,null,2090,null,null,null,null,null,0,0,{"$f":"IF(NFI_Expiration=1,IF($A272<VLOOKUP(H$5,NFI,5,0),1,0)*Table_NFI[[#This Row],[Hygiene Kit]],Table_NFI[Hygiene Kit])","v":1824},{"$f":"IF(NFI_Expiration=1,IF($A272<VLOOKUP(I$5,NFI,5,0),1,0)*Table_NFI[[#This Row],[NFI Core Kit]],Table_NFI[NFI Core Kit])","v":0},{"$f":"IF(NFI_Expiration=1,IF($A272<VLOOKUP(J$5,NFI,5,0),1,0)*Table_NFI[[#This Row],[Sanitary Kit]],Table_NFI[Sanitary Kit])","v":2090},{"$f":"IF(NFI_Expiration=1,IF($A272<VLOOKUP(K$5,NFI,5,0),1,0)*Table_NFI[[#This Row],[Mosquito net]],Table_NFI[Mosquito net])","v":0},{"$f":"IF(NFI_Expiration=1,IF($A272<VLOOKUP(L$5,NFI,5,0),1,0)*Table_NFI[[#This Row],[Tarpaulin]],Table_NFI[[#This Row],[Tarpaulin]])","v":0},{"$f":"IF(NFI_Expiration=1,IF($A272<VLOOKUP(M$5,NFI,5,0),1,0)*Table_NFI[[#This Row],[Blanket]],Table_NFI[[#This Row],[Blanket]])","v":0},{"$f":"IF(NFI_Expiration=1,IF($A272<VLOOKUP(N$5,NFI,5,0),1,0)*Table_NFI[[#This Row],[Kitchen Set]],Table_NFI[Kitchen Set])","v":0},{"$f":"IF(NFI_Expiration=1,IF($A272<VLOOKUP(O$5,NFI,5,0),1,0)*Table_NFI[[#This Row],[Complementary Kit]],Table_NFI[Complementary Kit])","v":0},{"$f":"IF(NFI_Expiration=1,IF($A272<VLOOKUP(P$5,NFI,5,0),1,0)*Table_NFI[[#This Row],[Plastic Bucket]],Table_NFI[Plastic Bucket])","v":0},{"$f":"IF(NFI_Expiration=1,IF($A272<VLOOKUP(Q$5,NFI,5,0),1,0)*Table_NFI[[#This Row],[Plastic Mat]],Table_NFI[Plastic Mat])","v":0},{"$f":"IFERROR(VLOOKUP(Table_NFI[[#This Row],[Camp Name]],CL,2,0),\"\")","v":"MMR001CMP047"},{"$f":"IFERROR(VLOOKUP(Table_NFI[[#This Row],[Camp Name]],CL,3,0),\"\")","v":"Open"},{"$f":"IFERROR(Table_NFI[[#This Row],[Kitchen Set]]/VLOOKUP(Table_NFI[[#This Row],[Camp Name]],CL,4,0),\"\")","v":0}]
[11.4,"2013-01-24","Solidarities","Solidarities","Kachin","Momauk","Momauk Catholic Church (St. Patrick)",793,null,1125,null,null,null,null,null,0,0,{"$f":"IF(NFI_Expiration=1,IF($A273<VLOOKUP(H$5,NFI,5,0),1,0)*Table_NFI[[#This Row],[Hygiene Kit]],Table_NFI[Hygiene Kit])","v":793},{"$f":"IF(NFI_Expiration=1,IF($A273<VLOOKUP(I$5,NFI,5,0),1,0)*Table_NFI[[#This Row],[NFI Core Kit]],Table_NFI[NFI Core Kit])","v":0},{"$f":"IF(NFI_Expiration=1,IF($A273<VLOOKUP(J$5,NFI,5,0),1,0)*Table_NFI[[#This Row],[Sanitary Kit]],Table_NFI[Sanitary Kit])","v":1125},{"$f":"IF(NFI_Expiration=1,IF($A273<VLOOKUP(K$5,NFI,5,0),1,0)*Table_NFI[[#This Row],[Mosquito net]],Table_NFI[Mosquito net])","v":0},{"$f":"IF(NFI_Expiration=1,IF($A273<VLOOKUP(L$5,NFI,5,0),1,0)*Table_NFI[[#This Row],[Tarpaulin]],Table_NFI[[#This Row],[Tarpaulin]])","v":0},{"$f":"IF(NFI_Expiration=1,IF($A273<VLOOKUP(M$5,NFI,5,0),1,0)*Table_NFI[[#This Row],[Blanket]],Table_NFI[[#This Row],[Blanket]])","v":0},{"$f":"IF(NFI_Expiration=1,IF($A273<VLOOKUP(N$5,NFI,5,0),1,0)*Table_NFI[[#This Row],[Kitchen Set]],Table_NFI[Kitchen Set])","v":0},{"$f":"IF(NFI_Expiration=1,IF($A273<VLOOKUP(O$5,NFI,5,0),1,0)*Table_NFI[[#This Row],[Complementary Kit]],Table_NFI[Complementary Kit])","v":0},{"$f":"IF(NFI_Expiration=1,IF($A273<VLOOKUP(P$5,NFI,5,0),1,0)*Table_NFI[[#This Row],[Plastic Bucket]],Table_NFI[Plastic Bucket])","v":0},{"$f":"IF(NFI_Expiration=1,IF($A273<VLOOKUP(Q$5,NFI,5,0),1,0)*Table_NFI[[#This Row],[Plastic Mat]],Table_NFI[Plastic Mat])","v":0},{"$f":"IFERROR(VLOOKUP(Table_NFI[[#This Row],[Camp Name]],CL,2,0),\"\")","v":"MMR001CMP057"},{"$f":"IFERROR(VLOOKUP(Table_NFI[[#This Row],[Camp Name]],CL,3,0),\"\")","v":"Open"},{"$f":"IFERROR(Table_NFI[[#This Row],[Kitchen Set]]/VLOOKUP(Table_NFI[[#This Row],[Camp Name]],CL,4,0),\"\")","v":0}]
[11.4,"2013-01-24","Solidarities","Solidarities","Kachin","Momauk","Man Bung Catholic compound",200,null,250,null,null,null,null,null,0,0,{"$f":"IF(NFI_Expiration=1,IF($A274<VLOOKUP(H$5,NFI,5,0),1,0)*Table_NFI[[#This Row],[Hygiene Kit]],Table_NFI[Hygiene Kit])","v":200},{"$f":"IF(NFI_Expiration=1,IF($A274<VLOOKUP(I$5,NFI,5,0),1,0)*Table_NFI[[#This Row],[NFI Core Kit]],Table_NFI[NFI Core Kit])","v":0},{"$f":"IF(NFI_Expiration=1,IF($A274<VLOOKUP(J$5,NFI,5,0),1,0)*Table_NFI[[#This Row],[Sanitary Kit]],Table_NFI[Sanitary Kit])","v":250},{"$f":"IF(NFI_Expiration=1,IF($A274<VLOOKUP(K$5,NFI,5,0),1,0)*Table_NFI[[#This Row],[Mosquito net]],Table_NFI[Mosquito net])","v":0},{"$f":"IF(NFI_Expiration=1,IF($A274<VLOOKUP(L$5,NFI,5,0),1,0)*Table_NFI[[#This Row],[Tarpaulin]],Table_NFI[[#This Row],[Tarpaulin]])","v":0},{"$f":"IF(NFI_Expiration=1,IF($A274<VLOOKUP(M$5,NFI,5,0),1,0)*Table_NFI[[#This Row],[Blanket]],Table_NFI[[#This Row],[Blanket]])","v":0},{"$f":"IF(NFI_Expiration=1,IF($A274<VLOOKUP(N$5,NFI,5,0),1,0)*Table_NFI[[#This Row],[Kitchen Set]],Table_NFI[Kitchen Set])","v":0},{"$f":"IF(NFI_Expiration=1,IF($A274<VLOOKUP(O$5,NFI,5,0),1,0)*Table_NFI[[#This Row],[Complementary Kit]],Table_NFI[Complementary Kit])","v":0},{"$f":"IF(NFI_Expiration=1,IF($A274<VLOOKUP(P$5,NFI,5,0),1,0)*Table_NFI[[#This Row],[Plastic Bucket]],Table_NFI[Plastic Bucket])","v":0},{"$f":"IF(NFI_Expiration=1,IF($A274<VLOOKUP(Q$5,NFI,5,0),1,0)*Table_NFI[[#This Row],[Plastic Mat]],Table_NFI[Plastic Mat])","v":0},{"$f":"IFERROR(VLOOKUP(Table_NFI[[#This Row],[Camp Name]],CL,2,0),\"\")","v":"MMR001CMP062"},{"$f":"IFERROR(VLOOKUP(Table_NFI[[#This Row],[Camp Name]],CL,3,0),\"\")","v":"Open"},{"$f":"IFERROR(Table_NFI[[#This Row],[Kitchen Set]]/VLOOKUP(Table_NFI[[#This Row],[Camp Name]],CL,4,0),\"\")","v":0}]
[11.366666666666667,"2013-01-25","Solidarities","Solidarities","Kachin","Momauk","Ni Thaw Ka Monestry",75,null,120,null,null,null,null,null,0,0,{"$f":"IF(NFI_Expiration=1,IF($A275<VLOOKUP(H$5,NFI,5,0),1,0)*Table_NFI[[#This Row],[Hygiene Kit]],Table_NFI[Hygiene Kit])","v":75},{"$f":"IF(NFI_Expiration=1,IF($A275<VLOOKUP(I$5,NFI,5,0),1,0)*Table_NFI[[#This Row],[NFI Core Kit]],Table_NFI[NFI Core Kit])","v":0},{"$f":"IF(NFI_Expiration=1,IF($A275<VLOOKUP(J$5,NFI,5,0),1,0)*Table_NFI[[#This Row],[Sanitary Kit]],Table_NFI[Sanitary Kit])","v":120},{"$f":"IF(NFI_Expiration=1,IF($A275<VLOOKUP(K$5,NFI,5,0),1,0)*Table_NFI[[#This Row],[Mosquito net]],Table_NFI[Mosquito net])","v":0},{"$f":"IF(NFI_Expiration=1,IF($A275<VLOOKUP(L$5,NFI,5,0),1,0)*Table_NFI[[#This Row],[Tarpaulin]],Table_NFI[[#This Row],[Tarpaulin]])","v":0},{"$f":"IF(NFI_Expiration=1,IF($A275<VLOOKUP(M$5,NFI,5,0),1,0)*Table_NFI[[#This Row],[Blanket]],Table_NFI[[#This Row],[Blanket]])","v":0},{"$f":"IF(NFI_Expiration=1,IF($A275<VLOOKUP(N$5,NFI,5,0),1,0)*Table_NFI[[#This Row],[Kitchen Set]],Table_NFI[Kitchen Set])","v":0},{"$f":"IF(NFI_Expiration=1,IF($A275<VLOOKUP(O$5,NFI,5,0),1,0)*Table_NFI[[#This Row],[Complementary Kit]],Table_NFI[Complementary Kit])","v":0},{"$f":"IF(NFI_Expiration=1,IF($A275<VLOOKUP(P$5,NFI,5,0),1,0)*Table_NFI[[#This Row],[Plastic Bucket]],Table_NFI[Plastic Bucket])","v":0},{"$f":"IF(NFI_Expiration=1,IF($A275<VLOOKUP(Q$5,NFI,5,0),1,0)*Table_NFI[[#This Row],[Plastic Mat]],Table_NFI[Plastic Mat])","v":0},{"$f":"IFERROR(VLOOKUP(Table_NFI[[#This Row],[Camp Name]],CL,2,0),\"\")","v":"MMR001CMP059"},{"$f":"IFERROR(VLOOKUP(Table_NFI[[#This Row],[Camp Name]],CL,3,0),\"\")","v":"Open"},{"$f":"IFERROR(Table_NFI[[#This Row],[Kitchen Set]]/VLOOKUP(Table_NFI[[#This Row],[Camp Name]],CL,4,0),\"\")","v":0}]
[11.233333333333333,"2013-01-29","Solidarities","Solidarities","Kachin","Shwegu","Shwe Gu Catholic Church",177,null,240,null,null,null,null,null,0,0,{"$f":"IF(NFI_Expiration=1,IF($A276<VLOOKUP(H$5,NFI,5,0),1,0)*Table_NFI[[#This Row],[Hygiene Kit]],Table_NFI[Hygiene Kit])","v":177},{"$f":"IF(NFI_Expiration=1,IF($A276<VLOOKUP(I$5,NFI,5,0),1,0)*Table_NFI[[#This Row],[NFI Core Kit]],Table_NFI[NFI Core Kit])","v":0},{"$f":"IF(NFI_Expiration=1,IF($A276<VLOOKUP(J$5,NFI,5,0),1,0)*Table_NFI[[#This Row],[Sanitary Kit]],Table_NFI[Sanitary Kit])","v":240},{"$f":"IF(NFI_Expiration=1,IF($A276<VLOOKUP(K$5,NFI,5,0),1,0)*Table_NFI[[#This Row],[Mosquito net]],Table_NFI[Mosquito net])","v":0},{"$f":"IF(NFI_Expiration=1,IF($A276<VLOOKUP(L$5,NFI,5,0),1,0)*Table_NFI[[#This Row],[Tarpaulin]],Table_NFI[[#This Row],[Tarpaulin]])","v":0},{"$f":"IF(NFI_Expiration=1,IF($A276<VLOOKUP(M$5,NFI,5,0),1,0)*Table_NFI[[#This Row],[Blanket]],Table_NFI[[#This Row],[Blanket]])","v":0},{"$f":"IF(NFI_Expiration=1,IF($A276<VLOOKUP(N$5,NFI,5,0),1,0)*Table_NFI[[#This Row],[Kitchen Set]],Table_NFI[Kitchen Set])","v":0},{"$f":"IF(NFI_Expiration=1,IF($A276<VLOOKUP(O$5,NFI,5,0),1,0)*Table_NFI[[#This Row],[Complementary Kit]],Table_NFI[Complementary Kit])","v":0},{"$f":"IF(NFI_Expiration=1,IF($A276<VLOOKUP(P$5,NFI,5,0),1,0)*Table_NFI[[#This Row],[Plastic Bucket]],Table_NFI[Plastic Bucket])","v":0},{"$f":"IF(NFI_Expiration=1,IF($A276<VLOOKUP(Q$5,NFI,5,0),1,0)*Table_NFI[[#This Row],[Plastic Mat]],Table_NFI[Plastic Mat])","v":0},{"$f":"IFERROR(VLOOKUP(Table_NFI[[#This Row],[Camp Name]],CL,2,0),\"\")","v":"MMR001CMP068"},{"$f":"IFERROR(VLOOKUP(Table_NFI[[#This Row],[Camp Name]],CL,3,0),\"\")","v":"Open"},{"$f":"IFERROR(Table_NFI[[#This Row],[Kitchen Set]]/VLOOKUP(Table_NFI[[#This Row],[Camp Name]],CL,4,0),\"\")","v":0}]
[11.2,"2013-01-30","Solidarities","Solidarities","Kachin","Shwegu","Shwe Gu Baptist Church",272,null,280,null,null,null,null,null,0,0,{"$f":"IF(NFI_Expiration=1,IF($A277<VLOOKUP(H$5,NFI,5,0),1,0)*Table_NFI[[#This Row],[Hygiene Kit]],Table_NFI[Hygiene Kit])","v":272},{"$f":"IF(NFI_Expiration=1,IF($A277<VLOOKUP(I$5,NFI,5,0),1,0)*Table_NFI[[#This Row],[NFI Core Kit]],Table_NFI[NFI Core Kit])","v":0},{"$f":"IF(NFI_Expiration=1,IF($A277<VLOOKUP(J$5,NFI,5,0),1,0)*Table_NFI[[#This Row],[Sanitary Kit]],Table_NFI[Sanitary Kit])","v":280},{"$f":"IF(NFI_Expiration=1,IF($A277<VLOOKUP(K$5,NFI,5,0),1,0)*Table_NFI[[#This Row],[Mosquito net]],Table_NFI[Mosquito net])","v":0},{"$f":"IF(NFI_Expiration=1,IF($A277<VLOOKUP(L$5,NFI,5,0),1,0)*Table_NFI[[#This Row],[Tarpaulin]],Table_NFI[[#This Row],[Tarpaulin]])","v":0},{"$f":"IF(NFI_Expiration=1,IF($A277<VLOOKUP(M$5,NFI,5,0),1,0)*Table_NFI[[#This Row],[Blanket]],Table_NFI[[#This Row],[Blanket]])","v":0},{"$f":"IF(NFI_Expiration=1,IF($A277<VLOOKUP(N$5,NFI,5,0),1,0)*Table_NFI[[#This Row],[Kitchen Set]],Table_NFI[Kitchen Set])","v":0},{"$f":"IF(NFI_Expiration=1,IF($A277<VLOOKUP(O$5,NFI,5,0),1,0)*Table_NFI[[#This Row],[Complementary Kit]],Table_NFI[Complementary Kit])","v":0},{"$f":"IF(NFI_Expiration=1,IF($A277<VLOOKUP(P$5,NFI,5,0),1,0)*Table_NFI[[#This Row],[Plastic Bucket]],Table_NFI[Plastic Bucket])","v":0},{"$f":"IF(NFI_Expiration=1,IF($A277<VLOOKUP(Q$5,NFI,5,0),1,0)*Table_NFI[[#This Row],[Plastic Mat]],Table_NFI[Plastic Mat])","v":0},{"$f":"IFERROR(VLOOKUP(Table_NFI[[#This Row],[Camp Name]],CL,2,0),\"\")","v":"MMR001CMP067"},{"$f":"IFERROR(VLOOKUP(Table_NFI[[#This Row],[Camp Name]],CL,3,0),\"\")","v":"Open"},{"$f":"IFERROR(Table_NFI[[#This Row],[Kitchen Set]]/VLOOKUP(Table_NFI[[#This Row],[Camp Name]],CL,4,0),\"\")","v":0}]
[11.166666666666666,"2013-01-31","World Vision","World Vision","Kachin","Waingmaw","Qtr. 2 Myoma Baptist Church",null,null,null,null,null,242,null,null,0,0,{"$f":"IF(NFI_Expiration=1,IF($A278<VLOOKUP(H$5,NFI,5,0),1,0)*Table_NFI[[#This Row],[Hygiene Kit]],Table_NFI[Hygiene Kit])","v":0},{"$f":"IF(NFI_Expiration=1,IF($A278<VLOOKUP(I$5,NFI,5,0),1,0)*Table_NFI[[#This Row],[NFI Core Kit]],Table_NFI[NFI Core Kit])","v":0},{"$f":"IF(NFI_Expiration=1,IF($A278<VLOOKUP(J$5,NFI,5,0),1,0)*Table_NFI[[#This Row],[Sanitary Kit]],Table_NFI[Sanitary Kit])","v":0},{"$f":"IF(NFI_Expiration=1,IF($A278<VLOOKUP(K$5,NFI,5,0),1,0)*Table_NFI[[#This Row],[Mosquito net]],Table_NFI[Mosquito net])","v":0},{"$f":"IF(NFI_Expiration=1,IF($A278<VLOOKUP(L$5,NFI,5,0),1,0)*Table_NFI[[#This Row],[Tarpaulin]],Table_NFI[[#This Row],[Tarpaulin]])","v":0},{"$f":"IF(NFI_Expiration=1,IF($A278<VLOOKUP(M$5,NFI,5,0),1,0)*Table_NFI[[#This Row],[Blanket]],Table_NFI[[#This Row],[Blanket]])","v":242},{"$f":"IF(NFI_Expiration=1,IF($A278<VLOOKUP(N$5,NFI,5,0),1,0)*Table_NFI[[#This Row],[Kitchen Set]],Table_NFI[Kitchen Set])","v":0},{"$f":"IF(NFI_Expiration=1,IF($A278<VLOOKUP(O$5,NFI,5,0),1,0)*Table_NFI[[#This Row],[Complementary Kit]],Table_NFI[Complementary Kit])","v":0},{"$f":"IF(NFI_Expiration=1,IF($A278<VLOOKUP(P$5,NFI,5,0),1,0)*Table_NFI[[#This Row],[Plastic Bucket]],Table_NFI[Plastic Bucket])","v":0},{"$f":"IF(NFI_Expiration=1,IF($A278<VLOOKUP(Q$5,NFI,5,0),1,0)*Table_NFI[[#This Row],[Plastic Mat]],Table_NFI[Plastic Mat])","v":0},{"$f":"IFERROR(VLOOKUP(Table_NFI[[#This Row],[Camp Name]],CL,2,0),\"\")","v":"MMR001CMP025"},{"$f":"IFERROR(VLOOKUP(Table_NFI[[#This Row],[Camp Name]],CL,3,0),\"\")","v":"Open"},{"$f":"IFERROR(Table_NFI[[#This Row],[Kitchen Set]]/VLOOKUP(Table_NFI[[#This Row],[Camp Name]],CL,4,0),\"\")","v":0}]
[11.166666666666666,"2013-01-31","World Vision","World Vision","Kachin","Waingmaw","Qtr. 4 Monestry (Thargaya Thayett Taw)",null,null,null,null,null,188,null,null,0,0,{"$f":"IF(NFI_Expiration=1,IF($A279<VLOOKUP(H$5,NFI,5,0),1,0)*Table_NFI[[#This Row],[Hygiene Kit]],Table_NFI[Hygiene Kit])","v":0},{"$f":"IF(NFI_Expiration=1,IF($A279<VLOOKUP(I$5,NFI,5,0),1,0)*Table_NFI[[#This Row],[NFI Core Kit]],Table_NFI[NFI Core Kit])","v":0},{"$f":"IF(NFI_Expiration=1,IF($A279<VLOOKUP(J$5,NFI,5,0),1,0)*Table_NFI[[#This Row],[Sanitary Kit]],Table_NFI[Sanitary Kit])","v":0},{"$f":"IF(NFI_Expiration=1,IF($A279<VLOOKUP(K$5,NFI,5,0),1,0)*Table_NFI[[#This Row],[Mosquito net]],Table_NFI[Mosquito net])","v":0},{"$f":"IF(NFI_Expiration=1,IF($A279<VLOOKUP(L$5,NFI,5,0),1,0)*Table_NFI[[#This Row],[Tarpaulin]],Table_NFI[[#This Row],[Tarpaulin]])","v":0},{"$f":"IF(NFI_Expiration=1,IF($A279<VLOOKUP(M$5,NFI,5,0),1,0)*Table_NFI[[#This Row],[Blanket]],Table_NFI[[#This Row],[Blanket]])","v":188},{"$f":"IF(NFI_Expiration=1,IF($A279<VLOOKUP(N$5,NFI,5,0),1,0)*Table_NFI[[#This Row],[Kitchen Set]],Table_NFI[Kitchen Set])","v":0},{"$f":"IF(NFI_Expiration=1,IF($A279<VLOOKUP(O$5,NFI,5,0),1,0)*Table_NFI[[#This Row],[Complementary Kit]],Table_NFI[Complementary Kit])","v":0},{"$f":"IF(NFI_Expiration=1,IF($A279<VLOOKUP(P$5,NFI,5,0),1,0)*Table_NFI[[#This Row],[Plastic Bucket]],Table_NFI[Plastic Bucket])","v":0},{"$f":"IF(NFI_Expiration=1,IF($A279<VLOOKUP(Q$5,NFI,5,0),1,0)*Table_NFI[[#This Row],[Plastic Mat]],Table_NFI[Plastic Mat])","v":0},{"$f":"IFERROR(VLOOKUP(Table_NFI[[#This Row],[Camp Name]],CL,2,0),\"\")","v":"MMR001CMP026"},{"$f":"IFERROR(VLOOKUP(Table_NFI[[#This Row],[Camp Name]],CL,3,0),\"\")","v":"Open"},{"$f":"IFERROR(Table_NFI[[#This Row],[Kitchen Set]]/VLOOKUP(Table_NFI[[#This Row],[Camp Name]],CL,4,0),\"\")","v":0}]
[11.166666666666666,"2013-01-31","World Vision","World Vision","Kachin","Waingmaw","Mading Baptist Church",null,null,null,null,null,42,null,null,0,0,{"$f":"IF(NFI_Expiration=1,IF($A280<VLOOKUP(H$5,NFI,5,0),1,0)*Table_NFI[[#This Row],[Hygiene Kit]],Table_NFI[Hygiene Kit])","v":0},{"$f":"IF(NFI_Expiration=1,IF($A280<VLOOKUP(I$5,NFI,5,0),1,0)*Table_NFI[[#This Row],[NFI Core Kit]],Table_NFI[NFI Core Kit])","v":0},{"$f":"IF(NFI_Expiration=1,IF($A280<VLOOKUP(J$5,NFI,5,0),1,0)*Table_NFI[[#This Row],[Sanitary Kit]],Table_NFI[Sanitary Kit])","v":0},{"$f":"IF(NFI_Expiration=1,IF($A280<VLOOKUP(K$5,NFI,5,0),1,0)*Table_NFI[[#This Row],[Mosquito net]],Table_NFI[Mosquito net])","v":0},{"$f":"IF(NFI_Expiration=1,IF($A280<VLOOKUP(L$5,NFI,5,0),1,0)*Table_NFI[[#This Row],[Tarpaulin]],Table_NFI[[#This Row],[Tarpaulin]])","v":0},{"$f":"IF(NFI_Expiration=1,IF($A280<VLOOKUP(M$5,NFI,5,0),1,0)*Table_NFI[[#This Row],[Blanket]],Table_NFI[[#This Row],[Blanket]])","v":42},{"$f":"IF(NFI_Expiration=1,IF($A280<VLOOKUP(N$5,NFI,5,0),1,0)*Table_NFI[[#This Row],[Kitchen Set]],Table_NFI[Kitchen Set])","v":0},{"$f":"IF(NFI_Expiration=1,IF($A280<VLOOKUP(O$5,NFI,5,0),1,0)*Table_NFI[[#This Row],[Complementary Kit]],Table_NFI[Complementary Kit])","v":0},{"$f":"IF(NFI_Expiration=1,IF($A280<VLOOKUP(P$5,NFI,5,0),1,0)*Table_NFI[[#This Row],[Plastic Bucket]],Table_NFI[Plastic Bucket])","v":0},{"$f":"IF(NFI_Expiration=1,IF($A280<VLOOKUP(Q$5,NFI,5,0),1,0)*Table_NFI[[#This Row],[Plastic Mat]],Table_NFI[Plastic Mat])","v":0},{"$f":"IFERROR(VLOOKUP(Table_NFI[[#This Row],[Camp Name]],CL,2,0),\"\")","v":"MMR001CMP027"},{"$f":"IFERROR(VLOOKUP(Table_NFI[[#This Row],[Camp Name]],CL,3,0),\"\")","v":"Open"},{"$f":"IFERROR(Table_NFI[[#This Row],[Kitchen Set]]/VLOOKUP(Table_NFI[[#This Row],[Camp Name]],CL,4,0),\"\")","v":0}]
[11.166666666666666,"2013-01-31","World Vision","World Vision","Kachin","Waingmaw","Hkat Cho ",null,null,null,null,null,256,null,null,0,0,{"$f":"IF(NFI_Expiration=1,IF($A281<VLOOKUP(H$5,NFI,5,0),1,0)*Table_NFI[[#This Row],[Hygiene Kit]],Table_NFI[Hygiene Kit])","v":0},{"$f":"IF(NFI_Expiration=1,IF($A281<VLOOKUP(I$5,NFI,5,0),1,0)*Table_NFI[[#This Row],[NFI Core Kit]],Table_NFI[NFI Core Kit])","v":0},{"$f":"IF(NFI_Expiration=1,IF($A281<VLOOKUP(J$5,NFI,5,0),1,0)*Table_NFI[[#This Row],[Sanitary Kit]],Table_NFI[Sanitary Kit])","v":0},{"$f":"IF(NFI_Expiration=1,IF($A281<VLOOKUP(K$5,NFI,5,0),1,0)*Table_NFI[[#This Row],[Mosquito net]],Table_NFI[Mosquito net])","v":0},{"$f":"IF(NFI_Expiration=1,IF($A281<VLOOKUP(L$5,NFI,5,0),1,0)*Table_NFI[[#This Row],[Tarpaulin]],Table_NFI[[#This Row],[Tarpaulin]])","v":0},{"$f":"IF(NFI_Expiration=1,IF($A281<VLOOKUP(M$5,NFI,5,0),1,0)*Table_NFI[[#This Row],[Blanket]],Table_NFI[[#This Row],[Blanket]])","v":256},{"$f":"IF(NFI_Expiration=1,IF($A281<VLOOKUP(N$5,NFI,5,0),1,0)*Table_NFI[[#This Row],[Kitchen Set]],Table_NFI[Kitchen Set])","v":0},{"$f":"IF(NFI_Expiration=1,IF($A281<VLOOKUP(O$5,NFI,5,0),1,0)*Table_NFI[[#This Row],[Complementary Kit]],Table_NFI[Complementary Kit])","v":0},{"$f":"IF(NFI_Expiration=1,IF($A281<VLOOKUP(P$5,NFI,5,0),1,0)*Table_NFI[[#This Row],[Plastic Bucket]],Table_NFI[Plastic Bucket])","v":0},{"$f":"IF(NFI_Expiration=1,IF($A281<VLOOKUP(Q$5,NFI,5,0),1,0)*Table_NFI[[#This Row],[Plastic Mat]],Table_NFI[Plastic Mat])","v":0},{"$f":"IFERROR(VLOOKUP(Table_NFI[[#This Row],[Camp Name]],CL,2,0),\"\")","v":"MMR001CMP028"},{"$f":"IFERROR(VLOOKUP(Table_NFI[[#This Row],[Camp Name]],CL,3,0),\"\")","v":"Open"},{"$f":"IFERROR(Table_NFI[[#This Row],[Kitchen Set]]/VLOOKUP(Table_NFI[[#This Row],[Camp Name]],CL,4,0),\"\")","v":0}]
[11.166666666666666,"2013-01-31","World Vision","World Vision","Kachin","Waingmaw","Maina Catholic Church (St. Joseph)",null,null,null,null,null,442,null,null,0,0,{"$f":"IF(NFI_Expiration=1,IF($A282<VLOOKUP(H$5,NFI,5,0),1,0)*Table_NFI[[#This Row],[Hygiene Kit]],Table_NFI[Hygiene Kit])","v":0},{"$f":"IF(NFI_Expiration=1,IF($A282<VLOOKUP(I$5,NFI,5,0),1,0)*Table_NFI[[#This Row],[NFI Core Kit]],Table_NFI[NFI Core Kit])","v":0},{"$f":"IF(NFI_Expiration=1,IF($A282<VLOOKUP(J$5,NFI,5,0),1,0)*Table_NFI[[#This Row],[Sanitary Kit]],Table_NFI[Sanitary Kit])","v":0},{"$f":"IF(NFI_Expiration=1,IF($A282<VLOOKUP(K$5,NFI,5,0),1,0)*Table_NFI[[#This Row],[Mosquito net]],Table_NFI[Mosquito net])","v":0},{"$f":"IF(NFI_Expiration=1,IF($A282<VLOOKUP(L$5,NFI,5,0),1,0)*Table_NFI[[#This Row],[Tarpaulin]],Table_NFI[[#This Row],[Tarpaulin]])","v":0},{"$f":"IF(NFI_Expiration=1,IF($A282<VLOOKUP(M$5,NFI,5,0),1,0)*Table_NFI[[#This Row],[Blanket]],Table_NFI[[#This Row],[Blanket]])","v":442},{"$f":"IF(NFI_Expiration=1,IF($A282<VLOOKUP(N$5,NFI,5,0),1,0)*Table_NFI[[#This Row],[Kitchen Set]],Table_NFI[Kitchen Set])","v":0},{"$f":"IF(NFI_Expiration=1,IF($A282<VLOOKUP(O$5,NFI,5,0),1,0)*Table_NFI[[#This Row],[Complementary Kit]],Table_NFI[Complementary Kit])","v":0},{"$f":"IF(NFI_Expiration=1,IF($A282<VLOOKUP(P$5,NFI,5,0),1,0)*Table_NFI[[#This Row],[Plastic Bucket]],Table_NFI[Plastic Bucket])","v":0},{"$f":"IF(NFI_Expiration=1,IF($A282<VLOOKUP(Q$5,NFI,5,0),1,0)*Table_NFI[[#This Row],[Plastic Mat]],Table_NFI[Plastic Mat])","v":0},{"$f":"IFERROR(VLOOKUP(Table_NFI[[#This Row],[Camp Name]],CL,2,0),\"\")","v":"MMR001CMP029"},{"$f":"IFERROR(VLOOKUP(Table_NFI[[#This Row],[Camp Name]],CL,3,0),\"\")","v":"Open"},{"$f":"IFERROR(Table_NFI[[#This Row],[Kitchen Set]]/VLOOKUP(Table_NFI[[#This Row],[Camp Name]],CL,4,0),\"\")","v":0}]
[11.166666666666666,"2013-01-31","World Vision","World Vision","Kachin","Waingmaw","Qtr. 3 Mu-yin  Baptist Church",null,null,null,null,null,54,null,null,0,0,{"$f":"IF(NFI_Expiration=1,IF($A283<VLOOKUP(H$5,NFI,5,0),1,0)*Table_NFI[[#This Row],[Hygiene Kit]],Table_NFI[Hygiene Kit])","v":0},{"$f":"IF(NFI_Expiration=1,IF($A283<VLOOKUP(I$5,NFI,5,0),1,0)*Table_NFI[[#This Row],[NFI Core Kit]],Table_NFI[NFI Core Kit])","v":0},{"$f":"IF(NFI_Expiration=1,IF($A283<VLOOKUP(J$5,NFI,5,0),1,0)*Table_NFI[[#This Row],[Sanitary Kit]],Table_NFI[Sanitary Kit])","v":0},{"$f":"IF(NFI_Expiration=1,IF($A283<VLOOKUP(K$5,NFI,5,0),1,0)*Table_NFI[[#This Row],[Mosquito net]],Table_NFI[Mosquito net])","v":0},{"$f":"IF(NFI_Expiration=1,IF($A283<VLOOKUP(L$5,NFI,5,0),1,0)*Table_NFI[[#This Row],[Tarpaulin]],Table_NFI[[#This Row],[Tarpaulin]])","v":0},{"$f":"IF(NFI_Expiration=1,IF($A283<VLOOKUP(M$5,NFI,5,0),1,0)*Table_NFI[[#This Row],[Blanket]],Table_NFI[[#This Row],[Blanket]])","v":54},{"$f":"IF(NFI_Expiration=1,IF($A283<VLOOKUP(N$5,NFI,5,0),1,0)*Table_NFI[[#This Row],[Kitchen Set]],Table_NFI[Kitchen Set])","v":0},{"$f":"IF(NFI_Expiration=1,IF($A283<VLOOKUP(O$5,NFI,5,0),1,0)*Table_NFI[[#This Row],[Complementary Kit]],Table_NFI[Complementary Kit])","v":0},{"$f":"IF(NFI_Expiration=1,IF($A283<VLOOKUP(P$5,NFI,5,0),1,0)*Table_NFI[[#This Row],[Plastic Bucket]],Table_NFI[Plastic Bucket])","v":0},{"$f":"IF(NFI_Expiration=1,IF($A283<VLOOKUP(Q$5,NFI,5,0),1,0)*Table_NFI[[#This Row],[Plastic Mat]],Table_NFI[Plastic Mat])","v":0},{"$f":"IFERROR(VLOOKUP(Table_NFI[[#This Row],[Camp Name]],CL,2,0),\"\")","v":"MMR001CMP030"},{"$f":"IFERROR(VLOOKUP(Table_NFI[[#This Row],[Camp Name]],CL,3,0),\"\")","v":"Open"},{"$f":"IFERROR(Table_NFI[[#This Row],[Kitchen Set]]/VLOOKUP(Table_NFI[[#This Row],[Camp Name]],CL,4,0),\"\")","v":0}]
[11.166666666666666,"2013-01-31","World Vision","World Vision","Kachin","Waingmaw","Maina AG Church",null,null,null,null,null,128,null,null,0,0,{"$f":"IF(NFI_Expiration=1,IF($A284<VLOOKUP(H$5,NFI,5,0),1,0)*Table_NFI[[#This Row],[Hygiene Kit]],Table_NFI[Hygiene Kit])","v":0},{"$f":"IF(NFI_Expiration=1,IF($A284<VLOOKUP(I$5,NFI,5,0),1,0)*Table_NFI[[#This Row],[NFI Core Kit]],Table_NFI[NFI Core Kit])","v":0},{"$f":"IF(NFI_Expiration=1,IF($A284<VLOOKUP(J$5,NFI,5,0),1,0)*Table_NFI[[#This Row],[Sanitary Kit]],Table_NFI[Sanitary Kit])","v":0},{"$f":"IF(NFI_Expiration=1,IF($A284<VLOOKUP(K$5,NFI,5,0),1,0)*Table_NFI[[#This Row],[Mosquito net]],Table_NFI[Mosquito net])","v":0},{"$f":"IF(NFI_Expiration=1,IF($A284<VLOOKUP(L$5,NFI,5,0),1,0)*Table_NFI[[#This Row],[Tarpaulin]],Table_NFI[[#This Row],[Tarpaulin]])","v":0},{"$f":"IF(NFI_Expiration=1,IF($A284<VLOOKUP(M$5,NFI,5,0),1,0)*Table_NFI[[#This Row],[Blanket]],Table_NFI[[#This Row],[Blanket]])","v":128},{"$f":"IF(NFI_Expiration=1,IF($A284<VLOOKUP(N$5,NFI,5,0),1,0)*Table_NFI[[#This Row],[Kitchen Set]],Table_NFI[Kitchen Set])","v":0},{"$f":"IF(NFI_Expiration=1,IF($A284<VLOOKUP(O$5,NFI,5,0),1,0)*Table_NFI[[#This Row],[Complementary Kit]],Table_NFI[Complementary Kit])","v":0},{"$f":"IF(NFI_Expiration=1,IF($A284<VLOOKUP(P$5,NFI,5,0),1,0)*Table_NFI[[#This Row],[Plastic Bucket]],Table_NFI[Plastic Bucket])","v":0},{"$f":"IF(NFI_Expiration=1,IF($A284<VLOOKUP(Q$5,NFI,5,0),1,0)*Table_NFI[[#This Row],[Plastic Mat]],Table_NFI[Plastic Mat])","v":0},{"$f":"IFERROR(VLOOKUP(Table_NFI[[#This Row],[Camp Name]],CL,2,0),\"\")","v":"MMR001CMP031"},{"$f":"IFERROR(VLOOKUP(Table_NFI[[#This Row],[Camp Name]],CL,3,0),\"\")","v":"Open"},{"$f":"IFERROR(Table_NFI[[#This Row],[Kitchen Set]]/VLOOKUP(Table_NFI[[#This Row],[Camp Name]],CL,4,0),\"\")","v":0}]
[11.166666666666666,"2013-01-31","World Vision","World Vision","Kachin","Waingmaw","Qtr. 2 Lhaovo Baptist Church",null,null,null,null,null,184,null,null,0,0,{"$f":"IF(NFI_Expiration=1,IF($A285<VLOOKUP(H$5,NFI,5,0),1,0)*Table_NFI[[#This Row],[Hygiene Kit]],Table_NFI[Hygiene Kit])","v":0},{"$f":"IF(NFI_Expiration=1,IF($A285<VLOOKUP(I$5,NFI,5,0),1,0)*Table_NFI[[#This Row],[NFI Core Kit]],Table_NFI[NFI Core Kit])","v":0},{"$f":"IF(NFI_Expiration=1,IF($A285<VLOOKUP(J$5,NFI,5,0),1,0)*Table_NFI[[#This Row],[Sanitary Kit]],Table_NFI[Sanitary Kit])","v":0},{"$f":"IF(NFI_Expiration=1,IF($A285<VLOOKUP(K$5,NFI,5,0),1,0)*Table_NFI[[#This Row],[Mosquito net]],Table_NFI[Mosquito net])","v":0},{"$f":"IF(NFI_Expiration=1,IF($A285<VLOOKUP(L$5,NFI,5,0),1,0)*Table_NFI[[#This Row],[Tarpaulin]],Table_NFI[[#This Row],[Tarpaulin]])","v":0},{"$f":"IF(NFI_Expiration=1,IF($A285<VLOOKUP(M$5,NFI,5,0),1,0)*Table_NFI[[#This Row],[Blanket]],Table_NFI[[#This Row],[Blanket]])","v":184},{"$f":"IF(NFI_Expiration=1,IF($A285<VLOOKUP(N$5,NFI,5,0),1,0)*Table_NFI[[#This Row],[Kitchen Set]],Table_NFI[Kitchen Set])","v":0},{"$f":"IF(NFI_Expiration=1,IF($A285<VLOOKUP(O$5,NFI,5,0),1,0)*Table_NFI[[#This Row],[Complementary Kit]],Table_NFI[Complementary Kit])","v":0},{"$f":"IF(NFI_Expiration=1,IF($A285<VLOOKUP(P$5,NFI,5,0),1,0)*Table_NFI[[#This Row],[Plastic Bucket]],Table_NFI[Plastic Bucket])","v":0},{"$f":"IF(NFI_Expiration=1,IF($A285<VLOOKUP(Q$5,NFI,5,0),1,0)*Table_NFI[[#This Row],[Plastic Mat]],Table_NFI[Plastic Mat])","v":0},{"$f":"IFERROR(VLOOKUP(Table_NFI[[#This Row],[Camp Name]],CL,2,0),\"\")","v":"MMR001CMP032"},{"$f":"IFERROR(VLOOKUP(Table_NFI[[#This Row],[Camp Name]],CL,3,0),\"\")","v":"Open"},{"$f":"IFERROR(Table_NFI[[#This Row],[Kitchen Set]]/VLOOKUP(Table_NFI[[#This Row],[Camp Name]],CL,4,0),\"\")","v":0}]
[11.166666666666666,"2013-01-31","World Vision","World Vision","Kachin","Waingmaw","Waingmaw Baptist Zonal Office",null,null,null,null,null,224,null,null,0,0,{"$f":"IF(NFI_Expiration=1,IF($A286<VLOOKUP(H$5,NFI,5,0),1,0)*Table_NFI[[#This Row],[Hygiene Kit]],Table_NFI[Hygiene Kit])","v":0},{"$f":"IF(NFI_Expiration=1,IF($A286<VLOOKUP(I$5,NFI,5,0),1,0)*Table_NFI[[#This Row],[NFI Core Kit]],Table_NFI[NFI Core Kit])","v":0},{"$f":"IF(NFI_Expiration=1,IF($A286<VLOOKUP(J$5,NFI,5,0),1,0)*Table_NFI[[#This Row],[Sanitary Kit]],Table_NFI[Sanitary Kit])","v":0},{"$f":"IF(NFI_Expiration=1,IF($A286<VLOOKUP(K$5,NFI,5,0),1,0)*Table_NFI[[#This Row],[Mosquito net]],Table_NFI[Mosquito net])","v":0},{"$f":"IF(NFI_Expiration=1,IF($A286<VLOOKUP(L$5,NFI,5,0),1,0)*Table_NFI[[#This Row],[Tarpaulin]],Table_NFI[[#This Row],[Tarpaulin]])","v":0},{"$f":"IF(NFI_Expiration=1,IF($A286<VLOOKUP(M$5,NFI,5,0),1,0)*Table_NFI[[#This Row],[Blanket]],Table_NFI[[#This Row],[Blanket]])","v":224},{"$f":"IF(NFI_Expiration=1,IF($A286<VLOOKUP(N$5,NFI,5,0),1,0)*Table_NFI[[#This Row],[Kitchen Set]],Table_NFI[Kitchen Set])","v":0},{"$f":"IF(NFI_Expiration=1,IF($A286<VLOOKUP(O$5,NFI,5,0),1,0)*Table_NFI[[#This Row],[Complementary Kit]],Table_NFI[Complementary Kit])","v":0},{"$f":"IF(NFI_Expiration=1,IF($A286<VLOOKUP(P$5,NFI,5,0),1,0)*Table_NFI[[#This Row],[Plastic Bucket]],Table_NFI[Plastic Bucket])","v":0},{"$f":"IF(NFI_Expiration=1,IF($A286<VLOOKUP(Q$5,NFI,5,0),1,0)*Table_NFI[[#This Row],[Plastic Mat]],Table_NFI[Plastic Mat])","v":0},{"$f":"IFERROR(VLOOKUP(Table_NFI[[#This Row],[Camp Name]],CL,2,0),\"\")","v":"MMR001CMP036"},{"$f":"IFERROR(VLOOKUP(Table_NFI[[#This Row],[Camp Name]],CL,3,0),\"\")","v":"Open"},{"$f":"IFERROR(Table_NFI[[#This Row],[Kitchen Set]]/VLOOKUP(Table_NFI[[#This Row],[Camp Name]],CL,4,0),\"\")","v":""}]
[11.166666666666666,"2013-01-31","World Vision","World Vision","Kachin","Waingmaw","Thargaya Lisu Baptist Church",null,null,null,null,null,122,null,null,0,0,{"$f":"IF(NFI_Expiration=1,IF($A287<VLOOKUP(H$5,NFI,5,0),1,0)*Table_NFI[[#This Row],[Hygiene Kit]],Table_NFI[Hygiene Kit])","v":0},{"$f":"IF(NFI_Expiration=1,IF($A287<VLOOKUP(I$5,NFI,5,0),1,0)*Table_NFI[[#This Row],[NFI Core Kit]],Table_NFI[NFI Core Kit])","v":0},{"$f":"IF(NFI_Expiration=1,IF($A287<VLOOKUP(J$5,NFI,5,0),1,0)*Table_NFI[[#This Row],[Sanitary Kit]],Table_NFI[Sanitary Kit])","v":0},{"$f":"IF(NFI_Expiration=1,IF($A287<VLOOKUP(K$5,NFI,5,0),1,0)*Table_NFI[[#This Row],[Mosquito net]],Table_NFI[Mosquito net])","v":0},{"$f":"IF(NFI_Expiration=1,IF($A287<VLOOKUP(L$5,NFI,5,0),1,0)*Table_NFI[[#This Row],[Tarpaulin]],Table_NFI[[#This Row],[Tarpaulin]])","v":0},{"$f":"IF(NFI_Expiration=1,IF($A287<VLOOKUP(M$5,NFI,5,0),1,0)*Table_NFI[[#This Row],[Blanket]],Table_NFI[[#This Row],[Blanket]])","v":122},{"$f":"IF(NFI_Expiration=1,IF($A287<VLOOKUP(N$5,NFI,5,0),1,0)*Table_NFI[[#This Row],[Kitchen Set]],Table_NFI[Kitchen Set])","v":0},{"$f":"IF(NFI_Expiration=1,IF($A287<VLOOKUP(O$5,NFI,5,0),1,0)*Table_NFI[[#This Row],[Complementary Kit]],Table_NFI[Complementary Kit])","v":0},{"$f":"IF(NFI_Expiration=1,IF($A287<VLOOKUP(P$5,NFI,5,0),1,0)*Table_NFI[[#This Row],[Plastic Bucket]],Table_NFI[Plastic Bucket])","v":0},{"$f":"IF(NFI_Expiration=1,IF($A287<VLOOKUP(Q$5,NFI,5,0),1,0)*Table_NFI[[#This Row],[Plastic Mat]],Table_NFI[Plastic Mat])","v":0},{"$f":"IFERROR(VLOOKUP(Table_NFI[[#This Row],[Camp Name]],CL,2,0),\"\")","v":"MMR001CMP037"},{"$f":"IFERROR(VLOOKUP(Table_NFI[[#This Row],[Camp Name]],CL,3,0),\"\")","v":"Open"},{"$f":"IFERROR(Table_NFI[[#This Row],[Kitchen Set]]/VLOOKUP(Table_NFI[[#This Row],[Camp Name]],CL,4,0),\"\")","v":0}]
[11.166666666666666,"2013-01-31","World Vision","World Vision","Kachin","Waingmaw","Waingmaw AG Church",null,null,null,null,null,104,null,null,0,0,{"$f":"IF(NFI_Expiration=1,IF($A288<VLOOKUP(H$5,NFI,5,0),1,0)*Table_NFI[[#This Row],[Hygiene Kit]],Table_NFI[Hygiene Kit])","v":0},{"$f":"IF(NFI_Expiration=1,IF($A288<VLOOKUP(I$5,NFI,5,0),1,0)*Table_NFI[[#This Row],[NFI Core Kit]],Table_NFI[NFI Core Kit])","v":0},{"$f":"IF(NFI_Expiration=1,IF($A288<VLOOKUP(J$5,NFI,5,0),1,0)*Table_NFI[[#This Row],[Sanitary Kit]],Table_NFI[Sanitary Kit])","v":0},{"$f":"IF(NFI_Expiration=1,IF($A288<VLOOKUP(K$5,NFI,5,0),1,0)*Table_NFI[[#This Row],[Mosquito net]],Table_NFI[Mosquito net])","v":0},{"$f":"IF(NFI_Expiration=1,IF($A288<VLOOKUP(L$5,NFI,5,0),1,0)*Table_NFI[[#This Row],[Tarpaulin]],Table_NFI[[#This Row],[Tarpaulin]])","v":0},{"$f":"IF(NFI_Expiration=1,IF($A288<VLOOKUP(M$5,NFI,5,0),1,0)*Table_NFI[[#This Row],[Blanket]],Table_NFI[[#This Row],[Blanket]])","v":104},{"$f":"IF(NFI_Expiration=1,IF($A288<VLOOKUP(N$5,NFI,5,0),1,0)*Table_NFI[[#This Row],[Kitchen Set]],Table_NFI[Kitchen Set])","v":0},{"$f":"IF(NFI_Expiration=1,IF($A288<VLOOKUP(O$5,NFI,5,0),1,0)*Table_NFI[[#This Row],[Complementary Kit]],Table_NFI[Complementary Kit])","v":0},{"$f":"IF(NFI_Expiration=1,IF($A288<VLOOKUP(P$5,NFI,5,0),1,0)*Table_NFI[[#This Row],[Plastic Bucket]],Table_NFI[Plastic Bucket])","v":0},{"$f":"IF(NFI_Expiration=1,IF($A288<VLOOKUP(Q$5,NFI,5,0),1,0)*Table_NFI[[#This Row],[Plastic Mat]],Table_NFI[Plastic Mat])","v":0},{"$f":"IFERROR(VLOOKUP(Table_NFI[[#This Row],[Camp Name]],CL,2,0),\"\")","v":"MMR001CMP038"},{"$f":"IFERROR(VLOOKUP(Table_NFI[[#This Row],[Camp Name]],CL,3,0),\"\")","v":"Open"},{"$f":"IFERROR(Table_NFI[[#This Row],[Kitchen Set]]/VLOOKUP(Table_NFI[[#This Row],[Camp Name]],CL,4,0),\"\")","v":0}]
[11.166666666666666,"2013-01-31","World Vision","World Vision","Kachin","Waingmaw","Maina Lawang Baptist Church",null,null,null,null,null,94,null,null,0,0,{"$f":"IF(NFI_Expiration=1,IF($A289<VLOOKUP(H$5,NFI,5,0),1,0)*Table_NFI[[#This Row],[Hygiene Kit]],Table_NFI[Hygiene Kit])","v":0},{"$f":"IF(NFI_Expiration=1,IF($A289<VLOOKUP(I$5,NFI,5,0),1,0)*Table_NFI[[#This Row],[NFI Core Kit]],Table_NFI[NFI Core Kit])","v":0},{"$f":"IF(NFI_Expiration=1,IF($A289<VLOOKUP(J$5,NFI,5,0),1,0)*Table_NFI[[#This Row],[Sanitary Kit]],Table_NFI[Sanitary Kit])","v":0},{"$f":"IF(NFI_Expiration=1,IF($A289<VLOOKUP(K$5,NFI,5,0),1,0)*Table_NFI[[#This Row],[Mosquito net]],Table_NFI[Mosquito net])","v":0},{"$f":"IF(NFI_Expiration=1,IF($A289<VLOOKUP(L$5,NFI,5,0),1,0)*Table_NFI[[#This Row],[Tarpaulin]],Table_NFI[[#This Row],[Tarpaulin]])","v":0},{"$f":"IF(NFI_Expiration=1,IF($A289<VLOOKUP(M$5,NFI,5,0),1,0)*Table_NFI[[#This Row],[Blanket]],Table_NFI[[#This Row],[Blanket]])","v":94},{"$f":"IF(NFI_Expiration=1,IF($A289<VLOOKUP(N$5,NFI,5,0),1,0)*Table_NFI[[#This Row],[Kitchen Set]],Table_NFI[Kitchen Set])","v":0},{"$f":"IF(NFI_Expiration=1,IF($A289<VLOOKUP(O$5,NFI,5,0),1,0)*Table_NFI[[#This Row],[Complementary Kit]],Table_NFI[Complementary Kit])","v":0},{"$f":"IF(NFI_Expiration=1,IF($A289<VLOOKUP(P$5,NFI,5,0),1,0)*Table_NFI[[#This Row],[Plastic Bucket]],Table_NFI[Plastic Bucket])","v":0},{"$f":"IF(NFI_Expiration=1,IF($A289<VLOOKUP(Q$5,NFI,5,0),1,0)*Table_NFI[[#This Row],[Plastic Mat]],Table_NFI[Plastic Mat])","v":0},{"$f":"IFERROR(VLOOKUP(Table_NFI[[#This Row],[Camp Name]],CL,2,0),\"\")","v":"MMR001CMP039"},{"$f":"IFERROR(VLOOKUP(Table_NFI[[#This Row],[Camp Name]],CL,3,0),\"\")","v":"Open"},{"$f":"IFERROR(Table_NFI[[#This Row],[Kitchen Set]]/VLOOKUP(Table_NFI[[#This Row],[Camp Name]],CL,4,0),\"\")","v":0}]
[11.166666666666666,"2013-01-31","World Vision","World Vision","Kachin","Waingmaw","Maina KBC (Bawng Ring)",null,null,null,null,null,324,null,null,0,0,{"$f":"IF(NFI_Expiration=1,IF($A290<VLOOKUP(H$5,NFI,5,0),1,0)*Table_NFI[[#This Row],[Hygiene Kit]],Table_NFI[Hygiene Kit])","v":0},{"$f":"IF(NFI_Expiration=1,IF($A290<VLOOKUP(I$5,NFI,5,0),1,0)*Table_NFI[[#This Row],[NFI Core Kit]],Table_NFI[NFI Core Kit])","v":0},{"$f":"IF(NFI_Expiration=1,IF($A290<VLOOKUP(J$5,NFI,5,0),1,0)*Table_NFI[[#This Row],[Sanitary Kit]],Table_NFI[Sanitary Kit])","v":0},{"$f":"IF(NFI_Expiration=1,IF($A290<VLOOKUP(K$5,NFI,5,0),1,0)*Table_NFI[[#This Row],[Mosquito net]],Table_NFI[Mosquito net])","v":0},{"$f":"IF(NFI_Expiration=1,IF($A290<VLOOKUP(L$5,NFI,5,0),1,0)*Table_NFI[[#This Row],[Tarpaulin]],Table_NFI[[#This Row],[Tarpaulin]])","v":0},{"$f":"IF(NFI_Expiration=1,IF($A290<VLOOKUP(M$5,NFI,5,0),1,0)*Table_NFI[[#This Row],[Blanket]],Table_NFI[[#This Row],[Blanket]])","v":324},{"$f":"IF(NFI_Expiration=1,IF($A290<VLOOKUP(N$5,NFI,5,0),1,0)*Table_NFI[[#This Row],[Kitchen Set]],Table_NFI[Kitchen Set])","v":0},{"$f":"IF(NFI_Expiration=1,IF($A290<VLOOKUP(O$5,NFI,5,0),1,0)*Table_NFI[[#This Row],[Complementary Kit]],Table_NFI[Complementary Kit])","v":0},{"$f":"IF(NFI_Expiration=1,IF($A290<VLOOKUP(P$5,NFI,5,0),1,0)*Table_NFI[[#This Row],[Plastic Bucket]],Table_NFI[Plastic Bucket])","v":0},{"$f":"IF(NFI_Expiration=1,IF($A290<VLOOKUP(Q$5,NFI,5,0),1,0)*Table_NFI[[#This Row],[Plastic Mat]],Table_NFI[Plastic Mat])","v":0},{"$f":"IFERROR(VLOOKUP(Table_NFI[[#This Row],[Camp Name]],CL,2,0),\"\")","v":"MMR001CMP040"},{"$f":"IFERROR(VLOOKUP(Table_NFI[[#This Row],[Camp Name]],CL,3,0),\"\")","v":"Open"},{"$f":"IFERROR(Table_NFI[[#This Row],[Kitchen Set]]/VLOOKUP(Table_NFI[[#This Row],[Camp Name]],CL,4,0),\"\")","v":0}]
[11.166666666666666,"2013-01-31","World Vision","World Vision","Kachin","Waingmaw","Shing Jai",null,null,null,null,null,358,null,null,0,0,{"$f":"IF(NFI_Expiration=1,IF($A291<VLOOKUP(H$5,NFI,5,0),1,0)*Table_NFI[[#This Row],[Hygiene Kit]],Table_NFI[Hygiene Kit])","v":0},{"$f":"IF(NFI_Expiration=1,IF($A291<VLOOKUP(I$5,NFI,5,0),1,0)*Table_NFI[[#This Row],[NFI Core Kit]],Table_NFI[NFI Core Kit])","v":0},{"$f":"IF(NFI_Expiration=1,IF($A291<VLOOKUP(J$5,NFI,5,0),1,0)*Table_NFI[[#This Row],[Sanitary Kit]],Table_NFI[Sanitary Kit])","v":0},{"$f":"IF(NFI_Expiration=1,IF($A291<VLOOKUP(K$5,NFI,5,0),1,0)*Table_NFI[[#This Row],[Mosquito net]],Table_NFI[Mosquito net])","v":0},{"$f":"IF(NFI_Expiration=1,IF($A291<VLOOKUP(L$5,NFI,5,0),1,0)*Table_NFI[[#This Row],[Tarpaulin]],Table_NFI[[#This Row],[Tarpaulin]])","v":0},{"$f":"IF(NFI_Expiration=1,IF($A291<VLOOKUP(M$5,NFI,5,0),1,0)*Table_NFI[[#This Row],[Blanket]],Table_NFI[[#This Row],[Blanket]])","v":358},{"$f":"IF(NFI_Expiration=1,IF($A291<VLOOKUP(N$5,NFI,5,0),1,0)*Table_NFI[[#This Row],[Kitchen Set]],Table_NFI[Kitchen Set])","v":0},{"$f":"IF(NFI_Expiration=1,IF($A291<VLOOKUP(O$5,NFI,5,0),1,0)*Table_NFI[[#This Row],[Complementary Kit]],Table_NFI[Complementary Kit])","v":0},{"$f":"IF(NFI_Expiration=1,IF($A291<VLOOKUP(P$5,NFI,5,0),1,0)*Table_NFI[[#This Row],[Plastic Bucket]],Table_NFI[Plastic Bucket])","v":0},{"$f":"IF(NFI_Expiration=1,IF($A291<VLOOKUP(Q$5,NFI,5,0),1,0)*Table_NFI[[#This Row],[Plastic Mat]],Table_NFI[Plastic Mat])","v":0},{"$f":"IFERROR(VLOOKUP(Table_NFI[[#This Row],[Camp Name]],CL,2,0),\"\")","v":"MMR001CMP041"},{"$f":"IFERROR(VLOOKUP(Table_NFI[[#This Row],[Camp Name]],CL,3,0),\"\")","v":"Open"},{"$f":"IFERROR(Table_NFI[[#This Row],[Kitchen Set]]/VLOOKUP(Table_NFI[[#This Row],[Camp Name]],CL,4,0),\"\")","v":0}]
[11.166666666666666,"2013-01-31","World Vision","World Vision","Kachin","Hpakant","Baptist Church, Naung Hmee VT",null,null,null,null,null,26,null,null,0,0,{"$f":"IF(NFI_Expiration=1,IF($A292<VLOOKUP(H$5,NFI,5,0),1,0)*Table_NFI[[#This Row],[Hygiene Kit]],Table_NFI[Hygiene Kit])","v":0},{"$f":"IF(NFI_Expiration=1,IF($A292<VLOOKUP(I$5,NFI,5,0),1,0)*Table_NFI[[#This Row],[NFI Core Kit]],Table_NFI[NFI Core Kit])","v":0},{"$f":"IF(NFI_Expiration=1,IF($A292<VLOOKUP(J$5,NFI,5,0),1,0)*Table_NFI[[#This Row],[Sanitary Kit]],Table_NFI[Sanitary Kit])","v":0},{"$f":"IF(NFI_Expiration=1,IF($A292<VLOOKUP(K$5,NFI,5,0),1,0)*Table_NFI[[#This Row],[Mosquito net]],Table_NFI[Mosquito net])","v":0},{"$f":"IF(NFI_Expiration=1,IF($A292<VLOOKUP(L$5,NFI,5,0),1,0)*Table_NFI[[#This Row],[Tarpaulin]],Table_NFI[[#This Row],[Tarpaulin]])","v":0},{"$f":"IF(NFI_Expiration=1,IF($A292<VLOOKUP(M$5,NFI,5,0),1,0)*Table_NFI[[#This Row],[Blanket]],Table_NFI[[#This Row],[Blanket]])","v":26},{"$f":"IF(NFI_Expiration=1,IF($A292<VLOOKUP(N$5,NFI,5,0),1,0)*Table_NFI[[#This Row],[Kitchen Set]],Table_NFI[Kitchen Set])","v":0},{"$f":"IF(NFI_Expiration=1,IF($A292<VLOOKUP(O$5,NFI,5,0),1,0)*Table_NFI[[#This Row],[Complementary Kit]],Table_NFI[Complementary Kit])","v":0},{"$f":"IF(NFI_Expiration=1,IF($A292<VLOOKUP(P$5,NFI,5,0),1,0)*Table_NFI[[#This Row],[Plastic Bucket]],Table_NFI[Plastic Bucket])","v":0},{"$f":"IF(NFI_Expiration=1,IF($A292<VLOOKUP(Q$5,NFI,5,0),1,0)*Table_NFI[[#This Row],[Plastic Mat]],Table_NFI[Plastic Mat])","v":0},{"$f":"IFERROR(VLOOKUP(Table_NFI[[#This Row],[Camp Name]],CL,2,0),\"\")","v":"MMR001CMP188"},{"$f":"IFERROR(VLOOKUP(Table_NFI[[#This Row],[Camp Name]],CL,3,0),\"\")","v":"Open"},{"$f":"IFERROR(Table_NFI[[#This Row],[Kitchen Set]]/VLOOKUP(Table_NFI[[#This Row],[Camp Name]],CL,4,0),\"\")","v":0}]
[11.033333333333333,"2013-02-04","UNHCR","UNHCR","Kachin","Myitkyina","Pa Dauk Myaing(Pa La Na)",null,null,5,8,5,8,5,5,5,5,{"$f":"IF(NFI_Expiration=1,IF($A293<VLOOKUP(H$5,NFI,5,0),1,0)*Table_NFI[[#This Row],[Hygiene Kit]],Table_NFI[Hygiene Kit])","v":0},{"$f":"IF(NFI_Expiration=1,IF($A293<VLOOKUP(I$5,NFI,5,0),1,0)*Table_NFI[[#This Row],[NFI Core Kit]],Table_NFI[NFI Core Kit])","v":0},{"$f":"IF(NFI_Expiration=1,IF($A293<VLOOKUP(J$5,NFI,5,0),1,0)*Table_NFI[[#This Row],[Sanitary Kit]],Table_NFI[Sanitary Kit])","v":5},{"$f":"IF(NFI_Expiration=1,IF($A293<VLOOKUP(K$5,NFI,5,0),1,0)*Table_NFI[[#This Row],[Mosquito net]],Table_NFI[Mosquito net])","v":8},{"$f":"IF(NFI_Expiration=1,IF($A293<VLOOKUP(L$5,NFI,5,0),1,0)*Table_NFI[[#This Row],[Tarpaulin]],Table_NFI[[#This Row],[Tarpaulin]])","v":5},{"$f":"IF(NFI_Expiration=1,IF($A293<VLOOKUP(M$5,NFI,5,0),1,0)*Table_NFI[[#This Row],[Blanket]],Table_NFI[[#This Row],[Blanket]])","v":8},{"$f":"IF(NFI_Expiration=1,IF($A293<VLOOKUP(N$5,NFI,5,0),1,0)*Table_NFI[[#This Row],[Kitchen Set]],Table_NFI[Kitchen Set])","v":5},{"$f":"IF(NFI_Expiration=1,IF($A293<VLOOKUP(O$5,NFI,5,0),1,0)*Table_NFI[[#This Row],[Complementary Kit]],Table_NFI[Complementary Kit])","v":5},{"$f":"IF(NFI_Expiration=1,IF($A293<VLOOKUP(P$5,NFI,5,0),1,0)*Table_NFI[[#This Row],[Plastic Bucket]],Table_NFI[Plastic Bucket])","v":5},{"$f":"IF(NFI_Expiration=1,IF($A293<VLOOKUP(Q$5,NFI,5,0),1,0)*Table_NFI[[#This Row],[Plastic Mat]],Table_NFI[Plastic Mat])","v":5},{"$f":"IFERROR(VLOOKUP(Table_NFI[[#This Row],[Camp Name]],CL,2,0),\"\")","v":"MMR001CMP162"},{"$f":"IFERROR(VLOOKUP(Table_NFI[[#This Row],[Camp Name]],CL,3,0),\"\")","v":"Open"},{"$f":"IFERROR(Table_NFI[[#This Row],[Kitchen Set]]/VLOOKUP(Table_NFI[[#This Row],[Camp Name]],CL,4,0),\"\")","v":0.16129032258064516}]
[11.033333333333333,"2013-02-04","MRCS","MRCS","Kachin","Hpakant","5 Ward RC Church(lon Khin)",null,null,null,null,null,null,117,null,0,0,{"$f":"IF(NFI_Expiration=1,IF($A294<VLOOKUP(H$5,NFI,5,0),1,0)*Table_NFI[[#This Row],[Hygiene Kit]],Table_NFI[Hygiene Kit])","v":0},{"$f":"IF(NFI_Expiration=1,IF($A294<VLOOKUP(I$5,NFI,5,0),1,0)*Table_NFI[[#This Row],[NFI Core Kit]],Table_NFI[NFI Core Kit])","v":0},{"$f":"IF(NFI_Expiration=1,IF($A294<VLOOKUP(J$5,NFI,5,0),1,0)*Table_NFI[[#This Row],[Sanitary Kit]],Table_NFI[Sanitary Kit])","v":0},{"$f":"IF(NFI_Expiration=1,IF($A294<VLOOKUP(K$5,NFI,5,0),1,0)*Table_NFI[[#This Row],[Mosquito net]],Table_NFI[Mosquito net])","v":0},{"$f":"IF(NFI_Expiration=1,IF($A294<VLOOKUP(L$5,NFI,5,0),1,0)*Table_NFI[[#This Row],[Tarpaulin]],Table_NFI[[#This Row],[Tarpaulin]])","v":0},{"$f":"IF(NFI_Expiration=1,IF($A294<VLOOKUP(M$5,NFI,5,0),1,0)*Table_NFI[[#This Row],[Blanket]],Table_NFI[[#This Row],[Blanket]])","v":0},{"$f":"IF(NFI_Expiration=1,IF($A294<VLOOKUP(N$5,NFI,5,0),1,0)*Table_NFI[[#This Row],[Kitchen Set]],Table_NFI[Kitchen Set])","v":117},{"$f":"IF(NFI_Expiration=1,IF($A294<VLOOKUP(O$5,NFI,5,0),1,0)*Table_NFI[[#This Row],[Complementary Kit]],Table_NFI[Complementary Kit])","v":0},{"$f":"IF(NFI_Expiration=1,IF($A294<VLOOKUP(P$5,NFI,5,0),1,0)*Table_NFI[[#This Row],[Plastic Bucket]],Table_NFI[Plastic Bucket])","v":0},{"$f":"IF(NFI_Expiration=1,IF($A294<VLOOKUP(Q$5,NFI,5,0),1,0)*Table_NFI[[#This Row],[Plastic Mat]],Table_NFI[Plastic Mat])","v":0},{"$f":"IFERROR(VLOOKUP(Table_NFI[[#This Row],[Camp Name]],CL,2,0),\"\")","v":"MMR001CMP168"},{"$f":"IFERROR(VLOOKUP(Table_NFI[[#This Row],[Camp Name]],CL,3,0),\"\")","v":"Open"},{"$f":"IFERROR(Table_NFI[[#This Row],[Kitchen Set]]/VLOOKUP(Table_NFI[[#This Row],[Camp Name]],CL,4,0),\"\")","v":1.5}]
[11.033333333333333,"2013-02-04","MRCS","MRCS","Kachin","Hpakant","Baptist Church, Hmaw Si Sar(Lon Khin)",null,null,null,null,null,null,106,null,0,0,{"$f":"IF(NFI_Expiration=1,IF($A295<VLOOKUP(H$5,NFI,5,0),1,0)*Table_NFI[[#This Row],[Hygiene Kit]],Table_NFI[Hygiene Kit])","v":0},{"$f":"IF(NFI_Expiration=1,IF($A295<VLOOKUP(I$5,NFI,5,0),1,0)*Table_NFI[[#This Row],[NFI Core Kit]],Table_NFI[NFI Core Kit])","v":0},{"$f":"IF(NFI_Expiration=1,IF($A295<VLOOKUP(J$5,NFI,5,0),1,0)*Table_NFI[[#This Row],[Sanitary Kit]],Table_NFI[Sanitary Kit])","v":0},{"$f":"IF(NFI_Expiration=1,IF($A295<VLOOKUP(K$5,NFI,5,0),1,0)*Table_NFI[[#This Row],[Mosquito net]],Table_NFI[Mosquito net])","v":0},{"$f":"IF(NFI_Expiration=1,IF($A295<VLOOKUP(L$5,NFI,5,0),1,0)*Table_NFI[[#This Row],[Tarpaulin]],Table_NFI[[#This Row],[Tarpaulin]])","v":0},{"$f":"IF(NFI_Expiration=1,IF($A295<VLOOKUP(M$5,NFI,5,0),1,0)*Table_NFI[[#This Row],[Blanket]],Table_NFI[[#This Row],[Blanket]])","v":0},{"$f":"IF(NFI_Expiration=1,IF($A295<VLOOKUP(N$5,NFI,5,0),1,0)*Table_NFI[[#This Row],[Kitchen Set]],Table_NFI[Kitchen Set])","v":106},{"$f":"IF(NFI_Expiration=1,IF($A295<VLOOKUP(O$5,NFI,5,0),1,0)*Table_NFI[[#This Row],[Complementary Kit]],Table_NFI[Complementary Kit])","v":0},{"$f":"IF(NFI_Expiration=1,IF($A295<VLOOKUP(P$5,NFI,5,0),1,0)*Table_NFI[[#This Row],[Plastic Bucket]],Table_NFI[Plastic Bucket])","v":0},{"$f":"IF(NFI_Expiration=1,IF($A295<VLOOKUP(Q$5,NFI,5,0),1,0)*Table_NFI[[#This Row],[Plastic Mat]],Table_NFI[Plastic Mat])","v":0},{"$f":"IFERROR(VLOOKUP(Table_NFI[[#This Row],[Camp Name]],CL,2,0),\"\")","v":"MMR001CMP169"},{"$f":"IFERROR(VLOOKUP(Table_NFI[[#This Row],[Camp Name]],CL,3,0),\"\")","v":"Open"},{"$f":"IFERROR(Table_NFI[[#This Row],[Kitchen Set]]/VLOOKUP(Table_NFI[[#This Row],[Camp Name]],CL,4,0),\"\")","v":2.5853658536585367}]
[11.033333333333333,"2013-02-04","MRCS","MRCS","Kachin","Hpakant","Dhama Rakhita, Nyein Chan Tar Yar Ward(Lon Khin)",null,null,null,null,null,null,58,null,0,0,{"$f":"IF(NFI_Expiration=1,IF($A296<VLOOKUP(H$5,NFI,5,0),1,0)*Table_NFI[[#This Row],[Hygiene Kit]],Table_NFI[Hygiene Kit])","v":0},{"$f":"IF(NFI_Expiration=1,IF($A296<VLOOKUP(I$5,NFI,5,0),1,0)*Table_NFI[[#This Row],[NFI Core Kit]],Table_NFI[NFI Core Kit])","v":0},{"$f":"IF(NFI_Expiration=1,IF($A296<VLOOKUP(J$5,NFI,5,0),1,0)*Table_NFI[[#This Row],[Sanitary Kit]],Table_NFI[Sanitary Kit])","v":0},{"$f":"IF(NFI_Expiration=1,IF($A296<VLOOKUP(K$5,NFI,5,0),1,0)*Table_NFI[[#This Row],[Mosquito net]],Table_NFI[Mosquito net])","v":0},{"$f":"IF(NFI_Expiration=1,IF($A296<VLOOKUP(L$5,NFI,5,0),1,0)*Table_NFI[[#This Row],[Tarpaulin]],Table_NFI[[#This Row],[Tarpaulin]])","v":0},{"$f":"IF(NFI_Expiration=1,IF($A296<VLOOKUP(M$5,NFI,5,0),1,0)*Table_NFI[[#This Row],[Blanket]],Table_NFI[[#This Row],[Blanket]])","v":0},{"$f":"IF(NFI_Expiration=1,IF($A296<VLOOKUP(N$5,NFI,5,0),1,0)*Table_NFI[[#This Row],[Kitchen Set]],Table_NFI[Kitchen Set])","v":58},{"$f":"IF(NFI_Expiration=1,IF($A296<VLOOKUP(O$5,NFI,5,0),1,0)*Table_NFI[[#This Row],[Complementary Kit]],Table_NFI[Complementary Kit])","v":0},{"$f":"IF(NFI_Expiration=1,IF($A296<VLOOKUP(P$5,NFI,5,0),1,0)*Table_NFI[[#This Row],[Plastic Bucket]],Table_NFI[Plastic Bucket])","v":0},{"$f":"IF(NFI_Expiration=1,IF($A296<VLOOKUP(Q$5,NFI,5,0),1,0)*Table_NFI[[#This Row],[Plastic Mat]],Table_NFI[Plastic Mat])","v":0},{"$f":"IFERROR(VLOOKUP(Table_NFI[[#This Row],[Camp Name]],CL,2,0),\"\")","v":"MMR001CMP174"},{"$f":"IFERROR(VLOOKUP(Table_NFI[[#This Row],[Camp Name]],CL,3,0),\"\")","v":"Open"},{"$f":"IFERROR(Table_NFI[[#This Row],[Kitchen Set]]/VLOOKUP(Table_NFI[[#This Row],[Camp Name]],CL,4,0),\"\")","v":0.86567164179104472}]
[11.033333333333333,"2013-02-04","MRCS","MRCS","Kachin","Hpakant","5 Ward Baptist Church(lon Khin)",null,null,null,null,null,null,162,null,0,0,{"$f":"IF(NFI_Expiration=1,IF($A297<VLOOKUP(H$5,NFI,5,0),1,0)*Table_NFI[[#This Row],[Hygiene Kit]],Table_NFI[Hygiene Kit])","v":0},{"$f":"IF(NFI_Expiration=1,IF($A297<VLOOKUP(I$5,NFI,5,0),1,0)*Table_NFI[[#This Row],[NFI Core Kit]],Table_NFI[NFI Core Kit])","v":0},{"$f":"IF(NFI_Expiration=1,IF($A297<VLOOKUP(J$5,NFI,5,0),1,0)*Table_NFI[[#This Row],[Sanitary Kit]],Table_NFI[Sanitary Kit])","v":0},{"$f":"IF(NFI_Expiration=1,IF($A297<VLOOKUP(K$5,NFI,5,0),1,0)*Table_NFI[[#This Row],[Mosquito net]],Table_NFI[Mosquito net])","v":0},{"$f":"IF(NFI_Expiration=1,IF($A297<VLOOKUP(L$5,NFI,5,0),1,0)*Table_NFI[[#This Row],[Tarpaulin]],Table_NFI[[#This Row],[Tarpaulin]])","v":0},{"$f":"IF(NFI_Expiration=1,IF($A297<VLOOKUP(M$5,NFI,5,0),1,0)*Table_NFI[[#This Row],[Blanket]],Table_NFI[[#This Row],[Blanket]])","v":0},{"$f":"IF(NFI_Expiration=1,IF($A297<VLOOKUP(N$5,NFI,5,0),1,0)*Table_NFI[[#This Row],[Kitchen Set]],Table_NFI[Kitchen Set])","v":162},{"$f":"IF(NFI_Expiration=1,IF($A297<VLOOKUP(O$5,NFI,5,0),1,0)*Table_NFI[[#This Row],[Complementary Kit]],Table_NFI[Complementary Kit])","v":0},{"$f":"IF(NFI_Expiration=1,IF($A297<VLOOKUP(P$5,NFI,5,0),1,0)*Table_NFI[[#This Row],[Plastic Bucket]],Table_NFI[Plastic Bucket])","v":0},{"$f":"IF(NFI_Expiration=1,IF($A297<VLOOKUP(Q$5,NFI,5,0),1,0)*Table_NFI[[#This Row],[Plastic Mat]],Table_NFI[Plastic Mat])","v":0},{"$f":"IFERROR(VLOOKUP(Table_NFI[[#This Row],[Camp Name]],CL,2,0),\"\")","v":"MMR001CMP179"},{"$f":"IFERROR(VLOOKUP(Table_NFI[[#This Row],[Camp Name]],CL,3,0),\"\")","v":"Open"},{"$f":"IFERROR(Table_NFI[[#This Row],[Kitchen Set]]/VLOOKUP(Table_NFI[[#This Row],[Camp Name]],CL,4,0),\"\")","v":1.62}]
[11,"2013-02-05","MRCS","MRCS","Kachin","Myitkyina","Shatapru Sut Ngai Tawng",36,null,null,null,null,null,null,null,0,0,{"$f":"IF(NFI_Expiration=1,IF($A298<VLOOKUP(H$5,NFI,5,0),1,0)*Table_NFI[[#This Row],[Hygiene Kit]],Table_NFI[Hygiene Kit])","v":36},{"$f":"IF(NFI_Expiration=1,IF($A298<VLOOKUP(I$5,NFI,5,0),1,0)*Table_NFI[[#This Row],[NFI Core Kit]],Table_NFI[NFI Core Kit])","v":0},{"$f":"IF(NFI_Expiration=1,IF($A298<VLOOKUP(J$5,NFI,5,0),1,0)*Table_NFI[[#This Row],[Sanitary Kit]],Table_NFI[Sanitary Kit])","v":0},{"$f":"IF(NFI_Expiration=1,IF($A298<VLOOKUP(K$5,NFI,5,0),1,0)*Table_NFI[[#This Row],[Mosquito net]],Table_NFI[Mosquito net])","v":0},{"$f":"IF(NFI_Expiration=1,IF($A298<VLOOKUP(L$5,NFI,5,0),1,0)*Table_NFI[[#This Row],[Tarpaulin]],Table_NFI[[#This Row],[Tarpaulin]])","v":0},{"$f":"IF(NFI_Expiration=1,IF($A298<VLOOKUP(M$5,NFI,5,0),1,0)*Table_NFI[[#This Row],[Blanket]],Table_NFI[[#This Row],[Blanket]])","v":0},{"$f":"IF(NFI_Expiration=1,IF($A298<VLOOKUP(N$5,NFI,5,0),1,0)*Table_NFI[[#This Row],[Kitchen Set]],Table_NFI[Kitchen Set])","v":0},{"$f":"IF(NFI_Expiration=1,IF($A298<VLOOKUP(O$5,NFI,5,0),1,0)*Table_NFI[[#This Row],[Complementary Kit]],Table_NFI[Complementary Kit])","v":0},{"$f":"IF(NFI_Expiration=1,IF($A298<VLOOKUP(P$5,NFI,5,0),1,0)*Table_NFI[[#This Row],[Plastic Bucket]],Table_NFI[Plastic Bucket])","v":0},{"$f":"IF(NFI_Expiration=1,IF($A298<VLOOKUP(Q$5,NFI,5,0),1,0)*Table_NFI[[#This Row],[Plastic Mat]],Table_NFI[Plastic Mat])","v":0},{"$f":"IFERROR(VLOOKUP(Table_NFI[[#This Row],[Camp Name]],CL,2,0),\"\")","v":"MMR001CMP006"},{"$f":"IFERROR(VLOOKUP(Table_NFI[[#This Row],[Camp Name]],CL,3,0),\"\")","v":"Open"},{"$f":"IFERROR(Table_NFI[[#This Row],[Kitchen Set]]/VLOOKUP(Table_NFI[[#This Row],[Camp Name]],CL,4,0),\"\")","v":0}]
[11,"2013-02-05","MRCS","MRCS","Kachin","Myitkyina","Jan Mai Kawng Baptist Church",22,null,null,null,null,null,null,null,0,0,{"$f":"IF(NFI_Expiration=1,IF($A299<VLOOKUP(H$5,NFI,5,0),1,0)*Table_NFI[[#This Row],[Hygiene Kit]],Table_NFI[Hygiene Kit])","v":22},{"$f":"IF(NFI_Expiration=1,IF($A299<VLOOKUP(I$5,NFI,5,0),1,0)*Table_NFI[[#This Row],[NFI Core Kit]],Table_NFI[NFI Core Kit])","v":0},{"$f":"IF(NFI_Expiration=1,IF($A299<VLOOKUP(J$5,NFI,5,0),1,0)*Table_NFI[[#This Row],[Sanitary Kit]],Table_NFI[Sanitary Kit])","v":0},{"$f":"IF(NFI_Expiration=1,IF($A299<VLOOKUP(K$5,NFI,5,0),1,0)*Table_NFI[[#This Row],[Mosquito net]],Table_NFI[Mosquito net])","v":0},{"$f":"IF(NFI_Expiration=1,IF($A299<VLOOKUP(L$5,NFI,5,0),1,0)*Table_NFI[[#This Row],[Tarpaulin]],Table_NFI[[#This Row],[Tarpaulin]])","v":0},{"$f":"IF(NFI_Expiration=1,IF($A299<VLOOKUP(M$5,NFI,5,0),1,0)*Table_NFI[[#This Row],[Blanket]],Table_NFI[[#This Row],[Blanket]])","v":0},{"$f":"IF(NFI_Expiration=1,IF($A299<VLOOKUP(N$5,NFI,5,0),1,0)*Table_NFI[[#This Row],[Kitchen Set]],Table_NFI[Kitchen Set])","v":0},{"$f":"IF(NFI_Expiration=1,IF($A299<VLOOKUP(O$5,NFI,5,0),1,0)*Table_NFI[[#This Row],[Complementary Kit]],Table_NFI[Complementary Kit])","v":0},{"$f":"IF(NFI_Expiration=1,IF($A299<VLOOKUP(P$5,NFI,5,0),1,0)*Table_NFI[[#This Row],[Plastic Bucket]],Table_NFI[Plastic Bucket])","v":0},{"$f":"IF(NFI_Expiration=1,IF($A299<VLOOKUP(Q$5,NFI,5,0),1,0)*Table_NFI[[#This Row],[Plastic Mat]],Table_NFI[Plastic Mat])","v":0},{"$f":"IFERROR(VLOOKUP(Table_NFI[[#This Row],[Camp Name]],CL,2,0),\"\")","v":"MMR001CMP018"},{"$f":"IFERROR(VLOOKUP(Table_NFI[[#This Row],[Camp Name]],CL,3,0),\"\")","v":"Open"},{"$f":"IFERROR(Table_NFI[[#This Row],[Kitchen Set]]/VLOOKUP(Table_NFI[[#This Row],[Camp Name]],CL,4,0),\"\")","v":0}]
[11,"2013-02-05","UNHCR","UNHCR","Kachin","Myitkyina","Maw Hpawng Lhaovo Baptist Church",null,null,10,16,7,16,7,7,7,7,{"$f":"IF(NFI_Expiration=1,IF($A300<VLOOKUP(H$5,NFI,5,0),1,0)*Table_NFI[[#This Row],[Hygiene Kit]],Table_NFI[Hygiene Kit])","v":0},{"$f":"IF(NFI_Expiration=1,IF($A300<VLOOKUP(I$5,NFI,5,0),1,0)*Table_NFI[[#This Row],[NFI Core Kit]],Table_NFI[NFI Core Kit])","v":0},{"$f":"IF(NFI_Expiration=1,IF($A300<VLOOKUP(J$5,NFI,5,0),1,0)*Table_NFI[[#This Row],[Sanitary Kit]],Table_NFI[Sanitary Kit])","v":10},{"$f":"IF(NFI_Expiration=1,IF($A300<VLOOKUP(K$5,NFI,5,0),1,0)*Table_NFI[[#This Row],[Mosquito net]],Table_NFI[Mosquito net])","v":16},{"$f":"IF(NFI_Expiration=1,IF($A300<VLOOKUP(L$5,NFI,5,0),1,0)*Table_NFI[[#This Row],[Tarpaulin]],Table_NFI[[#This Row],[Tarpaulin]])","v":7},{"$f":"IF(NFI_Expiration=1,IF($A300<VLOOKUP(M$5,NFI,5,0),1,0)*Table_NFI[[#This Row],[Blanket]],Table_NFI[[#This Row],[Blanket]])","v":16},{"$f":"IF(NFI_Expiration=1,IF($A300<VLOOKUP(N$5,NFI,5,0),1,0)*Table_NFI[[#This Row],[Kitchen Set]],Table_NFI[Kitchen Set])","v":7},{"$f":"IF(NFI_Expiration=1,IF($A300<VLOOKUP(O$5,NFI,5,0),1,0)*Table_NFI[[#This Row],[Complementary Kit]],Table_NFI[Complementary Kit])","v":7},{"$f":"IF(NFI_Expiration=1,IF($A300<VLOOKUP(P$5,NFI,5,0),1,0)*Table_NFI[[#This Row],[Plastic Bucket]],Table_NFI[Plastic Bucket])","v":7},{"$f":"IF(NFI_Expiration=1,IF($A300<VLOOKUP(Q$5,NFI,5,0),1,0)*Table_NFI[[#This Row],[Plastic Mat]],Table_NFI[Plastic Mat])","v":7},{"$f":"IFERROR(VLOOKUP(Table_NFI[[#This Row],[Camp Name]],CL,2,0),\"\")","v":"MMR001CMP021"},{"$f":"IFERROR(VLOOKUP(Table_NFI[[#This Row],[Camp Name]],CL,3,0),\"\")","v":"Open"},{"$f":"IFERROR(Table_NFI[[#This Row],[Kitchen Set]]/VLOOKUP(Table_NFI[[#This Row],[Camp Name]],CL,4,0),\"\")","v":0.33333333333333331}]
[11,"2013-02-05","MRCS","MRCS","Kachin","Waingmaw","Qtr. 4 Monestry (Thargaya Thayett Taw)",20,null,null,null,null,null,null,null,0,0,{"$f":"IF(NFI_Expiration=1,IF($A301<VLOOKUP(H$5,NFI,5,0),1,0)*Table_NFI[[#This Row],[Hygiene Kit]],Table_NFI[Hygiene Kit])","v":20},{"$f":"IF(NFI_Expiration=1,IF($A301<VLOOKUP(I$5,NFI,5,0),1,0)*Table_NFI[[#This Row],[NFI Core Kit]],Table_NFI[NFI Core Kit])","v":0},{"$f":"IF(NFI_Expiration=1,IF($A301<VLOOKUP(J$5,NFI,5,0),1,0)*Table_NFI[[#This Row],[Sanitary Kit]],Table_NFI[Sanitary Kit])","v":0},{"$f":"IF(NFI_Expiration=1,IF($A301<VLOOKUP(K$5,NFI,5,0),1,0)*Table_NFI[[#This Row],[Mosquito net]],Table_NFI[Mosquito net])","v":0},{"$f":"IF(NFI_Expiration=1,IF($A301<VLOOKUP(L$5,NFI,5,0),1,0)*Table_NFI[[#This Row],[Tarpaulin]],Table_NFI[[#This Row],[Tarpaulin]])","v":0},{"$f":"IF(NFI_Expiration=1,IF($A301<VLOOKUP(M$5,NFI,5,0),1,0)*Table_NFI[[#This Row],[Blanket]],Table_NFI[[#This Row],[Blanket]])","v":0},{"$f":"IF(NFI_Expiration=1,IF($A301<VLOOKUP(N$5,NFI,5,0),1,0)*Table_NFI[[#This Row],[Kitchen Set]],Table_NFI[Kitchen Set])","v":0},{"$f":"IF(NFI_Expiration=1,IF($A301<VLOOKUP(O$5,NFI,5,0),1,0)*Table_NFI[[#This Row],[Complementary Kit]],Table_NFI[Complementary Kit])","v":0},{"$f":"IF(NFI_Expiration=1,IF($A301<VLOOKUP(P$5,NFI,5,0),1,0)*Table_NFI[[#This Row],[Plastic Bucket]],Table_NFI[Plastic Bucket])","v":0},{"$f":"IF(NFI_Expiration=1,IF($A301<VLOOKUP(Q$5,NFI,5,0),1,0)*Table_NFI[[#This Row],[Plastic Mat]],Table_NFI[Plastic Mat])","v":0},{"$f":"IFERROR(VLOOKUP(Table_NFI[[#This Row],[Camp Name]],CL,2,0),\"\")","v":"MMR001CMP026"},{"$f":"IFERROR(VLOOKUP(Table_NFI[[#This Row],[Camp Name]],CL,3,0),\"\")","v":"Open"},{"$f":"IFERROR(Table_NFI[[#This Row],[Kitchen Set]]/VLOOKUP(Table_NFI[[#This Row],[Camp Name]],CL,4,0),\"\")","v":0}]
[11,"2013-02-05","MRCS","MRCS","Kachin","Waingmaw","Maina Catholic Church (St. Joseph)",46,null,null,null,null,null,null,null,0,0,{"$f":"IF(NFI_Expiration=1,IF($A302<VLOOKUP(H$5,NFI,5,0),1,0)*Table_NFI[[#This Row],[Hygiene Kit]],Table_NFI[Hygiene Kit])","v":46},{"$f":"IF(NFI_Expiration=1,IF($A302<VLOOKUP(I$5,NFI,5,0),1,0)*Table_NFI[[#This Row],[NFI Core Kit]],Table_NFI[NFI Core Kit])","v":0},{"$f":"IF(NFI_Expiration=1,IF($A302<VLOOKUP(J$5,NFI,5,0),1,0)*Table_NFI[[#This Row],[Sanitary Kit]],Table_NFI[Sanitary Kit])","v":0},{"$f":"IF(NFI_Expiration=1,IF($A302<VLOOKUP(K$5,NFI,5,0),1,0)*Table_NFI[[#This Row],[Mosquito net]],Table_NFI[Mosquito net])","v":0},{"$f":"IF(NFI_Expiration=1,IF($A302<VLOOKUP(L$5,NFI,5,0),1,0)*Table_NFI[[#This Row],[Tarpaulin]],Table_NFI[[#This Row],[Tarpaulin]])","v":0},{"$f":"IF(NFI_Expiration=1,IF($A302<VLOOKUP(M$5,NFI,5,0),1,0)*Table_NFI[[#This Row],[Blanket]],Table_NFI[[#This Row],[Blanket]])","v":0},{"$f":"IF(NFI_Expiration=1,IF($A302<VLOOKUP(N$5,NFI,5,0),1,0)*Table_NFI[[#This Row],[Kitchen Set]],Table_NFI[Kitchen Set])","v":0},{"$f":"IF(NFI_Expiration=1,IF($A302<VLOOKUP(O$5,NFI,5,0),1,0)*Table_NFI[[#This Row],[Complementary Kit]],Table_NFI[Complementary Kit])","v":0},{"$f":"IF(NFI_Expiration=1,IF($A302<VLOOKUP(P$5,NFI,5,0),1,0)*Table_NFI[[#This Row],[Plastic Bucket]],Table_NFI[Plastic Bucket])","v":0},{"$f":"IF(NFI_Expiration=1,IF($A302<VLOOKUP(Q$5,NFI,5,0),1,0)*Table_NFI[[#This Row],[Plastic Mat]],Table_NFI[Plastic Mat])","v":0},{"$f":"IFERROR(VLOOKUP(Table_NFI[[#This Row],[Camp Name]],CL,2,0),\"\")","v":"MMR001CMP029"},{"$f":"IFERROR(VLOOKUP(Table_NFI[[#This Row],[Camp Name]],CL,3,0),\"\")","v":"Open"},{"$f":"IFERROR(Table_NFI[[#This Row],[Kitchen Set]]/VLOOKUP(Table_NFI[[#This Row],[Camp Name]],CL,4,0),\"\")","v":0}]
[11,"2013-02-05","UNHCR","UNHCR","Kachin","Waingmaw","Maina AG Church",null,null,37,70,34,70,34,34,34,34,{"$f":"IF(NFI_Expiration=1,IF($A303<VLOOKUP(H$5,NFI,5,0),1,0)*Table_NFI[[#This Row],[Hygiene Kit]],Table_NFI[Hygiene Kit])","v":0},{"$f":"IF(NFI_Expiration=1,IF($A303<VLOOKUP(I$5,NFI,5,0),1,0)*Table_NFI[[#This Row],[NFI Core Kit]],Table_NFI[NFI Core Kit])","v":0},{"$f":"IF(NFI_Expiration=1,IF($A303<VLOOKUP(J$5,NFI,5,0),1,0)*Table_NFI[[#This Row],[Sanitary Kit]],Table_NFI[Sanitary Kit])","v":37},{"$f":"IF(NFI_Expiration=1,IF($A303<VLOOKUP(K$5,NFI,5,0),1,0)*Table_NFI[[#This Row],[Mosquito net]],Table_NFI[Mosquito net])","v":70},{"$f":"IF(NFI_Expiration=1,IF($A303<VLOOKUP(L$5,NFI,5,0),1,0)*Table_NFI[[#This Row],[Tarpaulin]],Table_NFI[[#This Row],[Tarpaulin]])","v":34},{"$f":"IF(NFI_Expiration=1,IF($A303<VLOOKUP(M$5,NFI,5,0),1,0)*Table_NFI[[#This Row],[Blanket]],Table_NFI[[#This Row],[Blanket]])","v":70},{"$f":"IF(NFI_Expiration=1,IF($A303<VLOOKUP(N$5,NFI,5,0),1,0)*Table_NFI[[#This Row],[Kitchen Set]],Table_NFI[Kitchen Set])","v":34},{"$f":"IF(NFI_Expiration=1,IF($A303<VLOOKUP(O$5,NFI,5,0),1,0)*Table_NFI[[#This Row],[Complementary Kit]],Table_NFI[Complementary Kit])","v":34},{"$f":"IF(NFI_Expiration=1,IF($A303<VLOOKUP(P$5,NFI,5,0),1,0)*Table_NFI[[#This Row],[Plastic Bucket]],Table_NFI[Plastic Bucket])","v":34},{"$f":"IF(NFI_Expiration=1,IF($A303<VLOOKUP(Q$5,NFI,5,0),1,0)*Table_NFI[[#This Row],[Plastic Mat]],Table_NFI[Plastic Mat])","v":34},{"$f":"IFERROR(VLOOKUP(Table_NFI[[#This Row],[Camp Name]],CL,2,0),\"\")","v":"MMR001CMP031"},{"$f":"IFERROR(VLOOKUP(Table_NFI[[#This Row],[Camp Name]],CL,3,0),\"\")","v":"Open"},{"$f":"IFERROR(Table_NFI[[#This Row],[Kitchen Set]]/VLOOKUP(Table_NFI[[#This Row],[Camp Name]],CL,4,0),\"\")","v":0.24113475177304963}]
[10.966666666666667,"2013-02-06","UNHCR","UNHCR","Kachin","Waingmaw","Qtr. 2 Lhaovo Baptist Church",null,null,17,20,15,20,14,11,11,11,{"$f":"IF(NFI_Expiration=1,IF($A304<VLOOKUP(H$5,NFI,5,0),1,0)*Table_NFI[[#This Row],[Hygiene Kit]],Table_NFI[Hygiene Kit])","v":0},{"$f":"IF(NFI_Expiration=1,IF($A304<VLOOKUP(I$5,NFI,5,0),1,0)*Table_NFI[[#This Row],[NFI Core Kit]],Table_NFI[NFI Core Kit])","v":0},{"$f":"IF(NFI_Expiration=1,IF($A304<VLOOKUP(J$5,NFI,5,0),1,0)*Table_NFI[[#This Row],[Sanitary Kit]],Table_NFI[Sanitary Kit])","v":17},{"$f":"IF(NFI_Expiration=1,IF($A304<VLOOKUP(K$5,NFI,5,0),1,0)*Table_NFI[[#This Row],[Mosquito net]],Table_NFI[Mosquito net])","v":20},{"$f":"IF(NFI_Expiration=1,IF($A304<VLOOKUP(L$5,NFI,5,0),1,0)*Table_NFI[[#This Row],[Tarpaulin]],Table_NFI[[#This Row],[Tarpaulin]])","v":15},{"$f":"IF(NFI_Expiration=1,IF($A304<VLOOKUP(M$5,NFI,5,0),1,0)*Table_NFI[[#This Row],[Blanket]],Table_NFI[[#This Row],[Blanket]])","v":20},{"$f":"IF(NFI_Expiration=1,IF($A304<VLOOKUP(N$5,NFI,5,0),1,0)*Table_NFI[[#This Row],[Kitchen Set]],Table_NFI[Kitchen Set])","v":14},{"$f":"IF(NFI_Expiration=1,IF($A304<VLOOKUP(O$5,NFI,5,0),1,0)*Table_NFI[[#This Row],[Complementary Kit]],Table_NFI[Complementary Kit])","v":11},{"$f":"IF(NFI_Expiration=1,IF($A304<VLOOKUP(P$5,NFI,5,0),1,0)*Table_NFI[[#This Row],[Plastic Bucket]],Table_NFI[Plastic Bucket])","v":11},{"$f":"IF(NFI_Expiration=1,IF($A304<VLOOKUP(Q$5,NFI,5,0),1,0)*Table_NFI[[#This Row],[Plastic Mat]],Table_NFI[Plastic Mat])","v":11},{"$f":"IFERROR(VLOOKUP(Table_NFI[[#This Row],[Camp Name]],CL,2,0),\"\")","v":"MMR001CMP032"},{"$f":"IFERROR(VLOOKUP(Table_NFI[[#This Row],[Camp Name]],CL,3,0),\"\")","v":"Open"},{"$f":"IFERROR(Table_NFI[[#This Row],[Kitchen Set]]/VLOOKUP(Table_NFI[[#This Row],[Camp Name]],CL,4,0),\"\")","v":0.11666666666666667}]
[10.866666666666667,"2013-02-09","MRCS","MRCS","Kachin","Myitkyina","Shatapru Sut Ngai Tawng",null,null,null,null,109,10,10,null,0,0,{"$f":"IF(NFI_Expiration=1,IF($A305<VLOOKUP(H$5,NFI,5,0),1,0)*Table_NFI[[#This Row],[Hygiene Kit]],Table_NFI[Hygiene Kit])","v":0},{"$f":"IF(NFI_Expiration=1,IF($A305<VLOOKUP(I$5,NFI,5,0),1,0)*Table_NFI[[#This Row],[NFI Core Kit]],Table_NFI[NFI Core Kit])","v":0},{"$f":"IF(NFI_Expiration=1,IF($A305<VLOOKUP(J$5,NFI,5,0),1,0)*Table_NFI[[#This Row],[Sanitary Kit]],Table_NFI[Sanitary Kit])","v":0},{"$f":"IF(NFI_Expiration=1,IF($A305<VLOOKUP(K$5,NFI,5,0),1,0)*Table_NFI[[#This Row],[Mosquito net]],Table_NFI[Mosquito net])","v":0},{"$f":"IF(NFI_Expiration=1,IF($A305<VLOOKUP(L$5,NFI,5,0),1,0)*Table_NFI[[#This Row],[Tarpaulin]],Table_NFI[[#This Row],[Tarpaulin]])","v":109},{"$f":"IF(NFI_Expiration=1,IF($A305<VLOOKUP(M$5,NFI,5,0),1,0)*Table_NFI[[#This Row],[Blanket]],Table_NFI[[#This Row],[Blanket]])","v":10},{"$f":"IF(NFI_Expiration=1,IF($A305<VLOOKUP(N$5,NFI,5,0),1,0)*Table_NFI[[#This Row],[Kitchen Set]],Table_NFI[Kitchen Set])","v":10},{"$f":"IF(NFI_Expiration=1,IF($A305<VLOOKUP(O$5,NFI,5,0),1,0)*Table_NFI[[#This Row],[Complementary Kit]],Table_NFI[Complementary Kit])","v":0},{"$f":"IF(NFI_Expiration=1,IF($A305<VLOOKUP(P$5,NFI,5,0),1,0)*Table_NFI[[#This Row],[Plastic Bucket]],Table_NFI[Plastic Bucket])","v":0},{"$f":"IF(NFI_Expiration=1,IF($A305<VLOOKUP(Q$5,NFI,5,0),1,0)*Table_NFI[[#This Row],[Plastic Mat]],Table_NFI[Plastic Mat])","v":0},{"$f":"IFERROR(VLOOKUP(Table_NFI[[#This Row],[Camp Name]],CL,2,0),\"\")","v":"MMR001CMP006"},{"$f":"IFERROR(VLOOKUP(Table_NFI[[#This Row],[Camp Name]],CL,3,0),\"\")","v":"Open"},{"$f":"IFERROR(Table_NFI[[#This Row],[Kitchen Set]]/VLOOKUP(Table_NFI[[#This Row],[Camp Name]],CL,4,0),\"\")","v":9.4339622641509441E-2}]
[10.866666666666667,"2013-02-09","MRCS","MRCS","Kachin","Myitkyina","Jan Mai Kawng Baptist Church",null,null,null,null,177,10,10,null,0,0,{"$f":"IF(NFI_Expiration=1,IF($A306<VLOOKUP(H$5,NFI,5,0),1,0)*Table_NFI[[#This Row],[Hygiene Kit]],Table_NFI[Hygiene Kit])","v":0},{"$f":"IF(NFI_Expiration=1,IF($A306<VLOOKUP(I$5,NFI,5,0),1,0)*Table_NFI[[#This Row],[NFI Core Kit]],Table_NFI[NFI Core Kit])","v":0},{"$f":"IF(NFI_Expiration=1,IF($A306<VLOOKUP(J$5,NFI,5,0),1,0)*Table_NFI[[#This Row],[Sanitary Kit]],Table_NFI[Sanitary Kit])","v":0},{"$f":"IF(NFI_Expiration=1,IF($A306<VLOOKUP(K$5,NFI,5,0),1,0)*Table_NFI[[#This Row],[Mosquito net]],Table_NFI[Mosquito net])","v":0},{"$f":"IF(NFI_Expiration=1,IF($A306<VLOOKUP(L$5,NFI,5,0),1,0)*Table_NFI[[#This Row],[Tarpaulin]],Table_NFI[[#This Row],[Tarpaulin]])","v":177},{"$f":"IF(NFI_Expiration=1,IF($A306<VLOOKUP(M$5,NFI,5,0),1,0)*Table_NFI[[#This Row],[Blanket]],Table_NFI[[#This Row],[Blanket]])","v":10},{"$f":"IF(NFI_Expiration=1,IF($A306<VLOOKUP(N$5,NFI,5,0),1,0)*Table_NFI[[#This Row],[Kitchen Set]],Table_NFI[Kitchen Set])","v":10},{"$f":"IF(NFI_Expiration=1,IF($A306<VLOOKUP(O$5,NFI,5,0),1,0)*Table_NFI[[#This Row],[Complementary Kit]],Table_NFI[Complementary Kit])","v":0},{"$f":"IF(NFI_Expiration=1,IF($A306<VLOOKUP(P$5,NFI,5,0),1,0)*Table_NFI[[#This Row],[Plastic Bucket]],Table_NFI[Plastic Bucket])","v":0},{"$f":"IF(NFI_Expiration=1,IF($A306<VLOOKUP(Q$5,NFI,5,0),1,0)*Table_NFI[[#This Row],[Plastic Mat]],Table_NFI[Plastic Mat])","v":0},{"$f":"IFERROR(VLOOKUP(Table_NFI[[#This Row],[Camp Name]],CL,2,0),\"\")","v":"MMR001CMP018"},{"$f":"IFERROR(VLOOKUP(Table_NFI[[#This Row],[Camp Name]],CL,3,0),\"\")","v":"Open"},{"$f":"IFERROR(Table_NFI[[#This Row],[Kitchen Set]]/VLOOKUP(Table_NFI[[#This Row],[Camp Name]],CL,4,0),\"\")","v":4.9261083743842367E-2}]
[10.833333333333334,"2013-02-10","MRCS","MRCS","Kachin","Mohnyin","St. Patrick Catholic Church ",null,null,null,null,20,null,12,null,0,0,{"$f":"IF(NFI_Expiration=1,IF($A307<VLOOKUP(H$5,NFI,5,0),1,0)*Table_NFI[[#This Row],[Hygiene Kit]],Table_NFI[Hygiene Kit])","v":0},{"$f":"IF(NFI_Expiration=1,IF($A307<VLOOKUP(I$5,NFI,5,0),1,0)*Table_NFI[[#This Row],[NFI Core Kit]],Table_NFI[NFI Core Kit])","v":0},{"$f":"IF(NFI_Expiration=1,IF($A307<VLOOKUP(J$5,NFI,5,0),1,0)*Table_NFI[[#This Row],[Sanitary Kit]],Table_NFI[Sanitary Kit])","v":0},{"$f":"IF(NFI_Expiration=1,IF($A307<VLOOKUP(K$5,NFI,5,0),1,0)*Table_NFI[[#This Row],[Mosquito net]],Table_NFI[Mosquito net])","v":0},{"$f":"IF(NFI_Expiration=1,IF($A307<VLOOKUP(L$5,NFI,5,0),1,0)*Table_NFI[[#This Row],[Tarpaulin]],Table_NFI[[#This Row],[Tarpaulin]])","v":20},{"$f":"IF(NFI_Expiration=1,IF($A307<VLOOKUP(M$5,NFI,5,0),1,0)*Table_NFI[[#This Row],[Blanket]],Table_NFI[[#This Row],[Blanket]])","v":0},{"$f":"IF(NFI_Expiration=1,IF($A307<VLOOKUP(N$5,NFI,5,0),1,0)*Table_NFI[[#This Row],[Kitchen Set]],Table_NFI[Kitchen Set])","v":12},{"$f":"IF(NFI_Expiration=1,IF($A307<VLOOKUP(O$5,NFI,5,0),1,0)*Table_NFI[[#This Row],[Complementary Kit]],Table_NFI[Complementary Kit])","v":0},{"$f":"IF(NFI_Expiration=1,IF($A307<VLOOKUP(P$5,NFI,5,0),1,0)*Table_NFI[[#This Row],[Plastic Bucket]],Table_NFI[Plastic Bucket])","v":0},{"$f":"IF(NFI_Expiration=1,IF($A307<VLOOKUP(Q$5,NFI,5,0),1,0)*Table_NFI[[#This Row],[Plastic Mat]],Table_NFI[Plastic Mat])","v":0},{"$f":"IFERROR(VLOOKUP(Table_NFI[[#This Row],[Camp Name]],CL,2,0),\"\")","v":"MMR001CMP080"},{"$f":"IFERROR(VLOOKUP(Table_NFI[[#This Row],[Camp Name]],CL,3,0),\"\")","v":"Open"},{"$f":"IFERROR(Table_NFI[[#This Row],[Kitchen Set]]/VLOOKUP(Table_NFI[[#This Row],[Camp Name]],CL,4,0),\"\")","v":1}]
[10.833333333333334,"2013-02-10","MRCS","MRCS","Kachin","Mohnyin","Nant Mun",null,null,null,null,36,null,22,null,0,0,{"$f":"IF(NFI_Expiration=1,IF($A308<VLOOKUP(H$5,NFI,5,0),1,0)*Table_NFI[[#This Row],[Hygiene Kit]],Table_NFI[Hygiene Kit])","v":0},{"$f":"IF(NFI_Expiration=1,IF($A308<VLOOKUP(I$5,NFI,5,0),1,0)*Table_NFI[[#This Row],[NFI Core Kit]],Table_NFI[NFI Core Kit])","v":0},{"$f":"IF(NFI_Expiration=1,IF($A308<VLOOKUP(J$5,NFI,5,0),1,0)*Table_NFI[[#This Row],[Sanitary Kit]],Table_NFI[Sanitary Kit])","v":0},{"$f":"IF(NFI_Expiration=1,IF($A308<VLOOKUP(K$5,NFI,5,0),1,0)*Table_NFI[[#This Row],[Mosquito net]],Table_NFI[Mosquito net])","v":0},{"$f":"IF(NFI_Expiration=1,IF($A308<VLOOKUP(L$5,NFI,5,0),1,0)*Table_NFI[[#This Row],[Tarpaulin]],Table_NFI[[#This Row],[Tarpaulin]])","v":36},{"$f":"IF(NFI_Expiration=1,IF($A308<VLOOKUP(M$5,NFI,5,0),1,0)*Table_NFI[[#This Row],[Blanket]],Table_NFI[[#This Row],[Blanket]])","v":0},{"$f":"IF(NFI_Expiration=1,IF($A308<VLOOKUP(N$5,NFI,5,0),1,0)*Table_NFI[[#This Row],[Kitchen Set]],Table_NFI[Kitchen Set])","v":22},{"$f":"IF(NFI_Expiration=1,IF($A308<VLOOKUP(O$5,NFI,5,0),1,0)*Table_NFI[[#This Row],[Complementary Kit]],Table_NFI[Complementary Kit])","v":0},{"$f":"IF(NFI_Expiration=1,IF($A308<VLOOKUP(P$5,NFI,5,0),1,0)*Table_NFI[[#This Row],[Plastic Bucket]],Table_NFI[Plastic Bucket])","v":0},{"$f":"IF(NFI_Expiration=1,IF($A308<VLOOKUP(Q$5,NFI,5,0),1,0)*Table_NFI[[#This Row],[Plastic Mat]],Table_NFI[Plastic Mat])","v":0},{"$f":"IFERROR(VLOOKUP(Table_NFI[[#This Row],[Camp Name]],CL,2,0),\"\")","v":"MMR001CMP081"},{"$f":"IFERROR(VLOOKUP(Table_NFI[[#This Row],[Camp Name]],CL,3,0),\"\")","v":"Open"},{"$f":"IFERROR(Table_NFI[[#This Row],[Kitchen Set]]/VLOOKUP(Table_NFI[[#This Row],[Camp Name]],CL,4,0),\"\")","v":1.0476190476190477}]
[10.566666666666666,"2013-02-18","UNHCR","KBC","Kachin","Mansi","Man Wing Baptist Church",null,null,221,221,110,221,110,110,110,110,{"$f":"IF(NFI_Expiration=1,IF($A309<VLOOKUP(H$5,NFI,5,0),1,0)*Table_NFI[[#This Row],[Hygiene Kit]],Table_NFI[Hygiene Kit])","v":0},{"$f":"IF(NFI_Expiration=1,IF($A309<VLOOKUP(I$5,NFI,5,0),1,0)*Table_NFI[[#This Row],[NFI Core Kit]],Table_NFI[NFI Core Kit])","v":0},{"$f":"IF(NFI_Expiration=1,IF($A309<VLOOKUP(J$5,NFI,5,0),1,0)*Table_NFI[[#This Row],[Sanitary Kit]],Table_NFI[Sanitary Kit])","v":221},{"$f":"IF(NFI_Expiration=1,IF($A309<VLOOKUP(K$5,NFI,5,0),1,0)*Table_NFI[[#This Row],[Mosquito net]],Table_NFI[Mosquito net])","v":221},{"$f":"IF(NFI_Expiration=1,IF($A309<VLOOKUP(L$5,NFI,5,0),1,0)*Table_NFI[[#This Row],[Tarpaulin]],Table_NFI[[#This Row],[Tarpaulin]])","v":110},{"$f":"IF(NFI_Expiration=1,IF($A309<VLOOKUP(M$5,NFI,5,0),1,0)*Table_NFI[[#This Row],[Blanket]],Table_NFI[[#This Row],[Blanket]])","v":221},{"$f":"IF(NFI_Expiration=1,IF($A309<VLOOKUP(N$5,NFI,5,0),1,0)*Table_NFI[[#This Row],[Kitchen Set]],Table_NFI[Kitchen Set])","v":110},{"$f":"IF(NFI_Expiration=1,IF($A309<VLOOKUP(O$5,NFI,5,0),1,0)*Table_NFI[[#This Row],[Complementary Kit]],Table_NFI[Complementary Kit])","v":110},{"$f":"IF(NFI_Expiration=1,IF($A309<VLOOKUP(P$5,NFI,5,0),1,0)*Table_NFI[[#This Row],[Plastic Bucket]],Table_NFI[Plastic Bucket])","v":110},{"$f":"IF(NFI_Expiration=1,IF($A309<VLOOKUP(Q$5,NFI,5,0),1,0)*Table_NFI[[#This Row],[Plastic Mat]],Table_NFI[Plastic Mat])","v":110},{"$f":"IFERROR(VLOOKUP(Table_NFI[[#This Row],[Camp Name]],CL,2,0),\"\")","v":"MMR001CMP133"},{"$f":"IFERROR(VLOOKUP(Table_NFI[[#This Row],[Camp Name]],CL,3,0),\"\")","v":"Open"},{"$f":"IFERROR(Table_NFI[[#This Row],[Kitchen Set]]/VLOOKUP(Table_NFI[[#This Row],[Camp Name]],CL,4,0),\"\")","v":1.0784313725490196}]
[10.566666666666666,"2013-02-18","UNHCR","UNHCR","Kachin","Hpakant","Hlaing Naung Baptist",null,null,30,0,0,0,0,0,null,null,{"$f":"IF(NFI_Expiration=1,IF($A310<VLOOKUP(H$5,NFI,5,0),1,0)*Table_NFI[[#This Row],[Hygiene Kit]],Table_NFI[Hygiene Kit])","v":0},{"$f":"IF(NFI_Expiration=1,IF($A310<VLOOKUP(I$5,NFI,5,0),1,0)*Table_NFI[[#This Row],[NFI Core Kit]],Table_NFI[NFI Core Kit])","v":0},{"$f":"IF(NFI_Expiration=1,IF($A310<VLOOKUP(J$5,NFI,5,0),1,0)*Table_NFI[[#This Row],[Sanitary Kit]],Table_NFI[Sanitary Kit])","v":30},{"$f":"IF(NFI_Expiration=1,IF($A310<VLOOKUP(K$5,NFI,5,0),1,0)*Table_NFI[[#This Row],[Mosquito net]],Table_NFI[Mosquito net])","v":0},{"$f":"IF(NFI_Expiration=1,IF($A310<VLOOKUP(L$5,NFI,5,0),1,0)*Table_NFI[[#This Row],[Tarpaulin]],Table_NFI[[#This Row],[Tarpaulin]])","v":0},{"$f":"IF(NFI_Expiration=1,IF($A310<VLOOKUP(M$5,NFI,5,0),1,0)*Table_NFI[[#This Row],[Blanket]],Table_NFI[[#This Row],[Blanket]])","v":0},{"$f":"IF(NFI_Expiration=1,IF($A310<VLOOKUP(N$5,NFI,5,0),1,0)*Table_NFI[[#This Row],[Kitchen Set]],Table_NFI[Kitchen Set])","v":0},{"$f":"IF(NFI_Expiration=1,IF($A310<VLOOKUP(O$5,NFI,5,0),1,0)*Table_NFI[[#This Row],[Complementary Kit]],Table_NFI[Complementary Kit])","v":0},{"$f":"IF(NFI_Expiration=1,IF($A310<VLOOKUP(P$5,NFI,5,0),1,0)*Table_NFI[[#This Row],[Plastic Bucket]],Table_NFI[Plastic Bucket])","v":0},{"$f":"IF(NFI_Expiration=1,IF($A310<VLOOKUP(Q$5,NFI,5,0),1,0)*Table_NFI[[#This Row],[Plastic Mat]],Table_NFI[Plastic Mat])","v":0},{"$f":"IFERROR(VLOOKUP(Table_NFI[[#This Row],[Camp Name]],CL,2,0),\"\")","v":"MMR001CMP148"},{"$f":"IFERROR(VLOOKUP(Table_NFI[[#This Row],[Camp Name]],CL,3,0),\"\")","v":"Open"},{"$f":"IFERROR(Table_NFI[[#This Row],[Kitchen Set]]/VLOOKUP(Table_NFI[[#This Row],[Camp Name]],CL,4,0),\"\")","v":0}]
[10.566666666666666,"2013-02-18","UNHCR","KBC","Shan_North","Namhkan","Nam Hkam (KBC Jaw Wang)",null,null,139,139,70,139,70,70,70,70,{"$f":"IF(NFI_Expiration=1,IF($A311<VLOOKUP(H$5,NFI,5,0),1,0)*Table_NFI[[#This Row],[Hygiene Kit]],Table_NFI[Hygiene Kit])","v":0},{"$f":"IF(NFI_Expiration=1,IF($A311<VLOOKUP(I$5,NFI,5,0),1,0)*Table_NFI[[#This Row],[NFI Core Kit]],Table_NFI[NFI Core Kit])","v":0},{"$f":"IF(NFI_Expiration=1,IF($A311<VLOOKUP(J$5,NFI,5,0),1,0)*Table_NFI[[#This Row],[Sanitary Kit]],Table_NFI[Sanitary Kit])","v":139},{"$f":"IF(NFI_Expiration=1,IF($A311<VLOOKUP(K$5,NFI,5,0),1,0)*Table_NFI[[#This Row],[Mosquito net]],Table_NFI[Mosquito net])","v":139},{"$f":"IF(NFI_Expiration=1,IF($A311<VLOOKUP(L$5,NFI,5,0),1,0)*Table_NFI[[#This Row],[Tarpaulin]],Table_NFI[[#This Row],[Tarpaulin]])","v":70},{"$f":"IF(NFI_Expiration=1,IF($A311<VLOOKUP(M$5,NFI,5,0),1,0)*Table_NFI[[#This Row],[Blanket]],Table_NFI[[#This Row],[Blanket]])","v":139},{"$f":"IF(NFI_Expiration=1,IF($A311<VLOOKUP(N$5,NFI,5,0),1,0)*Table_NFI[[#This Row],[Kitchen Set]],Table_NFI[Kitchen Set])","v":70},{"$f":"IF(NFI_Expiration=1,IF($A311<VLOOKUP(O$5,NFI,5,0),1,0)*Table_NFI[[#This Row],[Complementary Kit]],Table_NFI[Complementary Kit])","v":70},{"$f":"IF(NFI_Expiration=1,IF($A311<VLOOKUP(P$5,NFI,5,0),1,0)*Table_NFI[[#This Row],[Plastic Bucket]],Table_NFI[Plastic Bucket])","v":70},{"$f":"IF(NFI_Expiration=1,IF($A311<VLOOKUP(Q$5,NFI,5,0),1,0)*Table_NFI[[#This Row],[Plastic Mat]],Table_NFI[Plastic Mat])","v":70},{"$f":"IFERROR(VLOOKUP(Table_NFI[[#This Row],[Camp Name]],CL,2,0),\"\")","v":"MMR015CMP001"},{"$f":"IFERROR(VLOOKUP(Table_NFI[[#This Row],[Camp Name]],CL,3,0),\"\")","v":"Open"},{"$f":"IFERROR(Table_NFI[[#This Row],[Kitchen Set]]/VLOOKUP(Table_NFI[[#This Row],[Camp Name]],CL,4,0),\"\")","v":0.7142857142857143}]
[10.566666666666666,"2013-02-18","UNHCR","KBC","Shan_North","Namhkan","Nam Hkam - Nay Win Ni (Palawng)",null,null,118,118,59,118,59,59,59,59,{"$f":"IF(NFI_Expiration=1,IF($A312<VLOOKUP(H$5,NFI,5,0),1,0)*Table_NFI[[#This Row],[Hygiene Kit]],Table_NFI[Hygiene Kit])","v":0},{"$f":"IF(NFI_Expiration=1,IF($A312<VLOOKUP(I$5,NFI,5,0),1,0)*Table_NFI[[#This Row],[NFI Core Kit]],Table_NFI[NFI Core Kit])","v":0},{"$f":"IF(NFI_Expiration=1,IF($A312<VLOOKUP(J$5,NFI,5,0),1,0)*Table_NFI[[#This Row],[Sanitary Kit]],Table_NFI[Sanitary Kit])","v":118},{"$f":"IF(NFI_Expiration=1,IF($A312<VLOOKUP(K$5,NFI,5,0),1,0)*Table_NFI[[#This Row],[Mosquito net]],Table_NFI[Mosquito net])","v":118},{"$f":"IF(NFI_Expiration=1,IF($A312<VLOOKUP(L$5,NFI,5,0),1,0)*Table_NFI[[#This Row],[Tarpaulin]],Table_NFI[[#This Row],[Tarpaulin]])","v":59},{"$f":"IF(NFI_Expiration=1,IF($A312<VLOOKUP(M$5,NFI,5,0),1,0)*Table_NFI[[#This Row],[Blanket]],Table_NFI[[#This Row],[Blanket]])","v":118},{"$f":"IF(NFI_Expiration=1,IF($A312<VLOOKUP(N$5,NFI,5,0),1,0)*Table_NFI[[#This Row],[Kitchen Set]],Table_NFI[Kitchen Set])","v":59},{"$f":"IF(NFI_Expiration=1,IF($A312<VLOOKUP(O$5,NFI,5,0),1,0)*Table_NFI[[#This Row],[Complementary Kit]],Table_NFI[Complementary Kit])","v":59},{"$f":"IF(NFI_Expiration=1,IF($A312<VLOOKUP(P$5,NFI,5,0),1,0)*Table_NFI[[#This Row],[Plastic Bucket]],Table_NFI[Plastic Bucket])","v":59},{"$f":"IF(NFI_Expiration=1,IF($A312<VLOOKUP(Q$5,NFI,5,0),1,0)*Table_NFI[[#This Row],[Plastic Mat]],Table_NFI[Plastic Mat])","v":59},{"$f":"IFERROR(VLOOKUP(Table_NFI[[#This Row],[Camp Name]],CL,2,0),\"\")","v":"MMR015CMP004"},{"$f":"IFERROR(VLOOKUP(Table_NFI[[#This Row],[Camp Name]],CL,3,0),\"\")","v":"Open"},{"$f":"IFERROR(Table_NFI[[#This Row],[Kitchen Set]]/VLOOKUP(Table_NFI[[#This Row],[Camp Name]],CL,4,0),\"\")","v":0.64130434782608692}]
[10.566666666666666,"2013-02-18","UNHCR","KBC","Shan_North","Kutkai","Mungji Pa Dabang (Baptist Church)         ",null,null,93,93,46,93,46,46,46,46,{"$f":"IF(NFI_Expiration=1,IF($A313<VLOOKUP(H$5,NFI,5,0),1,0)*Table_NFI[[#This Row],[Hygiene Kit]],Table_NFI[Hygiene Kit])","v":0},{"$f":"IF(NFI_Expiration=1,IF($A313<VLOOKUP(I$5,NFI,5,0),1,0)*Table_NFI[[#This Row],[NFI Core Kit]],Table_NFI[NFI Core Kit])","v":0},{"$f":"IF(NFI_Expiration=1,IF($A313<VLOOKUP(J$5,NFI,5,0),1,0)*Table_NFI[[#This Row],[Sanitary Kit]],Table_NFI[Sanitary Kit])","v":93},{"$f":"IF(NFI_Expiration=1,IF($A313<VLOOKUP(K$5,NFI,5,0),1,0)*Table_NFI[[#This Row],[Mosquito net]],Table_NFI[Mosquito net])","v":93},{"$f":"IF(NFI_Expiration=1,IF($A313<VLOOKUP(L$5,NFI,5,0),1,0)*Table_NFI[[#This Row],[Tarpaulin]],Table_NFI[[#This Row],[Tarpaulin]])","v":46},{"$f":"IF(NFI_Expiration=1,IF($A313<VLOOKUP(M$5,NFI,5,0),1,0)*Table_NFI[[#This Row],[Blanket]],Table_NFI[[#This Row],[Blanket]])","v":93},{"$f":"IF(NFI_Expiration=1,IF($A313<VLOOKUP(N$5,NFI,5,0),1,0)*Table_NFI[[#This Row],[Kitchen Set]],Table_NFI[Kitchen Set])","v":46},{"$f":"IF(NFI_Expiration=1,IF($A313<VLOOKUP(O$5,NFI,5,0),1,0)*Table_NFI[[#This Row],[Complementary Kit]],Table_NFI[Complementary Kit])","v":46},{"$f":"IF(NFI_Expiration=1,IF($A313<VLOOKUP(P$5,NFI,5,0),1,0)*Table_NFI[[#This Row],[Plastic Bucket]],Table_NFI[Plastic Bucket])","v":46},{"$f":"IF(NFI_Expiration=1,IF($A313<VLOOKUP(Q$5,NFI,5,0),1,0)*Table_NFI[[#This Row],[Plastic Mat]],Table_NFI[Plastic Mat])","v":46},{"$f":"IFERROR(VLOOKUP(Table_NFI[[#This Row],[Camp Name]],CL,2,0),\"\")","v":"MMR015CMP006"},{"$f":"IFERROR(VLOOKUP(Table_NFI[[#This Row],[Camp Name]],CL,3,0),\"\")","v":"Open"},{"$f":"IFERROR(Table_NFI[[#This Row],[Kitchen Set]]/VLOOKUP(Table_NFI[[#This Row],[Camp Name]],CL,4,0),\"\")","v":0.97872340425531912}]
[10.566666666666666,"2013-02-18","UNHCR","KBC","Shan_North","Kutkai","Nam Hpak Ka Mare ",null,null,86,86,43,86,43,43,43,43,{"$f":"IF(NFI_Expiration=1,IF($A314<VLOOKUP(H$5,NFI,5,0),1,0)*Table_NFI[[#This Row],[Hygiene Kit]],Table_NFI[Hygiene Kit])","v":0},{"$f":"IF(NFI_Expiration=1,IF($A314<VLOOKUP(I$5,NFI,5,0),1,0)*Table_NFI[[#This Row],[NFI Core Kit]],Table_NFI[NFI Core Kit])","v":0},{"$f":"IF(NFI_Expiration=1,IF($A314<VLOOKUP(J$5,NFI,5,0),1,0)*Table_NFI[[#This Row],[Sanitary Kit]],Table_NFI[Sanitary Kit])","v":86},{"$f":"IF(NFI_Expiration=1,IF($A314<VLOOKUP(K$5,NFI,5,0),1,0)*Table_NFI[[#This Row],[Mosquito net]],Table_NFI[Mosquito net])","v":86},{"$f":"IF(NFI_Expiration=1,IF($A314<VLOOKUP(L$5,NFI,5,0),1,0)*Table_NFI[[#This Row],[Tarpaulin]],Table_NFI[[#This Row],[Tarpaulin]])","v":43},{"$f":"IF(NFI_Expiration=1,IF($A314<VLOOKUP(M$5,NFI,5,0),1,0)*Table_NFI[[#This Row],[Blanket]],Table_NFI[[#This Row],[Blanket]])","v":86},{"$f":"IF(NFI_Expiration=1,IF($A314<VLOOKUP(N$5,NFI,5,0),1,0)*Table_NFI[[#This Row],[Kitchen Set]],Table_NFI[Kitchen Set])","v":43},{"$f":"IF(NFI_Expiration=1,IF($A314<VLOOKUP(O$5,NFI,5,0),1,0)*Table_NFI[[#This Row],[Complementary Kit]],Table_NFI[Complementary Kit])","v":43},{"$f":"IF(NFI_Expiration=1,IF($A314<VLOOKUP(P$5,NFI,5,0),1,0)*Table_NFI[[#This Row],[Plastic Bucket]],Table_NFI[Plastic Bucket])","v":43},{"$f":"IF(NFI_Expiration=1,IF($A314<VLOOKUP(Q$5,NFI,5,0),1,0)*Table_NFI[[#This Row],[Plastic Mat]],Table_NFI[Plastic Mat])","v":43},{"$f":"IFERROR(VLOOKUP(Table_NFI[[#This Row],[Camp Name]],CL,2,0),\"\")","v":"MMR015CMP007"},{"$f":"IFERROR(VLOOKUP(Table_NFI[[#This Row],[Camp Name]],CL,3,0),\"\")","v":"Open"},{"$f":"IFERROR(Table_NFI[[#This Row],[Kitchen Set]]/VLOOKUP(Table_NFI[[#This Row],[Camp Name]],CL,4,0),\"\")","v":0.54430379746835444}]
[10.566666666666666,"2013-02-18","UNHCR","KBC","Shan_North","Manton","Mandung - Jinghpaw",null,null,57,57,29,57,29,29,29,29,{"$f":"IF(NFI_Expiration=1,IF($A315<VLOOKUP(H$5,NFI,5,0),1,0)*Table_NFI[[#This Row],[Hygiene Kit]],Table_NFI[Hygiene Kit])","v":0},{"$f":"IF(NFI_Expiration=1,IF($A315<VLOOKUP(I$5,NFI,5,0),1,0)*Table_NFI[[#This Row],[NFI Core Kit]],Table_NFI[NFI Core Kit])","v":0},{"$f":"IF(NFI_Expiration=1,IF($A315<VLOOKUP(J$5,NFI,5,0),1,0)*Table_NFI[[#This Row],[Sanitary Kit]],Table_NFI[Sanitary Kit])","v":57},{"$f":"IF(NFI_Expiration=1,IF($A315<VLOOKUP(K$5,NFI,5,0),1,0)*Table_NFI[[#This Row],[Mosquito net]],Table_NFI[Mosquito net])","v":57},{"$f":"IF(NFI_Expiration=1,IF($A315<VLOOKUP(L$5,NFI,5,0),1,0)*Table_NFI[[#This Row],[Tarpaulin]],Table_NFI[[#This Row],[Tarpaulin]])","v":29},{"$f":"IF(NFI_Expiration=1,IF($A315<VLOOKUP(M$5,NFI,5,0),1,0)*Table_NFI[[#This Row],[Blanket]],Table_NFI[[#This Row],[Blanket]])","v":57},{"$f":"IF(NFI_Expiration=1,IF($A315<VLOOKUP(N$5,NFI,5,0),1,0)*Table_NFI[[#This Row],[Kitchen Set]],Table_NFI[Kitchen Set])","v":29},{"$f":"IF(NFI_Expiration=1,IF($A315<VLOOKUP(O$5,NFI,5,0),1,0)*Table_NFI[[#This Row],[Complementary Kit]],Table_NFI[Complementary Kit])","v":29},{"$f":"IF(NFI_Expiration=1,IF($A315<VLOOKUP(P$5,NFI,5,0),1,0)*Table_NFI[[#This Row],[Plastic Bucket]],Table_NFI[Plastic Bucket])","v":29},{"$f":"IF(NFI_Expiration=1,IF($A315<VLOOKUP(Q$5,NFI,5,0),1,0)*Table_NFI[[#This Row],[Plastic Mat]],Table_NFI[Plastic Mat])","v":29},{"$f":"IFERROR(VLOOKUP(Table_NFI[[#This Row],[Camp Name]],CL,2,0),\"\")","v":"MMR015CMP009"},{"$f":"IFERROR(VLOOKUP(Table_NFI[[#This Row],[Camp Name]],CL,3,0),\"\")","v":"Open"},{"$f":"IFERROR(Table_NFI[[#This Row],[Kitchen Set]]/VLOOKUP(Table_NFI[[#This Row],[Camp Name]],CL,4,0),\"\")","v":0.67441860465116277}]
[10.566666666666666,"2013-02-18","UNHCR","KBC","Shan_North","Muse","Munekoe Pa (Giwang) - Hka San (Mung  Go  Pa ) ",null,null,60,60,30,60,30,30,30,30,{"$f":"IF(NFI_Expiration=1,IF($A316<VLOOKUP(H$5,NFI,5,0),1,0)*Table_NFI[[#This Row],[Hygiene Kit]],Table_NFI[Hygiene Kit])","v":0},{"$f":"IF(NFI_Expiration=1,IF($A316<VLOOKUP(I$5,NFI,5,0),1,0)*Table_NFI[[#This Row],[NFI Core Kit]],Table_NFI[NFI Core Kit])","v":0},{"$f":"IF(NFI_Expiration=1,IF($A316<VLOOKUP(J$5,NFI,5,0),1,0)*Table_NFI[[#This Row],[Sanitary Kit]],Table_NFI[Sanitary Kit])","v":60},{"$f":"IF(NFI_Expiration=1,IF($A316<VLOOKUP(K$5,NFI,5,0),1,0)*Table_NFI[[#This Row],[Mosquito net]],Table_NFI[Mosquito net])","v":60},{"$f":"IF(NFI_Expiration=1,IF($A316<VLOOKUP(L$5,NFI,5,0),1,0)*Table_NFI[[#This Row],[Tarpaulin]],Table_NFI[[#This Row],[Tarpaulin]])","v":30},{"$f":"IF(NFI_Expiration=1,IF($A316<VLOOKUP(M$5,NFI,5,0),1,0)*Table_NFI[[#This Row],[Blanket]],Table_NFI[[#This Row],[Blanket]])","v":60},{"$f":"IF(NFI_Expiration=1,IF($A316<VLOOKUP(N$5,NFI,5,0),1,0)*Table_NFI[[#This Row],[Kitchen Set]],Table_NFI[Kitchen Set])","v":30},{"$f":"IF(NFI_Expiration=1,IF($A316<VLOOKUP(O$5,NFI,5,0),1,0)*Table_NFI[[#This Row],[Complementary Kit]],Table_NFI[Complementary Kit])","v":30},{"$f":"IF(NFI_Expiration=1,IF($A316<VLOOKUP(P$5,NFI,5,0),1,0)*Table_NFI[[#This Row],[Plastic Bucket]],Table_NFI[Plastic Bucket])","v":30},{"$f":"IF(NFI_Expiration=1,IF($A316<VLOOKUP(Q$5,NFI,5,0),1,0)*Table_NFI[[#This Row],[Plastic Mat]],Table_NFI[Plastic Mat])","v":30},{"$f":"IFERROR(VLOOKUP(Table_NFI[[#This Row],[Camp Name]],CL,2,0),\"\")","v":"MMR015CMP012"},{"$f":"IFERROR(VLOOKUP(Table_NFI[[#This Row],[Camp Name]],CL,3,0),\"\")","v":"Open"},{"$f":"IFERROR(Table_NFI[[#This Row],[Kitchen Set]]/VLOOKUP(Table_NFI[[#This Row],[Camp Name]],CL,4,0),\"\")","v":1.1111111111111112}]
[10.566666666666666,"2013-02-18","UNHCR","KBC","Shan_North","Kutkai","Kutkai downtown (KBC Church)",null,null,120,120,60,120,60,60,60,60,{"$f":"IF(NFI_Expiration=1,IF($A317<VLOOKUP(H$5,NFI,5,0),1,0)*Table_NFI[[#This Row],[Hygiene Kit]],Table_NFI[Hygiene Kit])","v":0},{"$f":"IF(NFI_Expiration=1,IF($A317<VLOOKUP(I$5,NFI,5,0),1,0)*Table_NFI[[#This Row],[NFI Core Kit]],Table_NFI[NFI Core Kit])","v":0},{"$f":"IF(NFI_Expiration=1,IF($A317<VLOOKUP(J$5,NFI,5,0),1,0)*Table_NFI[[#This Row],[Sanitary Kit]],Table_NFI[Sanitary Kit])","v":120},{"$f":"IF(NFI_Expiration=1,IF($A317<VLOOKUP(K$5,NFI,5,0),1,0)*Table_NFI[[#This Row],[Mosquito net]],Table_NFI[Mosquito net])","v":120},{"$f":"IF(NFI_Expiration=1,IF($A317<VLOOKUP(L$5,NFI,5,0),1,0)*Table_NFI[[#This Row],[Tarpaulin]],Table_NFI[[#This Row],[Tarpaulin]])","v":60},{"$f":"IF(NFI_Expiration=1,IF($A317<VLOOKUP(M$5,NFI,5,0),1,0)*Table_NFI[[#This Row],[Blanket]],Table_NFI[[#This Row],[Blanket]])","v":120},{"$f":"IF(NFI_Expiration=1,IF($A317<VLOOKUP(N$5,NFI,5,0),1,0)*Table_NFI[[#This Row],[Kitchen Set]],Table_NFI[Kitchen Set])","v":60},{"$f":"IF(NFI_Expiration=1,IF($A317<VLOOKUP(O$5,NFI,5,0),1,0)*Table_NFI[[#This Row],[Complementary Kit]],Table_NFI[Complementary Kit])","v":60},{"$f":"IF(NFI_Expiration=1,IF($A317<VLOOKUP(P$5,NFI,5,0),1,0)*Table_NFI[[#This Row],[Plastic Bucket]],Table_NFI[Plastic Bucket])","v":60},{"$f":"IF(NFI_Expiration=1,IF($A317<VLOOKUP(Q$5,NFI,5,0),1,0)*Table_NFI[[#This Row],[Plastic Mat]],Table_NFI[Plastic Mat])","v":60},{"$f":"IFERROR(VLOOKUP(Table_NFI[[#This Row],[Camp Name]],CL,2,0),\"\")","v":"MMR015CMP016"},{"$f":"IFERROR(VLOOKUP(Table_NFI[[#This Row],[Camp Name]],CL,3,0),\"\")","v":"Open"},{"$f":"IFERROR(Table_NFI[[#This Row],[Kitchen Set]]/VLOOKUP(Table_NFI[[#This Row],[Camp Name]],CL,4,0),\"\")","v":0.69767441860465118}]
[10.566666666666666,"2013-02-18","UNHCR","KBC","Shan_North","Namhkan","Nam Hkawng",null,null,16,16,8,16,8,8,8,8,{"$f":"IF(NFI_Expiration=1,IF($A318<VLOOKUP(H$5,NFI,5,0),1,0)*Table_NFI[[#This Row],[Hygiene Kit]],Table_NFI[Hygiene Kit])","v":0},{"$f":"IF(NFI_Expiration=1,IF($A318<VLOOKUP(I$5,NFI,5,0),1,0)*Table_NFI[[#This Row],[NFI Core Kit]],Table_NFI[NFI Core Kit])","v":0},{"$f":"IF(NFI_Expiration=1,IF($A318<VLOOKUP(J$5,NFI,5,0),1,0)*Table_NFI[[#This Row],[Sanitary Kit]],Table_NFI[Sanitary Kit])","v":16},{"$f":"IF(NFI_Expiration=1,IF($A318<VLOOKUP(K$5,NFI,5,0),1,0)*Table_NFI[[#This Row],[Mosquito net]],Table_NFI[Mosquito net])","v":16},{"$f":"IF(NFI_Expiration=1,IF($A318<VLOOKUP(L$5,NFI,5,0),1,0)*Table_NFI[[#This Row],[Tarpaulin]],Table_NFI[[#This Row],[Tarpaulin]])","v":8},{"$f":"IF(NFI_Expiration=1,IF($A318<VLOOKUP(M$5,NFI,5,0),1,0)*Table_NFI[[#This Row],[Blanket]],Table_NFI[[#This Row],[Blanket]])","v":16},{"$f":"IF(NFI_Expiration=1,IF($A318<VLOOKUP(N$5,NFI,5,0),1,0)*Table_NFI[[#This Row],[Kitchen Set]],Table_NFI[Kitchen Set])","v":8},{"$f":"IF(NFI_Expiration=1,IF($A318<VLOOKUP(O$5,NFI,5,0),1,0)*Table_NFI[[#This Row],[Complementary Kit]],Table_NFI[Complementary Kit])","v":8},{"$f":"IF(NFI_Expiration=1,IF($A318<VLOOKUP(P$5,NFI,5,0),1,0)*Table_NFI[[#This Row],[Plastic Bucket]],Table_NFI[Plastic Bucket])","v":8},{"$f":"IF(NFI_Expiration=1,IF($A318<VLOOKUP(Q$5,NFI,5,0),1,0)*Table_NFI[[#This Row],[Plastic Mat]],Table_NFI[Plastic Mat])","v":8},{"$f":"IFERROR(VLOOKUP(Table_NFI[[#This Row],[Camp Name]],CL,2,0),\"\")","v":"MMR015CMP139"},{"$f":"IFERROR(VLOOKUP(Table_NFI[[#This Row],[Camp Name]],CL,3,0),\"\")","v":"Open"},{"$f":"IFERROR(Table_NFI[[#This Row],[Kitchen Set]]/VLOOKUP(Table_NFI[[#This Row],[Camp Name]],CL,4,0),\"\")","v":0.2}]
[10.566666666666666,"2013-02-18","UNHCR","KBC","Shan_North","Namtu","Nam Tu RC",null,null,90,90,45,90,45,45,45,45,{"$f":"IF(NFI_Expiration=1,IF($A319<VLOOKUP(H$5,NFI,5,0),1,0)*Table_NFI[[#This Row],[Hygiene Kit]],Table_NFI[Hygiene Kit])","v":0},{"$f":"IF(NFI_Expiration=1,IF($A319<VLOOKUP(I$5,NFI,5,0),1,0)*Table_NFI[[#This Row],[NFI Core Kit]],Table_NFI[NFI Core Kit])","v":0},{"$f":"IF(NFI_Expiration=1,IF($A319<VLOOKUP(J$5,NFI,5,0),1,0)*Table_NFI[[#This Row],[Sanitary Kit]],Table_NFI[Sanitary Kit])","v":90},{"$f":"IF(NFI_Expiration=1,IF($A319<VLOOKUP(K$5,NFI,5,0),1,0)*Table_NFI[[#This Row],[Mosquito net]],Table_NFI[Mosquito net])","v":90},{"$f":"IF(NFI_Expiration=1,IF($A319<VLOOKUP(L$5,NFI,5,0),1,0)*Table_NFI[[#This Row],[Tarpaulin]],Table_NFI[[#This Row],[Tarpaulin]])","v":45},{"$f":"IF(NFI_Expiration=1,IF($A319<VLOOKUP(M$5,NFI,5,0),1,0)*Table_NFI[[#This Row],[Blanket]],Table_NFI[[#This Row],[Blanket]])","v":90},{"$f":"IF(NFI_Expiration=1,IF($A319<VLOOKUP(N$5,NFI,5,0),1,0)*Table_NFI[[#This Row],[Kitchen Set]],Table_NFI[Kitchen Set])","v":45},{"$f":"IF(NFI_Expiration=1,IF($A319<VLOOKUP(O$5,NFI,5,0),1,0)*Table_NFI[[#This Row],[Complementary Kit]],Table_NFI[Complementary Kit])","v":45},{"$f":"IF(NFI_Expiration=1,IF($A319<VLOOKUP(P$5,NFI,5,0),1,0)*Table_NFI[[#This Row],[Plastic Bucket]],Table_NFI[Plastic Bucket])","v":45},{"$f":"IF(NFI_Expiration=1,IF($A319<VLOOKUP(Q$5,NFI,5,0),1,0)*Table_NFI[[#This Row],[Plastic Mat]],Table_NFI[Plastic Mat])","v":45},{"$f":"IFERROR(VLOOKUP(Table_NFI[[#This Row],[Camp Name]],CL,2,0),\"\")","v":"MMR015CMP210"},{"$f":"IFERROR(VLOOKUP(Table_NFI[[#This Row],[Camp Name]],CL,3,0),\"\")","v":"Open"},{"$f":"IFERROR(Table_NFI[[#This Row],[Kitchen Set]]/VLOOKUP(Table_NFI[[#This Row],[Camp Name]],CL,4,0),\"\")","v":0.38135593220338981}]
[10.533333333333333,"2013-02-19","UNHCR","UNHCR","Kachin","Hpakant","Away Yar Rama Monastery, Ka Day village",null,null,8,16,8,16,8,8,8,8,{"$f":"IF(NFI_Expiration=1,IF($A320<VLOOKUP(H$5,NFI,5,0),1,0)*Table_NFI[[#This Row],[Hygiene Kit]],Table_NFI[Hygiene Kit])","v":0},{"$f":"IF(NFI_Expiration=1,IF($A320<VLOOKUP(I$5,NFI,5,0),1,0)*Table_NFI[[#This Row],[NFI Core Kit]],Table_NFI[NFI Core Kit])","v":0},{"$f":"IF(NFI_Expiration=1,IF($A320<VLOOKUP(J$5,NFI,5,0),1,0)*Table_NFI[[#This Row],[Sanitary Kit]],Table_NFI[Sanitary Kit])","v":8},{"$f":"IF(NFI_Expiration=1,IF($A320<VLOOKUP(K$5,NFI,5,0),1,0)*Table_NFI[[#This Row],[Mosquito net]],Table_NFI[Mosquito net])","v":16},{"$f":"IF(NFI_Expiration=1,IF($A320<VLOOKUP(L$5,NFI,5,0),1,0)*Table_NFI[[#This Row],[Tarpaulin]],Table_NFI[[#This Row],[Tarpaulin]])","v":8},{"$f":"IF(NFI_Expiration=1,IF($A320<VLOOKUP(M$5,NFI,5,0),1,0)*Table_NFI[[#This Row],[Blanket]],Table_NFI[[#This Row],[Blanket]])","v":16},{"$f":"IF(NFI_Expiration=1,IF($A320<VLOOKUP(N$5,NFI,5,0),1,0)*Table_NFI[[#This Row],[Kitchen Set]],Table_NFI[Kitchen Set])","v":8},{"$f":"IF(NFI_Expiration=1,IF($A320<VLOOKUP(O$5,NFI,5,0),1,0)*Table_NFI[[#This Row],[Complementary Kit]],Table_NFI[Complementary Kit])","v":8},{"$f":"IF(NFI_Expiration=1,IF($A320<VLOOKUP(P$5,NFI,5,0),1,0)*Table_NFI[[#This Row],[Plastic Bucket]],Table_NFI[Plastic Bucket])","v":8},{"$f":"IF(NFI_Expiration=1,IF($A320<VLOOKUP(Q$5,NFI,5,0),1,0)*Table_NFI[[#This Row],[Plastic Mat]],Table_NFI[Plastic Mat])","v":8},{"$f":"IFERROR(VLOOKUP(Table_NFI[[#This Row],[Camp Name]],CL,2,0),\"\")","v":"MMR001CMP170"},{"$f":"IFERROR(VLOOKUP(Table_NFI[[#This Row],[Camp Name]],CL,3,0),\"\")","v":"Closed"},{"$f":"IFERROR(Table_NFI[[#This Row],[Kitchen Set]]/VLOOKUP(Table_NFI[[#This Row],[Camp Name]],CL,4,0),\"\")","v":""}]
[10.533333333333333,"2013-02-19","UNHCR","UNHCR","Kachin","Hpakant","1 Ward, Sein Yadanar Company(Lon Khin)",null,null,3,7,4,7,4,4,4,4,{"$f":"IF(NFI_Expiration=1,IF($A321<VLOOKUP(H$5,NFI,5,0),1,0)*Table_NFI[[#This Row],[Hygiene Kit]],Table_NFI[Hygiene Kit])","v":0},{"$f":"IF(NFI_Expiration=1,IF($A321<VLOOKUP(I$5,NFI,5,0),1,0)*Table_NFI[[#This Row],[NFI Core Kit]],Table_NFI[NFI Core Kit])","v":0},{"$f":"IF(NFI_Expiration=1,IF($A321<VLOOKUP(J$5,NFI,5,0),1,0)*Table_NFI[[#This Row],[Sanitary Kit]],Table_NFI[Sanitary Kit])","v":3},{"$f":"IF(NFI_Expiration=1,IF($A321<VLOOKUP(K$5,NFI,5,0),1,0)*Table_NFI[[#This Row],[Mosquito net]],Table_NFI[Mosquito net])","v":7},{"$f":"IF(NFI_Expiration=1,IF($A321<VLOOKUP(L$5,NFI,5,0),1,0)*Table_NFI[[#This Row],[Tarpaulin]],Table_NFI[[#This Row],[Tarpaulin]])","v":4},{"$f":"IF(NFI_Expiration=1,IF($A321<VLOOKUP(M$5,NFI,5,0),1,0)*Table_NFI[[#This Row],[Blanket]],Table_NFI[[#This Row],[Blanket]])","v":7},{"$f":"IF(NFI_Expiration=1,IF($A321<VLOOKUP(N$5,NFI,5,0),1,0)*Table_NFI[[#This Row],[Kitchen Set]],Table_NFI[Kitchen Set])","v":4},{"$f":"IF(NFI_Expiration=1,IF($A321<VLOOKUP(O$5,NFI,5,0),1,0)*Table_NFI[[#This Row],[Complementary Kit]],Table_NFI[Complementary Kit])","v":4},{"$f":"IF(NFI_Expiration=1,IF($A321<VLOOKUP(P$5,NFI,5,0),1,0)*Table_NFI[[#This Row],[Plastic Bucket]],Table_NFI[Plastic Bucket])","v":4},{"$f":"IF(NFI_Expiration=1,IF($A321<VLOOKUP(Q$5,NFI,5,0),1,0)*Table_NFI[[#This Row],[Plastic Mat]],Table_NFI[Plastic Mat])","v":4},{"$f":"IFERROR(VLOOKUP(Table_NFI[[#This Row],[Camp Name]],CL,2,0),\"\")","v":"MMR001CMP171"},{"$f":"IFERROR(VLOOKUP(Table_NFI[[#This Row],[Camp Name]],CL,3,0),\"\")","v":"Closed"},{"$f":"IFERROR(Table_NFI[[#This Row],[Kitchen Set]]/VLOOKUP(Table_NFI[[#This Row],[Camp Name]],CL,4,0),\"\")","v":""}]
[10.533333333333333,"2013-02-19","UNHCR","UNHCR","Kachin","Hpakant","Anglican Church, Hmaw Si Sar",null,null,1,6,3,15,4,4,4,4,{"$f":"IF(NFI_Expiration=1,IF($A322<VLOOKUP(H$5,NFI,5,0),1,0)*Table_NFI[[#This Row],[Hygiene Kit]],Table_NFI[Hygiene Kit])","v":0},{"$f":"IF(NFI_Expiration=1,IF($A322<VLOOKUP(I$5,NFI,5,0),1,0)*Table_NFI[[#This Row],[NFI Core Kit]],Table_NFI[NFI Core Kit])","v":0},{"$f":"IF(NFI_Expiration=1,IF($A322<VLOOKUP(J$5,NFI,5,0),1,0)*Table_NFI[[#This Row],[Sanitary Kit]],Table_NFI[Sanitary Kit])","v":1},{"$f":"IF(NFI_Expiration=1,IF($A322<VLOOKUP(K$5,NFI,5,0),1,0)*Table_NFI[[#This Row],[Mosquito net]],Table_NFI[Mosquito net])","v":6},{"$f":"IF(NFI_Expiration=1,IF($A322<VLOOKUP(L$5,NFI,5,0),1,0)*Table_NFI[[#This Row],[Tarpaulin]],Table_NFI[[#This Row],[Tarpaulin]])","v":3},{"$f":"IF(NFI_Expiration=1,IF($A322<VLOOKUP(M$5,NFI,5,0),1,0)*Table_NFI[[#This Row],[Blanket]],Table_NFI[[#This Row],[Blanket]])","v":15},{"$f":"IF(NFI_Expiration=1,IF($A322<VLOOKUP(N$5,NFI,5,0),1,0)*Table_NFI[[#This Row],[Kitchen Set]],Table_NFI[Kitchen Set])","v":4},{"$f":"IF(NFI_Expiration=1,IF($A322<VLOOKUP(O$5,NFI,5,0),1,0)*Table_NFI[[#This Row],[Complementary Kit]],Table_NFI[Complementary Kit])","v":4},{"$f":"IF(NFI_Expiration=1,IF($A322<VLOOKUP(P$5,NFI,5,0),1,0)*Table_NFI[[#This Row],[Plastic Bucket]],Table_NFI[Plastic Bucket])","v":4},{"$f":"IF(NFI_Expiration=1,IF($A322<VLOOKUP(Q$5,NFI,5,0),1,0)*Table_NFI[[#This Row],[Plastic Mat]],Table_NFI[Plastic Mat])","v":4},{"$f":"IFERROR(VLOOKUP(Table_NFI[[#This Row],[Camp Name]],CL,2,0),\"\")","v":"MMR001CMP173"},{"$f":"IFERROR(VLOOKUP(Table_NFI[[#This Row],[Camp Name]],CL,3,0),\"\")","v":"Closed"},{"$f":"IFERROR(Table_NFI[[#This Row],[Kitchen Set]]/VLOOKUP(Table_NFI[[#This Row],[Camp Name]],CL,4,0),\"\")","v":""}]
[10.533333333333333,"2013-02-19","UNHCR","UNHCR","Kachin","Hpakant","Anglican Church, Hmaw Si Sar",null,null,92,130,67,130,67,67,67,67,{"$f":"IF(NFI_Expiration=1,IF($A323<VLOOKUP(H$5,NFI,5,0),1,0)*Table_NFI[[#This Row],[Hygiene Kit]],Table_NFI[Hygiene Kit])","v":0},{"$f":"IF(NFI_Expiration=1,IF($A323<VLOOKUP(I$5,NFI,5,0),1,0)*Table_NFI[[#This Row],[NFI Core Kit]],Table_NFI[NFI Core Kit])","v":0},{"$f":"IF(NFI_Expiration=1,IF($A323<VLOOKUP(J$5,NFI,5,0),1,0)*Table_NFI[[#This Row],[Sanitary Kit]],Table_NFI[Sanitary Kit])","v":92},{"$f":"IF(NFI_Expiration=1,IF($A323<VLOOKUP(K$5,NFI,5,0),1,0)*Table_NFI[[#This Row],[Mosquito net]],Table_NFI[Mosquito net])","v":130},{"$f":"IF(NFI_Expiration=1,IF($A323<VLOOKUP(L$5,NFI,5,0),1,0)*Table_NFI[[#This Row],[Tarpaulin]],Table_NFI[[#This Row],[Tarpaulin]])","v":67},{"$f":"IF(NFI_Expiration=1,IF($A323<VLOOKUP(M$5,NFI,5,0),1,0)*Table_NFI[[#This Row],[Blanket]],Table_NFI[[#This Row],[Blanket]])","v":130},{"$f":"IF(NFI_Expiration=1,IF($A323<VLOOKUP(N$5,NFI,5,0),1,0)*Table_NFI[[#This Row],[Kitchen Set]],Table_NFI[Kitchen Set])","v":67},{"$f":"IF(NFI_Expiration=1,IF($A323<VLOOKUP(O$5,NFI,5,0),1,0)*Table_NFI[[#This Row],[Complementary Kit]],Table_NFI[Complementary Kit])","v":67},{"$f":"IF(NFI_Expiration=1,IF($A323<VLOOKUP(P$5,NFI,5,0),1,0)*Table_NFI[[#This Row],[Plastic Bucket]],Table_NFI[Plastic Bucket])","v":67},{"$f":"IF(NFI_Expiration=1,IF($A323<VLOOKUP(Q$5,NFI,5,0),1,0)*Table_NFI[[#This Row],[Plastic Mat]],Table_NFI[Plastic Mat])","v":67},{"$f":"IFERROR(VLOOKUP(Table_NFI[[#This Row],[Camp Name]],CL,2,0),\"\")","v":"MMR001CMP173"},{"$f":"IFERROR(VLOOKUP(Table_NFI[[#This Row],[Camp Name]],CL,3,0),\"\")","v":"Closed"},{"$f":"IFERROR(Table_NFI[[#This Row],[Kitchen Set]]/VLOOKUP(Table_NFI[[#This Row],[Camp Name]],CL,4,0),\"\")","v":""}]
[10.533333333333333,"2013-02-19","UNHCR","UNHCR","Kachin","Hpakant","Dhama Rakhita, Nyein Chan Tar Yar Ward(Lon Khin)",null,null,74,105,59,105,59,59,59,59,{"$f":"IF(NFI_Expiration=1,IF($A324<VLOOKUP(H$5,NFI,5,0),1,0)*Table_NFI[[#This Row],[Hygiene Kit]],Table_NFI[Hygiene Kit])","v":0},{"$f":"IF(NFI_Expiration=1,IF($A324<VLOOKUP(I$5,NFI,5,0),1,0)*Table_NFI[[#This Row],[NFI Core Kit]],Table_NFI[NFI Core Kit])","v":0},{"$f":"IF(NFI_Expiration=1,IF($A324<VLOOKUP(J$5,NFI,5,0),1,0)*Table_NFI[[#This Row],[Sanitary Kit]],Table_NFI[Sanitary Kit])","v":74},{"$f":"IF(NFI_Expiration=1,IF($A324<VLOOKUP(K$5,NFI,5,0),1,0)*Table_NFI[[#This Row],[Mosquito net]],Table_NFI[Mosquito net])","v":105},{"$f":"IF(NFI_Expiration=1,IF($A324<VLOOKUP(L$5,NFI,5,0),1,0)*Table_NFI[[#This Row],[Tarpaulin]],Table_NFI[[#This Row],[Tarpaulin]])","v":59},{"$f":"IF(NFI_Expiration=1,IF($A324<VLOOKUP(M$5,NFI,5,0),1,0)*Table_NFI[[#This Row],[Blanket]],Table_NFI[[#This Row],[Blanket]])","v":105},{"$f":"IF(NFI_Expiration=1,IF($A324<VLOOKUP(N$5,NFI,5,0),1,0)*Table_NFI[[#This Row],[Kitchen Set]],Table_NFI[Kitchen Set])","v":59},{"$f":"IF(NFI_Expiration=1,IF($A324<VLOOKUP(O$5,NFI,5,0),1,0)*Table_NFI[[#This Row],[Complementary Kit]],Table_NFI[Complementary Kit])","v":59},{"$f":"IF(NFI_Expiration=1,IF($A324<VLOOKUP(P$5,NFI,5,0),1,0)*Table_NFI[[#This Row],[Plastic Bucket]],Table_NFI[Plastic Bucket])","v":59},{"$f":"IF(NFI_Expiration=1,IF($A324<VLOOKUP(Q$5,NFI,5,0),1,0)*Table_NFI[[#This Row],[Plastic Mat]],Table_NFI[Plastic Mat])","v":59},{"$f":"IFERROR(VLOOKUP(Table_NFI[[#This Row],[Camp Name]],CL,2,0),\"\")","v":"MMR001CMP174"},{"$f":"IFERROR(VLOOKUP(Table_NFI[[#This Row],[Camp Name]],CL,3,0),\"\")","v":"Open"},{"$f":"IFERROR(Table_NFI[[#This Row],[Kitchen Set]]/VLOOKUP(Table_NFI[[#This Row],[Camp Name]],CL,4,0),\"\")","v":0.88059701492537312}]
[10.533333333333333,"2013-02-19","UNHCR","UNHCR","Kachin","Hpakant","Wrad(5) Christian Association",null,null,2,3,2,7,2,2,2,2,{"$f":"IF(NFI_Expiration=1,IF($A325<VLOOKUP(H$5,NFI,5,0),1,0)*Table_NFI[[#This Row],[Hygiene Kit]],Table_NFI[Hygiene Kit])","v":0},{"$f":"IF(NFI_Expiration=1,IF($A325<VLOOKUP(I$5,NFI,5,0),1,0)*Table_NFI[[#This Row],[NFI Core Kit]],Table_NFI[NFI Core Kit])","v":0},{"$f":"IF(NFI_Expiration=1,IF($A325<VLOOKUP(J$5,NFI,5,0),1,0)*Table_NFI[[#This Row],[Sanitary Kit]],Table_NFI[Sanitary Kit])","v":2},{"$f":"IF(NFI_Expiration=1,IF($A325<VLOOKUP(K$5,NFI,5,0),1,0)*Table_NFI[[#This Row],[Mosquito net]],Table_NFI[Mosquito net])","v":3},{"$f":"IF(NFI_Expiration=1,IF($A325<VLOOKUP(L$5,NFI,5,0),1,0)*Table_NFI[[#This Row],[Tarpaulin]],Table_NFI[[#This Row],[Tarpaulin]])","v":2},{"$f":"IF(NFI_Expiration=1,IF($A325<VLOOKUP(M$5,NFI,5,0),1,0)*Table_NFI[[#This Row],[Blanket]],Table_NFI[[#This Row],[Blanket]])","v":7},{"$f":"IF(NFI_Expiration=1,IF($A325<VLOOKUP(N$5,NFI,5,0),1,0)*Table_NFI[[#This Row],[Kitchen Set]],Table_NFI[Kitchen Set])","v":2},{"$f":"IF(NFI_Expiration=1,IF($A325<VLOOKUP(O$5,NFI,5,0),1,0)*Table_NFI[[#This Row],[Complementary Kit]],Table_NFI[Complementary Kit])","v":2},{"$f":"IF(NFI_Expiration=1,IF($A325<VLOOKUP(P$5,NFI,5,0),1,0)*Table_NFI[[#This Row],[Plastic Bucket]],Table_NFI[Plastic Bucket])","v":2},{"$f":"IF(NFI_Expiration=1,IF($A325<VLOOKUP(Q$5,NFI,5,0),1,0)*Table_NFI[[#This Row],[Plastic Mat]],Table_NFI[Plastic Mat])","v":2},{"$f":"IFERROR(VLOOKUP(Table_NFI[[#This Row],[Camp Name]],CL,2,0),\"\")","v":"MMR001CMP175"},{"$f":"IFERROR(VLOOKUP(Table_NFI[[#This Row],[Camp Name]],CL,3,0),\"\")","v":"Closed"},{"$f":"IFERROR(Table_NFI[[#This Row],[Kitchen Set]]/VLOOKUP(Table_NFI[[#This Row],[Camp Name]],CL,4,0),\"\")","v":""}]
[{"$f":"IF(ISBLANK(B326),\"\",(Report_Date-B326)/30)","v":10.533333333333333},"2013-02-19","UNHCR","UNHCR","Kachin","Hpakant","May Di Ka Rama Monastery(Lon Khin)",null,null,9,21,9,21,9,9,9,9,{"$f":"IF(NFI_Expiration=1,IF($A326<VLOOKUP(H$5,NFI,5,0),1,0)*Table_NFI[[#This Row],[Hygiene Kit]],Table_NFI[Hygiene Kit])","v":0},{"$f":"IF(NFI_Expiration=1,IF($A326<VLOOKUP(I$5,NFI,5,0),1,0)*Table_NFI[[#This Row],[NFI Core Kit]],Table_NFI[NFI Core Kit])","v":0},{"$f":"IF(NFI_Expiration=1,IF($A326<VLOOKUP(J$5,NFI,5,0),1,0)*Table_NFI[[#This Row],[Sanitary Kit]],Table_NFI[Sanitary Kit])","v":9},{"$f":"IF(NFI_Expiration=1,IF($A326<VLOOKUP(K$5,NFI,5,0),1,0)*Table_NFI[[#This Row],[Mosquito net]],Table_NFI[Mosquito net])","v":21},{"$f":"IF(NFI_Expiration=1,IF($A326<VLOOKUP(L$5,NFI,5,0),1,0)*Table_NFI[[#This Row],[Tarpaulin]],Table_NFI[[#This Row],[Tarpaulin]])","v":9},{"$f":"IF(NFI_Expiration=1,IF($A326<VLOOKUP(M$5,NFI,5,0),1,0)*Table_NFI[[#This Row],[Blanket]],Table_NFI[[#This Row],[Blanket]])","v":21},{"$f":"IF(NFI_Expiration=1,IF($A326<VLOOKUP(N$5,NFI,5,0),1,0)*Table_NFI[[#This Row],[Kitchen Set]],Table_NFI[Kitchen Set])","v":9},{"$f":"IF(NFI_Expiration=1,IF($A326<VLOOKUP(O$5,NFI,5,0),1,0)*Table_NFI[[#This Row],[Complementary Kit]],Table_NFI[Complementary Kit])","v":9},{"$f":"IF(NFI_Expiration=1,IF($A326<VLOOKUP(P$5,NFI,5,0),1,0)*Table_NFI[[#This Row],[Plastic Bucket]],Table_NFI[Plastic Bucket])","v":9},{"$f":"IF(NFI_Expiration=1,IF($A326<VLOOKUP(Q$5,NFI,5,0),1,0)*Table_NFI[[#This Row],[Plastic Mat]],Table_NFI[Plastic Mat])","v":9},{"$f":"IFERROR(VLOOKUP(Table_NFI[[#This Row],[Camp Name]],CL,2,0),\"\")","v":"MMR001CMP178"},{"$f":"IFERROR(VLOOKUP(Table_NFI[[#This Row],[Camp Name]],CL,3,0),\"\")","v":"Closed"},{"$f":"IFERROR(Table_NFI[[#This Row],[Kitchen Set]]/VLOOKUP(Table_NFI[[#This Row],[Camp Name]],CL,4,0),\"\")","v":""}]
[10.533333333333333,"2013-02-19","UNHCR","UNHCR","Kachin","Hpakant","5 Ward Baptist Church(lon Khin)",null,null,18,30,17,64,17,17,17,17,{"$f":"IF(NFI_Expiration=1,IF($A327<VLOOKUP(H$5,NFI,5,0),1,0)*Table_NFI[[#This Row],[Hygiene Kit]],Table_NFI[Hygiene Kit])","v":0},{"$f":"IF(NFI_Expiration=1,IF($A327<VLOOKUP(I$5,NFI,5,0),1,0)*Table_NFI[[#This Row],[NFI Core Kit]],Table_NFI[NFI Core Kit])","v":0},{"$f":"IF(NFI_Expiration=1,IF($A327<VLOOKUP(J$5,NFI,5,0),1,0)*Table_NFI[[#This Row],[Sanitary Kit]],Table_NFI[Sanitary Kit])","v":18},{"$f":"IF(NFI_Expiration=1,IF($A327<VLOOKUP(K$5,NFI,5,0),1,0)*Table_NFI[[#This Row],[Mosquito net]],Table_NFI[Mosquito net])","v":30},{"$f":"IF(NFI_Expiration=1,IF($A327<VLOOKUP(L$5,NFI,5,0),1,0)*Table_NFI[[#This Row],[Tarpaulin]],Table_NFI[[#This Row],[Tarpaulin]])","v":17},{"$f":"IF(NFI_Expiration=1,IF($A327<VLOOKUP(M$5,NFI,5,0),1,0)*Table_NFI[[#This Row],[Blanket]],Table_NFI[[#This Row],[Blanket]])","v":64},{"$f":"IF(NFI_Expiration=1,IF($A327<VLOOKUP(N$5,NFI,5,0),1,0)*Table_NFI[[#This Row],[Kitchen Set]],Table_NFI[Kitchen Set])","v":17},{"$f":"IF(NFI_Expiration=1,IF($A327<VLOOKUP(O$5,NFI,5,0),1,0)*Table_NFI[[#This Row],[Complementary Kit]],Table_NFI[Complementary Kit])","v":17},{"$f":"IF(NFI_Expiration=1,IF($A327<VLOOKUP(P$5,NFI,5,0),1,0)*Table_NFI[[#This Row],[Plastic Bucket]],Table_NFI[Plastic Bucket])","v":17},{"$f":"IF(NFI_Expiration=1,IF($A327<VLOOKUP(Q$5,NFI,5,0),1,0)*Table_NFI[[#This Row],[Plastic Mat]],Table_NFI[Plastic Mat])","v":17},{"$f":"IFERROR(VLOOKUP(Table_NFI[[#This Row],[Camp Name]],CL,2,0),\"\")","v":"MMR001CMP179"},{"$f":"IFERROR(VLOOKUP(Table_NFI[[#This Row],[Camp Name]],CL,3,0),\"\")","v":"Open"},{"$f":"IFERROR(Table_NFI[[#This Row],[Kitchen Set]]/VLOOKUP(Table_NFI[[#This Row],[Camp Name]],CL,4,0),\"\")","v":0.17}]
[10.533333333333333,"2013-02-19","UNHCR","UNHCR","Kachin","Hpakant","Nam Ma Phyit, COC",null,null,19,30,18,68,18,18,18,18,{"$f":"IF(NFI_Expiration=1,IF($A328<VLOOKUP(H$5,NFI,5,0),1,0)*Table_NFI[[#This Row],[Hygiene Kit]],Table_NFI[Hygiene Kit])","v":0},{"$f":"IF(NFI_Expiration=1,IF($A328<VLOOKUP(I$5,NFI,5,0),1,0)*Table_NFI[[#This Row],[NFI Core Kit]],Table_NFI[NFI Core Kit])","v":0},{"$f":"IF(NFI_Expiration=1,IF($A328<VLOOKUP(J$5,NFI,5,0),1,0)*Table_NFI[[#This Row],[Sanitary Kit]],Table_NFI[Sanitary Kit])","v":19},{"$f":"IF(NFI_Expiration=1,IF($A328<VLOOKUP(K$5,NFI,5,0),1,0)*Table_NFI[[#This Row],[Mosquito net]],Table_NFI[Mosquito net])","v":30},{"$f":"IF(NFI_Expiration=1,IF($A328<VLOOKUP(L$5,NFI,5,0),1,0)*Table_NFI[[#This Row],[Tarpaulin]],Table_NFI[[#This Row],[Tarpaulin]])","v":18},{"$f":"IF(NFI_Expiration=1,IF($A328<VLOOKUP(M$5,NFI,5,0),1,0)*Table_NFI[[#This Row],[Blanket]],Table_NFI[[#This Row],[Blanket]])","v":68},{"$f":"IF(NFI_Expiration=1,IF($A328<VLOOKUP(N$5,NFI,5,0),1,0)*Table_NFI[[#This Row],[Kitchen Set]],Table_NFI[Kitchen Set])","v":18},{"$f":"IF(NFI_Expiration=1,IF($A328<VLOOKUP(O$5,NFI,5,0),1,0)*Table_NFI[[#This Row],[Complementary Kit]],Table_NFI[Complementary Kit])","v":18},{"$f":"IF(NFI_Expiration=1,IF($A328<VLOOKUP(P$5,NFI,5,0),1,0)*Table_NFI[[#This Row],[Plastic Bucket]],Table_NFI[Plastic Bucket])","v":18},{"$f":"IF(NFI_Expiration=1,IF($A328<VLOOKUP(Q$5,NFI,5,0),1,0)*Table_NFI[[#This Row],[Plastic Mat]],Table_NFI[Plastic Mat])","v":18},{"$f":"IFERROR(VLOOKUP(Table_NFI[[#This Row],[Camp Name]],CL,2,0),\"\")","v":"MMR001CMP192"},{"$f":"IFERROR(VLOOKUP(Table_NFI[[#This Row],[Camp Name]],CL,3,0),\"\")","v":"Open"},{"$f":"IFERROR(Table_NFI[[#This Row],[Kitchen Set]]/VLOOKUP(Table_NFI[[#This Row],[Camp Name]],CL,4,0),\"\")","v":0.75}]
[10.5,"2013-02-20","UNHCR","UNHCR","Kachin","Hpakant","Nga Pyaw Taw Baptist Nursery School ",null,null,175,0,0,0,0,0,null,null,{"$f":"IF(NFI_Expiration=1,IF($A329<VLOOKUP(H$5,NFI,5,0),1,0)*Table_NFI[[#This Row],[Hygiene Kit]],Table_NFI[Hygiene Kit])","v":0},{"$f":"IF(NFI_Expiration=1,IF($A329<VLOOKUP(I$5,NFI,5,0),1,0)*Table_NFI[[#This Row],[NFI Core Kit]],Table_NFI[NFI Core Kit])","v":0},{"$f":"IF(NFI_Expiration=1,IF($A329<VLOOKUP(J$5,NFI,5,0),1,0)*Table_NFI[[#This Row],[Sanitary Kit]],Table_NFI[Sanitary Kit])","v":175},{"$f":"IF(NFI_Expiration=1,IF($A329<VLOOKUP(K$5,NFI,5,0),1,0)*Table_NFI[[#This Row],[Mosquito net]],Table_NFI[Mosquito net])","v":0},{"$f":"IF(NFI_Expiration=1,IF($A329<VLOOKUP(L$5,NFI,5,0),1,0)*Table_NFI[[#This Row],[Tarpaulin]],Table_NFI[[#This Row],[Tarpaulin]])","v":0},{"$f":"IF(NFI_Expiration=1,IF($A329<VLOOKUP(M$5,NFI,5,0),1,0)*Table_NFI[[#This Row],[Blanket]],Table_NFI[[#This Row],[Blanket]])","v":0},{"$f":"IF(NFI_Expiration=1,IF($A329<VLOOKUP(N$5,NFI,5,0),1,0)*Table_NFI[[#This Row],[Kitchen Set]],Table_NFI[Kitchen Set])","v":0},{"$f":"IF(NFI_Expiration=1,IF($A329<VLOOKUP(O$5,NFI,5,0),1,0)*Table_NFI[[#This Row],[Complementary Kit]],Table_NFI[Complementary Kit])","v":0},{"$f":"IF(NFI_Expiration=1,IF($A329<VLOOKUP(P$5,NFI,5,0),1,0)*Table_NFI[[#This Row],[Plastic Bucket]],Table_NFI[Plastic Bucket])","v":0},{"$f":"IF(NFI_Expiration=1,IF($A329<VLOOKUP(Q$5,NFI,5,0),1,0)*Table_NFI[[#This Row],[Plastic Mat]],Table_NFI[Plastic Mat])","v":0},{"$f":"IFERROR(VLOOKUP(Table_NFI[[#This Row],[Camp Name]],CL,2,0),\"\")","v":"MMR001CMP082"},{"$f":"IFERROR(VLOOKUP(Table_NFI[[#This Row],[Camp Name]],CL,3,0),\"\")","v":"Open"},{"$f":"IFERROR(Table_NFI[[#This Row],[Kitchen Set]]/VLOOKUP(Table_NFI[[#This Row],[Camp Name]],CL,4,0),\"\")","v":0}]
[10.5,"2013-02-20","UNHCR","UNHCR","Kachin","Hpakant","Nga Pyaw Taw Roman Catholic Church",null,null,38,89,44,89,44,44,44,44,{"$f":"IF(NFI_Expiration=1,IF($A330<VLOOKUP(H$5,NFI,5,0),1,0)*Table_NFI[[#This Row],[Hygiene Kit]],Table_NFI[Hygiene Kit])","v":0},{"$f":"IF(NFI_Expiration=1,IF($A330<VLOOKUP(I$5,NFI,5,0),1,0)*Table_NFI[[#This Row],[NFI Core Kit]],Table_NFI[NFI Core Kit])","v":0},{"$f":"IF(NFI_Expiration=1,IF($A330<VLOOKUP(J$5,NFI,5,0),1,0)*Table_NFI[[#This Row],[Sanitary Kit]],Table_NFI[Sanitary Kit])","v":38},{"$f":"IF(NFI_Expiration=1,IF($A330<VLOOKUP(K$5,NFI,5,0),1,0)*Table_NFI[[#This Row],[Mosquito net]],Table_NFI[Mosquito net])","v":89},{"$f":"IF(NFI_Expiration=1,IF($A330<VLOOKUP(L$5,NFI,5,0),1,0)*Table_NFI[[#This Row],[Tarpaulin]],Table_NFI[[#This Row],[Tarpaulin]])","v":44},{"$f":"IF(NFI_Expiration=1,IF($A330<VLOOKUP(M$5,NFI,5,0),1,0)*Table_NFI[[#This Row],[Blanket]],Table_NFI[[#This Row],[Blanket]])","v":89},{"$f":"IF(NFI_Expiration=1,IF($A330<VLOOKUP(N$5,NFI,5,0),1,0)*Table_NFI[[#This Row],[Kitchen Set]],Table_NFI[Kitchen Set])","v":44},{"$f":"IF(NFI_Expiration=1,IF($A330<VLOOKUP(O$5,NFI,5,0),1,0)*Table_NFI[[#This Row],[Complementary Kit]],Table_NFI[Complementary Kit])","v":44},{"$f":"IF(NFI_Expiration=1,IF($A330<VLOOKUP(P$5,NFI,5,0),1,0)*Table_NFI[[#This Row],[Plastic Bucket]],Table_NFI[Plastic Bucket])","v":44},{"$f":"IF(NFI_Expiration=1,IF($A330<VLOOKUP(Q$5,NFI,5,0),1,0)*Table_NFI[[#This Row],[Plastic Mat]],Table_NFI[Plastic Mat])","v":44},{"$f":"IFERROR(VLOOKUP(Table_NFI[[#This Row],[Camp Name]],CL,2,0),\"\")","v":"MMR001CMP083"},{"$f":"IFERROR(VLOOKUP(Table_NFI[[#This Row],[Camp Name]],CL,3,0),\"\")","v":"Closed"},{"$f":"IFERROR(Table_NFI[[#This Row],[Kitchen Set]]/VLOOKUP(Table_NFI[[#This Row],[Camp Name]],CL,4,0),\"\")","v":""}]
[10.5,"2013-02-20","UNHCR","UNHCR","Kachin","Hpakant","Maw Wan, Kachin Baptist Church",null,null,85,138,65,138,65,65,65,65,{"$f":"IF(NFI_Expiration=1,IF($A331<VLOOKUP(H$5,NFI,5,0),1,0)*Table_NFI[[#This Row],[Hygiene Kit]],Table_NFI[Hygiene Kit])","v":0},{"$f":"IF(NFI_Expiration=1,IF($A331<VLOOKUP(I$5,NFI,5,0),1,0)*Table_NFI[[#This Row],[NFI Core Kit]],Table_NFI[NFI Core Kit])","v":0},{"$f":"IF(NFI_Expiration=1,IF($A331<VLOOKUP(J$5,NFI,5,0),1,0)*Table_NFI[[#This Row],[Sanitary Kit]],Table_NFI[Sanitary Kit])","v":85},{"$f":"IF(NFI_Expiration=1,IF($A331<VLOOKUP(K$5,NFI,5,0),1,0)*Table_NFI[[#This Row],[Mosquito net]],Table_NFI[Mosquito net])","v":138},{"$f":"IF(NFI_Expiration=1,IF($A331<VLOOKUP(L$5,NFI,5,0),1,0)*Table_NFI[[#This Row],[Tarpaulin]],Table_NFI[[#This Row],[Tarpaulin]])","v":65},{"$f":"IF(NFI_Expiration=1,IF($A331<VLOOKUP(M$5,NFI,5,0),1,0)*Table_NFI[[#This Row],[Blanket]],Table_NFI[[#This Row],[Blanket]])","v":138},{"$f":"IF(NFI_Expiration=1,IF($A331<VLOOKUP(N$5,NFI,5,0),1,0)*Table_NFI[[#This Row],[Kitchen Set]],Table_NFI[Kitchen Set])","v":65},{"$f":"IF(NFI_Expiration=1,IF($A331<VLOOKUP(O$5,NFI,5,0),1,0)*Table_NFI[[#This Row],[Complementary Kit]],Table_NFI[Complementary Kit])","v":65},{"$f":"IF(NFI_Expiration=1,IF($A331<VLOOKUP(P$5,NFI,5,0),1,0)*Table_NFI[[#This Row],[Plastic Bucket]],Table_NFI[Plastic Bucket])","v":65},{"$f":"IF(NFI_Expiration=1,IF($A331<VLOOKUP(Q$5,NFI,5,0),1,0)*Table_NFI[[#This Row],[Plastic Mat]],Table_NFI[Plastic Mat])","v":65},{"$f":"IFERROR(VLOOKUP(Table_NFI[[#This Row],[Camp Name]],CL,2,0),\"\")","v":"MMR001CMP085"},{"$f":"IFERROR(VLOOKUP(Table_NFI[[#This Row],[Camp Name]],CL,3,0),\"\")","v":"Closed"},{"$f":"IFERROR(Table_NFI[[#This Row],[Kitchen Set]]/VLOOKUP(Table_NFI[[#This Row],[Camp Name]],CL,4,0),\"\")","v":""}]
[10.5,"2013-02-20","UNHCR","UNHCR","Kachin","Hpakant","Chin(Zomi) Baptist Church",null,null,13,28,15,28,15,15,15,15,{"$f":"IF(NFI_Expiration=1,IF($A332<VLOOKUP(H$5,NFI,5,0),1,0)*Table_NFI[[#This Row],[Hygiene Kit]],Table_NFI[Hygiene Kit])","v":0},{"$f":"IF(NFI_Expiration=1,IF($A332<VLOOKUP(I$5,NFI,5,0),1,0)*Table_NFI[[#This Row],[NFI Core Kit]],Table_NFI[NFI Core Kit])","v":0},{"$f":"IF(NFI_Expiration=1,IF($A332<VLOOKUP(J$5,NFI,5,0),1,0)*Table_NFI[[#This Row],[Sanitary Kit]],Table_NFI[Sanitary Kit])","v":13},{"$f":"IF(NFI_Expiration=1,IF($A332<VLOOKUP(K$5,NFI,5,0),1,0)*Table_NFI[[#This Row],[Mosquito net]],Table_NFI[Mosquito net])","v":28},{"$f":"IF(NFI_Expiration=1,IF($A332<VLOOKUP(L$5,NFI,5,0),1,0)*Table_NFI[[#This Row],[Tarpaulin]],Table_NFI[[#This Row],[Tarpaulin]])","v":15},{"$f":"IF(NFI_Expiration=1,IF($A332<VLOOKUP(M$5,NFI,5,0),1,0)*Table_NFI[[#This Row],[Blanket]],Table_NFI[[#This Row],[Blanket]])","v":28},{"$f":"IF(NFI_Expiration=1,IF($A332<VLOOKUP(N$5,NFI,5,0),1,0)*Table_NFI[[#This Row],[Kitchen Set]],Table_NFI[Kitchen Set])","v":15},{"$f":"IF(NFI_Expiration=1,IF($A332<VLOOKUP(O$5,NFI,5,0),1,0)*Table_NFI[[#This Row],[Complementary Kit]],Table_NFI[Complementary Kit])","v":15},{"$f":"IF(NFI_Expiration=1,IF($A332<VLOOKUP(P$5,NFI,5,0),1,0)*Table_NFI[[#This Row],[Plastic Bucket]],Table_NFI[Plastic Bucket])","v":15},{"$f":"IF(NFI_Expiration=1,IF($A332<VLOOKUP(Q$5,NFI,5,0),1,0)*Table_NFI[[#This Row],[Plastic Mat]],Table_NFI[Plastic Mat])","v":15},{"$f":"IFERROR(VLOOKUP(Table_NFI[[#This Row],[Camp Name]],CL,2,0),\"\")","v":"MMR001CMP086"},{"$f":"IFERROR(VLOOKUP(Table_NFI[[#This Row],[Camp Name]],CL,3,0),\"\")","v":"Closed"},{"$f":"IFERROR(Table_NFI[[#This Row],[Kitchen Set]]/VLOOKUP(Table_NFI[[#This Row],[Camp Name]],CL,4,0),\"\")","v":""}]
[10.5,"2013-02-20","UNHCR","UNHCR","Kachin","Hpakant","Aye Mya Tharyar Church of Christ ",null,null,18,0,0,0,0,0,null,null,{"$f":"IF(NFI_Expiration=1,IF($A333<VLOOKUP(H$5,NFI,5,0),1,0)*Table_NFI[[#This Row],[Hygiene Kit]],Table_NFI[Hygiene Kit])","v":0},{"$f":"IF(NFI_Expiration=1,IF($A333<VLOOKUP(I$5,NFI,5,0),1,0)*Table_NFI[[#This Row],[NFI Core Kit]],Table_NFI[NFI Core Kit])","v":0},{"$f":"IF(NFI_Expiration=1,IF($A333<VLOOKUP(J$5,NFI,5,0),1,0)*Table_NFI[[#This Row],[Sanitary Kit]],Table_NFI[Sanitary Kit])","v":18},{"$f":"IF(NFI_Expiration=1,IF($A333<VLOOKUP(K$5,NFI,5,0),1,0)*Table_NFI[[#This Row],[Mosquito net]],Table_NFI[Mosquito net])","v":0},{"$f":"IF(NFI_Expiration=1,IF($A333<VLOOKUP(L$5,NFI,5,0),1,0)*Table_NFI[[#This Row],[Tarpaulin]],Table_NFI[[#This Row],[Tarpaulin]])","v":0},{"$f":"IF(NFI_Expiration=1,IF($A333<VLOOKUP(M$5,NFI,5,0),1,0)*Table_NFI[[#This Row],[Blanket]],Table_NFI[[#This Row],[Blanket]])","v":0},{"$f":"IF(NFI_Expiration=1,IF($A333<VLOOKUP(N$5,NFI,5,0),1,0)*Table_NFI[[#This Row],[Kitchen Set]],Table_NFI[Kitchen Set])","v":0},{"$f":"IF(NFI_Expiration=1,IF($A333<VLOOKUP(O$5,NFI,5,0),1,0)*Table_NFI[[#This Row],[Complementary Kit]],Table_NFI[Complementary Kit])","v":0},{"$f":"IF(NFI_Expiration=1,IF($A333<VLOOKUP(P$5,NFI,5,0),1,0)*Table_NFI[[#This Row],[Plastic Bucket]],Table_NFI[Plastic Bucket])","v":0},{"$f":"IF(NFI_Expiration=1,IF($A333<VLOOKUP(Q$5,NFI,5,0),1,0)*Table_NFI[[#This Row],[Plastic Mat]],Table_NFI[Plastic Mat])","v":0},{"$f":"IFERROR(VLOOKUP(Table_NFI[[#This Row],[Camp Name]],CL,2,0),\"\")","v":"MMR001CMP092"},{"$f":"IFERROR(VLOOKUP(Table_NFI[[#This Row],[Camp Name]],CL,3,0),\"\")","v":"Closed"},{"$f":"IFERROR(Table_NFI[[#This Row],[Kitchen Set]]/VLOOKUP(Table_NFI[[#This Row],[Camp Name]],CL,4,0),\"\")","v":""}]
[10.5,"2013-02-20","UNHCR","UNHCR","Kachin","Hpakant","Mashi Kahtawng Catholic Church",null,null,16,26,13,26,13,13,13,13,{"$f":"IF(NFI_Expiration=1,IF($A334<VLOOKUP(H$5,NFI,5,0),1,0)*Table_NFI[[#This Row],[Hygiene Kit]],Table_NFI[Hygiene Kit])","v":0},{"$f":"IF(NFI_Expiration=1,IF($A334<VLOOKUP(I$5,NFI,5,0),1,0)*Table_NFI[[#This Row],[NFI Core Kit]],Table_NFI[NFI Core Kit])","v":0},{"$f":"IF(NFI_Expiration=1,IF($A334<VLOOKUP(J$5,NFI,5,0),1,0)*Table_NFI[[#This Row],[Sanitary Kit]],Table_NFI[Sanitary Kit])","v":16},{"$f":"IF(NFI_Expiration=1,IF($A334<VLOOKUP(K$5,NFI,5,0),1,0)*Table_NFI[[#This Row],[Mosquito net]],Table_NFI[Mosquito net])","v":26},{"$f":"IF(NFI_Expiration=1,IF($A334<VLOOKUP(L$5,NFI,5,0),1,0)*Table_NFI[[#This Row],[Tarpaulin]],Table_NFI[[#This Row],[Tarpaulin]])","v":13},{"$f":"IF(NFI_Expiration=1,IF($A334<VLOOKUP(M$5,NFI,5,0),1,0)*Table_NFI[[#This Row],[Blanket]],Table_NFI[[#This Row],[Blanket]])","v":26},{"$f":"IF(NFI_Expiration=1,IF($A334<VLOOKUP(N$5,NFI,5,0),1,0)*Table_NFI[[#This Row],[Kitchen Set]],Table_NFI[Kitchen Set])","v":13},{"$f":"IF(NFI_Expiration=1,IF($A334<VLOOKUP(O$5,NFI,5,0),1,0)*Table_NFI[[#This Row],[Complementary Kit]],Table_NFI[Complementary Kit])","v":13},{"$f":"IF(NFI_Expiration=1,IF($A334<VLOOKUP(P$5,NFI,5,0),1,0)*Table_NFI[[#This Row],[Plastic Bucket]],Table_NFI[Plastic Bucket])","v":13},{"$f":"IF(NFI_Expiration=1,IF($A334<VLOOKUP(Q$5,NFI,5,0),1,0)*Table_NFI[[#This Row],[Plastic Mat]],Table_NFI[Plastic Mat])","v":13},{"$f":"IFERROR(VLOOKUP(Table_NFI[[#This Row],[Camp Name]],CL,2,0),\"\")","v":"MMR001CMP093"},{"$f":"IFERROR(VLOOKUP(Table_NFI[[#This Row],[Camp Name]],CL,3,0),\"\")","v":"Closed"},{"$f":"IFERROR(Table_NFI[[#This Row],[Kitchen Set]]/VLOOKUP(Table_NFI[[#This Row],[Camp Name]],CL,4,0),\"\")","v":""}]
[10.5,"2013-02-20","UNHCR","UNHCR","Kachin","Hpakant","Mashi Kahtawng Baptist  Church",null,null,74,0,0,0,0,0,null,null,{"$f":"IF(NFI_Expiration=1,IF($A335<VLOOKUP(H$5,NFI,5,0),1,0)*Table_NFI[[#This Row],[Hygiene Kit]],Table_NFI[Hygiene Kit])","v":0},{"$f":"IF(NFI_Expiration=1,IF($A335<VLOOKUP(I$5,NFI,5,0),1,0)*Table_NFI[[#This Row],[NFI Core Kit]],Table_NFI[NFI Core Kit])","v":0},{"$f":"IF(NFI_Expiration=1,IF($A335<VLOOKUP(J$5,NFI,5,0),1,0)*Table_NFI[[#This Row],[Sanitary Kit]],Table_NFI[Sanitary Kit])","v":74},{"$f":"IF(NFI_Expiration=1,IF($A335<VLOOKUP(K$5,NFI,5,0),1,0)*Table_NFI[[#This Row],[Mosquito net]],Table_NFI[Mosquito net])","v":0},{"$f":"IF(NFI_Expiration=1,IF($A335<VLOOKUP(L$5,NFI,5,0),1,0)*Table_NFI[[#This Row],[Tarpaulin]],Table_NFI[[#This Row],[Tarpaulin]])","v":0},{"$f":"IF(NFI_Expiration=1,IF($A335<VLOOKUP(M$5,NFI,5,0),1,0)*Table_NFI[[#This Row],[Blanket]],Table_NFI[[#This Row],[Blanket]])","v":0},{"$f":"IF(NFI_Expiration=1,IF($A335<VLOOKUP(N$5,NFI,5,0),1,0)*Table_NFI[[#This Row],[Kitchen Set]],Table_NFI[Kitchen Set])","v":0},{"$f":"IF(NFI_Expiration=1,IF($A335<VLOOKUP(O$5,NFI,5,0),1,0)*Table_NFI[[#This Row],[Complementary Kit]],Table_NFI[Complementary Kit])","v":0},{"$f":"IF(NFI_Expiration=1,IF($A335<VLOOKUP(P$5,NFI,5,0),1,0)*Table_NFI[[#This Row],[Plastic Bucket]],Table_NFI[Plastic Bucket])","v":0},{"$f":"IF(NFI_Expiration=1,IF($A335<VLOOKUP(Q$5,NFI,5,0),1,0)*Table_NFI[[#This Row],[Plastic Mat]],Table_NFI[Plastic Mat])","v":0},{"$f":"IFERROR(VLOOKUP(Table_NFI[[#This Row],[Camp Name]],CL,2,0),\"\")","v":"MMR001CMP094"},{"$f":"IFERROR(VLOOKUP(Table_NFI[[#This Row],[Camp Name]],CL,3,0),\"\")","v":"Closed"},{"$f":"IFERROR(Table_NFI[[#This Row],[Kitchen Set]]/VLOOKUP(Table_NFI[[#This Row],[Camp Name]],CL,4,0),\"\")","v":""}]
[10.5,"2013-02-20","UNHCR","UNHCR","Kachin","Hpakant","Nant Ma Hpit Catholic Church",null,null,35,0,0,0,0,0,null,null,{"$f":"IF(NFI_Expiration=1,IF($A336<VLOOKUP(H$5,NFI,5,0),1,0)*Table_NFI[[#This Row],[Hygiene Kit]],Table_NFI[Hygiene Kit])","v":0},{"$f":"IF(NFI_Expiration=1,IF($A336<VLOOKUP(I$5,NFI,5,0),1,0)*Table_NFI[[#This Row],[NFI Core Kit]],Table_NFI[NFI Core Kit])","v":0},{"$f":"IF(NFI_Expiration=1,IF($A336<VLOOKUP(J$5,NFI,5,0),1,0)*Table_NFI[[#This Row],[Sanitary Kit]],Table_NFI[Sanitary Kit])","v":35},{"$f":"IF(NFI_Expiration=1,IF($A336<VLOOKUP(K$5,NFI,5,0),1,0)*Table_NFI[[#This Row],[Mosquito net]],Table_NFI[Mosquito net])","v":0},{"$f":"IF(NFI_Expiration=1,IF($A336<VLOOKUP(L$5,NFI,5,0),1,0)*Table_NFI[[#This Row],[Tarpaulin]],Table_NFI[[#This Row],[Tarpaulin]])","v":0},{"$f":"IF(NFI_Expiration=1,IF($A336<VLOOKUP(M$5,NFI,5,0),1,0)*Table_NFI[[#This Row],[Blanket]],Table_NFI[[#This Row],[Blanket]])","v":0},{"$f":"IF(NFI_Expiration=1,IF($A336<VLOOKUP(N$5,NFI,5,0),1,0)*Table_NFI[[#This Row],[Kitchen Set]],Table_NFI[Kitchen Set])","v":0},{"$f":"IF(NFI_Expiration=1,IF($A336<VLOOKUP(O$5,NFI,5,0),1,0)*Table_NFI[[#This Row],[Complementary Kit]],Table_NFI[Complementary Kit])","v":0},{"$f":"IF(NFI_Expiration=1,IF($A336<VLOOKUP(P$5,NFI,5,0),1,0)*Table_NFI[[#This Row],[Plastic Bucket]],Table_NFI[Plastic Bucket])","v":0},{"$f":"IF(NFI_Expiration=1,IF($A336<VLOOKUP(Q$5,NFI,5,0),1,0)*Table_NFI[[#This Row],[Plastic Mat]],Table_NFI[Plastic Mat])","v":0},{"$f":"IFERROR(VLOOKUP(Table_NFI[[#This Row],[Camp Name]],CL,2,0),\"\")","v":"MMR001CMP103"},{"$f":"IFERROR(VLOOKUP(Table_NFI[[#This Row],[Camp Name]],CL,3,0),\"\")","v":"Open"},{"$f":"IFERROR(Table_NFI[[#This Row],[Kitchen Set]]/VLOOKUP(Table_NFI[[#This Row],[Camp Name]],CL,4,0),\"\")","v":0}]
[10.5,"2013-02-20","UNHCR","UNHCR","Kachin","Hpakant","Nant Ma Hpit Catholic Church",null,null,32,64,33,64,33,33,33,33,{"$f":"IF(NFI_Expiration=1,IF($A337<VLOOKUP(H$5,NFI,5,0),1,0)*Table_NFI[[#This Row],[Hygiene Kit]],Table_NFI[Hygiene Kit])","v":0},{"$f":"IF(NFI_Expiration=1,IF($A337<VLOOKUP(I$5,NFI,5,0),1,0)*Table_NFI[[#This Row],[NFI Core Kit]],Table_NFI[NFI Core Kit])","v":0},{"$f":"IF(NFI_Expiration=1,IF($A337<VLOOKUP(J$5,NFI,5,0),1,0)*Table_NFI[[#This Row],[Sanitary Kit]],Table_NFI[Sanitary Kit])","v":32},{"$f":"IF(NFI_Expiration=1,IF($A337<VLOOKUP(K$5,NFI,5,0),1,0)*Table_NFI[[#This Row],[Mosquito net]],Table_NFI[Mosquito net])","v":64},{"$f":"IF(NFI_Expiration=1,IF($A337<VLOOKUP(L$5,NFI,5,0),1,0)*Table_NFI[[#This Row],[Tarpaulin]],Table_NFI[[#This Row],[Tarpaulin]])","v":33},{"$f":"IF(NFI_Expiration=1,IF($A337<VLOOKUP(M$5,NFI,5,0),1,0)*Table_NFI[[#This Row],[Blanket]],Table_NFI[[#This Row],[Blanket]])","v":64},{"$f":"IF(NFI_Expiration=1,IF($A337<VLOOKUP(N$5,NFI,5,0),1,0)*Table_NFI[[#This Row],[Kitchen Set]],Table_NFI[Kitchen Set])","v":33},{"$f":"IF(NFI_Expiration=1,IF($A337<VLOOKUP(O$5,NFI,5,0),1,0)*Table_NFI[[#This Row],[Complementary Kit]],Table_NFI[Complementary Kit])","v":33},{"$f":"IF(NFI_Expiration=1,IF($A337<VLOOKUP(P$5,NFI,5,0),1,0)*Table_NFI[[#This Row],[Plastic Bucket]],Table_NFI[Plastic Bucket])","v":33},{"$f":"IF(NFI_Expiration=1,IF($A337<VLOOKUP(Q$5,NFI,5,0),1,0)*Table_NFI[[#This Row],[Plastic Mat]],Table_NFI[Plastic Mat])","v":33},{"$f":"IFERROR(VLOOKUP(Table_NFI[[#This Row],[Camp Name]],CL,2,0),\"\")","v":"MMR001CMP103"},{"$f":"IFERROR(VLOOKUP(Table_NFI[[#This Row],[Camp Name]],CL,3,0),\"\")","v":"Open"},{"$f":"IFERROR(Table_NFI[[#This Row],[Kitchen Set]]/VLOOKUP(Table_NFI[[#This Row],[Camp Name]],CL,4,0),\"\")","v":0.86842105263157898}]
[10.5,"2013-02-20","UNHCR","UNHCR","Kachin","Hpakant","Yumar Baptist Church",null,null,46,0,0,0,0,0,null,null,{"$f":"IF(NFI_Expiration=1,IF($A338<VLOOKUP(H$5,NFI,5,0),1,0)*Table_NFI[[#This Row],[Hygiene Kit]],Table_NFI[Hygiene Kit])","v":0},{"$f":"IF(NFI_Expiration=1,IF($A338<VLOOKUP(I$5,NFI,5,0),1,0)*Table_NFI[[#This Row],[NFI Core Kit]],Table_NFI[NFI Core Kit])","v":0},{"$f":"IF(NFI_Expiration=1,IF($A338<VLOOKUP(J$5,NFI,5,0),1,0)*Table_NFI[[#This Row],[Sanitary Kit]],Table_NFI[Sanitary Kit])","v":46},{"$f":"IF(NFI_Expiration=1,IF($A338<VLOOKUP(K$5,NFI,5,0),1,0)*Table_NFI[[#This Row],[Mosquito net]],Table_NFI[Mosquito net])","v":0},{"$f":"IF(NFI_Expiration=1,IF($A338<VLOOKUP(L$5,NFI,5,0),1,0)*Table_NFI[[#This Row],[Tarpaulin]],Table_NFI[[#This Row],[Tarpaulin]])","v":0},{"$f":"IF(NFI_Expiration=1,IF($A338<VLOOKUP(M$5,NFI,5,0),1,0)*Table_NFI[[#This Row],[Blanket]],Table_NFI[[#This Row],[Blanket]])","v":0},{"$f":"IF(NFI_Expiration=1,IF($A338<VLOOKUP(N$5,NFI,5,0),1,0)*Table_NFI[[#This Row],[Kitchen Set]],Table_NFI[Kitchen Set])","v":0},{"$f":"IF(NFI_Expiration=1,IF($A338<VLOOKUP(O$5,NFI,5,0),1,0)*Table_NFI[[#This Row],[Complementary Kit]],Table_NFI[Complementary Kit])","v":0},{"$f":"IF(NFI_Expiration=1,IF($A338<VLOOKUP(P$5,NFI,5,0),1,0)*Table_NFI[[#This Row],[Plastic Bucket]],Table_NFI[Plastic Bucket])","v":0},{"$f":"IF(NFI_Expiration=1,IF($A338<VLOOKUP(Q$5,NFI,5,0),1,0)*Table_NFI[[#This Row],[Plastic Mat]],Table_NFI[Plastic Mat])","v":0},{"$f":"IFERROR(VLOOKUP(Table_NFI[[#This Row],[Camp Name]],CL,2,0),\"\")","v":"MMR001CMP105"},{"$f":"IFERROR(VLOOKUP(Table_NFI[[#This Row],[Camp Name]],CL,3,0),\"\")","v":"Open"},{"$f":"IFERROR(Table_NFI[[#This Row],[Kitchen Set]]/VLOOKUP(Table_NFI[[#This Row],[Camp Name]],CL,4,0),\"\")","v":0}]
[10.5,"2013-02-20","UNHCR","UNHCR","Kachin","Hpakant","Lisu Baptist Church, Maw Wan Ward",null,null,12,20,8,20,8,8,8,8,{"$f":"IF(NFI_Expiration=1,IF($A339<VLOOKUP(H$5,NFI,5,0),1,0)*Table_NFI[[#This Row],[Hygiene Kit]],Table_NFI[Hygiene Kit])","v":0},{"$f":"IF(NFI_Expiration=1,IF($A339<VLOOKUP(I$5,NFI,5,0),1,0)*Table_NFI[[#This Row],[NFI Core Kit]],Table_NFI[NFI Core Kit])","v":0},{"$f":"IF(NFI_Expiration=1,IF($A339<VLOOKUP(J$5,NFI,5,0),1,0)*Table_NFI[[#This Row],[Sanitary Kit]],Table_NFI[Sanitary Kit])","v":12},{"$f":"IF(NFI_Expiration=1,IF($A339<VLOOKUP(K$5,NFI,5,0),1,0)*Table_NFI[[#This Row],[Mosquito net]],Table_NFI[Mosquito net])","v":20},{"$f":"IF(NFI_Expiration=1,IF($A339<VLOOKUP(L$5,NFI,5,0),1,0)*Table_NFI[[#This Row],[Tarpaulin]],Table_NFI[[#This Row],[Tarpaulin]])","v":8},{"$f":"IF(NFI_Expiration=1,IF($A339<VLOOKUP(M$5,NFI,5,0),1,0)*Table_NFI[[#This Row],[Blanket]],Table_NFI[[#This Row],[Blanket]])","v":20},{"$f":"IF(NFI_Expiration=1,IF($A339<VLOOKUP(N$5,NFI,5,0),1,0)*Table_NFI[[#This Row],[Kitchen Set]],Table_NFI[Kitchen Set])","v":8},{"$f":"IF(NFI_Expiration=1,IF($A339<VLOOKUP(O$5,NFI,5,0),1,0)*Table_NFI[[#This Row],[Complementary Kit]],Table_NFI[Complementary Kit])","v":8},{"$f":"IF(NFI_Expiration=1,IF($A339<VLOOKUP(P$5,NFI,5,0),1,0)*Table_NFI[[#This Row],[Plastic Bucket]],Table_NFI[Plastic Bucket])","v":8},{"$f":"IF(NFI_Expiration=1,IF($A339<VLOOKUP(Q$5,NFI,5,0),1,0)*Table_NFI[[#This Row],[Plastic Mat]],Table_NFI[Plastic Mat])","v":8},{"$f":"IFERROR(VLOOKUP(Table_NFI[[#This Row],[Camp Name]],CL,2,0),\"\")","v":"MMR001CMP167"},{"$f":"IFERROR(VLOOKUP(Table_NFI[[#This Row],[Camp Name]],CL,3,0),\"\")","v":"Open"},{"$f":"IFERROR(Table_NFI[[#This Row],[Kitchen Set]]/VLOOKUP(Table_NFI[[#This Row],[Camp Name]],CL,4,0),\"\")","v":1}]
[10.5,"2013-02-20","UNHCR","UNHCR","Kachin","Hpakant","AG Church, Maw Wan",null,null,0,59,28,0,28,28,28,28,{"$f":"IF(NFI_Expiration=1,IF($A340<VLOOKUP(H$5,NFI,5,0),1,0)*Table_NFI[[#This Row],[Hygiene Kit]],Table_NFI[Hygiene Kit])","v":0},{"$f":"IF(NFI_Expiration=1,IF($A340<VLOOKUP(I$5,NFI,5,0),1,0)*Table_NFI[[#This Row],[NFI Core Kit]],Table_NFI[NFI Core Kit])","v":0},{"$f":"IF(NFI_Expiration=1,IF($A340<VLOOKUP(J$5,NFI,5,0),1,0)*Table_NFI[[#This Row],[Sanitary Kit]],Table_NFI[Sanitary Kit])","v":0},{"$f":"IF(NFI_Expiration=1,IF($A340<VLOOKUP(K$5,NFI,5,0),1,0)*Table_NFI[[#This Row],[Mosquito net]],Table_NFI[Mosquito net])","v":59},{"$f":"IF(NFI_Expiration=1,IF($A340<VLOOKUP(L$5,NFI,5,0),1,0)*Table_NFI[[#This Row],[Tarpaulin]],Table_NFI[[#This Row],[Tarpaulin]])","v":28},{"$f":"IF(NFI_Expiration=1,IF($A340<VLOOKUP(M$5,NFI,5,0),1,0)*Table_NFI[[#This Row],[Blanket]],Table_NFI[[#This Row],[Blanket]])","v":0},{"$f":"IF(NFI_Expiration=1,IF($A340<VLOOKUP(N$5,NFI,5,0),1,0)*Table_NFI[[#This Row],[Kitchen Set]],Table_NFI[Kitchen Set])","v":28},{"$f":"IF(NFI_Expiration=1,IF($A340<VLOOKUP(O$5,NFI,5,0),1,0)*Table_NFI[[#This Row],[Complementary Kit]],Table_NFI[Complementary Kit])","v":28},{"$f":"IF(NFI_Expiration=1,IF($A340<VLOOKUP(P$5,NFI,5,0),1,0)*Table_NFI[[#This Row],[Plastic Bucket]],Table_NFI[Plastic Bucket])","v":28},{"$f":"IF(NFI_Expiration=1,IF($A340<VLOOKUP(Q$5,NFI,5,0),1,0)*Table_NFI[[#This Row],[Plastic Mat]],Table_NFI[Plastic Mat])","v":28},{"$f":"IFERROR(VLOOKUP(Table_NFI[[#This Row],[Camp Name]],CL,2,0),\"\")","v":"MMR001CMP190"},{"$f":"IFERROR(VLOOKUP(Table_NFI[[#This Row],[Camp Name]],CL,3,0),\"\")","v":"Open"},{"$f":"IFERROR(Table_NFI[[#This Row],[Kitchen Set]]/VLOOKUP(Table_NFI[[#This Row],[Camp Name]],CL,4,0),\"\")","v":2.1538461538461537}]
[10.5,"2013-02-20","UNHCR","UNHCR","Kachin","Hpakant","Zomee Baptist Church camp, Hmaw Wan",null,null,0,11,6,0,6,6,6,6,{"$f":"IF(NFI_Expiration=1,IF($A341<VLOOKUP(H$5,NFI,5,0),1,0)*Table_NFI[[#This Row],[Hygiene Kit]],Table_NFI[Hygiene Kit])","v":0},{"$f":"IF(NFI_Expiration=1,IF($A341<VLOOKUP(I$5,NFI,5,0),1,0)*Table_NFI[[#This Row],[NFI Core Kit]],Table_NFI[NFI Core Kit])","v":0},{"$f":"IF(NFI_Expiration=1,IF($A341<VLOOKUP(J$5,NFI,5,0),1,0)*Table_NFI[[#This Row],[Sanitary Kit]],Table_NFI[Sanitary Kit])","v":0},{"$f":"IF(NFI_Expiration=1,IF($A341<VLOOKUP(K$5,NFI,5,0),1,0)*Table_NFI[[#This Row],[Mosquito net]],Table_NFI[Mosquito net])","v":11},{"$f":"IF(NFI_Expiration=1,IF($A341<VLOOKUP(L$5,NFI,5,0),1,0)*Table_NFI[[#This Row],[Tarpaulin]],Table_NFI[[#This Row],[Tarpaulin]])","v":6},{"$f":"IF(NFI_Expiration=1,IF($A341<VLOOKUP(M$5,NFI,5,0),1,0)*Table_NFI[[#This Row],[Blanket]],Table_NFI[[#This Row],[Blanket]])","v":0},{"$f":"IF(NFI_Expiration=1,IF($A341<VLOOKUP(N$5,NFI,5,0),1,0)*Table_NFI[[#This Row],[Kitchen Set]],Table_NFI[Kitchen Set])","v":6},{"$f":"IF(NFI_Expiration=1,IF($A341<VLOOKUP(O$5,NFI,5,0),1,0)*Table_NFI[[#This Row],[Complementary Kit]],Table_NFI[Complementary Kit])","v":6},{"$f":"IF(NFI_Expiration=1,IF($A341<VLOOKUP(P$5,NFI,5,0),1,0)*Table_NFI[[#This Row],[Plastic Bucket]],Table_NFI[Plastic Bucket])","v":6},{"$f":"IF(NFI_Expiration=1,IF($A341<VLOOKUP(Q$5,NFI,5,0),1,0)*Table_NFI[[#This Row],[Plastic Mat]],Table_NFI[Plastic Mat])","v":6},{"$f":"IFERROR(VLOOKUP(Table_NFI[[#This Row],[Camp Name]],CL,2,0),\"\")","v":"MMR001CMP201"},{"$f":"IFERROR(VLOOKUP(Table_NFI[[#This Row],[Camp Name]],CL,3,0),\"\")","v":"Closed"},{"$f":"IFERROR(Table_NFI[[#This Row],[Kitchen Set]]/VLOOKUP(Table_NFI[[#This Row],[Camp Name]],CL,4,0),\"\")","v":""}]
[10.333333333333334,"2013-02-25","MRCS","MRCS","Kachin","Myitkyina","Hkat Cho ",null,null,null,null,1,null,null,null,0,0,{"$f":"IF(NFI_Expiration=1,IF($A342<VLOOKUP(H$5,NFI,5,0),1,0)*Table_NFI[[#This Row],[Hygiene Kit]],Table_NFI[Hygiene Kit])","v":0},{"$f":"IF(NFI_Expiration=1,IF($A342<VLOOKUP(I$5,NFI,5,0),1,0)*Table_NFI[[#This Row],[NFI Core Kit]],Table_NFI[NFI Core Kit])","v":0},{"$f":"IF(NFI_Expiration=1,IF($A342<VLOOKUP(J$5,NFI,5,0),1,0)*Table_NFI[[#This Row],[Sanitary Kit]],Table_NFI[Sanitary Kit])","v":0},{"$f":"IF(NFI_Expiration=1,IF($A342<VLOOKUP(K$5,NFI,5,0),1,0)*Table_NFI[[#This Row],[Mosquito net]],Table_NFI[Mosquito net])","v":0},{"$f":"IF(NFI_Expiration=1,IF($A342<VLOOKUP(L$5,NFI,5,0),1,0)*Table_NFI[[#This Row],[Tarpaulin]],Table_NFI[[#This Row],[Tarpaulin]])","v":1},{"$f":"IF(NFI_Expiration=1,IF($A342<VLOOKUP(M$5,NFI,5,0),1,0)*Table_NFI[[#This Row],[Blanket]],Table_NFI[[#This Row],[Blanket]])","v":0},{"$f":"IF(NFI_Expiration=1,IF($A342<VLOOKUP(N$5,NFI,5,0),1,0)*Table_NFI[[#This Row],[Kitchen Set]],Table_NFI[Kitchen Set])","v":0},{"$f":"IF(NFI_Expiration=1,IF($A342<VLOOKUP(O$5,NFI,5,0),1,0)*Table_NFI[[#This Row],[Complementary Kit]],Table_NFI[Complementary Kit])","v":0},{"$f":"IF(NFI_Expiration=1,IF($A342<VLOOKUP(P$5,NFI,5,0),1,0)*Table_NFI[[#This Row],[Plastic Bucket]],Table_NFI[Plastic Bucket])","v":0},{"$f":"IF(NFI_Expiration=1,IF($A342<VLOOKUP(Q$5,NFI,5,0),1,0)*Table_NFI[[#This Row],[Plastic Mat]],Table_NFI[Plastic Mat])","v":0},{"$f":"IFERROR(VLOOKUP(Table_NFI[[#This Row],[Camp Name]],CL,2,0),\"\")","v":"MMR001CMP028"},{"$f":"IFERROR(VLOOKUP(Table_NFI[[#This Row],[Camp Name]],CL,3,0),\"\")","v":"Open"},{"$f":"IFERROR(Table_NFI[[#This Row],[Kitchen Set]]/VLOOKUP(Table_NFI[[#This Row],[Camp Name]],CL,4,0),\"\")","v":0}]
[10.333333333333334,"2013-02-25","MRCS","MRCS","Kachin","Waingmaw","Maina KBC (Bawng Ring)",null,null,235,null,174,null,61,null,0,0,{"$f":"IF(NFI_Expiration=1,IF($A343<VLOOKUP(H$5,NFI,5,0),1,0)*Table_NFI[[#This Row],[Hygiene Kit]],Table_NFI[Hygiene Kit])","v":0},{"$f":"IF(NFI_Expiration=1,IF($A343<VLOOKUP(I$5,NFI,5,0),1,0)*Table_NFI[[#This Row],[NFI Core Kit]],Table_NFI[NFI Core Kit])","v":0},{"$f":"IF(NFI_Expiration=1,IF($A343<VLOOKUP(J$5,NFI,5,0),1,0)*Table_NFI[[#This Row],[Sanitary Kit]],Table_NFI[Sanitary Kit])","v":235},{"$f":"IF(NFI_Expiration=1,IF($A343<VLOOKUP(K$5,NFI,5,0),1,0)*Table_NFI[[#This Row],[Mosquito net]],Table_NFI[Mosquito net])","v":0},{"$f":"IF(NFI_Expiration=1,IF($A343<VLOOKUP(L$5,NFI,5,0),1,0)*Table_NFI[[#This Row],[Tarpaulin]],Table_NFI[[#This Row],[Tarpaulin]])","v":174},{"$f":"IF(NFI_Expiration=1,IF($A343<VLOOKUP(M$5,NFI,5,0),1,0)*Table_NFI[[#This Row],[Blanket]],Table_NFI[[#This Row],[Blanket]])","v":0},{"$f":"IF(NFI_Expiration=1,IF($A343<VLOOKUP(N$5,NFI,5,0),1,0)*Table_NFI[[#This Row],[Kitchen Set]],Table_NFI[Kitchen Set])","v":61},{"$f":"IF(NFI_Expiration=1,IF($A343<VLOOKUP(O$5,NFI,5,0),1,0)*Table_NFI[[#This Row],[Complementary Kit]],Table_NFI[Complementary Kit])","v":0},{"$f":"IF(NFI_Expiration=1,IF($A343<VLOOKUP(P$5,NFI,5,0),1,0)*Table_NFI[[#This Row],[Plastic Bucket]],Table_NFI[Plastic Bucket])","v":0},{"$f":"IF(NFI_Expiration=1,IF($A343<VLOOKUP(Q$5,NFI,5,0),1,0)*Table_NFI[[#This Row],[Plastic Mat]],Table_NFI[Plastic Mat])","v":0},{"$f":"IFERROR(VLOOKUP(Table_NFI[[#This Row],[Camp Name]],CL,2,0),\"\")","v":"MMR001CMP040"},{"$f":"IFERROR(VLOOKUP(Table_NFI[[#This Row],[Camp Name]],CL,3,0),\"\")","v":"Open"},{"$f":"IFERROR(Table_NFI[[#This Row],[Kitchen Set]]/VLOOKUP(Table_NFI[[#This Row],[Camp Name]],CL,4,0),\"\")","v":0.14523809523809525}]
[10.333333333333334,"2013-02-25","UNHCR","Chipwe CM","Kachin","Chipwi","Chipwi KBC camp",null,null,11,17,7,17,7,7,7,7,{"$f":"IF(NFI_Expiration=1,IF($A344<VLOOKUP(H$5,NFI,5,0),1,0)*Table_NFI[[#This Row],[Hygiene Kit]],Table_NFI[Hygiene Kit])","v":0},{"$f":"IF(NFI_Expiration=1,IF($A344<VLOOKUP(I$5,NFI,5,0),1,0)*Table_NFI[[#This Row],[NFI Core Kit]],Table_NFI[NFI Core Kit])","v":0},{"$f":"IF(NFI_Expiration=1,IF($A344<VLOOKUP(J$5,NFI,5,0),1,0)*Table_NFI[[#This Row],[Sanitary Kit]],Table_NFI[Sanitary Kit])","v":11},{"$f":"IF(NFI_Expiration=1,IF($A344<VLOOKUP(K$5,NFI,5,0),1,0)*Table_NFI[[#This Row],[Mosquito net]],Table_NFI[Mosquito net])","v":17},{"$f":"IF(NFI_Expiration=1,IF($A344<VLOOKUP(L$5,NFI,5,0),1,0)*Table_NFI[[#This Row],[Tarpaulin]],Table_NFI[[#This Row],[Tarpaulin]])","v":7},{"$f":"IF(NFI_Expiration=1,IF($A344<VLOOKUP(M$5,NFI,5,0),1,0)*Table_NFI[[#This Row],[Blanket]],Table_NFI[[#This Row],[Blanket]])","v":17},{"$f":"IF(NFI_Expiration=1,IF($A344<VLOOKUP(N$5,NFI,5,0),1,0)*Table_NFI[[#This Row],[Kitchen Set]],Table_NFI[Kitchen Set])","v":7},{"$f":"IF(NFI_Expiration=1,IF($A344<VLOOKUP(O$5,NFI,5,0),1,0)*Table_NFI[[#This Row],[Complementary Kit]],Table_NFI[Complementary Kit])","v":7},{"$f":"IF(NFI_Expiration=1,IF($A344<VLOOKUP(P$5,NFI,5,0),1,0)*Table_NFI[[#This Row],[Plastic Bucket]],Table_NFI[Plastic Bucket])","v":7},{"$f":"IF(NFI_Expiration=1,IF($A344<VLOOKUP(Q$5,NFI,5,0),1,0)*Table_NFI[[#This Row],[Plastic Mat]],Table_NFI[Plastic Mat])","v":7},{"$f":"IFERROR(VLOOKUP(Table_NFI[[#This Row],[Camp Name]],CL,2,0),\"\")","v":"MMR001CMP042"},{"$f":"IFERROR(VLOOKUP(Table_NFI[[#This Row],[Camp Name]],CL,3,0),\"\")","v":"Open"},{"$f":"IFERROR(Table_NFI[[#This Row],[Kitchen Set]]/VLOOKUP(Table_NFI[[#This Row],[Camp Name]],CL,4,0),\"\")","v":6.5420560747663545E-2}]
[10.333333333333334,"2013-02-25","UNHCR","Chipwe CM","Kachin","Chipwi","Hpare Hkyer - BP6",null,null,11,17,7,17,7,7,7,7,{"$f":"IF(NFI_Expiration=1,IF($A345<VLOOKUP(H$5,NFI,5,0),1,0)*Table_NFI[[#This Row],[Hygiene Kit]],Table_NFI[Hygiene Kit])","v":0},{"$f":"IF(NFI_Expiration=1,IF($A345<VLOOKUP(I$5,NFI,5,0),1,0)*Table_NFI[[#This Row],[NFI Core Kit]],Table_NFI[NFI Core Kit])","v":0},{"$f":"IF(NFI_Expiration=1,IF($A345<VLOOKUP(J$5,NFI,5,0),1,0)*Table_NFI[[#This Row],[Sanitary Kit]],Table_NFI[Sanitary Kit])","v":11},{"$f":"IF(NFI_Expiration=1,IF($A345<VLOOKUP(K$5,NFI,5,0),1,0)*Table_NFI[[#This Row],[Mosquito net]],Table_NFI[Mosquito net])","v":17},{"$f":"IF(NFI_Expiration=1,IF($A345<VLOOKUP(L$5,NFI,5,0),1,0)*Table_NFI[[#This Row],[Tarpaulin]],Table_NFI[[#This Row],[Tarpaulin]])","v":7},{"$f":"IF(NFI_Expiration=1,IF($A345<VLOOKUP(M$5,NFI,5,0),1,0)*Table_NFI[[#This Row],[Blanket]],Table_NFI[[#This Row],[Blanket]])","v":17},{"$f":"IF(NFI_Expiration=1,IF($A345<VLOOKUP(N$5,NFI,5,0),1,0)*Table_NFI[[#This Row],[Kitchen Set]],Table_NFI[Kitchen Set])","v":7},{"$f":"IF(NFI_Expiration=1,IF($A345<VLOOKUP(O$5,NFI,5,0),1,0)*Table_NFI[[#This Row],[Complementary Kit]],Table_NFI[Complementary Kit])","v":7},{"$f":"IF(NFI_Expiration=1,IF($A345<VLOOKUP(P$5,NFI,5,0),1,0)*Table_NFI[[#This Row],[Plastic Bucket]],Table_NFI[Plastic Bucket])","v":7},{"$f":"IF(NFI_Expiration=1,IF($A345<VLOOKUP(Q$5,NFI,5,0),1,0)*Table_NFI[[#This Row],[Plastic Mat]],Table_NFI[Plastic Mat])","v":7},{"$f":"IFERROR(VLOOKUP(Table_NFI[[#This Row],[Camp Name]],CL,2,0),\"\")","v":"MMR001CMP043"},{"$f":"IFERROR(VLOOKUP(Table_NFI[[#This Row],[Camp Name]],CL,3,0),\"\")","v":"Open"},{"$f":"IFERROR(Table_NFI[[#This Row],[Kitchen Set]]/VLOOKUP(Table_NFI[[#This Row],[Camp Name]],CL,4,0),\"\")","v":4.8611111111111112E-2}]
[10.333333333333334,"2013-02-25","UNHCR","Chipwe CM","Kachin","Chipwi","Women's Affairs Association Building",null,null,12,18,8,18,8,8,8,8,{"$f":"IF(NFI_Expiration=1,IF($A346<VLOOKUP(H$5,NFI,5,0),1,0)*Table_NFI[[#This Row],[Hygiene Kit]],Table_NFI[Hygiene Kit])","v":0},{"$f":"IF(NFI_Expiration=1,IF($A346<VLOOKUP(I$5,NFI,5,0),1,0)*Table_NFI[[#This Row],[NFI Core Kit]],Table_NFI[NFI Core Kit])","v":0},{"$f":"IF(NFI_Expiration=1,IF($A346<VLOOKUP(J$5,NFI,5,0),1,0)*Table_NFI[[#This Row],[Sanitary Kit]],Table_NFI[Sanitary Kit])","v":12},{"$f":"IF(NFI_Expiration=1,IF($A346<VLOOKUP(K$5,NFI,5,0),1,0)*Table_NFI[[#This Row],[Mosquito net]],Table_NFI[Mosquito net])","v":18},{"$f":"IF(NFI_Expiration=1,IF($A346<VLOOKUP(L$5,NFI,5,0),1,0)*Table_NFI[[#This Row],[Tarpaulin]],Table_NFI[[#This Row],[Tarpaulin]])","v":8},{"$f":"IF(NFI_Expiration=1,IF($A346<VLOOKUP(M$5,NFI,5,0),1,0)*Table_NFI[[#This Row],[Blanket]],Table_NFI[[#This Row],[Blanket]])","v":18},{"$f":"IF(NFI_Expiration=1,IF($A346<VLOOKUP(N$5,NFI,5,0),1,0)*Table_NFI[[#This Row],[Kitchen Set]],Table_NFI[Kitchen Set])","v":8},{"$f":"IF(NFI_Expiration=1,IF($A346<VLOOKUP(O$5,NFI,5,0),1,0)*Table_NFI[[#This Row],[Complementary Kit]],Table_NFI[Complementary Kit])","v":8},{"$f":"IF(NFI_Expiration=1,IF($A346<VLOOKUP(P$5,NFI,5,0),1,0)*Table_NFI[[#This Row],[Plastic Bucket]],Table_NFI[Plastic Bucket])","v":8},{"$f":"IF(NFI_Expiration=1,IF($A346<VLOOKUP(Q$5,NFI,5,0),1,0)*Table_NFI[[#This Row],[Plastic Mat]],Table_NFI[Plastic Mat])","v":8},{"$f":"IFERROR(VLOOKUP(Table_NFI[[#This Row],[Camp Name]],CL,2,0),\"\")","v":"MMR001CMP044"},{"$f":"IFERROR(VLOOKUP(Table_NFI[[#This Row],[Camp Name]],CL,3,0),\"\")","v":"Closed"},{"$f":"IFERROR(Table_NFI[[#This Row],[Kitchen Set]]/VLOOKUP(Table_NFI[[#This Row],[Camp Name]],CL,4,0),\"\")","v":""}]
[10.333333333333334,"2013-02-25","UNHCR","Chipwe CM","Kachin","Chipwi","Lan Jaw ",null,null,11,17,7,17,7,7,7,7,{"$f":"IF(NFI_Expiration=1,IF($A347<VLOOKUP(H$5,NFI,5,0),1,0)*Table_NFI[[#This Row],[Hygiene Kit]],Table_NFI[Hygiene Kit])","v":0},{"$f":"IF(NFI_Expiration=1,IF($A347<VLOOKUP(I$5,NFI,5,0),1,0)*Table_NFI[[#This Row],[NFI Core Kit]],Table_NFI[NFI Core Kit])","v":0},{"$f":"IF(NFI_Expiration=1,IF($A347<VLOOKUP(J$5,NFI,5,0),1,0)*Table_NFI[[#This Row],[Sanitary Kit]],Table_NFI[Sanitary Kit])","v":11},{"$f":"IF(NFI_Expiration=1,IF($A347<VLOOKUP(K$5,NFI,5,0),1,0)*Table_NFI[[#This Row],[Mosquito net]],Table_NFI[Mosquito net])","v":17},{"$f":"IF(NFI_Expiration=1,IF($A347<VLOOKUP(L$5,NFI,5,0),1,0)*Table_NFI[[#This Row],[Tarpaulin]],Table_NFI[[#This Row],[Tarpaulin]])","v":7},{"$f":"IF(NFI_Expiration=1,IF($A347<VLOOKUP(M$5,NFI,5,0),1,0)*Table_NFI[[#This Row],[Blanket]],Table_NFI[[#This Row],[Blanket]])","v":17},{"$f":"IF(NFI_Expiration=1,IF($A347<VLOOKUP(N$5,NFI,5,0),1,0)*Table_NFI[[#This Row],[Kitchen Set]],Table_NFI[Kitchen Set])","v":7},{"$f":"IF(NFI_Expiration=1,IF($A347<VLOOKUP(O$5,NFI,5,0),1,0)*Table_NFI[[#This Row],[Complementary Kit]],Table_NFI[Complementary Kit])","v":7},{"$f":"IF(NFI_Expiration=1,IF($A347<VLOOKUP(P$5,NFI,5,0),1,0)*Table_NFI[[#This Row],[Plastic Bucket]],Table_NFI[Plastic Bucket])","v":7},{"$f":"IF(NFI_Expiration=1,IF($A347<VLOOKUP(Q$5,NFI,5,0),1,0)*Table_NFI[[#This Row],[Plastic Mat]],Table_NFI[Plastic Mat])","v":7},{"$f":"IFERROR(VLOOKUP(Table_NFI[[#This Row],[Camp Name]],CL,2,0),\"\")","v":"MMR001CMP045"},{"$f":"IFERROR(VLOOKUP(Table_NFI[[#This Row],[Camp Name]],CL,3,0),\"\")","v":"Open"},{"$f":"IFERROR(Table_NFI[[#This Row],[Kitchen Set]]/VLOOKUP(Table_NFI[[#This Row],[Camp Name]],CL,4,0),\"\")","v":""}]
[10.333333333333334,"2013-02-25","UNHCR","Chipwe CM","Kachin","Chipwi","Gant Gwin",null,null,11,17,7,17,7,7,7,7,{"$f":"IF(NFI_Expiration=1,IF($A348<VLOOKUP(H$5,NFI,5,0),1,0)*Table_NFI[[#This Row],[Hygiene Kit]],Table_NFI[Hygiene Kit])","v":0},{"$f":"IF(NFI_Expiration=1,IF($A348<VLOOKUP(I$5,NFI,5,0),1,0)*Table_NFI[[#This Row],[NFI Core Kit]],Table_NFI[NFI Core Kit])","v":0},{"$f":"IF(NFI_Expiration=1,IF($A348<VLOOKUP(J$5,NFI,5,0),1,0)*Table_NFI[[#This Row],[Sanitary Kit]],Table_NFI[Sanitary Kit])","v":11},{"$f":"IF(NFI_Expiration=1,IF($A348<VLOOKUP(K$5,NFI,5,0),1,0)*Table_NFI[[#This Row],[Mosquito net]],Table_NFI[Mosquito net])","v":17},{"$f":"IF(NFI_Expiration=1,IF($A348<VLOOKUP(L$5,NFI,5,0),1,0)*Table_NFI[[#This Row],[Tarpaulin]],Table_NFI[[#This Row],[Tarpaulin]])","v":7},{"$f":"IF(NFI_Expiration=1,IF($A348<VLOOKUP(M$5,NFI,5,0),1,0)*Table_NFI[[#This Row],[Blanket]],Table_NFI[[#This Row],[Blanket]])","v":17},{"$f":"IF(NFI_Expiration=1,IF($A348<VLOOKUP(N$5,NFI,5,0),1,0)*Table_NFI[[#This Row],[Kitchen Set]],Table_NFI[Kitchen Set])","v":7},{"$f":"IF(NFI_Expiration=1,IF($A348<VLOOKUP(O$5,NFI,5,0),1,0)*Table_NFI[[#This Row],[Complementary Kit]],Table_NFI[Complementary Kit])","v":7},{"$f":"IF(NFI_Expiration=1,IF($A348<VLOOKUP(P$5,NFI,5,0),1,0)*Table_NFI[[#This Row],[Plastic Bucket]],Table_NFI[Plastic Bucket])","v":7},{"$f":"IF(NFI_Expiration=1,IF($A348<VLOOKUP(Q$5,NFI,5,0),1,0)*Table_NFI[[#This Row],[Plastic Mat]],Table_NFI[Plastic Mat])","v":7},{"$f":"IFERROR(VLOOKUP(Table_NFI[[#This Row],[Camp Name]],CL,2,0),\"\")","v":"MMR001CMP046"},{"$f":"IFERROR(VLOOKUP(Table_NFI[[#This Row],[Camp Name]],CL,3,0),\"\")","v":"Open"},{"$f":"IFERROR(Table_NFI[[#This Row],[Kitchen Set]]/VLOOKUP(Table_NFI[[#This Row],[Camp Name]],CL,4,0),\"\")","v":2.7450980392156862E-2}]
[10.333333333333334,"2013-02-25","UNHCR","Chipwe CM","Kachin","Chipwi","Lhaovao Baptist Church (LBC)",null,null,12,17,7,17,7,7,7,7,{"$f":"IF(NFI_Expiration=1,IF($A349<VLOOKUP(H$5,NFI,5,0),1,0)*Table_NFI[[#This Row],[Hygiene Kit]],Table_NFI[Hygiene Kit])","v":0},{"$f":"IF(NFI_Expiration=1,IF($A349<VLOOKUP(I$5,NFI,5,0),1,0)*Table_NFI[[#This Row],[NFI Core Kit]],Table_NFI[NFI Core Kit])","v":0},{"$f":"IF(NFI_Expiration=1,IF($A349<VLOOKUP(J$5,NFI,5,0),1,0)*Table_NFI[[#This Row],[Sanitary Kit]],Table_NFI[Sanitary Kit])","v":12},{"$f":"IF(NFI_Expiration=1,IF($A349<VLOOKUP(K$5,NFI,5,0),1,0)*Table_NFI[[#This Row],[Mosquito net]],Table_NFI[Mosquito net])","v":17},{"$f":"IF(NFI_Expiration=1,IF($A349<VLOOKUP(L$5,NFI,5,0),1,0)*Table_NFI[[#This Row],[Tarpaulin]],Table_NFI[[#This Row],[Tarpaulin]])","v":7},{"$f":"IF(NFI_Expiration=1,IF($A349<VLOOKUP(M$5,NFI,5,0),1,0)*Table_NFI[[#This Row],[Blanket]],Table_NFI[[#This Row],[Blanket]])","v":17},{"$f":"IF(NFI_Expiration=1,IF($A349<VLOOKUP(N$5,NFI,5,0),1,0)*Table_NFI[[#This Row],[Kitchen Set]],Table_NFI[Kitchen Set])","v":7},{"$f":"IF(NFI_Expiration=1,IF($A349<VLOOKUP(O$5,NFI,5,0),1,0)*Table_NFI[[#This Row],[Complementary Kit]],Table_NFI[Complementary Kit])","v":7},{"$f":"IF(NFI_Expiration=1,IF($A349<VLOOKUP(P$5,NFI,5,0),1,0)*Table_NFI[[#This Row],[Plastic Bucket]],Table_NFI[Plastic Bucket])","v":7},{"$f":"IF(NFI_Expiration=1,IF($A349<VLOOKUP(Q$5,NFI,5,0),1,0)*Table_NFI[[#This Row],[Plastic Mat]],Table_NFI[Plastic Mat])","v":7},{"$f":"IFERROR(VLOOKUP(Table_NFI[[#This Row],[Camp Name]],CL,2,0),\"\")","v":"MMR001CMP195"},{"$f":"IFERROR(VLOOKUP(Table_NFI[[#This Row],[Camp Name]],CL,3,0),\"\")","v":"Open"},{"$f":"IFERROR(Table_NFI[[#This Row],[Kitchen Set]]/VLOOKUP(Table_NFI[[#This Row],[Camp Name]],CL,4,0),\"\")","v":5.1094890510948905E-2}]
[10.3,"2013-02-26","MRCS","MRCS","Kachin","Myitkyina","Jan Mai Kawng Catholic Church",null,null,99,null,99,null,null,null,0,0,{"$f":"IF(NFI_Expiration=1,IF($A350<VLOOKUP(H$5,NFI,5,0),1,0)*Table_NFI[[#This Row],[Hygiene Kit]],Table_NFI[Hygiene Kit])","v":0},{"$f":"IF(NFI_Expiration=1,IF($A350<VLOOKUP(I$5,NFI,5,0),1,0)*Table_NFI[[#This Row],[NFI Core Kit]],Table_NFI[NFI Core Kit])","v":0},{"$f":"IF(NFI_Expiration=1,IF($A350<VLOOKUP(J$5,NFI,5,0),1,0)*Table_NFI[[#This Row],[Sanitary Kit]],Table_NFI[Sanitary Kit])","v":99},{"$f":"IF(NFI_Expiration=1,IF($A350<VLOOKUP(K$5,NFI,5,0),1,0)*Table_NFI[[#This Row],[Mosquito net]],Table_NFI[Mosquito net])","v":0},{"$f":"IF(NFI_Expiration=1,IF($A350<VLOOKUP(L$5,NFI,5,0),1,0)*Table_NFI[[#This Row],[Tarpaulin]],Table_NFI[[#This Row],[Tarpaulin]])","v":99},{"$f":"IF(NFI_Expiration=1,IF($A350<VLOOKUP(M$5,NFI,5,0),1,0)*Table_NFI[[#This Row],[Blanket]],Table_NFI[[#This Row],[Blanket]])","v":0},{"$f":"IF(NFI_Expiration=1,IF($A350<VLOOKUP(N$5,NFI,5,0),1,0)*Table_NFI[[#This Row],[Kitchen Set]],Table_NFI[Kitchen Set])","v":0},{"$f":"IF(NFI_Expiration=1,IF($A350<VLOOKUP(O$5,NFI,5,0),1,0)*Table_NFI[[#This Row],[Complementary Kit]],Table_NFI[Complementary Kit])","v":0},{"$f":"IF(NFI_Expiration=1,IF($A350<VLOOKUP(P$5,NFI,5,0),1,0)*Table_NFI[[#This Row],[Plastic Bucket]],Table_NFI[Plastic Bucket])","v":0},{"$f":"IF(NFI_Expiration=1,IF($A350<VLOOKUP(Q$5,NFI,5,0),1,0)*Table_NFI[[#This Row],[Plastic Mat]],Table_NFI[Plastic Mat])","v":0},{"$f":"IFERROR(VLOOKUP(Table_NFI[[#This Row],[Camp Name]],CL,2,0),\"\")","v":"MMR001CMP019"},{"$f":"IFERROR(VLOOKUP(Table_NFI[[#This Row],[Camp Name]],CL,3,0),\"\")","v":"Open"},{"$f":"IFERROR(Table_NFI[[#This Row],[Kitchen Set]]/VLOOKUP(Table_NFI[[#This Row],[Camp Name]],CL,4,0),\"\")","v":0}]
[10.3,"2013-02-26","MRCS","MRCS","Kachin","Myitkyina","Hkat Cho ",null,null,136,null,66,null,70,null,0,0,{"$f":"IF(NFI_Expiration=1,IF($A351<VLOOKUP(H$5,NFI,5,0),1,0)*Table_NFI[[#This Row],[Hygiene Kit]],Table_NFI[Hygiene Kit])","v":0},{"$f":"IF(NFI_Expiration=1,IF($A351<VLOOKUP(I$5,NFI,5,0),1,0)*Table_NFI[[#This Row],[NFI Core Kit]],Table_NFI[NFI Core Kit])","v":0},{"$f":"IF(NFI_Expiration=1,IF($A351<VLOOKUP(J$5,NFI,5,0),1,0)*Table_NFI[[#This Row],[Sanitary Kit]],Table_NFI[Sanitary Kit])","v":136},{"$f":"IF(NFI_Expiration=1,IF($A351<VLOOKUP(K$5,NFI,5,0),1,0)*Table_NFI[[#This Row],[Mosquito net]],Table_NFI[Mosquito net])","v":0},{"$f":"IF(NFI_Expiration=1,IF($A351<VLOOKUP(L$5,NFI,5,0),1,0)*Table_NFI[[#This Row],[Tarpaulin]],Table_NFI[[#This Row],[Tarpaulin]])","v":66},{"$f":"IF(NFI_Expiration=1,IF($A351<VLOOKUP(M$5,NFI,5,0),1,0)*Table_NFI[[#This Row],[Blanket]],Table_NFI[[#This Row],[Blanket]])","v":0},{"$f":"IF(NFI_Expiration=1,IF($A351<VLOOKUP(N$5,NFI,5,0),1,0)*Table_NFI[[#This Row],[Kitchen Set]],Table_NFI[Kitchen Set])","v":70},{"$f":"IF(NFI_Expiration=1,IF($A351<VLOOKUP(O$5,NFI,5,0),1,0)*Table_NFI[[#This Row],[Complementary Kit]],Table_NFI[Complementary Kit])","v":0},{"$f":"IF(NFI_Expiration=1,IF($A351<VLOOKUP(P$5,NFI,5,0),1,0)*Table_NFI[[#This Row],[Plastic Bucket]],Table_NFI[Plastic Bucket])","v":0},{"$f":"IF(NFI_Expiration=1,IF($A351<VLOOKUP(Q$5,NFI,5,0),1,0)*Table_NFI[[#This Row],[Plastic Mat]],Table_NFI[Plastic Mat])","v":0},{"$f":"IFERROR(VLOOKUP(Table_NFI[[#This Row],[Camp Name]],CL,2,0),\"\")","v":"MMR001CMP028"},{"$f":"IFERROR(VLOOKUP(Table_NFI[[#This Row],[Camp Name]],CL,3,0),\"\")","v":"Open"},{"$f":"IFERROR(Table_NFI[[#This Row],[Kitchen Set]]/VLOOKUP(Table_NFI[[#This Row],[Camp Name]],CL,4,0),\"\")","v":0.52238805970149249}]
[10.266666666666667,"2013-02-27","UNHCR","UNHCR","Kachin","Waingmaw","Maina AG Church",null,null,23,40,18,40,18,18,18,18,{"$f":"IF(NFI_Expiration=1,IF($A352<VLOOKUP(H$5,NFI,5,0),1,0)*Table_NFI[[#This Row],[Hygiene Kit]],Table_NFI[Hygiene Kit])","v":0},{"$f":"IF(NFI_Expiration=1,IF($A352<VLOOKUP(I$5,NFI,5,0),1,0)*Table_NFI[[#This Row],[NFI Core Kit]],Table_NFI[NFI Core Kit])","v":0},{"$f":"IF(NFI_Expiration=1,IF($A352<VLOOKUP(J$5,NFI,5,0),1,0)*Table_NFI[[#This Row],[Sanitary Kit]],Table_NFI[Sanitary Kit])","v":23},{"$f":"IF(NFI_Expiration=1,IF($A352<VLOOKUP(K$5,NFI,5,0),1,0)*Table_NFI[[#This Row],[Mosquito net]],Table_NFI[Mosquito net])","v":40},{"$f":"IF(NFI_Expiration=1,IF($A352<VLOOKUP(L$5,NFI,5,0),1,0)*Table_NFI[[#This Row],[Tarpaulin]],Table_NFI[[#This Row],[Tarpaulin]])","v":18},{"$f":"IF(NFI_Expiration=1,IF($A352<VLOOKUP(M$5,NFI,5,0),1,0)*Table_NFI[[#This Row],[Blanket]],Table_NFI[[#This Row],[Blanket]])","v":40},{"$f":"IF(NFI_Expiration=1,IF($A352<VLOOKUP(N$5,NFI,5,0),1,0)*Table_NFI[[#This Row],[Kitchen Set]],Table_NFI[Kitchen Set])","v":18},{"$f":"IF(NFI_Expiration=1,IF($A352<VLOOKUP(O$5,NFI,5,0),1,0)*Table_NFI[[#This Row],[Complementary Kit]],Table_NFI[Complementary Kit])","v":18},{"$f":"IF(NFI_Expiration=1,IF($A352<VLOOKUP(P$5,NFI,5,0),1,0)*Table_NFI[[#This Row],[Plastic Bucket]],Table_NFI[Plastic Bucket])","v":18},{"$f":"IF(NFI_Expiration=1,IF($A352<VLOOKUP(Q$5,NFI,5,0),1,0)*Table_NFI[[#This Row],[Plastic Mat]],Table_NFI[Plastic Mat])","v":18},{"$f":"IFERROR(VLOOKUP(Table_NFI[[#This Row],[Camp Name]],CL,2,0),\"\")","v":"MMR001CMP031"},{"$f":"IFERROR(VLOOKUP(Table_NFI[[#This Row],[Camp Name]],CL,3,0),\"\")","v":"Open"},{"$f":"IFERROR(Table_NFI[[#This Row],[Kitchen Set]]/VLOOKUP(Table_NFI[[#This Row],[Camp Name]],CL,4,0),\"\")","v":0.1276595744680851}]
[10.266666666666667,"2013-02-27","Solidarities","Solidarities","Kachin","Mansi","Man Wing Baptist Church",595,null,740,null,null,null,null,null,0,0,{"$f":"IF(NFI_Expiration=1,IF($A353<VLOOKUP(H$5,NFI,5,0),1,0)*Table_NFI[[#This Row],[Hygiene Kit]],Table_NFI[Hygiene Kit])","v":595},{"$f":"IF(NFI_Expiration=1,IF($A353<VLOOKUP(I$5,NFI,5,0),1,0)*Table_NFI[[#This Row],[NFI Core Kit]],Table_NFI[NFI Core Kit])","v":0},{"$f":"IF(NFI_Expiration=1,IF($A353<VLOOKUP(J$5,NFI,5,0),1,0)*Table_NFI[[#This Row],[Sanitary Kit]],Table_NFI[Sanitary Kit])","v":740},{"$f":"IF(NFI_Expiration=1,IF($A353<VLOOKUP(K$5,NFI,5,0),1,0)*Table_NFI[[#This Row],[Mosquito net]],Table_NFI[Mosquito net])","v":0},{"$f":"IF(NFI_Expiration=1,IF($A353<VLOOKUP(L$5,NFI,5,0),1,0)*Table_NFI[[#This Row],[Tarpaulin]],Table_NFI[[#This Row],[Tarpaulin]])","v":0},{"$f":"IF(NFI_Expiration=1,IF($A353<VLOOKUP(M$5,NFI,5,0),1,0)*Table_NFI[[#This Row],[Blanket]],Table_NFI[[#This Row],[Blanket]])","v":0},{"$f":"IF(NFI_Expiration=1,IF($A353<VLOOKUP(N$5,NFI,5,0),1,0)*Table_NFI[[#This Row],[Kitchen Set]],Table_NFI[Kitchen Set])","v":0},{"$f":"IF(NFI_Expiration=1,IF($A353<VLOOKUP(O$5,NFI,5,0),1,0)*Table_NFI[[#This Row],[Complementary Kit]],Table_NFI[Complementary Kit])","v":0},{"$f":"IF(NFI_Expiration=1,IF($A353<VLOOKUP(P$5,NFI,5,0),1,0)*Table_NFI[[#This Row],[Plastic Bucket]],Table_NFI[Plastic Bucket])","v":0},{"$f":"IF(NFI_Expiration=1,IF($A353<VLOOKUP(Q$5,NFI,5,0),1,0)*Table_NFI[[#This Row],[Plastic Mat]],Table_NFI[Plastic Mat])","v":0},{"$f":"IFERROR(VLOOKUP(Table_NFI[[#This Row],[Camp Name]],CL,2,0),\"\")","v":"MMR001CMP133"},{"$f":"IFERROR(VLOOKUP(Table_NFI[[#This Row],[Camp Name]],CL,3,0),\"\")","v":"Open"},{"$f":"IFERROR(Table_NFI[[#This Row],[Kitchen Set]]/VLOOKUP(Table_NFI[[#This Row],[Camp Name]],CL,4,0),\"\")","v":0}]
[10.166666666666666,"2013-03-02","Solidarities","Solidarities","Kachin","Momauk","Loi Je Lisu Camp",368,null,null,null,null,null,null,null,0,0,{"$f":"IF(NFI_Expiration=1,IF($A354<VLOOKUP(H$5,NFI,5,0),1,0)*Table_NFI[[#This Row],[Hygiene Kit]],Table_NFI[Hygiene Kit])","v":368},{"$f":"IF(NFI_Expiration=1,IF($A354<VLOOKUP(I$5,NFI,5,0),1,0)*Table_NFI[[#This Row],[NFI Core Kit]],Table_NFI[NFI Core Kit])","v":0},{"$f":"IF(NFI_Expiration=1,IF($A354<VLOOKUP(J$5,NFI,5,0),1,0)*Table_NFI[[#This Row],[Sanitary Kit]],Table_NFI[Sanitary Kit])","v":0},{"$f":"IF(NFI_Expiration=1,IF($A354<VLOOKUP(K$5,NFI,5,0),1,0)*Table_NFI[[#This Row],[Mosquito net]],Table_NFI[Mosquito net])","v":0},{"$f":"IF(NFI_Expiration=1,IF($A354<VLOOKUP(L$5,NFI,5,0),1,0)*Table_NFI[[#This Row],[Tarpaulin]],Table_NFI[[#This Row],[Tarpaulin]])","v":0},{"$f":"IF(NFI_Expiration=1,IF($A354<VLOOKUP(M$5,NFI,5,0),1,0)*Table_NFI[[#This Row],[Blanket]],Table_NFI[[#This Row],[Blanket]])","v":0},{"$f":"IF(NFI_Expiration=1,IF($A354<VLOOKUP(N$5,NFI,5,0),1,0)*Table_NFI[[#This Row],[Kitchen Set]],Table_NFI[Kitchen Set])","v":0},{"$f":"IF(NFI_Expiration=1,IF($A354<VLOOKUP(O$5,NFI,5,0),1,0)*Table_NFI[[#This Row],[Complementary Kit]],Table_NFI[Complementary Kit])","v":0},{"$f":"IF(NFI_Expiration=1,IF($A354<VLOOKUP(P$5,NFI,5,0),1,0)*Table_NFI[[#This Row],[Plastic Bucket]],Table_NFI[Plastic Bucket])","v":0},{"$f":"IF(NFI_Expiration=1,IF($A354<VLOOKUP(Q$5,NFI,5,0),1,0)*Table_NFI[[#This Row],[Plastic Mat]],Table_NFI[Plastic Mat])","v":0},{"$f":"IFERROR(VLOOKUP(Table_NFI[[#This Row],[Camp Name]],CL,2,0),\"\")","v":"MMR001CMP070"},{"$f":"IFERROR(VLOOKUP(Table_NFI[[#This Row],[Camp Name]],CL,3,0),\"\")","v":"Open"},{"$f":"IFERROR(Table_NFI[[#This Row],[Kitchen Set]]/VLOOKUP(Table_NFI[[#This Row],[Camp Name]],CL,4,0),\"\")","v":0}]
[10.166666666666666,"2013-03-02","Solidarities","Solidarities","Kachin","Momauk","Loi Je Baptist Church",3,null,null,null,null,null,null,null,0,0,{"$f":"IF(NFI_Expiration=1,IF($A355<VLOOKUP(H$5,NFI,5,0),1,0)*Table_NFI[[#This Row],[Hygiene Kit]],Table_NFI[Hygiene Kit])","v":3},{"$f":"IF(NFI_Expiration=1,IF($A355<VLOOKUP(I$5,NFI,5,0),1,0)*Table_NFI[[#This Row],[NFI Core Kit]],Table_NFI[NFI Core Kit])","v":0},{"$f":"IF(NFI_Expiration=1,IF($A355<VLOOKUP(J$5,NFI,5,0),1,0)*Table_NFI[[#This Row],[Sanitary Kit]],Table_NFI[Sanitary Kit])","v":0},{"$f":"IF(NFI_Expiration=1,IF($A355<VLOOKUP(K$5,NFI,5,0),1,0)*Table_NFI[[#This Row],[Mosquito net]],Table_NFI[Mosquito net])","v":0},{"$f":"IF(NFI_Expiration=1,IF($A355<VLOOKUP(L$5,NFI,5,0),1,0)*Table_NFI[[#This Row],[Tarpaulin]],Table_NFI[[#This Row],[Tarpaulin]])","v":0},{"$f":"IF(NFI_Expiration=1,IF($A355<VLOOKUP(M$5,NFI,5,0),1,0)*Table_NFI[[#This Row],[Blanket]],Table_NFI[[#This Row],[Blanket]])","v":0},{"$f":"IF(NFI_Expiration=1,IF($A355<VLOOKUP(N$5,NFI,5,0),1,0)*Table_NFI[[#This Row],[Kitchen Set]],Table_NFI[Kitchen Set])","v":0},{"$f":"IF(NFI_Expiration=1,IF($A355<VLOOKUP(O$5,NFI,5,0),1,0)*Table_NFI[[#This Row],[Complementary Kit]],Table_NFI[Complementary Kit])","v":0},{"$f":"IF(NFI_Expiration=1,IF($A355<VLOOKUP(P$5,NFI,5,0),1,0)*Table_NFI[[#This Row],[Plastic Bucket]],Table_NFI[Plastic Bucket])","v":0},{"$f":"IF(NFI_Expiration=1,IF($A355<VLOOKUP(Q$5,NFI,5,0),1,0)*Table_NFI[[#This Row],[Plastic Mat]],Table_NFI[Plastic Mat])","v":0},{"$f":"IFERROR(VLOOKUP(Table_NFI[[#This Row],[Camp Name]],CL,2,0),\"\")","v":"MMR001CMP071"},{"$f":"IFERROR(VLOOKUP(Table_NFI[[#This Row],[Camp Name]],CL,3,0),\"\")","v":"Open"},{"$f":"IFERROR(Table_NFI[[#This Row],[Kitchen Set]]/VLOOKUP(Table_NFI[[#This Row],[Camp Name]],CL,4,0),\"\")","v":0}]
[10.166666666666666,"2013-03-02","Solidarities","Solidarities","Kachin","Mansi","Man Wing Catholic Church",1542,null,1800,null,null,null,null,null,0,0,{"$f":"IF(NFI_Expiration=1,IF($A356<VLOOKUP(H$5,NFI,5,0),1,0)*Table_NFI[[#This Row],[Hygiene Kit]],Table_NFI[Hygiene Kit])","v":1542},{"$f":"IF(NFI_Expiration=1,IF($A356<VLOOKUP(I$5,NFI,5,0),1,0)*Table_NFI[[#This Row],[NFI Core Kit]],Table_NFI[NFI Core Kit])","v":0},{"$f":"IF(NFI_Expiration=1,IF($A356<VLOOKUP(J$5,NFI,5,0),1,0)*Table_NFI[[#This Row],[Sanitary Kit]],Table_NFI[Sanitary Kit])","v":1800},{"$f":"IF(NFI_Expiration=1,IF($A356<VLOOKUP(K$5,NFI,5,0),1,0)*Table_NFI[[#This Row],[Mosquito net]],Table_NFI[Mosquito net])","v":0},{"$f":"IF(NFI_Expiration=1,IF($A356<VLOOKUP(L$5,NFI,5,0),1,0)*Table_NFI[[#This Row],[Tarpaulin]],Table_NFI[[#This Row],[Tarpaulin]])","v":0},{"$f":"IF(NFI_Expiration=1,IF($A356<VLOOKUP(M$5,NFI,5,0),1,0)*Table_NFI[[#This Row],[Blanket]],Table_NFI[[#This Row],[Blanket]])","v":0},{"$f":"IF(NFI_Expiration=1,IF($A356<VLOOKUP(N$5,NFI,5,0),1,0)*Table_NFI[[#This Row],[Kitchen Set]],Table_NFI[Kitchen Set])","v":0},{"$f":"IF(NFI_Expiration=1,IF($A356<VLOOKUP(O$5,NFI,5,0),1,0)*Table_NFI[[#This Row],[Complementary Kit]],Table_NFI[Complementary Kit])","v":0},{"$f":"IF(NFI_Expiration=1,IF($A356<VLOOKUP(P$5,NFI,5,0),1,0)*Table_NFI[[#This Row],[Plastic Bucket]],Table_NFI[Plastic Bucket])","v":0},{"$f":"IF(NFI_Expiration=1,IF($A356<VLOOKUP(Q$5,NFI,5,0),1,0)*Table_NFI[[#This Row],[Plastic Mat]],Table_NFI[Plastic Mat])","v":0},{"$f":"IFERROR(VLOOKUP(Table_NFI[[#This Row],[Camp Name]],CL,2,0),\"\")","v":"MMR001CMP132"},{"$f":"IFERROR(VLOOKUP(Table_NFI[[#This Row],[Camp Name]],CL,3,0),\"\")","v":"Open"},{"$f":"IFERROR(Table_NFI[[#This Row],[Kitchen Set]]/VLOOKUP(Table_NFI[[#This Row],[Camp Name]],CL,4,0),\"\")","v":0}]
[10.133333333333333,"2013-03-03","Solidarities","Solidarities","Kachin","Momauk","Seng Ja ",33,null,null,null,null,null,null,null,0,0,{"$f":"IF(NFI_Expiration=1,IF($A357<VLOOKUP(H$5,NFI,5,0),1,0)*Table_NFI[[#This Row],[Hygiene Kit]],Table_NFI[Hygiene Kit])","v":33},{"$f":"IF(NFI_Expiration=1,IF($A357<VLOOKUP(I$5,NFI,5,0),1,0)*Table_NFI[[#This Row],[NFI Core Kit]],Table_NFI[NFI Core Kit])","v":0},{"$f":"IF(NFI_Expiration=1,IF($A357<VLOOKUP(J$5,NFI,5,0),1,0)*Table_NFI[[#This Row],[Sanitary Kit]],Table_NFI[Sanitary Kit])","v":0},{"$f":"IF(NFI_Expiration=1,IF($A357<VLOOKUP(K$5,NFI,5,0),1,0)*Table_NFI[[#This Row],[Mosquito net]],Table_NFI[Mosquito net])","v":0},{"$f":"IF(NFI_Expiration=1,IF($A357<VLOOKUP(L$5,NFI,5,0),1,0)*Table_NFI[[#This Row],[Tarpaulin]],Table_NFI[[#This Row],[Tarpaulin]])","v":0},{"$f":"IF(NFI_Expiration=1,IF($A357<VLOOKUP(M$5,NFI,5,0),1,0)*Table_NFI[[#This Row],[Blanket]],Table_NFI[[#This Row],[Blanket]])","v":0},{"$f":"IF(NFI_Expiration=1,IF($A357<VLOOKUP(N$5,NFI,5,0),1,0)*Table_NFI[[#This Row],[Kitchen Set]],Table_NFI[Kitchen Set])","v":0},{"$f":"IF(NFI_Expiration=1,IF($A357<VLOOKUP(O$5,NFI,5,0),1,0)*Table_NFI[[#This Row],[Complementary Kit]],Table_NFI[Complementary Kit])","v":0},{"$f":"IF(NFI_Expiration=1,IF($A357<VLOOKUP(P$5,NFI,5,0),1,0)*Table_NFI[[#This Row],[Plastic Bucket]],Table_NFI[Plastic Bucket])","v":0},{"$f":"IF(NFI_Expiration=1,IF($A357<VLOOKUP(Q$5,NFI,5,0),1,0)*Table_NFI[[#This Row],[Plastic Mat]],Table_NFI[Plastic Mat])","v":0},{"$f":"IFERROR(VLOOKUP(Table_NFI[[#This Row],[Camp Name]],CL,2,0),\"\")","v":"MMR001CMP073"},{"$f":"IFERROR(VLOOKUP(Table_NFI[[#This Row],[Camp Name]],CL,3,0),\"\")","v":"Open"},{"$f":"IFERROR(Table_NFI[[#This Row],[Kitchen Set]]/VLOOKUP(Table_NFI[[#This Row],[Camp Name]],CL,4,0),\"\")","v":0}]
[10.033333333333333,"2013-03-06","UNHCR","UNHCR","Kachin","Waingmaw","Qtr. 2 Lhaovo Baptist Church",null,null,6,11,5,11,5,5,5,5,{"$f":"IF(NFI_Expiration=1,IF($A358<VLOOKUP(H$5,NFI,5,0),1,0)*Table_NFI[[#This Row],[Hygiene Kit]],Table_NFI[Hygiene Kit])","v":0},{"$f":"IF(NFI_Expiration=1,IF($A358<VLOOKUP(I$5,NFI,5,0),1,0)*Table_NFI[[#This Row],[NFI Core Kit]],Table_NFI[NFI Core Kit])","v":0},{"$f":"IF(NFI_Expiration=1,IF($A358<VLOOKUP(J$5,NFI,5,0),1,0)*Table_NFI[[#This Row],[Sanitary Kit]],Table_NFI[Sanitary Kit])","v":6},{"$f":"IF(NFI_Expiration=1,IF($A358<VLOOKUP(K$5,NFI,5,0),1,0)*Table_NFI[[#This Row],[Mosquito net]],Table_NFI[Mosquito net])","v":11},{"$f":"IF(NFI_Expiration=1,IF($A358<VLOOKUP(L$5,NFI,5,0),1,0)*Table_NFI[[#This Row],[Tarpaulin]],Table_NFI[[#This Row],[Tarpaulin]])","v":5},{"$f":"IF(NFI_Expiration=1,IF($A358<VLOOKUP(M$5,NFI,5,0),1,0)*Table_NFI[[#This Row],[Blanket]],Table_NFI[[#This Row],[Blanket]])","v":11},{"$f":"IF(NFI_Expiration=1,IF($A358<VLOOKUP(N$5,NFI,5,0),1,0)*Table_NFI[[#This Row],[Kitchen Set]],Table_NFI[Kitchen Set])","v":5},{"$f":"IF(NFI_Expiration=1,IF($A358<VLOOKUP(O$5,NFI,5,0),1,0)*Table_NFI[[#This Row],[Complementary Kit]],Table_NFI[Complementary Kit])","v":5},{"$f":"IF(NFI_Expiration=1,IF($A358<VLOOKUP(P$5,NFI,5,0),1,0)*Table_NFI[[#This Row],[Plastic Bucket]],Table_NFI[Plastic Bucket])","v":5},{"$f":"IF(NFI_Expiration=1,IF($A358<VLOOKUP(Q$5,NFI,5,0),1,0)*Table_NFI[[#This Row],[Plastic Mat]],Table_NFI[Plastic Mat])","v":5},{"$f":"IFERROR(VLOOKUP(Table_NFI[[#This Row],[Camp Name]],CL,2,0),\"\")","v":"MMR001CMP032"},{"$f":"IFERROR(VLOOKUP(Table_NFI[[#This Row],[Camp Name]],CL,3,0),\"\")","v":"Open"},{"$f":"IFERROR(Table_NFI[[#This Row],[Kitchen Set]]/VLOOKUP(Table_NFI[[#This Row],[Camp Name]],CL,4,0),\"\")","v":4.1666666666666664E-2}]
[10.033333333333333,"2013-03-06","UNHCR","UNHCR","Kachin","Waingmaw","Maina KBC (Bawng Ring)",null,null,34,73,38,73,38,33,33,33,{"$f":"IF(NFI_Expiration=1,IF($A359<VLOOKUP(H$5,NFI,5,0),1,0)*Table_NFI[[#This Row],[Hygiene Kit]],Table_NFI[Hygiene Kit])","v":0},{"$f":"IF(NFI_Expiration=1,IF($A359<VLOOKUP(I$5,NFI,5,0),1,0)*Table_NFI[[#This Row],[NFI Core Kit]],Table_NFI[NFI Core Kit])","v":0},{"$f":"IF(NFI_Expiration=1,IF($A359<VLOOKUP(J$5,NFI,5,0),1,0)*Table_NFI[[#This Row],[Sanitary Kit]],Table_NFI[Sanitary Kit])","v":34},{"$f":"IF(NFI_Expiration=1,IF($A359<VLOOKUP(K$5,NFI,5,0),1,0)*Table_NFI[[#This Row],[Mosquito net]],Table_NFI[Mosquito net])","v":73},{"$f":"IF(NFI_Expiration=1,IF($A359<VLOOKUP(L$5,NFI,5,0),1,0)*Table_NFI[[#This Row],[Tarpaulin]],Table_NFI[[#This Row],[Tarpaulin]])","v":38},{"$f":"IF(NFI_Expiration=1,IF($A359<VLOOKUP(M$5,NFI,5,0),1,0)*Table_NFI[[#This Row],[Blanket]],Table_NFI[[#This Row],[Blanket]])","v":73},{"$f":"IF(NFI_Expiration=1,IF($A359<VLOOKUP(N$5,NFI,5,0),1,0)*Table_NFI[[#This Row],[Kitchen Set]],Table_NFI[Kitchen Set])","v":38},{"$f":"IF(NFI_Expiration=1,IF($A359<VLOOKUP(O$5,NFI,5,0),1,0)*Table_NFI[[#This Row],[Complementary Kit]],Table_NFI[Complementary Kit])","v":33},{"$f":"IF(NFI_Expiration=1,IF($A359<VLOOKUP(P$5,NFI,5,0),1,0)*Table_NFI[[#This Row],[Plastic Bucket]],Table_NFI[Plastic Bucket])","v":33},{"$f":"IF(NFI_Expiration=1,IF($A359<VLOOKUP(Q$5,NFI,5,0),1,0)*Table_NFI[[#This Row],[Plastic Mat]],Table_NFI[Plastic Mat])","v":33},{"$f":"IFERROR(VLOOKUP(Table_NFI[[#This Row],[Camp Name]],CL,2,0),\"\")","v":"MMR001CMP040"},{"$f":"IFERROR(VLOOKUP(Table_NFI[[#This Row],[Camp Name]],CL,3,0),\"\")","v":"Open"},{"$f":"IFERROR(Table_NFI[[#This Row],[Kitchen Set]]/VLOOKUP(Table_NFI[[#This Row],[Camp Name]],CL,4,0),\"\")","v":9.0476190476190474E-2}]
[9.5666666666666664,"2013-03-20","UNHCR","UNHCR","Kachin","Hpakant","Maw Wan, Kachin Baptist Church",null,null,18,17,17,42,17,42,42,42,{"$f":"IF(NFI_Expiration=1,IF($A360<VLOOKUP(H$5,NFI,5,0),1,0)*Table_NFI[[#This Row],[Hygiene Kit]],Table_NFI[Hygiene Kit])","v":0},{"$f":"IF(NFI_Expiration=1,IF($A360<VLOOKUP(I$5,NFI,5,0),1,0)*Table_NFI[[#This Row],[NFI Core Kit]],Table_NFI[NFI Core Kit])","v":0},{"$f":"IF(NFI_Expiration=1,IF($A360<VLOOKUP(J$5,NFI,5,0),1,0)*Table_NFI[[#This Row],[Sanitary Kit]],Table_NFI[Sanitary Kit])","v":18},{"$f":"IF(NFI_Expiration=1,IF($A360<VLOOKUP(K$5,NFI,5,0),1,0)*Table_NFI[[#This Row],[Mosquito net]],Table_NFI[Mosquito net])","v":17},{"$f":"IF(NFI_Expiration=1,IF($A360<VLOOKUP(L$5,NFI,5,0),1,0)*Table_NFI[[#This Row],[Tarpaulin]],Table_NFI[[#This Row],[Tarpaulin]])","v":17},{"$f":"IF(NFI_Expiration=1,IF($A360<VLOOKUP(M$5,NFI,5,0),1,0)*Table_NFI[[#This Row],[Blanket]],Table_NFI[[#This Row],[Blanket]])","v":42},{"$f":"IF(NFI_Expiration=1,IF($A360<VLOOKUP(N$5,NFI,5,0),1,0)*Table_NFI[[#This Row],[Kitchen Set]],Table_NFI[Kitchen Set])","v":17},{"$f":"IF(NFI_Expiration=1,IF($A360<VLOOKUP(O$5,NFI,5,0),1,0)*Table_NFI[[#This Row],[Complementary Kit]],Table_NFI[Complementary Kit])","v":42},{"$f":"IF(NFI_Expiration=1,IF($A360<VLOOKUP(P$5,NFI,5,0),1,0)*Table_NFI[[#This Row],[Plastic Bucket]],Table_NFI[Plastic Bucket])","v":42},{"$f":"IF(NFI_Expiration=1,IF($A360<VLOOKUP(Q$5,NFI,5,0),1,0)*Table_NFI[[#This Row],[Plastic Mat]],Table_NFI[Plastic Mat])","v":42},{"$f":"IFERROR(VLOOKUP(Table_NFI[[#This Row],[Camp Name]],CL,2,0),\"\")","v":"MMR001CMP085"},{"$f":"IFERROR(VLOOKUP(Table_NFI[[#This Row],[Camp Name]],CL,3,0),\"\")","v":"Closed"},{"$f":"IFERROR(Table_NFI[[#This Row],[Kitchen Set]]/VLOOKUP(Table_NFI[[#This Row],[Camp Name]],CL,4,0),\"\")","v":""}]
[9.5666666666666664,"2013-03-20","UNHCR","UNHCR","Kachin","Hpakant","Chin(Zomi) Baptist Church",null,null,9,6,6,15,6,15,15,15,{"$f":"IF(NFI_Expiration=1,IF($A361<VLOOKUP(H$5,NFI,5,0),1,0)*Table_NFI[[#This Row],[Hygiene Kit]],Table_NFI[Hygiene Kit])","v":0},{"$f":"IF(NFI_Expiration=1,IF($A361<VLOOKUP(I$5,NFI,5,0),1,0)*Table_NFI[[#This Row],[NFI Core Kit]],Table_NFI[NFI Core Kit])","v":0},{"$f":"IF(NFI_Expiration=1,IF($A361<VLOOKUP(J$5,NFI,5,0),1,0)*Table_NFI[[#This Row],[Sanitary Kit]],Table_NFI[Sanitary Kit])","v":9},{"$f":"IF(NFI_Expiration=1,IF($A361<VLOOKUP(K$5,NFI,5,0),1,0)*Table_NFI[[#This Row],[Mosquito net]],Table_NFI[Mosquito net])","v":6},{"$f":"IF(NFI_Expiration=1,IF($A361<VLOOKUP(L$5,NFI,5,0),1,0)*Table_NFI[[#This Row],[Tarpaulin]],Table_NFI[[#This Row],[Tarpaulin]])","v":6},{"$f":"IF(NFI_Expiration=1,IF($A361<VLOOKUP(M$5,NFI,5,0),1,0)*Table_NFI[[#This Row],[Blanket]],Table_NFI[[#This Row],[Blanket]])","v":15},{"$f":"IF(NFI_Expiration=1,IF($A361<VLOOKUP(N$5,NFI,5,0),1,0)*Table_NFI[[#This Row],[Kitchen Set]],Table_NFI[Kitchen Set])","v":6},{"$f":"IF(NFI_Expiration=1,IF($A361<VLOOKUP(O$5,NFI,5,0),1,0)*Table_NFI[[#This Row],[Complementary Kit]],Table_NFI[Complementary Kit])","v":15},{"$f":"IF(NFI_Expiration=1,IF($A361<VLOOKUP(P$5,NFI,5,0),1,0)*Table_NFI[[#This Row],[Plastic Bucket]],Table_NFI[Plastic Bucket])","v":15},{"$f":"IF(NFI_Expiration=1,IF($A361<VLOOKUP(Q$5,NFI,5,0),1,0)*Table_NFI[[#This Row],[Plastic Mat]],Table_NFI[Plastic Mat])","v":15},{"$f":"IFERROR(VLOOKUP(Table_NFI[[#This Row],[Camp Name]],CL,2,0),\"\")","v":"MMR001CMP086"},{"$f":"IFERROR(VLOOKUP(Table_NFI[[#This Row],[Camp Name]],CL,3,0),\"\")","v":"Closed"},{"$f":"IFERROR(Table_NFI[[#This Row],[Kitchen Set]]/VLOOKUP(Table_NFI[[#This Row],[Camp Name]],CL,4,0),\"\")","v":""}]
[9.5666666666666664,"2013-03-20","UNHCR","UNHCR","Kachin","Hpakant","Maw Wan, Mu-yin Baptist Church",null,null,17,17,17,41,17,41,41,41,{"$f":"IF(NFI_Expiration=1,IF($A362<VLOOKUP(H$5,NFI,5,0),1,0)*Table_NFI[[#This Row],[Hygiene Kit]],Table_NFI[Hygiene Kit])","v":0},{"$f":"IF(NFI_Expiration=1,IF($A362<VLOOKUP(I$5,NFI,5,0),1,0)*Table_NFI[[#This Row],[NFI Core Kit]],Table_NFI[NFI Core Kit])","v":0},{"$f":"IF(NFI_Expiration=1,IF($A362<VLOOKUP(J$5,NFI,5,0),1,0)*Table_NFI[[#This Row],[Sanitary Kit]],Table_NFI[Sanitary Kit])","v":17},{"$f":"IF(NFI_Expiration=1,IF($A362<VLOOKUP(K$5,NFI,5,0),1,0)*Table_NFI[[#This Row],[Mosquito net]],Table_NFI[Mosquito net])","v":17},{"$f":"IF(NFI_Expiration=1,IF($A362<VLOOKUP(L$5,NFI,5,0),1,0)*Table_NFI[[#This Row],[Tarpaulin]],Table_NFI[[#This Row],[Tarpaulin]])","v":17},{"$f":"IF(NFI_Expiration=1,IF($A362<VLOOKUP(M$5,NFI,5,0),1,0)*Table_NFI[[#This Row],[Blanket]],Table_NFI[[#This Row],[Blanket]])","v":41},{"$f":"IF(NFI_Expiration=1,IF($A362<VLOOKUP(N$5,NFI,5,0),1,0)*Table_NFI[[#This Row],[Kitchen Set]],Table_NFI[Kitchen Set])","v":17},{"$f":"IF(NFI_Expiration=1,IF($A362<VLOOKUP(O$5,NFI,5,0),1,0)*Table_NFI[[#This Row],[Complementary Kit]],Table_NFI[Complementary Kit])","v":41},{"$f":"IF(NFI_Expiration=1,IF($A362<VLOOKUP(P$5,NFI,5,0),1,0)*Table_NFI[[#This Row],[Plastic Bucket]],Table_NFI[Plastic Bucket])","v":41},{"$f":"IF(NFI_Expiration=1,IF($A362<VLOOKUP(Q$5,NFI,5,0),1,0)*Table_NFI[[#This Row],[Plastic Mat]],Table_NFI[Plastic Mat])","v":41},{"$f":"IFERROR(VLOOKUP(Table_NFI[[#This Row],[Camp Name]],CL,2,0),\"\")","v":"MMR001CMP091"},{"$f":"IFERROR(VLOOKUP(Table_NFI[[#This Row],[Camp Name]],CL,3,0),\"\")","v":"Open"},{"$f":"IFERROR(Table_NFI[[#This Row],[Kitchen Set]]/VLOOKUP(Table_NFI[[#This Row],[Camp Name]],CL,4,0),\"\")","v":4.25}]
[9.5666666666666664,"2013-03-20","UNHCR","UNHCR","Kachin","Hpakant","Chin Church, Seik Mu",null,null,3,8,8,15,8,15,15,15,{"$f":"IF(NFI_Expiration=1,IF($A363<VLOOKUP(H$5,NFI,5,0),1,0)*Table_NFI[[#This Row],[Hygiene Kit]],Table_NFI[Hygiene Kit])","v":0},{"$f":"IF(NFI_Expiration=1,IF($A363<VLOOKUP(I$5,NFI,5,0),1,0)*Table_NFI[[#This Row],[NFI Core Kit]],Table_NFI[NFI Core Kit])","v":0},{"$f":"IF(NFI_Expiration=1,IF($A363<VLOOKUP(J$5,NFI,5,0),1,0)*Table_NFI[[#This Row],[Sanitary Kit]],Table_NFI[Sanitary Kit])","v":3},{"$f":"IF(NFI_Expiration=1,IF($A363<VLOOKUP(K$5,NFI,5,0),1,0)*Table_NFI[[#This Row],[Mosquito net]],Table_NFI[Mosquito net])","v":8},{"$f":"IF(NFI_Expiration=1,IF($A363<VLOOKUP(L$5,NFI,5,0),1,0)*Table_NFI[[#This Row],[Tarpaulin]],Table_NFI[[#This Row],[Tarpaulin]])","v":8},{"$f":"IF(NFI_Expiration=1,IF($A363<VLOOKUP(M$5,NFI,5,0),1,0)*Table_NFI[[#This Row],[Blanket]],Table_NFI[[#This Row],[Blanket]])","v":15},{"$f":"IF(NFI_Expiration=1,IF($A363<VLOOKUP(N$5,NFI,5,0),1,0)*Table_NFI[[#This Row],[Kitchen Set]],Table_NFI[Kitchen Set])","v":8},{"$f":"IF(NFI_Expiration=1,IF($A363<VLOOKUP(O$5,NFI,5,0),1,0)*Table_NFI[[#This Row],[Complementary Kit]],Table_NFI[Complementary Kit])","v":15},{"$f":"IF(NFI_Expiration=1,IF($A363<VLOOKUP(P$5,NFI,5,0),1,0)*Table_NFI[[#This Row],[Plastic Bucket]],Table_NFI[Plastic Bucket])","v":15},{"$f":"IF(NFI_Expiration=1,IF($A363<VLOOKUP(Q$5,NFI,5,0),1,0)*Table_NFI[[#This Row],[Plastic Mat]],Table_NFI[Plastic Mat])","v":15},{"$f":"IFERROR(VLOOKUP(Table_NFI[[#This Row],[Camp Name]],CL,2,0),\"\")","v":"MMR001CMP109"},{"$f":"IFERROR(VLOOKUP(Table_NFI[[#This Row],[Camp Name]],CL,3,0),\"\")","v":"Open"},{"$f":"IFERROR(Table_NFI[[#This Row],[Kitchen Set]]/VLOOKUP(Table_NFI[[#This Row],[Camp Name]],CL,4,0),\"\")","v":2}]
[9.5666666666666664,"2013-03-20","UNHCR","UNHCR","Kachin","Hpakant","Lisu Baptist Church, Maw Wan Ward",null,null,32,27,27,66,27,66,66,66,{"$f":"IF(NFI_Expiration=1,IF($A364<VLOOKUP(H$5,NFI,5,0),1,0)*Table_NFI[[#This Row],[Hygiene Kit]],Table_NFI[Hygiene Kit])","v":0},{"$f":"IF(NFI_Expiration=1,IF($A364<VLOOKUP(I$5,NFI,5,0),1,0)*Table_NFI[[#This Row],[NFI Core Kit]],Table_NFI[NFI Core Kit])","v":0},{"$f":"IF(NFI_Expiration=1,IF($A364<VLOOKUP(J$5,NFI,5,0),1,0)*Table_NFI[[#This Row],[Sanitary Kit]],Table_NFI[Sanitary Kit])","v":32},{"$f":"IF(NFI_Expiration=1,IF($A364<VLOOKUP(K$5,NFI,5,0),1,0)*Table_NFI[[#This Row],[Mosquito net]],Table_NFI[Mosquito net])","v":27},{"$f":"IF(NFI_Expiration=1,IF($A364<VLOOKUP(L$5,NFI,5,0),1,0)*Table_NFI[[#This Row],[Tarpaulin]],Table_NFI[[#This Row],[Tarpaulin]])","v":27},{"$f":"IF(NFI_Expiration=1,IF($A364<VLOOKUP(M$5,NFI,5,0),1,0)*Table_NFI[[#This Row],[Blanket]],Table_NFI[[#This Row],[Blanket]])","v":66},{"$f":"IF(NFI_Expiration=1,IF($A364<VLOOKUP(N$5,NFI,5,0),1,0)*Table_NFI[[#This Row],[Kitchen Set]],Table_NFI[Kitchen Set])","v":27},{"$f":"IF(NFI_Expiration=1,IF($A364<VLOOKUP(O$5,NFI,5,0),1,0)*Table_NFI[[#This Row],[Complementary Kit]],Table_NFI[Complementary Kit])","v":66},{"$f":"IF(NFI_Expiration=1,IF($A364<VLOOKUP(P$5,NFI,5,0),1,0)*Table_NFI[[#This Row],[Plastic Bucket]],Table_NFI[Plastic Bucket])","v":66},{"$f":"IF(NFI_Expiration=1,IF($A364<VLOOKUP(Q$5,NFI,5,0),1,0)*Table_NFI[[#This Row],[Plastic Mat]],Table_NFI[Plastic Mat])","v":66},{"$f":"IFERROR(VLOOKUP(Table_NFI[[#This Row],[Camp Name]],CL,2,0),\"\")","v":"MMR001CMP167"},{"$f":"IFERROR(VLOOKUP(Table_NFI[[#This Row],[Camp Name]],CL,3,0),\"\")","v":"Open"},{"$f":"IFERROR(Table_NFI[[#This Row],[Kitchen Set]]/VLOOKUP(Table_NFI[[#This Row],[Camp Name]],CL,4,0),\"\")","v":3.375}]
[9.5666666666666664,"2013-03-20","UNHCR","UNHCR","Kachin","Hpakant","Anglican Church, Hmaw Si Sar",null,null,38,11,11,87,11,26,26,26,{"$f":"IF(NFI_Expiration=1,IF($A365<VLOOKUP(H$5,NFI,5,0),1,0)*Table_NFI[[#This Row],[Hygiene Kit]],Table_NFI[Hygiene Kit])","v":0},{"$f":"IF(NFI_Expiration=1,IF($A365<VLOOKUP(I$5,NFI,5,0),1,0)*Table_NFI[[#This Row],[NFI Core Kit]],Table_NFI[NFI Core Kit])","v":0},{"$f":"IF(NFI_Expiration=1,IF($A365<VLOOKUP(J$5,NFI,5,0),1,0)*Table_NFI[[#This Row],[Sanitary Kit]],Table_NFI[Sanitary Kit])","v":38},{"$f":"IF(NFI_Expiration=1,IF($A365<VLOOKUP(K$5,NFI,5,0),1,0)*Table_NFI[[#This Row],[Mosquito net]],Table_NFI[Mosquito net])","v":11},{"$f":"IF(NFI_Expiration=1,IF($A365<VLOOKUP(L$5,NFI,5,0),1,0)*Table_NFI[[#This Row],[Tarpaulin]],Table_NFI[[#This Row],[Tarpaulin]])","v":11},{"$f":"IF(NFI_Expiration=1,IF($A365<VLOOKUP(M$5,NFI,5,0),1,0)*Table_NFI[[#This Row],[Blanket]],Table_NFI[[#This Row],[Blanket]])","v":87},{"$f":"IF(NFI_Expiration=1,IF($A365<VLOOKUP(N$5,NFI,5,0),1,0)*Table_NFI[[#This Row],[Kitchen Set]],Table_NFI[Kitchen Set])","v":11},{"$f":"IF(NFI_Expiration=1,IF($A365<VLOOKUP(O$5,NFI,5,0),1,0)*Table_NFI[[#This Row],[Complementary Kit]],Table_NFI[Complementary Kit])","v":26},{"$f":"IF(NFI_Expiration=1,IF($A365<VLOOKUP(P$5,NFI,5,0),1,0)*Table_NFI[[#This Row],[Plastic Bucket]],Table_NFI[Plastic Bucket])","v":26},{"$f":"IF(NFI_Expiration=1,IF($A365<VLOOKUP(Q$5,NFI,5,0),1,0)*Table_NFI[[#This Row],[Plastic Mat]],Table_NFI[Plastic Mat])","v":26},{"$f":"IFERROR(VLOOKUP(Table_NFI[[#This Row],[Camp Name]],CL,2,0),\"\")","v":"MMR001CMP173"},{"$f":"IFERROR(VLOOKUP(Table_NFI[[#This Row],[Camp Name]],CL,3,0),\"\")","v":"Closed"},{"$f":"IFERROR(Table_NFI[[#This Row],[Kitchen Set]]/VLOOKUP(Table_NFI[[#This Row],[Camp Name]],CL,4,0),\"\")","v":""}]
[9.5666666666666664,"2013-03-20","UNHCR","UNHCR","Kachin","Hpakant","Wrad(5) Christian Association",null,null,34,26,26,60,26,60,60,60,{"$f":"IF(NFI_Expiration=1,IF($A366<VLOOKUP(H$5,NFI,5,0),1,0)*Table_NFI[[#This Row],[Hygiene Kit]],Table_NFI[Hygiene Kit])","v":0},{"$f":"IF(NFI_Expiration=1,IF($A366<VLOOKUP(I$5,NFI,5,0),1,0)*Table_NFI[[#This Row],[NFI Core Kit]],Table_NFI[NFI Core Kit])","v":0},{"$f":"IF(NFI_Expiration=1,IF($A366<VLOOKUP(J$5,NFI,5,0),1,0)*Table_NFI[[#This Row],[Sanitary Kit]],Table_NFI[Sanitary Kit])","v":34},{"$f":"IF(NFI_Expiration=1,IF($A366<VLOOKUP(K$5,NFI,5,0),1,0)*Table_NFI[[#This Row],[Mosquito net]],Table_NFI[Mosquito net])","v":26},{"$f":"IF(NFI_Expiration=1,IF($A366<VLOOKUP(L$5,NFI,5,0),1,0)*Table_NFI[[#This Row],[Tarpaulin]],Table_NFI[[#This Row],[Tarpaulin]])","v":26},{"$f":"IF(NFI_Expiration=1,IF($A366<VLOOKUP(M$5,NFI,5,0),1,0)*Table_NFI[[#This Row],[Blanket]],Table_NFI[[#This Row],[Blanket]])","v":60},{"$f":"IF(NFI_Expiration=1,IF($A366<VLOOKUP(N$5,NFI,5,0),1,0)*Table_NFI[[#This Row],[Kitchen Set]],Table_NFI[Kitchen Set])","v":26},{"$f":"IF(NFI_Expiration=1,IF($A366<VLOOKUP(O$5,NFI,5,0),1,0)*Table_NFI[[#This Row],[Complementary Kit]],Table_NFI[Complementary Kit])","v":60},{"$f":"IF(NFI_Expiration=1,IF($A366<VLOOKUP(P$5,NFI,5,0),1,0)*Table_NFI[[#This Row],[Plastic Bucket]],Table_NFI[Plastic Bucket])","v":60},{"$f":"IF(NFI_Expiration=1,IF($A366<VLOOKUP(Q$5,NFI,5,0),1,0)*Table_NFI[[#This Row],[Plastic Mat]],Table_NFI[Plastic Mat])","v":60},{"$f":"IFERROR(VLOOKUP(Table_NFI[[#This Row],[Camp Name]],CL,2,0),\"\")","v":"MMR001CMP175"},{"$f":"IFERROR(VLOOKUP(Table_NFI[[#This Row],[Camp Name]],CL,3,0),\"\")","v":"Closed"},{"$f":"IFERROR(Table_NFI[[#This Row],[Kitchen Set]]/VLOOKUP(Table_NFI[[#This Row],[Camp Name]],CL,4,0),\"\")","v":""}]
[9.5666666666666664,"2013-03-20","UNHCR","UNHCR","Kachin","Hpakant","Muring Baptist Church, Awng Ra, Wa Ra Zut VT",null,null,48,48,48,98,48,98,98,98,{"$f":"IF(NFI_Expiration=1,IF($A367<VLOOKUP(H$5,NFI,5,0),1,0)*Table_NFI[[#This Row],[Hygiene Kit]],Table_NFI[Hygiene Kit])","v":0},{"$f":"IF(NFI_Expiration=1,IF($A367<VLOOKUP(I$5,NFI,5,0),1,0)*Table_NFI[[#This Row],[NFI Core Kit]],Table_NFI[NFI Core Kit])","v":0},{"$f":"IF(NFI_Expiration=1,IF($A367<VLOOKUP(J$5,NFI,5,0),1,0)*Table_NFI[[#This Row],[Sanitary Kit]],Table_NFI[Sanitary Kit])","v":48},{"$f":"IF(NFI_Expiration=1,IF($A367<VLOOKUP(K$5,NFI,5,0),1,0)*Table_NFI[[#This Row],[Mosquito net]],Table_NFI[Mosquito net])","v":48},{"$f":"IF(NFI_Expiration=1,IF($A367<VLOOKUP(L$5,NFI,5,0),1,0)*Table_NFI[[#This Row],[Tarpaulin]],Table_NFI[[#This Row],[Tarpaulin]])","v":48},{"$f":"IF(NFI_Expiration=1,IF($A367<VLOOKUP(M$5,NFI,5,0),1,0)*Table_NFI[[#This Row],[Blanket]],Table_NFI[[#This Row],[Blanket]])","v":98},{"$f":"IF(NFI_Expiration=1,IF($A367<VLOOKUP(N$5,NFI,5,0),1,0)*Table_NFI[[#This Row],[Kitchen Set]],Table_NFI[Kitchen Set])","v":48},{"$f":"IF(NFI_Expiration=1,IF($A367<VLOOKUP(O$5,NFI,5,0),1,0)*Table_NFI[[#This Row],[Complementary Kit]],Table_NFI[Complementary Kit])","v":98},{"$f":"IF(NFI_Expiration=1,IF($A367<VLOOKUP(P$5,NFI,5,0),1,0)*Table_NFI[[#This Row],[Plastic Bucket]],Table_NFI[Plastic Bucket])","v":98},{"$f":"IF(NFI_Expiration=1,IF($A367<VLOOKUP(Q$5,NFI,5,0),1,0)*Table_NFI[[#This Row],[Plastic Mat]],Table_NFI[Plastic Mat])","v":98},{"$f":"IFERROR(VLOOKUP(Table_NFI[[#This Row],[Camp Name]],CL,2,0),\"\")","v":"MMR001CMP177"},{"$f":"IFERROR(VLOOKUP(Table_NFI[[#This Row],[Camp Name]],CL,3,0),\"\")","v":"Open"},{"$f":"IFERROR(Table_NFI[[#This Row],[Kitchen Set]]/VLOOKUP(Table_NFI[[#This Row],[Camp Name]],CL,4,0),\"\")","v":8}]
[9.5666666666666664,"2013-03-20","UNHCR","UNHCR","Kachin","Hpakant","Ward 2 Sai Taung Baptist Church, Seik Mu ",null,null,124,117,121,227,122,263,263,263,{"$f":"IF(NFI_Expiration=1,IF($A368<VLOOKUP(H$5,NFI,5,0),1,0)*Table_NFI[[#This Row],[Hygiene Kit]],Table_NFI[Hygiene Kit])","v":0},{"$f":"IF(NFI_Expiration=1,IF($A368<VLOOKUP(I$5,NFI,5,0),1,0)*Table_NFI[[#This Row],[NFI Core Kit]],Table_NFI[NFI Core Kit])","v":0},{"$f":"IF(NFI_Expiration=1,IF($A368<VLOOKUP(J$5,NFI,5,0),1,0)*Table_NFI[[#This Row],[Sanitary Kit]],Table_NFI[Sanitary Kit])","v":124},{"$f":"IF(NFI_Expiration=1,IF($A368<VLOOKUP(K$5,NFI,5,0),1,0)*Table_NFI[[#This Row],[Mosquito net]],Table_NFI[Mosquito net])","v":117},{"$f":"IF(NFI_Expiration=1,IF($A368<VLOOKUP(L$5,NFI,5,0),1,0)*Table_NFI[[#This Row],[Tarpaulin]],Table_NFI[[#This Row],[Tarpaulin]])","v":121},{"$f":"IF(NFI_Expiration=1,IF($A368<VLOOKUP(M$5,NFI,5,0),1,0)*Table_NFI[[#This Row],[Blanket]],Table_NFI[[#This Row],[Blanket]])","v":227},{"$f":"IF(NFI_Expiration=1,IF($A368<VLOOKUP(N$5,NFI,5,0),1,0)*Table_NFI[[#This Row],[Kitchen Set]],Table_NFI[Kitchen Set])","v":122},{"$f":"IF(NFI_Expiration=1,IF($A368<VLOOKUP(O$5,NFI,5,0),1,0)*Table_NFI[[#This Row],[Complementary Kit]],Table_NFI[Complementary Kit])","v":263},{"$f":"IF(NFI_Expiration=1,IF($A368<VLOOKUP(P$5,NFI,5,0),1,0)*Table_NFI[[#This Row],[Plastic Bucket]],Table_NFI[Plastic Bucket])","v":263},{"$f":"IF(NFI_Expiration=1,IF($A368<VLOOKUP(Q$5,NFI,5,0),1,0)*Table_NFI[[#This Row],[Plastic Mat]],Table_NFI[Plastic Mat])","v":263},{"$f":"IFERROR(VLOOKUP(Table_NFI[[#This Row],[Camp Name]],CL,2,0),\"\")","v":"MMR001CMP184"},{"$f":"IFERROR(VLOOKUP(Table_NFI[[#This Row],[Camp Name]],CL,3,0),\"\")","v":"Open"},{"$f":"IFERROR(Table_NFI[[#This Row],[Kitchen Set]]/VLOOKUP(Table_NFI[[#This Row],[Camp Name]],CL,4,0),\"\")","v":0.91044776119402981}]
[9.5666666666666664,"2013-03-20","UNHCR","UNHCR","Kachin","Hpakant","AG Church, Maw Wan",null,null,24,17,17,41,17,41,41,41,{"$f":"IF(NFI_Expiration=1,IF($A369<VLOOKUP(H$5,NFI,5,0),1,0)*Table_NFI[[#This Row],[Hygiene Kit]],Table_NFI[Hygiene Kit])","v":0},{"$f":"IF(NFI_Expiration=1,IF($A369<VLOOKUP(I$5,NFI,5,0),1,0)*Table_NFI[[#This Row],[NFI Core Kit]],Table_NFI[NFI Core Kit])","v":0},{"$f":"IF(NFI_Expiration=1,IF($A369<VLOOKUP(J$5,NFI,5,0),1,0)*Table_NFI[[#This Row],[Sanitary Kit]],Table_NFI[Sanitary Kit])","v":24},{"$f":"IF(NFI_Expiration=1,IF($A369<VLOOKUP(K$5,NFI,5,0),1,0)*Table_NFI[[#This Row],[Mosquito net]],Table_NFI[Mosquito net])","v":17},{"$f":"IF(NFI_Expiration=1,IF($A369<VLOOKUP(L$5,NFI,5,0),1,0)*Table_NFI[[#This Row],[Tarpaulin]],Table_NFI[[#This Row],[Tarpaulin]])","v":17},{"$f":"IF(NFI_Expiration=1,IF($A369<VLOOKUP(M$5,NFI,5,0),1,0)*Table_NFI[[#This Row],[Blanket]],Table_NFI[[#This Row],[Blanket]])","v":41},{"$f":"IF(NFI_Expiration=1,IF($A369<VLOOKUP(N$5,NFI,5,0),1,0)*Table_NFI[[#This Row],[Kitchen Set]],Table_NFI[Kitchen Set])","v":17},{"$f":"IF(NFI_Expiration=1,IF($A369<VLOOKUP(O$5,NFI,5,0),1,0)*Table_NFI[[#This Row],[Complementary Kit]],Table_NFI[Complementary Kit])","v":41},{"$f":"IF(NFI_Expiration=1,IF($A369<VLOOKUP(P$5,NFI,5,0),1,0)*Table_NFI[[#This Row],[Plastic Bucket]],Table_NFI[Plastic Bucket])","v":41},{"$f":"IF(NFI_Expiration=1,IF($A369<VLOOKUP(Q$5,NFI,5,0),1,0)*Table_NFI[[#This Row],[Plastic Mat]],Table_NFI[Plastic Mat])","v":41},{"$f":"IFERROR(VLOOKUP(Table_NFI[[#This Row],[Camp Name]],CL,2,0),\"\")","v":"MMR001CMP190"},{"$f":"IFERROR(VLOOKUP(Table_NFI[[#This Row],[Camp Name]],CL,3,0),\"\")","v":"Open"},{"$f":"IFERROR(Table_NFI[[#This Row],[Kitchen Set]]/VLOOKUP(Table_NFI[[#This Row],[Camp Name]],CL,4,0),\"\")","v":1.3076923076923077}]
[9.5666666666666664,"2013-03-20","UNHCR","UNHCR","Kachin","Hpakant","Zomee Baptist Church camp, Hmaw Wan",null,null,6,0,0,11,0,0,null,null,{"$f":"IF(NFI_Expiration=1,IF($A370<VLOOKUP(H$5,NFI,5,0),1,0)*Table_NFI[[#This Row],[Hygiene Kit]],Table_NFI[Hygiene Kit])","v":0},{"$f":"IF(NFI_Expiration=1,IF($A370<VLOOKUP(I$5,NFI,5,0),1,0)*Table_NFI[[#This Row],[NFI Core Kit]],Table_NFI[NFI Core Kit])","v":0},{"$f":"IF(NFI_Expiration=1,IF($A370<VLOOKUP(J$5,NFI,5,0),1,0)*Table_NFI[[#This Row],[Sanitary Kit]],Table_NFI[Sanitary Kit])","v":6},{"$f":"IF(NFI_Expiration=1,IF($A370<VLOOKUP(K$5,NFI,5,0),1,0)*Table_NFI[[#This Row],[Mosquito net]],Table_NFI[Mosquito net])","v":0},{"$f":"IF(NFI_Expiration=1,IF($A370<VLOOKUP(L$5,NFI,5,0),1,0)*Table_NFI[[#This Row],[Tarpaulin]],Table_NFI[[#This Row],[Tarpaulin]])","v":0},{"$f":"IF(NFI_Expiration=1,IF($A370<VLOOKUP(M$5,NFI,5,0),1,0)*Table_NFI[[#This Row],[Blanket]],Table_NFI[[#This Row],[Blanket]])","v":11},{"$f":"IF(NFI_Expiration=1,IF($A370<VLOOKUP(N$5,NFI,5,0),1,0)*Table_NFI[[#This Row],[Kitchen Set]],Table_NFI[Kitchen Set])","v":0},{"$f":"IF(NFI_Expiration=1,IF($A370<VLOOKUP(O$5,NFI,5,0),1,0)*Table_NFI[[#This Row],[Complementary Kit]],Table_NFI[Complementary Kit])","v":0},{"$f":"IF(NFI_Expiration=1,IF($A370<VLOOKUP(P$5,NFI,5,0),1,0)*Table_NFI[[#This Row],[Plastic Bucket]],Table_NFI[Plastic Bucket])","v":0},{"$f":"IF(NFI_Expiration=1,IF($A370<VLOOKUP(Q$5,NFI,5,0),1,0)*Table_NFI[[#This Row],[Plastic Mat]],Table_NFI[Plastic Mat])","v":0},{"$f":"IFERROR(VLOOKUP(Table_NFI[[#This Row],[Camp Name]],CL,2,0),\"\")","v":"MMR001CMP201"},{"$f":"IFERROR(VLOOKUP(Table_NFI[[#This Row],[Camp Name]],CL,3,0),\"\")","v":"Closed"},{"$f":"IFERROR(Table_NFI[[#This Row],[Kitchen Set]]/VLOOKUP(Table_NFI[[#This Row],[Camp Name]],CL,4,0),\"\")","v":""}]
[9.5333333333333332,"2013-03-21","UNHCR","UNHCR","Kachin","Hpakant","Lisu Baptist Church, Maw Shan Vil,. Seik Mu",null,null,34,40,40,75,40,75,75,75,{"$f":"IF(NFI_Expiration=1,IF($A371<VLOOKUP(H$5,NFI,5,0),1,0)*Table_NFI[[#This Row],[Hygiene Kit]],Table_NFI[Hygiene Kit])","v":0},{"$f":"IF(NFI_Expiration=1,IF($A371<VLOOKUP(I$5,NFI,5,0),1,0)*Table_NFI[[#This Row],[NFI Core Kit]],Table_NFI[NFI Core Kit])","v":0},{"$f":"IF(NFI_Expiration=1,IF($A371<VLOOKUP(J$5,NFI,5,0),1,0)*Table_NFI[[#This Row],[Sanitary Kit]],Table_NFI[Sanitary Kit])","v":34},{"$f":"IF(NFI_Expiration=1,IF($A371<VLOOKUP(K$5,NFI,5,0),1,0)*Table_NFI[[#This Row],[Mosquito net]],Table_NFI[Mosquito net])","v":40},{"$f":"IF(NFI_Expiration=1,IF($A371<VLOOKUP(L$5,NFI,5,0),1,0)*Table_NFI[[#This Row],[Tarpaulin]],Table_NFI[[#This Row],[Tarpaulin]])","v":40},{"$f":"IF(NFI_Expiration=1,IF($A371<VLOOKUP(M$5,NFI,5,0),1,0)*Table_NFI[[#This Row],[Blanket]],Table_NFI[[#This Row],[Blanket]])","v":75},{"$f":"IF(NFI_Expiration=1,IF($A371<VLOOKUP(N$5,NFI,5,0),1,0)*Table_NFI[[#This Row],[Kitchen Set]],Table_NFI[Kitchen Set])","v":40},{"$f":"IF(NFI_Expiration=1,IF($A371<VLOOKUP(O$5,NFI,5,0),1,0)*Table_NFI[[#This Row],[Complementary Kit]],Table_NFI[Complementary Kit])","v":75},{"$f":"IF(NFI_Expiration=1,IF($A371<VLOOKUP(P$5,NFI,5,0),1,0)*Table_NFI[[#This Row],[Plastic Bucket]],Table_NFI[Plastic Bucket])","v":75},{"$f":"IF(NFI_Expiration=1,IF($A371<VLOOKUP(Q$5,NFI,5,0),1,0)*Table_NFI[[#This Row],[Plastic Mat]],Table_NFI[Plastic Mat])","v":75},{"$f":"IFERROR(VLOOKUP(Table_NFI[[#This Row],[Camp Name]],CL,2,0),\"\")","v":"MMR001CMP181"},{"$f":"IFERROR(VLOOKUP(Table_NFI[[#This Row],[Camp Name]],CL,3,0),\"\")","v":"Open"},{"$f":"IFERROR(Table_NFI[[#This Row],[Kitchen Set]]/VLOOKUP(Table_NFI[[#This Row],[Camp Name]],CL,4,0),\"\")","v":1.7391304347826086}]
[9.5333333333333332,"2013-03-21","UNHCR","UNHCR","Kachin","Hpakant","Rawan Baptist Church, Maw Shan Vil., Seik Mu",null,null,15,8,8,17,8,17,17,17,{"$f":"IF(NFI_Expiration=1,IF($A372<VLOOKUP(H$5,NFI,5,0),1,0)*Table_NFI[[#This Row],[Hygiene Kit]],Table_NFI[Hygiene Kit])","v":0},{"$f":"IF(NFI_Expiration=1,IF($A372<VLOOKUP(I$5,NFI,5,0),1,0)*Table_NFI[[#This Row],[NFI Core Kit]],Table_NFI[NFI Core Kit])","v":0},{"$f":"IF(NFI_Expiration=1,IF($A372<VLOOKUP(J$5,NFI,5,0),1,0)*Table_NFI[[#This Row],[Sanitary Kit]],Table_NFI[Sanitary Kit])","v":15},{"$f":"IF(NFI_Expiration=1,IF($A372<VLOOKUP(K$5,NFI,5,0),1,0)*Table_NFI[[#This Row],[Mosquito net]],Table_NFI[Mosquito net])","v":8},{"$f":"IF(NFI_Expiration=1,IF($A372<VLOOKUP(L$5,NFI,5,0),1,0)*Table_NFI[[#This Row],[Tarpaulin]],Table_NFI[[#This Row],[Tarpaulin]])","v":8},{"$f":"IF(NFI_Expiration=1,IF($A372<VLOOKUP(M$5,NFI,5,0),1,0)*Table_NFI[[#This Row],[Blanket]],Table_NFI[[#This Row],[Blanket]])","v":17},{"$f":"IF(NFI_Expiration=1,IF($A372<VLOOKUP(N$5,NFI,5,0),1,0)*Table_NFI[[#This Row],[Kitchen Set]],Table_NFI[Kitchen Set])","v":8},{"$f":"IF(NFI_Expiration=1,IF($A372<VLOOKUP(O$5,NFI,5,0),1,0)*Table_NFI[[#This Row],[Complementary Kit]],Table_NFI[Complementary Kit])","v":17},{"$f":"IF(NFI_Expiration=1,IF($A372<VLOOKUP(P$5,NFI,5,0),1,0)*Table_NFI[[#This Row],[Plastic Bucket]],Table_NFI[Plastic Bucket])","v":17},{"$f":"IF(NFI_Expiration=1,IF($A372<VLOOKUP(Q$5,NFI,5,0),1,0)*Table_NFI[[#This Row],[Plastic Mat]],Table_NFI[Plastic Mat])","v":17},{"$f":"IFERROR(VLOOKUP(Table_NFI[[#This Row],[Camp Name]],CL,2,0),\"\")","v":"MMR001CMP182"},{"$f":"IFERROR(VLOOKUP(Table_NFI[[#This Row],[Camp Name]],CL,3,0),\"\")","v":"Open"},{"$f":"IFERROR(Table_NFI[[#This Row],[Kitchen Set]]/VLOOKUP(Table_NFI[[#This Row],[Camp Name]],CL,4,0),\"\")","v":0.61538461538461542}]
[9.2666666666666675,"2013-03-29","MRCS","MRCS","Kachin","Sumprabum","Sumprabum",null,null,6,null,null,null,6,null,0,0,{"$f":"IF(NFI_Expiration=1,IF($A373<VLOOKUP(H$5,NFI,5,0),1,0)*Table_NFI[[#This Row],[Hygiene Kit]],Table_NFI[Hygiene Kit])","v":0},{"$f":"IF(NFI_Expiration=1,IF($A373<VLOOKUP(I$5,NFI,5,0),1,0)*Table_NFI[[#This Row],[NFI Core Kit]],Table_NFI[NFI Core Kit])","v":0},{"$f":"IF(NFI_Expiration=1,IF($A373<VLOOKUP(J$5,NFI,5,0),1,0)*Table_NFI[[#This Row],[Sanitary Kit]],Table_NFI[Sanitary Kit])","v":6},{"$f":"IF(NFI_Expiration=1,IF($A373<VLOOKUP(K$5,NFI,5,0),1,0)*Table_NFI[[#This Row],[Mosquito net]],Table_NFI[Mosquito net])","v":0},{"$f":"IF(NFI_Expiration=1,IF($A373<VLOOKUP(L$5,NFI,5,0),1,0)*Table_NFI[[#This Row],[Tarpaulin]],Table_NFI[[#This Row],[Tarpaulin]])","v":0},{"$f":"IF(NFI_Expiration=1,IF($A373<VLOOKUP(M$5,NFI,5,0),1,0)*Table_NFI[[#This Row],[Blanket]],Table_NFI[[#This Row],[Blanket]])","v":0},{"$f":"IF(NFI_Expiration=1,IF($A373<VLOOKUP(N$5,NFI,5,0),1,0)*Table_NFI[[#This Row],[Kitchen Set]],Table_NFI[Kitchen Set])","v":6},{"$f":"IF(NFI_Expiration=1,IF($A373<VLOOKUP(O$5,NFI,5,0),1,0)*Table_NFI[[#This Row],[Complementary Kit]],Table_NFI[Complementary Kit])","v":0},{"$f":"IF(NFI_Expiration=1,IF($A373<VLOOKUP(P$5,NFI,5,0),1,0)*Table_NFI[[#This Row],[Plastic Bucket]],Table_NFI[Plastic Bucket])","v":0},{"$f":"IF(NFI_Expiration=1,IF($A373<VLOOKUP(Q$5,NFI,5,0),1,0)*Table_NFI[[#This Row],[Plastic Mat]],Table_NFI[Plastic Mat])","v":0},{"$f":"IFERROR(VLOOKUP(Table_NFI[[#This Row],[Camp Name]],CL,2,0),\"\")","v":"MMR001CMP206"},{"$f":"IFERROR(VLOOKUP(Table_NFI[[#This Row],[Camp Name]],CL,3,0),\"\")","v":"Open"},{"$f":"IFERROR(Table_NFI[[#This Row],[Kitchen Set]]/VLOOKUP(Table_NFI[[#This Row],[Camp Name]],CL,4,0),\"\")","v":1}]
[9.1,"2013-04-03","UNHCR","UNHCR","Kachin","Waingmaw","Maina AG Church",null,null,15,22,11,22,11,11,11,11,{"$f":"IF(NFI_Expiration=1,IF($A374<VLOOKUP(H$5,NFI,5,0),1,0)*Table_NFI[[#This Row],[Hygiene Kit]],Table_NFI[Hygiene Kit])","v":0},{"$f":"IF(NFI_Expiration=1,IF($A374<VLOOKUP(I$5,NFI,5,0),1,0)*Table_NFI[[#This Row],[NFI Core Kit]],Table_NFI[NFI Core Kit])","v":0},{"$f":"IF(NFI_Expiration=1,IF($A374<VLOOKUP(J$5,NFI,5,0),1,0)*Table_NFI[[#This Row],[Sanitary Kit]],Table_NFI[Sanitary Kit])","v":15},{"$f":"IF(NFI_Expiration=1,IF($A374<VLOOKUP(K$5,NFI,5,0),1,0)*Table_NFI[[#This Row],[Mosquito net]],Table_NFI[Mosquito net])","v":22},{"$f":"IF(NFI_Expiration=1,IF($A374<VLOOKUP(L$5,NFI,5,0),1,0)*Table_NFI[[#This Row],[Tarpaulin]],Table_NFI[[#This Row],[Tarpaulin]])","v":11},{"$f":"IF(NFI_Expiration=1,IF($A374<VLOOKUP(M$5,NFI,5,0),1,0)*Table_NFI[[#This Row],[Blanket]],Table_NFI[[#This Row],[Blanket]])","v":22},{"$f":"IF(NFI_Expiration=1,IF($A374<VLOOKUP(N$5,NFI,5,0),1,0)*Table_NFI[[#This Row],[Kitchen Set]],Table_NFI[Kitchen Set])","v":11},{"$f":"IF(NFI_Expiration=1,IF($A374<VLOOKUP(O$5,NFI,5,0),1,0)*Table_NFI[[#This Row],[Complementary Kit]],Table_NFI[Complementary Kit])","v":11},{"$f":"IF(NFI_Expiration=1,IF($A374<VLOOKUP(P$5,NFI,5,0),1,0)*Table_NFI[[#This Row],[Plastic Bucket]],Table_NFI[Plastic Bucket])","v":11},{"$f":"IF(NFI_Expiration=1,IF($A374<VLOOKUP(Q$5,NFI,5,0),1,0)*Table_NFI[[#This Row],[Plastic Mat]],Table_NFI[Plastic Mat])","v":11},{"$f":"IFERROR(VLOOKUP(Table_NFI[[#This Row],[Camp Name]],CL,2,0),\"\")","v":"MMR001CMP031"},{"$f":"IFERROR(VLOOKUP(Table_NFI[[#This Row],[Camp Name]],CL,3,0),\"\")","v":"Open"},{"$f":"IFERROR(Table_NFI[[#This Row],[Kitchen Set]]/VLOOKUP(Table_NFI[[#This Row],[Camp Name]],CL,4,0),\"\")","v":7.8014184397163122E-2}]
[9.1,"2013-04-03","UNHCR","UNHCR","Kachin","Waingmaw","Waingmaw AG Church",null,null,4,7,3,7,3,3,3,3,{"$f":"IF(NFI_Expiration=1,IF($A375<VLOOKUP(H$5,NFI,5,0),1,0)*Table_NFI[[#This Row],[Hygiene Kit]],Table_NFI[Hygiene Kit])","v":0},{"$f":"IF(NFI_Expiration=1,IF($A375<VLOOKUP(I$5,NFI,5,0),1,0)*Table_NFI[[#This Row],[NFI Core Kit]],Table_NFI[NFI Core Kit])","v":0},{"$f":"IF(NFI_Expiration=1,IF($A375<VLOOKUP(J$5,NFI,5,0),1,0)*Table_NFI[[#This Row],[Sanitary Kit]],Table_NFI[Sanitary Kit])","v":4},{"$f":"IF(NFI_Expiration=1,IF($A375<VLOOKUP(K$5,NFI,5,0),1,0)*Table_NFI[[#This Row],[Mosquito net]],Table_NFI[Mosquito net])","v":7},{"$f":"IF(NFI_Expiration=1,IF($A375<VLOOKUP(L$5,NFI,5,0),1,0)*Table_NFI[[#This Row],[Tarpaulin]],Table_NFI[[#This Row],[Tarpaulin]])","v":3},{"$f":"IF(NFI_Expiration=1,IF($A375<VLOOKUP(M$5,NFI,5,0),1,0)*Table_NFI[[#This Row],[Blanket]],Table_NFI[[#This Row],[Blanket]])","v":7},{"$f":"IF(NFI_Expiration=1,IF($A375<VLOOKUP(N$5,NFI,5,0),1,0)*Table_NFI[[#This Row],[Kitchen Set]],Table_NFI[Kitchen Set])","v":3},{"$f":"IF(NFI_Expiration=1,IF($A375<VLOOKUP(O$5,NFI,5,0),1,0)*Table_NFI[[#This Row],[Complementary Kit]],Table_NFI[Complementary Kit])","v":3},{"$f":"IF(NFI_Expiration=1,IF($A375<VLOOKUP(P$5,NFI,5,0),1,0)*Table_NFI[[#This Row],[Plastic Bucket]],Table_NFI[Plastic Bucket])","v":3},{"$f":"IF(NFI_Expiration=1,IF($A375<VLOOKUP(Q$5,NFI,5,0),1,0)*Table_NFI[[#This Row],[Plastic Mat]],Table_NFI[Plastic Mat])","v":3},{"$f":"IFERROR(VLOOKUP(Table_NFI[[#This Row],[Camp Name]],CL,2,0),\"\")","v":"MMR001CMP038"},{"$f":"IFERROR(VLOOKUP(Table_NFI[[#This Row],[Camp Name]],CL,3,0),\"\")","v":"Open"},{"$f":"IFERROR(Table_NFI[[#This Row],[Kitchen Set]]/VLOOKUP(Table_NFI[[#This Row],[Camp Name]],CL,4,0),\"\")","v":3.7037037037037035E-2}]
[7.9666666666666668,"2013-05-07","DFID","KMSS","Kachin","Myitkyina","Pa Dauk Myaing(Pa La Na)",149,null,null,null,null,null,null,null,null,null,{"$f":"IF(NFI_Expiration=1,IF($A376<VLOOKUP(H$5,NFI,5,0),1,0)*Table_NFI[[#This Row],[Hygiene Kit]],Table_NFI[Hygiene Kit])","v":149},{"$f":"IF(NFI_Expiration=1,IF($A376<VLOOKUP(I$5,NFI,5,0),1,0)*Table_NFI[[#This Row],[NFI Core Kit]],Table_NFI[NFI Core Kit])","v":0},{"$f":"IF(NFI_Expiration=1,IF($A376<VLOOKUP(J$5,NFI,5,0),1,0)*Table_NFI[[#This Row],[Sanitary Kit]],Table_NFI[Sanitary Kit])","v":0},{"$f":"IF(NFI_Expiration=1,IF($A376<VLOOKUP(K$5,NFI,5,0),1,0)*Table_NFI[[#This Row],[Mosquito net]],Table_NFI[Mosquito net])","v":0},{"$f":"IF(NFI_Expiration=1,IF($A376<VLOOKUP(L$5,NFI,5,0),1,0)*Table_NFI[[#This Row],[Tarpaulin]],Table_NFI[[#This Row],[Tarpaulin]])","v":0},{"$f":"IF(NFI_Expiration=1,IF($A376<VLOOKUP(M$5,NFI,5,0),1,0)*Table_NFI[[#This Row],[Blanket]],Table_NFI[[#This Row],[Blanket]])","v":0},{"$f":"IF(NFI_Expiration=1,IF($A376<VLOOKUP(N$5,NFI,5,0),1,0)*Table_NFI[[#This Row],[Kitchen Set]],Table_NFI[Kitchen Set])","v":0},{"$f":"IF(NFI_Expiration=1,IF($A376<VLOOKUP(O$5,NFI,5,0),1,0)*Table_NFI[[#This Row],[Complementary Kit]],Table_NFI[Complementary Kit])","v":0},{"$f":"IF(NFI_Expiration=1,IF($A376<VLOOKUP(P$5,NFI,5,0),1,0)*Table_NFI[[#This Row],[Plastic Bucket]],Table_NFI[Plastic Bucket])","v":0},{"$f":"IF(NFI_Expiration=1,IF($A376<VLOOKUP(Q$5,NFI,5,0),1,0)*Table_NFI[[#This Row],[Plastic Mat]],Table_NFI[Plastic Mat])","v":0},{"$f":"IFERROR(VLOOKUP(Table_NFI[[#This Row],[Camp Name]],CL,2,0),\"\")","v":"MMR001CMP162"},{"$f":"IFERROR(VLOOKUP(Table_NFI[[#This Row],[Camp Name]],CL,3,0),\"\")","v":"Open"},{"$f":"IFERROR(Table_NFI[[#This Row],[Kitchen Set]]/VLOOKUP(Table_NFI[[#This Row],[Camp Name]],CL,4,0),\"\")","v":0}]
[7.9333333333333336,"2013-05-08","DFID","KMSS","Kachin","Waingmaw","Maina Catholic Church (St. Joseph)",1062,null,null,null,null,null,null,null,null,null,{"$f":"IF(NFI_Expiration=1,IF($A377<VLOOKUP(H$5,NFI,5,0),1,0)*Table_NFI[[#This Row],[Hygiene Kit]],Table_NFI[Hygiene Kit])","v":1062},{"$f":"IF(NFI_Expiration=1,IF($A377<VLOOKUP(I$5,NFI,5,0),1,0)*Table_NFI[[#This Row],[NFI Core Kit]],Table_NFI[NFI Core Kit])","v":0},{"$f":"IF(NFI_Expiration=1,IF($A377<VLOOKUP(J$5,NFI,5,0),1,0)*Table_NFI[[#This Row],[Sanitary Kit]],Table_NFI[Sanitary Kit])","v":0},{"$f":"IF(NFI_Expiration=1,IF($A377<VLOOKUP(K$5,NFI,5,0),1,0)*Table_NFI[[#This Row],[Mosquito net]],Table_NFI[Mosquito net])","v":0},{"$f":"IF(NFI_Expiration=1,IF($A377<VLOOKUP(L$5,NFI,5,0),1,0)*Table_NFI[[#This Row],[Tarpaulin]],Table_NFI[[#This Row],[Tarpaulin]])","v":0},{"$f":"IF(NFI_Expiration=1,IF($A377<VLOOKUP(M$5,NFI,5,0),1,0)*Table_NFI[[#This Row],[Blanket]],Table_NFI[[#This Row],[Blanket]])","v":0},{"$f":"IF(NFI_Expiration=1,IF($A377<VLOOKUP(N$5,NFI,5,0),1,0)*Table_NFI[[#This Row],[Kitchen Set]],Table_NFI[Kitchen Set])","v":0},{"$f":"IF(NFI_Expiration=1,IF($A377<VLOOKUP(O$5,NFI,5,0),1,0)*Table_NFI[[#This Row],[Complementary Kit]],Table_NFI[Complementary Kit])","v":0},{"$f":"IF(NFI_Expiration=1,IF($A377<VLOOKUP(P$5,NFI,5,0),1,0)*Table_NFI[[#This Row],[Plastic Bucket]],Table_NFI[Plastic Bucket])","v":0},{"$f":"IF(NFI_Expiration=1,IF($A377<VLOOKUP(Q$5,NFI,5,0),1,0)*Table_NFI[[#This Row],[Plastic Mat]],Table_NFI[Plastic Mat])","v":0},{"$f":"IFERROR(VLOOKUP(Table_NFI[[#This Row],[Camp Name]],CL,2,0),\"\")","v":"MMR001CMP029"},{"$f":"IFERROR(VLOOKUP(Table_NFI[[#This Row],[Camp Name]],CL,3,0),\"\")","v":"Open"},{"$f":"IFERROR(Table_NFI[[#This Row],[Kitchen Set]]/VLOOKUP(Table_NFI[[#This Row],[Camp Name]],CL,4,0),\"\")","v":0}]
[7.9,"2013-05-09","DFID","KMSS","Kachin","Myitkyina","Jan Mai Kawng Catholic Church",460,null,null,null,null,null,null,null,null,null,{"$f":"IF(NFI_Expiration=1,IF($A378<VLOOKUP(H$5,NFI,5,0),1,0)*Table_NFI[[#This Row],[Hygiene Kit]],Table_NFI[Hygiene Kit])","v":460},{"$f":"IF(NFI_Expiration=1,IF($A378<VLOOKUP(I$5,NFI,5,0),1,0)*Table_NFI[[#This Row],[NFI Core Kit]],Table_NFI[NFI Core Kit])","v":0},{"$f":"IF(NFI_Expiration=1,IF($A378<VLOOKUP(J$5,NFI,5,0),1,0)*Table_NFI[[#This Row],[Sanitary Kit]],Table_NFI[Sanitary Kit])","v":0},{"$f":"IF(NFI_Expiration=1,IF($A378<VLOOKUP(K$5,NFI,5,0),1,0)*Table_NFI[[#This Row],[Mosquito net]],Table_NFI[Mosquito net])","v":0},{"$f":"IF(NFI_Expiration=1,IF($A378<VLOOKUP(L$5,NFI,5,0),1,0)*Table_NFI[[#This Row],[Tarpaulin]],Table_NFI[[#This Row],[Tarpaulin]])","v":0},{"$f":"IF(NFI_Expiration=1,IF($A378<VLOOKUP(M$5,NFI,5,0),1,0)*Table_NFI[[#This Row],[Blanket]],Table_NFI[[#This Row],[Blanket]])","v":0},{"$f":"IF(NFI_Expiration=1,IF($A378<VLOOKUP(N$5,NFI,5,0),1,0)*Table_NFI[[#This Row],[Kitchen Set]],Table_NFI[Kitchen Set])","v":0},{"$f":"IF(NFI_Expiration=1,IF($A378<VLOOKUP(O$5,NFI,5,0),1,0)*Table_NFI[[#This Row],[Complementary Kit]],Table_NFI[Complementary Kit])","v":0},{"$f":"IF(NFI_Expiration=1,IF($A378<VLOOKUP(P$5,NFI,5,0),1,0)*Table_NFI[[#This Row],[Plastic Bucket]],Table_NFI[Plastic Bucket])","v":0},{"$f":"IF(NFI_Expiration=1,IF($A378<VLOOKUP(Q$5,NFI,5,0),1,0)*Table_NFI[[#This Row],[Plastic Mat]],Table_NFI[Plastic Mat])","v":0},{"$f":"IFERROR(VLOOKUP(Table_NFI[[#This Row],[Camp Name]],CL,2,0),\"\")","v":"MMR001CMP019"},{"$f":"IFERROR(VLOOKUP(Table_NFI[[#This Row],[Camp Name]],CL,3,0),\"\")","v":"Open"},{"$f":"IFERROR(Table_NFI[[#This Row],[Kitchen Set]]/VLOOKUP(Table_NFI[[#This Row],[Camp Name]],CL,4,0),\"\")","v":0}]
[7.9,"2013-05-09","DFID","KMSS","Kachin","Myitkyina","Nan Kway St. John Catholic Church",324,null,null,null,null,null,null,null,null,null,{"$f":"IF(NFI_Expiration=1,IF($A379<VLOOKUP(H$5,NFI,5,0),1,0)*Table_NFI[[#This Row],[Hygiene Kit]],Table_NFI[Hygiene Kit])","v":324},{"$f":"IF(NFI_Expiration=1,IF($A379<VLOOKUP(I$5,NFI,5,0),1,0)*Table_NFI[[#This Row],[NFI Core Kit]],Table_NFI[NFI Core Kit])","v":0},{"$f":"IF(NFI_Expiration=1,IF($A379<VLOOKUP(J$5,NFI,5,0),1,0)*Table_NFI[[#This Row],[Sanitary Kit]],Table_NFI[Sanitary Kit])","v":0},{"$f":"IF(NFI_Expiration=1,IF($A379<VLOOKUP(K$5,NFI,5,0),1,0)*Table_NFI[[#This Row],[Mosquito net]],Table_NFI[Mosquito net])","v":0},{"$f":"IF(NFI_Expiration=1,IF($A379<VLOOKUP(L$5,NFI,5,0),1,0)*Table_NFI[[#This Row],[Tarpaulin]],Table_NFI[[#This Row],[Tarpaulin]])","v":0},{"$f":"IF(NFI_Expiration=1,IF($A379<VLOOKUP(M$5,NFI,5,0),1,0)*Table_NFI[[#This Row],[Blanket]],Table_NFI[[#This Row],[Blanket]])","v":0},{"$f":"IF(NFI_Expiration=1,IF($A379<VLOOKUP(N$5,NFI,5,0),1,0)*Table_NFI[[#This Row],[Kitchen Set]],Table_NFI[Kitchen Set])","v":0},{"$f":"IF(NFI_Expiration=1,IF($A379<VLOOKUP(O$5,NFI,5,0),1,0)*Table_NFI[[#This Row],[Complementary Kit]],Table_NFI[Complementary Kit])","v":0},{"$f":"IF(NFI_Expiration=1,IF($A379<VLOOKUP(P$5,NFI,5,0),1,0)*Table_NFI[[#This Row],[Plastic Bucket]],Table_NFI[Plastic Bucket])","v":0},{"$f":"IF(NFI_Expiration=1,IF($A379<VLOOKUP(Q$5,NFI,5,0),1,0)*Table_NFI[[#This Row],[Plastic Mat]],Table_NFI[Plastic Mat])","v":0},{"$f":"IFERROR(VLOOKUP(Table_NFI[[#This Row],[Camp Name]],CL,2,0),\"\")","v":"MMR001CMP024"},{"$f":"IFERROR(VLOOKUP(Table_NFI[[#This Row],[Camp Name]],CL,3,0),\"\")","v":"Open"},{"$f":"IFERROR(Table_NFI[[#This Row],[Kitchen Set]]/VLOOKUP(Table_NFI[[#This Row],[Camp Name]],CL,4,0),\"\")","v":0}]
[7.833333333333333,"2013-05-11","DFID","KMSS","Kachin","Waingmaw","Post 6 Camp",490,null,null,null,null,null,null,null,null,null,{"$f":"IF(NFI_Expiration=1,IF($A380<VLOOKUP(H$5,NFI,5,0),1,0)*Table_NFI[[#This Row],[Hygiene Kit]],Table_NFI[Hygiene Kit])","v":490},{"$f":"IF(NFI_Expiration=1,IF($A380<VLOOKUP(I$5,NFI,5,0),1,0)*Table_NFI[[#This Row],[NFI Core Kit]],Table_NFI[NFI Core Kit])","v":0},{"$f":"IF(NFI_Expiration=1,IF($A380<VLOOKUP(J$5,NFI,5,0),1,0)*Table_NFI[[#This Row],[Sanitary Kit]],Table_NFI[Sanitary Kit])","v":0},{"$f":"IF(NFI_Expiration=1,IF($A380<VLOOKUP(K$5,NFI,5,0),1,0)*Table_NFI[[#This Row],[Mosquito net]],Table_NFI[Mosquito net])","v":0},{"$f":"IF(NFI_Expiration=1,IF($A380<VLOOKUP(L$5,NFI,5,0),1,0)*Table_NFI[[#This Row],[Tarpaulin]],Table_NFI[[#This Row],[Tarpaulin]])","v":0},{"$f":"IF(NFI_Expiration=1,IF($A380<VLOOKUP(M$5,NFI,5,0),1,0)*Table_NFI[[#This Row],[Blanket]],Table_NFI[[#This Row],[Blanket]])","v":0},{"$f":"IF(NFI_Expiration=1,IF($A380<VLOOKUP(N$5,NFI,5,0),1,0)*Table_NFI[[#This Row],[Kitchen Set]],Table_NFI[Kitchen Set])","v":0},{"$f":"IF(NFI_Expiration=1,IF($A380<VLOOKUP(O$5,NFI,5,0),1,0)*Table_NFI[[#This Row],[Complementary Kit]],Table_NFI[Complementary Kit])","v":0},{"$f":"IF(NFI_Expiration=1,IF($A380<VLOOKUP(P$5,NFI,5,0),1,0)*Table_NFI[[#This Row],[Plastic Bucket]],Table_NFI[Plastic Bucket])","v":0},{"$f":"IF(NFI_Expiration=1,IF($A380<VLOOKUP(Q$5,NFI,5,0),1,0)*Table_NFI[[#This Row],[Plastic Mat]],Table_NFI[Plastic Mat])","v":0},{"$f":"IFERROR(VLOOKUP(Table_NFI[[#This Row],[Camp Name]],CL,2,0),\"\")","v":"MMR001CMP160"},{"$f":"IFERROR(VLOOKUP(Table_NFI[[#This Row],[Camp Name]],CL,3,0),\"\")","v":"Open"},{"$f":"IFERROR(Table_NFI[[#This Row],[Kitchen Set]]/VLOOKUP(Table_NFI[[#This Row],[Camp Name]],CL,4,0),\"\")","v":0}]
[7.7333333333333334,"2013-05-14","DFID","KMSS","Kachin","Waingmaw","Border Post 8",604,null,null,null,null,null,null,null,null,null,{"$f":"IF(NFI_Expiration=1,IF($A381<VLOOKUP(H$5,NFI,5,0),1,0)*Table_NFI[[#This Row],[Hygiene Kit]],Table_NFI[Hygiene Kit])","v":604},{"$f":"IF(NFI_Expiration=1,IF($A381<VLOOKUP(I$5,NFI,5,0),1,0)*Table_NFI[[#This Row],[NFI Core Kit]],Table_NFI[NFI Core Kit])","v":0},{"$f":"IF(NFI_Expiration=1,IF($A381<VLOOKUP(J$5,NFI,5,0),1,0)*Table_NFI[[#This Row],[Sanitary Kit]],Table_NFI[Sanitary Kit])","v":0},{"$f":"IF(NFI_Expiration=1,IF($A381<VLOOKUP(K$5,NFI,5,0),1,0)*Table_NFI[[#This Row],[Mosquito net]],Table_NFI[Mosquito net])","v":0},{"$f":"IF(NFI_Expiration=1,IF($A381<VLOOKUP(L$5,NFI,5,0),1,0)*Table_NFI[[#This Row],[Tarpaulin]],Table_NFI[[#This Row],[Tarpaulin]])","v":0},{"$f":"IF(NFI_Expiration=1,IF($A381<VLOOKUP(M$5,NFI,5,0),1,0)*Table_NFI[[#This Row],[Blanket]],Table_NFI[[#This Row],[Blanket]])","v":0},{"$f":"IF(NFI_Expiration=1,IF($A381<VLOOKUP(N$5,NFI,5,0),1,0)*Table_NFI[[#This Row],[Kitchen Set]],Table_NFI[Kitchen Set])","v":0},{"$f":"IF(NFI_Expiration=1,IF($A381<VLOOKUP(O$5,NFI,5,0),1,0)*Table_NFI[[#This Row],[Complementary Kit]],Table_NFI[Complementary Kit])","v":0},{"$f":"IF(NFI_Expiration=1,IF($A381<VLOOKUP(P$5,NFI,5,0),1,0)*Table_NFI[[#This Row],[Plastic Bucket]],Table_NFI[Plastic Bucket])","v":0},{"$f":"IF(NFI_Expiration=1,IF($A381<VLOOKUP(Q$5,NFI,5,0),1,0)*Table_NFI[[#This Row],[Plastic Mat]],Table_NFI[Plastic Mat])","v":0},{"$f":"IFERROR(VLOOKUP(Table_NFI[[#This Row],[Camp Name]],CL,2,0),\"\")","v":"MMR001CMP113"},{"$f":"IFERROR(VLOOKUP(Table_NFI[[#This Row],[Camp Name]],CL,3,0),\"\")","v":"Open"},{"$f":"IFERROR(Table_NFI[[#This Row],[Kitchen Set]]/VLOOKUP(Table_NFI[[#This Row],[Camp Name]],CL,4,0),\"\")","v":0}]
[7.666666666666667,"2013-05-16","DFID","KMSS","Kachin","Hpakant","Nant Ma Hpit Catholic Church",423,null,null,null,null,null,null,null,null,null,{"$f":"IF(NFI_Expiration=1,IF($A382<VLOOKUP(H$5,NFI,5,0),1,0)*Table_NFI[[#This Row],[Hygiene Kit]],Table_NFI[Hygiene Kit])","v":423},{"$f":"IF(NFI_Expiration=1,IF($A382<VLOOKUP(I$5,NFI,5,0),1,0)*Table_NFI[[#This Row],[NFI Core Kit]],Table_NFI[NFI Core Kit])","v":0},{"$f":"IF(NFI_Expiration=1,IF($A382<VLOOKUP(J$5,NFI,5,0),1,0)*Table_NFI[[#This Row],[Sanitary Kit]],Table_NFI[Sanitary Kit])","v":0},{"$f":"IF(NFI_Expiration=1,IF($A382<VLOOKUP(K$5,NFI,5,0),1,0)*Table_NFI[[#This Row],[Mosquito net]],Table_NFI[Mosquito net])","v":0},{"$f":"IF(NFI_Expiration=1,IF($A382<VLOOKUP(L$5,NFI,5,0),1,0)*Table_NFI[[#This Row],[Tarpaulin]],Table_NFI[[#This Row],[Tarpaulin]])","v":0},{"$f":"IF(NFI_Expiration=1,IF($A382<VLOOKUP(M$5,NFI,5,0),1,0)*Table_NFI[[#This Row],[Blanket]],Table_NFI[[#This Row],[Blanket]])","v":0},{"$f":"IF(NFI_Expiration=1,IF($A382<VLOOKUP(N$5,NFI,5,0),1,0)*Table_NFI[[#This Row],[Kitchen Set]],Table_NFI[Kitchen Set])","v":0},{"$f":"IF(NFI_Expiration=1,IF($A382<VLOOKUP(O$5,NFI,5,0),1,0)*Table_NFI[[#This Row],[Complementary Kit]],Table_NFI[Complementary Kit])","v":0},{"$f":"IF(NFI_Expiration=1,IF($A382<VLOOKUP(P$5,NFI,5,0),1,0)*Table_NFI[[#This Row],[Plastic Bucket]],Table_NFI[Plastic Bucket])","v":0},{"$f":"IF(NFI_Expiration=1,IF($A382<VLOOKUP(Q$5,NFI,5,0),1,0)*Table_NFI[[#This Row],[Plastic Mat]],Table_NFI[Plastic Mat])","v":0},{"$f":"IFERROR(VLOOKUP(Table_NFI[[#This Row],[Camp Name]],CL,2,0),\"\")","v":"MMR001CMP103"},{"$f":"IFERROR(VLOOKUP(Table_NFI[[#This Row],[Camp Name]],CL,3,0),\"\")","v":"Open"},{"$f":"IFERROR(Table_NFI[[#This Row],[Kitchen Set]]/VLOOKUP(Table_NFI[[#This Row],[Camp Name]],CL,4,0),\"\")","v":0}]
[7.666666666666667,"2013-05-16","DFID","KMSS","Kachin","Hpakant","Ward 2 Cahotlic Church, Seik Mu",103,null,null,null,null,null,null,null,null,null,{"$f":"IF(NFI_Expiration=1,IF($A383<VLOOKUP(H$5,NFI,5,0),1,0)*Table_NFI[[#This Row],[Hygiene Kit]],Table_NFI[Hygiene Kit])","v":103},{"$f":"IF(NFI_Expiration=1,IF($A383<VLOOKUP(I$5,NFI,5,0),1,0)*Table_NFI[[#This Row],[NFI Core Kit]],Table_NFI[NFI Core Kit])","v":0},{"$f":"IF(NFI_Expiration=1,IF($A383<VLOOKUP(J$5,NFI,5,0),1,0)*Table_NFI[[#This Row],[Sanitary Kit]],Table_NFI[Sanitary Kit])","v":0},{"$f":"IF(NFI_Expiration=1,IF($A383<VLOOKUP(K$5,NFI,5,0),1,0)*Table_NFI[[#This Row],[Mosquito net]],Table_NFI[Mosquito net])","v":0},{"$f":"IF(NFI_Expiration=1,IF($A383<VLOOKUP(L$5,NFI,5,0),1,0)*Table_NFI[[#This Row],[Tarpaulin]],Table_NFI[[#This Row],[Tarpaulin]])","v":0},{"$f":"IF(NFI_Expiration=1,IF($A383<VLOOKUP(M$5,NFI,5,0),1,0)*Table_NFI[[#This Row],[Blanket]],Table_NFI[[#This Row],[Blanket]])","v":0},{"$f":"IF(NFI_Expiration=1,IF($A383<VLOOKUP(N$5,NFI,5,0),1,0)*Table_NFI[[#This Row],[Kitchen Set]],Table_NFI[Kitchen Set])","v":0},{"$f":"IF(NFI_Expiration=1,IF($A383<VLOOKUP(O$5,NFI,5,0),1,0)*Table_NFI[[#This Row],[Complementary Kit]],Table_NFI[Complementary Kit])","v":0},{"$f":"IF(NFI_Expiration=1,IF($A383<VLOOKUP(P$5,NFI,5,0),1,0)*Table_NFI[[#This Row],[Plastic Bucket]],Table_NFI[Plastic Bucket])","v":0},{"$f":"IF(NFI_Expiration=1,IF($A383<VLOOKUP(Q$5,NFI,5,0),1,0)*Table_NFI[[#This Row],[Plastic Mat]],Table_NFI[Plastic Mat])","v":0},{"$f":"IFERROR(VLOOKUP(Table_NFI[[#This Row],[Camp Name]],CL,2,0),\"\")","v":"MMR001CMP185"},{"$f":"IFERROR(VLOOKUP(Table_NFI[[#This Row],[Camp Name]],CL,3,0),\"\")","v":"Open"},{"$f":"IFERROR(Table_NFI[[#This Row],[Kitchen Set]]/VLOOKUP(Table_NFI[[#This Row],[Camp Name]],CL,4,0),\"\")","v":0}]
[7.666666666666667,"2013-05-16","DFID","KMSS","Kachin","Hpakant","Lawng Hkang",394,null,null,null,null,null,null,null,null,null,{"$f":"IF(NFI_Expiration=1,IF($A384<VLOOKUP(H$5,NFI,5,0),1,0)*Table_NFI[[#This Row],[Hygiene Kit]],Table_NFI[Hygiene Kit])","v":394},{"$f":"IF(NFI_Expiration=1,IF($A384<VLOOKUP(I$5,NFI,5,0),1,0)*Table_NFI[[#This Row],[NFI Core Kit]],Table_NFI[NFI Core Kit])","v":0},{"$f":"IF(NFI_Expiration=1,IF($A384<VLOOKUP(J$5,NFI,5,0),1,0)*Table_NFI[[#This Row],[Sanitary Kit]],Table_NFI[Sanitary Kit])","v":0},{"$f":"IF(NFI_Expiration=1,IF($A384<VLOOKUP(K$5,NFI,5,0),1,0)*Table_NFI[[#This Row],[Mosquito net]],Table_NFI[Mosquito net])","v":0},{"$f":"IF(NFI_Expiration=1,IF($A384<VLOOKUP(L$5,NFI,5,0),1,0)*Table_NFI[[#This Row],[Tarpaulin]],Table_NFI[[#This Row],[Tarpaulin]])","v":0},{"$f":"IF(NFI_Expiration=1,IF($A384<VLOOKUP(M$5,NFI,5,0),1,0)*Table_NFI[[#This Row],[Blanket]],Table_NFI[[#This Row],[Blanket]])","v":0},{"$f":"IF(NFI_Expiration=1,IF($A384<VLOOKUP(N$5,NFI,5,0),1,0)*Table_NFI[[#This Row],[Kitchen Set]],Table_NFI[Kitchen Set])","v":0},{"$f":"IF(NFI_Expiration=1,IF($A384<VLOOKUP(O$5,NFI,5,0),1,0)*Table_NFI[[#This Row],[Complementary Kit]],Table_NFI[Complementary Kit])","v":0},{"$f":"IF(NFI_Expiration=1,IF($A384<VLOOKUP(P$5,NFI,5,0),1,0)*Table_NFI[[#This Row],[Plastic Bucket]],Table_NFI[Plastic Bucket])","v":0},{"$f":"IF(NFI_Expiration=1,IF($A384<VLOOKUP(Q$5,NFI,5,0),1,0)*Table_NFI[[#This Row],[Plastic Mat]],Table_NFI[Plastic Mat])","v":0},{"$f":"IFERROR(VLOOKUP(Table_NFI[[#This Row],[Camp Name]],CL,2,0),\"\")","v":""},{"$f":"IFERROR(VLOOKUP(Table_NFI[[#This Row],[Camp Name]],CL,3,0),\"\")","v":""},{"$f":"IFERROR(Table_NFI[[#This Row],[Kitchen Set]]/VLOOKUP(Table_NFI[[#This Row],[Camp Name]],CL,4,0),\"\")","v":""}]
[7.4666666666666668,"2013-05-22","UNHCR","UNHCR","Kachin","Waingmaw","Qtr. 2 Lhaovo Baptist Church",null,null,18,20,14,20,10,10,10,10,{"$f":"IF(NFI_Expiration=1,IF($A385<VLOOKUP(H$5,NFI,5,0),1,0)*Table_NFI[[#This Row],[Hygiene Kit]],Table_NFI[Hygiene Kit])","v":0},{"$f":"IF(NFI_Expiration=1,IF($A385<VLOOKUP(I$5,NFI,5,0),1,0)*Table_NFI[[#This Row],[NFI Core Kit]],Table_NFI[NFI Core Kit])","v":0},{"$f":"IF(NFI_Expiration=1,IF($A385<VLOOKUP(J$5,NFI,5,0),1,0)*Table_NFI[[#This Row],[Sanitary Kit]],Table_NFI[Sanitary Kit])","v":18},{"$f":"IF(NFI_Expiration=1,IF($A385<VLOOKUP(K$5,NFI,5,0),1,0)*Table_NFI[[#This Row],[Mosquito net]],Table_NFI[Mosquito net])","v":20},{"$f":"IF(NFI_Expiration=1,IF($A385<VLOOKUP(L$5,NFI,5,0),1,0)*Table_NFI[[#This Row],[Tarpaulin]],Table_NFI[[#This Row],[Tarpaulin]])","v":14},{"$f":"IF(NFI_Expiration=1,IF($A385<VLOOKUP(M$5,NFI,5,0),1,0)*Table_NFI[[#This Row],[Blanket]],Table_NFI[[#This Row],[Blanket]])","v":20},{"$f":"IF(NFI_Expiration=1,IF($A385<VLOOKUP(N$5,NFI,5,0),1,0)*Table_NFI[[#This Row],[Kitchen Set]],Table_NFI[Kitchen Set])","v":10},{"$f":"IF(NFI_Expiration=1,IF($A385<VLOOKUP(O$5,NFI,5,0),1,0)*Table_NFI[[#This Row],[Complementary Kit]],Table_NFI[Complementary Kit])","v":10},{"$f":"IF(NFI_Expiration=1,IF($A385<VLOOKUP(P$5,NFI,5,0),1,0)*Table_NFI[[#This Row],[Plastic Bucket]],Table_NFI[Plastic Bucket])","v":10},{"$f":"IF(NFI_Expiration=1,IF($A385<VLOOKUP(Q$5,NFI,5,0),1,0)*Table_NFI[[#This Row],[Plastic Mat]],Table_NFI[Plastic Mat])","v":10},{"$f":"IFERROR(VLOOKUP(Table_NFI[[#This Row],[Camp Name]],CL,2,0),\"\")","v":"MMR001CMP032"},{"$f":"IFERROR(VLOOKUP(Table_NFI[[#This Row],[Camp Name]],CL,3,0),\"\")","v":"Open"},{"$f":"IFERROR(Table_NFI[[#This Row],[Kitchen Set]]/VLOOKUP(Table_NFI[[#This Row],[Camp Name]],CL,4,0),\"\")","v":8.3333333333333329E-2}]
[7.4666666666666668,"2013-05-22","UNHCR","UNHCR","Kachin","Chipwi","Chipwi KBC camp",null,null,80,84,41,84,41,41,41,41,{"$f":"IF(NFI_Expiration=1,IF($A386<VLOOKUP(H$5,NFI,5,0),1,0)*Table_NFI[[#This Row],[Hygiene Kit]],Table_NFI[Hygiene Kit])","v":0},{"$f":"IF(NFI_Expiration=1,IF($A386<VLOOKUP(I$5,NFI,5,0),1,0)*Table_NFI[[#This Row],[NFI Core Kit]],Table_NFI[NFI Core Kit])","v":0},{"$f":"IF(NFI_Expiration=1,IF($A386<VLOOKUP(J$5,NFI,5,0),1,0)*Table_NFI[[#This Row],[Sanitary Kit]],Table_NFI[Sanitary Kit])","v":80},{"$f":"IF(NFI_Expiration=1,IF($A386<VLOOKUP(K$5,NFI,5,0),1,0)*Table_NFI[[#This Row],[Mosquito net]],Table_NFI[Mosquito net])","v":84},{"$f":"IF(NFI_Expiration=1,IF($A386<VLOOKUP(L$5,NFI,5,0),1,0)*Table_NFI[[#This Row],[Tarpaulin]],Table_NFI[[#This Row],[Tarpaulin]])","v":41},{"$f":"IF(NFI_Expiration=1,IF($A386<VLOOKUP(M$5,NFI,5,0),1,0)*Table_NFI[[#This Row],[Blanket]],Table_NFI[[#This Row],[Blanket]])","v":84},{"$f":"IF(NFI_Expiration=1,IF($A386<VLOOKUP(N$5,NFI,5,0),1,0)*Table_NFI[[#This Row],[Kitchen Set]],Table_NFI[Kitchen Set])","v":41},{"$f":"IF(NFI_Expiration=1,IF($A386<VLOOKUP(O$5,NFI,5,0),1,0)*Table_NFI[[#This Row],[Complementary Kit]],Table_NFI[Complementary Kit])","v":41},{"$f":"IF(NFI_Expiration=1,IF($A386<VLOOKUP(P$5,NFI,5,0),1,0)*Table_NFI[[#This Row],[Plastic Bucket]],Table_NFI[Plastic Bucket])","v":41},{"$f":"IF(NFI_Expiration=1,IF($A386<VLOOKUP(Q$5,NFI,5,0),1,0)*Table_NFI[[#This Row],[Plastic Mat]],Table_NFI[Plastic Mat])","v":41},{"$f":"IFERROR(VLOOKUP(Table_NFI[[#This Row],[Camp Name]],CL,2,0),\"\")","v":"MMR001CMP042"},{"$f":"IFERROR(VLOOKUP(Table_NFI[[#This Row],[Camp Name]],CL,3,0),\"\")","v":"Open"},{"$f":"IFERROR(Table_NFI[[#This Row],[Kitchen Set]]/VLOOKUP(Table_NFI[[#This Row],[Camp Name]],CL,4,0),\"\")","v":0.38317757009345793}]
[7.4666666666666668,"2013-05-22","DFID","KMSS","Kachin","Chipwi","Chipwi KBC camp",510,null,null,null,null,null,null,null,null,null,{"$f":"IF(NFI_Expiration=1,IF($A387<VLOOKUP(H$5,NFI,5,0),1,0)*Table_NFI[[#This Row],[Hygiene Kit]],Table_NFI[Hygiene Kit])","v":510},{"$f":"IF(NFI_Expiration=1,IF($A387<VLOOKUP(I$5,NFI,5,0),1,0)*Table_NFI[[#This Row],[NFI Core Kit]],Table_NFI[NFI Core Kit])","v":0},{"$f":"IF(NFI_Expiration=1,IF($A387<VLOOKUP(J$5,NFI,5,0),1,0)*Table_NFI[[#This Row],[Sanitary Kit]],Table_NFI[Sanitary Kit])","v":0},{"$f":"IF(NFI_Expiration=1,IF($A387<VLOOKUP(K$5,NFI,5,0),1,0)*Table_NFI[[#This Row],[Mosquito net]],Table_NFI[Mosquito net])","v":0},{"$f":"IF(NFI_Expiration=1,IF($A387<VLOOKUP(L$5,NFI,5,0),1,0)*Table_NFI[[#This Row],[Tarpaulin]],Table_NFI[[#This Row],[Tarpaulin]])","v":0},{"$f":"IF(NFI_Expiration=1,IF($A387<VLOOKUP(M$5,NFI,5,0),1,0)*Table_NFI[[#This Row],[Blanket]],Table_NFI[[#This Row],[Blanket]])","v":0},{"$f":"IF(NFI_Expiration=1,IF($A387<VLOOKUP(N$5,NFI,5,0),1,0)*Table_NFI[[#This Row],[Kitchen Set]],Table_NFI[Kitchen Set])","v":0},{"$f":"IF(NFI_Expiration=1,IF($A387<VLOOKUP(O$5,NFI,5,0),1,0)*Table_NFI[[#This Row],[Complementary Kit]],Table_NFI[Complementary Kit])","v":0},{"$f":"IF(NFI_Expiration=1,IF($A387<VLOOKUP(P$5,NFI,5,0),1,0)*Table_NFI[[#This Row],[Plastic Bucket]],Table_NFI[Plastic Bucket])","v":0},{"$f":"IF(NFI_Expiration=1,IF($A387<VLOOKUP(Q$5,NFI,5,0),1,0)*Table_NFI[[#This Row],[Plastic Mat]],Table_NFI[Plastic Mat])","v":0},{"$f":"IFERROR(VLOOKUP(Table_NFI[[#This Row],[Camp Name]],CL,2,0),\"\")","v":"MMR001CMP042"},{"$f":"IFERROR(VLOOKUP(Table_NFI[[#This Row],[Camp Name]],CL,3,0),\"\")","v":"Open"},{"$f":"IFERROR(Table_NFI[[#This Row],[Kitchen Set]]/VLOOKUP(Table_NFI[[#This Row],[Camp Name]],CL,4,0),\"\")","v":0}]
[7.4666666666666668,"2013-05-22","UNHCR","UNHCR","Kachin","Hpakant","Nga Pyaw Taw Baptist Nursery School ",null,null,273,339,151,339,151,151,151,151,{"$f":"IF(NFI_Expiration=1,IF($A388<VLOOKUP(H$5,NFI,5,0),1,0)*Table_NFI[[#This Row],[Hygiene Kit]],Table_NFI[Hygiene Kit])","v":0},{"$f":"IF(NFI_Expiration=1,IF($A388<VLOOKUP(I$5,NFI,5,0),1,0)*Table_NFI[[#This Row],[NFI Core Kit]],Table_NFI[NFI Core Kit])","v":0},{"$f":"IF(NFI_Expiration=1,IF($A388<VLOOKUP(J$5,NFI,5,0),1,0)*Table_NFI[[#This Row],[Sanitary Kit]],Table_NFI[Sanitary Kit])","v":273},{"$f":"IF(NFI_Expiration=1,IF($A388<VLOOKUP(K$5,NFI,5,0),1,0)*Table_NFI[[#This Row],[Mosquito net]],Table_NFI[Mosquito net])","v":339},{"$f":"IF(NFI_Expiration=1,IF($A388<VLOOKUP(L$5,NFI,5,0),1,0)*Table_NFI[[#This Row],[Tarpaulin]],Table_NFI[[#This Row],[Tarpaulin]])","v":151},{"$f":"IF(NFI_Expiration=1,IF($A388<VLOOKUP(M$5,NFI,5,0),1,0)*Table_NFI[[#This Row],[Blanket]],Table_NFI[[#This Row],[Blanket]])","v":339},{"$f":"IF(NFI_Expiration=1,IF($A388<VLOOKUP(N$5,NFI,5,0),1,0)*Table_NFI[[#This Row],[Kitchen Set]],Table_NFI[Kitchen Set])","v":151},{"$f":"IF(NFI_Expiration=1,IF($A388<VLOOKUP(O$5,NFI,5,0),1,0)*Table_NFI[[#This Row],[Complementary Kit]],Table_NFI[Complementary Kit])","v":151},{"$f":"IF(NFI_Expiration=1,IF($A388<VLOOKUP(P$5,NFI,5,0),1,0)*Table_NFI[[#This Row],[Plastic Bucket]],Table_NFI[Plastic Bucket])","v":151},{"$f":"IF(NFI_Expiration=1,IF($A388<VLOOKUP(Q$5,NFI,5,0),1,0)*Table_NFI[[#This Row],[Plastic Mat]],Table_NFI[Plastic Mat])","v":151},{"$f":"IFERROR(VLOOKUP(Table_NFI[[#This Row],[Camp Name]],CL,2,0),\"\")","v":"MMR001CMP082"},{"$f":"IFERROR(VLOOKUP(Table_NFI[[#This Row],[Camp Name]],CL,3,0),\"\")","v":"Open"},{"$f":"IFERROR(Table_NFI[[#This Row],[Kitchen Set]]/VLOOKUP(Table_NFI[[#This Row],[Camp Name]],CL,4,0),\"\")","v":1.495049504950495}]
[7.4666666666666668,"2013-05-22","UNHCR","UNHCR","Kachin","Hpakant","Mashi Kahtawng Baptist  Church",null,null,48,74,31,74,31,31,31,31,{"$f":"IF(NFI_Expiration=1,IF($A389<VLOOKUP(H$5,NFI,5,0),1,0)*Table_NFI[[#This Row],[Hygiene Kit]],Table_NFI[Hygiene Kit])","v":0},{"$f":"IF(NFI_Expiration=1,IF($A389<VLOOKUP(I$5,NFI,5,0),1,0)*Table_NFI[[#This Row],[NFI Core Kit]],Table_NFI[NFI Core Kit])","v":0},{"$f":"IF(NFI_Expiration=1,IF($A389<VLOOKUP(J$5,NFI,5,0),1,0)*Table_NFI[[#This Row],[Sanitary Kit]],Table_NFI[Sanitary Kit])","v":48},{"$f":"IF(NFI_Expiration=1,IF($A389<VLOOKUP(K$5,NFI,5,0),1,0)*Table_NFI[[#This Row],[Mosquito net]],Table_NFI[Mosquito net])","v":74},{"$f":"IF(NFI_Expiration=1,IF($A389<VLOOKUP(L$5,NFI,5,0),1,0)*Table_NFI[[#This Row],[Tarpaulin]],Table_NFI[[#This Row],[Tarpaulin]])","v":31},{"$f":"IF(NFI_Expiration=1,IF($A389<VLOOKUP(M$5,NFI,5,0),1,0)*Table_NFI[[#This Row],[Blanket]],Table_NFI[[#This Row],[Blanket]])","v":74},{"$f":"IF(NFI_Expiration=1,IF($A389<VLOOKUP(N$5,NFI,5,0),1,0)*Table_NFI[[#This Row],[Kitchen Set]],Table_NFI[Kitchen Set])","v":31},{"$f":"IF(NFI_Expiration=1,IF($A389<VLOOKUP(O$5,NFI,5,0),1,0)*Table_NFI[[#This Row],[Complementary Kit]],Table_NFI[Complementary Kit])","v":31},{"$f":"IF(NFI_Expiration=1,IF($A389<VLOOKUP(P$5,NFI,5,0),1,0)*Table_NFI[[#This Row],[Plastic Bucket]],Table_NFI[Plastic Bucket])","v":31},{"$f":"IF(NFI_Expiration=1,IF($A389<VLOOKUP(Q$5,NFI,5,0),1,0)*Table_NFI[[#This Row],[Plastic Mat]],Table_NFI[Plastic Mat])","v":31},{"$f":"IFERROR(VLOOKUP(Table_NFI[[#This Row],[Camp Name]],CL,2,0),\"\")","v":"MMR001CMP094"},{"$f":"IFERROR(VLOOKUP(Table_NFI[[#This Row],[Camp Name]],CL,3,0),\"\")","v":"Closed"},{"$f":"IFERROR(Table_NFI[[#This Row],[Kitchen Set]]/VLOOKUP(Table_NFI[[#This Row],[Camp Name]],CL,4,0),\"\")","v":""}]
[{"$f":"IF(ISBLANK(B390),\"\",(Report_Date-B390)/30)","v":7.4666666666666668},"2013-05-22","UNHCR","UNHCR","Kachin","Hpakant","Yumar Baptist Church",null,null,42,66,28,66,28,28,28,28,{"$f":"IF(NFI_Expiration=1,IF($A390<VLOOKUP(H$5,NFI,5,0),1,0)*Table_NFI[[#This Row],[Hygiene Kit]],Table_NFI[Hygiene Kit])","v":0},{"$f":"IF(NFI_Expiration=1,IF($A390<VLOOKUP(I$5,NFI,5,0),1,0)*Table_NFI[[#This Row],[NFI Core Kit]],Table_NFI[NFI Core Kit])","v":0},{"$f":"IF(NFI_Expiration=1,IF($A390<VLOOKUP(J$5,NFI,5,0),1,0)*Table_NFI[[#This Row],[Sanitary Kit]],Table_NFI[Sanitary Kit])","v":42},{"$f":"IF(NFI_Expiration=1,IF($A390<VLOOKUP(K$5,NFI,5,0),1,0)*Table_NFI[[#This Row],[Mosquito net]],Table_NFI[Mosquito net])","v":66},{"$f":"IF(NFI_Expiration=1,IF($A390<VLOOKUP(L$5,NFI,5,0),1,0)*Table_NFI[[#This Row],[Tarpaulin]],Table_NFI[[#This Row],[Tarpaulin]])","v":28},{"$f":"IF(NFI_Expiration=1,IF($A390<VLOOKUP(M$5,NFI,5,0),1,0)*Table_NFI[[#This Row],[Blanket]],Table_NFI[[#This Row],[Blanket]])","v":66},{"$f":"IF(NFI_Expiration=1,IF($A390<VLOOKUP(N$5,NFI,5,0),1,0)*Table_NFI[[#This Row],[Kitchen Set]],Table_NFI[Kitchen Set])","v":28},{"$f":"IF(NFI_Expiration=1,IF($A390<VLOOKUP(O$5,NFI,5,0),1,0)*Table_NFI[[#This Row],[Complementary Kit]],Table_NFI[Complementary Kit])","v":28},{"$f":"IF(NFI_Expiration=1,IF($A390<VLOOKUP(P$5,NFI,5,0),1,0)*Table_NFI[[#This Row],[Plastic Bucket]],Table_NFI[Plastic Bucket])","v":28},{"$f":"IF(NFI_Expiration=1,IF($A390<VLOOKUP(Q$5,NFI,5,0),1,0)*Table_NFI[[#This Row],[Plastic Mat]],Table_NFI[Plastic Mat])","v":28},{"$f":"IFERROR(VLOOKUP(Table_NFI[[#This Row],[Camp Name]],CL,2,0),\"\")","v":"MMR001CMP105"},{"$f":"IFERROR(VLOOKUP(Table_NFI[[#This Row],[Camp Name]],CL,3,0),\"\")","v":"Open"},{"$f":"IFERROR(Table_NFI[[#This Row],[Kitchen Set]]/VLOOKUP(Table_NFI[[#This Row],[Camp Name]],CL,4,0),\"\")","v":0.7}]
[7.4666666666666668,"2013-05-22","DFID","KMSS","Kachin","Chipwi","Lhaovao Baptist Church (LBC)",35,null,null,null,null,null,null,null,null,null,{"$f":"IF(NFI_Expiration=1,IF($A391<VLOOKUP(H$5,NFI,5,0),1,0)*Table_NFI[[#This Row],[Hygiene Kit]],Table_NFI[Hygiene Kit])","v":35},{"$f":"IF(NFI_Expiration=1,IF($A391<VLOOKUP(I$5,NFI,5,0),1,0)*Table_NFI[[#This Row],[NFI Core Kit]],Table_NFI[NFI Core Kit])","v":0},{"$f":"IF(NFI_Expiration=1,IF($A391<VLOOKUP(J$5,NFI,5,0),1,0)*Table_NFI[[#This Row],[Sanitary Kit]],Table_NFI[Sanitary Kit])","v":0},{"$f":"IF(NFI_Expiration=1,IF($A391<VLOOKUP(K$5,NFI,5,0),1,0)*Table_NFI[[#This Row],[Mosquito net]],Table_NFI[Mosquito net])","v":0},{"$f":"IF(NFI_Expiration=1,IF($A391<VLOOKUP(L$5,NFI,5,0),1,0)*Table_NFI[[#This Row],[Tarpaulin]],Table_NFI[[#This Row],[Tarpaulin]])","v":0},{"$f":"IF(NFI_Expiration=1,IF($A391<VLOOKUP(M$5,NFI,5,0),1,0)*Table_NFI[[#This Row],[Blanket]],Table_NFI[[#This Row],[Blanket]])","v":0},{"$f":"IF(NFI_Expiration=1,IF($A391<VLOOKUP(N$5,NFI,5,0),1,0)*Table_NFI[[#This Row],[Kitchen Set]],Table_NFI[Kitchen Set])","v":0},{"$f":"IF(NFI_Expiration=1,IF($A391<VLOOKUP(O$5,NFI,5,0),1,0)*Table_NFI[[#This Row],[Complementary Kit]],Table_NFI[Complementary Kit])","v":0},{"$f":"IF(NFI_Expiration=1,IF($A391<VLOOKUP(P$5,NFI,5,0),1,0)*Table_NFI[[#This Row],[Plastic Bucket]],Table_NFI[Plastic Bucket])","v":0},{"$f":"IF(NFI_Expiration=1,IF($A391<VLOOKUP(Q$5,NFI,5,0),1,0)*Table_NFI[[#This Row],[Plastic Mat]],Table_NFI[Plastic Mat])","v":0},{"$f":"IFERROR(VLOOKUP(Table_NFI[[#This Row],[Camp Name]],CL,2,0),\"\")","v":"MMR001CMP195"},{"$f":"IFERROR(VLOOKUP(Table_NFI[[#This Row],[Camp Name]],CL,3,0),\"\")","v":"Open"},{"$f":"IFERROR(Table_NFI[[#This Row],[Kitchen Set]]/VLOOKUP(Table_NFI[[#This Row],[Camp Name]],CL,4,0),\"\")","v":0}]
[7.4666666666666668,"2013-05-22","UNHCR","UNHCR","Kachin","Hpakant","Nam Ma Phyit, COC",null,null,34,61,30,61,30,30,30,30,{"$f":"IF(NFI_Expiration=1,IF($A392<VLOOKUP(H$5,NFI,5,0),1,0)*Table_NFI[[#This Row],[Hygiene Kit]],Table_NFI[Hygiene Kit])","v":0},{"$f":"IF(NFI_Expiration=1,IF($A392<VLOOKUP(I$5,NFI,5,0),1,0)*Table_NFI[[#This Row],[NFI Core Kit]],Table_NFI[NFI Core Kit])","v":0},{"$f":"IF(NFI_Expiration=1,IF($A392<VLOOKUP(J$5,NFI,5,0),1,0)*Table_NFI[[#This Row],[Sanitary Kit]],Table_NFI[Sanitary Kit])","v":34},{"$f":"IF(NFI_Expiration=1,IF($A392<VLOOKUP(K$5,NFI,5,0),1,0)*Table_NFI[[#This Row],[Mosquito net]],Table_NFI[Mosquito net])","v":61},{"$f":"IF(NFI_Expiration=1,IF($A392<VLOOKUP(L$5,NFI,5,0),1,0)*Table_NFI[[#This Row],[Tarpaulin]],Table_NFI[[#This Row],[Tarpaulin]])","v":30},{"$f":"IF(NFI_Expiration=1,IF($A392<VLOOKUP(M$5,NFI,5,0),1,0)*Table_NFI[[#This Row],[Blanket]],Table_NFI[[#This Row],[Blanket]])","v":61},{"$f":"IF(NFI_Expiration=1,IF($A392<VLOOKUP(N$5,NFI,5,0),1,0)*Table_NFI[[#This Row],[Kitchen Set]],Table_NFI[Kitchen Set])","v":30},{"$f":"IF(NFI_Expiration=1,IF($A392<VLOOKUP(O$5,NFI,5,0),1,0)*Table_NFI[[#This Row],[Complementary Kit]],Table_NFI[Complementary Kit])","v":30},{"$f":"IF(NFI_Expiration=1,IF($A392<VLOOKUP(P$5,NFI,5,0),1,0)*Table_NFI[[#This Row],[Plastic Bucket]],Table_NFI[Plastic Bucket])","v":30},{"$f":"IF(NFI_Expiration=1,IF($A392<VLOOKUP(Q$5,NFI,5,0),1,0)*Table_NFI[[#This Row],[Plastic Mat]],Table_NFI[Plastic Mat])","v":30},{"$f":"IFERROR(VLOOKUP(Table_NFI[[#This Row],[Camp Name]],CL,2,0),\"\")","v":"MMR001CMP192"},{"$f":"IFERROR(VLOOKUP(Table_NFI[[#This Row],[Camp Name]],CL,3,0),\"\")","v":"Open"},{"$f":"IFERROR(Table_NFI[[#This Row],[Kitchen Set]]/VLOOKUP(Table_NFI[[#This Row],[Camp Name]],CL,4,0),\"\")","v":1.25}]
[6.7333333333333334,"2013-06-13","UNHCR","UNHCR","Kachin","Momauk","Loi Je Catholic Church",null,null,425,30,11,30,11,11,11,11,{"$f":"IF(NFI_Expiration=1,IF($A393<VLOOKUP(H$5,NFI,5,0),1,0)*Table_NFI[[#This Row],[Hygiene Kit]],Table_NFI[Hygiene Kit])","v":0},{"$f":"IF(NFI_Expiration=1,IF($A393<VLOOKUP(I$5,NFI,5,0),1,0)*Table_NFI[[#This Row],[NFI Core Kit]],Table_NFI[NFI Core Kit])","v":0},{"$f":"IF(NFI_Expiration=1,IF($A393<VLOOKUP(J$5,NFI,5,0),1,0)*Table_NFI[[#This Row],[Sanitary Kit]],Table_NFI[Sanitary Kit])","v":425},{"$f":"IF(NFI_Expiration=1,IF($A393<VLOOKUP(K$5,NFI,5,0),1,0)*Table_NFI[[#This Row],[Mosquito net]],Table_NFI[Mosquito net])","v":30},{"$f":"IF(NFI_Expiration=1,IF($A393<VLOOKUP(L$5,NFI,5,0),1,0)*Table_NFI[[#This Row],[Tarpaulin]],Table_NFI[[#This Row],[Tarpaulin]])","v":11},{"$f":"IF(NFI_Expiration=1,IF($A393<VLOOKUP(M$5,NFI,5,0),1,0)*Table_NFI[[#This Row],[Blanket]],Table_NFI[[#This Row],[Blanket]])","v":30},{"$f":"IF(NFI_Expiration=1,IF($A393<VLOOKUP(N$5,NFI,5,0),1,0)*Table_NFI[[#This Row],[Kitchen Set]],Table_NFI[Kitchen Set])","v":11},{"$f":"IF(NFI_Expiration=1,IF($A393<VLOOKUP(O$5,NFI,5,0),1,0)*Table_NFI[[#This Row],[Complementary Kit]],Table_NFI[Complementary Kit])","v":11},{"$f":"IF(NFI_Expiration=1,IF($A393<VLOOKUP(P$5,NFI,5,0),1,0)*Table_NFI[[#This Row],[Plastic Bucket]],Table_NFI[Plastic Bucket])","v":11},{"$f":"IF(NFI_Expiration=1,IF($A393<VLOOKUP(Q$5,NFI,5,0),1,0)*Table_NFI[[#This Row],[Plastic Mat]],Table_NFI[Plastic Mat])","v":11},{"$f":"IFERROR(VLOOKUP(Table_NFI[[#This Row],[Camp Name]],CL,2,0),\"\")","v":"MMR001CMP069"},{"$f":"IFERROR(VLOOKUP(Table_NFI[[#This Row],[Camp Name]],CL,3,0),\"\")","v":"Open"},{"$f":"IFERROR(Table_NFI[[#This Row],[Kitchen Set]]/VLOOKUP(Table_NFI[[#This Row],[Camp Name]],CL,4,0),\"\")","v":0.2391304347826087}]
[6.7333333333333334,"2013-06-13","UNHCR","UNHCR","Kachin","Momauk","Loi Je Lisu Camp",null,null,941,67,24,67,24,24,24,24,{"$f":"IF(NFI_Expiration=1,IF($A394<VLOOKUP(H$5,NFI,5,0),1,0)*Table_NFI[[#This Row],[Hygiene Kit]],Table_NFI[Hygiene Kit])","v":0},{"$f":"IF(NFI_Expiration=1,IF($A394<VLOOKUP(I$5,NFI,5,0),1,0)*Table_NFI[[#This Row],[NFI Core Kit]],Table_NFI[NFI Core Kit])","v":0},{"$f":"IF(NFI_Expiration=1,IF($A394<VLOOKUP(J$5,NFI,5,0),1,0)*Table_NFI[[#This Row],[Sanitary Kit]],Table_NFI[Sanitary Kit])","v":941},{"$f":"IF(NFI_Expiration=1,IF($A394<VLOOKUP(K$5,NFI,5,0),1,0)*Table_NFI[[#This Row],[Mosquito net]],Table_NFI[Mosquito net])","v":67},{"$f":"IF(NFI_Expiration=1,IF($A394<VLOOKUP(L$5,NFI,5,0),1,0)*Table_NFI[[#This Row],[Tarpaulin]],Table_NFI[[#This Row],[Tarpaulin]])","v":24},{"$f":"IF(NFI_Expiration=1,IF($A394<VLOOKUP(M$5,NFI,5,0),1,0)*Table_NFI[[#This Row],[Blanket]],Table_NFI[[#This Row],[Blanket]])","v":67},{"$f":"IF(NFI_Expiration=1,IF($A394<VLOOKUP(N$5,NFI,5,0),1,0)*Table_NFI[[#This Row],[Kitchen Set]],Table_NFI[Kitchen Set])","v":24},{"$f":"IF(NFI_Expiration=1,IF($A394<VLOOKUP(O$5,NFI,5,0),1,0)*Table_NFI[[#This Row],[Complementary Kit]],Table_NFI[Complementary Kit])","v":24},{"$f":"IF(NFI_Expiration=1,IF($A394<VLOOKUP(P$5,NFI,5,0),1,0)*Table_NFI[[#This Row],[Plastic Bucket]],Table_NFI[Plastic Bucket])","v":24},{"$f":"IF(NFI_Expiration=1,IF($A394<VLOOKUP(Q$5,NFI,5,0),1,0)*Table_NFI[[#This Row],[Plastic Mat]],Table_NFI[Plastic Mat])","v":24},{"$f":"IFERROR(VLOOKUP(Table_NFI[[#This Row],[Camp Name]],CL,2,0),\"\")","v":"MMR001CMP070"},{"$f":"IFERROR(VLOOKUP(Table_NFI[[#This Row],[Camp Name]],CL,3,0),\"\")","v":"Open"},{"$f":"IFERROR(Table_NFI[[#This Row],[Kitchen Set]]/VLOOKUP(Table_NFI[[#This Row],[Camp Name]],CL,4,0),\"\")","v":0.16901408450704225}]
[6.7333333333333334,"2013-06-13","UNHCR","UNHCR","Kachin","Momauk","Loi Je Baptist Church",null,null,152,11,4,11,4,4,4,4,{"$f":"IF(NFI_Expiration=1,IF($A395<VLOOKUP(H$5,NFI,5,0),1,0)*Table_NFI[[#This Row],[Hygiene Kit]],Table_NFI[Hygiene Kit])","v":0},{"$f":"IF(NFI_Expiration=1,IF($A395<VLOOKUP(I$5,NFI,5,0),1,0)*Table_NFI[[#This Row],[NFI Core Kit]],Table_NFI[NFI Core Kit])","v":0},{"$f":"IF(NFI_Expiration=1,IF($A395<VLOOKUP(J$5,NFI,5,0),1,0)*Table_NFI[[#This Row],[Sanitary Kit]],Table_NFI[Sanitary Kit])","v":152},{"$f":"IF(NFI_Expiration=1,IF($A395<VLOOKUP(K$5,NFI,5,0),1,0)*Table_NFI[[#This Row],[Mosquito net]],Table_NFI[Mosquito net])","v":11},{"$f":"IF(NFI_Expiration=1,IF($A395<VLOOKUP(L$5,NFI,5,0),1,0)*Table_NFI[[#This Row],[Tarpaulin]],Table_NFI[[#This Row],[Tarpaulin]])","v":4},{"$f":"IF(NFI_Expiration=1,IF($A395<VLOOKUP(M$5,NFI,5,0),1,0)*Table_NFI[[#This Row],[Blanket]],Table_NFI[[#This Row],[Blanket]])","v":11},{"$f":"IF(NFI_Expiration=1,IF($A395<VLOOKUP(N$5,NFI,5,0),1,0)*Table_NFI[[#This Row],[Kitchen Set]],Table_NFI[Kitchen Set])","v":4},{"$f":"IF(NFI_Expiration=1,IF($A395<VLOOKUP(O$5,NFI,5,0),1,0)*Table_NFI[[#This Row],[Complementary Kit]],Table_NFI[Complementary Kit])","v":4},{"$f":"IF(NFI_Expiration=1,IF($A395<VLOOKUP(P$5,NFI,5,0),1,0)*Table_NFI[[#This Row],[Plastic Bucket]],Table_NFI[Plastic Bucket])","v":4},{"$f":"IF(NFI_Expiration=1,IF($A395<VLOOKUP(Q$5,NFI,5,0),1,0)*Table_NFI[[#This Row],[Plastic Mat]],Table_NFI[Plastic Mat])","v":4},{"$f":"IFERROR(VLOOKUP(Table_NFI[[#This Row],[Camp Name]],CL,2,0),\"\")","v":"MMR001CMP071"},{"$f":"IFERROR(VLOOKUP(Table_NFI[[#This Row],[Camp Name]],CL,3,0),\"\")","v":"Open"},{"$f":"IFERROR(Table_NFI[[#This Row],[Kitchen Set]]/VLOOKUP(Table_NFI[[#This Row],[Camp Name]],CL,4,0),\"\")","v":0.15384615384615385}]
[6.7,"2013-06-14","UNHCR","UNHCR","Kachin","Momauk","Pa Kahtawng ",null,null,42,42,21,42,21,21,21,21,{"$f":"IF(NFI_Expiration=1,IF($A396<VLOOKUP(H$5,NFI,5,0),1,0)*Table_NFI[[#This Row],[Hygiene Kit]],Table_NFI[Hygiene Kit])","v":0},{"$f":"IF(NFI_Expiration=1,IF($A396<VLOOKUP(I$5,NFI,5,0),1,0)*Table_NFI[[#This Row],[NFI Core Kit]],Table_NFI[NFI Core Kit])","v":0},{"$f":"IF(NFI_Expiration=1,IF($A396<VLOOKUP(J$5,NFI,5,0),1,0)*Table_NFI[[#This Row],[Sanitary Kit]],Table_NFI[Sanitary Kit])","v":42},{"$f":"IF(NFI_Expiration=1,IF($A396<VLOOKUP(K$5,NFI,5,0),1,0)*Table_NFI[[#This Row],[Mosquito net]],Table_NFI[Mosquito net])","v":42},{"$f":"IF(NFI_Expiration=1,IF($A396<VLOOKUP(L$5,NFI,5,0),1,0)*Table_NFI[[#This Row],[Tarpaulin]],Table_NFI[[#This Row],[Tarpaulin]])","v":21},{"$f":"IF(NFI_Expiration=1,IF($A396<VLOOKUP(M$5,NFI,5,0),1,0)*Table_NFI[[#This Row],[Blanket]],Table_NFI[[#This Row],[Blanket]])","v":42},{"$f":"IF(NFI_Expiration=1,IF($A396<VLOOKUP(N$5,NFI,5,0),1,0)*Table_NFI[[#This Row],[Kitchen Set]],Table_NFI[Kitchen Set])","v":21},{"$f":"IF(NFI_Expiration=1,IF($A396<VLOOKUP(O$5,NFI,5,0),1,0)*Table_NFI[[#This Row],[Complementary Kit]],Table_NFI[Complementary Kit])","v":21},{"$f":"IF(NFI_Expiration=1,IF($A396<VLOOKUP(P$5,NFI,5,0),1,0)*Table_NFI[[#This Row],[Plastic Bucket]],Table_NFI[Plastic Bucket])","v":21},{"$f":"IF(NFI_Expiration=1,IF($A396<VLOOKUP(Q$5,NFI,5,0),1,0)*Table_NFI[[#This Row],[Plastic Mat]],Table_NFI[Plastic Mat])","v":21},{"$f":"IFERROR(VLOOKUP(Table_NFI[[#This Row],[Camp Name]],CL,2,0),\"\")","v":"MMR001CMP126"},{"$f":"IFERROR(VLOOKUP(Table_NFI[[#This Row],[Camp Name]],CL,3,0),\"\")","v":"Open"},{"$f":"IFERROR(Table_NFI[[#This Row],[Kitchen Set]]/VLOOKUP(Table_NFI[[#This Row],[Camp Name]],CL,4,0),\"\")","v":4.0697674418604654E-2}]
[5.6333333333333337,"2013-07-16","UNHCR","Shalom","Kachin","Myitkyina","Tat Kone COC Baptist / Tat Kone Htoi San",null,null,55,74,31,74,31,31,31,31,{"$f":"IF(NFI_Expiration=1,IF($A397<VLOOKUP(H$5,NFI,5,0),1,0)*Table_NFI[[#This Row],[Hygiene Kit]],Table_NFI[Hygiene Kit])","v":0},{"$f":"IF(NFI_Expiration=1,IF($A397<VLOOKUP(I$5,NFI,5,0),1,0)*Table_NFI[[#This Row],[NFI Core Kit]],Table_NFI[NFI Core Kit])","v":0},{"$f":"IF(NFI_Expiration=1,IF($A397<VLOOKUP(J$5,NFI,5,0),1,0)*Table_NFI[[#This Row],[Sanitary Kit]],Table_NFI[Sanitary Kit])","v":55},{"$f":"IF(NFI_Expiration=1,IF($A397<VLOOKUP(K$5,NFI,5,0),1,0)*Table_NFI[[#This Row],[Mosquito net]],Table_NFI[Mosquito net])","v":74},{"$f":"IF(NFI_Expiration=1,IF($A397<VLOOKUP(L$5,NFI,5,0),1,0)*Table_NFI[[#This Row],[Tarpaulin]],Table_NFI[[#This Row],[Tarpaulin]])","v":31},{"$f":"IF(NFI_Expiration=1,IF($A397<VLOOKUP(M$5,NFI,5,0),1,0)*Table_NFI[[#This Row],[Blanket]],Table_NFI[[#This Row],[Blanket]])","v":74},{"$f":"IF(NFI_Expiration=1,IF($A397<VLOOKUP(N$5,NFI,5,0),1,0)*Table_NFI[[#This Row],[Kitchen Set]],Table_NFI[Kitchen Set])","v":31},{"$f":"IF(NFI_Expiration=1,IF($A397<VLOOKUP(O$5,NFI,5,0),1,0)*Table_NFI[[#This Row],[Complementary Kit]],Table_NFI[Complementary Kit])","v":31},{"$f":"IF(NFI_Expiration=1,IF($A397<VLOOKUP(P$5,NFI,5,0),1,0)*Table_NFI[[#This Row],[Plastic Bucket]],Table_NFI[Plastic Bucket])","v":31},{"$f":"IF(NFI_Expiration=1,IF($A397<VLOOKUP(Q$5,NFI,5,0),1,0)*Table_NFI[[#This Row],[Plastic Mat]],Table_NFI[Plastic Mat])","v":31},{"$f":"IFERROR(VLOOKUP(Table_NFI[[#This Row],[Camp Name]],CL,2,0),\"\")","v":"MMR001CMP023"},{"$f":"IFERROR(VLOOKUP(Table_NFI[[#This Row],[Camp Name]],CL,3,0),\"\")","v":"Open"},{"$f":"IFERROR(Table_NFI[[#This Row],[Kitchen Set]]/VLOOKUP(Table_NFI[[#This Row],[Camp Name]],CL,4,0),\"\")","v":0.44927536231884058}]
[5.3666666666666663,"2013-07-24","UNHCR","KBC","Kachin","Myitkyina","Shatapru Sut Ngai Tawng",null,null,21,36,16,36,16,16,16,16,{"$f":"IF(NFI_Expiration=1,IF($A398<VLOOKUP(H$5,NFI,5,0),1,0)*Table_NFI[[#This Row],[Hygiene Kit]],Table_NFI[Hygiene Kit])","v":0},{"$f":"IF(NFI_Expiration=1,IF($A398<VLOOKUP(I$5,NFI,5,0),1,0)*Table_NFI[[#This Row],[NFI Core Kit]],Table_NFI[NFI Core Kit])","v":0},{"$f":"IF(NFI_Expiration=1,IF($A398<VLOOKUP(J$5,NFI,5,0),1,0)*Table_NFI[[#This Row],[Sanitary Kit]],Table_NFI[Sanitary Kit])","v":21},{"$f":"IF(NFI_Expiration=1,IF($A398<VLOOKUP(K$5,NFI,5,0),1,0)*Table_NFI[[#This Row],[Mosquito net]],Table_NFI[Mosquito net])","v":36},{"$f":"IF(NFI_Expiration=1,IF($A398<VLOOKUP(L$5,NFI,5,0),1,0)*Table_NFI[[#This Row],[Tarpaulin]],Table_NFI[[#This Row],[Tarpaulin]])","v":16},{"$f":"IF(NFI_Expiration=1,IF($A398<VLOOKUP(M$5,NFI,5,0),1,0)*Table_NFI[[#This Row],[Blanket]],Table_NFI[[#This Row],[Blanket]])","v":36},{"$f":"IF(NFI_Expiration=1,IF($A398<VLOOKUP(N$5,NFI,5,0),1,0)*Table_NFI[[#This Row],[Kitchen Set]],Table_NFI[Kitchen Set])","v":16},{"$f":"IF(NFI_Expiration=1,IF($A398<VLOOKUP(O$5,NFI,5,0),1,0)*Table_NFI[[#This Row],[Complementary Kit]],Table_NFI[Complementary Kit])","v":16},{"$f":"IF(NFI_Expiration=1,IF($A398<VLOOKUP(P$5,NFI,5,0),1,0)*Table_NFI[[#This Row],[Plastic Bucket]],Table_NFI[Plastic Bucket])","v":16},{"$f":"IF(NFI_Expiration=1,IF($A398<VLOOKUP(Q$5,NFI,5,0),1,0)*Table_NFI[[#This Row],[Plastic Mat]],Table_NFI[Plastic Mat])","v":16},{"$f":"IFERROR(VLOOKUP(Table_NFI[[#This Row],[Camp Name]],CL,2,0),\"\")","v":"MMR001CMP006"},{"$f":"IFERROR(VLOOKUP(Table_NFI[[#This Row],[Camp Name]],CL,3,0),\"\")","v":"Open"},{"$f":"IFERROR(Table_NFI[[#This Row],[Kitchen Set]]/VLOOKUP(Table_NFI[[#This Row],[Camp Name]],CL,4,0),\"\")","v":0.15094339622641509}]
[5.3666666666666663,"2013-07-24","UNHCR","KBC","Kachin","Myitkyina","Le Kone Ziun Baptist Church ",null,null,100,158,65,158,65,65,65,65,{"$f":"IF(NFI_Expiration=1,IF($A399<VLOOKUP(H$5,NFI,5,0),1,0)*Table_NFI[[#This Row],[Hygiene Kit]],Table_NFI[Hygiene Kit])","v":0},{"$f":"IF(NFI_Expiration=1,IF($A399<VLOOKUP(I$5,NFI,5,0),1,0)*Table_NFI[[#This Row],[NFI Core Kit]],Table_NFI[NFI Core Kit])","v":0},{"$f":"IF(NFI_Expiration=1,IF($A399<VLOOKUP(J$5,NFI,5,0),1,0)*Table_NFI[[#This Row],[Sanitary Kit]],Table_NFI[Sanitary Kit])","v":100},{"$f":"IF(NFI_Expiration=1,IF($A399<VLOOKUP(K$5,NFI,5,0),1,0)*Table_NFI[[#This Row],[Mosquito net]],Table_NFI[Mosquito net])","v":158},{"$f":"IF(NFI_Expiration=1,IF($A399<VLOOKUP(L$5,NFI,5,0),1,0)*Table_NFI[[#This Row],[Tarpaulin]],Table_NFI[[#This Row],[Tarpaulin]])","v":65},{"$f":"IF(NFI_Expiration=1,IF($A399<VLOOKUP(M$5,NFI,5,0),1,0)*Table_NFI[[#This Row],[Blanket]],Table_NFI[[#This Row],[Blanket]])","v":158},{"$f":"IF(NFI_Expiration=1,IF($A399<VLOOKUP(N$5,NFI,5,0),1,0)*Table_NFI[[#This Row],[Kitchen Set]],Table_NFI[Kitchen Set])","v":65},{"$f":"IF(NFI_Expiration=1,IF($A399<VLOOKUP(O$5,NFI,5,0),1,0)*Table_NFI[[#This Row],[Complementary Kit]],Table_NFI[Complementary Kit])","v":65},{"$f":"IF(NFI_Expiration=1,IF($A399<VLOOKUP(P$5,NFI,5,0),1,0)*Table_NFI[[#This Row],[Plastic Bucket]],Table_NFI[Plastic Bucket])","v":65},{"$f":"IF(NFI_Expiration=1,IF($A399<VLOOKUP(Q$5,NFI,5,0),1,0)*Table_NFI[[#This Row],[Plastic Mat]],Table_NFI[Plastic Mat])","v":65},{"$f":"IFERROR(VLOOKUP(Table_NFI[[#This Row],[Camp Name]],CL,2,0),\"\")","v":"MMR001CMP014"},{"$f":"IFERROR(VLOOKUP(Table_NFI[[#This Row],[Camp Name]],CL,3,0),\"\")","v":"Open"},{"$f":"IFERROR(Table_NFI[[#This Row],[Kitchen Set]]/VLOOKUP(Table_NFI[[#This Row],[Camp Name]],CL,4,0),\"\")","v":0.4452054794520548}]
[5.3666666666666663,"2013-07-24","UNHCR","KBC","Kachin","Myitkyina","Le Kone Bethlehem Church",null,null,66,98,45,98,45,45,45,45,{"$f":"IF(NFI_Expiration=1,IF($A400<VLOOKUP(H$5,NFI,5,0),1,0)*Table_NFI[[#This Row],[Hygiene Kit]],Table_NFI[Hygiene Kit])","v":0},{"$f":"IF(NFI_Expiration=1,IF($A400<VLOOKUP(I$5,NFI,5,0),1,0)*Table_NFI[[#This Row],[NFI Core Kit]],Table_NFI[NFI Core Kit])","v":0},{"$f":"IF(NFI_Expiration=1,IF($A400<VLOOKUP(J$5,NFI,5,0),1,0)*Table_NFI[[#This Row],[Sanitary Kit]],Table_NFI[Sanitary Kit])","v":66},{"$f":"IF(NFI_Expiration=1,IF($A400<VLOOKUP(K$5,NFI,5,0),1,0)*Table_NFI[[#This Row],[Mosquito net]],Table_NFI[Mosquito net])","v":98},{"$f":"IF(NFI_Expiration=1,IF($A400<VLOOKUP(L$5,NFI,5,0),1,0)*Table_NFI[[#This Row],[Tarpaulin]],Table_NFI[[#This Row],[Tarpaulin]])","v":45},{"$f":"IF(NFI_Expiration=1,IF($A400<VLOOKUP(M$5,NFI,5,0),1,0)*Table_NFI[[#This Row],[Blanket]],Table_NFI[[#This Row],[Blanket]])","v":98},{"$f":"IF(NFI_Expiration=1,IF($A400<VLOOKUP(N$5,NFI,5,0),1,0)*Table_NFI[[#This Row],[Kitchen Set]],Table_NFI[Kitchen Set])","v":45},{"$f":"IF(NFI_Expiration=1,IF($A400<VLOOKUP(O$5,NFI,5,0),1,0)*Table_NFI[[#This Row],[Complementary Kit]],Table_NFI[Complementary Kit])","v":45},{"$f":"IF(NFI_Expiration=1,IF($A400<VLOOKUP(P$5,NFI,5,0),1,0)*Table_NFI[[#This Row],[Plastic Bucket]],Table_NFI[Plastic Bucket])","v":45},{"$f":"IF(NFI_Expiration=1,IF($A400<VLOOKUP(Q$5,NFI,5,0),1,0)*Table_NFI[[#This Row],[Plastic Mat]],Table_NFI[Plastic Mat])","v":45},{"$f":"IFERROR(VLOOKUP(Table_NFI[[#This Row],[Camp Name]],CL,2,0),\"\")","v":"MMR001CMP015"},{"$f":"IFERROR(VLOOKUP(Table_NFI[[#This Row],[Camp Name]],CL,3,0),\"\")","v":"Open"},{"$f":"IFERROR(Table_NFI[[#This Row],[Kitchen Set]]/VLOOKUP(Table_NFI[[#This Row],[Camp Name]],CL,4,0),\"\")","v":0.51724137931034486}]
[5.3666666666666663,"2013-07-24","UNHCR","KBC","Kachin","Myitkyina","Tat Kone COC Baptist / Tat Kone Htoi San",null,null,34,46,22,46,22,22,22,22,{"$f":"IF(NFI_Expiration=1,IF($A401<VLOOKUP(H$5,NFI,5,0),1,0)*Table_NFI[[#This Row],[Hygiene Kit]],Table_NFI[Hygiene Kit])","v":0},{"$f":"IF(NFI_Expiration=1,IF($A401<VLOOKUP(I$5,NFI,5,0),1,0)*Table_NFI[[#This Row],[NFI Core Kit]],Table_NFI[NFI Core Kit])","v":0},{"$f":"IF(NFI_Expiration=1,IF($A401<VLOOKUP(J$5,NFI,5,0),1,0)*Table_NFI[[#This Row],[Sanitary Kit]],Table_NFI[Sanitary Kit])","v":34},{"$f":"IF(NFI_Expiration=1,IF($A401<VLOOKUP(K$5,NFI,5,0),1,0)*Table_NFI[[#This Row],[Mosquito net]],Table_NFI[Mosquito net])","v":46},{"$f":"IF(NFI_Expiration=1,IF($A401<VLOOKUP(L$5,NFI,5,0),1,0)*Table_NFI[[#This Row],[Tarpaulin]],Table_NFI[[#This Row],[Tarpaulin]])","v":22},{"$f":"IF(NFI_Expiration=1,IF($A401<VLOOKUP(M$5,NFI,5,0),1,0)*Table_NFI[[#This Row],[Blanket]],Table_NFI[[#This Row],[Blanket]])","v":46},{"$f":"IF(NFI_Expiration=1,IF($A401<VLOOKUP(N$5,NFI,5,0),1,0)*Table_NFI[[#This Row],[Kitchen Set]],Table_NFI[Kitchen Set])","v":22},{"$f":"IF(NFI_Expiration=1,IF($A401<VLOOKUP(O$5,NFI,5,0),1,0)*Table_NFI[[#This Row],[Complementary Kit]],Table_NFI[Complementary Kit])","v":22},{"$f":"IF(NFI_Expiration=1,IF($A401<VLOOKUP(P$5,NFI,5,0),1,0)*Table_NFI[[#This Row],[Plastic Bucket]],Table_NFI[Plastic Bucket])","v":22},{"$f":"IF(NFI_Expiration=1,IF($A401<VLOOKUP(Q$5,NFI,5,0),1,0)*Table_NFI[[#This Row],[Plastic Mat]],Table_NFI[Plastic Mat])","v":22},{"$f":"IFERROR(VLOOKUP(Table_NFI[[#This Row],[Camp Name]],CL,2,0),\"\")","v":"MMR001CMP023"},{"$f":"IFERROR(VLOOKUP(Table_NFI[[#This Row],[Camp Name]],CL,3,0),\"\")","v":"Open"},{"$f":"IFERROR(Table_NFI[[#This Row],[Kitchen Set]]/VLOOKUP(Table_NFI[[#This Row],[Camp Name]],CL,4,0),\"\")","v":0.3188405797101449}]
[5.3666666666666663,"2013-07-24","UNHCR","KMSS","Kachin","Myitkyina","Nan Kway St. John Catholic Church",null,null,21,30,15,30,15,15,15,15,{"$f":"IF(NFI_Expiration=1,IF($A402<VLOOKUP(H$5,NFI,5,0),1,0)*Table_NFI[[#This Row],[Hygiene Kit]],Table_NFI[Hygiene Kit])","v":0},{"$f":"IF(NFI_Expiration=1,IF($A402<VLOOKUP(I$5,NFI,5,0),1,0)*Table_NFI[[#This Row],[NFI Core Kit]],Table_NFI[NFI Core Kit])","v":0},{"$f":"IF(NFI_Expiration=1,IF($A402<VLOOKUP(J$5,NFI,5,0),1,0)*Table_NFI[[#This Row],[Sanitary Kit]],Table_NFI[Sanitary Kit])","v":21},{"$f":"IF(NFI_Expiration=1,IF($A402<VLOOKUP(K$5,NFI,5,0),1,0)*Table_NFI[[#This Row],[Mosquito net]],Table_NFI[Mosquito net])","v":30},{"$f":"IF(NFI_Expiration=1,IF($A402<VLOOKUP(L$5,NFI,5,0),1,0)*Table_NFI[[#This Row],[Tarpaulin]],Table_NFI[[#This Row],[Tarpaulin]])","v":15},{"$f":"IF(NFI_Expiration=1,IF($A402<VLOOKUP(M$5,NFI,5,0),1,0)*Table_NFI[[#This Row],[Blanket]],Table_NFI[[#This Row],[Blanket]])","v":30},{"$f":"IF(NFI_Expiration=1,IF($A402<VLOOKUP(N$5,NFI,5,0),1,0)*Table_NFI[[#This Row],[Kitchen Set]],Table_NFI[Kitchen Set])","v":15},{"$f":"IF(NFI_Expiration=1,IF($A402<VLOOKUP(O$5,NFI,5,0),1,0)*Table_NFI[[#This Row],[Complementary Kit]],Table_NFI[Complementary Kit])","v":15},{"$f":"IF(NFI_Expiration=1,IF($A402<VLOOKUP(P$5,NFI,5,0),1,0)*Table_NFI[[#This Row],[Plastic Bucket]],Table_NFI[Plastic Bucket])","v":15},{"$f":"IF(NFI_Expiration=1,IF($A402<VLOOKUP(Q$5,NFI,5,0),1,0)*Table_NFI[[#This Row],[Plastic Mat]],Table_NFI[Plastic Mat])","v":15},{"$f":"IFERROR(VLOOKUP(Table_NFI[[#This Row],[Camp Name]],CL,2,0),\"\")","v":"MMR001CMP024"},{"$f":"IFERROR(VLOOKUP(Table_NFI[[#This Row],[Camp Name]],CL,3,0),\"\")","v":"Open"},{"$f":"IFERROR(Table_NFI[[#This Row],[Kitchen Set]]/VLOOKUP(Table_NFI[[#This Row],[Camp Name]],CL,4,0),\"\")","v":0.20833333333333334}]
[5.3666666666666663,"2013-07-24","UNHCR","KBC","Kachin","Myitkyina","Qtr. 2 Myoma Baptist Church",null,null,31,44,18,44,18,18,18,18,{"$f":"IF(NFI_Expiration=1,IF($A403<VLOOKUP(H$5,NFI,5,0),1,0)*Table_NFI[[#This Row],[Hygiene Kit]],Table_NFI[Hygiene Kit])","v":0},{"$f":"IF(NFI_Expiration=1,IF($A403<VLOOKUP(I$5,NFI,5,0),1,0)*Table_NFI[[#This Row],[NFI Core Kit]],Table_NFI[NFI Core Kit])","v":0},{"$f":"IF(NFI_Expiration=1,IF($A403<VLOOKUP(J$5,NFI,5,0),1,0)*Table_NFI[[#This Row],[Sanitary Kit]],Table_NFI[Sanitary Kit])","v":31},{"$f":"IF(NFI_Expiration=1,IF($A403<VLOOKUP(K$5,NFI,5,0),1,0)*Table_NFI[[#This Row],[Mosquito net]],Table_NFI[Mosquito net])","v":44},{"$f":"IF(NFI_Expiration=1,IF($A403<VLOOKUP(L$5,NFI,5,0),1,0)*Table_NFI[[#This Row],[Tarpaulin]],Table_NFI[[#This Row],[Tarpaulin]])","v":18},{"$f":"IF(NFI_Expiration=1,IF($A403<VLOOKUP(M$5,NFI,5,0),1,0)*Table_NFI[[#This Row],[Blanket]],Table_NFI[[#This Row],[Blanket]])","v":44},{"$f":"IF(NFI_Expiration=1,IF($A403<VLOOKUP(N$5,NFI,5,0),1,0)*Table_NFI[[#This Row],[Kitchen Set]],Table_NFI[Kitchen Set])","v":18},{"$f":"IF(NFI_Expiration=1,IF($A403<VLOOKUP(O$5,NFI,5,0),1,0)*Table_NFI[[#This Row],[Complementary Kit]],Table_NFI[Complementary Kit])","v":18},{"$f":"IF(NFI_Expiration=1,IF($A403<VLOOKUP(P$5,NFI,5,0),1,0)*Table_NFI[[#This Row],[Plastic Bucket]],Table_NFI[Plastic Bucket])","v":18},{"$f":"IF(NFI_Expiration=1,IF($A403<VLOOKUP(Q$5,NFI,5,0),1,0)*Table_NFI[[#This Row],[Plastic Mat]],Table_NFI[Plastic Mat])","v":18},{"$f":"IFERROR(VLOOKUP(Table_NFI[[#This Row],[Camp Name]],CL,2,0),\"\")","v":"MMR001CMP025"},{"$f":"IFERROR(VLOOKUP(Table_NFI[[#This Row],[Camp Name]],CL,3,0),\"\")","v":"Open"},{"$f":"IFERROR(Table_NFI[[#This Row],[Kitchen Set]]/VLOOKUP(Table_NFI[[#This Row],[Camp Name]],CL,4,0),\"\")","v":0.21686746987951808}]
[5.3666666666666663,"2013-07-24","UNHCR","Shalom","Kachin","Waingmaw","Qtr. 4 Monestry (Thargaya Thayett Taw)",null,null,41,73,31,73,31,31,31,31,{"$f":"IF(NFI_Expiration=1,IF($A404<VLOOKUP(H$5,NFI,5,0),1,0)*Table_NFI[[#This Row],[Hygiene Kit]],Table_NFI[Hygiene Kit])","v":0},{"$f":"IF(NFI_Expiration=1,IF($A404<VLOOKUP(I$5,NFI,5,0),1,0)*Table_NFI[[#This Row],[NFI Core Kit]],Table_NFI[NFI Core Kit])","v":0},{"$f":"IF(NFI_Expiration=1,IF($A404<VLOOKUP(J$5,NFI,5,0),1,0)*Table_NFI[[#This Row],[Sanitary Kit]],Table_NFI[Sanitary Kit])","v":41},{"$f":"IF(NFI_Expiration=1,IF($A404<VLOOKUP(K$5,NFI,5,0),1,0)*Table_NFI[[#This Row],[Mosquito net]],Table_NFI[Mosquito net])","v":73},{"$f":"IF(NFI_Expiration=1,IF($A404<VLOOKUP(L$5,NFI,5,0),1,0)*Table_NFI[[#This Row],[Tarpaulin]],Table_NFI[[#This Row],[Tarpaulin]])","v":31},{"$f":"IF(NFI_Expiration=1,IF($A404<VLOOKUP(M$5,NFI,5,0),1,0)*Table_NFI[[#This Row],[Blanket]],Table_NFI[[#This Row],[Blanket]])","v":73},{"$f":"IF(NFI_Expiration=1,IF($A404<VLOOKUP(N$5,NFI,5,0),1,0)*Table_NFI[[#This Row],[Kitchen Set]],Table_NFI[Kitchen Set])","v":31},{"$f":"IF(NFI_Expiration=1,IF($A404<VLOOKUP(O$5,NFI,5,0),1,0)*Table_NFI[[#This Row],[Complementary Kit]],Table_NFI[Complementary Kit])","v":31},{"$f":"IF(NFI_Expiration=1,IF($A404<VLOOKUP(P$5,NFI,5,0),1,0)*Table_NFI[[#This Row],[Plastic Bucket]],Table_NFI[Plastic Bucket])","v":31},{"$f":"IF(NFI_Expiration=1,IF($A404<VLOOKUP(Q$5,NFI,5,0),1,0)*Table_NFI[[#This Row],[Plastic Mat]],Table_NFI[Plastic Mat])","v":31},{"$f":"IFERROR(VLOOKUP(Table_NFI[[#This Row],[Camp Name]],CL,2,0),\"\")","v":"MMR001CMP026"},{"$f":"IFERROR(VLOOKUP(Table_NFI[[#This Row],[Camp Name]],CL,3,0),\"\")","v":"Open"},{"$f":"IFERROR(Table_NFI[[#This Row],[Kitchen Set]]/VLOOKUP(Table_NFI[[#This Row],[Camp Name]],CL,4,0),\"\")","v":0.30693069306930693}]
[5.3666666666666663,"2013-07-24","UNHCR","KMSS","Kachin","Waingmaw","Maina Catholic Church (St. Joseph)",null,null,40,49,23,49,23,23,23,23,{"$f":"IF(NFI_Expiration=1,IF($A405<VLOOKUP(H$5,NFI,5,0),1,0)*Table_NFI[[#This Row],[Hygiene Kit]],Table_NFI[Hygiene Kit])","v":0},{"$f":"IF(NFI_Expiration=1,IF($A405<VLOOKUP(I$5,NFI,5,0),1,0)*Table_NFI[[#This Row],[NFI Core Kit]],Table_NFI[NFI Core Kit])","v":0},{"$f":"IF(NFI_Expiration=1,IF($A405<VLOOKUP(J$5,NFI,5,0),1,0)*Table_NFI[[#This Row],[Sanitary Kit]],Table_NFI[Sanitary Kit])","v":40},{"$f":"IF(NFI_Expiration=1,IF($A405<VLOOKUP(K$5,NFI,5,0),1,0)*Table_NFI[[#This Row],[Mosquito net]],Table_NFI[Mosquito net])","v":49},{"$f":"IF(NFI_Expiration=1,IF($A405<VLOOKUP(L$5,NFI,5,0),1,0)*Table_NFI[[#This Row],[Tarpaulin]],Table_NFI[[#This Row],[Tarpaulin]])","v":23},{"$f":"IF(NFI_Expiration=1,IF($A405<VLOOKUP(M$5,NFI,5,0),1,0)*Table_NFI[[#This Row],[Blanket]],Table_NFI[[#This Row],[Blanket]])","v":49},{"$f":"IF(NFI_Expiration=1,IF($A405<VLOOKUP(N$5,NFI,5,0),1,0)*Table_NFI[[#This Row],[Kitchen Set]],Table_NFI[Kitchen Set])","v":23},{"$f":"IF(NFI_Expiration=1,IF($A405<VLOOKUP(O$5,NFI,5,0),1,0)*Table_NFI[[#This Row],[Complementary Kit]],Table_NFI[Complementary Kit])","v":23},{"$f":"IF(NFI_Expiration=1,IF($A405<VLOOKUP(P$5,NFI,5,0),1,0)*Table_NFI[[#This Row],[Plastic Bucket]],Table_NFI[Plastic Bucket])","v":23},{"$f":"IF(NFI_Expiration=1,IF($A405<VLOOKUP(Q$5,NFI,5,0),1,0)*Table_NFI[[#This Row],[Plastic Mat]],Table_NFI[Plastic Mat])","v":23},{"$f":"IFERROR(VLOOKUP(Table_NFI[[#This Row],[Camp Name]],CL,2,0),\"\")","v":"MMR001CMP029"},{"$f":"IFERROR(VLOOKUP(Table_NFI[[#This Row],[Camp Name]],CL,3,0),\"\")","v":"Open"},{"$f":"IFERROR(Table_NFI[[#This Row],[Kitchen Set]]/VLOOKUP(Table_NFI[[#This Row],[Camp Name]],CL,4,0),\"\")","v":9.9137931034482762E-2}]
[5.3666666666666663,"2013-07-24","UNHCR","Shalom","Kachin","Waingmaw","Maina AG Church",null,null,10,14,7,14,7,7,7,7,{"$f":"IF(NFI_Expiration=1,IF($A406<VLOOKUP(H$5,NFI,5,0),1,0)*Table_NFI[[#This Row],[Hygiene Kit]],Table_NFI[Hygiene Kit])","v":0},{"$f":"IF(NFI_Expiration=1,IF($A406<VLOOKUP(I$5,NFI,5,0),1,0)*Table_NFI[[#This Row],[NFI Core Kit]],Table_NFI[NFI Core Kit])","v":0},{"$f":"IF(NFI_Expiration=1,IF($A406<VLOOKUP(J$5,NFI,5,0),1,0)*Table_NFI[[#This Row],[Sanitary Kit]],Table_NFI[Sanitary Kit])","v":10},{"$f":"IF(NFI_Expiration=1,IF($A406<VLOOKUP(K$5,NFI,5,0),1,0)*Table_NFI[[#This Row],[Mosquito net]],Table_NFI[Mosquito net])","v":14},{"$f":"IF(NFI_Expiration=1,IF($A406<VLOOKUP(L$5,NFI,5,0),1,0)*Table_NFI[[#This Row],[Tarpaulin]],Table_NFI[[#This Row],[Tarpaulin]])","v":7},{"$f":"IF(NFI_Expiration=1,IF($A406<VLOOKUP(M$5,NFI,5,0),1,0)*Table_NFI[[#This Row],[Blanket]],Table_NFI[[#This Row],[Blanket]])","v":14},{"$f":"IF(NFI_Expiration=1,IF($A406<VLOOKUP(N$5,NFI,5,0),1,0)*Table_NFI[[#This Row],[Kitchen Set]],Table_NFI[Kitchen Set])","v":7},{"$f":"IF(NFI_Expiration=1,IF($A406<VLOOKUP(O$5,NFI,5,0),1,0)*Table_NFI[[#This Row],[Complementary Kit]],Table_NFI[Complementary Kit])","v":7},{"$f":"IF(NFI_Expiration=1,IF($A406<VLOOKUP(P$5,NFI,5,0),1,0)*Table_NFI[[#This Row],[Plastic Bucket]],Table_NFI[Plastic Bucket])","v":7},{"$f":"IF(NFI_Expiration=1,IF($A406<VLOOKUP(Q$5,NFI,5,0),1,0)*Table_NFI[[#This Row],[Plastic Mat]],Table_NFI[Plastic Mat])","v":7},{"$f":"IFERROR(VLOOKUP(Table_NFI[[#This Row],[Camp Name]],CL,2,0),\"\")","v":"MMR001CMP031"},{"$f":"IFERROR(VLOOKUP(Table_NFI[[#This Row],[Camp Name]],CL,3,0),\"\")","v":"Open"},{"$f":"IFERROR(Table_NFI[[#This Row],[Kitchen Set]]/VLOOKUP(Table_NFI[[#This Row],[Camp Name]],CL,4,0),\"\")","v":4.9645390070921988E-2}]
[5.3666666666666663,"2013-07-24","UNHCR","Shalom","Kachin","Waingmaw","Waingmaw AG Church",null,null,22,32,15,32,15,15,15,15,{"$f":"IF(NFI_Expiration=1,IF($A407<VLOOKUP(H$5,NFI,5,0),1,0)*Table_NFI[[#This Row],[Hygiene Kit]],Table_NFI[Hygiene Kit])","v":0},{"$f":"IF(NFI_Expiration=1,IF($A407<VLOOKUP(I$5,NFI,5,0),1,0)*Table_NFI[[#This Row],[NFI Core Kit]],Table_NFI[NFI Core Kit])","v":0},{"$f":"IF(NFI_Expiration=1,IF($A407<VLOOKUP(J$5,NFI,5,0),1,0)*Table_NFI[[#This Row],[Sanitary Kit]],Table_NFI[Sanitary Kit])","v":22},{"$f":"IF(NFI_Expiration=1,IF($A407<VLOOKUP(K$5,NFI,5,0),1,0)*Table_NFI[[#This Row],[Mosquito net]],Table_NFI[Mosquito net])","v":32},{"$f":"IF(NFI_Expiration=1,IF($A407<VLOOKUP(L$5,NFI,5,0),1,0)*Table_NFI[[#This Row],[Tarpaulin]],Table_NFI[[#This Row],[Tarpaulin]])","v":15},{"$f":"IF(NFI_Expiration=1,IF($A407<VLOOKUP(M$5,NFI,5,0),1,0)*Table_NFI[[#This Row],[Blanket]],Table_NFI[[#This Row],[Blanket]])","v":32},{"$f":"IF(NFI_Expiration=1,IF($A407<VLOOKUP(N$5,NFI,5,0),1,0)*Table_NFI[[#This Row],[Kitchen Set]],Table_NFI[Kitchen Set])","v":15},{"$f":"IF(NFI_Expiration=1,IF($A407<VLOOKUP(O$5,NFI,5,0),1,0)*Table_NFI[[#This Row],[Complementary Kit]],Table_NFI[Complementary Kit])","v":15},{"$f":"IF(NFI_Expiration=1,IF($A407<VLOOKUP(P$5,NFI,5,0),1,0)*Table_NFI[[#This Row],[Plastic Bucket]],Table_NFI[Plastic Bucket])","v":15},{"$f":"IF(NFI_Expiration=1,IF($A407<VLOOKUP(Q$5,NFI,5,0),1,0)*Table_NFI[[#This Row],[Plastic Mat]],Table_NFI[Plastic Mat])","v":15},{"$f":"IFERROR(VLOOKUP(Table_NFI[[#This Row],[Camp Name]],CL,2,0),\"\")","v":"MMR001CMP038"},{"$f":"IFERROR(VLOOKUP(Table_NFI[[#This Row],[Camp Name]],CL,3,0),\"\")","v":"Open"},{"$f":"IFERROR(Table_NFI[[#This Row],[Kitchen Set]]/VLOOKUP(Table_NFI[[#This Row],[Camp Name]],CL,4,0),\"\")","v":0.18518518518518517}]
[5.3666666666666663,"2013-07-24","UNHCR","KMSS","Kachin","Hpakant","Nant Ma Hpit Catholic Church",null,null,15,25,10,25,10,10,10,10,{"$f":"IF(NFI_Expiration=1,IF($A408<VLOOKUP(H$5,NFI,5,0),1,0)*Table_NFI[[#This Row],[Hygiene Kit]],Table_NFI[Hygiene Kit])","v":0},{"$f":"IF(NFI_Expiration=1,IF($A408<VLOOKUP(I$5,NFI,5,0),1,0)*Table_NFI[[#This Row],[NFI Core Kit]],Table_NFI[NFI Core Kit])","v":0},{"$f":"IF(NFI_Expiration=1,IF($A408<VLOOKUP(J$5,NFI,5,0),1,0)*Table_NFI[[#This Row],[Sanitary Kit]],Table_NFI[Sanitary Kit])","v":15},{"$f":"IF(NFI_Expiration=1,IF($A408<VLOOKUP(K$5,NFI,5,0),1,0)*Table_NFI[[#This Row],[Mosquito net]],Table_NFI[Mosquito net])","v":25},{"$f":"IF(NFI_Expiration=1,IF($A408<VLOOKUP(L$5,NFI,5,0),1,0)*Table_NFI[[#This Row],[Tarpaulin]],Table_NFI[[#This Row],[Tarpaulin]])","v":10},{"$f":"IF(NFI_Expiration=1,IF($A408<VLOOKUP(M$5,NFI,5,0),1,0)*Table_NFI[[#This Row],[Blanket]],Table_NFI[[#This Row],[Blanket]])","v":25},{"$f":"IF(NFI_Expiration=1,IF($A408<VLOOKUP(N$5,NFI,5,0),1,0)*Table_NFI[[#This Row],[Kitchen Set]],Table_NFI[Kitchen Set])","v":10},{"$f":"IF(NFI_Expiration=1,IF($A408<VLOOKUP(O$5,NFI,5,0),1,0)*Table_NFI[[#This Row],[Complementary Kit]],Table_NFI[Complementary Kit])","v":10},{"$f":"IF(NFI_Expiration=1,IF($A408<VLOOKUP(P$5,NFI,5,0),1,0)*Table_NFI[[#This Row],[Plastic Bucket]],Table_NFI[Plastic Bucket])","v":10},{"$f":"IF(NFI_Expiration=1,IF($A408<VLOOKUP(Q$5,NFI,5,0),1,0)*Table_NFI[[#This Row],[Plastic Mat]],Table_NFI[Plastic Mat])","v":10},{"$f":"IFERROR(VLOOKUP(Table_NFI[[#This Row],[Camp Name]],CL,2,0),\"\")","v":"MMR001CMP103"},{"$f":"IFERROR(VLOOKUP(Table_NFI[[#This Row],[Camp Name]],CL,3,0),\"\")","v":"Open"},{"$f":"IFERROR(Table_NFI[[#This Row],[Kitchen Set]]/VLOOKUP(Table_NFI[[#This Row],[Camp Name]],CL,4,0),\"\")","v":0.26315789473684209}]
[5.3666666666666663,"2013-07-24","UNHCR","KMSS","Kachin","Myitkyina","Pa Dauk Myaing(Pa La Na)",null,null,31,41,17,41,17,17,17,17,{"$f":"IF(NFI_Expiration=1,IF($A409<VLOOKUP(H$5,NFI,5,0),1,0)*Table_NFI[[#This Row],[Hygiene Kit]],Table_NFI[Hygiene Kit])","v":0},{"$f":"IF(NFI_Expiration=1,IF($A409<VLOOKUP(I$5,NFI,5,0),1,0)*Table_NFI[[#This Row],[NFI Core Kit]],Table_NFI[NFI Core Kit])","v":0},{"$f":"IF(NFI_Expiration=1,IF($A409<VLOOKUP(J$5,NFI,5,0),1,0)*Table_NFI[[#This Row],[Sanitary Kit]],Table_NFI[Sanitary Kit])","v":31},{"$f":"IF(NFI_Expiration=1,IF($A409<VLOOKUP(K$5,NFI,5,0),1,0)*Table_NFI[[#This Row],[Mosquito net]],Table_NFI[Mosquito net])","v":41},{"$f":"IF(NFI_Expiration=1,IF($A409<VLOOKUP(L$5,NFI,5,0),1,0)*Table_NFI[[#This Row],[Tarpaulin]],Table_NFI[[#This Row],[Tarpaulin]])","v":17},{"$f":"IF(NFI_Expiration=1,IF($A409<VLOOKUP(M$5,NFI,5,0),1,0)*Table_NFI[[#This Row],[Blanket]],Table_NFI[[#This Row],[Blanket]])","v":41},{"$f":"IF(NFI_Expiration=1,IF($A409<VLOOKUP(N$5,NFI,5,0),1,0)*Table_NFI[[#This Row],[Kitchen Set]],Table_NFI[Kitchen Set])","v":17},{"$f":"IF(NFI_Expiration=1,IF($A409<VLOOKUP(O$5,NFI,5,0),1,0)*Table_NFI[[#This Row],[Complementary Kit]],Table_NFI[Complementary Kit])","v":17},{"$f":"IF(NFI_Expiration=1,IF($A409<VLOOKUP(P$5,NFI,5,0),1,0)*Table_NFI[[#This Row],[Plastic Bucket]],Table_NFI[Plastic Bucket])","v":17},{"$f":"IF(NFI_Expiration=1,IF($A409<VLOOKUP(Q$5,NFI,5,0),1,0)*Table_NFI[[#This Row],[Plastic Mat]],Table_NFI[Plastic Mat])","v":17},{"$f":"IFERROR(VLOOKUP(Table_NFI[[#This Row],[Camp Name]],CL,2,0),\"\")","v":"MMR001CMP162"},{"$f":"IFERROR(VLOOKUP(Table_NFI[[#This Row],[Camp Name]],CL,3,0),\"\")","v":"Open"},{"$f":"IFERROR(Table_NFI[[#This Row],[Kitchen Set]]/VLOOKUP(Table_NFI[[#This Row],[Camp Name]],CL,4,0),\"\")","v":0.54838709677419351}]
[4.9000000000000004,"2013-08-07","UNHCR","UNHCR","Kachin","Myitkyina","Maliyang Baptist Church",null,null,15,25,11,25,11,11,11,11,{"$f":"IF(NFI_Expiration=1,IF($A410<VLOOKUP(H$5,NFI,5,0),1,0)*Table_NFI[[#This Row],[Hygiene Kit]],Table_NFI[Hygiene Kit])","v":0},{"$f":"IF(NFI_Expiration=1,IF($A410<VLOOKUP(I$5,NFI,5,0),1,0)*Table_NFI[[#This Row],[NFI Core Kit]],Table_NFI[NFI Core Kit])","v":0},{"$f":"IF(NFI_Expiration=1,IF($A410<VLOOKUP(J$5,NFI,5,0),1,0)*Table_NFI[[#This Row],[Sanitary Kit]],Table_NFI[Sanitary Kit])","v":15},{"$f":"IF(NFI_Expiration=1,IF($A410<VLOOKUP(K$5,NFI,5,0),1,0)*Table_NFI[[#This Row],[Mosquito net]],Table_NFI[Mosquito net])","v":25},{"$f":"IF(NFI_Expiration=1,IF($A410<VLOOKUP(L$5,NFI,5,0),1,0)*Table_NFI[[#This Row],[Tarpaulin]],Table_NFI[[#This Row],[Tarpaulin]])","v":11},{"$f":"IF(NFI_Expiration=1,IF($A410<VLOOKUP(M$5,NFI,5,0),1,0)*Table_NFI[[#This Row],[Blanket]],Table_NFI[[#This Row],[Blanket]])","v":25},{"$f":"IF(NFI_Expiration=1,IF($A410<VLOOKUP(N$5,NFI,5,0),1,0)*Table_NFI[[#This Row],[Kitchen Set]],Table_NFI[Kitchen Set])","v":11},{"$f":"IF(NFI_Expiration=1,IF($A410<VLOOKUP(O$5,NFI,5,0),1,0)*Table_NFI[[#This Row],[Complementary Kit]],Table_NFI[Complementary Kit])","v":11},{"$f":"IF(NFI_Expiration=1,IF($A410<VLOOKUP(P$5,NFI,5,0),1,0)*Table_NFI[[#This Row],[Plastic Bucket]],Table_NFI[Plastic Bucket])","v":11},{"$f":"IF(NFI_Expiration=1,IF($A410<VLOOKUP(Q$5,NFI,5,0),1,0)*Table_NFI[[#This Row],[Plastic Mat]],Table_NFI[Plastic Mat])","v":11},{"$f":"IFERROR(VLOOKUP(Table_NFI[[#This Row],[Camp Name]],CL,2,0),\"\")","v":"MMR001CMP016"},{"$f":"IFERROR(VLOOKUP(Table_NFI[[#This Row],[Camp Name]],CL,3,0),\"\")","v":"Open"},{"$f":"IFERROR(Table_NFI[[#This Row],[Kitchen Set]]/VLOOKUP(Table_NFI[[#This Row],[Camp Name]],CL,4,0),\"\")","v":0.15277777777777779}]
[4.9000000000000004,"2013-08-07","UNHCR","UNHCR","Kachin","Myitkyina","Mading Baptist Church",null,null,15,57,24,57,24,24,24,24,{"$f":"IF(NFI_Expiration=1,IF($A411<VLOOKUP(H$5,NFI,5,0),1,0)*Table_NFI[[#This Row],[Hygiene Kit]],Table_NFI[Hygiene Kit])","v":0},{"$f":"IF(NFI_Expiration=1,IF($A411<VLOOKUP(I$5,NFI,5,0),1,0)*Table_NFI[[#This Row],[NFI Core Kit]],Table_NFI[NFI Core Kit])","v":0},{"$f":"IF(NFI_Expiration=1,IF($A411<VLOOKUP(J$5,NFI,5,0),1,0)*Table_NFI[[#This Row],[Sanitary Kit]],Table_NFI[Sanitary Kit])","v":15},{"$f":"IF(NFI_Expiration=1,IF($A411<VLOOKUP(K$5,NFI,5,0),1,0)*Table_NFI[[#This Row],[Mosquito net]],Table_NFI[Mosquito net])","v":57},{"$f":"IF(NFI_Expiration=1,IF($A411<VLOOKUP(L$5,NFI,5,0),1,0)*Table_NFI[[#This Row],[Tarpaulin]],Table_NFI[[#This Row],[Tarpaulin]])","v":24},{"$f":"IF(NFI_Expiration=1,IF($A411<VLOOKUP(M$5,NFI,5,0),1,0)*Table_NFI[[#This Row],[Blanket]],Table_NFI[[#This Row],[Blanket]])","v":57},{"$f":"IF(NFI_Expiration=1,IF($A411<VLOOKUP(N$5,NFI,5,0),1,0)*Table_NFI[[#This Row],[Kitchen Set]],Table_NFI[Kitchen Set])","v":24},{"$f":"IF(NFI_Expiration=1,IF($A411<VLOOKUP(O$5,NFI,5,0),1,0)*Table_NFI[[#This Row],[Complementary Kit]],Table_NFI[Complementary Kit])","v":24},{"$f":"IF(NFI_Expiration=1,IF($A411<VLOOKUP(P$5,NFI,5,0),1,0)*Table_NFI[[#This Row],[Plastic Bucket]],Table_NFI[Plastic Bucket])","v":24},{"$f":"IF(NFI_Expiration=1,IF($A411<VLOOKUP(Q$5,NFI,5,0),1,0)*Table_NFI[[#This Row],[Plastic Mat]],Table_NFI[Plastic Mat])","v":24},{"$f":"IFERROR(VLOOKUP(Table_NFI[[#This Row],[Camp Name]],CL,2,0),\"\")","v":"MMR001CMP027"},{"$f":"IFERROR(VLOOKUP(Table_NFI[[#This Row],[Camp Name]],CL,3,0),\"\")","v":"Open"},{"$f":"IFERROR(Table_NFI[[#This Row],[Kitchen Set]]/VLOOKUP(Table_NFI[[#This Row],[Camp Name]],CL,4,0),\"\")","v":1.0434782608695652}]
[4.9000000000000004,"2013-08-07","UNHCR","UNHCR","Kachin","Waingmaw","Maina AG Church",null,null,20,40,17,40,17,17,17,17,{"$f":"IF(NFI_Expiration=1,IF($A412<VLOOKUP(H$5,NFI,5,0),1,0)*Table_NFI[[#This Row],[Hygiene Kit]],Table_NFI[Hygiene Kit])","v":0},{"$f":"IF(NFI_Expiration=1,IF($A412<VLOOKUP(I$5,NFI,5,0),1,0)*Table_NFI[[#This Row],[NFI Core Kit]],Table_NFI[NFI Core Kit])","v":0},{"$f":"IF(NFI_Expiration=1,IF($A412<VLOOKUP(J$5,NFI,5,0),1,0)*Table_NFI[[#This Row],[Sanitary Kit]],Table_NFI[Sanitary Kit])","v":20},{"$f":"IF(NFI_Expiration=1,IF($A412<VLOOKUP(K$5,NFI,5,0),1,0)*Table_NFI[[#This Row],[Mosquito net]],Table_NFI[Mosquito net])","v":40},{"$f":"IF(NFI_Expiration=1,IF($A412<VLOOKUP(L$5,NFI,5,0),1,0)*Table_NFI[[#This Row],[Tarpaulin]],Table_NFI[[#This Row],[Tarpaulin]])","v":17},{"$f":"IF(NFI_Expiration=1,IF($A412<VLOOKUP(M$5,NFI,5,0),1,0)*Table_NFI[[#This Row],[Blanket]],Table_NFI[[#This Row],[Blanket]])","v":40},{"$f":"IF(NFI_Expiration=1,IF($A412<VLOOKUP(N$5,NFI,5,0),1,0)*Table_NFI[[#This Row],[Kitchen Set]],Table_NFI[Kitchen Set])","v":17},{"$f":"IF(NFI_Expiration=1,IF($A412<VLOOKUP(O$5,NFI,5,0),1,0)*Table_NFI[[#This Row],[Complementary Kit]],Table_NFI[Complementary Kit])","v":17},{"$f":"IF(NFI_Expiration=1,IF($A412<VLOOKUP(P$5,NFI,5,0),1,0)*Table_NFI[[#This Row],[Plastic Bucket]],Table_NFI[Plastic Bucket])","v":17},{"$f":"IF(NFI_Expiration=1,IF($A412<VLOOKUP(Q$5,NFI,5,0),1,0)*Table_NFI[[#This Row],[Plastic Mat]],Table_NFI[Plastic Mat])","v":17},{"$f":"IFERROR(VLOOKUP(Table_NFI[[#This Row],[Camp Name]],CL,2,0),\"\")","v":"MMR001CMP031"},{"$f":"IFERROR(VLOOKUP(Table_NFI[[#This Row],[Camp Name]],CL,3,0),\"\")","v":"Open"},{"$f":"IFERROR(Table_NFI[[#This Row],[Kitchen Set]]/VLOOKUP(Table_NFI[[#This Row],[Camp Name]],CL,4,0),\"\")","v":0.12056737588652482}]
[4.7,"2013-08-13","UNHCR","KMSS","Shan_North","Manton","Host Families",null,null,49,90,30,90,30,30,30,30,{"$f":"IF(NFI_Expiration=1,IF($A413<VLOOKUP(H$5,NFI,5,0),1,0)*Table_NFI[[#This Row],[Hygiene Kit]],Table_NFI[Hygiene Kit])","v":0},{"$f":"IF(NFI_Expiration=1,IF($A413<VLOOKUP(I$5,NFI,5,0),1,0)*Table_NFI[[#This Row],[NFI Core Kit]],Table_NFI[NFI Core Kit])","v":0},{"$f":"IF(NFI_Expiration=1,IF($A413<VLOOKUP(J$5,NFI,5,0),1,0)*Table_NFI[[#This Row],[Sanitary Kit]],Table_NFI[Sanitary Kit])","v":49},{"$f":"IF(NFI_Expiration=1,IF($A413<VLOOKUP(K$5,NFI,5,0),1,0)*Table_NFI[[#This Row],[Mosquito net]],Table_NFI[Mosquito net])","v":90},{"$f":"IF(NFI_Expiration=1,IF($A413<VLOOKUP(L$5,NFI,5,0),1,0)*Table_NFI[[#This Row],[Tarpaulin]],Table_NFI[[#This Row],[Tarpaulin]])","v":30},{"$f":"IF(NFI_Expiration=1,IF($A413<VLOOKUP(M$5,NFI,5,0),1,0)*Table_NFI[[#This Row],[Blanket]],Table_NFI[[#This Row],[Blanket]])","v":90},{"$f":"IF(NFI_Expiration=1,IF($A413<VLOOKUP(N$5,NFI,5,0),1,0)*Table_NFI[[#This Row],[Kitchen Set]],Table_NFI[Kitchen Set])","v":30},{"$f":"IF(NFI_Expiration=1,IF($A413<VLOOKUP(O$5,NFI,5,0),1,0)*Table_NFI[[#This Row],[Complementary Kit]],Table_NFI[Complementary Kit])","v":30},{"$f":"IF(NFI_Expiration=1,IF($A413<VLOOKUP(P$5,NFI,5,0),1,0)*Table_NFI[[#This Row],[Plastic Bucket]],Table_NFI[Plastic Bucket])","v":30},{"$f":"IF(NFI_Expiration=1,IF($A413<VLOOKUP(Q$5,NFI,5,0),1,0)*Table_NFI[[#This Row],[Plastic Mat]],Table_NFI[Plastic Mat])","v":30},{"$f":"IFERROR(VLOOKUP(Table_NFI[[#This Row],[Camp Name]],CL,2,0),\"\")","v":"MMR001CMP163"},{"$f":"IFERROR(VLOOKUP(Table_NFI[[#This Row],[Camp Name]],CL,3,0),\"\")","v":"Open"},{"$f":"IFERROR(Table_NFI[[#This Row],[Kitchen Set]]/VLOOKUP(Table_NFI[[#This Row],[Camp Name]],CL,4,0),\"\")","v":8.9552238805970144E-2}]
[4.7,"2013-08-13","UNHCR","KMSS","Shan_North","Namhkan","Nam Hkam (KBC Jaw Wang)",null,null,100,188,75,188,75,75,75,75,{"$f":"IF(NFI_Expiration=1,IF($A414<VLOOKUP(H$5,NFI,5,0),1,0)*Table_NFI[[#This Row],[Hygiene Kit]],Table_NFI[Hygiene Kit])","v":0},{"$f":"IF(NFI_Expiration=1,IF($A414<VLOOKUP(I$5,NFI,5,0),1,0)*Table_NFI[[#This Row],[NFI Core Kit]],Table_NFI[NFI Core Kit])","v":0},{"$f":"IF(NFI_Expiration=1,IF($A414<VLOOKUP(J$5,NFI,5,0),1,0)*Table_NFI[[#This Row],[Sanitary Kit]],Table_NFI[Sanitary Kit])","v":100},{"$f":"IF(NFI_Expiration=1,IF($A414<VLOOKUP(K$5,NFI,5,0),1,0)*Table_NFI[[#This Row],[Mosquito net]],Table_NFI[Mosquito net])","v":188},{"$f":"IF(NFI_Expiration=1,IF($A414<VLOOKUP(L$5,NFI,5,0),1,0)*Table_NFI[[#This Row],[Tarpaulin]],Table_NFI[[#This Row],[Tarpaulin]])","v":75},{"$f":"IF(NFI_Expiration=1,IF($A414<VLOOKUP(M$5,NFI,5,0),1,0)*Table_NFI[[#This Row],[Blanket]],Table_NFI[[#This Row],[Blanket]])","v":188},{"$f":"IF(NFI_Expiration=1,IF($A414<VLOOKUP(N$5,NFI,5,0),1,0)*Table_NFI[[#This Row],[Kitchen Set]],Table_NFI[Kitchen Set])","v":75},{"$f":"IF(NFI_Expiration=1,IF($A414<VLOOKUP(O$5,NFI,5,0),1,0)*Table_NFI[[#This Row],[Complementary Kit]],Table_NFI[Complementary Kit])","v":75},{"$f":"IF(NFI_Expiration=1,IF($A414<VLOOKUP(P$5,NFI,5,0),1,0)*Table_NFI[[#This Row],[Plastic Bucket]],Table_NFI[Plastic Bucket])","v":75},{"$f":"IF(NFI_Expiration=1,IF($A414<VLOOKUP(Q$5,NFI,5,0),1,0)*Table_NFI[[#This Row],[Plastic Mat]],Table_NFI[Plastic Mat])","v":75},{"$f":"IFERROR(VLOOKUP(Table_NFI[[#This Row],[Camp Name]],CL,2,0),\"\")","v":"MMR015CMP001"},{"$f":"IFERROR(VLOOKUP(Table_NFI[[#This Row],[Camp Name]],CL,3,0),\"\")","v":"Open"},{"$f":"IFERROR(Table_NFI[[#This Row],[Kitchen Set]]/VLOOKUP(Table_NFI[[#This Row],[Camp Name]],CL,4,0),\"\")","v":0.76530612244897955}]
[4.7,"2013-08-13","UNHCR","KMSS","Shan_North","Namhkan","Nam Hkam Catholic Church ( St. Thomas I)",null,null,36,72,33,72,33,33,33,33,{"$f":"IF(NFI_Expiration=1,IF($A415<VLOOKUP(H$5,NFI,5,0),1,0)*Table_NFI[[#This Row],[Hygiene Kit]],Table_NFI[Hygiene Kit])","v":0},{"$f":"IF(NFI_Expiration=1,IF($A415<VLOOKUP(I$5,NFI,5,0),1,0)*Table_NFI[[#This Row],[NFI Core Kit]],Table_NFI[NFI Core Kit])","v":0},{"$f":"IF(NFI_Expiration=1,IF($A415<VLOOKUP(J$5,NFI,5,0),1,0)*Table_NFI[[#This Row],[Sanitary Kit]],Table_NFI[Sanitary Kit])","v":36},{"$f":"IF(NFI_Expiration=1,IF($A415<VLOOKUP(K$5,NFI,5,0),1,0)*Table_NFI[[#This Row],[Mosquito net]],Table_NFI[Mosquito net])","v":72},{"$f":"IF(NFI_Expiration=1,IF($A415<VLOOKUP(L$5,NFI,5,0),1,0)*Table_NFI[[#This Row],[Tarpaulin]],Table_NFI[[#This Row],[Tarpaulin]])","v":33},{"$f":"IF(NFI_Expiration=1,IF($A415<VLOOKUP(M$5,NFI,5,0),1,0)*Table_NFI[[#This Row],[Blanket]],Table_NFI[[#This Row],[Blanket]])","v":72},{"$f":"IF(NFI_Expiration=1,IF($A415<VLOOKUP(N$5,NFI,5,0),1,0)*Table_NFI[[#This Row],[Kitchen Set]],Table_NFI[Kitchen Set])","v":33},{"$f":"IF(NFI_Expiration=1,IF($A415<VLOOKUP(O$5,NFI,5,0),1,0)*Table_NFI[[#This Row],[Complementary Kit]],Table_NFI[Complementary Kit])","v":33},{"$f":"IF(NFI_Expiration=1,IF($A415<VLOOKUP(P$5,NFI,5,0),1,0)*Table_NFI[[#This Row],[Plastic Bucket]],Table_NFI[Plastic Bucket])","v":33},{"$f":"IF(NFI_Expiration=1,IF($A415<VLOOKUP(Q$5,NFI,5,0),1,0)*Table_NFI[[#This Row],[Plastic Mat]],Table_NFI[Plastic Mat])","v":33},{"$f":"IFERROR(VLOOKUP(Table_NFI[[#This Row],[Camp Name]],CL,2,0),\"\")","v":"MMR015CMP003"},{"$f":"IFERROR(VLOOKUP(Table_NFI[[#This Row],[Camp Name]],CL,3,0),\"\")","v":"Open"},{"$f":"IFERROR(Table_NFI[[#This Row],[Kitchen Set]]/VLOOKUP(Table_NFI[[#This Row],[Camp Name]],CL,4,0),\"\")","v":0.91666666666666663}]
[4.7,"2013-08-13","UNHCR","KBC","Shan_North","Namhkan","Nam Hkam - Nay Win Ni (Palawng)",null,null,125,233,93,233,93,93,93,93,{"$f":"IF(NFI_Expiration=1,IF($A416<VLOOKUP(H$5,NFI,5,0),1,0)*Table_NFI[[#This Row],[Hygiene Kit]],Table_NFI[Hygiene Kit])","v":0},{"$f":"IF(NFI_Expiration=1,IF($A416<VLOOKUP(I$5,NFI,5,0),1,0)*Table_NFI[[#This Row],[NFI Core Kit]],Table_NFI[NFI Core Kit])","v":0},{"$f":"IF(NFI_Expiration=1,IF($A416<VLOOKUP(J$5,NFI,5,0),1,0)*Table_NFI[[#This Row],[Sanitary Kit]],Table_NFI[Sanitary Kit])","v":125},{"$f":"IF(NFI_Expiration=1,IF($A416<VLOOKUP(K$5,NFI,5,0),1,0)*Table_NFI[[#This Row],[Mosquito net]],Table_NFI[Mosquito net])","v":233},{"$f":"IF(NFI_Expiration=1,IF($A416<VLOOKUP(L$5,NFI,5,0),1,0)*Table_NFI[[#This Row],[Tarpaulin]],Table_NFI[[#This Row],[Tarpaulin]])","v":93},{"$f":"IF(NFI_Expiration=1,IF($A416<VLOOKUP(M$5,NFI,5,0),1,0)*Table_NFI[[#This Row],[Blanket]],Table_NFI[[#This Row],[Blanket]])","v":233},{"$f":"IF(NFI_Expiration=1,IF($A416<VLOOKUP(N$5,NFI,5,0),1,0)*Table_NFI[[#This Row],[Kitchen Set]],Table_NFI[Kitchen Set])","v":93},{"$f":"IF(NFI_Expiration=1,IF($A416<VLOOKUP(O$5,NFI,5,0),1,0)*Table_NFI[[#This Row],[Complementary Kit]],Table_NFI[Complementary Kit])","v":93},{"$f":"IF(NFI_Expiration=1,IF($A416<VLOOKUP(P$5,NFI,5,0),1,0)*Table_NFI[[#This Row],[Plastic Bucket]],Table_NFI[Plastic Bucket])","v":93},{"$f":"IF(NFI_Expiration=1,IF($A416<VLOOKUP(Q$5,NFI,5,0),1,0)*Table_NFI[[#This Row],[Plastic Mat]],Table_NFI[Plastic Mat])","v":93},{"$f":"IFERROR(VLOOKUP(Table_NFI[[#This Row],[Camp Name]],CL,2,0),\"\")","v":"MMR015CMP004"},{"$f":"IFERROR(VLOOKUP(Table_NFI[[#This Row],[Camp Name]],CL,3,0),\"\")","v":"Open"},{"$f":"IFERROR(Table_NFI[[#This Row],[Kitchen Set]]/VLOOKUP(Table_NFI[[#This Row],[Camp Name]],CL,4,0),\"\")","v":1.0108695652173914}]
[4.7,"2013-08-13","UNHCR","KMSS","Shan_North","Kutkai","Mungji Pa Dabang (Baptist Church)         ",null,null,30,56,23,56,23,23,23,23,{"$f":"IF(NFI_Expiration=1,IF($A417<VLOOKUP(H$5,NFI,5,0),1,0)*Table_NFI[[#This Row],[Hygiene Kit]],Table_NFI[Hygiene Kit])","v":0},{"$f":"IF(NFI_Expiration=1,IF($A417<VLOOKUP(I$5,NFI,5,0),1,0)*Table_NFI[[#This Row],[NFI Core Kit]],Table_NFI[NFI Core Kit])","v":0},{"$f":"IF(NFI_Expiration=1,IF($A417<VLOOKUP(J$5,NFI,5,0),1,0)*Table_NFI[[#This Row],[Sanitary Kit]],Table_NFI[Sanitary Kit])","v":30},{"$f":"IF(NFI_Expiration=1,IF($A417<VLOOKUP(K$5,NFI,5,0),1,0)*Table_NFI[[#This Row],[Mosquito net]],Table_NFI[Mosquito net])","v":56},{"$f":"IF(NFI_Expiration=1,IF($A417<VLOOKUP(L$5,NFI,5,0),1,0)*Table_NFI[[#This Row],[Tarpaulin]],Table_NFI[[#This Row],[Tarpaulin]])","v":23},{"$f":"IF(NFI_Expiration=1,IF($A417<VLOOKUP(M$5,NFI,5,0),1,0)*Table_NFI[[#This Row],[Blanket]],Table_NFI[[#This Row],[Blanket]])","v":56},{"$f":"IF(NFI_Expiration=1,IF($A417<VLOOKUP(N$5,NFI,5,0),1,0)*Table_NFI[[#This Row],[Kitchen Set]],Table_NFI[Kitchen Set])","v":23},{"$f":"IF(NFI_Expiration=1,IF($A417<VLOOKUP(O$5,NFI,5,0),1,0)*Table_NFI[[#This Row],[Complementary Kit]],Table_NFI[Complementary Kit])","v":23},{"$f":"IF(NFI_Expiration=1,IF($A417<VLOOKUP(P$5,NFI,5,0),1,0)*Table_NFI[[#This Row],[Plastic Bucket]],Table_NFI[Plastic Bucket])","v":23},{"$f":"IF(NFI_Expiration=1,IF($A417<VLOOKUP(Q$5,NFI,5,0),1,0)*Table_NFI[[#This Row],[Plastic Mat]],Table_NFI[Plastic Mat])","v":23},{"$f":"IFERROR(VLOOKUP(Table_NFI[[#This Row],[Camp Name]],CL,2,0),\"\")","v":"MMR015CMP006"},{"$f":"IFERROR(VLOOKUP(Table_NFI[[#This Row],[Camp Name]],CL,3,0),\"\")","v":"Open"},{"$f":"IFERROR(Table_NFI[[#This Row],[Kitchen Set]]/VLOOKUP(Table_NFI[[#This Row],[Camp Name]],CL,4,0),\"\")","v":0.48936170212765956}]
[4.7,"2013-08-13","UNHCR","KBC","Shan_North","Manton","Mandung - Jinghpaw",null,null,36,84,42,84,42,42,42,42,{"$f":"IF(NFI_Expiration=1,IF($A418<VLOOKUP(H$5,NFI,5,0),1,0)*Table_NFI[[#This Row],[Hygiene Kit]],Table_NFI[Hygiene Kit])","v":0},{"$f":"IF(NFI_Expiration=1,IF($A418<VLOOKUP(I$5,NFI,5,0),1,0)*Table_NFI[[#This Row],[NFI Core Kit]],Table_NFI[NFI Core Kit])","v":0},{"$f":"IF(NFI_Expiration=1,IF($A418<VLOOKUP(J$5,NFI,5,0),1,0)*Table_NFI[[#This Row],[Sanitary Kit]],Table_NFI[Sanitary Kit])","v":36},{"$f":"IF(NFI_Expiration=1,IF($A418<VLOOKUP(K$5,NFI,5,0),1,0)*Table_NFI[[#This Row],[Mosquito net]],Table_NFI[Mosquito net])","v":84},{"$f":"IF(NFI_Expiration=1,IF($A418<VLOOKUP(L$5,NFI,5,0),1,0)*Table_NFI[[#This Row],[Tarpaulin]],Table_NFI[[#This Row],[Tarpaulin]])","v":42},{"$f":"IF(NFI_Expiration=1,IF($A418<VLOOKUP(M$5,NFI,5,0),1,0)*Table_NFI[[#This Row],[Blanket]],Table_NFI[[#This Row],[Blanket]])","v":84},{"$f":"IF(NFI_Expiration=1,IF($A418<VLOOKUP(N$5,NFI,5,0),1,0)*Table_NFI[[#This Row],[Kitchen Set]],Table_NFI[Kitchen Set])","v":42},{"$f":"IF(NFI_Expiration=1,IF($A418<VLOOKUP(O$5,NFI,5,0),1,0)*Table_NFI[[#This Row],[Complementary Kit]],Table_NFI[Complementary Kit])","v":42},{"$f":"IF(NFI_Expiration=1,IF($A418<VLOOKUP(P$5,NFI,5,0),1,0)*Table_NFI[[#This Row],[Plastic Bucket]],Table_NFI[Plastic Bucket])","v":42},{"$f":"IF(NFI_Expiration=1,IF($A418<VLOOKUP(Q$5,NFI,5,0),1,0)*Table_NFI[[#This Row],[Plastic Mat]],Table_NFI[Plastic Mat])","v":42},{"$f":"IFERROR(VLOOKUP(Table_NFI[[#This Row],[Camp Name]],CL,2,0),\"\")","v":"MMR015CMP009"},{"$f":"IFERROR(VLOOKUP(Table_NFI[[#This Row],[Camp Name]],CL,3,0),\"\")","v":"Open"},{"$f":"IFERROR(Table_NFI[[#This Row],[Kitchen Set]]/VLOOKUP(Table_NFI[[#This Row],[Camp Name]],CL,4,0),\"\")","v":0.97674418604651159}]
[4.7,"2013-08-13","UNHCR","KBC","Shan_North","Kutkai","Kone Khem Camp",null,null,70,120,48,120,48,48,48,48,{"$f":"IF(NFI_Expiration=1,IF($A419<VLOOKUP(H$5,NFI,5,0),1,0)*Table_NFI[[#This Row],[Hygiene Kit]],Table_NFI[Hygiene Kit])","v":0},{"$f":"IF(NFI_Expiration=1,IF($A419<VLOOKUP(I$5,NFI,5,0),1,0)*Table_NFI[[#This Row],[NFI Core Kit]],Table_NFI[NFI Core Kit])","v":0},{"$f":"IF(NFI_Expiration=1,IF($A419<VLOOKUP(J$5,NFI,5,0),1,0)*Table_NFI[[#This Row],[Sanitary Kit]],Table_NFI[Sanitary Kit])","v":70},{"$f":"IF(NFI_Expiration=1,IF($A419<VLOOKUP(K$5,NFI,5,0),1,0)*Table_NFI[[#This Row],[Mosquito net]],Table_NFI[Mosquito net])","v":120},{"$f":"IF(NFI_Expiration=1,IF($A419<VLOOKUP(L$5,NFI,5,0),1,0)*Table_NFI[[#This Row],[Tarpaulin]],Table_NFI[[#This Row],[Tarpaulin]])","v":48},{"$f":"IF(NFI_Expiration=1,IF($A419<VLOOKUP(M$5,NFI,5,0),1,0)*Table_NFI[[#This Row],[Blanket]],Table_NFI[[#This Row],[Blanket]])","v":120},{"$f":"IF(NFI_Expiration=1,IF($A419<VLOOKUP(N$5,NFI,5,0),1,0)*Table_NFI[[#This Row],[Kitchen Set]],Table_NFI[Kitchen Set])","v":48},{"$f":"IF(NFI_Expiration=1,IF($A419<VLOOKUP(O$5,NFI,5,0),1,0)*Table_NFI[[#This Row],[Complementary Kit]],Table_NFI[Complementary Kit])","v":48},{"$f":"IF(NFI_Expiration=1,IF($A419<VLOOKUP(P$5,NFI,5,0),1,0)*Table_NFI[[#This Row],[Plastic Bucket]],Table_NFI[Plastic Bucket])","v":48},{"$f":"IF(NFI_Expiration=1,IF($A419<VLOOKUP(Q$5,NFI,5,0),1,0)*Table_NFI[[#This Row],[Plastic Mat]],Table_NFI[Plastic Mat])","v":48},{"$f":"IFERROR(VLOOKUP(Table_NFI[[#This Row],[Camp Name]],CL,2,0),\"\")","v":"MMR015CMP015"},{"$f":"IFERROR(VLOOKUP(Table_NFI[[#This Row],[Camp Name]],CL,3,0),\"\")","v":"Open"},{"$f":"IFERROR(Table_NFI[[#This Row],[Kitchen Set]]/VLOOKUP(Table_NFI[[#This Row],[Camp Name]],CL,4,0),\"\")","v":0.55813953488372092}]
[4.7,"2013-08-13","UNHCR","KMSS","Shan_North","Kutkai","Kutkai downtown (RC Church)",null,null,47,103,41,103,41,41,41,41,{"$f":"IF(NFI_Expiration=1,IF($A420<VLOOKUP(H$5,NFI,5,0),1,0)*Table_NFI[[#This Row],[Hygiene Kit]],Table_NFI[Hygiene Kit])","v":0},{"$f":"IF(NFI_Expiration=1,IF($A420<VLOOKUP(I$5,NFI,5,0),1,0)*Table_NFI[[#This Row],[NFI Core Kit]],Table_NFI[NFI Core Kit])","v":0},{"$f":"IF(NFI_Expiration=1,IF($A420<VLOOKUP(J$5,NFI,5,0),1,0)*Table_NFI[[#This Row],[Sanitary Kit]],Table_NFI[Sanitary Kit])","v":47},{"$f":"IF(NFI_Expiration=1,IF($A420<VLOOKUP(K$5,NFI,5,0),1,0)*Table_NFI[[#This Row],[Mosquito net]],Table_NFI[Mosquito net])","v":103},{"$f":"IF(NFI_Expiration=1,IF($A420<VLOOKUP(L$5,NFI,5,0),1,0)*Table_NFI[[#This Row],[Tarpaulin]],Table_NFI[[#This Row],[Tarpaulin]])","v":41},{"$f":"IF(NFI_Expiration=1,IF($A420<VLOOKUP(M$5,NFI,5,0),1,0)*Table_NFI[[#This Row],[Blanket]],Table_NFI[[#This Row],[Blanket]])","v":103},{"$f":"IF(NFI_Expiration=1,IF($A420<VLOOKUP(N$5,NFI,5,0),1,0)*Table_NFI[[#This Row],[Kitchen Set]],Table_NFI[Kitchen Set])","v":41},{"$f":"IF(NFI_Expiration=1,IF($A420<VLOOKUP(O$5,NFI,5,0),1,0)*Table_NFI[[#This Row],[Complementary Kit]],Table_NFI[Complementary Kit])","v":41},{"$f":"IF(NFI_Expiration=1,IF($A420<VLOOKUP(P$5,NFI,5,0),1,0)*Table_NFI[[#This Row],[Plastic Bucket]],Table_NFI[Plastic Bucket])","v":41},{"$f":"IF(NFI_Expiration=1,IF($A420<VLOOKUP(Q$5,NFI,5,0),1,0)*Table_NFI[[#This Row],[Plastic Mat]],Table_NFI[Plastic Mat])","v":41},{"$f":"IFERROR(VLOOKUP(Table_NFI[[#This Row],[Camp Name]],CL,2,0),\"\")","v":"MMR015CMP017"},{"$f":"IFERROR(VLOOKUP(Table_NFI[[#This Row],[Camp Name]],CL,3,0),\"\")","v":"Open"},{"$f":"IFERROR(Table_NFI[[#This Row],[Kitchen Set]]/VLOOKUP(Table_NFI[[#This Row],[Camp Name]],CL,4,0),\"\")","v":1}]
[4.7,"2013-08-13","UNHCR","KBC","Shan_North","Kutkai","Mine Yu Lay village",null,null,113,160,32,160,32,32,32,32,{"$f":"IF(NFI_Expiration=1,IF($A421<VLOOKUP(H$5,NFI,5,0),1,0)*Table_NFI[[#This Row],[Hygiene Kit]],Table_NFI[Hygiene Kit])","v":0},{"$f":"IF(NFI_Expiration=1,IF($A421<VLOOKUP(I$5,NFI,5,0),1,0)*Table_NFI[[#This Row],[NFI Core Kit]],Table_NFI[NFI Core Kit])","v":0},{"$f":"IF(NFI_Expiration=1,IF($A421<VLOOKUP(J$5,NFI,5,0),1,0)*Table_NFI[[#This Row],[Sanitary Kit]],Table_NFI[Sanitary Kit])","v":113},{"$f":"IF(NFI_Expiration=1,IF($A421<VLOOKUP(K$5,NFI,5,0),1,0)*Table_NFI[[#This Row],[Mosquito net]],Table_NFI[Mosquito net])","v":160},{"$f":"IF(NFI_Expiration=1,IF($A421<VLOOKUP(L$5,NFI,5,0),1,0)*Table_NFI[[#This Row],[Tarpaulin]],Table_NFI[[#This Row],[Tarpaulin]])","v":32},{"$f":"IF(NFI_Expiration=1,IF($A421<VLOOKUP(M$5,NFI,5,0),1,0)*Table_NFI[[#This Row],[Blanket]],Table_NFI[[#This Row],[Blanket]])","v":160},{"$f":"IF(NFI_Expiration=1,IF($A421<VLOOKUP(N$5,NFI,5,0),1,0)*Table_NFI[[#This Row],[Kitchen Set]],Table_NFI[Kitchen Set])","v":32},{"$f":"IF(NFI_Expiration=1,IF($A421<VLOOKUP(O$5,NFI,5,0),1,0)*Table_NFI[[#This Row],[Complementary Kit]],Table_NFI[Complementary Kit])","v":32},{"$f":"IF(NFI_Expiration=1,IF($A421<VLOOKUP(P$5,NFI,5,0),1,0)*Table_NFI[[#This Row],[Plastic Bucket]],Table_NFI[Plastic Bucket])","v":32},{"$f":"IF(NFI_Expiration=1,IF($A421<VLOOKUP(Q$5,NFI,5,0),1,0)*Table_NFI[[#This Row],[Plastic Mat]],Table_NFI[Plastic Mat])","v":32},{"$f":"IFERROR(VLOOKUP(Table_NFI[[#This Row],[Camp Name]],CL,2,0),\"\")","v":"MMR015CMP018"},{"$f":"IFERROR(VLOOKUP(Table_NFI[[#This Row],[Camp Name]],CL,3,0),\"\")","v":"Open"},{"$f":"IFERROR(Table_NFI[[#This Row],[Kitchen Set]]/VLOOKUP(Table_NFI[[#This Row],[Camp Name]],CL,4,0),\"\")","v":0.37209302325581395}]
[4.7,"2013-08-13","UNHCR","KMSS","Shan_North","Kutkai","Mungji Pa Dabang (RC Church)         ",null,null,70,130,52,130,52,52,52,52,{"$f":"IF(NFI_Expiration=1,IF($A422<VLOOKUP(H$5,NFI,5,0),1,0)*Table_NFI[[#This Row],[Hygiene Kit]],Table_NFI[Hygiene Kit])","v":0},{"$f":"IF(NFI_Expiration=1,IF($A422<VLOOKUP(I$5,NFI,5,0),1,0)*Table_NFI[[#This Row],[NFI Core Kit]],Table_NFI[NFI Core Kit])","v":0},{"$f":"IF(NFI_Expiration=1,IF($A422<VLOOKUP(J$5,NFI,5,0),1,0)*Table_NFI[[#This Row],[Sanitary Kit]],Table_NFI[Sanitary Kit])","v":70},{"$f":"IF(NFI_Expiration=1,IF($A422<VLOOKUP(K$5,NFI,5,0),1,0)*Table_NFI[[#This Row],[Mosquito net]],Table_NFI[Mosquito net])","v":130},{"$f":"IF(NFI_Expiration=1,IF($A422<VLOOKUP(L$5,NFI,5,0),1,0)*Table_NFI[[#This Row],[Tarpaulin]],Table_NFI[[#This Row],[Tarpaulin]])","v":52},{"$f":"IF(NFI_Expiration=1,IF($A422<VLOOKUP(M$5,NFI,5,0),1,0)*Table_NFI[[#This Row],[Blanket]],Table_NFI[[#This Row],[Blanket]])","v":130},{"$f":"IF(NFI_Expiration=1,IF($A422<VLOOKUP(N$5,NFI,5,0),1,0)*Table_NFI[[#This Row],[Kitchen Set]],Table_NFI[Kitchen Set])","v":52},{"$f":"IF(NFI_Expiration=1,IF($A422<VLOOKUP(O$5,NFI,5,0),1,0)*Table_NFI[[#This Row],[Complementary Kit]],Table_NFI[Complementary Kit])","v":52},{"$f":"IF(NFI_Expiration=1,IF($A422<VLOOKUP(P$5,NFI,5,0),1,0)*Table_NFI[[#This Row],[Plastic Bucket]],Table_NFI[Plastic Bucket])","v":52},{"$f":"IF(NFI_Expiration=1,IF($A422<VLOOKUP(Q$5,NFI,5,0),1,0)*Table_NFI[[#This Row],[Plastic Mat]],Table_NFI[Plastic Mat])","v":52},{"$f":"IFERROR(VLOOKUP(Table_NFI[[#This Row],[Camp Name]],CL,2,0),\"\")","v":"MMR015CMP019"},{"$f":"IFERROR(VLOOKUP(Table_NFI[[#This Row],[Camp Name]],CL,3,0),\"\")","v":"Open"},{"$f":"IFERROR(Table_NFI[[#This Row],[Kitchen Set]]/VLOOKUP(Table_NFI[[#This Row],[Camp Name]],CL,4,0),\"\")","v":2.08}]
[4.7,"2013-08-13","UNHCR","KMSS","Shan_North","Namhkan","Nam Hkam Catholic Church ( St. Thomas II)",null,null,40,83,33,83,33,33,33,33,{"$f":"IF(NFI_Expiration=1,IF($A423<VLOOKUP(H$5,NFI,5,0),1,0)*Table_NFI[[#This Row],[Hygiene Kit]],Table_NFI[Hygiene Kit])","v":0},{"$f":"IF(NFI_Expiration=1,IF($A423<VLOOKUP(I$5,NFI,5,0),1,0)*Table_NFI[[#This Row],[NFI Core Kit]],Table_NFI[NFI Core Kit])","v":0},{"$f":"IF(NFI_Expiration=1,IF($A423<VLOOKUP(J$5,NFI,5,0),1,0)*Table_NFI[[#This Row],[Sanitary Kit]],Table_NFI[Sanitary Kit])","v":40},{"$f":"IF(NFI_Expiration=1,IF($A423<VLOOKUP(K$5,NFI,5,0),1,0)*Table_NFI[[#This Row],[Mosquito net]],Table_NFI[Mosquito net])","v":83},{"$f":"IF(NFI_Expiration=1,IF($A423<VLOOKUP(L$5,NFI,5,0),1,0)*Table_NFI[[#This Row],[Tarpaulin]],Table_NFI[[#This Row],[Tarpaulin]])","v":33},{"$f":"IF(NFI_Expiration=1,IF($A423<VLOOKUP(M$5,NFI,5,0),1,0)*Table_NFI[[#This Row],[Blanket]],Table_NFI[[#This Row],[Blanket]])","v":83},{"$f":"IF(NFI_Expiration=1,IF($A423<VLOOKUP(N$5,NFI,5,0),1,0)*Table_NFI[[#This Row],[Kitchen Set]],Table_NFI[Kitchen Set])","v":33},{"$f":"IF(NFI_Expiration=1,IF($A423<VLOOKUP(O$5,NFI,5,0),1,0)*Table_NFI[[#This Row],[Complementary Kit]],Table_NFI[Complementary Kit])","v":33},{"$f":"IF(NFI_Expiration=1,IF($A423<VLOOKUP(P$5,NFI,5,0),1,0)*Table_NFI[[#This Row],[Plastic Bucket]],Table_NFI[Plastic Bucket])","v":33},{"$f":"IF(NFI_Expiration=1,IF($A423<VLOOKUP(Q$5,NFI,5,0),1,0)*Table_NFI[[#This Row],[Plastic Mat]],Table_NFI[Plastic Mat])","v":33},{"$f":"IFERROR(VLOOKUP(Table_NFI[[#This Row],[Camp Name]],CL,2,0),\"\")","v":"MMR015CMP024"},{"$f":"IFERROR(VLOOKUP(Table_NFI[[#This Row],[Camp Name]],CL,3,0),\"\")","v":"Open"},{"$f":"IFERROR(Table_NFI[[#This Row],[Kitchen Set]]/VLOOKUP(Table_NFI[[#This Row],[Camp Name]],CL,4,0),\"\")","v":0.71739130434782605}]
[4.7,"2013-08-13","UNHCR","KBC","Shan_North","Hseni","Narte",null,null,27,43,17,43,17,17,17,17,{"$f":"IF(NFI_Expiration=1,IF($A424<VLOOKUP(H$5,NFI,5,0),1,0)*Table_NFI[[#This Row],[Hygiene Kit]],Table_NFI[Hygiene Kit])","v":0},{"$f":"IF(NFI_Expiration=1,IF($A424<VLOOKUP(I$5,NFI,5,0),1,0)*Table_NFI[[#This Row],[NFI Core Kit]],Table_NFI[NFI Core Kit])","v":0},{"$f":"IF(NFI_Expiration=1,IF($A424<VLOOKUP(J$5,NFI,5,0),1,0)*Table_NFI[[#This Row],[Sanitary Kit]],Table_NFI[Sanitary Kit])","v":27},{"$f":"IF(NFI_Expiration=1,IF($A424<VLOOKUP(K$5,NFI,5,0),1,0)*Table_NFI[[#This Row],[Mosquito net]],Table_NFI[Mosquito net])","v":43},{"$f":"IF(NFI_Expiration=1,IF($A424<VLOOKUP(L$5,NFI,5,0),1,0)*Table_NFI[[#This Row],[Tarpaulin]],Table_NFI[[#This Row],[Tarpaulin]])","v":17},{"$f":"IF(NFI_Expiration=1,IF($A424<VLOOKUP(M$5,NFI,5,0),1,0)*Table_NFI[[#This Row],[Blanket]],Table_NFI[[#This Row],[Blanket]])","v":43},{"$f":"IF(NFI_Expiration=1,IF($A424<VLOOKUP(N$5,NFI,5,0),1,0)*Table_NFI[[#This Row],[Kitchen Set]],Table_NFI[Kitchen Set])","v":17},{"$f":"IF(NFI_Expiration=1,IF($A424<VLOOKUP(O$5,NFI,5,0),1,0)*Table_NFI[[#This Row],[Complementary Kit]],Table_NFI[Complementary Kit])","v":17},{"$f":"IF(NFI_Expiration=1,IF($A424<VLOOKUP(P$5,NFI,5,0),1,0)*Table_NFI[[#This Row],[Plastic Bucket]],Table_NFI[Plastic Bucket])","v":17},{"$f":"IF(NFI_Expiration=1,IF($A424<VLOOKUP(Q$5,NFI,5,0),1,0)*Table_NFI[[#This Row],[Plastic Mat]],Table_NFI[Plastic Mat])","v":17},{"$f":"IFERROR(VLOOKUP(Table_NFI[[#This Row],[Camp Name]],CL,2,0),\"\")","v":"MMR015CMP207"},{"$f":"IFERROR(VLOOKUP(Table_NFI[[#This Row],[Camp Name]],CL,3,0),\"\")","v":"Open"},{"$f":"IFERROR(Table_NFI[[#This Row],[Kitchen Set]]/VLOOKUP(Table_NFI[[#This Row],[Camp Name]],CL,4,0),\"\")","v":0.2537313432835821}]
[4.7,"2013-08-13","UNHCR","KMSS","Shan_North","Namhkan","Nam Tu RC",null,null,130,288,115,288,115,115,115,115,{"$f":"IF(NFI_Expiration=1,IF($A425<VLOOKUP(H$5,NFI,5,0),1,0)*Table_NFI[[#This Row],[Hygiene Kit]],Table_NFI[Hygiene Kit])","v":0},{"$f":"IF(NFI_Expiration=1,IF($A425<VLOOKUP(I$5,NFI,5,0),1,0)*Table_NFI[[#This Row],[NFI Core Kit]],Table_NFI[NFI Core Kit])","v":0},{"$f":"IF(NFI_Expiration=1,IF($A425<VLOOKUP(J$5,NFI,5,0),1,0)*Table_NFI[[#This Row],[Sanitary Kit]],Table_NFI[Sanitary Kit])","v":130},{"$f":"IF(NFI_Expiration=1,IF($A425<VLOOKUP(K$5,NFI,5,0),1,0)*Table_NFI[[#This Row],[Mosquito net]],Table_NFI[Mosquito net])","v":288},{"$f":"IF(NFI_Expiration=1,IF($A425<VLOOKUP(L$5,NFI,5,0),1,0)*Table_NFI[[#This Row],[Tarpaulin]],Table_NFI[[#This Row],[Tarpaulin]])","v":115},{"$f":"IF(NFI_Expiration=1,IF($A425<VLOOKUP(M$5,NFI,5,0),1,0)*Table_NFI[[#This Row],[Blanket]],Table_NFI[[#This Row],[Blanket]])","v":288},{"$f":"IF(NFI_Expiration=1,IF($A425<VLOOKUP(N$5,NFI,5,0),1,0)*Table_NFI[[#This Row],[Kitchen Set]],Table_NFI[Kitchen Set])","v":115},{"$f":"IF(NFI_Expiration=1,IF($A425<VLOOKUP(O$5,NFI,5,0),1,0)*Table_NFI[[#This Row],[Complementary Kit]],Table_NFI[Complementary Kit])","v":115},{"$f":"IF(NFI_Expiration=1,IF($A425<VLOOKUP(P$5,NFI,5,0),1,0)*Table_NFI[[#This Row],[Plastic Bucket]],Table_NFI[Plastic Bucket])","v":115},{"$f":"IF(NFI_Expiration=1,IF($A425<VLOOKUP(Q$5,NFI,5,0),1,0)*Table_NFI[[#This Row],[Plastic Mat]],Table_NFI[Plastic Mat])","v":115},{"$f":"IFERROR(VLOOKUP(Table_NFI[[#This Row],[Camp Name]],CL,2,0),\"\")","v":"MMR015CMP210"},{"$f":"IFERROR(VLOOKUP(Table_NFI[[#This Row],[Camp Name]],CL,3,0),\"\")","v":"Open"},{"$f":"IFERROR(Table_NFI[[#This Row],[Kitchen Set]]/VLOOKUP(Table_NFI[[#This Row],[Camp Name]],CL,4,0),\"\")","v":0.97457627118644063}]
[4.7,"2013-08-13","UNHCR","KBC","Shan_North","Hseni","Na Ti (Koe Kant Traditional school)",null,null,67,90,30,90,30,30,30,30,{"$f":"IF(NFI_Expiration=1,IF($A426<VLOOKUP(H$5,NFI,5,0),1,0)*Table_NFI[[#This Row],[Hygiene Kit]],Table_NFI[Hygiene Kit])","v":0},{"$f":"IF(NFI_Expiration=1,IF($A426<VLOOKUP(I$5,NFI,5,0),1,0)*Table_NFI[[#This Row],[NFI Core Kit]],Table_NFI[NFI Core Kit])","v":0},{"$f":"IF(NFI_Expiration=1,IF($A426<VLOOKUP(J$5,NFI,5,0),1,0)*Table_NFI[[#This Row],[Sanitary Kit]],Table_NFI[Sanitary Kit])","v":67},{"$f":"IF(NFI_Expiration=1,IF($A426<VLOOKUP(K$5,NFI,5,0),1,0)*Table_NFI[[#This Row],[Mosquito net]],Table_NFI[Mosquito net])","v":90},{"$f":"IF(NFI_Expiration=1,IF($A426<VLOOKUP(L$5,NFI,5,0),1,0)*Table_NFI[[#This Row],[Tarpaulin]],Table_NFI[[#This Row],[Tarpaulin]])","v":30},{"$f":"IF(NFI_Expiration=1,IF($A426<VLOOKUP(M$5,NFI,5,0),1,0)*Table_NFI[[#This Row],[Blanket]],Table_NFI[[#This Row],[Blanket]])","v":90},{"$f":"IF(NFI_Expiration=1,IF($A426<VLOOKUP(N$5,NFI,5,0),1,0)*Table_NFI[[#This Row],[Kitchen Set]],Table_NFI[Kitchen Set])","v":30},{"$f":"IF(NFI_Expiration=1,IF($A426<VLOOKUP(O$5,NFI,5,0),1,0)*Table_NFI[[#This Row],[Complementary Kit]],Table_NFI[Complementary Kit])","v":30},{"$f":"IF(NFI_Expiration=1,IF($A426<VLOOKUP(P$5,NFI,5,0),1,0)*Table_NFI[[#This Row],[Plastic Bucket]],Table_NFI[Plastic Bucket])","v":30},{"$f":"IF(NFI_Expiration=1,IF($A426<VLOOKUP(Q$5,NFI,5,0),1,0)*Table_NFI[[#This Row],[Plastic Mat]],Table_NFI[Plastic Mat])","v":30},{"$f":"IFERROR(VLOOKUP(Table_NFI[[#This Row],[Camp Name]],CL,2,0),\"\")","v":""},{"$f":"IFERROR(VLOOKUP(Table_NFI[[#This Row],[Camp Name]],CL,3,0),\"\")","v":""},{"$f":"IFERROR(Table_NFI[[#This Row],[Kitchen Set]]/VLOOKUP(Table_NFI[[#This Row],[Camp Name]],CL,4,0),\"\")","v":""}]
[3.7,"2013-09-12","UNHCR","UNHCR","Kachin","Momauk","Nhkawng Pa ",null,null,640,640,320,320,320,320,640,320,{"$f":"IF(NFI_Expiration=1,IF($A427<VLOOKUP(H$5,NFI,5,0),1,0)*Table_NFI[[#This Row],[Hygiene Kit]],Table_NFI[Hygiene Kit])","v":0},{"$f":"IF(NFI_Expiration=1,IF($A427<VLOOKUP(I$5,NFI,5,0),1,0)*Table_NFI[[#This Row],[NFI Core Kit]],Table_NFI[NFI Core Kit])","v":0},{"$f":"IF(NFI_Expiration=1,IF($A427<VLOOKUP(J$5,NFI,5,0),1,0)*Table_NFI[[#This Row],[Sanitary Kit]],Table_NFI[Sanitary Kit])","v":640},{"$f":"IF(NFI_Expiration=1,IF($A427<VLOOKUP(K$5,NFI,5,0),1,0)*Table_NFI[[#This Row],[Mosquito net]],Table_NFI[Mosquito net])","v":640},{"$f":"IF(NFI_Expiration=1,IF($A427<VLOOKUP(L$5,NFI,5,0),1,0)*Table_NFI[[#This Row],[Tarpaulin]],Table_NFI[[#This Row],[Tarpaulin]])","v":320},{"$f":"IF(NFI_Expiration=1,IF($A427<VLOOKUP(M$5,NFI,5,0),1,0)*Table_NFI[[#This Row],[Blanket]],Table_NFI[[#This Row],[Blanket]])","v":320},{"$f":"IF(NFI_Expiration=1,IF($A427<VLOOKUP(N$5,NFI,5,0),1,0)*Table_NFI[[#This Row],[Kitchen Set]],Table_NFI[Kitchen Set])","v":320},{"$f":"IF(NFI_Expiration=1,IF($A427<VLOOKUP(O$5,NFI,5,0),1,0)*Table_NFI[[#This Row],[Complementary Kit]],Table_NFI[Complementary Kit])","v":320},{"$f":"IF(NFI_Expiration=1,IF($A427<VLOOKUP(P$5,NFI,5,0),1,0)*Table_NFI[[#This Row],[Plastic Bucket]],Table_NFI[Plastic Bucket])","v":640},{"$f":"IF(NFI_Expiration=1,IF($A427<VLOOKUP(Q$5,NFI,5,0),1,0)*Table_NFI[[#This Row],[Plastic Mat]],Table_NFI[Plastic Mat])","v":320},{"$f":"IFERROR(VLOOKUP(Table_NFI[[#This Row],[Camp Name]],CL,2,0),\"\")","v":"MMR001CMP131"},{"$f":"IFERROR(VLOOKUP(Table_NFI[[#This Row],[Camp Name]],CL,3,0),\"\")","v":"Open"},{"$f":"IFERROR(Table_NFI[[#This Row],[Kitchen Set]]/VLOOKUP(Table_NFI[[#This Row],[Camp Name]],CL,4,0),\"\")","v":0.82687338501291985}]
[3.5,"2013-09-18","UNHCR","UNHCR","Kachin","Waingmaw","Woi Chyai ",null,null,1520,1520,760,1520,760,760,null,null,{"$f":"IF(NFI_Expiration=1,IF($A428<VLOOKUP(H$5,NFI,5,0),1,0)*Table_NFI[[#This Row],[Hygiene Kit]],Table_NFI[Hygiene Kit])","v":0},{"$f":"IF(NFI_Expiration=1,IF($A428<VLOOKUP(I$5,NFI,5,0),1,0)*Table_NFI[[#This Row],[NFI Core Kit]],Table_NFI[NFI Core Kit])","v":0},{"$f":"IF(NFI_Expiration=1,IF($A428<VLOOKUP(J$5,NFI,5,0),1,0)*Table_NFI[[#This Row],[Sanitary Kit]],Table_NFI[Sanitary Kit])","v":1520},{"$f":"IF(NFI_Expiration=1,IF($A428<VLOOKUP(K$5,NFI,5,0),1,0)*Table_NFI[[#This Row],[Mosquito net]],Table_NFI[Mosquito net])","v":1520},{"$f":"IF(NFI_Expiration=1,IF($A428<VLOOKUP(L$5,NFI,5,0),1,0)*Table_NFI[[#This Row],[Tarpaulin]],Table_NFI[[#This Row],[Tarpaulin]])","v":760},{"$f":"IF(NFI_Expiration=1,IF($A428<VLOOKUP(M$5,NFI,5,0),1,0)*Table_NFI[[#This Row],[Blanket]],Table_NFI[[#This Row],[Blanket]])","v":1520},{"$f":"IF(NFI_Expiration=1,IF($A428<VLOOKUP(N$5,NFI,5,0),1,0)*Table_NFI[[#This Row],[Kitchen Set]],Table_NFI[Kitchen Set])","v":760},{"$f":"IF(NFI_Expiration=1,IF($A428<VLOOKUP(O$5,NFI,5,0),1,0)*Table_NFI[[#This Row],[Complementary Kit]],Table_NFI[Complementary Kit])","v":760},{"$f":"IF(NFI_Expiration=1,IF($A428<VLOOKUP(P$5,NFI,5,0),1,0)*Table_NFI[[#This Row],[Plastic Bucket]],Table_NFI[Plastic Bucket])","v":0},{"$f":"IF(NFI_Expiration=1,IF($A428<VLOOKUP(Q$5,NFI,5,0),1,0)*Table_NFI[[#This Row],[Plastic Mat]],Table_NFI[Plastic Mat])","v":0},{"$f":"IFERROR(VLOOKUP(Table_NFI[[#This Row],[Camp Name]],CL,2,0),\"\")","v":"MMR001CMP116"},{"$f":"IFERROR(VLOOKUP(Table_NFI[[#This Row],[Camp Name]],CL,3,0),\"\")","v":"Open"},{"$f":"IFERROR(Table_NFI[[#This Row],[Kitchen Set]]/VLOOKUP(Table_NFI[[#This Row],[Camp Name]],CL,4,0),\"\")","v":0.96324461343472745}]
[3.2333333333333334,"2013-09-26","UNHCR","UNHCR","Kachin","Waingmaw","Laiza Market 3 / Laiza Gat",null,null,437,874,437,874,437,54,383,766,{"$f":"IF(NFI_Expiration=1,IF($A429<VLOOKUP(H$5,NFI,5,0),1,0)*Table_NFI[[#This Row],[Hygiene Kit]],Table_NFI[Hygiene Kit])","v":0},{"$f":"IF(NFI_Expiration=1,IF($A429<VLOOKUP(I$5,NFI,5,0),1,0)*Table_NFI[[#This Row],[NFI Core Kit]],Table_NFI[NFI Core Kit])","v":0},{"$f":"IF(NFI_Expiration=1,IF($A429<VLOOKUP(J$5,NFI,5,0),1,0)*Table_NFI[[#This Row],[Sanitary Kit]],Table_NFI[Sanitary Kit])","v":437},{"$f":"IF(NFI_Expiration=1,IF($A429<VLOOKUP(K$5,NFI,5,0),1,0)*Table_NFI[[#This Row],[Mosquito net]],Table_NFI[Mosquito net])","v":874},{"$f":"IF(NFI_Expiration=1,IF($A429<VLOOKUP(L$5,NFI,5,0),1,0)*Table_NFI[[#This Row],[Tarpaulin]],Table_NFI[[#This Row],[Tarpaulin]])","v":437},{"$f":"IF(NFI_Expiration=1,IF($A429<VLOOKUP(M$5,NFI,5,0),1,0)*Table_NFI[[#This Row],[Blanket]],Table_NFI[[#This Row],[Blanket]])","v":874},{"$f":"IF(NFI_Expiration=1,IF($A429<VLOOKUP(N$5,NFI,5,0),1,0)*Table_NFI[[#This Row],[Kitchen Set]],Table_NFI[Kitchen Set])","v":437},{"$f":"IF(NFI_Expiration=1,IF($A429<VLOOKUP(O$5,NFI,5,0),1,0)*Table_NFI[[#This Row],[Complementary Kit]],Table_NFI[Complementary Kit])","v":54},{"$f":"IF(NFI_Expiration=1,IF($A429<VLOOKUP(P$5,NFI,5,0),1,0)*Table_NFI[[#This Row],[Plastic Bucket]],Table_NFI[Plastic Bucket])","v":383},{"$f":"IF(NFI_Expiration=1,IF($A429<VLOOKUP(Q$5,NFI,5,0),1,0)*Table_NFI[[#This Row],[Plastic Mat]],Table_NFI[Plastic Mat])","v":766},{"$f":"IFERROR(VLOOKUP(Table_NFI[[#This Row],[Camp Name]],CL,2,0),\"\")","v":"MMR001CMP117"},{"$f":"IFERROR(VLOOKUP(Table_NFI[[#This Row],[Camp Name]],CL,3,0),\"\")","v":"Open"},{"$f":"IFERROR(Table_NFI[[#This Row],[Kitchen Set]]/VLOOKUP(Table_NFI[[#This Row],[Camp Name]],CL,4,0),\"\")","v":0.89002036659877803}]
[3.2333333333333334,"2013-09-26","UNHCR","UNHCR","Kachin","Momauk","Je Yang Hka ",null,null,1628,3256,1628,3256,1628,null,1628,3256,{"$f":"IF(NFI_Expiration=1,IF($A430<VLOOKUP(H$5,NFI,5,0),1,0)*Table_NFI[[#This Row],[Hygiene Kit]],Table_NFI[Hygiene Kit])","v":0},{"$f":"IF(NFI_Expiration=1,IF($A430<VLOOKUP(I$5,NFI,5,0),1,0)*Table_NFI[[#This Row],[NFI Core Kit]],Table_NFI[NFI Core Kit])","v":0},{"$f":"IF(NFI_Expiration=1,IF($A430<VLOOKUP(J$5,NFI,5,0),1,0)*Table_NFI[[#This Row],[Sanitary Kit]],Table_NFI[Sanitary Kit])","v":1628},{"$f":"IF(NFI_Expiration=1,IF($A430<VLOOKUP(K$5,NFI,5,0),1,0)*Table_NFI[[#This Row],[Mosquito net]],Table_NFI[Mosquito net])","v":3256},{"$f":"IF(NFI_Expiration=1,IF($A430<VLOOKUP(L$5,NFI,5,0),1,0)*Table_NFI[[#This Row],[Tarpaulin]],Table_NFI[[#This Row],[Tarpaulin]])","v":1628},{"$f":"IF(NFI_Expiration=1,IF($A430<VLOOKUP(M$5,NFI,5,0),1,0)*Table_NFI[[#This Row],[Blanket]],Table_NFI[[#This Row],[Blanket]])","v":3256},{"$f":"IF(NFI_Expiration=1,IF($A430<VLOOKUP(N$5,NFI,5,0),1,0)*Table_NFI[[#This Row],[Kitchen Set]],Table_NFI[Kitchen Set])","v":1628},{"$f":"IF(NFI_Expiration=1,IF($A430<VLOOKUP(O$5,NFI,5,0),1,0)*Table_NFI[[#This Row],[Complementary Kit]],Table_NFI[Complementary Kit])","v":0},{"$f":"IF(NFI_Expiration=1,IF($A430<VLOOKUP(P$5,NFI,5,0),1,0)*Table_NFI[[#This Row],[Plastic Bucket]],Table_NFI[Plastic Bucket])","v":1628},{"$f":"IF(NFI_Expiration=1,IF($A430<VLOOKUP(Q$5,NFI,5,0),1,0)*Table_NFI[[#This Row],[Plastic Mat]],Table_NFI[Plastic Mat])","v":3256},{"$f":"IFERROR(VLOOKUP(Table_NFI[[#This Row],[Camp Name]],CL,2,0),\"\")","v":"MMR001CMP121"},{"$f":"IFERROR(VLOOKUP(Table_NFI[[#This Row],[Camp Name]],CL,3,0),\"\")","v":"Open"},{"$f":"IFERROR(Table_NFI[[#This Row],[Kitchen Set]]/VLOOKUP(Table_NFI[[#This Row],[Camp Name]],CL,4,0),\"\")","v":0.96445497630331756}]
[3.2333333333333334,"2013-09-26","UNHCR","UNHCR","Kachin","Momauk","Hpun Lum Yang ",null,null,882,882,441,882,441,null,441,882,{"$f":"IF(NFI_Expiration=1,IF($A431<VLOOKUP(H$5,NFI,5,0),1,0)*Table_NFI[[#This Row],[Hygiene Kit]],Table_NFI[Hygiene Kit])","v":0},{"$f":"IF(NFI_Expiration=1,IF($A431<VLOOKUP(I$5,NFI,5,0),1,0)*Table_NFI[[#This Row],[NFI Core Kit]],Table_NFI[NFI Core Kit])","v":0},{"$f":"IF(NFI_Expiration=1,IF($A431<VLOOKUP(J$5,NFI,5,0),1,0)*Table_NFI[[#This Row],[Sanitary Kit]],Table_NFI[Sanitary Kit])","v":882},{"$f":"IF(NFI_Expiration=1,IF($A431<VLOOKUP(K$5,NFI,5,0),1,0)*Table_NFI[[#This Row],[Mosquito net]],Table_NFI[Mosquito net])","v":882},{"$f":"IF(NFI_Expiration=1,IF($A431<VLOOKUP(L$5,NFI,5,0),1,0)*Table_NFI[[#This Row],[Tarpaulin]],Table_NFI[[#This Row],[Tarpaulin]])","v":441},{"$f":"IF(NFI_Expiration=1,IF($A431<VLOOKUP(M$5,NFI,5,0),1,0)*Table_NFI[[#This Row],[Blanket]],Table_NFI[[#This Row],[Blanket]])","v":882},{"$f":"IF(NFI_Expiration=1,IF($A431<VLOOKUP(N$5,NFI,5,0),1,0)*Table_NFI[[#This Row],[Kitchen Set]],Table_NFI[Kitchen Set])","v":441},{"$f":"IF(NFI_Expiration=1,IF($A431<VLOOKUP(O$5,NFI,5,0),1,0)*Table_NFI[[#This Row],[Complementary Kit]],Table_NFI[Complementary Kit])","v":0},{"$f":"IF(NFI_Expiration=1,IF($A431<VLOOKUP(P$5,NFI,5,0),1,0)*Table_NFI[[#This Row],[Plastic Bucket]],Table_NFI[Plastic Bucket])","v":441},{"$f":"IF(NFI_Expiration=1,IF($A431<VLOOKUP(Q$5,NFI,5,0),1,0)*Table_NFI[[#This Row],[Plastic Mat]],Table_NFI[Plastic Mat])","v":882},{"$f":"IFERROR(VLOOKUP(Table_NFI[[#This Row],[Camp Name]],CL,2,0),\"\")","v":"MMR001CMP122"},{"$f":"IFERROR(VLOOKUP(Table_NFI[[#This Row],[Camp Name]],CL,3,0),\"\")","v":"Open"},{"$f":"IFERROR(Table_NFI[[#This Row],[Kitchen Set]]/VLOOKUP(Table_NFI[[#This Row],[Camp Name]],CL,4,0),\"\")","v":1.0091533180778032}]
[2.1,"2013-10-30","UNHCR","UNHCR","Kachin","Bhamo","AD-2000 Tharthana Compound",null,null,22,40,21,40,21,21,21,21,{"$f":"IF(NFI_Expiration=1,IF($A432<VLOOKUP(H$5,NFI,5,0),1,0)*Table_NFI[[#This Row],[Hygiene Kit]],Table_NFI[Hygiene Kit])","v":0},{"$f":"IF(NFI_Expiration=1,IF($A432<VLOOKUP(I$5,NFI,5,0),1,0)*Table_NFI[[#This Row],[NFI Core Kit]],Table_NFI[NFI Core Kit])","v":0},{"$f":"IF(NFI_Expiration=1,IF($A432<VLOOKUP(J$5,NFI,5,0),1,0)*Table_NFI[[#This Row],[Sanitary Kit]],Table_NFI[Sanitary Kit])","v":22},{"$f":"IF(NFI_Expiration=1,IF($A432<VLOOKUP(K$5,NFI,5,0),1,0)*Table_NFI[[#This Row],[Mosquito net]],Table_NFI[Mosquito net])","v":40},{"$f":"IF(NFI_Expiration=1,IF($A432<VLOOKUP(L$5,NFI,5,0),1,0)*Table_NFI[[#This Row],[Tarpaulin]],Table_NFI[[#This Row],[Tarpaulin]])","v":21},{"$f":"IF(NFI_Expiration=1,IF($A432<VLOOKUP(M$5,NFI,5,0),1,0)*Table_NFI[[#This Row],[Blanket]],Table_NFI[[#This Row],[Blanket]])","v":40},{"$f":"IF(NFI_Expiration=1,IF($A432<VLOOKUP(N$5,NFI,5,0),1,0)*Table_NFI[[#This Row],[Kitchen Set]],Table_NFI[Kitchen Set])","v":21},{"$f":"IF(NFI_Expiration=1,IF($A432<VLOOKUP(O$5,NFI,5,0),1,0)*Table_NFI[[#This Row],[Complementary Kit]],Table_NFI[Complementary Kit])","v":21},{"$f":"IF(NFI_Expiration=1,IF($A432<VLOOKUP(P$5,NFI,5,0),1,0)*Table_NFI[[#This Row],[Plastic Bucket]],Table_NFI[Plastic Bucket])","v":21},{"$f":"IF(NFI_Expiration=1,IF($A432<VLOOKUP(Q$5,NFI,5,0),1,0)*Table_NFI[[#This Row],[Plastic Mat]],Table_NFI[Plastic Mat])","v":21},{"$f":"IFERROR(VLOOKUP(Table_NFI[[#This Row],[Camp Name]],CL,2,0),\"\")","v":"MMR001CMP050"},{"$f":"IFERROR(VLOOKUP(Table_NFI[[#This Row],[Camp Name]],CL,3,0),\"\")","v":"Open"},{"$f":"IFERROR(Table_NFI[[#This Row],[Kitchen Set]]/VLOOKUP(Table_NFI[[#This Row],[Camp Name]],CL,4,0),\"\")","v":8.9743589743589744E-2}]
[2.1,"2013-10-30","UNHCR","UNHCR","Kachin","Bhamo","Htoi San Church",null,null,72,61,36,61,36,36,36,36,{"$f":"IF(NFI_Expiration=1,IF($A433<VLOOKUP(H$5,NFI,5,0),1,0)*Table_NFI[[#This Row],[Hygiene Kit]],Table_NFI[Hygiene Kit])","v":0},{"$f":"IF(NFI_Expiration=1,IF($A433<VLOOKUP(I$5,NFI,5,0),1,0)*Table_NFI[[#This Row],[NFI Core Kit]],Table_NFI[NFI Core Kit])","v":0},{"$f":"IF(NFI_Expiration=1,IF($A433<VLOOKUP(J$5,NFI,5,0),1,0)*Table_NFI[[#This Row],[Sanitary Kit]],Table_NFI[Sanitary Kit])","v":72},{"$f":"IF(NFI_Expiration=1,IF($A433<VLOOKUP(K$5,NFI,5,0),1,0)*Table_NFI[[#This Row],[Mosquito net]],Table_NFI[Mosquito net])","v":61},{"$f":"IF(NFI_Expiration=1,IF($A433<VLOOKUP(L$5,NFI,5,0),1,0)*Table_NFI[[#This Row],[Tarpaulin]],Table_NFI[[#This Row],[Tarpaulin]])","v":36},{"$f":"IF(NFI_Expiration=1,IF($A433<VLOOKUP(M$5,NFI,5,0),1,0)*Table_NFI[[#This Row],[Blanket]],Table_NFI[[#This Row],[Blanket]])","v":61},{"$f":"IF(NFI_Expiration=1,IF($A433<VLOOKUP(N$5,NFI,5,0),1,0)*Table_NFI[[#This Row],[Kitchen Set]],Table_NFI[Kitchen Set])","v":36},{"$f":"IF(NFI_Expiration=1,IF($A433<VLOOKUP(O$5,NFI,5,0),1,0)*Table_NFI[[#This Row],[Complementary Kit]],Table_NFI[Complementary Kit])","v":36},{"$f":"IF(NFI_Expiration=1,IF($A433<VLOOKUP(P$5,NFI,5,0),1,0)*Table_NFI[[#This Row],[Plastic Bucket]],Table_NFI[Plastic Bucket])","v":36},{"$f":"IF(NFI_Expiration=1,IF($A433<VLOOKUP(Q$5,NFI,5,0),1,0)*Table_NFI[[#This Row],[Plastic Mat]],Table_NFI[Plastic Mat])","v":36},{"$f":"IFERROR(VLOOKUP(Table_NFI[[#This Row],[Camp Name]],CL,2,0),\"\")","v":"MMR001CMP052"},{"$f":"IFERROR(VLOOKUP(Table_NFI[[#This Row],[Camp Name]],CL,3,0),\"\")","v":"Open"},{"$f":"IFERROR(Table_NFI[[#This Row],[Kitchen Set]]/VLOOKUP(Table_NFI[[#This Row],[Camp Name]],CL,4,0),\"\")","v":0.83720930232558144}]
[2.1,"2013-10-30","UNHCR","UNHCR","Kachin","Bhamo","Phan Khar Kone",null,null,81,94,50,94,50,50,50,50,{"$f":"IF(NFI_Expiration=1,IF($A434<VLOOKUP(H$5,NFI,5,0),1,0)*Table_NFI[[#This Row],[Hygiene Kit]],Table_NFI[Hygiene Kit])","v":0},{"$f":"IF(NFI_Expiration=1,IF($A434<VLOOKUP(I$5,NFI,5,0),1,0)*Table_NFI[[#This Row],[NFI Core Kit]],Table_NFI[NFI Core Kit])","v":0},{"$f":"IF(NFI_Expiration=1,IF($A434<VLOOKUP(J$5,NFI,5,0),1,0)*Table_NFI[[#This Row],[Sanitary Kit]],Table_NFI[Sanitary Kit])","v":81},{"$f":"IF(NFI_Expiration=1,IF($A434<VLOOKUP(K$5,NFI,5,0),1,0)*Table_NFI[[#This Row],[Mosquito net]],Table_NFI[Mosquito net])","v":94},{"$f":"IF(NFI_Expiration=1,IF($A434<VLOOKUP(L$5,NFI,5,0),1,0)*Table_NFI[[#This Row],[Tarpaulin]],Table_NFI[[#This Row],[Tarpaulin]])","v":50},{"$f":"IF(NFI_Expiration=1,IF($A434<VLOOKUP(M$5,NFI,5,0),1,0)*Table_NFI[[#This Row],[Blanket]],Table_NFI[[#This Row],[Blanket]])","v":94},{"$f":"IF(NFI_Expiration=1,IF($A434<VLOOKUP(N$5,NFI,5,0),1,0)*Table_NFI[[#This Row],[Kitchen Set]],Table_NFI[Kitchen Set])","v":50},{"$f":"IF(NFI_Expiration=1,IF($A434<VLOOKUP(O$5,NFI,5,0),1,0)*Table_NFI[[#This Row],[Complementary Kit]],Table_NFI[Complementary Kit])","v":50},{"$f":"IF(NFI_Expiration=1,IF($A434<VLOOKUP(P$5,NFI,5,0),1,0)*Table_NFI[[#This Row],[Plastic Bucket]],Table_NFI[Plastic Bucket])","v":50},{"$f":"IF(NFI_Expiration=1,IF($A434<VLOOKUP(Q$5,NFI,5,0),1,0)*Table_NFI[[#This Row],[Plastic Mat]],Table_NFI[Plastic Mat])","v":50},{"$f":"IFERROR(VLOOKUP(Table_NFI[[#This Row],[Camp Name]],CL,2,0),\"\")","v":"MMR001CMP193"},{"$f":"IFERROR(VLOOKUP(Table_NFI[[#This Row],[Camp Name]],CL,3,0),\"\")","v":"Open"},{"$f":"IFERROR(Table_NFI[[#This Row],[Kitchen Set]]/VLOOKUP(Table_NFI[[#This Row],[Camp Name]],CL,4,0),\"\")","v":0.15772870662460567}]
[2.0333333333333332,"2013-11-01","UNHCR","UNHCR","Kachin","Bhamo","Robert Church",null,null,40,48,20,48,20,20,500,500,{"$f":"IF(NFI_Expiration=1,IF($A435<VLOOKUP(H$5,NFI,5,0),1,0)*Table_NFI[[#This Row],[Hygiene Kit]],Table_NFI[Hygiene Kit])","v":0},{"$f":"IF(NFI_Expiration=1,IF($A435<VLOOKUP(I$5,NFI,5,0),1,0)*Table_NFI[[#This Row],[NFI Core Kit]],Table_NFI[NFI Core Kit])","v":0},{"$f":"IF(NFI_Expiration=1,IF($A435<VLOOKUP(J$5,NFI,5,0),1,0)*Table_NFI[[#This Row],[Sanitary Kit]],Table_NFI[Sanitary Kit])","v":40},{"$f":"IF(NFI_Expiration=1,IF($A435<VLOOKUP(K$5,NFI,5,0),1,0)*Table_NFI[[#This Row],[Mosquito net]],Table_NFI[Mosquito net])","v":48},{"$f":"IF(NFI_Expiration=1,IF($A435<VLOOKUP(L$5,NFI,5,0),1,0)*Table_NFI[[#This Row],[Tarpaulin]],Table_NFI[[#This Row],[Tarpaulin]])","v":20},{"$f":"IF(NFI_Expiration=1,IF($A435<VLOOKUP(M$5,NFI,5,0),1,0)*Table_NFI[[#This Row],[Blanket]],Table_NFI[[#This Row],[Blanket]])","v":48},{"$f":"IF(NFI_Expiration=1,IF($A435<VLOOKUP(N$5,NFI,5,0),1,0)*Table_NFI[[#This Row],[Kitchen Set]],Table_NFI[Kitchen Set])","v":20},{"$f":"IF(NFI_Expiration=1,IF($A435<VLOOKUP(O$5,NFI,5,0),1,0)*Table_NFI[[#This Row],[Complementary Kit]],Table_NFI[Complementary Kit])","v":20},{"$f":"IF(NFI_Expiration=1,IF($A435<VLOOKUP(P$5,NFI,5,0),1,0)*Table_NFI[[#This Row],[Plastic Bucket]],Table_NFI[Plastic Bucket])","v":500},{"$f":"IF(NFI_Expiration=1,IF($A435<VLOOKUP(Q$5,NFI,5,0),1,0)*Table_NFI[[#This Row],[Plastic Mat]],Table_NFI[Plastic Mat])","v":500},{"$f":"IFERROR(VLOOKUP(Table_NFI[[#This Row],[Camp Name]],CL,2,0),\"\")","v":"MMR001CMP047"},{"$f":"IFERROR(VLOOKUP(Table_NFI[[#This Row],[Camp Name]],CL,3,0),\"\")","v":"Open"},{"$f":"IFERROR(Table_NFI[[#This Row],[Kitchen Set]]/VLOOKUP(Table_NFI[[#This Row],[Camp Name]],CL,4,0),\"\")","v":3.5842293906810034E-2}]
[2.0333333333333332,"2013-11-01","UNHCR","UNHCR","Kachin","Bhamo","Htoi San Church",null,null,12,9,6,9,6,6,6,null,{"$f":"IF(NFI_Expiration=1,IF($A436<VLOOKUP(H$5,NFI,5,0),1,0)*Table_NFI[[#This Row],[Hygiene Kit]],Table_NFI[Hygiene Kit])","v":0},{"$f":"IF(NFI_Expiration=1,IF($A436<VLOOKUP(I$5,NFI,5,0),1,0)*Table_NFI[[#This Row],[NFI Core Kit]],Table_NFI[NFI Core Kit])","v":0},{"$f":"IF(NFI_Expiration=1,IF($A436<VLOOKUP(J$5,NFI,5,0),1,0)*Table_NFI[[#This Row],[Sanitary Kit]],Table_NFI[Sanitary Kit])","v":12},{"$f":"IF(NFI_Expiration=1,IF($A436<VLOOKUP(K$5,NFI,5,0),1,0)*Table_NFI[[#This Row],[Mosquito net]],Table_NFI[Mosquito net])","v":9},{"$f":"IF(NFI_Expiration=1,IF($A436<VLOOKUP(L$5,NFI,5,0),1,0)*Table_NFI[[#This Row],[Tarpaulin]],Table_NFI[[#This Row],[Tarpaulin]])","v":6},{"$f":"IF(NFI_Expiration=1,IF($A436<VLOOKUP(M$5,NFI,5,0),1,0)*Table_NFI[[#This Row],[Blanket]],Table_NFI[[#This Row],[Blanket]])","v":9},{"$f":"IF(NFI_Expiration=1,IF($A436<VLOOKUP(N$5,NFI,5,0),1,0)*Table_NFI[[#This Row],[Kitchen Set]],Table_NFI[Kitchen Set])","v":6},{"$f":"IF(NFI_Expiration=1,IF($A436<VLOOKUP(O$5,NFI,5,0),1,0)*Table_NFI[[#This Row],[Complementary Kit]],Table_NFI[Complementary Kit])","v":6},{"$f":"IF(NFI_Expiration=1,IF($A436<VLOOKUP(P$5,NFI,5,0),1,0)*Table_NFI[[#This Row],[Plastic Bucket]],Table_NFI[Plastic Bucket])","v":6},{"$f":"IF(NFI_Expiration=1,IF($A436<VLOOKUP(Q$5,NFI,5,0),1,0)*Table_NFI[[#This Row],[Plastic Mat]],Table_NFI[Plastic Mat])","v":0},{"$f":"IFERROR(VLOOKUP(Table_NFI[[#This Row],[Camp Name]],CL,2,0),\"\")","v":"MMR001CMP052"},{"$f":"IFERROR(VLOOKUP(Table_NFI[[#This Row],[Camp Name]],CL,3,0),\"\")","v":"Open"},{"$f":"IFERROR(Table_NFI[[#This Row],[Kitchen Set]]/VLOOKUP(Table_NFI[[#This Row],[Camp Name]],CL,4,0),\"\")","v":0.13953488372093023}]
[2.0333333333333332,"2013-11-01","UNHCR","UNHCR","Kachin","Bhamo","Aung Thar Church",null,null,8,6,4,6,4,4,null,null,{"$f":"IF(NFI_Expiration=1,IF($A437<VLOOKUP(H$5,NFI,5,0),1,0)*Table_NFI[[#This Row],[Hygiene Kit]],Table_NFI[Hygiene Kit])","v":0},{"$f":"IF(NFI_Expiration=1,IF($A437<VLOOKUP(I$5,NFI,5,0),1,0)*Table_NFI[[#This Row],[NFI Core Kit]],Table_NFI[NFI Core Kit])","v":0},{"$f":"IF(NFI_Expiration=1,IF($A437<VLOOKUP(J$5,NFI,5,0),1,0)*Table_NFI[[#This Row],[Sanitary Kit]],Table_NFI[Sanitary Kit])","v":8},{"$f":"IF(NFI_Expiration=1,IF($A437<VLOOKUP(K$5,NFI,5,0),1,0)*Table_NFI[[#This Row],[Mosquito net]],Table_NFI[Mosquito net])","v":6},{"$f":"IF(NFI_Expiration=1,IF($A437<VLOOKUP(L$5,NFI,5,0),1,0)*Table_NFI[[#This Row],[Tarpaulin]],Table_NFI[[#This Row],[Tarpaulin]])","v":4},{"$f":"IF(NFI_Expiration=1,IF($A437<VLOOKUP(M$5,NFI,5,0),1,0)*Table_NFI[[#This Row],[Blanket]],Table_NFI[[#This Row],[Blanket]])","v":6},{"$f":"IF(NFI_Expiration=1,IF($A437<VLOOKUP(N$5,NFI,5,0),1,0)*Table_NFI[[#This Row],[Kitchen Set]],Table_NFI[Kitchen Set])","v":4},{"$f":"IF(NFI_Expiration=1,IF($A437<VLOOKUP(O$5,NFI,5,0),1,0)*Table_NFI[[#This Row],[Complementary Kit]],Table_NFI[Complementary Kit])","v":4},{"$f":"IF(NFI_Expiration=1,IF($A437<VLOOKUP(P$5,NFI,5,0),1,0)*Table_NFI[[#This Row],[Plastic Bucket]],Table_NFI[Plastic Bucket])","v":0},{"$f":"IF(NFI_Expiration=1,IF($A437<VLOOKUP(Q$5,NFI,5,0),1,0)*Table_NFI[[#This Row],[Plastic Mat]],Table_NFI[Plastic Mat])","v":0},{"$f":"IFERROR(VLOOKUP(Table_NFI[[#This Row],[Camp Name]],CL,2,0),\"\")","v":"MMR001CMP194"},{"$f":"IFERROR(VLOOKUP(Table_NFI[[#This Row],[Camp Name]],CL,3,0),\"\")","v":"Open"},{"$f":"IFERROR(Table_NFI[[#This Row],[Kitchen Set]]/VLOOKUP(Table_NFI[[#This Row],[Camp Name]],CL,4,0),\"\")","v":0.4}]
[1.9666666666666666,"2013-11-03","UNHCR","UNHCR ","Kachin","Momauk","Loi Je Lisu Camp",null,null,24,24,12,12,12,12,null,null,{"$f":"IF(NFI_Expiration=1,IF($A438<VLOOKUP(H$5,NFI,5,0),1,0)*Table_NFI[[#This Row],[Hygiene Kit]],Table_NFI[Hygiene Kit])","v":0},{"$f":"IF(NFI_Expiration=1,IF($A438<VLOOKUP(I$5,NFI,5,0),1,0)*Table_NFI[[#This Row],[NFI Core Kit]],Table_NFI[NFI Core Kit])","v":0},{"$f":"IF(NFI_Expiration=1,IF($A438<VLOOKUP(J$5,NFI,5,0),1,0)*Table_NFI[[#This Row],[Sanitary Kit]],Table_NFI[Sanitary Kit])","v":24},{"$f":"IF(NFI_Expiration=1,IF($A438<VLOOKUP(K$5,NFI,5,0),1,0)*Table_NFI[[#This Row],[Mosquito net]],Table_NFI[Mosquito net])","v":24},{"$f":"IF(NFI_Expiration=1,IF($A438<VLOOKUP(L$5,NFI,5,0),1,0)*Table_NFI[[#This Row],[Tarpaulin]],Table_NFI[[#This Row],[Tarpaulin]])","v":12},{"$f":"IF(NFI_Expiration=1,IF($A438<VLOOKUP(M$5,NFI,5,0),1,0)*Table_NFI[[#This Row],[Blanket]],Table_NFI[[#This Row],[Blanket]])","v":12},{"$f":"IF(NFI_Expiration=1,IF($A438<VLOOKUP(N$5,NFI,5,0),1,0)*Table_NFI[[#This Row],[Kitchen Set]],Table_NFI[Kitchen Set])","v":12},{"$f":"IF(NFI_Expiration=1,IF($A438<VLOOKUP(O$5,NFI,5,0),1,0)*Table_NFI[[#This Row],[Complementary Kit]],Table_NFI[Complementary Kit])","v":12},{"$f":"IF(NFI_Expiration=1,IF($A438<VLOOKUP(P$5,NFI,5,0),1,0)*Table_NFI[[#This Row],[Plastic Bucket]],Table_NFI[Plastic Bucket])","v":0},{"$f":"IF(NFI_Expiration=1,IF($A438<VLOOKUP(Q$5,NFI,5,0),1,0)*Table_NFI[[#This Row],[Plastic Mat]],Table_NFI[Plastic Mat])","v":0},{"$f":"IFERROR(VLOOKUP(Table_NFI[[#This Row],[Camp Name]],CL,2,0),\"\")","v":"MMR001CMP070"},{"$f":"IFERROR(VLOOKUP(Table_NFI[[#This Row],[Camp Name]],CL,3,0),\"\")","v":"Open"},{"$f":"IFERROR(Table_NFI[[#This Row],[Kitchen Set]]/VLOOKUP(Table_NFI[[#This Row],[Camp Name]],CL,4,0),\"\")","v":8.4507042253521125E-2}]
[1.9666666666666666,"2013-11-03","UNHCR","UNHCR ","Kachin","Mansi","Lana Zup Ja ",null,null,592,592,296,296,296,296,null,null,{"$f":"IF(NFI_Expiration=1,IF($A439<VLOOKUP(H$5,NFI,5,0),1,0)*Table_NFI[[#This Row],[Hygiene Kit]],Table_NFI[Hygiene Kit])","v":0},{"$f":"IF(NFI_Expiration=1,IF($A439<VLOOKUP(I$5,NFI,5,0),1,0)*Table_NFI[[#This Row],[NFI Core Kit]],Table_NFI[NFI Core Kit])","v":0},{"$f":"IF(NFI_Expiration=1,IF($A439<VLOOKUP(J$5,NFI,5,0),1,0)*Table_NFI[[#This Row],[Sanitary Kit]],Table_NFI[Sanitary Kit])","v":592},{"$f":"IF(NFI_Expiration=1,IF($A439<VLOOKUP(K$5,NFI,5,0),1,0)*Table_NFI[[#This Row],[Mosquito net]],Table_NFI[Mosquito net])","v":592},{"$f":"IF(NFI_Expiration=1,IF($A439<VLOOKUP(L$5,NFI,5,0),1,0)*Table_NFI[[#This Row],[Tarpaulin]],Table_NFI[[#This Row],[Tarpaulin]])","v":296},{"$f":"IF(NFI_Expiration=1,IF($A439<VLOOKUP(M$5,NFI,5,0),1,0)*Table_NFI[[#This Row],[Blanket]],Table_NFI[[#This Row],[Blanket]])","v":296},{"$f":"IF(NFI_Expiration=1,IF($A439<VLOOKUP(N$5,NFI,5,0),1,0)*Table_NFI[[#This Row],[Kitchen Set]],Table_NFI[Kitchen Set])","v":296},{"$f":"IF(NFI_Expiration=1,IF($A439<VLOOKUP(O$5,NFI,5,0),1,0)*Table_NFI[[#This Row],[Complementary Kit]],Table_NFI[Complementary Kit])","v":296},{"$f":"IF(NFI_Expiration=1,IF($A439<VLOOKUP(P$5,NFI,5,0),1,0)*Table_NFI[[#This Row],[Plastic Bucket]],Table_NFI[Plastic Bucket])","v":0},{"$f":"IF(NFI_Expiration=1,IF($A439<VLOOKUP(Q$5,NFI,5,0),1,0)*Table_NFI[[#This Row],[Plastic Mat]],Table_NFI[Plastic Mat])","v":0},{"$f":"IFERROR(VLOOKUP(Table_NFI[[#This Row],[Camp Name]],CL,2,0),\"\")","v":"MMR001CMP128"},{"$f":"IFERROR(VLOOKUP(Table_NFI[[#This Row],[Camp Name]],CL,3,0),\"\")","v":"Open"},{"$f":"IFERROR(Table_NFI[[#This Row],[Kitchen Set]]/VLOOKUP(Table_NFI[[#This Row],[Camp Name]],CL,4,0),\"\")","v":0.5372050816696915}]
[1.9666666666666666,"2013-11-03","UNHCR","UNHCR ","Kachin","Mansi","Bum Tsit Pa ",null,null,130,130,65,65,65,65,null,null,{"$f":"IF(NFI_Expiration=1,IF($A440<VLOOKUP(H$5,NFI,5,0),1,0)*Table_NFI[[#This Row],[Hygiene Kit]],Table_NFI[Hygiene Kit])","v":0},{"$f":"IF(NFI_Expiration=1,IF($A440<VLOOKUP(I$5,NFI,5,0),1,0)*Table_NFI[[#This Row],[NFI Core Kit]],Table_NFI[NFI Core Kit])","v":0},{"$f":"IF(NFI_Expiration=1,IF($A440<VLOOKUP(J$5,NFI,5,0),1,0)*Table_NFI[[#This Row],[Sanitary Kit]],Table_NFI[Sanitary Kit])","v":130},{"$f":"IF(NFI_Expiration=1,IF($A440<VLOOKUP(K$5,NFI,5,0),1,0)*Table_NFI[[#This Row],[Mosquito net]],Table_NFI[Mosquito net])","v":130},{"$f":"IF(NFI_Expiration=1,IF($A440<VLOOKUP(L$5,NFI,5,0),1,0)*Table_NFI[[#This Row],[Tarpaulin]],Table_NFI[[#This Row],[Tarpaulin]])","v":65},{"$f":"IF(NFI_Expiration=1,IF($A440<VLOOKUP(M$5,NFI,5,0),1,0)*Table_NFI[[#This Row],[Blanket]],Table_NFI[[#This Row],[Blanket]])","v":65},{"$f":"IF(NFI_Expiration=1,IF($A440<VLOOKUP(N$5,NFI,5,0),1,0)*Table_NFI[[#This Row],[Kitchen Set]],Table_NFI[Kitchen Set])","v":65},{"$f":"IF(NFI_Expiration=1,IF($A440<VLOOKUP(O$5,NFI,5,0),1,0)*Table_NFI[[#This Row],[Complementary Kit]],Table_NFI[Complementary Kit])","v":65},{"$f":"IF(NFI_Expiration=1,IF($A440<VLOOKUP(P$5,NFI,5,0),1,0)*Table_NFI[[#This Row],[Plastic Bucket]],Table_NFI[Plastic Bucket])","v":0},{"$f":"IF(NFI_Expiration=1,IF($A440<VLOOKUP(Q$5,NFI,5,0),1,0)*Table_NFI[[#This Row],[Plastic Mat]],Table_NFI[Plastic Mat])","v":0},{"$f":"IFERROR(VLOOKUP(Table_NFI[[#This Row],[Camp Name]],CL,2,0),\"\")","v":"MMR001CMP129"},{"$f":"IFERROR(VLOOKUP(Table_NFI[[#This Row],[Camp Name]],CL,3,0),\"\")","v":"Open"},{"$f":"IFERROR(Table_NFI[[#This Row],[Kitchen Set]]/VLOOKUP(Table_NFI[[#This Row],[Camp Name]],CL,4,0),\"\")","v":0.10998307952622674}]
[1.9666666666666666,"2013-11-03","MRCS","MRCS","Kachin","Bhamo","AD-2000 Tharthana Compound",null,null,21,null,null,null,21,null,null,null,{"$f":"IF(NFI_Expiration=1,IF($A441<VLOOKUP(H$5,NFI,5,0),1,0)*Table_NFI[[#This Row],[Hygiene Kit]],Table_NFI[Hygiene Kit])","v":0},{"$f":"IF(NFI_Expiration=1,IF($A441<VLOOKUP(I$5,NFI,5,0),1,0)*Table_NFI[[#This Row],[NFI Core Kit]],Table_NFI[NFI Core Kit])","v":0},{"$f":"IF(NFI_Expiration=1,IF($A441<VLOOKUP(J$5,NFI,5,0),1,0)*Table_NFI[[#This Row],[Sanitary Kit]],Table_NFI[Sanitary Kit])","v":21},{"$f":"IF(NFI_Expiration=1,IF($A441<VLOOKUP(K$5,NFI,5,0),1,0)*Table_NFI[[#This Row],[Mosquito net]],Table_NFI[Mosquito net])","v":0},{"$f":"IF(NFI_Expiration=1,IF($A441<VLOOKUP(L$5,NFI,5,0),1,0)*Table_NFI[[#This Row],[Tarpaulin]],Table_NFI[[#This Row],[Tarpaulin]])","v":0},{"$f":"IF(NFI_Expiration=1,IF($A441<VLOOKUP(M$5,NFI,5,0),1,0)*Table_NFI[[#This Row],[Blanket]],Table_NFI[[#This Row],[Blanket]])","v":0},{"$f":"IF(NFI_Expiration=1,IF($A441<VLOOKUP(N$5,NFI,5,0),1,0)*Table_NFI[[#This Row],[Kitchen Set]],Table_NFI[Kitchen Set])","v":21},{"$f":"IF(NFI_Expiration=1,IF($A441<VLOOKUP(O$5,NFI,5,0),1,0)*Table_NFI[[#This Row],[Complementary Kit]],Table_NFI[Complementary Kit])","v":0},{"$f":"IF(NFI_Expiration=1,IF($A441<VLOOKUP(P$5,NFI,5,0),1,0)*Table_NFI[[#This Row],[Plastic Bucket]],Table_NFI[Plastic Bucket])","v":0},{"$f":"IF(NFI_Expiration=1,IF($A441<VLOOKUP(Q$5,NFI,5,0),1,0)*Table_NFI[[#This Row],[Plastic Mat]],Table_NFI[Plastic Mat])","v":0},{"$f":"IFERROR(VLOOKUP(Table_NFI[[#This Row],[Camp Name]],CL,2,0),\"\")","v":"MMR001CMP050"},{"$f":"IFERROR(VLOOKUP(Table_NFI[[#This Row],[Camp Name]],CL,3,0),\"\")","v":"Open"},{"$f":"IFERROR(Table_NFI[[#This Row],[Kitchen Set]]/VLOOKUP(Table_NFI[[#This Row],[Camp Name]],CL,4,0),\"\")","v":8.9743589743589744E-2}]
[1.9666666666666666,"2013-11-03","MRCS","MRCS","Kachin","Bhamo","Htoi San Church",null,null,41,null,null,null,41,null,null,null,{"$f":"IF(NFI_Expiration=1,IF($A442<VLOOKUP(H$5,NFI,5,0),1,0)*Table_NFI[[#This Row],[Hygiene Kit]],Table_NFI[Hygiene Kit])","v":0},{"$f":"IF(NFI_Expiration=1,IF($A442<VLOOKUP(I$5,NFI,5,0),1,0)*Table_NFI[[#This Row],[NFI Core Kit]],Table_NFI[NFI Core Kit])","v":0},{"$f":"IF(NFI_Expiration=1,IF($A442<VLOOKUP(J$5,NFI,5,0),1,0)*Table_NFI[[#This Row],[Sanitary Kit]],Table_NFI[Sanitary Kit])","v":41},{"$f":"IF(NFI_Expiration=1,IF($A442<VLOOKUP(K$5,NFI,5,0),1,0)*Table_NFI[[#This Row],[Mosquito net]],Table_NFI[Mosquito net])","v":0},{"$f":"IF(NFI_Expiration=1,IF($A442<VLOOKUP(L$5,NFI,5,0),1,0)*Table_NFI[[#This Row],[Tarpaulin]],Table_NFI[[#This Row],[Tarpaulin]])","v":0},{"$f":"IF(NFI_Expiration=1,IF($A442<VLOOKUP(M$5,NFI,5,0),1,0)*Table_NFI[[#This Row],[Blanket]],Table_NFI[[#This Row],[Blanket]])","v":0},{"$f":"IF(NFI_Expiration=1,IF($A442<VLOOKUP(N$5,NFI,5,0),1,0)*Table_NFI[[#This Row],[Kitchen Set]],Table_NFI[Kitchen Set])","v":41},{"$f":"IF(NFI_Expiration=1,IF($A442<VLOOKUP(O$5,NFI,5,0),1,0)*Table_NFI[[#This Row],[Complementary Kit]],Table_NFI[Complementary Kit])","v":0},{"$f":"IF(NFI_Expiration=1,IF($A442<VLOOKUP(P$5,NFI,5,0),1,0)*Table_NFI[[#This Row],[Plastic Bucket]],Table_NFI[Plastic Bucket])","v":0},{"$f":"IF(NFI_Expiration=1,IF($A442<VLOOKUP(Q$5,NFI,5,0),1,0)*Table_NFI[[#This Row],[Plastic Mat]],Table_NFI[Plastic Mat])","v":0},{"$f":"IFERROR(VLOOKUP(Table_NFI[[#This Row],[Camp Name]],CL,2,0),\"\")","v":"MMR001CMP052"},{"$f":"IFERROR(VLOOKUP(Table_NFI[[#This Row],[Camp Name]],CL,3,0),\"\")","v":"Open"},{"$f":"IFERROR(Table_NFI[[#This Row],[Kitchen Set]]/VLOOKUP(Table_NFI[[#This Row],[Camp Name]],CL,4,0),\"\")","v":0.95348837209302328}]
[1.9666666666666666,"2013-11-03","MRCS","MRCS","Kachin","Bhamo","Phan Khar Kone",null,null,49,null,null,null,49,null,null,null,{"$f":"IF(NFI_Expiration=1,IF($A443<VLOOKUP(H$5,NFI,5,0),1,0)*Table_NFI[[#This Row],[Hygiene Kit]],Table_NFI[Hygiene Kit])","v":0},{"$f":"IF(NFI_Expiration=1,IF($A443<VLOOKUP(I$5,NFI,5,0),1,0)*Table_NFI[[#This Row],[NFI Core Kit]],Table_NFI[NFI Core Kit])","v":0},{"$f":"IF(NFI_Expiration=1,IF($A443<VLOOKUP(J$5,NFI,5,0),1,0)*Table_NFI[[#This Row],[Sanitary Kit]],Table_NFI[Sanitary Kit])","v":49},{"$f":"IF(NFI_Expiration=1,IF($A443<VLOOKUP(K$5,NFI,5,0),1,0)*Table_NFI[[#This Row],[Mosquito net]],Table_NFI[Mosquito net])","v":0},{"$f":"IF(NFI_Expiration=1,IF($A443<VLOOKUP(L$5,NFI,5,0),1,0)*Table_NFI[[#This Row],[Tarpaulin]],Table_NFI[[#This Row],[Tarpaulin]])","v":0},{"$f":"IF(NFI_Expiration=1,IF($A443<VLOOKUP(M$5,NFI,5,0),1,0)*Table_NFI[[#This Row],[Blanket]],Table_NFI[[#This Row],[Blanket]])","v":0},{"$f":"IF(NFI_Expiration=1,IF($A443<VLOOKUP(N$5,NFI,5,0),1,0)*Table_NFI[[#This Row],[Kitchen Set]],Table_NFI[Kitchen Set])","v":49},{"$f":"IF(NFI_Expiration=1,IF($A443<VLOOKUP(O$5,NFI,5,0),1,0)*Table_NFI[[#This Row],[Complementary Kit]],Table_NFI[Complementary Kit])","v":0},{"$f":"IF(NFI_Expiration=1,IF($A443<VLOOKUP(P$5,NFI,5,0),1,0)*Table_NFI[[#This Row],[Plastic Bucket]],Table_NFI[Plastic Bucket])","v":0},{"$f":"IF(NFI_Expiration=1,IF($A443<VLOOKUP(Q$5,NFI,5,0),1,0)*Table_NFI[[#This Row],[Plastic Mat]],Table_NFI[Plastic Mat])","v":0},{"$f":"IFERROR(VLOOKUP(Table_NFI[[#This Row],[Camp Name]],CL,2,0),\"\")","v":"MMR001CMP193"},{"$f":"IFERROR(VLOOKUP(Table_NFI[[#This Row],[Camp Name]],CL,3,0),\"\")","v":"Open"},{"$f":"IFERROR(Table_NFI[[#This Row],[Kitchen Set]]/VLOOKUP(Table_NFI[[#This Row],[Camp Name]],CL,4,0),\"\")","v":0.15457413249211358}]
[1.9666666666666666,"2013-11-03","MRCS","MRCS","Kachin","Mansi","Mansi Baptist Church",null,null,29,null,null,null,29,null,null,null,{"$f":"IF(NFI_Expiration=1,IF($A444<VLOOKUP(H$5,NFI,5,0),1,0)*Table_NFI[[#This Row],[Hygiene Kit]],Table_NFI[Hygiene Kit])","v":0},{"$f":"IF(NFI_Expiration=1,IF($A444<VLOOKUP(I$5,NFI,5,0),1,0)*Table_NFI[[#This Row],[NFI Core Kit]],Table_NFI[NFI Core Kit])","v":0},{"$f":"IF(NFI_Expiration=1,IF($A444<VLOOKUP(J$5,NFI,5,0),1,0)*Table_NFI[[#This Row],[Sanitary Kit]],Table_NFI[Sanitary Kit])","v":29},{"$f":"IF(NFI_Expiration=1,IF($A444<VLOOKUP(K$5,NFI,5,0),1,0)*Table_NFI[[#This Row],[Mosquito net]],Table_NFI[Mosquito net])","v":0},{"$f":"IF(NFI_Expiration=1,IF($A444<VLOOKUP(L$5,NFI,5,0),1,0)*Table_NFI[[#This Row],[Tarpaulin]],Table_NFI[[#This Row],[Tarpaulin]])","v":0},{"$f":"IF(NFI_Expiration=1,IF($A444<VLOOKUP(M$5,NFI,5,0),1,0)*Table_NFI[[#This Row],[Blanket]],Table_NFI[[#This Row],[Blanket]])","v":0},{"$f":"IF(NFI_Expiration=1,IF($A444<VLOOKUP(N$5,NFI,5,0),1,0)*Table_NFI[[#This Row],[Kitchen Set]],Table_NFI[Kitchen Set])","v":29},{"$f":"IF(NFI_Expiration=1,IF($A444<VLOOKUP(O$5,NFI,5,0),1,0)*Table_NFI[[#This Row],[Complementary Kit]],Table_NFI[Complementary Kit])","v":0},{"$f":"IF(NFI_Expiration=1,IF($A444<VLOOKUP(P$5,NFI,5,0),1,0)*Table_NFI[[#This Row],[Plastic Bucket]],Table_NFI[Plastic Bucket])","v":0},{"$f":"IF(NFI_Expiration=1,IF($A444<VLOOKUP(Q$5,NFI,5,0),1,0)*Table_NFI[[#This Row],[Plastic Mat]],Table_NFI[Plastic Mat])","v":0},{"$f":"IFERROR(VLOOKUP(Table_NFI[[#This Row],[Camp Name]],CL,2,0),\"\")","v":"MMR001CMP066"},{"$f":"IFERROR(VLOOKUP(Table_NFI[[#This Row],[Camp Name]],CL,3,0),\"\")","v":"Open"},{"$f":"IFERROR(Table_NFI[[#This Row],[Kitchen Set]]/VLOOKUP(Table_NFI[[#This Row],[Camp Name]],CL,4,0),\"\")","v":0.31182795698924731}]
[1.9,"2013-11-05","UNHCR","UNHCR","Kachin","Mansi","Mansi Baptist Church",null,null,60,54,30,54,30,30,null,null,{"$f":"IF(NFI_Expiration=1,IF($A445<VLOOKUP(H$5,NFI,5,0),1,0)*Table_NFI[[#This Row],[Hygiene Kit]],Table_NFI[Hygiene Kit])","v":0},{"$f":"IF(NFI_Expiration=1,IF($A445<VLOOKUP(I$5,NFI,5,0),1,0)*Table_NFI[[#This Row],[NFI Core Kit]],Table_NFI[NFI Core Kit])","v":0},{"$f":"IF(NFI_Expiration=1,IF($A445<VLOOKUP(J$5,NFI,5,0),1,0)*Table_NFI[[#This Row],[Sanitary Kit]],Table_NFI[Sanitary Kit])","v":60},{"$f":"IF(NFI_Expiration=1,IF($A445<VLOOKUP(K$5,NFI,5,0),1,0)*Table_NFI[[#This Row],[Mosquito net]],Table_NFI[Mosquito net])","v":54},{"$f":"IF(NFI_Expiration=1,IF($A445<VLOOKUP(L$5,NFI,5,0),1,0)*Table_NFI[[#This Row],[Tarpaulin]],Table_NFI[[#This Row],[Tarpaulin]])","v":30},{"$f":"IF(NFI_Expiration=1,IF($A445<VLOOKUP(M$5,NFI,5,0),1,0)*Table_NFI[[#This Row],[Blanket]],Table_NFI[[#This Row],[Blanket]])","v":54},{"$f":"IF(NFI_Expiration=1,IF($A445<VLOOKUP(N$5,NFI,5,0),1,0)*Table_NFI[[#This Row],[Kitchen Set]],Table_NFI[Kitchen Set])","v":30},{"$f":"IF(NFI_Expiration=1,IF($A445<VLOOKUP(O$5,NFI,5,0),1,0)*Table_NFI[[#This Row],[Complementary Kit]],Table_NFI[Complementary Kit])","v":30},{"$f":"IF(NFI_Expiration=1,IF($A445<VLOOKUP(P$5,NFI,5,0),1,0)*Table_NFI[[#This Row],[Plastic Bucket]],Table_NFI[Plastic Bucket])","v":0},{"$f":"IF(NFI_Expiration=1,IF($A445<VLOOKUP(Q$5,NFI,5,0),1,0)*Table_NFI[[#This Row],[Plastic Mat]],Table_NFI[Plastic Mat])","v":0},{"$f":"IFERROR(VLOOKUP(Table_NFI[[#This Row],[Camp Name]],CL,2,0),\"\")","v":"MMR001CMP066"},{"$f":"IFERROR(VLOOKUP(Table_NFI[[#This Row],[Camp Name]],CL,3,0),\"\")","v":"Open"},{"$f":"IFERROR(Table_NFI[[#This Row],[Kitchen Set]]/VLOOKUP(Table_NFI[[#This Row],[Camp Name]],CL,4,0),\"\")","v":0.32258064516129031}]
[1.8333333333333333,"2013-11-07","UNHCR","UNHCR","Kachin","Bhamo","Phan Khar Kone",null,null,58,46,29,46,29,29,null,null,{"$f":"IF(NFI_Expiration=1,IF($A446<VLOOKUP(H$5,NFI,5,0),1,0)*Table_NFI[[#This Row],[Hygiene Kit]],Table_NFI[Hygiene Kit])","v":0},{"$f":"IF(NFI_Expiration=1,IF($A446<VLOOKUP(I$5,NFI,5,0),1,0)*Table_NFI[[#This Row],[NFI Core Kit]],Table_NFI[NFI Core Kit])","v":0},{"$f":"IF(NFI_Expiration=1,IF($A446<VLOOKUP(J$5,NFI,5,0),1,0)*Table_NFI[[#This Row],[Sanitary Kit]],Table_NFI[Sanitary Kit])","v":58},{"$f":"IF(NFI_Expiration=1,IF($A446<VLOOKUP(K$5,NFI,5,0),1,0)*Table_NFI[[#This Row],[Mosquito net]],Table_NFI[Mosquito net])","v":46},{"$f":"IF(NFI_Expiration=1,IF($A446<VLOOKUP(L$5,NFI,5,0),1,0)*Table_NFI[[#This Row],[Tarpaulin]],Table_NFI[[#This Row],[Tarpaulin]])","v":29},{"$f":"IF(NFI_Expiration=1,IF($A446<VLOOKUP(M$5,NFI,5,0),1,0)*Table_NFI[[#This Row],[Blanket]],Table_NFI[[#This Row],[Blanket]])","v":46},{"$f":"IF(NFI_Expiration=1,IF($A446<VLOOKUP(N$5,NFI,5,0),1,0)*Table_NFI[[#This Row],[Kitchen Set]],Table_NFI[Kitchen Set])","v":29},{"$f":"IF(NFI_Expiration=1,IF($A446<VLOOKUP(O$5,NFI,5,0),1,0)*Table_NFI[[#This Row],[Complementary Kit]],Table_NFI[Complementary Kit])","v":29},{"$f":"IF(NFI_Expiration=1,IF($A446<VLOOKUP(P$5,NFI,5,0),1,0)*Table_NFI[[#This Row],[Plastic Bucket]],Table_NFI[Plastic Bucket])","v":0},{"$f":"IF(NFI_Expiration=1,IF($A446<VLOOKUP(Q$5,NFI,5,0),1,0)*Table_NFI[[#This Row],[Plastic Mat]],Table_NFI[Plastic Mat])","v":0},{"$f":"IFERROR(VLOOKUP(Table_NFI[[#This Row],[Camp Name]],CL,2,0),\"\")","v":"MMR001CMP193"},{"$f":"IFERROR(VLOOKUP(Table_NFI[[#This Row],[Camp Name]],CL,3,0),\"\")","v":"Open"},{"$f":"IFERROR(Table_NFI[[#This Row],[Kitchen Set]]/VLOOKUP(Table_NFI[[#This Row],[Camp Name]],CL,4,0),\"\")","v":9.1482649842271294E-2}]
[1.8333333333333333,"2013-11-07","UNHCR","UNHCR","Kachin","Hpakant","Baptist Church, Naung Hmee VT",null,null,13,32,15,32,15,null,15,32,{"$f":"IF(NFI_Expiration=1,IF($A447<VLOOKUP(H$5,NFI,5,0),1,0)*Table_NFI[[#This Row],[Hygiene Kit]],Table_NFI[Hygiene Kit])","v":0},{"$f":"IF(NFI_Expiration=1,IF($A447<VLOOKUP(I$5,NFI,5,0),1,0)*Table_NFI[[#This Row],[NFI Core Kit]],Table_NFI[NFI Core Kit])","v":0},{"$f":"IF(NFI_Expiration=1,IF($A447<VLOOKUP(J$5,NFI,5,0),1,0)*Table_NFI[[#This Row],[Sanitary Kit]],Table_NFI[Sanitary Kit])","v":13},{"$f":"IF(NFI_Expiration=1,IF($A447<VLOOKUP(K$5,NFI,5,0),1,0)*Table_NFI[[#This Row],[Mosquito net]],Table_NFI[Mosquito net])","v":32},{"$f":"IF(NFI_Expiration=1,IF($A447<VLOOKUP(L$5,NFI,5,0),1,0)*Table_NFI[[#This Row],[Tarpaulin]],Table_NFI[[#This Row],[Tarpaulin]])","v":15},{"$f":"IF(NFI_Expiration=1,IF($A447<VLOOKUP(M$5,NFI,5,0),1,0)*Table_NFI[[#This Row],[Blanket]],Table_NFI[[#This Row],[Blanket]])","v":32},{"$f":"IF(NFI_Expiration=1,IF($A447<VLOOKUP(N$5,NFI,5,0),1,0)*Table_NFI[[#This Row],[Kitchen Set]],Table_NFI[Kitchen Set])","v":15},{"$f":"IF(NFI_Expiration=1,IF($A447<VLOOKUP(O$5,NFI,5,0),1,0)*Table_NFI[[#This Row],[Complementary Kit]],Table_NFI[Complementary Kit])","v":0},{"$f":"IF(NFI_Expiration=1,IF($A447<VLOOKUP(P$5,NFI,5,0),1,0)*Table_NFI[[#This Row],[Plastic Bucket]],Table_NFI[Plastic Bucket])","v":15},{"$f":"IF(NFI_Expiration=1,IF($A447<VLOOKUP(Q$5,NFI,5,0),1,0)*Table_NFI[[#This Row],[Plastic Mat]],Table_NFI[Plastic Mat])","v":32},{"$f":"IFERROR(VLOOKUP(Table_NFI[[#This Row],[Camp Name]],CL,2,0),\"\")","v":"MMR001CMP188"},{"$f":"IFERROR(VLOOKUP(Table_NFI[[#This Row],[Camp Name]],CL,3,0),\"\")","v":"Open"},{"$f":"IFERROR(Table_NFI[[#This Row],[Kitchen Set]]/VLOOKUP(Table_NFI[[#This Row],[Camp Name]],CL,4,0),\"\")","v":1}]
[1.7,"2013-11-11","UNHCR","UNHCR ","Kachin","Momauk","Nhkawng Pa ",null,null,36,200,100,null,100,100,null,null,{"$f":"IF(NFI_Expiration=1,IF($A448<VLOOKUP(H$5,NFI,5,0),1,0)*Table_NFI[[#This Row],[Hygiene Kit]],Table_NFI[Hygiene Kit])","v":0},{"$f":"IF(NFI_Expiration=1,IF($A448<VLOOKUP(I$5,NFI,5,0),1,0)*Table_NFI[[#This Row],[NFI Core Kit]],Table_NFI[NFI Core Kit])","v":0},{"$f":"IF(NFI_Expiration=1,IF($A448<VLOOKUP(J$5,NFI,5,0),1,0)*Table_NFI[[#This Row],[Sanitary Kit]],Table_NFI[Sanitary Kit])","v":36},{"$f":"IF(NFI_Expiration=1,IF($A448<VLOOKUP(K$5,NFI,5,0),1,0)*Table_NFI[[#This Row],[Mosquito net]],Table_NFI[Mosquito net])","v":200},{"$f":"IF(NFI_Expiration=1,IF($A448<VLOOKUP(L$5,NFI,5,0),1,0)*Table_NFI[[#This Row],[Tarpaulin]],Table_NFI[[#This Row],[Tarpaulin]])","v":100},{"$f":"IF(NFI_Expiration=1,IF($A448<VLOOKUP(M$5,NFI,5,0),1,0)*Table_NFI[[#This Row],[Blanket]],Table_NFI[[#This Row],[Blanket]])","v":0},{"$f":"IF(NFI_Expiration=1,IF($A448<VLOOKUP(N$5,NFI,5,0),1,0)*Table_NFI[[#This Row],[Kitchen Set]],Table_NFI[Kitchen Set])","v":100},{"$f":"IF(NFI_Expiration=1,IF($A448<VLOOKUP(O$5,NFI,5,0),1,0)*Table_NFI[[#This Row],[Complementary Kit]],Table_NFI[Complementary Kit])","v":100},{"$f":"IF(NFI_Expiration=1,IF($A448<VLOOKUP(P$5,NFI,5,0),1,0)*Table_NFI[[#This Row],[Plastic Bucket]],Table_NFI[Plastic Bucket])","v":0},{"$f":"IF(NFI_Expiration=1,IF($A448<VLOOKUP(Q$5,NFI,5,0),1,0)*Table_NFI[[#This Row],[Plastic Mat]],Table_NFI[Plastic Mat])","v":0},{"$f":"IFERROR(VLOOKUP(Table_NFI[[#This Row],[Camp Name]],CL,2,0),\"\")","v":"MMR001CMP131"},{"$f":"IFERROR(VLOOKUP(Table_NFI[[#This Row],[Camp Name]],CL,3,0),\"\")","v":"Open"},{"$f":"IFERROR(Table_NFI[[#This Row],[Kitchen Set]]/VLOOKUP(Table_NFI[[#This Row],[Camp Name]],CL,4,0),\"\")","v":0.25839793281653745}]
[1.6,"2013-11-14","UNHCR","UNHCR","Kachin","Mansi","Mansi Baptist Church",null,null,18,31,18,31,18,18,null,null,{"$f":"IF(NFI_Expiration=1,IF($A449<VLOOKUP(H$5,NFI,5,0),1,0)*Table_NFI[[#This Row],[Hygiene Kit]],Table_NFI[Hygiene Kit])","v":0},{"$f":"IF(NFI_Expiration=1,IF($A449<VLOOKUP(I$5,NFI,5,0),1,0)*Table_NFI[[#This Row],[NFI Core Kit]],Table_NFI[NFI Core Kit])","v":0},{"$f":"IF(NFI_Expiration=1,IF($A449<VLOOKUP(J$5,NFI,5,0),1,0)*Table_NFI[[#This Row],[Sanitary Kit]],Table_NFI[Sanitary Kit])","v":18},{"$f":"IF(NFI_Expiration=1,IF($A449<VLOOKUP(K$5,NFI,5,0),1,0)*Table_NFI[[#This Row],[Mosquito net]],Table_NFI[Mosquito net])","v":31},{"$f":"IF(NFI_Expiration=1,IF($A449<VLOOKUP(L$5,NFI,5,0),1,0)*Table_NFI[[#This Row],[Tarpaulin]],Table_NFI[[#This Row],[Tarpaulin]])","v":18},{"$f":"IF(NFI_Expiration=1,IF($A449<VLOOKUP(M$5,NFI,5,0),1,0)*Table_NFI[[#This Row],[Blanket]],Table_NFI[[#This Row],[Blanket]])","v":31},{"$f":"IF(NFI_Expiration=1,IF($A449<VLOOKUP(N$5,NFI,5,0),1,0)*Table_NFI[[#This Row],[Kitchen Set]],Table_NFI[Kitchen Set])","v":18},{"$f":"IF(NFI_Expiration=1,IF($A449<VLOOKUP(O$5,NFI,5,0),1,0)*Table_NFI[[#This Row],[Complementary Kit]],Table_NFI[Complementary Kit])","v":18},{"$f":"IF(NFI_Expiration=1,IF($A449<VLOOKUP(P$5,NFI,5,0),1,0)*Table_NFI[[#This Row],[Plastic Bucket]],Table_NFI[Plastic Bucket])","v":0},{"$f":"IF(NFI_Expiration=1,IF($A449<VLOOKUP(Q$5,NFI,5,0),1,0)*Table_NFI[[#This Row],[Plastic Mat]],Table_NFI[Plastic Mat])","v":0},{"$f":"IFERROR(VLOOKUP(Table_NFI[[#This Row],[Camp Name]],CL,2,0),\"\")","v":"MMR001CMP066"},{"$f":"IFERROR(VLOOKUP(Table_NFI[[#This Row],[Camp Name]],CL,3,0),\"\")","v":"Open"},{"$f":"IFERROR(Table_NFI[[#This Row],[Kitchen Set]]/VLOOKUP(Table_NFI[[#This Row],[Camp Name]],CL,4,0),\"\")","v":0.19354838709677419}]
[1.6,"2013-11-14","UNHCR","UNHCR ","Kachin","Bhamo","Aung Thar Church",null,null,null,12,9,12,9,9,null,null,{"$f":"IF(NFI_Expiration=1,IF($A450<VLOOKUP(H$5,NFI,5,0),1,0)*Table_NFI[[#This Row],[Hygiene Kit]],Table_NFI[Hygiene Kit])","v":0},{"$f":"IF(NFI_Expiration=1,IF($A450<VLOOKUP(I$5,NFI,5,0),1,0)*Table_NFI[[#This Row],[NFI Core Kit]],Table_NFI[NFI Core Kit])","v":0},{"$f":"IF(NFI_Expiration=1,IF($A450<VLOOKUP(J$5,NFI,5,0),1,0)*Table_NFI[[#This Row],[Sanitary Kit]],Table_NFI[Sanitary Kit])","v":0},{"$f":"IF(NFI_Expiration=1,IF($A450<VLOOKUP(K$5,NFI,5,0),1,0)*Table_NFI[[#This Row],[Mosquito net]],Table_NFI[Mosquito net])","v":12},{"$f":"IF(NFI_Expiration=1,IF($A450<VLOOKUP(L$5,NFI,5,0),1,0)*Table_NFI[[#This Row],[Tarpaulin]],Table_NFI[[#This Row],[Tarpaulin]])","v":9},{"$f":"IF(NFI_Expiration=1,IF($A450<VLOOKUP(M$5,NFI,5,0),1,0)*Table_NFI[[#This Row],[Blanket]],Table_NFI[[#This Row],[Blanket]])","v":12},{"$f":"IF(NFI_Expiration=1,IF($A450<VLOOKUP(N$5,NFI,5,0),1,0)*Table_NFI[[#This Row],[Kitchen Set]],Table_NFI[Kitchen Set])","v":9},{"$f":"IF(NFI_Expiration=1,IF($A450<VLOOKUP(O$5,NFI,5,0),1,0)*Table_NFI[[#This Row],[Complementary Kit]],Table_NFI[Complementary Kit])","v":9},{"$f":"IF(NFI_Expiration=1,IF($A450<VLOOKUP(P$5,NFI,5,0),1,0)*Table_NFI[[#This Row],[Plastic Bucket]],Table_NFI[Plastic Bucket])","v":0},{"$f":"IF(NFI_Expiration=1,IF($A450<VLOOKUP(Q$5,NFI,5,0),1,0)*Table_NFI[[#This Row],[Plastic Mat]],Table_NFI[Plastic Mat])","v":0},{"$f":"IFERROR(VLOOKUP(Table_NFI[[#This Row],[Camp Name]],CL,2,0),\"\")","v":"MMR001CMP194"},{"$f":"IFERROR(VLOOKUP(Table_NFI[[#This Row],[Camp Name]],CL,3,0),\"\")","v":"Open"},{"$f":"IFERROR(Table_NFI[[#This Row],[Kitchen Set]]/VLOOKUP(Table_NFI[[#This Row],[Camp Name]],CL,4,0),\"\")","v":0.9}]
[1.5666666666666667,"2013-11-15","UNHCR","UNHCR ","Kachin","Bhamo",null,null,null,null,null,12,null,null,null,null,null,{"$f":"IF(NFI_Expiration=1,IF($A451<VLOOKUP(H$5,NFI,5,0),1,0)*Table_NFI[[#This Row],[Hygiene Kit]],Table_NFI[Hygiene Kit])","v":0},{"$f":"IF(NFI_Expiration=1,IF($A451<VLOOKUP(I$5,NFI,5,0),1,0)*Table_NFI[[#This Row],[NFI Core Kit]],Table_NFI[NFI Core Kit])","v":0},{"$f":"IF(NFI_Expiration=1,IF($A451<VLOOKUP(J$5,NFI,5,0),1,0)*Table_NFI[[#This Row],[Sanitary Kit]],Table_NFI[Sanitary Kit])","v":0},{"$f":"IF(NFI_Expiration=1,IF($A451<VLOOKUP(K$5,NFI,5,0),1,0)*Table_NFI[[#This Row],[Mosquito net]],Table_NFI[Mosquito net])","v":0},{"$f":"IF(NFI_Expiration=1,IF($A451<VLOOKUP(L$5,NFI,5,0),1,0)*Table_NFI[[#This Row],[Tarpaulin]],Table_NFI[[#This Row],[Tarpaulin]])","v":12},{"$f":"IF(NFI_Expiration=1,IF($A451<VLOOKUP(M$5,NFI,5,0),1,0)*Table_NFI[[#This Row],[Blanket]],Table_NFI[[#This Row],[Blanket]])","v":0},{"$f":"IF(NFI_Expiration=1,IF($A451<VLOOKUP(N$5,NFI,5,0),1,0)*Table_NFI[[#This Row],[Kitchen Set]],Table_NFI[Kitchen Set])","v":0},{"$f":"IF(NFI_Expiration=1,IF($A451<VLOOKUP(O$5,NFI,5,0),1,0)*Table_NFI[[#This Row],[Complementary Kit]],Table_NFI[Complementary Kit])","v":0},{"$f":"IF(NFI_Expiration=1,IF($A451<VLOOKUP(P$5,NFI,5,0),1,0)*Table_NFI[[#This Row],[Plastic Bucket]],Table_NFI[Plastic Bucket])","v":0},{"$f":"IF(NFI_Expiration=1,IF($A451<VLOOKUP(Q$5,NFI,5,0),1,0)*Table_NFI[[#This Row],[Plastic Mat]],Table_NFI[Plastic Mat])","v":0},{"$f":"IFERROR(VLOOKUP(Table_NFI[[#This Row],[Camp Name]],CL,2,0),\"\")","v":""},{"$f":"IFERROR(VLOOKUP(Table_NFI[[#This Row],[Camp Name]],CL,3,0),\"\")","v":""},{"$f":"IFERROR(Table_NFI[[#This Row],[Kitchen Set]]/VLOOKUP(Table_NFI[[#This Row],[Camp Name]],CL,4,0),\"\")","v":""}]
[1.5333333333333334,"2013-11-16","UNHCR","UNHCR ","Kachin","Bhamo","Phan Khar Kone",null,null,null,null,11,null,null,null,null,null,{"$f":"IF(NFI_Expiration=1,IF($A452<VLOOKUP(H$5,NFI,5,0),1,0)*Table_NFI[[#This Row],[Hygiene Kit]],Table_NFI[Hygiene Kit])","v":0},{"$f":"IF(NFI_Expiration=1,IF($A452<VLOOKUP(I$5,NFI,5,0),1,0)*Table_NFI[[#This Row],[NFI Core Kit]],Table_NFI[NFI Core Kit])","v":0},{"$f":"IF(NFI_Expiration=1,IF($A452<VLOOKUP(J$5,NFI,5,0),1,0)*Table_NFI[[#This Row],[Sanitary Kit]],Table_NFI[Sanitary Kit])","v":0},{"$f":"IF(NFI_Expiration=1,IF($A452<VLOOKUP(K$5,NFI,5,0),1,0)*Table_NFI[[#This Row],[Mosquito net]],Table_NFI[Mosquito net])","v":0},{"$f":"IF(NFI_Expiration=1,IF($A452<VLOOKUP(L$5,NFI,5,0),1,0)*Table_NFI[[#This Row],[Tarpaulin]],Table_NFI[[#This Row],[Tarpaulin]])","v":11},{"$f":"IF(NFI_Expiration=1,IF($A452<VLOOKUP(M$5,NFI,5,0),1,0)*Table_NFI[[#This Row],[Blanket]],Table_NFI[[#This Row],[Blanket]])","v":0},{"$f":"IF(NFI_Expiration=1,IF($A452<VLOOKUP(N$5,NFI,5,0),1,0)*Table_NFI[[#This Row],[Kitchen Set]],Table_NFI[Kitchen Set])","v":0},{"$f":"IF(NFI_Expiration=1,IF($A452<VLOOKUP(O$5,NFI,5,0),1,0)*Table_NFI[[#This Row],[Complementary Kit]],Table_NFI[Complementary Kit])","v":0},{"$f":"IF(NFI_Expiration=1,IF($A452<VLOOKUP(P$5,NFI,5,0),1,0)*Table_NFI[[#This Row],[Plastic Bucket]],Table_NFI[Plastic Bucket])","v":0},{"$f":"IF(NFI_Expiration=1,IF($A452<VLOOKUP(Q$5,NFI,5,0),1,0)*Table_NFI[[#This Row],[Plastic Mat]],Table_NFI[Plastic Mat])","v":0},{"$f":"IFERROR(VLOOKUP(Table_NFI[[#This Row],[Camp Name]],CL,2,0),\"\")","v":"MMR001CMP193"},{"$f":"IFERROR(VLOOKUP(Table_NFI[[#This Row],[Camp Name]],CL,3,0),\"\")","v":"Open"},{"$f":"IFERROR(Table_NFI[[#This Row],[Kitchen Set]]/VLOOKUP(Table_NFI[[#This Row],[Camp Name]],CL,4,0),\"\")","v":0}]
[1.5333333333333334,"2013-11-16","UNHCR","UNHCR","Kachin","Bhamo","Robert Church",null,null,null,null,10,null,null,null,null,null,{"$f":"IF(NFI_Expiration=1,IF($A453<VLOOKUP(H$5,NFI,5,0),1,0)*Table_NFI[[#This Row],[Hygiene Kit]],Table_NFI[Hygiene Kit])","v":0},{"$f":"IF(NFI_Expiration=1,IF($A453<VLOOKUP(I$5,NFI,5,0),1,0)*Table_NFI[[#This Row],[NFI Core Kit]],Table_NFI[NFI Core Kit])","v":0},{"$f":"IF(NFI_Expiration=1,IF($A453<VLOOKUP(J$5,NFI,5,0),1,0)*Table_NFI[[#This Row],[Sanitary Kit]],Table_NFI[Sanitary Kit])","v":0},{"$f":"IF(NFI_Expiration=1,IF($A453<VLOOKUP(K$5,NFI,5,0),1,0)*Table_NFI[[#This Row],[Mosquito net]],Table_NFI[Mosquito net])","v":0},{"$f":"IF(NFI_Expiration=1,IF($A453<VLOOKUP(L$5,NFI,5,0),1,0)*Table_NFI[[#This Row],[Tarpaulin]],Table_NFI[[#This Row],[Tarpaulin]])","v":10},{"$f":"IF(NFI_Expiration=1,IF($A453<VLOOKUP(M$5,NFI,5,0),1,0)*Table_NFI[[#This Row],[Blanket]],Table_NFI[[#This Row],[Blanket]])","v":0},{"$f":"IF(NFI_Expiration=1,IF($A453<VLOOKUP(N$5,NFI,5,0),1,0)*Table_NFI[[#This Row],[Kitchen Set]],Table_NFI[Kitchen Set])","v":0},{"$f":"IF(NFI_Expiration=1,IF($A453<VLOOKUP(O$5,NFI,5,0),1,0)*Table_NFI[[#This Row],[Complementary Kit]],Table_NFI[Complementary Kit])","v":0},{"$f":"IF(NFI_Expiration=1,IF($A453<VLOOKUP(P$5,NFI,5,0),1,0)*Table_NFI[[#This Row],[Plastic Bucket]],Table_NFI[Plastic Bucket])","v":0},{"$f":"IF(NFI_Expiration=1,IF($A453<VLOOKUP(Q$5,NFI,5,0),1,0)*Table_NFI[[#This Row],[Plastic Mat]],Table_NFI[Plastic Mat])","v":0},{"$f":"IFERROR(VLOOKUP(Table_NFI[[#This Row],[Camp Name]],CL,2,0),\"\")","v":"MMR001CMP047"},{"$f":"IFERROR(VLOOKUP(Table_NFI[[#This Row],[Camp Name]],CL,3,0),\"\")","v":"Open"},{"$f":"IFERROR(Table_NFI[[#This Row],[Kitchen Set]]/VLOOKUP(Table_NFI[[#This Row],[Camp Name]],CL,4,0),\"\")","v":0}]
[{"$f":"IF(ISBLANK(B454),\"\",(Report_Date-B454)/30)","v":1.5},"2013-11-17","UNHCR","UNHCR ","Kachin","Mansi","Man Wing Catholic Church",null,null,null,700,350,700,350,350,null,null,{"$f":"IF(NFI_Expiration=1,IF($A454<VLOOKUP(H$5,NFI,5,0),1,0)*Table_NFI[[#This Row],[Hygiene Kit]],Table_NFI[Hygiene Kit])","v":0},{"$f":"IF(NFI_Expiration=1,IF($A454<VLOOKUP(I$5,NFI,5,0),1,0)*Table_NFI[[#This Row],[NFI Core Kit]],Table_NFI[NFI Core Kit])","v":0},{"$f":"IF(NFI_Expiration=1,IF($A454<VLOOKUP(J$5,NFI,5,0),1,0)*Table_NFI[[#This Row],[Sanitary Kit]],Table_NFI[Sanitary Kit])","v":0},{"$f":"IF(NFI_Expiration=1,IF($A454<VLOOKUP(K$5,NFI,5,0),1,0)*Table_NFI[[#This Row],[Mosquito net]],Table_NFI[Mosquito net])","v":700},{"$f":"IF(NFI_Expiration=1,IF($A454<VLOOKUP(L$5,NFI,5,0),1,0)*Table_NFI[[#This Row],[Tarpaulin]],Table_NFI[[#This Row],[Tarpaulin]])","v":350},{"$f":"IF(NFI_Expiration=1,IF($A454<VLOOKUP(M$5,NFI,5,0),1,0)*Table_NFI[[#This Row],[Blanket]],Table_NFI[[#This Row],[Blanket]])","v":700},{"$f":"IF(NFI_Expiration=1,IF($A454<VLOOKUP(N$5,NFI,5,0),1,0)*Table_NFI[[#This Row],[Kitchen Set]],Table_NFI[Kitchen Set])","v":350},{"$f":"IF(NFI_Expiration=1,IF($A454<VLOOKUP(O$5,NFI,5,0),1,0)*Table_NFI[[#This Row],[Complementary Kit]],Table_NFI[Complementary Kit])","v":350},{"$f":"IF(NFI_Expiration=1,IF($A454<VLOOKUP(P$5,NFI,5,0),1,0)*Table_NFI[[#This Row],[Plastic Bucket]],Table_NFI[Plastic Bucket])","v":0},{"$f":"IF(NFI_Expiration=1,IF($A454<VLOOKUP(Q$5,NFI,5,0),1,0)*Table_NFI[[#This Row],[Plastic Mat]],Table_NFI[Plastic Mat])","v":0},{"$f":"IFERROR(VLOOKUP(Table_NFI[[#This Row],[Camp Name]],CL,2,0),\"\")","v":"MMR001CMP132"},{"$f":"IFERROR(VLOOKUP(Table_NFI[[#This Row],[Camp Name]],CL,3,0),\"\")","v":"Open"},{"$f":"IFERROR(Table_NFI[[#This Row],[Kitchen Set]]/VLOOKUP(Table_NFI[[#This Row],[Camp Name]],CL,4,0),\"\")","v":0.86848635235732008}]
[1.4333333333333333,"2013-11-19","UNHCR","UNHCR","Kachin","Bhamo","Robert Church",null,null,40,38,20,38,20,20,null,null,{"$f":"IF(NFI_Expiration=1,IF($A455<VLOOKUP(H$5,NFI,5,0),1,0)*Table_NFI[[#This Row],[Hygiene Kit]],Table_NFI[Hygiene Kit])","v":0},{"$f":"IF(NFI_Expiration=1,IF($A455<VLOOKUP(I$5,NFI,5,0),1,0)*Table_NFI[[#This Row],[NFI Core Kit]],Table_NFI[NFI Core Kit])","v":0},{"$f":"IF(NFI_Expiration=1,IF($A455<VLOOKUP(J$5,NFI,5,0),1,0)*Table_NFI[[#This Row],[Sanitary Kit]],Table_NFI[Sanitary Kit])","v":40},{"$f":"IF(NFI_Expiration=1,IF($A455<VLOOKUP(K$5,NFI,5,0),1,0)*Table_NFI[[#This Row],[Mosquito net]],Table_NFI[Mosquito net])","v":38},{"$f":"IF(NFI_Expiration=1,IF($A455<VLOOKUP(L$5,NFI,5,0),1,0)*Table_NFI[[#This Row],[Tarpaulin]],Table_NFI[[#This Row],[Tarpaulin]])","v":20},{"$f":"IF(NFI_Expiration=1,IF($A455<VLOOKUP(M$5,NFI,5,0),1,0)*Table_NFI[[#This Row],[Blanket]],Table_NFI[[#This Row],[Blanket]])","v":38},{"$f":"IF(NFI_Expiration=1,IF($A455<VLOOKUP(N$5,NFI,5,0),1,0)*Table_NFI[[#This Row],[Kitchen Set]],Table_NFI[Kitchen Set])","v":20},{"$f":"IF(NFI_Expiration=1,IF($A455<VLOOKUP(O$5,NFI,5,0),1,0)*Table_NFI[[#This Row],[Complementary Kit]],Table_NFI[Complementary Kit])","v":20},{"$f":"IF(NFI_Expiration=1,IF($A455<VLOOKUP(P$5,NFI,5,0),1,0)*Table_NFI[[#This Row],[Plastic Bucket]],Table_NFI[Plastic Bucket])","v":0},{"$f":"IF(NFI_Expiration=1,IF($A455<VLOOKUP(Q$5,NFI,5,0),1,0)*Table_NFI[[#This Row],[Plastic Mat]],Table_NFI[Plastic Mat])","v":0},{"$f":"IFERROR(VLOOKUP(Table_NFI[[#This Row],[Camp Name]],CL,2,0),\"\")","v":"MMR001CMP047"},{"$f":"IFERROR(VLOOKUP(Table_NFI[[#This Row],[Camp Name]],CL,3,0),\"\")","v":"Open"},{"$f":"IFERROR(Table_NFI[[#This Row],[Kitchen Set]]/VLOOKUP(Table_NFI[[#This Row],[Camp Name]],CL,4,0),\"\")","v":3.5842293906810034E-2}]
[1.4333333333333333,"2013-11-19","UNHCR","UNHCR","Kachin","Bhamo","Thu Kha Waddy",null,null,null,13,9,13,9,9,null,null,{"$f":"IF(NFI_Expiration=1,IF($A456<VLOOKUP(H$5,NFI,5,0),1,0)*Table_NFI[[#This Row],[Hygiene Kit]],Table_NFI[Hygiene Kit])","v":0},{"$f":"IF(NFI_Expiration=1,IF($A456<VLOOKUP(I$5,NFI,5,0),1,0)*Table_NFI[[#This Row],[NFI Core Kit]],Table_NFI[NFI Core Kit])","v":0},{"$f":"IF(NFI_Expiration=1,IF($A456<VLOOKUP(J$5,NFI,5,0),1,0)*Table_NFI[[#This Row],[Sanitary Kit]],Table_NFI[Sanitary Kit])","v":0},{"$f":"IF(NFI_Expiration=1,IF($A456<VLOOKUP(K$5,NFI,5,0),1,0)*Table_NFI[[#This Row],[Mosquito net]],Table_NFI[Mosquito net])","v":13},{"$f":"IF(NFI_Expiration=1,IF($A456<VLOOKUP(L$5,NFI,5,0),1,0)*Table_NFI[[#This Row],[Tarpaulin]],Table_NFI[[#This Row],[Tarpaulin]])","v":9},{"$f":"IF(NFI_Expiration=1,IF($A456<VLOOKUP(M$5,NFI,5,0),1,0)*Table_NFI[[#This Row],[Blanket]],Table_NFI[[#This Row],[Blanket]])","v":13},{"$f":"IF(NFI_Expiration=1,IF($A456<VLOOKUP(N$5,NFI,5,0),1,0)*Table_NFI[[#This Row],[Kitchen Set]],Table_NFI[Kitchen Set])","v":9},{"$f":"IF(NFI_Expiration=1,IF($A456<VLOOKUP(O$5,NFI,5,0),1,0)*Table_NFI[[#This Row],[Complementary Kit]],Table_NFI[Complementary Kit])","v":9},{"$f":"IF(NFI_Expiration=1,IF($A456<VLOOKUP(P$5,NFI,5,0),1,0)*Table_NFI[[#This Row],[Plastic Bucket]],Table_NFI[Plastic Bucket])","v":0},{"$f":"IF(NFI_Expiration=1,IF($A456<VLOOKUP(Q$5,NFI,5,0),1,0)*Table_NFI[[#This Row],[Plastic Mat]],Table_NFI[Plastic Mat])","v":0},{"$f":"IFERROR(VLOOKUP(Table_NFI[[#This Row],[Camp Name]],CL,2,0),\"\")","v":"MMR001CMP211"},{"$f":"IFERROR(VLOOKUP(Table_NFI[[#This Row],[Camp Name]],CL,3,0),\"\")","v":"Open"},{"$f":"IFERROR(Table_NFI[[#This Row],[Kitchen Set]]/VLOOKUP(Table_NFI[[#This Row],[Camp Name]],CL,4,0),\"\")","v":0.75}]
[1.4333333333333333,"2013-11-19","UNHCR","UNHCR","Kachin","Bhamo","Host Families",null,null,null,57,33,57,33,33,null,null,{"$f":"IF(NFI_Expiration=1,IF($A457<VLOOKUP(H$5,NFI,5,0),1,0)*Table_NFI[[#This Row],[Hygiene Kit]],Table_NFI[Hygiene Kit])","v":0},{"$f":"IF(NFI_Expiration=1,IF($A457<VLOOKUP(I$5,NFI,5,0),1,0)*Table_NFI[[#This Row],[NFI Core Kit]],Table_NFI[NFI Core Kit])","v":0},{"$f":"IF(NFI_Expiration=1,IF($A457<VLOOKUP(J$5,NFI,5,0),1,0)*Table_NFI[[#This Row],[Sanitary Kit]],Table_NFI[Sanitary Kit])","v":0},{"$f":"IF(NFI_Expiration=1,IF($A457<VLOOKUP(K$5,NFI,5,0),1,0)*Table_NFI[[#This Row],[Mosquito net]],Table_NFI[Mosquito net])","v":57},{"$f":"IF(NFI_Expiration=1,IF($A457<VLOOKUP(L$5,NFI,5,0),1,0)*Table_NFI[[#This Row],[Tarpaulin]],Table_NFI[[#This Row],[Tarpaulin]])","v":33},{"$f":"IF(NFI_Expiration=1,IF($A457<VLOOKUP(M$5,NFI,5,0),1,0)*Table_NFI[[#This Row],[Blanket]],Table_NFI[[#This Row],[Blanket]])","v":57},{"$f":"IF(NFI_Expiration=1,IF($A457<VLOOKUP(N$5,NFI,5,0),1,0)*Table_NFI[[#This Row],[Kitchen Set]],Table_NFI[Kitchen Set])","v":33},{"$f":"IF(NFI_Expiration=1,IF($A457<VLOOKUP(O$5,NFI,5,0),1,0)*Table_NFI[[#This Row],[Complementary Kit]],Table_NFI[Complementary Kit])","v":33},{"$f":"IF(NFI_Expiration=1,IF($A457<VLOOKUP(P$5,NFI,5,0),1,0)*Table_NFI[[#This Row],[Plastic Bucket]],Table_NFI[Plastic Bucket])","v":0},{"$f":"IF(NFI_Expiration=1,IF($A457<VLOOKUP(Q$5,NFI,5,0),1,0)*Table_NFI[[#This Row],[Plastic Mat]],Table_NFI[Plastic Mat])","v":0},{"$f":"IFERROR(VLOOKUP(Table_NFI[[#This Row],[Camp Name]],CL,2,0),\"\")","v":"MMR001CMP163"},{"$f":"IFERROR(VLOOKUP(Table_NFI[[#This Row],[Camp Name]],CL,3,0),\"\")","v":"Open"},{"$f":"IFERROR(Table_NFI[[#This Row],[Kitchen Set]]/VLOOKUP(Table_NFI[[#This Row],[Camp Name]],CL,4,0),\"\")","v":9.8507462686567168E-2}]
[1.3666666666666667,"2013-11-21","UNHCR","UNHCR","Kachin","Bhamo","Aung Thar Church",null,null,null,34,18,34,18,18,null,null,{"$f":"IF(NFI_Expiration=1,IF($A458<VLOOKUP(H$5,NFI,5,0),1,0)*Table_NFI[[#This Row],[Hygiene Kit]],Table_NFI[Hygiene Kit])","v":0},{"$f":"IF(NFI_Expiration=1,IF($A458<VLOOKUP(I$5,NFI,5,0),1,0)*Table_NFI[[#This Row],[NFI Core Kit]],Table_NFI[NFI Core Kit])","v":0},{"$f":"IF(NFI_Expiration=1,IF($A458<VLOOKUP(J$5,NFI,5,0),1,0)*Table_NFI[[#This Row],[Sanitary Kit]],Table_NFI[Sanitary Kit])","v":0},{"$f":"IF(NFI_Expiration=1,IF($A458<VLOOKUP(K$5,NFI,5,0),1,0)*Table_NFI[[#This Row],[Mosquito net]],Table_NFI[Mosquito net])","v":34},{"$f":"IF(NFI_Expiration=1,IF($A458<VLOOKUP(L$5,NFI,5,0),1,0)*Table_NFI[[#This Row],[Tarpaulin]],Table_NFI[[#This Row],[Tarpaulin]])","v":18},{"$f":"IF(NFI_Expiration=1,IF($A458<VLOOKUP(M$5,NFI,5,0),1,0)*Table_NFI[[#This Row],[Blanket]],Table_NFI[[#This Row],[Blanket]])","v":34},{"$f":"IF(NFI_Expiration=1,IF($A458<VLOOKUP(N$5,NFI,5,0),1,0)*Table_NFI[[#This Row],[Kitchen Set]],Table_NFI[Kitchen Set])","v":18},{"$f":"IF(NFI_Expiration=1,IF($A458<VLOOKUP(O$5,NFI,5,0),1,0)*Table_NFI[[#This Row],[Complementary Kit]],Table_NFI[Complementary Kit])","v":18},{"$f":"IF(NFI_Expiration=1,IF($A458<VLOOKUP(P$5,NFI,5,0),1,0)*Table_NFI[[#This Row],[Plastic Bucket]],Table_NFI[Plastic Bucket])","v":0},{"$f":"IF(NFI_Expiration=1,IF($A458<VLOOKUP(Q$5,NFI,5,0),1,0)*Table_NFI[[#This Row],[Plastic Mat]],Table_NFI[Plastic Mat])","v":0},{"$f":"IFERROR(VLOOKUP(Table_NFI[[#This Row],[Camp Name]],CL,2,0),\"\")","v":"MMR001CMP194"},{"$f":"IFERROR(VLOOKUP(Table_NFI[[#This Row],[Camp Name]],CL,3,0),\"\")","v":"Open"},{"$f":"IFERROR(Table_NFI[[#This Row],[Kitchen Set]]/VLOOKUP(Table_NFI[[#This Row],[Camp Name]],CL,4,0),\"\")","v":1.8}]
[1.3666666666666667,"2013-11-21","UNHCR","UNHCR","Kachin","Bhamo","Phan Khar Kone",null,null,null,15,9,15,9,9,null,null,{"$f":"IF(NFI_Expiration=1,IF($A459<VLOOKUP(H$5,NFI,5,0),1,0)*Table_NFI[[#This Row],[Hygiene Kit]],Table_NFI[Hygiene Kit])","v":0},{"$f":"IF(NFI_Expiration=1,IF($A459<VLOOKUP(I$5,NFI,5,0),1,0)*Table_NFI[[#This Row],[NFI Core Kit]],Table_NFI[NFI Core Kit])","v":0},{"$f":"IF(NFI_Expiration=1,IF($A459<VLOOKUP(J$5,NFI,5,0),1,0)*Table_NFI[[#This Row],[Sanitary Kit]],Table_NFI[Sanitary Kit])","v":0},{"$f":"IF(NFI_Expiration=1,IF($A459<VLOOKUP(K$5,NFI,5,0),1,0)*Table_NFI[[#This Row],[Mosquito net]],Table_NFI[Mosquito net])","v":15},{"$f":"IF(NFI_Expiration=1,IF($A459<VLOOKUP(L$5,NFI,5,0),1,0)*Table_NFI[[#This Row],[Tarpaulin]],Table_NFI[[#This Row],[Tarpaulin]])","v":9},{"$f":"IF(NFI_Expiration=1,IF($A459<VLOOKUP(M$5,NFI,5,0),1,0)*Table_NFI[[#This Row],[Blanket]],Table_NFI[[#This Row],[Blanket]])","v":15},{"$f":"IF(NFI_Expiration=1,IF($A459<VLOOKUP(N$5,NFI,5,0),1,0)*Table_NFI[[#This Row],[Kitchen Set]],Table_NFI[Kitchen Set])","v":9},{"$f":"IF(NFI_Expiration=1,IF($A459<VLOOKUP(O$5,NFI,5,0),1,0)*Table_NFI[[#This Row],[Complementary Kit]],Table_NFI[Complementary Kit])","v":9},{"$f":"IF(NFI_Expiration=1,IF($A459<VLOOKUP(P$5,NFI,5,0),1,0)*Table_NFI[[#This Row],[Plastic Bucket]],Table_NFI[Plastic Bucket])","v":0},{"$f":"IF(NFI_Expiration=1,IF($A459<VLOOKUP(Q$5,NFI,5,0),1,0)*Table_NFI[[#This Row],[Plastic Mat]],Table_NFI[Plastic Mat])","v":0},{"$f":"IFERROR(VLOOKUP(Table_NFI[[#This Row],[Camp Name]],CL,2,0),\"\")","v":"MMR001CMP193"},{"$f":"IFERROR(VLOOKUP(Table_NFI[[#This Row],[Camp Name]],CL,3,0),\"\")","v":"Open"},{"$f":"IFERROR(Table_NFI[[#This Row],[Kitchen Set]]/VLOOKUP(Table_NFI[[#This Row],[Camp Name]],CL,4,0),\"\")","v":2.8391167192429023E-2}]
[1.3666666666666667,"2013-11-21","UNHCR","UNHCR ","Kachin","Mansi","Man Kawng Baptist Church",null,null,null,400,210,400,210,null,null,210,{"$f":"IF(NFI_Expiration=1,IF($A460<VLOOKUP(H$5,NFI,5,0),1,0)*Table_NFI[[#This Row],[Hygiene Kit]],Table_NFI[Hygiene Kit])","v":0},{"$f":"IF(NFI_Expiration=1,IF($A460<VLOOKUP(I$5,NFI,5,0),1,0)*Table_NFI[[#This Row],[NFI Core Kit]],Table_NFI[NFI Core Kit])","v":0},{"$f":"IF(NFI_Expiration=1,IF($A460<VLOOKUP(J$5,NFI,5,0),1,0)*Table_NFI[[#This Row],[Sanitary Kit]],Table_NFI[Sanitary Kit])","v":0},{"$f":"IF(NFI_Expiration=1,IF($A460<VLOOKUP(K$5,NFI,5,0),1,0)*Table_NFI[[#This Row],[Mosquito net]],Table_NFI[Mosquito net])","v":400},{"$f":"IF(NFI_Expiration=1,IF($A460<VLOOKUP(L$5,NFI,5,0),1,0)*Table_NFI[[#This Row],[Tarpaulin]],Table_NFI[[#This Row],[Tarpaulin]])","v":210},{"$f":"IF(NFI_Expiration=1,IF($A460<VLOOKUP(M$5,NFI,5,0),1,0)*Table_NFI[[#This Row],[Blanket]],Table_NFI[[#This Row],[Blanket]])","v":400},{"$f":"IF(NFI_Expiration=1,IF($A460<VLOOKUP(N$5,NFI,5,0),1,0)*Table_NFI[[#This Row],[Kitchen Set]],Table_NFI[Kitchen Set])","v":210},{"$f":"IF(NFI_Expiration=1,IF($A460<VLOOKUP(O$5,NFI,5,0),1,0)*Table_NFI[[#This Row],[Complementary Kit]],Table_NFI[Complementary Kit])","v":0},{"$f":"IF(NFI_Expiration=1,IF($A460<VLOOKUP(P$5,NFI,5,0),1,0)*Table_NFI[[#This Row],[Plastic Bucket]],Table_NFI[Plastic Bucket])","v":0},{"$f":"IF(NFI_Expiration=1,IF($A460<VLOOKUP(Q$5,NFI,5,0),1,0)*Table_NFI[[#This Row],[Plastic Mat]],Table_NFI[Plastic Mat])","v":210},{"$f":"IFERROR(VLOOKUP(Table_NFI[[#This Row],[Camp Name]],CL,2,0),\"\")","v":"MMR001CMP212"},{"$f":"IFERROR(VLOOKUP(Table_NFI[[#This Row],[Camp Name]],CL,3,0),\"\")","v":"Open"},{"$f":"IFERROR(Table_NFI[[#This Row],[Kitchen Set]]/VLOOKUP(Table_NFI[[#This Row],[Camp Name]],CL,4,0),\"\")","v":0.68627450980392157}]
[1.2,"2013-11-26","UNHCR","UNHCR","Kachin","Bhamo","Aung Thar Church",null,null,null,11,5,11,5,5,null,null,{"$f":"IF(NFI_Expiration=1,IF($A461<VLOOKUP(H$5,NFI,5,0),1,0)*Table_NFI[[#This Row],[Hygiene Kit]],Table_NFI[Hygiene Kit])","v":0},{"$f":"IF(NFI_Expiration=1,IF($A461<VLOOKUP(I$5,NFI,5,0),1,0)*Table_NFI[[#This Row],[NFI Core Kit]],Table_NFI[NFI Core Kit])","v":0},{"$f":"IF(NFI_Expiration=1,IF($A461<VLOOKUP(J$5,NFI,5,0),1,0)*Table_NFI[[#This Row],[Sanitary Kit]],Table_NFI[Sanitary Kit])","v":0},{"$f":"IF(NFI_Expiration=1,IF($A461<VLOOKUP(K$5,NFI,5,0),1,0)*Table_NFI[[#This Row],[Mosquito net]],Table_NFI[Mosquito net])","v":11},{"$f":"IF(NFI_Expiration=1,IF($A461<VLOOKUP(L$5,NFI,5,0),1,0)*Table_NFI[[#This Row],[Tarpaulin]],Table_NFI[[#This Row],[Tarpaulin]])","v":5},{"$f":"IF(NFI_Expiration=1,IF($A461<VLOOKUP(M$5,NFI,5,0),1,0)*Table_NFI[[#This Row],[Blanket]],Table_NFI[[#This Row],[Blanket]])","v":11},{"$f":"IF(NFI_Expiration=1,IF($A461<VLOOKUP(N$5,NFI,5,0),1,0)*Table_NFI[[#This Row],[Kitchen Set]],Table_NFI[Kitchen Set])","v":5},{"$f":"IF(NFI_Expiration=1,IF($A461<VLOOKUP(O$5,NFI,5,0),1,0)*Table_NFI[[#This Row],[Complementary Kit]],Table_NFI[Complementary Kit])","v":5},{"$f":"IF(NFI_Expiration=1,IF($A461<VLOOKUP(P$5,NFI,5,0),1,0)*Table_NFI[[#This Row],[Plastic Bucket]],Table_NFI[Plastic Bucket])","v":0},{"$f":"IF(NFI_Expiration=1,IF($A461<VLOOKUP(Q$5,NFI,5,0),1,0)*Table_NFI[[#This Row],[Plastic Mat]],Table_NFI[Plastic Mat])","v":0},{"$f":"IFERROR(VLOOKUP(Table_NFI[[#This Row],[Camp Name]],CL,2,0),\"\")","v":"MMR001CMP194"},{"$f":"IFERROR(VLOOKUP(Table_NFI[[#This Row],[Camp Name]],CL,3,0),\"\")","v":"Open"},{"$f":"IFERROR(Table_NFI[[#This Row],[Kitchen Set]]/VLOOKUP(Table_NFI[[#This Row],[Camp Name]],CL,4,0),\"\")","v":0.5}]
[1.2,"2013-11-26","UNHCR","UNHCR","Kachin","Bhamo","Lisu Boarding-House",null,null,null,31,13,31,13,13,null,null,{"$f":"IF(NFI_Expiration=1,IF($A462<VLOOKUP(H$5,NFI,5,0),1,0)*Table_NFI[[#This Row],[Hygiene Kit]],Table_NFI[Hygiene Kit])","v":0},{"$f":"IF(NFI_Expiration=1,IF($A462<VLOOKUP(I$5,NFI,5,0),1,0)*Table_NFI[[#This Row],[NFI Core Kit]],Table_NFI[NFI Core Kit])","v":0},{"$f":"IF(NFI_Expiration=1,IF($A462<VLOOKUP(J$5,NFI,5,0),1,0)*Table_NFI[[#This Row],[Sanitary Kit]],Table_NFI[Sanitary Kit])","v":0},{"$f":"IF(NFI_Expiration=1,IF($A462<VLOOKUP(K$5,NFI,5,0),1,0)*Table_NFI[[#This Row],[Mosquito net]],Table_NFI[Mosquito net])","v":31},{"$f":"IF(NFI_Expiration=1,IF($A462<VLOOKUP(L$5,NFI,5,0),1,0)*Table_NFI[[#This Row],[Tarpaulin]],Table_NFI[[#This Row],[Tarpaulin]])","v":13},{"$f":"IF(NFI_Expiration=1,IF($A462<VLOOKUP(M$5,NFI,5,0),1,0)*Table_NFI[[#This Row],[Blanket]],Table_NFI[[#This Row],[Blanket]])","v":31},{"$f":"IF(NFI_Expiration=1,IF($A462<VLOOKUP(N$5,NFI,5,0),1,0)*Table_NFI[[#This Row],[Kitchen Set]],Table_NFI[Kitchen Set])","v":13},{"$f":"IF(NFI_Expiration=1,IF($A462<VLOOKUP(O$5,NFI,5,0),1,0)*Table_NFI[[#This Row],[Complementary Kit]],Table_NFI[Complementary Kit])","v":13},{"$f":"IF(NFI_Expiration=1,IF($A462<VLOOKUP(P$5,NFI,5,0),1,0)*Table_NFI[[#This Row],[Plastic Bucket]],Table_NFI[Plastic Bucket])","v":0},{"$f":"IF(NFI_Expiration=1,IF($A462<VLOOKUP(Q$5,NFI,5,0),1,0)*Table_NFI[[#This Row],[Plastic Mat]],Table_NFI[Plastic Mat])","v":0},{"$f":"IFERROR(VLOOKUP(Table_NFI[[#This Row],[Camp Name]],CL,2,0),\"\")","v":"MMR001CMP049"},{"$f":"IFERROR(VLOOKUP(Table_NFI[[#This Row],[Camp Name]],CL,3,0),\"\")","v":"Open"},{"$f":"IFERROR(Table_NFI[[#This Row],[Kitchen Set]]/VLOOKUP(Table_NFI[[#This Row],[Camp Name]],CL,4,0),\"\")","v":0.19117647058823528}]
[1.2,"2013-11-26","UNHCR","UNHCR","Kachin","Bhamo","Mu-yin Baptist Church",null,null,null,22,11,22,11,11,null,null,{"$f":"IF(NFI_Expiration=1,IF($A463<VLOOKUP(H$5,NFI,5,0),1,0)*Table_NFI[[#This Row],[Hygiene Kit]],Table_NFI[Hygiene Kit])","v":0},{"$f":"IF(NFI_Expiration=1,IF($A463<VLOOKUP(I$5,NFI,5,0),1,0)*Table_NFI[[#This Row],[NFI Core Kit]],Table_NFI[NFI Core Kit])","v":0},{"$f":"IF(NFI_Expiration=1,IF($A463<VLOOKUP(J$5,NFI,5,0),1,0)*Table_NFI[[#This Row],[Sanitary Kit]],Table_NFI[Sanitary Kit])","v":0},{"$f":"IF(NFI_Expiration=1,IF($A463<VLOOKUP(K$5,NFI,5,0),1,0)*Table_NFI[[#This Row],[Mosquito net]],Table_NFI[Mosquito net])","v":22},{"$f":"IF(NFI_Expiration=1,IF($A463<VLOOKUP(L$5,NFI,5,0),1,0)*Table_NFI[[#This Row],[Tarpaulin]],Table_NFI[[#This Row],[Tarpaulin]])","v":11},{"$f":"IF(NFI_Expiration=1,IF($A463<VLOOKUP(M$5,NFI,5,0),1,0)*Table_NFI[[#This Row],[Blanket]],Table_NFI[[#This Row],[Blanket]])","v":22},{"$f":"IF(NFI_Expiration=1,IF($A463<VLOOKUP(N$5,NFI,5,0),1,0)*Table_NFI[[#This Row],[Kitchen Set]],Table_NFI[Kitchen Set])","v":11},{"$f":"IF(NFI_Expiration=1,IF($A463<VLOOKUP(O$5,NFI,5,0),1,0)*Table_NFI[[#This Row],[Complementary Kit]],Table_NFI[Complementary Kit])","v":11},{"$f":"IF(NFI_Expiration=1,IF($A463<VLOOKUP(P$5,NFI,5,0),1,0)*Table_NFI[[#This Row],[Plastic Bucket]],Table_NFI[Plastic Bucket])","v":0},{"$f":"IF(NFI_Expiration=1,IF($A463<VLOOKUP(Q$5,NFI,5,0),1,0)*Table_NFI[[#This Row],[Plastic Mat]],Table_NFI[Plastic Mat])","v":0},{"$f":"IFERROR(VLOOKUP(Table_NFI[[#This Row],[Camp Name]],CL,2,0),\"\")","v":"MMR001CMP051"},{"$f":"IFERROR(VLOOKUP(Table_NFI[[#This Row],[Camp Name]],CL,3,0),\"\")","v":"Open"},{"$f":"IFERROR(Table_NFI[[#This Row],[Kitchen Set]]/VLOOKUP(Table_NFI[[#This Row],[Camp Name]],CL,4,0),\"\")","v":1.375}]
[1.2,"2013-11-26","UNHCR","UNHCR","Kachin","Bhamo","Host Families",null,null,null,25,13,25,13,13,null,null,{"$f":"IF(NFI_Expiration=1,IF($A464<VLOOKUP(H$5,NFI,5,0),1,0)*Table_NFI[[#This Row],[Hygiene Kit]],Table_NFI[Hygiene Kit])","v":0},{"$f":"IF(NFI_Expiration=1,IF($A464<VLOOKUP(I$5,NFI,5,0),1,0)*Table_NFI[[#This Row],[NFI Core Kit]],Table_NFI[NFI Core Kit])","v":0},{"$f":"IF(NFI_Expiration=1,IF($A464<VLOOKUP(J$5,NFI,5,0),1,0)*Table_NFI[[#This Row],[Sanitary Kit]],Table_NFI[Sanitary Kit])","v":0},{"$f":"IF(NFI_Expiration=1,IF($A464<VLOOKUP(K$5,NFI,5,0),1,0)*Table_NFI[[#This Row],[Mosquito net]],Table_NFI[Mosquito net])","v":25},{"$f":"IF(NFI_Expiration=1,IF($A464<VLOOKUP(L$5,NFI,5,0),1,0)*Table_NFI[[#This Row],[Tarpaulin]],Table_NFI[[#This Row],[Tarpaulin]])","v":13},{"$f":"IF(NFI_Expiration=1,IF($A464<VLOOKUP(M$5,NFI,5,0),1,0)*Table_NFI[[#This Row],[Blanket]],Table_NFI[[#This Row],[Blanket]])","v":25},{"$f":"IF(NFI_Expiration=1,IF($A464<VLOOKUP(N$5,NFI,5,0),1,0)*Table_NFI[[#This Row],[Kitchen Set]],Table_NFI[Kitchen Set])","v":13},{"$f":"IF(NFI_Expiration=1,IF($A464<VLOOKUP(O$5,NFI,5,0),1,0)*Table_NFI[[#This Row],[Complementary Kit]],Table_NFI[Complementary Kit])","v":13},{"$f":"IF(NFI_Expiration=1,IF($A464<VLOOKUP(P$5,NFI,5,0),1,0)*Table_NFI[[#This Row],[Plastic Bucket]],Table_NFI[Plastic Bucket])","v":0},{"$f":"IF(NFI_Expiration=1,IF($A464<VLOOKUP(Q$5,NFI,5,0),1,0)*Table_NFI[[#This Row],[Plastic Mat]],Table_NFI[Plastic Mat])","v":0},{"$f":"IFERROR(VLOOKUP(Table_NFI[[#This Row],[Camp Name]],CL,2,0),\"\")","v":"MMR001CMP163"},{"$f":"IFERROR(VLOOKUP(Table_NFI[[#This Row],[Camp Name]],CL,3,0),\"\")","v":"Open"},{"$f":"IFERROR(Table_NFI[[#This Row],[Kitchen Set]]/VLOOKUP(Table_NFI[[#This Row],[Camp Name]],CL,4,0),\"\")","v":3.880597014925373E-2}]
[1.1333333333333333,"2013-11-28","UNHCR","UNHCR","Kachin","Mansi","Mansi Baptist Church",null,null,null,20,7,22,7,7,null,null,{"$f":"IF(NFI_Expiration=1,IF($A465<VLOOKUP(H$5,NFI,5,0),1,0)*Table_NFI[[#This Row],[Hygiene Kit]],Table_NFI[Hygiene Kit])","v":0},{"$f":"IF(NFI_Expiration=1,IF($A465<VLOOKUP(I$5,NFI,5,0),1,0)*Table_NFI[[#This Row],[NFI Core Kit]],Table_NFI[NFI Core Kit])","v":0},{"$f":"IF(NFI_Expiration=1,IF($A465<VLOOKUP(J$5,NFI,5,0),1,0)*Table_NFI[[#This Row],[Sanitary Kit]],Table_NFI[Sanitary Kit])","v":0},{"$f":"IF(NFI_Expiration=1,IF($A465<VLOOKUP(K$5,NFI,5,0),1,0)*Table_NFI[[#This Row],[Mosquito net]],Table_NFI[Mosquito net])","v":20},{"$f":"IF(NFI_Expiration=1,IF($A465<VLOOKUP(L$5,NFI,5,0),1,0)*Table_NFI[[#This Row],[Tarpaulin]],Table_NFI[[#This Row],[Tarpaulin]])","v":7},{"$f":"IF(NFI_Expiration=1,IF($A465<VLOOKUP(M$5,NFI,5,0),1,0)*Table_NFI[[#This Row],[Blanket]],Table_NFI[[#This Row],[Blanket]])","v":22},{"$f":"IF(NFI_Expiration=1,IF($A465<VLOOKUP(N$5,NFI,5,0),1,0)*Table_NFI[[#This Row],[Kitchen Set]],Table_NFI[Kitchen Set])","v":7},{"$f":"IF(NFI_Expiration=1,IF($A465<VLOOKUP(O$5,NFI,5,0),1,0)*Table_NFI[[#This Row],[Complementary Kit]],Table_NFI[Complementary Kit])","v":7},{"$f":"IF(NFI_Expiration=1,IF($A465<VLOOKUP(P$5,NFI,5,0),1,0)*Table_NFI[[#This Row],[Plastic Bucket]],Table_NFI[Plastic Bucket])","v":0},{"$f":"IF(NFI_Expiration=1,IF($A465<VLOOKUP(Q$5,NFI,5,0),1,0)*Table_NFI[[#This Row],[Plastic Mat]],Table_NFI[Plastic Mat])","v":0},{"$f":"IFERROR(VLOOKUP(Table_NFI[[#This Row],[Camp Name]],CL,2,0),\"\")","v":"MMR001CMP066"},{"$f":"IFERROR(VLOOKUP(Table_NFI[[#This Row],[Camp Name]],CL,3,0),\"\")","v":"Open"},{"$f":"IFERROR(Table_NFI[[#This Row],[Kitchen Set]]/VLOOKUP(Table_NFI[[#This Row],[Camp Name]],CL,4,0),\"\")","v":7.5268817204301078E-2}]
[1.0666666666666667,"2013-11-30","UNHCR","UNHCR","Kachin","Bhamo","AD-2000 Tharthana Compound",null,null,null,6,6,6,6,6,null,null,{"$f":"IF(NFI_Expiration=1,IF($A466<VLOOKUP(H$5,NFI,5,0),1,0)*Table_NFI[[#This Row],[Hygiene Kit]],Table_NFI[Hygiene Kit])","v":0},{"$f":"IF(NFI_Expiration=1,IF($A466<VLOOKUP(I$5,NFI,5,0),1,0)*Table_NFI[[#This Row],[NFI Core Kit]],Table_NFI[NFI Core Kit])","v":0},{"$f":"IF(NFI_Expiration=1,IF($A466<VLOOKUP(J$5,NFI,5,0),1,0)*Table_NFI[[#This Row],[Sanitary Kit]],Table_NFI[Sanitary Kit])","v":0},{"$f":"IF(NFI_Expiration=1,IF($A466<VLOOKUP(K$5,NFI,5,0),1,0)*Table_NFI[[#This Row],[Mosquito net]],Table_NFI[Mosquito net])","v":6},{"$f":"IF(NFI_Expiration=1,IF($A466<VLOOKUP(L$5,NFI,5,0),1,0)*Table_NFI[[#This Row],[Tarpaulin]],Table_NFI[[#This Row],[Tarpaulin]])","v":6},{"$f":"IF(NFI_Expiration=1,IF($A466<VLOOKUP(M$5,NFI,5,0),1,0)*Table_NFI[[#This Row],[Blanket]],Table_NFI[[#This Row],[Blanket]])","v":6},{"$f":"IF(NFI_Expiration=1,IF($A466<VLOOKUP(N$5,NFI,5,0),1,0)*Table_NFI[[#This Row],[Kitchen Set]],Table_NFI[Kitchen Set])","v":6},{"$f":"IF(NFI_Expiration=1,IF($A466<VLOOKUP(O$5,NFI,5,0),1,0)*Table_NFI[[#This Row],[Complementary Kit]],Table_NFI[Complementary Kit])","v":6},{"$f":"IF(NFI_Expiration=1,IF($A466<VLOOKUP(P$5,NFI,5,0),1,0)*Table_NFI[[#This Row],[Plastic Bucket]],Table_NFI[Plastic Bucket])","v":0},{"$f":"IF(NFI_Expiration=1,IF($A466<VLOOKUP(Q$5,NFI,5,0),1,0)*Table_NFI[[#This Row],[Plastic Mat]],Table_NFI[Plastic Mat])","v":0},{"$f":"IFERROR(VLOOKUP(Table_NFI[[#This Row],[Camp Name]],CL,2,0),\"\")","v":"MMR001CMP050"},{"$f":"IFERROR(VLOOKUP(Table_NFI[[#This Row],[Camp Name]],CL,3,0),\"\")","v":"Open"},{"$f":"IFERROR(Table_NFI[[#This Row],[Kitchen Set]]/VLOOKUP(Table_NFI[[#This Row],[Camp Name]],CL,4,0),\"\")","v":2.564102564102564E-2}]
[1.0666666666666667,"2013-11-30","UNHCR","UNHCR","Kachin","Bhamo","Robert Church",null,null,null,75,36,75,36,36,null,null,{"$f":"IF(NFI_Expiration=1,IF($A467<VLOOKUP(H$5,NFI,5,0),1,0)*Table_NFI[[#This Row],[Hygiene Kit]],Table_NFI[Hygiene Kit])","v":0},{"$f":"IF(NFI_Expiration=1,IF($A467<VLOOKUP(I$5,NFI,5,0),1,0)*Table_NFI[[#This Row],[NFI Core Kit]],Table_NFI[NFI Core Kit])","v":0},{"$f":"IF(NFI_Expiration=1,IF($A467<VLOOKUP(J$5,NFI,5,0),1,0)*Table_NFI[[#This Row],[Sanitary Kit]],Table_NFI[Sanitary Kit])","v":0},{"$f":"IF(NFI_Expiration=1,IF($A467<VLOOKUP(K$5,NFI,5,0),1,0)*Table_NFI[[#This Row],[Mosquito net]],Table_NFI[Mosquito net])","v":75},{"$f":"IF(NFI_Expiration=1,IF($A467<VLOOKUP(L$5,NFI,5,0),1,0)*Table_NFI[[#This Row],[Tarpaulin]],Table_NFI[[#This Row],[Tarpaulin]])","v":36},{"$f":"IF(NFI_Expiration=1,IF($A467<VLOOKUP(M$5,NFI,5,0),1,0)*Table_NFI[[#This Row],[Blanket]],Table_NFI[[#This Row],[Blanket]])","v":75},{"$f":"IF(NFI_Expiration=1,IF($A467<VLOOKUP(N$5,NFI,5,0),1,0)*Table_NFI[[#This Row],[Kitchen Set]],Table_NFI[Kitchen Set])","v":36},{"$f":"IF(NFI_Expiration=1,IF($A467<VLOOKUP(O$5,NFI,5,0),1,0)*Table_NFI[[#This Row],[Complementary Kit]],Table_NFI[Complementary Kit])","v":36},{"$f":"IF(NFI_Expiration=1,IF($A467<VLOOKUP(P$5,NFI,5,0),1,0)*Table_NFI[[#This Row],[Plastic Bucket]],Table_NFI[Plastic Bucket])","v":0},{"$f":"IF(NFI_Expiration=1,IF($A467<VLOOKUP(Q$5,NFI,5,0),1,0)*Table_NFI[[#This Row],[Plastic Mat]],Table_NFI[Plastic Mat])","v":0},{"$f":"IFERROR(VLOOKUP(Table_NFI[[#This Row],[Camp Name]],CL,2,0),\"\")","v":"MMR001CMP047"},{"$f":"IFERROR(VLOOKUP(Table_NFI[[#This Row],[Camp Name]],CL,3,0),\"\")","v":"Open"},{"$f":"IFERROR(Table_NFI[[#This Row],[Kitchen Set]]/VLOOKUP(Table_NFI[[#This Row],[Camp Name]],CL,4,0),\"\")","v":6.4516129032258063E-2}]
[1.0333333333333334,"2013-12-01","UNHCR","UNHCR","Kachin","Bhamo","Robert Church",null,null,null,null,null,30,null,null,null,null,{"$f":"IF(NFI_Expiration=1,IF($A468<VLOOKUP(H$5,NFI,5,0),1,0)*Table_NFI[[#This Row],[Hygiene Kit]],Table_NFI[Hygiene Kit])","v":0},{"$f":"IF(NFI_Expiration=1,IF($A468<VLOOKUP(I$5,NFI,5,0),1,0)*Table_NFI[[#This Row],[NFI Core Kit]],Table_NFI[NFI Core Kit])","v":0},{"$f":"IF(NFI_Expiration=1,IF($A468<VLOOKUP(J$5,NFI,5,0),1,0)*Table_NFI[[#This Row],[Sanitary Kit]],Table_NFI[Sanitary Kit])","v":0},{"$f":"IF(NFI_Expiration=1,IF($A468<VLOOKUP(K$5,NFI,5,0),1,0)*Table_NFI[[#This Row],[Mosquito net]],Table_NFI[Mosquito net])","v":0},{"$f":"IF(NFI_Expiration=1,IF($A468<VLOOKUP(L$5,NFI,5,0),1,0)*Table_NFI[[#This Row],[Tarpaulin]],Table_NFI[[#This Row],[Tarpaulin]])","v":0},{"$f":"IF(NFI_Expiration=1,IF($A468<VLOOKUP(M$5,NFI,5,0),1,0)*Table_NFI[[#This Row],[Blanket]],Table_NFI[[#This Row],[Blanket]])","v":30},{"$f":"IF(NFI_Expiration=1,IF($A468<VLOOKUP(N$5,NFI,5,0),1,0)*Table_NFI[[#This Row],[Kitchen Set]],Table_NFI[Kitchen Set])","v":0},{"$f":"IF(NFI_Expiration=1,IF($A468<VLOOKUP(O$5,NFI,5,0),1,0)*Table_NFI[[#This Row],[Complementary Kit]],Table_NFI[Complementary Kit])","v":0},{"$f":"IF(NFI_Expiration=1,IF($A468<VLOOKUP(P$5,NFI,5,0),1,0)*Table_NFI[[#This Row],[Plastic Bucket]],Table_NFI[Plastic Bucket])","v":0},{"$f":"IF(NFI_Expiration=1,IF($A468<VLOOKUP(Q$5,NFI,5,0),1,0)*Table_NFI[[#This Row],[Plastic Mat]],Table_NFI[Plastic Mat])","v":0},{"$f":"IFERROR(VLOOKUP(Table_NFI[[#This Row],[Camp Name]],CL,2,0),\"\")","v":"MMR001CMP047"},{"$f":"IFERROR(VLOOKUP(Table_NFI[[#This Row],[Camp Name]],CL,3,0),\"\")","v":"Open"},{"$f":"IFERROR(Table_NFI[[#This Row],[Kitchen Set]]/VLOOKUP(Table_NFI[[#This Row],[Camp Name]],CL,4,0),\"\")","v":0}]
[0.96666666666666667,"2013-12-03","UNHCR","UNHCR","Kachin","Momauk","Momauk Baptist Church",null,null,null,25,13,25,13,13,null,null,{"$f":"IF(NFI_Expiration=1,IF($A469<VLOOKUP(H$5,NFI,5,0),1,0)*Table_NFI[[#This Row],[Hygiene Kit]],Table_NFI[Hygiene Kit])","v":0},{"$f":"IF(NFI_Expiration=1,IF($A469<VLOOKUP(I$5,NFI,5,0),1,0)*Table_NFI[[#This Row],[NFI Core Kit]],Table_NFI[NFI Core Kit])","v":0},{"$f":"IF(NFI_Expiration=1,IF($A469<VLOOKUP(J$5,NFI,5,0),1,0)*Table_NFI[[#This Row],[Sanitary Kit]],Table_NFI[Sanitary Kit])","v":0},{"$f":"IF(NFI_Expiration=1,IF($A469<VLOOKUP(K$5,NFI,5,0),1,0)*Table_NFI[[#This Row],[Mosquito net]],Table_NFI[Mosquito net])","v":25},{"$f":"IF(NFI_Expiration=1,IF($A469<VLOOKUP(L$5,NFI,5,0),1,0)*Table_NFI[[#This Row],[Tarpaulin]],Table_NFI[[#This Row],[Tarpaulin]])","v":13},{"$f":"IF(NFI_Expiration=1,IF($A469<VLOOKUP(M$5,NFI,5,0),1,0)*Table_NFI[[#This Row],[Blanket]],Table_NFI[[#This Row],[Blanket]])","v":25},{"$f":"IF(NFI_Expiration=1,IF($A469<VLOOKUP(N$5,NFI,5,0),1,0)*Table_NFI[[#This Row],[Kitchen Set]],Table_NFI[Kitchen Set])","v":13},{"$f":"IF(NFI_Expiration=1,IF($A469<VLOOKUP(O$5,NFI,5,0),1,0)*Table_NFI[[#This Row],[Complementary Kit]],Table_NFI[Complementary Kit])","v":13},{"$f":"IF(NFI_Expiration=1,IF($A469<VLOOKUP(P$5,NFI,5,0),1,0)*Table_NFI[[#This Row],[Plastic Bucket]],Table_NFI[Plastic Bucket])","v":0},{"$f":"IF(NFI_Expiration=1,IF($A469<VLOOKUP(Q$5,NFI,5,0),1,0)*Table_NFI[[#This Row],[Plastic Mat]],Table_NFI[Plastic Mat])","v":0},{"$f":"IFERROR(VLOOKUP(Table_NFI[[#This Row],[Camp Name]],CL,2,0),\"\")","v":"MMR001CMP056"},{"$f":"IFERROR(VLOOKUP(Table_NFI[[#This Row],[Camp Name]],CL,3,0),\"\")","v":"Open"},{"$f":"IFERROR(Table_NFI[[#This Row],[Kitchen Set]]/VLOOKUP(Table_NFI[[#This Row],[Camp Name]],CL,4,0),\"\")","v":3.2581453634085211E-2}]
[0.93333333333333335,"2013-12-04","UNHCR","UNHCR","Kachin","Bhamo","Robert Church",null,null,null,null,null,120,null,null,null,null,{"$f":"IF(NFI_Expiration=1,IF($A470<VLOOKUP(H$5,NFI,5,0),1,0)*Table_NFI[[#This Row],[Hygiene Kit]],Table_NFI[Hygiene Kit])","v":0},{"$f":"IF(NFI_Expiration=1,IF($A470<VLOOKUP(I$5,NFI,5,0),1,0)*Table_NFI[[#This Row],[NFI Core Kit]],Table_NFI[NFI Core Kit])","v":0},{"$f":"IF(NFI_Expiration=1,IF($A470<VLOOKUP(J$5,NFI,5,0),1,0)*Table_NFI[[#This Row],[Sanitary Kit]],Table_NFI[Sanitary Kit])","v":0},{"$f":"IF(NFI_Expiration=1,IF($A470<VLOOKUP(K$5,NFI,5,0),1,0)*Table_NFI[[#This Row],[Mosquito net]],Table_NFI[Mosquito net])","v":0},{"$f":"IF(NFI_Expiration=1,IF($A470<VLOOKUP(L$5,NFI,5,0),1,0)*Table_NFI[[#This Row],[Tarpaulin]],Table_NFI[[#This Row],[Tarpaulin]])","v":0},{"$f":"IF(NFI_Expiration=1,IF($A470<VLOOKUP(M$5,NFI,5,0),1,0)*Table_NFI[[#This Row],[Blanket]],Table_NFI[[#This Row],[Blanket]])","v":120},{"$f":"IF(NFI_Expiration=1,IF($A470<VLOOKUP(N$5,NFI,5,0),1,0)*Table_NFI[[#This Row],[Kitchen Set]],Table_NFI[Kitchen Set])","v":0},{"$f":"IF(NFI_Expiration=1,IF($A470<VLOOKUP(O$5,NFI,5,0),1,0)*Table_NFI[[#This Row],[Complementary Kit]],Table_NFI[Complementary Kit])","v":0},{"$f":"IF(NFI_Expiration=1,IF($A470<VLOOKUP(P$5,NFI,5,0),1,0)*Table_NFI[[#This Row],[Plastic Bucket]],Table_NFI[Plastic Bucket])","v":0},{"$f":"IF(NFI_Expiration=1,IF($A470<VLOOKUP(Q$5,NFI,5,0),1,0)*Table_NFI[[#This Row],[Plastic Mat]],Table_NFI[Plastic Mat])","v":0},{"$f":"IFERROR(VLOOKUP(Table_NFI[[#This Row],[Camp Name]],CL,2,0),\"\")","v":"MMR001CMP047"},{"$f":"IFERROR(VLOOKUP(Table_NFI[[#This Row],[Camp Name]],CL,3,0),\"\")","v":"Open"},{"$f":"IFERROR(Table_NFI[[#This Row],[Kitchen Set]]/VLOOKUP(Table_NFI[[#This Row],[Camp Name]],CL,4,0),\"\")","v":0}]
[0.93333333333333335,"2013-12-04","UNHCR","UNHCR","Kachin","Bhamo","Aung Thar Church",null,null,null,null,null,10,5,5,null,null,{"$f":"IF(NFI_Expiration=1,IF($A471<VLOOKUP(H$5,NFI,5,0),1,0)*Table_NFI[[#This Row],[Hygiene Kit]],Table_NFI[Hygiene Kit])","v":0},{"$f":"IF(NFI_Expiration=1,IF($A471<VLOOKUP(I$5,NFI,5,0),1,0)*Table_NFI[[#This Row],[NFI Core Kit]],Table_NFI[NFI Core Kit])","v":0},{"$f":"IF(NFI_Expiration=1,IF($A471<VLOOKUP(J$5,NFI,5,0),1,0)*Table_NFI[[#This Row],[Sanitary Kit]],Table_NFI[Sanitary Kit])","v":0},{"$f":"IF(NFI_Expiration=1,IF($A471<VLOOKUP(K$5,NFI,5,0),1,0)*Table_NFI[[#This Row],[Mosquito net]],Table_NFI[Mosquito net])","v":0},{"$f":"IF(NFI_Expiration=1,IF($A471<VLOOKUP(L$5,NFI,5,0),1,0)*Table_NFI[[#This Row],[Tarpaulin]],Table_NFI[[#This Row],[Tarpaulin]])","v":0},{"$f":"IF(NFI_Expiration=1,IF($A471<VLOOKUP(M$5,NFI,5,0),1,0)*Table_NFI[[#This Row],[Blanket]],Table_NFI[[#This Row],[Blanket]])","v":10},{"$f":"IF(NFI_Expiration=1,IF($A471<VLOOKUP(N$5,NFI,5,0),1,0)*Table_NFI[[#This Row],[Kitchen Set]],Table_NFI[Kitchen Set])","v":5},{"$f":"IF(NFI_Expiration=1,IF($A471<VLOOKUP(O$5,NFI,5,0),1,0)*Table_NFI[[#This Row],[Complementary Kit]],Table_NFI[Complementary Kit])","v":5},{"$f":"IF(NFI_Expiration=1,IF($A471<VLOOKUP(P$5,NFI,5,0),1,0)*Table_NFI[[#This Row],[Plastic Bucket]],Table_NFI[Plastic Bucket])","v":0},{"$f":"IF(NFI_Expiration=1,IF($A471<VLOOKUP(Q$5,NFI,5,0),1,0)*Table_NFI[[#This Row],[Plastic Mat]],Table_NFI[Plastic Mat])","v":0},{"$f":"IFERROR(VLOOKUP(Table_NFI[[#This Row],[Camp Name]],CL,2,0),\"\")","v":"MMR001CMP194"},{"$f":"IFERROR(VLOOKUP(Table_NFI[[#This Row],[Camp Name]],CL,3,0),\"\")","v":"Open"},{"$f":"IFERROR(Table_NFI[[#This Row],[Kitchen Set]]/VLOOKUP(Table_NFI[[#This Row],[Camp Name]],CL,4,0),\"\")","v":0.5}]
[0.93333333333333335,"2013-12-04","UNHCR","UNHCR","Kachin","Bhamo","Robert Church",null,null,null,null,5,null,null,null,null,null,{"$f":"IF(NFI_Expiration=1,IF($A472<VLOOKUP(H$5,NFI,5,0),1,0)*Table_NFI[[#This Row],[Hygiene Kit]],Table_NFI[Hygiene Kit])","v":0},{"$f":"IF(NFI_Expiration=1,IF($A472<VLOOKUP(I$5,NFI,5,0),1,0)*Table_NFI[[#This Row],[NFI Core Kit]],Table_NFI[NFI Core Kit])","v":0},{"$f":"IF(NFI_Expiration=1,IF($A472<VLOOKUP(J$5,NFI,5,0),1,0)*Table_NFI[[#This Row],[Sanitary Kit]],Table_NFI[Sanitary Kit])","v":0},{"$f":"IF(NFI_Expiration=1,IF($A472<VLOOKUP(K$5,NFI,5,0),1,0)*Table_NFI[[#This Row],[Mosquito net]],Table_NFI[Mosquito net])","v":0},{"$f":"IF(NFI_Expiration=1,IF($A472<VLOOKUP(L$5,NFI,5,0),1,0)*Table_NFI[[#This Row],[Tarpaulin]],Table_NFI[[#This Row],[Tarpaulin]])","v":5},{"$f":"IF(NFI_Expiration=1,IF($A472<VLOOKUP(M$5,NFI,5,0),1,0)*Table_NFI[[#This Row],[Blanket]],Table_NFI[[#This Row],[Blanket]])","v":0},{"$f":"IF(NFI_Expiration=1,IF($A472<VLOOKUP(N$5,NFI,5,0),1,0)*Table_NFI[[#This Row],[Kitchen Set]],Table_NFI[Kitchen Set])","v":0},{"$f":"IF(NFI_Expiration=1,IF($A472<VLOOKUP(O$5,NFI,5,0),1,0)*Table_NFI[[#This Row],[Complementary Kit]],Table_NFI[Complementary Kit])","v":0},{"$f":"IF(NFI_Expiration=1,IF($A472<VLOOKUP(P$5,NFI,5,0),1,0)*Table_NFI[[#This Row],[Plastic Bucket]],Table_NFI[Plastic Bucket])","v":0},{"$f":"IF(NFI_Expiration=1,IF($A472<VLOOKUP(Q$5,NFI,5,0),1,0)*Table_NFI[[#This Row],[Plastic Mat]],Table_NFI[Plastic Mat])","v":0},{"$f":"IFERROR(VLOOKUP(Table_NFI[[#This Row],[Camp Name]],CL,2,0),\"\")","v":"MMR001CMP047"},{"$f":"IFERROR(VLOOKUP(Table_NFI[[#This Row],[Camp Name]],CL,3,0),\"\")","v":"Open"},{"$f":"IFERROR(Table_NFI[[#This Row],[Kitchen Set]]/VLOOKUP(Table_NFI[[#This Row],[Camp Name]],CL,4,0),\"\")","v":0}]
[0.46666666666666667,"2013-12-18","UNHCR","UNHCR","Kachin","Bhamo","Host Families",null,null,null,null,4,null,null,null,null,null,{"$f":"IF(NFI_Expiration=1,IF($A473<VLOOKUP(H$5,NFI,5,0),1,0)*Table_NFI[[#This Row],[Hygiene Kit]],Table_NFI[Hygiene Kit])","v":0},{"$f":"IF(NFI_Expiration=1,IF($A473<VLOOKUP(I$5,NFI,5,0),1,0)*Table_NFI[[#This Row],[NFI Core Kit]],Table_NFI[NFI Core Kit])","v":0},{"$f":"IF(NFI_Expiration=1,IF($A473<VLOOKUP(J$5,NFI,5,0),1,0)*Table_NFI[[#This Row],[Sanitary Kit]],Table_NFI[Sanitary Kit])","v":0},{"$f":"IF(NFI_Expiration=1,IF($A473<VLOOKUP(K$5,NFI,5,0),1,0)*Table_NFI[[#This Row],[Mosquito net]],Table_NFI[Mosquito net])","v":0},{"$f":"IF(NFI_Expiration=1,IF($A473<VLOOKUP(L$5,NFI,5,0),1,0)*Table_NFI[[#This Row],[Tarpaulin]],Table_NFI[[#This Row],[Tarpaulin]])","v":4},{"$f":"IF(NFI_Expiration=1,IF($A473<VLOOKUP(M$5,NFI,5,0),1,0)*Table_NFI[[#This Row],[Blanket]],Table_NFI[[#This Row],[Blanket]])","v":0},{"$f":"IF(NFI_Expiration=1,IF($A473<VLOOKUP(N$5,NFI,5,0),1,0)*Table_NFI[[#This Row],[Kitchen Set]],Table_NFI[Kitchen Set])","v":0},{"$f":"IF(NFI_Expiration=1,IF($A473<VLOOKUP(O$5,NFI,5,0),1,0)*Table_NFI[[#This Row],[Complementary Kit]],Table_NFI[Complementary Kit])","v":0},{"$f":"IF(NFI_Expiration=1,IF($A473<VLOOKUP(P$5,NFI,5,0),1,0)*Table_NFI[[#This Row],[Plastic Bucket]],Table_NFI[Plastic Bucket])","v":0},{"$f":"IF(NFI_Expiration=1,IF($A473<VLOOKUP(Q$5,NFI,5,0),1,0)*Table_NFI[[#This Row],[Plastic Mat]],Table_NFI[Plastic Mat])","v":0},{"$f":"IFERROR(VLOOKUP(Table_NFI[[#This Row],[Camp Name]],CL,2,0),\"\")","v":"MMR001CMP163"},{"$f":"IFERROR(VLOOKUP(Table_NFI[[#This Row],[Camp Name]],CL,3,0),\"\")","v":"Open"},{"$f":"IFERROR(Table_NFI[[#This Row],[Kitchen Set]]/VLOOKUP(Table_NFI[[#This Row],[Camp Name]],CL,4,0),\"\")","v":0}]
[0.3,"2013-12-23","UNHCR","UNHCR","Kachin","Bhamo","AD-2000 Tharthana Compound",null,null,10,10,7,10,7,7,null,null,{"$f":"IF(NFI_Expiration=1,IF($A474<VLOOKUP(H$5,NFI,5,0),1,0)*Table_NFI[[#This Row],[Hygiene Kit]],Table_NFI[Hygiene Kit])","v":0},{"$f":"IF(NFI_Expiration=1,IF($A474<VLOOKUP(I$5,NFI,5,0),1,0)*Table_NFI[[#This Row],[NFI Core Kit]],Table_NFI[NFI Core Kit])","v":0},{"$f":"IF(NFI_Expiration=1,IF($A474<VLOOKUP(J$5,NFI,5,0),1,0)*Table_NFI[[#This Row],[Sanitary Kit]],Table_NFI[Sanitary Kit])","v":10},{"$f":"IF(NFI_Expiration=1,IF($A474<VLOOKUP(K$5,NFI,5,0),1,0)*Table_NFI[[#This Row],[Mosquito net]],Table_NFI[Mosquito net])","v":10},{"$f":"IF(NFI_Expiration=1,IF($A474<VLOOKUP(L$5,NFI,5,0),1,0)*Table_NFI[[#This Row],[Tarpaulin]],Table_NFI[[#This Row],[Tarpaulin]])","v":7},{"$f":"IF(NFI_Expiration=1,IF($A474<VLOOKUP(M$5,NFI,5,0),1,0)*Table_NFI[[#This Row],[Blanket]],Table_NFI[[#This Row],[Blanket]])","v":10},{"$f":"IF(NFI_Expiration=1,IF($A474<VLOOKUP(N$5,NFI,5,0),1,0)*Table_NFI[[#This Row],[Kitchen Set]],Table_NFI[Kitchen Set])","v":7},{"$f":"IF(NFI_Expiration=1,IF($A474<VLOOKUP(O$5,NFI,5,0),1,0)*Table_NFI[[#This Row],[Complementary Kit]],Table_NFI[Complementary Kit])","v":7},{"$f":"IF(NFI_Expiration=1,IF($A474<VLOOKUP(P$5,NFI,5,0),1,0)*Table_NFI[[#This Row],[Plastic Bucket]],Table_NFI[Plastic Bucket])","v":0},{"$f":"IF(NFI_Expiration=1,IF($A474<VLOOKUP(Q$5,NFI,5,0),1,0)*Table_NFI[[#This Row],[Plastic Mat]],Table_NFI[Plastic Mat])","v":0},{"$f":"IFERROR(VLOOKUP(Table_NFI[[#This Row],[Camp Name]],CL,2,0),\"\")","v":"MMR001CMP050"},{"$f":"IFERROR(VLOOKUP(Table_NFI[[#This Row],[Camp Name]],CL,3,0),\"\")","v":"Open"},{"$f":"IFERROR(Table_NFI[[#This Row],[Kitchen Set]]/VLOOKUP(Table_NFI[[#This Row],[Camp Name]],CL,4,0),\"\")","v":2.9914529914529916E-2}]
[""]
[""]
[""]
[""]
[""]
[""]
[""]
[""]
[""]
[""]
[""]
[""]
[""]
[""]
[""]
[""]
[""]
[""]
[""]
[""]
[""]
[""]
[""]
[""]
[""]
[""]
[""]
[""]
[""]
[""]
[""]
[""]
[""]
[""]
[""]
[""]
[""]
[""]
[""]
[""]
[""]
[""]
[""]
[{"$f":"IF(ISBLANK(B518),\"\",(Report_Date-B518)/30)","v":""}]
[""]
[""]
[""]
[""]
[""]
[""]
[""]
[""]
[""]
[""]
[""]
[""]
[""]
[""]
[""]
[""]
[""]
[""]
[""]
[""]
[""]
[""]
[""]
[""]
[""]
[""]
[""]
[""]
[""]
[""]
[""]
[""]
[""]
[""]
[""]
[""]
[""]
[""]
[""]
[""]
[""]
[""]
[""]
[""]
[""]
[""]
[""]
[""]
[""]
[""]
[""]
[""]
[""]
[""]
[""]
[""]
[""]
[""]
[""]
[""]
[""]
[""]
[""]
[{"$f":"IF(ISBLANK(B582),\"\",(Report_Date-B582)/30)","v":""}]
[""]
[""]
[""]
[""]
[""]
[""]
[""]
[""]
[""]
[""]
[""]
[""]
[""]
[""]
[""]
[""]
[""]
[""]
[""]
[""]
[""]
[""]
[""]
[""]
[""]
[""]
[""]
[""]
[""]
[""]
[""]
[""]
[""]
[""]
[""]
[""]
[""]
[""]
[""]
[""]
[""]
[""]
[""]
[""]
[""]
[""]
[""]
[""]
[""]
[""]
[""]
[""]
[""]
[""]
[""]
[""]
[""]
[""]
[""]
[""]
[""]
[""]
[""]
[{"$f":"IF(ISBLANK(B646),\"\",(Report_Date-B646)/30)","v":""}]
[""]
[""]
[""]
[""]
[""]
[""]
[""]
[""]
[""]
[""]
[""]
[""]
[""]
[""]
[""]
[""]
[""]
[""]
[""]
[""]
[""]
[""]
[""]
[""]
[""]
[""]
[""]
[""]
[""]
[""]
[""]
[""]
[""]
[""]
[""]
[""]
[""]
[""]
[""]
[""]
[""]
[""]
[""]
[""]
[""]
[""]
[""]
[""]
[""]
[""]
[""]
[""]
[""]
[""]
[""]
[""]
[""]
[""]
[""]
[""]
[""]
[""]
[""]
[{"$f":"IF(ISBLANK(B710),\"\",(Report_Date-B710)/30)","v":""}]
[""]
[""]
[""]
[""]
[""]
[""]
[""]
[""]
[""]
[""]
[""]
[""]
[""]
[""]
[""]
[""]
[""]
[""]
[""]
[""]
[""]
[""]
[""]
[""]
[""]
[""]
[""]
[""]
[""]
[""]
[""]
[""]
[""]
[""]
[""]
[""]
[""]
[""]
[""]
[""]
[""]
[""]
[""]
[""]
[""]
[""]
[""]
[""]
[""]
[""]
[""]
[""]
[""]
[""]
[""]
[""]
[""]
[""]
[""]
[""]
[""]
[""]
[""]
[{"$f":"IF(ISBLANK(B774),\"\",(Report_Date-B774)/30)","v":""}]
[""]
[""]
[""]
[""]
[""]
[""]
[""]
[""]
[""]
[""]
[""]
[""]
[""]
[""]
[""]
[""]
[""]
[""]
[""]
[""]
[""]
[""]
[""]
[""]
[""]
[""]
[""]
[""]
[""]
[""]
[""]
[""]
[""]
[""]
[""]
[""]
[""]
[""]
[""]
[""]
[""]
[""]
[""]
[""]
[""]
[""]
[""]
[""]
[""]
[""]
[""]
[""]
[""]
[""]
[""]
[""]
[""]
[""]
[""]
[""]
[""]
[""]
[""]
[{"$f":"IF(ISBLANK(B838),\"\",(Report_Date-B838)/30)","v":""}]
[""]
[""]
[""]
[""]
[""]
[""]
[""]
[""]
[""]
[""]
[""]
[""]
[""]
[""]
[""]
[""]
[""]
[""]
[""]
[""]
[""]
[""]
[""]
[""]
[""]
[""]
[""]
[""]
[""]
[""]
[""]
[""]
[""]
[""]
[""]
[""]
[""]
[""]
[""]
[""]
[""]
[""]
[""]
[""]
[""]
[""]
[""]
[""]
[""]
[""]
[""]
[""]
[""]
[""]
[""]
[""]
[""]
[""]
[""]
[""]
[""]
[""]
[""]
[{"$f":"IF(ISBLANK(B902),\"\",(Report_Date-B902)/30)","v":""}]
[""]
[""]
[""]
[""]
[""]
[""]
[""]
[""]
[""]
[""]
[""]
[""]
[""]
[""]
[""]
[""]
[""]
[""]
[""]
[""]
[""]
[""]
[""]
[""]
[""]
[""]
[""]
[""]
[""]
[""]
[""]
[""]
[""]
[""]
[""]
[""]
[""]
[""]
[""]
[""]
[""]
[""]
[""]
[""]
[""]
[""]
[""]
[""]
[""]
[""]
[""]
[""]
[""]
[""]
[""]
[""]
[""]
[""]
[""]
[""]
[""]
[""]
[""]
[{"$f":"IF(ISBLANK(B966),\"\",(Report_Date-B966)/30)","v":""}]
[""]
[""]
[""]
[""]
[""]
[""]
[""]
[""]
[""]
[""]
[""]
[""]
[""]
[""]
[""]
[""]
[""]
[""]
[""]
[""]
[""]
[""]
[""]
[""]
[""]
[""]
[""]
[""]
[""]
[""]
[""]
[""]
[""]
[""]
[""]
[""]
[""]
[""]
[""]
[""]
[""]
[""]
[""]
[""]
[""]
[""]
[""]
[""]
[""]
[""]
[""]
[""]
[""]
[""]
[""]
[""]
[""]
[""]
[""]
[""]
[""]
[""]
[""]
[{"$f":"IF(ISBLANK(B1030),\"\",(Report_Date-B1030)/30)","v":""}]
[""]
[""]
[""]
[""]
[""]
[""]
[""]
[""]
[""]
[""]
[""]
[""]
[""]
[""]
[""]
[""]
[""]
[""]
[""]
[""]
[""]
[""]
[""]
[""]
[""]
[""]
[""]
[""]

{"sheet":"Pipeline Stock Tracking","index":13,"n_rows":8,"n_cols":35,"rows_kept":8,"cut":false,"hidden":false,"merged":[[2,0,2,2],[4,32,4,34],[4,23,4,25],[4,20,4,22],[4,4,5,4],[4,3,5,3],[4,1,5,1],[4,0,5,0],[4,17,4,19],[4,14,4,16],[4,11,4,13],[4,5,4,7],[4,8,4,10],[4,29,4,31],[4,26,4,28]]}
[]
["Pipeline Stock Tracking"]
[{"$f":"Report_Date","v":"2014-01-01"}]
[]
["Date Updated","Organization",null,"State","Township","Hygiene Family Kit",null,null,"NFI Core Kit",null,null,"Women's Sanitary Kit",null,null,"Mosquito Nets",null,null,"Tarpaulins",null,null,"Blanket",null,null,"Kitchen Set",null,null,"Compalimentary Kits",null,null,"Plastic Bucket",null,null,"Plastic Mat"]
[null,null,"Implementing Partner",null,null,"Stock in Balance","Pipeline","ETA","Stock in Balance","Pipeline","ETA","Stock in Balance","Pipeline","ETA","Stock in Balance","Pipeline","ETA","Stock in Balance","Pipeline","ETA","Stock in Balance","Pipeline","ETA","Stock in Balance","Pipeline","ETA","Stock in Balance","Pipeline","ETA","Stock in Balance","Pipeline","ETA","Stock in Balance","Pipeline","ETA"]
["2013-12-31","UNHCR","UNHCR","Kachin","Myitkyina",null,null,null,null,null,null,null,null,null,4725,null,null,1007,null,null,4094,null,null,1091,null,null,0,null,null,2007,null,null,4008]
["2013-12-31","UNHCR","UNHCR","Kachin","Bhamo",null,null,null,null,null,null,null,null,null,1441,null,null,906,null,null,2029,null,null,326,null,null,493,null,null,null,null,null,790]

{"sheet":"NFIAnalysis","index":14,"n_rows":87,"n_cols":15,"rows_kept":87,"cut":false,"hidden":false,"merged":[[29,11,29,14],[30,0,31,0],[30,1,31,1],[30,2,31,2],[30,3,30,6],[1,0,1,7],[2,0,2,7],[5,0,6,0],[5,1,6,1],[5,2,6,2]]}
[]
["NFI DISTRIBUTION BY TOWNSHIP"]
[{"$f":"Report_Date","v":"2014-01-01"}]
[]
["Kachin"]
["Township","Total # of HH","Total # of Population","Mosquito Net","Tarpaulin","Blanket","Kitchen Set","Complemantary Kit","Plastic Bucket","Plastic Mat"]
[null,null,null,"Dist.","Dist.","Dist.","Dist.","Dist.","Dist.","Dist."]
["Bhamo",{"$f":"SUMIFS(Camplist_HH,Camplist_Township,NFIAnalysis!$A8,Camplist_Type_Of_Acc,\"Camp\")","v":1391},{"$f":"SUMIFS(Camplist_Popl,Camplist_Township,NFIAnalysis!$A8,Camplist_Type_Of_Acc,\"Camp\")","v":6356},{"$f":"SUMIF(NFI_Township,$A8,NFI_Mosquito_Track)","v":653},{"$f":"SUMIF(NFI_Township,$A8,NFI_Tarpaulin_Track)","v":397},{"$f":"SUMIF(NFI_Township,$A8,NFI_Blanket_Track)","v":813},{"$f":"SUMIF(NFI_Township,$A8,NFI_Kitchen_Track)","v":471},{"$f":"SUMIF(NFI_Township,$A8,NFI_Complementary_Track)","v":360},{"$f":"SUMIF(NFI_Township,$A8,NFI_Plastic_Bucket_Track)","v":613},{"$f":"SUMIF(NFI_Township,$A8,NFI_Plastic_Mat_Track)","v":607}]
["Chipwi",{"$f":"SUMIFS(Camplist_HH,Camplist_Township,NFIAnalysis!$A9,Camplist_Type_Of_Acc,\"Camp\")","v":737},{"$f":"SUMIFS(Camplist_Popl,Camplist_Township,NFIAnalysis!$A9,Camplist_Type_Of_Acc,\"Camp\")","v":3583},187,84,187,84,84,84,84]
["Hpakant",{"$f":"SUMIFS(Camplist_HH,Camplist_Township,NFIAnalysis!$A10,Camplist_Type_Of_Acc,\"Camp\")","v":886},{"$f":"SUMIFS(Camplist_Popl,Camplist_Township,NFIAnalysis!$A10,Camplist_Type_Of_Acc,\"Camp\")","v":3863},1722,1010,2216,1455,1409,1424,1441]
["Hseni",{"$f":"SUMIFS(Camplist_HH,Camplist_Township,NFIAnalysis!$A11,Camplist_Type_Of_Acc,\"Camp\")","v":67},{"$f":"SUMIFS(Camplist_Popl,Camplist_Township,NFIAnalysis!$A11,Camplist_Type_Of_Acc,\"Camp\")","v":392},133,47,133,47,47,47,47]
["Injangyang",{"$f":"SUMIFS(Camplist_HH,Camplist_Township,NFIAnalysis!$A12,Camplist_Type_Of_Acc,\"Camp\")","v":0},{"$f":"SUMIFS(Camplist_Popl,Camplist_Township,NFIAnalysis!$A12,Camplist_Type_Of_Acc,\"Camp\")","v":0},0,0,0,0,0,0,0]
["Khaunglanhpu",{"$f":"SUMIFS(Camplist_HH,Camplist_Township,NFIAnalysis!$A13,Camplist_Type_Of_Acc,\"Camp\")","v":11},{"$f":"SUMIFS(Camplist_Popl,Camplist_Township,NFIAnalysis!$A13,Camplist_Type_Of_Acc,\"Camp\")","v":17},0,0,0,0,0,0,0]
["Kutkai",{"$f":"SUMIFS(Camplist_HH,Camplist_Township,NFIAnalysis!$A14,Camplist_Type_Of_Acc,\"Camp\")","v":531},{"$f":"SUMIFS(Camplist_Popl,Camplist_Township,NFIAnalysis!$A14,Camplist_Type_Of_Acc,\"Camp\")","v":2660},868,345,868,345,345,345,345]
["Machanbaw",{"$f":"SUMIFS(Camplist_HH,Camplist_Township,NFIAnalysis!$A15,Camplist_Type_Of_Acc,\"Camp\")","v":9},{"$f":"SUMIFS(Camplist_Popl,Camplist_Township,NFIAnalysis!$A15,Camplist_Type_Of_Acc,\"Camp\")","v":27},0,0,0,0,0,0,0]
["Mansi",{"$f":"SUMIFS(Camplist_HH,Camplist_Township,NFIAnalysis!$A16,Camplist_Type_Of_Acc,\"Camp\")","v":2753},{"$f":"SUMIFS(Camplist_Popl,Camplist_Township,NFIAnalysis!$A16,Camplist_Type_Of_Acc,\"Camp\")","v":12233},2148,1086,1789,1115,876,110,320]
["Manton",{"$f":"SUMIFS(Camplist_HH,Camplist_Township,NFIAnalysis!$A17,Camplist_Type_Of_Acc,\"Camp\")","v":69},{"$f":"SUMIFS(Camplist_Popl,Camplist_Township,NFIAnalysis!$A17,Camplist_Type_Of_Acc,\"Camp\")","v":330},231,101,231,101,101,101,101]
["Mogaung",{"$f":"SUMIFS(Camplist_HH,Camplist_Township,NFIAnalysis!$A18,Camplist_Type_Of_Acc,\"Camp\")","v":39},{"$f":"SUMIFS(Camplist_Popl,Camplist_Township,NFIAnalysis!$A18,Camplist_Type_Of_Acc,\"Camp\")","v":148},0,0,0,0,0,0,0]
["Mohnyin",{"$f":"SUMIFS(Camplist_HH,Camplist_Township,NFIAnalysis!$A19,Camplist_Type_Of_Acc,\"Camp\")","v":54},{"$f":"SUMIFS(Camplist_Popl,Camplist_Township,NFIAnalysis!$A19,Camplist_Type_Of_Acc,\"Camp\")","v":240},0,56,0,34,0,0,0]
["Momauk",{"$f":"SUMIFS(Camplist_HH,Camplist_Township,NFIAnalysis!$A20,Camplist_Type_Of_Acc,\"Camp\")","v":4274},{"$f":"SUMIFS(Camplist_Popl,Camplist_Township,NFIAnalysis!$A20,Camplist_Type_Of_Acc,\"Camp\")","v":20359},5177,2574,4645,2574,505,2769,4518]
["Muse",{"$f":"SUMIFS(Camplist_HH,Camplist_Township,NFIAnalysis!$A21,Camplist_Type_Of_Acc,\"Camp\")","v":182},{"$f":"SUMIFS(Camplist_Popl,Camplist_Township,NFIAnalysis!$A21,Camplist_Type_Of_Acc,\"Camp\")","v":789},60,30,60,30,30,30,30]
["Myitkyina",{"$f":"SUMIFS(Camplist_HH,Camplist_Township,NFIAnalysis!$A22,Camplist_Type_Of_Acc,\"Camp\")","v":1423},{"$f":"SUMIFS(Camplist_Popl,Camplist_Township,NFIAnalysis!$A22,Camplist_Type_Of_Acc,\"Camp\")","v":6631},633,728,653,366,276,276,276]
["Namhkan",{"$f":"SUMIFS(Camplist_HH,Camplist_Township,NFIAnalysis!$A23,Camplist_Type_Of_Acc,\"Camp\")","v":385},{"$f":"SUMIFS(Camplist_Popl,Camplist_Township,NFIAnalysis!$A23,Camplist_Type_Of_Acc,\"Camp\")","v":1165},1137,486,1137,486,486,486,486]
["Namtu",{"$f":"SUMIFS(Camplist_HH,Camplist_Township,NFIAnalysis!$A24,Camplist_Type_Of_Acc,\"Camp\")","v":138},{"$f":"SUMIFS(Camplist_Popl,Camplist_Township,NFIAnalysis!$A24,Camplist_Type_Of_Acc,\"Camp\")","v":586},90,45,90,45,45,45,45]
["Puta-O",{"$f":"SUMIFS(Camplist_HH,Camplist_Township,NFIAnalysis!$A25,Camplist_Type_Of_Acc,\"Camp\")","v":36},{"$f":"SUMIFS(Camplist_Popl,Camplist_Township,NFIAnalysis!$A25,Camplist_Type_Of_Acc,\"Camp\")","v":156},0,0,0,0,0,{"$f":"SUMIF(NFI_Township,$A25,NFI_Plastic_Bucket_Track)","v":0},0]
["Shwegu",{"$f":"SUMIFS(Camplist_HH,Camplist_Township,NFIAnalysis!$A26,Camplist_Type_Of_Acc,\"Camp\")","v":501},{"$f":"SUMIFS(Camplist_Popl,Camplist_Township,NFIAnalysis!$A26,Camplist_Type_Of_Acc,\"Camp\")","v":2128},0,0,0,0,0,0,0]
["Sumprabum",{"$f":"SUMIFS(Camplist_HH,Camplist_Township,NFIAnalysis!$A27,Camplist_Type_Of_Acc,\"Camp\")","v":6},{"$f":"SUMIFS(Camplist_Popl,Camplist_Township,NFIAnalysis!$A27,Camplist_Type_Of_Acc,\"Camp\")","v":38},0,0,0,6,0,0,0]
["Waingmaw",{"$f":"SUMIFS(Camplist_HH,Camplist_Township,NFIAnalysis!$A28,Camplist_Type_Of_Acc,\"Camp\")","v":4876},{"$f":"SUMIFS(Camplist_Popl,Camplist_Township,NFIAnalysis!$A28,Camplist_Type_Of_Acc,\"Camp\")","v":24365},2865,1602,5627,1484,1032,601,984]
["Total",{"$f":"SUM(B8:B28)","v":18368},86066,15904,8591,18449,8643,5596,6931,9284]
[null,null,null,null,null,null,null,null,null,null,null,"Sanitary Kit"]
["Township","Total # of HH","Total # of Population","Hygiene Kit",null,null,null,"NFI Core Kit",null,null,"Gap (HH)","Dist.","Instock","Pipeline","Gap (HH)"]
[null,null,null,"Dist.","Instock","Pipeline","Gap (HH)","Dist.","Instock","Pipeline",{"$f":"IF(B33-(H33+I33+J33)<0,0,B33-(H33+I33+J33))","v":1726},{"$f":"SUMIF(NFI_Township,$A33,NFI_Sanitary_Track)","v":4579},{"$f":"SUMIF(NFI_Pipeline_Township,$A33,NFI_Sanitary_Stock)","v":0},{"$f":"SUMIF(NFI_Pipeline_Township,$A31,NFI_Sanitary_Pipeline)","v":0},{"$f":"IF(B33-(L32+M32+N32)<0,0,B33-(L32+M32+N32))","v":0}]
["Bhamo",{"$f":"SUMIF(Camplist_Township,NFIAnalysis!$A33,Camplist_HH)","v":1726},{"$f":"SUMIF(Camplist_Township,NFIAnalysis!$A33,Camplist_Popl)","v":7831},{"$f":"SUMIF(NFI_Township,$A33,NFI_Hygiene_Track)","v":3398},{"$f":"SUMIF(NFI_Pipeline_Township,$A33,NFI_Hygiene_Stock)","v":0},{"$f":"SUMIF(NFI_Pipeline_Township,$A31,NFI_Hygiene_Pipeline)","v":0},{"$f":"IF(B33-(D33+E33+F33)<0,0,B33-(D33+E33+F33))","v":0},{"$f":"SUMIF(NFI_Township,$A33,NFI_Core_Track)","v":0},{"$f":"SUMIF(NFI_Pipeline_Township,$A33,NFI_Core_Stock)","v":0},{"$f":"SUMIF(NFI_Pipeline_Township,$A31,NFI_Core_Pipeline)","v":0},737,148,0,0,589]
["Chipwi",{"$f":"SUMIF(Camplist_Township,NFIAnalysis!$A34,Camplist_HH)","v":737},{"$f":"SUMIF(Camplist_Township,NFIAnalysis!$A34,Camplist_Popl)","v":3583},545,0,0,192,0,0,0,886,1627,0,0,0]
["Hpakant",{"$f":"SUMIF(Camplist_Township,NFIAnalysis!$A35,Camplist_HH)","v":886},{"$f":"SUMIF(Camplist_Township,NFIAnalysis!$A35,Camplist_Popl)","v":3863},920,0,0,0,0,0,0,67,94,0,0,0]
["Hseni",{"$f":"SUMIF(Camplist_Township,NFIAnalysis!$A36,Camplist_HH)","v":67},{"$f":"SUMIF(Camplist_Township,NFIAnalysis!$A36,Camplist_Popl)","v":392},0,0,0,67,0,0,0,0,0,0,0,0]
["Injangyang",{"$f":"SUMIF(Camplist_Township,NFIAnalysis!$A37,Camplist_HH)","v":0},{"$f":"SUMIF(Camplist_Township,NFIAnalysis!$A37,Camplist_Popl)","v":0},0,0,0,0,0,0,0,11,0,0,0,11]
["Khaunglanhpu",{"$f":"SUMIF(Camplist_Township,NFIAnalysis!$A38,Camplist_HH)","v":11},{"$f":"SUMIF(Camplist_Township,NFIAnalysis!$A38,Camplist_Popl)","v":17},0,0,0,11,0,0,0,531,629,0,0,0]
["Kutkai",{"$f":"SUMIF(Camplist_Township,NFIAnalysis!$A39,Camplist_HH)","v":531},{"$f":"SUMIF(Camplist_Township,NFIAnalysis!$A39,Camplist_Popl)","v":2660},0,0,0,531,0,0,0,3378,3590,0,0,0]
["Mansi",{"$f":"SUMIF(Camplist_Township,NFIAnalysis!$A40,Camplist_HH)","v":3378},{"$f":"SUMIF(Camplist_Township,NFIAnalysis!$A40,Camplist_Popl)","v":14953},2137,0,0,1241,0,0,0,69,142,0,0,0]
["Manton",{"$f":"SUMIF(Camplist_Township,NFIAnalysis!$A41,Camplist_HH)","v":69},{"$f":"SUMIF(Camplist_Township,NFIAnalysis!$A41,Camplist_Popl)","v":330},0,0,0,69,0,0,0,39,0,0,0,39]
["Mogaung",{"$f":"SUMIF(Camplist_Township,NFIAnalysis!$A42,Camplist_HH)","v":39},{"$f":"SUMIF(Camplist_Township,NFIAnalysis!$A42,Camplist_Popl)","v":148},0,0,0,39,0,0,0,54,0,0,0,54]
["Mohnyin",{"$f":"SUMIF(Camplist_Township,NFIAnalysis!$A43,Camplist_HH)","v":54},{"$f":"SUMIF(Camplist_Township,NFIAnalysis!$A43,Camplist_Popl)","v":240},0,0,0,54,0,0,0,4787,8435,0,0,0]
["Momauk",{"$f":"SUMIF(Camplist_Township,NFIAnalysis!$A44,Camplist_HH)","v":4787},{"$f":"SUMIF(Camplist_Township,NFIAnalysis!$A44,Camplist_Popl)","v":22185},3040,0,0,1747,0,0,0,182,60,0,0,122]
["Muse",{"$f":"SUMIF(Camplist_Township,NFIAnalysis!$A45,Camplist_HH)","v":182},{"$f":"SUMIF(Camplist_Township,NFIAnalysis!$A45,Camplist_Popl)","v":789},0,0,0,182,0,0,0,1423,639,0,0,784]
["Myitkyina",{"$f":"SUMIF(Camplist_Township,NFIAnalysis!$A46,Camplist_HH)","v":1423},{"$f":"SUMIF(Camplist_Township,NFIAnalysis!$A46,Camplist_Popl)","v":6631},991,0,0,432,0,0,0,385,704,0,0,0]
["Namhkan",{"$f":"SUMIF(Camplist_Township,NFIAnalysis!$A47,Camplist_HH)","v":385},{"$f":"SUMIF(Camplist_Township,NFIAnalysis!$A47,Camplist_Popl)","v":1165},0,0,0,385,0,0,0,138,90,0,0,48]
["Namtu",{"$f":"SUMIF(Camplist_Township,NFIAnalysis!$A48,Camplist_HH)","v":138},{"$f":"SUMIF(Camplist_Township,NFIAnalysis!$A48,Camplist_Popl)","v":586},0,0,0,138,0,0,0,36,0,0,0,36]
["Puta-O",{"$f":"SUMIF(Camplist_Township,NFIAnalysis!$A49,Camplist_HH)","v":36},{"$f":"SUMIF(Camplist_Township,NFIAnalysis!$A49,Camplist_Popl)","v":156},0,0,0,36,0,0,0,510,520,0,0,0]
["Shwegu",{"$f":"SUMIF(Camplist_Township,NFIAnalysis!$A50,Camplist_HH)","v":510},{"$f":"SUMIF(Camplist_Township,NFIAnalysis!$A50,Camplist_Popl)","v":2158},449,0,0,61,0,0,0,6,6,0,0,0]
["Sumprabum",{"$f":"SUMIF(Camplist_Township,NFIAnalysis!$A51,Camplist_HH)","v":6},{"$f":"SUMIF(Camplist_Township,NFIAnalysis!$A51,Camplist_Popl)","v":38},0,0,0,6,0,0,0,5249,2479,0,0,2770]
["Waingmaw",{"$f":"SUMIF(Camplist_Township,NFIAnalysis!$A52,Camplist_HH)","v":5249},{"$f":"SUMIF(Camplist_Township,NFIAnalysis!$A52,Camplist_Popl)","v":28886},2222,0,0,3027,0,0,0,{"$f":"SUM(K32:K51)","v":20214},23742,0,0,4453]
["Total",20214,96611,13702,0,0,8218,0,0,0]
[]
["State","(All)"]
[]
["Row Labels","Mosquito net ","Tarpaulin ","Blanket ","Kitchen Set ","Complementary Kit ","Plastic Bucket  ","Plastic  Mat"]
["UNHCR",15904,7909,15641,7869,5596,6931,9284]
["World Vision",0,0,2788,0,0,0,0]
["MRCS",0,682,20,774,0,0,0]
["Grand Total",15904,8591,18449,8643,5596,6931,9284]
[]
[]
[]
[]
["State","(All)"]
[]
["Row Labels","Mosquito net ","Tarpaulin ","Blanket ","Kitchen Set ","Complementary Kit ","Plastic Bucket  ","Plastic  Mat"]
["Bhamo",653,397,813,471,360,613,607]
["Chipwi",187,84,187,84,84,84,84]
["Hpakant",1722,1010,2216,1455,1409,1424,1441]
["Hseni",133,47,133,47,47,47,47]
["Kutkai",868,345,868,345,345,345,345]
["Mansi",2148,1086,1789,1115,876,110,320]
["Manton",231,101,231,101,101,101,101]
["Mogaung",0,0,0,0,0,0,0]
["Mohnyin",0,56,0,34,0,0,0]
["Momauk",5177,2574,4645,2574,505,2769,4518]
["Muse",60,30,60,30,30,30,30]
["Myitkyina",633,728,653,366,276,276,276]
["Namhkan",1137,486,1137,486,486,486,486]
["Namtu",90,45,90,45,45,45,45]
["Shwegu",0,0,0,0,0,0,0]
["Sumprabum",0,0,0,6,0,0,0]
["Waingmaw",2865,1602,5627,1484,1032,601,984]
["(blank)",0,0,0,0,0,0,0]
["Grand Total",15904,8591,18449,8643,5596,6931,9284]

{"sheet":"NFISummary","index":15,"n_rows":55,"n_cols":16,"rows_kept":55,"cut":false,"hidden":false,"merged":[[1,0,1,7],[2,0,2,7]]}
[null,null,null,null,null,null,null,null,null,null,null,null,null,null,null,1]
["Kachin NFI Coverage & Gaps"]
[{"$f":"Report_Date","v":"2014-01-01"}]
[null,"Rakhine",{"$f":"NFIAnalysis!#REF!","v":{"$error":"#REF!"}},null,null,null,null,null,null,null,null,null,null,null,null,0]
[null,"Main Kits","Quantity/HH","Requirement","Distributed","Distributed","In Stock","In Stock","Requirement","Requirement","Pipeline","Pipeline","Remaining Need","Remaining Need",null,1]
[null,"Hygiene Kit",{"$f":"VLOOKUP($B6,NFI,6,0)","v":1},{"$f":"$C$4*C6","v":{"$error":"#REF!"}},{"$f":"SUMIFS(INDIRECT(VLOOKUP($B6,NFI,2,0)),NFI_State,$B$4)","v":0},{"$f":"IF((E6/D6)>100%,100%,(E6/D6))","v":{"$error":"#REF!"}},{"$f":"SUMIFS(INDIRECT(VLOOKUP($B6,NFI,3,0)),NFI_Pipeline_State,$B$4)","v":0},{"$f":"G6/D6","v":{"$error":"#REF!"}},{"$f":"IF((D6-(SUM(E6:G6)))<0,0,(D6-(SUM(E6:G6))))","v":{"$error":"#REF!"}},{"$f":"I6/D6","v":{"$error":"#REF!"}},{"$f":"SUMIFS(INDIRECT(VLOOKUP($B6,NFI,4,0)),NFI_Pipeline_State,$B$4)","v":0},{"$f":"K6/D6","v":{"$error":"#REF!"}},{"$f":"IF((D6-(E6+G6+K6))<0,0,(D6-(E6+G6+K6)))","v":{"$error":"#REF!"}},{"$f":"M6/D6","v":{"$error":"#REF!"}},null,1]
[null,"NFI Core Kit",{"$f":"VLOOKUP($B7,NFI,6,0)","v":1},{"$f":"$C$4*C7","v":{"$error":"#REF!"}},{"$f":"SUMIFS(INDIRECT(VLOOKUP($B7,NFI,2,0)),NFI_State,$B$4)","v":0},{"$f":"IF((E7/D7)>100%,100%,(E7/D7))","v":{"$error":"#REF!"}},{"$f":"SUMIFS(INDIRECT(VLOOKUP($B7,NFI,3,0)),NFI_Pipeline_State,$B$4)","v":0},{"$f":"G7/D7","v":{"$error":"#REF!"}},{"$f":"IF((D7-(SUM(E7:G7)))<0,0,(D7-(SUM(E7:G7))))","v":{"$error":"#REF!"}},{"$f":"I7/D7","v":{"$error":"#REF!"}},{"$f":"SUMIFS(INDIRECT(VLOOKUP($B7,NFI,4,0)),NFI_Pipeline_State,$B$4)","v":0},{"$f":"K7/D7","v":{"$error":"#REF!"}},{"$f":"IF((D7-(E7+G7+K7))<0,0,(D7-(E7+G7+K7)))","v":{"$error":"#REF!"}},{"$f":"M7/D7","v":{"$error":"#REF!"}},null,1]
[null,"Sanitary Kit",{"$f":"VLOOKUP($B8,NFI,6,0)","v":1},{"$f":"$C$4*C8","v":{"$error":"#REF!"}},{"$f":"SUMIFS(INDIRECT(VLOOKUP($B8,NFI,2,0)),NFI_State,$B$4)","v":0},{"$f":"IF((E8/D8)>100%,100%,(E8/D8))","v":{"$error":"#REF!"}},{"$f":"SUMIFS(INDIRECT(VLOOKUP($B8,NFI,3,0)),NFI_Pipeline_State,$B$4)","v":0},{"$f":"G8/D8","v":{"$error":"#REF!"}},{"$f":"IF((D8-(SUM(E8:G8)))<0,0,(D8-(SUM(E8:G8))))","v":{"$error":"#REF!"}},{"$f":"I8/D8","v":{"$error":"#REF!"}},{"$f":"SUMIFS(INDIRECT(VLOOKUP($B8,NFI,4,0)),NFI_Pipeline_State,$B$4)","v":0},{"$f":"K8/D8","v":{"$error":"#REF!"}},{"$f":"IF((D8-(E8+G8+K8))<0,0,(D8-(E8+G8+K8)))","v":{"$error":"#REF!"}},{"$f":"M8/D8","v":{"$error":"#REF!"}},null,1]
[null,null,null,null,null,null,null,null,null,null,null,null,null,null,null,1]
[null,null,null,null,null,null,null,null,null,null,null,null,null,null,null,1]
[null,"Items (Direct and throug Kits)","Quantity/HH","Requirement","Distributed","Distributed","In Stock","In Stock","Requirement","Requirement","Pipeline","Pipeline","Remaining Need","Remaining Need",null,1]
[null,"Mosquitoe net",{"$f":"VLOOKUP($B12,NFI,6,0)","v":{"$error":"#N/A"}},{"$f":"$C$4*C12","v":{"$error":"#REF!"}},{"$f":"SUMIFS(INDIRECT(VLOOKUP($B12,NFI,2,0)),NFI_State,$B$4)+C12*E$7","v":{"$error":"#N/A"}},{"$f":"IF((E12/D12)>100%,100%,(E12/D12))","v":{"$error":"#N/A"}},{"$f":"SUMIFS(INDIRECT(VLOOKUP($B12,NFI,3,0)),NFI_Pipeline_State,$B$4)+C12*G$7","v":{"$error":"#N/A"}},{"$f":"G12/D12","v":{"$error":"#N/A"}},{"$f":"IF((D12-(SUM(E12:G12)))<0,0,(D12-(SUM(E12:G12))))","v":{"$error":"#REF!"}},{"$f":"I12/D12","v":{"$error":"#REF!"}},{"$f":"SUMIFS(INDIRECT(VLOOKUP($B12,NFI,4,0)),NFI_Pipeline_State,$B$4)++C12*K$7","v":{"$error":"#N/A"}},{"$f":"K12/D12","v":{"$error":"#N/A"}},{"$f":"IF((D12-(E12+G12+K12))<0,0,(D12-(E12+G12+K12)))","v":{"$error":"#REF!"}},{"$f":"M12/D12","v":{"$error":"#REF!"}},null,1]
[null,"Tarpaulin",1,{"$f":"$C$4*C13","v":{"$error":"#REF!"}},{"$f":"SUMIFS(INDIRECT(VLOOKUP($B13,NFI,2,0)),NFI_State,$B$4)+C13*E$7","v":0},{"$error":"#REF!"},0,{"$error":"#REF!"},{"$error":"#REF!"},{"$error":"#REF!"},0,{"$error":"#REF!"},{"$error":"#REF!"},{"$error":"#REF!"},null,1]
[null,"Blanket",2,{"$f":"$C$4*C14","v":{"$error":"#REF!"}},{"$f":"SUMIFS(INDIRECT(VLOOKUP($B14,NFI,2,0)),NFI_State,$B$4)+C14*E$7","v":0},{"$error":"#REF!"},0,{"$error":"#REF!"},{"$error":"#REF!"},{"$error":"#REF!"},0,{"$error":"#REF!"},{"$error":"#REF!"},{"$error":"#REF!"}]
[null,"Kitchen Set",1,{"$f":"$C$4*C15","v":{"$error":"#REF!"}},{"$f":"SUMIFS(INDIRECT(VLOOKUP($B15,NFI,2,0)),NFI_State,$B$4)+C15*E$7","v":0},{"$error":"#REF!"},0,{"$error":"#REF!"},{"$error":"#REF!"},{"$error":"#REF!"},0,{"$error":"#REF!"},{"$error":"#REF!"},{"$error":"#REF!"}]
[null,"Complementary Kit",1,{"$f":"$C$4*C16","v":{"$error":"#REF!"}},{"$f":"SUMIFS(INDIRECT(VLOOKUP($B16,NFI,2,0)),NFI_State,$B$4)","v":0},{"$error":"#REF!"},0,{"$error":"#REF!"},{"$error":"#REF!"},{"$error":"#REF!"},0,{"$error":"#REF!"},{"$error":"#REF!"},{"$error":"#REF!"}]
[null,"Plastic Bucket",1,{"$f":"$C$4*C17","v":{"$error":"#REF!"}},{"$f":"SUMIFS(INDIRECT(VLOOKUP($B17,NFI,2,0)),NFI_State,$B$4)","v":0},{"$error":"#REF!"},0,{"$error":"#REF!"},{"$error":"#REF!"},{"$error":"#REF!"},0,{"$error":"#REF!"},{"$error":"#REF!"},{"$error":"#REF!"}]
[null,"Plastic Mat",2,{"$error":"#REF!"},{"$f":"SUMIFS(INDIRECT(VLOOKUP($B18,NFI,2,0)),NFI_State,$B$4)","v":0},{"$error":"#REF!"},0,{"$error":"#REF!"},{"$error":"#REF!"},{"$error":"#REF!"},0,{"$error":"#REF!"},{"$error":"#REF!"},{"$error":"#REF!"}]
[]
[]
[]
[]
[]
[]
[]
[]
[]
[]
[]
[]
[]
[]
[]
[]
[]
[]
[]
[]
[null,"Kachin",{"$f":"NFIAnalysis!B29","v":18368}]
[null,"Main Kits","Quantity/HH","Requirement","Distributed","Distributed","In Stock","In Stock","Requirement","Requirement","Pipeline","Pipeline","Remaining Need","Remaining Need",null,1]
[null,"Hygiene Kit",{"$f":"VLOOKUP($B41,NFI,6,0)","v":1},{"$f":"$C$39*C41","v":18368},{"$f":"SUMIFS(INDIRECT(VLOOKUP($B41,NFI,2,0)),NFI_State,\"Kachin\") +SUMIFS(INDIRECT(VLOOKUP($B41,NFI,2,0)),NFI_State,\"Shan (North)\")","v":13702},{"$f":"IF((E41/D41)>100%,100%,(E41/D41))","v":0.74597125435540068},{"$f":"SUMIFS(INDIRECT(VLOOKUP($B41,NFI,3,0)),NFI_Pipeline_State,$B$39)","v":0},{"$f":"G41/D41","v":0},{"$f":"IF((D41-(SUM(E41:G41)))<0,0,(D41-(SUM(E41:G41))))","v":4665.254028745645},{"$f":"I41/D41","v":0.2539881330980861},{"$f":"SUMIFS(INDIRECT(VLOOKUP($B41,NFI,4,0)),NFI_Pipeline_State,$B$39)","v":0},{"$f":"K41/D41","v":0},{"$f":"IF((D41-(E41+G41+K41))<0,0,(D41-(E41+G41+K41)))","v":4666},{"$f":"M41/D41","v":0.25402874564459932},null,1]
[null,"NFI Core Kit",{"$f":"VLOOKUP($B42,NFI,6,0)","v":1},{"$f":"$C$39*C42","v":18368},{"$f":"SUMIFS(INDIRECT(VLOOKUP($B42,NFI,2,0)),NFI_State,\"Kachin\") +SUMIFS(INDIRECT(VLOOKUP($B42,NFI,2,0)),NFI_State,\"Shan (North)\")","v":0},{"$f":"IF((E42/D42)>100%,100%,(E42/D42))","v":0},{"$f":"SUMIFS(INDIRECT(VLOOKUP($B42,NFI,3,0)),NFI_Pipeline_State,$B$39)","v":0},{"$f":"G42/D42","v":0},{"$f":"IF((D42-(SUM(E42:G42)))<0,0,(D42-(SUM(E42:G42))))","v":18368},{"$f":"I42/D42","v":1},{"$f":"SUMIFS(INDIRECT(VLOOKUP($B42,NFI,4,0)),NFI_Pipeline_State,$B$39)","v":0},{"$f":"K42/D42","v":0},{"$f":"IF((D42-(E42+G42+K42))<0,0,(D42-(E42+G42+K42)))","v":18368},{"$f":"M42/D42","v":1},null,1]
[null,"Sanitary Kit",{"$f":"VLOOKUP($B43,NFI,6,0)","v":1},{"$f":"$C$39*C43","v":18368},{"$f":"SUMIFS(INDIRECT(VLOOKUP($B43,NFI,2,0)),NFI_State,\"Kachin\") +SUMIFS(INDIRECT(VLOOKUP($B43,NFI,2,0)),NFI_State,\"Shan (North)\")","v":22023},{"$f":"IF((E43/D43)>100%,100%,(E43/D43))","v":1},{"$f":"SUMIFS(INDIRECT(VLOOKUP($B43,NFI,3,0)),NFI_Pipeline_State,$B$39)","v":0},{"$f":"G43/D43","v":0},{"$f":"IF((D43-(SUM(E43:G43)))<0,0,(D43-(SUM(E43:G43))))","v":0},{"$f":"I43/D43","v":0},{"$f":"SUMIFS(INDIRECT(VLOOKUP($B43,NFI,4,0)),NFI_Pipeline_State,$B$39)","v":0},{"$f":"K43/D43","v":0},{"$f":"IF((D43-(E43+G43+K43))<0,0,(D43-(E43+G43+K43)))","v":0},{"$f":"M43/D43","v":0},null,1]
[null,null,null,null,null,null,null,null,null,null,null,null,null,null,null,1]
[null,null,null,null,null,null,null,null,null,null,null,null,null,null,null,1]
[null,null,null,null,null,null,null,null,null,null,null,null,null,null,null,1]
[null,null,null,null,null,null,null,null,null,null,null,null,null,null,null,1]
[null,"Items (Direct and through Kits)","Quantity/HH","# Requirement","# Distributed","% Distributed","# In Stock","% In Stock","# Requirement","% Requirement","# Pipeline","% Pipeline","# Remaining Need","% Remaining Need",null,1]
[null,"Mosquito net",{"$f":"VLOOKUP($B49,NFI,6,0)","v":2},{"$f":"$C$39*C49","v":36736},{"$f":"SUMIFS(INDIRECT(VLOOKUP($B49,NFI,2,0)),NFI_State,\"Kachin\") +SUMIFS(INDIRECT(VLOOKUP($B49,NFI,2,0)),NFI_State,\"Shan_North\")","v":15904},{"$f":"IF((E49/D49)>100%,100%,(E49/D49))","v":0.43292682926829268},{"$f":"SUMIFS(INDIRECT(VLOOKUP($B49,NFI,3,0)),NFI_Pipeline_State,$B$39)","v":6166},{"$f":"G49/D49","v":0.16784625435540071},{"$f":"IF((D49-(SUM(E49:G49)))<0,0,(D49-(SUM(E49:G49))))","v":14665.567073170732},{"$f":"I49/D49","v":0.39921513156496985},{"$f":"SUMIFS(INDIRECT(VLOOKUP($B49,NFI,4,0)),NFI_Pipeline_State,$B$39)","v":0},{"$f":"K49/D49","v":0},{"$f":"IF((D49-(E49+G49+K49))<0,0,(D49-(E49+G49+K49)))","v":14666},{"$f":"M49/D49","v":0.39922691637630664}]
[null,"Tarpaulin",1,18368,8591,0.46771559233449478,1913,0.10414851916376307,7863.5322844076654,0.42811042489153228,0,0,7864,0.42813588850174217]
[null,"Blanket",2,36736,18449,0.5022049216027874,6123,0.16667574041811847,12163.497795078398,0.33110566733118463,0,0,12164,0.3311193379790941]
[null,"Kitchen Set",1,18368,8643,0.47054660278745647,1417,7.7145034843205576E-2,8307.5294533972119,0.45228274463181684,0,0,8308,0.45230836236933797]
[null,"Complementary Kit",1,18368,5596,0.30466027874564461,4798,0.26121515679442509,7973.6953397212546,0.43410797799005091,0,0,7974,0.43412456445993031]
[null,"Plastic Bucket",1,18368,6931,0.37734102787456447,2007,0.10926611498257839,9429.6226589721264,0.51337231375066017,0,0,9430,0.5133928571428571]
[null,"Plastic Mat",2,36736,9284,0.25272212543554007,4798,0.13060757839721254,22653.747277874565,0.61666341675398972,0,0,22654,0.61667029616724733]

{"sheet":"analysis","index":16,"n_rows":7,"n_cols":20,"rows_kept":7,"cut":false,"hidden":true,"merged":[]}
["Rakhine",null,null,null,null,null,null,null,null,null,null,"Kachin"]
["Org","Hygiene Family Kit","NFI Core Kit","Women's Sanitary Kit","Mosquito Nets","Tarpaulins",null,"Blanket","Kitchen Set","Complementary Kit",null,"Org","Hygiene Family Kit","NFI Core Kit","Women's Sanitary Kit","Mosquito Net","Tarpaulin","Blanket","Kitchen Set","Complementary Kit"]
["DRC",{"$f":"SUMIFS(NFI_Hygiene_Track,NFI_Org,A3,NFI_State,\"Rakhine\")","v":0},{"$f":"SUMIFS(NFI_Core_Track,NFI_Org,A3,NFI_State,\"Rakhine\")","v":0},{"$f":"SUMIFS(NFI_Sanitary_Track,NFI_Org,A3,NFI_State,\"Rakhine\")","v":0},{"$f":"SUMIFS(NFI_Mosquito_Track,NFI_Org,A3,NFI_State,\"Rakhine\")","v":0},{"$f":"SUMIFS(NFI_Tarpaulin_Track,NFI_Org,A3,NFI_State,\"Rakhine\")","v":0},null,{"$f":"SUMIFS(NFI_Blanket_Track,NFI_Org,A3,NFI_State,\"Rakhine\")","v":0},{"$f":"SUMIFS(NFI_Kitchen_Track,NFI_Org,A3,NFI_State,\"Rakhine\")","v":0},{"$f":"SUMIFS(NFI_Complementary_Track,NFI_Org,A3,NFI_State,\"Rakhine\")","v":0},null,"UNHCR",{"$f":"SUMIFS(NFI_Hygiene_Track,NFI_Org,L3,NFI_State,\"Kachin\")","v":0},{"$f":"SUMIFS(NFI_Core_Track,NFI_Org,L3,NFI_State,\"Kachin\")","v":0},{"$f":"SUMIFS(NFI_Sanitary_Track,NFI_Org,L3,NFI_State,\"Kachin\")","v":10557},{"$f":"SUMIFS(NFI_Mosquito_Track,NFI_Org,L3,NFI_State,\"Kachin\")","v":13385},{"$f":"SUMIFS(NFI_Tarpaulin_Track,NFI_Org,L3,NFI_State,\"Kachin\")","v":6855},{"$f":"SUMIFS(NFI_Blanket_Track,NFI_Org,L3,NFI_State,\"Kachin\")","v":13122},{"$f":"SUMIFS(NFI_Kitchen_Track,NFI_Org,L3,NFI_State,\"Kachin\")","v":6815},{"$f":"SUMIFS(NFI_Complementary_Track,NFI_Org,L3,NFI_State,\"Kachin\")","v":4542}]
["KOICAT",{"$f":"SUMIFS(NFI_Hygiene_Track,NFI_Org,A4,NFI_State,\"Rakhine\")","v":0},{"$f":"SUMIFS(NFI_Core_Track,NFI_Org,A4,NFI_State,\"Rakhine\")","v":0},{"$f":"SUMIFS(NFI_Sanitary_Track,NFI_Org,A4,NFI_State,\"Rakhine\")","v":0},{"$f":"SUMIFS(NFI_Mosquito_Track,NFI_Org,A4,NFI_State,\"Rakhine\")","v":0},{"$f":"SUMIFS(NFI_Tarpaulin_Track,NFI_Org,A4,NFI_State,\"Rakhine\")","v":0},null,{"$f":"SUMIFS(NFI_Blanket_Track,NFI_Org,A4,NFI_State,\"Rakhine\")","v":0},{"$f":"SUMIFS(NFI_Kitchen_Track,NFI_Org,A4,NFI_State,\"Rakhine\")","v":0},{"$f":"SUMIFS(NFI_Complementary_Track,NFI_Org,A4,NFI_State,\"Rakhine\")","v":0}]
["UNHCR",{"$f":"SUMIFS(NFI_Hygiene_Track,NFI_Org,A5,NFI_State,\"Rakhine\")","v":0},{"$f":"SUMIFS(NFI_Core_Track,NFI_Org,A5,NFI_State,\"Rakhine\")","v":0},{"$f":"SUMIFS(NFI_Sanitary_Track,NFI_Org,A5,NFI_State,\"Rakhine\")","v":0},{"$f":"SUMIFS(NFI_Mosquito_Track,NFI_Org,A5,NFI_State,\"Rakhine\")","v":0},{"$f":"SUMIFS(NFI_Tarpaulin_Track,NFI_Org,A5,NFI_State,\"Rakhine\")","v":0},null,{"$f":"SUMIFS(NFI_Blanket_Track,NFI_Org,A5,NFI_State,\"Rakhine\")","v":0},{"$f":"SUMIFS(NFI_Kitchen_Track,NFI_Org,A5,NFI_State,\"Rakhine\")","v":0},{"$f":"SUMIFS(NFI_Complementary_Track,NFI_Org,A5,NFI_State,\"Rakhine\")","v":0}]
["Muslim Aid",{"$f":"SUMIFS(NFI_Hygiene_Track,NFI_Org,A6,NFI_State,\"Rakhine\")","v":0},{"$f":"SUMIFS(NFI_Core_Track,NFI_Org,A6,NFI_State,\"Rakhine\")","v":0},{"$f":"SUMIFS(NFI_Sanitary_Track,NFI_Org,A6,NFI_State,\"Rakhine\")","v":0},{"$f":"SUMIFS(NFI_Mosquito_Track,NFI_Org,A6,NFI_State,\"Rakhine\")","v":0},{"$f":"SUMIFS(NFI_Tarpaulin_Track,NFI_Org,A6,NFI_State,\"Rakhine\")","v":0},null,{"$f":"SUMIFS(NFI_Blanket_Track,NFI_Org,A6,NFI_State,\"Rakhine\")","v":0},{"$f":"SUMIFS(NFI_Kitchen_Track,NFI_Org,A6,NFI_State,\"Rakhine\")","v":0},{"$f":"SUMIFS(NFI_Complementary_Track,NFI_Org,A6,NFI_State,\"Rakhine\")","v":0}]
["UNICEF",{"$f":"SUMIFS(NFI_Hygiene_Track,NFI_Org,A7,NFI_State,\"Rakhine\")","v":0},{"$f":"SUMIFS(NFI_Core_Track,NFI_Org,A7,NFI_State,\"Rakhine\")","v":0},{"$f":"SUMIFS(NFI_Sanitary_Track,NFI_Org,A7,NFI_State,\"Rakhine\")","v":0},{"$f":"SUMIFS(NFI_Mosquito_Track,NFI_Org,A7,NFI_State,\"Rakhine\")","v":0},{"$f":"SUMIFS(NFI_Tarpaulin_Track,NFI_Org,A7,NFI_State,\"Rakhine\")","v":0},null,{"$f":"SUMIFS(NFI_Blanket_Track,NFI_Org,A7,NFI_State,\"Rakhine\")","v":0},{"$f":"SUMIFS(NFI_Kitchen_Track,NFI_Org,A7,NFI_State,\"Rakhine\")","v":0},{"$f":"SUMIFS(NFI_Complementary_Track,NFI_Org,A7,NFI_State,\"Rakhine\")","v":0}]

{"sheet":"list","index":17,"n_rows":17,"n_cols":6,"rows_kept":17,"cut":false,"hidden":true,"merged":[]}
["State","Kachin","Shan (North)",null,"Type of Accomodation","Camp_Acessibility"]
["Kachin","Bhamo","Kutkai",null,"Collective Center","Accessible by All"]
["Rakhine","China","Manton",null,"Individual (non hosted)","Accessibility Restricted"]
["Shan_North","Chipwi","Muse",null,"Planned Camp","Not Accessible"]
[null,"Hpakant","Namhkan",null,"Privately Hosted"]
[null,"Injangyang","Namtu",null,"Self Settled Camp"]
[null,"Khaunglanhpu","Hseni"]
[null,"Mansi"]
[null,"Mogaung"]
[null,"Mohnyin"]
[null,"Momauk"]
[null,"Mong Kar"]
[null,"Myitkyina"]
[null,"Puta-O"]
[null,"Shwegu"]
[null,"Waingmaw"]
[null,"Sumprabum"]

{"sheet":"camp","index":18,"n_rows":309,"n_cols":7,"rows_kept":309,"cut":false,"hidden":true,"merged":[]}
["State_Region","Township","TS_Pcode","Camp_Name","Camp_Pcode","Longitude","Latitude"]
["Kachin","Bhamo",null,"AD-2000 Tharthana Compound","MMR001CMP050",97.238829999999993,24.260719999999999]
["Kachin","Bhamo",null,"Kannar Yeik Thar","MMR001CMP194"]
["Kachin","Bhamo",null,"Daw Hpum Yang Ninghtawn","MMR001CMP153"]
["Kachin","Bhamo",null,"Host Families","MMR001CMP163"]
["Kachin","Bhamo",null,"Htoi San Church","MMR001CMP052",97.236919999999998,24.24766]
["Kachin","Bhamo",null,"Kannar Yeik Thar","MMR001CMP048"]
["Kachin","Bhamo",null,"Lisu Boarding-House","MMR001CMP049",97.241630000000001,24.266110000000001]
["Kachin","Bhamo",null,"Mu-yin Baptist Church","MMR001CMP051"]
["Kachin","Bhamo",null,"Nant Hlaing Church","MMR001CMP054",97.315860000000001,24.32638]
["Kachin","Bhamo",null,"Phan Khar Kone","MMR001CMP193"]
["Kachin","Bhamo",null,"Robert Church","MMR001CMP047",97.228769999999997,24.26502]
["Kachin","Bhamo",null,"Ta Gun Taing Monastery (Shwe Kyi Na)","MMR001CMP055",97.227789999999999,24.29138]
["Kachin","Bhamo",null,"Yoe Kyi Monastery","MMR001CMP053",97.240639999999999,24.24953]
["Kachin","China",null,"Chong Shang Pa","CHN001CMP017"]
["Kachin","China",null,"Da Bang Chi","CHN001CMP015"]
["Kachin","China",null,"Dingga  - Nga Nawng Pa","CHN001CMP005",97.601944000000003,23.947222]
["Kachin","China",null,"Hka Dawng Pa ","CHN001CMP006",97.528892999999997,23.930278999999999]
["Kachin","China",null,"Hpare  ","CHN001CMP012",98.475538999999998,25.751728]
["Kachin","China",null,"Hpare   (Lisu Mare)","CHN001CMP014",98.441765000000004,25.634277999999998]
["Kachin","China",null,"Jan Shi","CHN001CMP013"]
["Kachin","China",null,"La Ying","CHN001CMP001",97.742413999999997,24.205617]
["Kachin","China",null,"Lahta Masat shadaw (6)","CHN001CMP011",98.444547999999998,25.68412]
["Kachin","China",null,"Lau Shang","CHN001CMP018"]
["Kachin","China",null,"Lauhpai ","CHN001CMP004",97.631943000000007,23.90361]
["Kachin","China",null,"Lung Kawk ","CHN001CMP007",97.587219000000005,23.909165999999999]
["Kachin","China",null,"Man Hai ","CHN001CMP009"]
["Kachin","China",null,"Na Kawng  ","CHN001CMP002",97.570273999999998,23.977222000000001]
["Kachin","China",null,"Pang Wa Ten Htan","CHN001CMP010",97.792427000000004,25.161771000000002]
["Kachin","China",null,"Quen Hau Hti","CHN001CMP016"]
["Kachin","China",null,"Shinggan  (Nawng Tau)","CHN001CMP008",97.620002999999997,23.899721]
["Kachin","China",null,"Yang Lu  ","CHN001CMP003",97.624724999999998,23.888331999999998]
["Kachin","Chipwi",null,"Chipwi KBC camp","MMR001CMP042"]
["Kachin","Chipwi",null,"Gant Gwin","MMR001CMP046"]
["Kachin","Chipwi",null,"Hpare Hkyer - BP6","MMR001CMP043"]
["Kachin","Chipwi",null,"Lan Jaw ","MMR001CMP045",98.354146999999998,25.708763000000001]
["Kachin","Chipwi",null,"Lhaovao Baptist Church (LBC)","MMR001CMP195"]
["Kachin","Chipwi",null,"Women's Affairs Association Building","MMR001CMP044"]
["Kachin","Hpakan",null,"1 Ward, Sein Yadanar Company(Lon Khin)","MMR001CMP171",96.359549999999999,25.658650000000002]
["Kachin","Hpakan",null,"5 Ward Baptist Church(lon Khin)","MMR001CMP179",96.355270000000004,25.656130000000001]
["Kachin","Hpakan",null,"5 Ward RC Church(lon Khin)","MMR001CMP168",96.353070000000002,25.655819999999999]
["Kachin","Hpakan",null,"AG Church, Hmaw Si Sa","MMR001CMP176",96.345569999999995,25.635300000000001]
["Kachin","Hpakan",null,"AG Church, Maw Wan","MMR001CMP190"]
["Kachin","Hpakan",null,"Anglican Church, Hmaw Si Sar","MMR001CMP173"]
["Kachin","Hpakan",null,"Association of Christ, Nam Ma Phyit","MMR001CMP192"]
["Kachin","Hpakan",null,"Away Yar Rama Monastery, Ka Day village","MMR001CMP170",96.339870000000005,25.655989999999999]
["Kachin","Hpakan",null,"Aye Mya Tharyar Church of Christ ","MMR001CMP092"]
["Kachin","Hpakan",null,"Baptist Church, Hmaw Si Sar(Lon Khin)","MMR001CMP169",96.346469999999997,25.647649999999999]
["Kachin","Hpakan",null,"Baptist Church, Naung Hmee VT","MMR001CMP188"]
["Kachin","Hpakan",null,"Baptist Church, Sai Ra village","MMR001CMP172"]
["Kachin","Hpakan",null,"Chin Church, Seik Mu","MMR001CMP109"]
["Kachin","Hpakan",null,"Chin(Zomi) Baptist Church","MMR001CMP086"]
["Kachin","Hpakan",null,"Dhama Rakhita, Nyein Chan Tar Yar Ward(Lon Khin)","MMR001CMP174",96.354929999999996,25.643090000000001]
["Kachin","Hpakan",null,"Ei Wan Gali Asso., Ward 1, Seik Mu","MMR001CMP180"]
["Kachin","Hpakan",null,"Free Christian Asso., Ward 1, Seik Mu","MMR001CMP186"]
["Kachin","Hpakan",null,"Hlaing Naung Baptist","MMR001CMP148",96.705960000000005,25.51352]
["Kachin","Hpakan",null,"Hmaw Wan, Anglican","MMR001CMP191"]
["Kachin","Hpakan",null,"Hmaw Wan, Baptist Christian Church","MMR001CMP189"]
["Kachin","Hpakan",null,"Lisu Baptist Church, Maw Shan Vil,. Seik Mu","MMR001CMP181"]
["Kachin","Hpakan",null,"Lisu Baptist Church, Maw Wan Ward","MMR001CMP167",96.316400000000002,25.61842]
["Kachin","Hpakan",null,"Ma Mon Buddhist Monastery","MMR001CMP107"]
["Kachin","Hpakan",null,"Mashi Kahtawng Baptist  Church","MMR001CMP094"]
["Kachin","Hpakan",null,"Mashi Kahtawng Catholic Church","MMR001CMP093"]
["Kachin","Hpakan",null,"Mashi Kahtawng Evangelical Church","MMR001CMP096"]
["Kachin","Hpakan",null,"Mashi Kahtawng Municipal Dammar Yone","MMR001CMP098"]
["Kachin","Hpakan",null,"Mashi Kahtawng Myo Oo Taw Ya Monestry","MMR001CMP099"]
["Kachin","Hpakan",null,"Mashi Kahtawng Rakhine traditional group","MMR001CMP095"]
["Kachin","Hpakan",null,"Mashi Kahtawng Shan Traditional Monestry","MMR001CMP100"]
["Kachin","Hpakan",null,"Mashi Kahtawng Yaung Chi Oo Thi la shin Monestry","MMR001CMP097"]
["Kachin","Hpakan",null,"Maw Si Zar, Thiriyardanar Sein, Damma Compound, Lone Khin","MMR001CMP106",96.343350000000001,25.6447]
["Kachin","Hpakan",null,"Maw Wan, Catholic Church","MMR001CMP090"]
["Kachin","Hpakan",null,"Maw Wan, Kachin Baptist Church","MMR001CMP085"]
["Kachin","Hpakan",null,"Maw Wan, Kyauk Hlaing Gu Pagoda Compound","MMR001CMP084"]
["Kachin","Hpakan",null,"Maw Wan, Mu-yin Baptist Church","MMR001CMP091"]
["Kachin","Hpakan",null,"Maw Wan, Myo Oo Pagoda","MMR001CMP088"]
["Kachin","Hpakan",null,"May Di Ka Rama Monastery(Lon Khin)","MMR001CMP178",96.359309999999994,25.651440000000001]
["Kachin","Hpakan",null,"Muring Baptist Church, Awng Ra, Wa Ra Zut VT","MMR001CMP177",96.354159999999993,25.658670000000001]
["Kachin","Hpakan",null,"Nant Ma Hpit Catholic Church","MMR001CMP103"]
["Kachin","Hpakan",null,"Nga Pyaw Taw Baptist Nursery School ","MMR001CMP082",96.312790000000007,25.611160000000002]
["Kachin","Hpakan",null,"Nga Pyaw Taw Roman Catholic Church","MMR001CMP083",96.31326,25.611899999999999]
["Kachin","Hpakan",null,"Parami, Charity Office, MyoMa Quarter","MMR001CMP102"]
["Kachin","Hpakan",null,"Rawan Baptist Church, Maw Shan Vil., Seik Mu","MMR001CMP182",96.279200000000003,25.56551]
["Kachin","Hpakan",null,"Sa Baw Sarsana Parla Monastery","MMR001CMP108"]
["Kachin","Hpakan",null,"Sai Nai Baptish Church, Maw Shan Vil., Seki Mu","MMR001CMP183",96.353030000000004,25.668399999999998]
["Kachin","Hpakan",null,"San Kyel, Masoe Yein Monestry","MMR001CMP104"]
["Kachin","Hpakan",null,"Tar Ma Hkan Buddhist Monastery, Haung Par","MMR001CMP110"]
["Kachin","Hpakan",null,"Thiri Mingalar Manizay Yone, Myoma Quarter","MMR001CMP101"]
["Kachin","Hpakan",null,"Ward 2 Cahotlic Church, Seik Mu","MMR001CMP185",96.288250000000005,25.57921]
["Kachin","Hpakan",null,"Ward 2 Sai Taung Baptist Church, Seik Mu ","MMR001CMP184",96.286680000000004,25.577559999999998]
["Kachin","Hpakan",null,"Wrad(5) Christian Association","MMR001CMP175"]
["Kachin","Hpakan",null,"Yumar Baptist Church","MMR001CMP105"]
["Kachin","Injangyang",null,"Lawk Hkawng Ginwang","MMR001CMP146"]
["Kachin","Khaunglanhpu",null,"La Ja","MMR001CMP074"]
["Kachin","Kutkai",null,"Kone Khem Camp","MMR015CMP015"]
["Kachin","Kutkai",null,"Kutkai downtown (KBC Church)","MMR015CMP016"]
["Kachin","Kutkai",null,"Kutkai downtown (RC Church)","MMR015CMP017"]
["Kachin","Kutkai",null,"Mine Yu Lay village","MMR015CMP018"]
["Kachin","Kutkai",null,"Mungji Pa Dabang (Baptist Church)         ","MMR015CMP006"]
["Kachin","Kutkai",null,"Mungji Pa Dabang (RC Church)         ","MMR015CMP019"]
["Kachin","Kutkai",null,"Nam Hpak Ka Mare ","MMR015CMP007"]
["Kachin","Kutkai",null,"Zup Aung Camp","MMR015CMP020"]
["Kachin","Mansi",null,"Host Families","MMR001CMP196"]
["Kachin","Mansi",null,"Lung Kawk  ( Hka Hkye Zup)","MMR001CMP135",97.585667000000001,23.9055]
["Kachin","Mansi",null,"Man Wing Baptist Church","MMR001CMP133"]
["Kachin","Mansi",null,"Man Wing Catholic Church","MMR001CMP132"]
["Kachin","Mansi",null,"Man Wing Host Families","MMR001CMP134"]
["Kachin","Mansi",null,"Mansi Baptist Church","MMR001CMP066",97.291820000000001,24.129059999999999]
["Kachin","Mansi",null,"Nam Hka Mare (west of Man Wing)","MMR001CMP136"]
["Kachin","Mansi",null,"Nam Lim Pa - Scattered IDPs in forest","MMR001CMP137"]
["Kachin","Manton",null,"Mandung - Jinghpaw","MMR015CMP009"]
["Kachin","Manton",null,"Howa","MMR015CMP010"]
["Kachin","Manton",null,"Nam Hkyet","MMR015CMP011"]
["Kachin","Mogaung",null,"Kyun Taw Baptist Church ","MMR001CMP078",96.922619999999995,25.305669999999999]
["Kachin","Mogaung",null,"Mang Hawng Baptist Church","MMR001CMP077",96.942279999999997,25.296579999999999]
["Kachin","Mogaung",null,"Nat Gyi Kone Baptist Church ","MMR001CMP079",96.948740000000001,25.30442]
["Kachin","Mohnyin",null,"Nant Mun","MMR001CMP081",96.364949999999993,24.998349999999999]
["Kachin","Mohnyin",null,"Nawng Ing (Indawgyi) Baptist Church  ","MMR001CMP152"]
["Kachin","Mohnyin",null,"St. Patrick Catholic Church ","MMR001CMP080",96.367059999999995,24.764800000000001]
["Kachin","Momauk",null,"Bum Tsit Pa ","MMR001CMP129",97.609832999999995,24.002433]
["Kachin","Momauk",null,"Dum Bung ","MMR001CMP123",97.537099999999995,24.461033]
["Kachin","Momauk",null,"Hpun Lum Yang ","MMR001CMP122",97.573166999999998,24.661466999999998]
["Kachin","Momauk",null,"Je Yang Hka ","MMR001CMP121",97.568282999999994,24.688167]
["Kachin","Momauk",null,"Lana Zup Ja ","MMR001CMP128",97.625617000000005,24.056132999999999]
["Kachin","Momauk",null,"Nhkawng Pa ","MMR001CMP131",97.669366999999994,24.378167000000001]
["Kachin","Momauk",null,"Pa Kahtawng ","MMR001CMP126",97.752667000000002,24.2744]
["Kachin","Momauk",null,"Host Families","MMR001CMP197"]
["Kachin","Momauk",null,"Loi Je Baptist Church","MMR001CMP071"]
["Kachin","Momauk",null,"Loi Je Catholic Church","MMR001CMP069",97.724566999999993,24.205417000000001]
["Kachin","Momauk",null,"Loi Je Lisu Camp","MMR001CMP070",97.717133000000004,24.200433]
["Kachin","Momauk",null,"Mai Khat ","MMR001CMP064"]
["Kachin","Momauk",null,"Man Bung Catholic compound","MMR001CMP062",97.325019999999995,24.245100000000001]
["Kachin","Momauk",null,"Man Nawng ","MMR001CMP063",97.321659999999994,24.41]
["Kachin","Momauk",null,"Man Ting","MMR001CMP198"]
["Kachin","Momauk",null,"Mandalay Monestry","MMR001CMP058",97.346940000000004,24.251860000000001]
["Kachin","Momauk",null,"Momauk Baptist Church","MMR001CMP056",97.344359999999995,24.250689999999999]
["Kachin","Momauk",null,"Momauk Catholic Church (St. Patrick)","MMR001CMP057",97.346950000000007,24.25177]
["Kachin","Momauk",null,"Myo Thit ","MMR001CMP061"]
["Kachin","Momauk",null,"Ni Thaw Ka Monestry","MMR001CMP059",97.347740000000002,24.253769999999999]
["Kachin","Momauk",null,"Nyaung Na Pin ","MMR001CMP072",97.724483000000006,24.205417000000001]
["Kachin","Momauk",null,"Phar Kay/Nant Waing ","MMR001CMP065",97.429860000000005,24.630859999999998]
["Kachin","Momauk",null,"Seng Ja ","MMR001CMP073"]
["Kachin","Momauk",null,"Tarli ","MMR001CMP060"]
["Kachin","Mong Kar",null,"Hka San Camp","MMR015CMP021"]
["Kachin","Muse",null,"Munekoe Pa (Giwang) - Hka San (Mung  Go  Pa ) ","MMR015CMP012"]
["Kachin","Muse",null,"Hpai Kawng Mare","MMR015CMP022",98.115809999999996,24.08738]
["Kachin","Muse",null,"Mung Baw ","MMR015CMP005"]
["Kachin","Myitkyina",null,"Du Kahtawng Qtr. 14","MMR001CMP012",97.385101000000006,25.399795999999998]
["Kachin","Myitkyina",null,"Du Kahtawng Qtr. 4","MMR001CMP010",97.383056999999994,25.395994000000002]
["Kachin","Myitkyina",null,"Du Kahtawng Qtr. 5","MMR001CMP011",97.381195000000005,25.396363999999998]
["Kachin","Myitkyina",null,"Jan Mai Kawng Baptist Church","MMR001CMP018",97.389778000000007,25.417733999999999]
["Kachin","Myitkyina",null,"Jan Mai Kawng Catholic Church","MMR001CMP019",97.373361000000003,25.403476999999999]
["Kachin","Myitkyina",null,"Kyun Pin Thar Baptist Church","MMR001CMP013",97.405120999999994,25.365891000000001]
["Kachin","Myitkyina",null,"Le Kone Bethlehem Church","MMR001CMP015",97.409317000000001,25.362189999999998]
["Kachin","Myitkyina",null,"Le Kone Ziun Baptist Church ","MMR001CMP014",97.408919999999995,25.355983999999999]
["Kachin","Myitkyina",null,"Maliyang Baptist Church","MMR001CMP016",97.411606000000006,25.360475999999998]
["Kachin","Myitkyina",null,"Man Hkring Baptist Church","MMR001CMP008",97.418694000000002,25.428910999999999]
["Kachin","Myitkyina",null,"Maw Hpawng Hka Nan Baptist Church","MMR001CMP020",97.284729999999996,25.374020000000002]
["Kachin","Myitkyina",null,"Maw Hpawng Lhaovo Baptist Church","MMR001CMP021",97.291079999999994,25.371179999999999]
["Kachin","Myitkyina",null,"Myay Myint Baptist Church","MMR001CMP017",97.376671999999999,25.387862999999999]
["Kachin","Myitkyina",null,"Nan Kway St. John Catholic Church","MMR001CMP024",97.359380000000002,25.411770000000001]
["Kachin","Myitkyina",null,"Njang Dung Baptist Church ","MMR001CMP002",97.394547000000003,25.422194000000001]
["Kachin","Myitkyina",null,"Nong Pong Camp","MMR001CMP158"]
["Kachin","Myitkyina",null,"Pa Dauk Myaing(Pa La Na)","MMR001CMP162"]
["Kachin","Myitkyina",null,"Shatapru Sut Ngai Tawng","MMR001CMP006",97.399628000000007,25.412313000000001]
["Kachin","Myitkyina",null,"Shatapru Thida Aye Baptist Church","MMR001CMP007",97.418004999999994,25.423817]
["Kachin","Myitkyina",null,"Shwe Zet Baptist Church","MMR001CMP009",97.419403000000003,25.440928]
["Kachin","Myitkyina",null,"Tat Kone Baptist Church","MMR001CMP001",97.386718999999999,25.415482000000001]
["Kachin","Myitkyina",null,"Tat Kone COC Baptist / Tat Kone Htoi San","MMR001CMP023",97.388400000000004,25.40982]
["Kachin","Myitkyina",null,"Tat Kone Emanuel Church","MMR001CMP004",97.379272,25.401074999999999]
["Kachin","Myitkyina",null,"Tat Kone Galile Baptist Church","MMR001CMP003",97.377662999999998,25.404752999999999]
["Kachin","Myitkyina",null,"Tat Kone San Pya Baptist Church","MMR001CMP005",97.382192000000003,25.404015000000001]
["Kachin","Myitkyina",null,"Wun Tho Buddhist Monastery","MMR001CMP022",97.403407999999999,25.377545999999999]
["Kachin","Namhkan",null,"Mung Ding Pa ","MMR015CMP023"]
["Kachin","Namhkan",null,"Nam Hkam Malut Jak ","MMR015CMP002"]
["Kachin","Namhkan",null,"Nam Hkam - Nay Win Ni (Palawng)","MMR015CMP004"]
["Kachin","Namhkan",null,"Nam Hkam (KBC Jaw Wang)","MMR015CMP001"]
["Kachin","Namhkan",null,"Nam Hkam Catholic Church ( St. Thomas I)","MMR015CMP003"]
["Kachin","Namhkan",null,"Nam Hkam Catholic Church ( St. Thomas II)","MMR015CMP024"]
["Kachin","Namhkan",null,"Nam Hkawng","MMR001CMP139"]
["Kachin","Namtu",null,"Nam Tu","MMR015CMP014"]
["Kachin","Puta-O",null,"Tote Tan Ward","MMR001CMP075"]
["Kachin","Shwegu",null,"Lawk Awng Mare D. (Sinbo Area)","MMR001CMP147"]
["Kachin","Shwegu",null,"Host Families","MMR001CMP199"]
["Kachin","Shwegu",null,"Shwe Gu Baptist Church","MMR001CMP067"]
["Kachin","Shwegu",null,"Shwe Gu Catholic Church","MMR001CMP068"]
["Kachin","Waingmaw",null,"Moke Lwe Village / Hkar Shi","MMR001CMP035",97.421104,25.328987000000001]
["Kachin","Waingmaw",null,"Nawng Si Paw Village / Inn Lay","MMR001CMP034"]
["Kachin","Waingmaw",null,"Border Post 10","MMR001CMP114",97.837778,25.273333000000001]
["Kachin","Waingmaw",null,"Border Post 8","MMR001CMP113",97.915833000000006,25.220278]
["Kachin","Waingmaw",null,"Hkat Cho ","MMR001CMP028",97.408302000000006,25.324567999999999]
["Kachin","Waingmaw",null,"Hkau Shau (BP 12)","MMR001CMP115",97.807182999999995,25.200333000000001]
["Kachin","Waingmaw",null,"Laiza Market 3 / Laiza Gat","MMR001CMP117",97.551716999999996,24.746817]
["Kachin","Waingmaw",null,"Laiza Muklum Hpyen  Yen Mungshawa ni","MMR001CMP149"]
["Kachin","Waingmaw",null,"Mading Baptist Church","MMR001CMP027",97.451965000000001,25.356632000000001]
["Kachin","Waingmaw",null,"Maga Yang ","MMR001CMP119",97.715230000000005,24.980250000000002]
["Kachin","Waingmaw",null,"Maina AG Church","MMR001CMP031",97.435233999999994,25.425276]
["Kachin","Waingmaw",null,"Maina Catholic Church (St. Joseph)","MMR001CMP029",97.438450000000003,25.415900000000001]
["Kachin","Waingmaw",null,"Maina KBC (Bawng Ring)","MMR001CMP040",97.437434999999994,25.411413]
["Kachin","Waingmaw",null,"Maina Lawang Baptist Church","MMR001CMP039",97.426297000000005,25.409566000000002]
["Kachin","Waingmaw",null,"Manau Compound","MMR001CMP118",97.550267000000005,24.747966999999999]
["Kachin","Waingmaw",null,"Nawng Hee Village","MMR001CMP033",97.345039,25.351965]
["Kachin","Waingmaw",null,"Pajau / Jan Mai","MMR001CMP120",97.751389000000003,24.831944]
["Kachin","Waingmaw",null,"Post 6 Camp","MMR001CMP160",97.990555999999998,25.265277999999999]
["Kachin","Waingmaw",null,"Qtr. 2 Lhaovo Baptist Church","MMR001CMP032",97.441483000000005,25.354883999999998]
["Kachin","Waingmaw",null,"Qtr. 2 Myoma Baptist Church","MMR001CMP025",97.438271,25.351655000000001]
["Kachin","Waingmaw",null,"Qtr. 3 Mu-yin  Baptist Church","MMR001CMP030",97.437568999999996,25.346004000000001]
["Kachin","Waingmaw",null,"Qtr. 4 Monestry (Thargaya Thayett Taw)","MMR001CMP026",97.432495000000003,25.350809000000002]
["Kachin","Waingmaw",null,"Shing Jai","MMR001CMP041",98.025662999999994,25.418084]
["Kachin","Waingmaw",null,"Thargaya Lisu Baptist Church","MMR001CMP037",97.427959999999999,25.33351]
["Kachin","Waingmaw",null,"Waingmaw AG Church","MMR001CMP038",97.443702000000002,25.351241999999999]
["Kachin","Waingmaw",null,"Waingmaw Baptist Zonal Office","MMR001CMP036",97.438259000000002,25.355841999999999]
["Kachin","Waingmaw",null,"Woi Chyai ","MMR001CMP116",97.567116999999996,24.768383]
["Kachin","Waingmaw",null,"Zai Awng / Mung Ga Zup","MMR001CMP111",97.756789999999995,25.106670000000001]
["Rakhine","Minbya",null,"Paik Thay","MMR012CMP001"," 93.271642°"," 20.377523°"]
["Rakhine","Minbya",null,"Tha Dar","MMR012CMP002"," 93.257272°"," 20.392138°"]
["Rakhine","Minbya",null,"San Htoe Tan","MMR012CMP003"," 93.249670°"," 20.399020°"]
["Rakhine","Minbya",null,"Nagara Pauktaw","MMR012CMP004"," 93.258476°"," 20.554084°"]
["Rakhine","Minbya",null,"Tha Yet Oak","MMR012CMP005"," 93.258574°"," 20.587142°"]
["Rakhine","Minbya",null,"Aung Taing","MMR012CMP006"," 93.299485°"," 20.480898°"]
["Rakhine","Minbya",null,"Thay Kan","MMR012CMP007"," 93.321957°"," 20.403736°"]
["Rakhine","Minbya",null,"Sam Ba Le","MMR012CMP008"," 93.313628°"," 20.407971°"]
["Rakhine","Mrauk_U",null,"Pa Rein","MMR012CMP009"," 93.245551°"," 20.576577°"]
["Rakhine","Mrauk_U",null,"Yai Thei-Muslim","MMR012CMP010"," 93.217040°"," 20.501758°"]
["Rakhine","Mrauk_U",null,"Myat Buddha Mandine Monastery","MMR012CMP011"," 93.187996°"," 20.589569°"]
["Rakhine","Mrauk_U",null,"Raw Ma Ni Sin Oe","MMR012CMP012"," 93.239520°"," 20.616920°"]
["Rakhine","Meybon",null,"Kan Thar Htwat Wa","MMR012CMP013"," 93.373951°"," 20.041981°"]
["Rakhine","Meybon",null,"Taung Paw ","MMR012CMP014"," 93.370038°"," 20.037655°"]
["Rakhine","Pauktaw",null,"Ba Wan Chaung Wa Su","MMR012CMP015"," 93.067891°"," 20.173468°"]
["Rakhine","Pauktaw",null,"Ah Nauk Ywe","MMR012CMP016"," 92.985095°"," 20.108102°"]
["Rakhine","Pauktaw",null,"Nget Chaung","MMR012CMP017"," 93.154552°"," 20.073438°"]
["Rakhine","Pauktaw",null,"Kyein Ni Pyin","MMR012CMP018"," 93.010369°"," 20.090183°"]
["Rakhine","Pauktaw",null,"Sin Tet Maw","MMR012CMP019"," 92.993759°"," 20.064226°"]
["Rakhine","Kyauktaw",null,"Let Saung Kauk","MMR012CMP020"," 92.982676°"," 20.805734°"]
["Rakhine","Kyauktaw",null,"Taung Bwe","MMR012CMP021"," 93.000815°"," 20.929649°"]
["Rakhine","Kyauktaw",null,"Ah Lel","MMR012CMP022"," 93.003205°"," 20.921425°"]
["Rakhine","Kyauktaw",null,"Nidin","MMR012CMP023"," 92.965981°"," 20.865687°"]
["Rakhine","Kyauktaw",null,"Ah Pauk Wa ","MMR012CMP024"," 92.961841°"," 20.720213°"]
["Rakhine","Kyauktaw",null,"Ah Lel Kyun","MMR012CMP025"," 93.014350°"," 20.896740°"]
["Rakhine","Kyauktaw",null,"In Bar Yi","MMR012CMP026"," 93.009900°"," 20.696820°"]
["Rakhine","Kyauktaw",null,"Goke Pi Htaunt","MMR012CMP027"," 93.014090°"," 20.713260°"]
["Rakhine","Kyauktaw",null,"Yun Nyar","MMR012CMP028"," 92.969350°"," 20.727590°"]
["Rakhine","Kyauktaw",null,"Shwe Hlaing","MMR012CMP029"," 92.987400°"," 20.783320°"]
["Rakhine","Kyauktaw",null,"Khaung Htoke","MMR012CMP030"," 93.006498°"," 20.886998°"]
["Rakhine","Rathedaung",null,"Nyaung Pin Gyi","MMR012CMP031"," 92.786301°"," 20.336254°"]
["Rakhine","Rathedaung",null,"Ah Nauk Pyin","MMR012CMP032"," 92.780916°"," 20.399271°"]
["Rakhine","Rathedaung",null,"Koe Tan Kauk/Chein Khar Li","MMR012CMP033"," 92.650180°"," 20.432280°"]
["Rakhine","Rathedaung",null,"Ah Htet Nan Yar","MMR012CMP034"," 92.640022°"," 20.569219°"]
["Rakhine","Kyauk_Phyu",null,"Kyauk Ta Lone","MMR012CMP035"," 93.512326°"," 19.424577°"]
["Rakhine","Kyauk_Phyu",null,"Pha Yar Gyi Kwin","MMR012CMP036"," 93.552452°"," 19.421102°"]
["Rakhine","Ramree",null,"Ramree Ward 6","MMR012CMP037"," 93.857593°"," 19.088283°"]
["Rakhine","Ramree",null,"Ramree Town","MMR012CMP038","NA","NA"]
["Rakhine","Sittwe",null,"Basare","MMR012CMP039"," 92.875814°"," 20.128489°"]
["Rakhine","Sittwe",null,"Baw Du Pha","MMR012CMP040"," 92.807419°"," 20.181238°"]
["Rakhine","Sittwe",null,"Dar Pai","MMR012CMP041"," 92.827427°"," 20.168460°"]
["Rakhine","Sittwe",null,"Khaung Doke Khar ","MMR012CMP042"," 92.823167°"," 20.181778°"]
["Rakhine","Sittwe",null,"Ohn Taw Gyi 1","MMR012CMP043"," 92.798677°"," 20.187751°"]
["Rakhine","Sittwe",null,"Phwe Yar Kone","MMR012CMP044"," 92.788177°"," 20.207285°"]
["Rakhine","Sittwe",null,"Say Tha Mar Gyi","MMR012CMP045"," 92.792480°"," 20.202525°"]
["Rakhine","Sittwe",null,"Thae Chaung","MMR012CMP046"," 92.839417°"," 20.158500°"]
["Rakhine","Sittwe",null,"Thae Chaung (Kyaukphyu)","MMR012CMP047"," 92.837577°"," 20.156842°"]
["Rakhine","Sittwe",null,"Thet Kae Pyin ","MMR012CMP048"," 92.842230°"," 20.181742°"]
["Rakhine","Sittwe",null,"Hmanzi Junction","MMR012CMP049"," 92.826407°"," 20.175169°"]
["Rakhine","Sittwe",null,"Pa Lin Pyin Ywar Thit","MMR012CMP050"," 92.792959°"," 20.205295°"]
["Rakhine","Sittwe",null,"Bu May Ohn Taw","MMR012CMP051"," 92.847967°"," 20.147108°"]
["Rakhine","Sittwe",null,"Bu May Ohn Taw Shore","MMR012CMP052"," 92.848348°"," 20.133385°"]
["Rakhine","Sittwe",null,"Ma Gyi Myaing","MMR012CMP053"," 92.886890°"," 20.132695°"]
["Rakhine","Sittwe",null,"Mingan","MMR012CMP054"," 92.860599°"," 20.154343°"]
["Rakhine","Sittwe",null,"Danyawaddy Baw Lone Kwin","MMR012CMP055"," 92.889384°"," 20.135474°"]
["Rakhine","Sittwe",null,"Set Yone Su","MMR012CMP056"," 92.880320°"," 20.148584°"]
["Rakhine","Sittwe",null,"Dohn Taik Kwin","MMR012CMP057"," 92.897178°"," 20.153129°"]
["Rakhine","Sittwe",null,"Thin Pone Tan","MMR012CMP058"," 92.836861°"," 20.226865°"]
["Rakhine","Sittwe",null,"Dak Kaung Monastery","MMR012CMP059"," 92.894568°"," 20.145585°"]
["Rakhine","Sittwe",null,"Dama Set Kyar Monastery","MMR012CMP060"," 92.898398°"," 20.152559°"]
["Rakhine","Sittwe",null,"Gyit Chay Monastery","MMR012CMP061"," 92.896409°"," 20.153754°"]
["Rakhine","Sittwe",null,"Layaungwin Monastery","MMR012CMP062"," 92.896006°"," 20.154331°"]
["Rakhine","Sittwe",null,"Myo Ma Monastery","MMR012CMP063"," 92.897783°"," 20.151050°"]
["Rakhine","Sittwe",null,"Pyin Nyar Mandine Monastery","MMR012CMP064"," 92.896944°"," 20.150892°"]
["Rakhine","Sittwe",null,"Shwe Zay Ti Monastery","MMR012CMP065"," 92.894500°"," 20.146200°"]
["Rakhine","Sittwe",null,"Su Taung Pyae Monastery","MMR012CMP066"," 92.888950°"," 20.125033°"]
["Rakhine","Sittwe",null,"Theit Di Kar Yone Monastery","MMR012CMP067"," 92.896418°"," 20.152895°"]
["Rakhine","Sittwe",null,"Sin Ku Lann Monastery","MMR012CMP068"," 92.897933°"," 20.155850°"]
["Rakhine","Sittwe",null,"Ar Thaw Ka Yone Monastery","MMR012CMP069"," 92.895900°"," 20.153800°"]
["Rakhine","Sittwe",null,"Thangga Yarzar Monastery","MMR012CMP070"," 92.892432°"," 20.146041°"]
["Rakhine","Sittwe",null,"Kha Maung Taw Monastery","MMR012CMP071"," 92.894450°"," 20.147100°"]
["Rakhine","Sittwe",null,"Ma Ni Yadanar Monastery","MMR012CMP072"," 92.893904°"," 20.146673°"]
["Rakhine","Sittwe",null,"Gyit Bak Monastery","MMR012CMP073"," 92.895600°"," 20.146917°"]
["Rakhine","Sittwe",null,"Ya Tayar Monastery","MMR012CMP074"," 92.893333°"," 20.146117°"]
["Rakhine","Sittwe",null,"Weikzar Thaikdi Monastery","MMR012CMP075"," 92.896533°"," 20.154650°"]
["Rakhine","Maungdaw",null,"Maw Ya Waddy","MMR012CMP076"]
["Rakhine","Maungdaw",null,"Tha Yay Kone Baung","MMR012CMP077"," 92.429600°"," 20.729867°"]
["Rakhine","Maungdaw",null,"Kyaing Gyi","MMR012CMP078"]
["Rakhine","Maungdaw",null,"Baw Di Gone","MMR012CMP079"," 92.416264°"," 20.796128°"]
["Rakhine","Maungdaw",null,"Kin Chaung","MMR012CMP080"," 92.424139°"," 20.762731°"]
["Rakhine","Maungdaw",null,"Kan Thar Yar","MMR012CMP081"," 92.423364°"," 20.801544°"]
["Rakhine","Maungdaw",null,"Nyaung Pin Hla","MMR012CMP082"," 92.362197°"," 20.824778°"]
["Rakhine","Maungdaw",null,"Myoma Myauk","MMR012CMP083"," 92.362933°"," 20.827044°"]
["Rakhine","Maungdaw",null,"Bomu Ywa","MMR012CMP084"," 92.365794°"," 20.819958°"]
["Rakhine","Maungdaw",null,"Ywa thit Kay","MMR012CMP085"," 92.367853°"," 20.825306°"]
["Rakhine","Maungdaw",null,"Thaung Paing Nyar","MMR012CMP086"," 92.401294°"," 20.824517°"]
["Rakhine","Maungdaw",null,"Lamber Gone Nah","MMR012CMP087"," 92.426886°"," 20.717331°"]
["Rakhine","Maungdaw",null,"Du Than Dar","MMR012CMP088"," 92.443428°"," 20.714847°"]
["Rakhine","Maungdaw",null,"Alima Fara","MMR012CMP089"," 92.435075°"," 20.714533°"]
["Rakhine","Pauktaw",null,"Sin Tet Maw (Nget Chaung IDP)","MMR012CMP096","NA","NA"]
["Rakhine","Sittwe",null,"Ohn Taw Gyi 3","MMR012CMP090","92.800694°","20.190056°"]
["Rakhine","Sittwe",null,"Thet Kae Pyin Host Family","MMR012CMP091","NA","NA"]
["Rakhine","Sittwe",null,"Maw Ti Ngar (TKP west)","MMR012CMP092","NA","NA"]
["Rakhine","Sittwe",null,"Set Yone Su 3","MMR012CMP093"," 92.879139°","20.155806°"]
["Rakhine","Maungdaw",null,"Sin Thay Pyin","MMR012CMP094"," 92.338031°"," 21.066664°"]
["Rakhine","Maungdaw",null,"Ward-6","MMR012CMP095"," 92.416683°"," 20.833831°"]

{"sheet":"Definition","index":19,"n_rows":23,"n_cols":6,"rows_kept":23,"cut":false,"hidden":false,"merged":[]}
["Label","Distribution","Stock","Pipeline","Expiration (month)","NB"]
["Blanket","NFI_Blanket_Track","NFI_Blanket_Stock","NFI_Blanket_Pipeline",12,2]
["Complementary Kit","NFI_Complementary_Track","NFI_Complementary_Stock","NFI_Complementary_Pipeline",12,1]
["Hygiene Kit","NFI_Hygiene_Track","NFI_Hygiene_Stock","NFI_Hygiene_Pipeline",12,1]
["Kitchen Set","NFI_Kitchen_Track","NFI_Kitchen_Stock","NFI_Kitchen_Pipeline",12,1]
["Mosquito net","NFI_Mosquito_Track","NFI_Mosquito_Stock","NFI_Mosquito_Pipeline",12,2]
["NFI Core Kit","NFI_Core_Track","NFI_Core_Stock","NFI_Core_Pipeline",12,1]
["Sanitary Kit","NFI_Sanitary_Track","NFI_Sanitary_Stock","NFI_Sanitary_Pipeline",12,1]
["Tarpaulin","NFI_Tarpaulin_Track","NFI_Tarpaulin_Stock","NFI_Tarpaulin_Pipeline",12,1]
["Plastic Bucket","NFI_Plastic_Bucket_Track","NFI_Plastic_Bucket_Stock","NFI_Plastic_Bucket_Pipeline",12,1]
["Plastic Mat","NFI_Plastic_Mat_Track","NFI_Plastic_Mat_Stock","NFI_Plastic_Mat_Pipeline",12,2]
[]
[]
[]
[]
[]
[]
[]
[]
[]
[]
[]
["2014-01-01"]

{"sheet":"Sheet1","index":20,"n_rows":0,"n_cols":0,"rows_kept":0,"cut":false,"hidden":true,"merged":[]}