{"text_format":"1","workbook":"xlsx","n_sheets":22,"sheets":["Definition","Home","Camp_List","Camp List (print)","CampAnalysis","Rakhine_CCCM_D","Sheet3","Shelter Tracking","Shelter_Progress","ShelterAgency","Rakhine_Shelter_D","Kachin","Rakhine","Sheet2","NFI_Tracking","Pipeline Stock Tracking","NFIAnalysis","NFISummary","Indicator","analysis","list","camp"],"not_rendered":{"charts":15,"images":14,"macros":1,"external_links":7,"defined_names":124,"comments":0,"pivot_tables":16},"unopened":[],"bounds":{"document_bytes":16777216,"sheet_cells":100000,"rows_first":2000,"rows_last":500,"rows_between":2000,"halvings":0,"cell_chars":16384,"cell_head_chars":4096},"cells_cut":0,"cells_raw":0,"read":"whole","date_system":"1900"}

{"sheet":"Definition","index":0,"n_rows":19,"n_cols":6,"rows_kept":19,"cut":false,"hidden":false,"merged":[]}
["Label","Distribution","Stock","Pipeline","Expiration (month)","NB"]
["Blanket","NFI_Blanket_Track","NFI_Blanket_Stock","NFI_Blanket_Pipeline",12,2]
["Complementary Kit","NFI_Complementary_Track","NFI_Complementary_Stock","NFI_Complementary_Pipeline",12,1]
["Hygiene Kit","NFI_Hygiene_Track","NFI_Hygiene_Stock","NFI_Hygiene_Pipeline",12,1]
["Kitchen Set","NFI_Kitchen_Track","NFI_Kitchen_Stock","NFI_Kitchen_Pipeline",12,1]
["Mosquito net","NFI_Mosquito_Track","NFI_Mosquito_Stock","NFI_Mosquito_Pipeline",12,2]
["NFI Core Kit","NFI_Core_Track","NFI_Core_Stock","NFI_Core_Pipeline",12,1]
["Sanitary Kit","NFI_Sanitary_Track","NFI_Sanitary_Stock","NFI_Sanitary_Pipeline",12,1]
["Tarpaulin","NFI_Tarpaulin_Track","NFI_Tarpaulin_Stock","NFI_Tarpaulin_Pipeline",12,1]
["Plastic Bucket","NFI_Plastic_Bucket_Track","NFI_Plastic_Bucket_Stock","NFI_Plastic_Bucket_Pipeline",12,1]
["Plastic Mat","NFI_Plastic_Mat_Track","NFI_Plastic_Mat_Stock","NFI_Plastic_Mat_Pipeline",12,2]
[]
[]
[]
[]
[]
[]
[]
["2013-09-01"]

{"sheet":"Home","index":1,"n_rows":23,"n_cols":22,"rows_kept":23,"cut":false,"hidden":false,"merged":[[6,2,11,3],[13,2,18,3],[20,2,23,3],[1,2,3,21],[6,19,6,21],[6,15,6,17],[6,11,6,13],[6,5,6,9],[4,2,4,17]]}
[]
[null,null,"CLUSTER REPORT"]
[]
[]
[null,null,{"$f":"Report_Date","v":"2013-09-01"}]
[]
[null,null,"CCCM",null,null,"Report & Analysis",null,null,null,null,null,"Dashboards",null,null,null,"3W",null,null,null,"Contact List"]
[]
[null,null,null,null,null,null,null,null,null,null,null,"Rakhine","Kachin","Myanmar",null,"Rakhine","Kachin","Myanmar",null,"Rakhine","Kachin","Myanmar"]
[]
[]
[]
[]
[null,null,"Shelter"]
[]
[null,null,null,null,null,null,null,null,null,null,null,"Rakhine","Kachin","Myanmar",null,"Rakhine","Kachin","Myanmar",null,"Rakhine","Kachin","Myanmar"]
[]
[]
[]
[]
[null,null,"NFI"]
[null,null,null,null,null,null,null,null,null,null,null,"Rakhine","Kachin"]
[null,null,null,null,null,null,null,null,null,null,null,"Rakhine","Kachin","Myanmar",null,"Rakhine","Kachin","Myanmar",null,"Rakhine","Kachin","Myanmar"]

{"sheet":"Camp_List","index":2,"n_rows":115,"n_cols":28,"rows_kept":115,"cut":false,"hidden":false,"merged":[[1,0,1,2],[2,0,2,2]]}
[]
["DETAILED CAMP LIST"]
[{"$f":"Report_Date","v":"2013-09-01"}]
["Sr.No","Update Date","Status","State","State_Pcode","District","District_Pcode","TOWNSHIP_NAME","Township_Pcode","VillageTracKTown_Name","VillageTrackTown_Pcode","VillageWard_Name","VillageWard_Pcode","Camp Name","P_Code","Accessibility","Longitude","Latitude","HH","Total","Avg","Source","Method","Type of Accomodation","Comment","Count","Status2","Ethnicity"]
[246,"2013-07-30","Open","Rakhine","MMR012",null,null,"Rathedaung","MMR012008","Chut Pyin","MMR012008006","Chut Pyin",197590,"Ah Htet Nan Yar","MMR012CMP034","Accessible by All"," 92.640022°"," 20.569219°",250,1199,{"$f":"IF(AND(Table_CampList[[#This Row],[HH]]<>\"\",Table_CampList[[#This Row],[HH]]>0),Table_CampList[[#This Row],[Total]]/Table_CampList[[#This Row],[HH]],0)","v":4.7960000000000003},"Camp/Community Leader","Estimate","Individual accommodation ",null,{"$f":"COUNTIF(N:N,Table_CampList[[#This Row],[Camp Name]])","v":1},{"$f":"C5","v":"Open"},"Muslim"]
[234,"2013-07-30","Open","Rakhine","MMR012",null,null,"Kyauktaw","MMR012004","Ya Da Nar Pon","MMR012004019","Ah Lel",196786,"Ah Lel","MMR012CMP022","Accessible by All"," 93.003205°"," 20.921425°",17,136,{"$f":"IF(AND(Table_CampList[[#This Row],[HH]]<>\"\",Table_CampList[[#This Row],[HH]]>0),Table_CampList[[#This Row],[Total]]/Table_CampList[[#This Row],[HH]],0)","v":8},"Camp/Community Leader","Estimate","Individual accommodation ",null,{"$f":"COUNTIF(N:N,Table_CampList[[#This Row],[Camp Name]])","v":1},{"$f":"C6","v":"Open"},"Muslim"]
[237,"2013-07-30","Open","Rakhine","MMR012",null,null,"Kyauktaw","MMR012004","Ah Lel Kyun","MMR012004031","Ah Lel Kyun Ku Lar",196842,"Ah Lel Kyun","MMR012CMP025","Accessible by All"," 93.014350°"," 20.896740°",14,84,{"$f":"IF(AND(Table_CampList[[#This Row],[HH]]<>\"\",Table_CampList[[#This Row],[HH]]>0),Table_CampList[[#This Row],[Total]]/Table_CampList[[#This Row],[HH]],0)","v":6},"Camp/Community Leader","Estimate","Planned Camp",null,{"$f":"COUNTIF(N:N,Table_CampList[[#This Row],[Camp Name]])","v":1},{"$f":"C7","v":"Open"},"Muslim"]
[244,"2013-07-30","Open","Rakhine","MMR012",null,null,"Rathedaung","MMR012008","Ah Nauk Pyin","MMR012008072","Ah Nauk Pyin",197763,"Ah Nauk Pyin","MMR012CMP032","Accessible by All"," 92.780916°"," 20.399271°",57,291,{"$f":"IF(AND(Table_CampList[[#This Row],[HH]]<>\"\",Table_CampList[[#This Row],[HH]]>0),Table_CampList[[#This Row],[Total]]/Table_CampList[[#This Row],[HH]],0)","v":5.1052631578947372},"Camp/Community Leader","Estimate","Planned Camp",null,{"$f":"COUNTIF(N:N,Table_CampList[[#This Row],[Camp Name]])","v":1},{"$f":"C8","v":"Open"},"Muslim"]
[228,"2013-07-30","Open","Rakhine","MMR012",null,null,"Pauktaw","MMR012007","Pein Hne Chaung","MMR012007049","Kyauk Pyin Seik",197537,"Ah Nauk Ywe","MMR012CMP016","Accessible by All"," 92.985095°"," 20.108102°",889,3951,{"$f":"IF(AND(Table_CampList[[#This Row],[HH]]<>\"\",Table_CampList[[#This Row],[HH]]>0),Table_CampList[[#This Row],[Total]]/Table_CampList[[#This Row],[HH]],0)","v":4.4443194600674918},"Camp/Community Leader","Estimate","Individual accommodation ",null,{"$f":"COUNTIF(N:N,Table_CampList[[#This Row],[Camp Name]])","v":1},{"$f":"C9","v":"Open"},"Muslim"]
[236,"2013-07-30","Open","Rakhine","MMR012",null,null,"Kyauktaw","MMR012004","Ah Pauk Wa","MMR012004064","Ah Pauk Wa",196946,"Ah Pauk Wa ","MMR012CMP024","Accessible by All"," 92.961841°"," 20.720213°",97,860,{"$f":"IF(AND(Table_CampList[[#This Row],[HH]]<>\"\",Table_CampList[[#This Row],[HH]]>0),Table_CampList[[#This Row],[Total]]/Table_CampList[[#This Row],[HH]],0)","v":8.8659793814432994},"Camp/Community Leader","Estimate","Planned Camp",null,{"$f":"COUNTIF(N:N,Table_CampList[[#This Row],[Camp Name]])","v":1},{"$f":"C10","v":"Open"},"Muslim"]
[301,"2013-07-30","Close","Rakhine","MMR012",null,null,"Maungdaw","MMR012009","Zaw Ma Tet","MMR012009078","Hin Thar Ya",198049,"Alima Fara","MMR012CMP089","Accessible by All"," 92.435075°"," 20.714533°",null,null,{"$f":"IF(AND(Table_CampList[[#This Row],[HH]]<>\"\",Table_CampList[[#This Row],[HH]]>0),Table_CampList[[#This Row],[Total]]/Table_CampList[[#This Row],[HH]],0)","v":0},"Camp/Community Leader","Estimate","Collective Centre",null,{"$f":"COUNTIF(N:N,Table_CampList[[#This Row],[Camp Name]])","v":1},{"$f":"C11","v":"Close"},"Muslim"]
[281,"2013-07-30","Close","Rakhine","MMR012",null,null,"Sittwe","MMR012001","Ywar Gyi (North) Ward","MMR012001701",null,"MMR012001701515","Ar Thaw Ka Yone Monastery","MMR012CMP069","Accessible by All"," 92.895900°"," 20.153800°",0,0,{"$f":"IF(AND(Table_CampList[[#This Row],[HH]]<>\"\",Table_CampList[[#This Row],[HH]]>0),Table_CampList[[#This Row],[Total]]/Table_CampList[[#This Row],[HH]],0)","v":0},"Camp/Community Leader","Estimate","Collective Centre",null,{"$f":"COUNTIF(N:N,Table_CampList[[#This Row],[Camp Name]])","v":1},{"$f":"C12","v":"Close"}]
[218,"2013-07-30","Open","Rakhine","MMR012",null,null,"Minbya","MMR012005","Sa Par Htar","MMR012005032","Aung Taing",197150,"Aung Taing","MMR012CMP006","Accessible by All"," 93.299485°"," 20.480898°",86,600,{"$f":"IF(AND(Table_CampList[[#This Row],[HH]]<>\"\",Table_CampList[[#This Row],[HH]]>0),Table_CampList[[#This Row],[Total]]/Table_CampList[[#This Row],[HH]],0)","v":6.9767441860465116},"Camp/Community Leader","Estimate","Individual accommodation ",null,{"$f":"COUNTIF(N:N,Table_CampList[[#This Row],[Camp Name]])","v":1},{"$f":"C13","v":"Open"},"Muslim"]
[227,"2013-07-30","Open","Rakhine","MMR012",null,null,"Pauktaw","MMR012007","Urban","MMR012007701","Ba Wan Chaung Wa Su Ward","MMR012007701504","Ba Wan Chaung Wa Su","MMR012CMP015","Accessible by All"," 93.067891°"," 20.173468°",21,97,{"$f":"IF(AND(Table_CampList[[#This Row],[HH]]<>\"\",Table_CampList[[#This Row],[HH]]>0),Table_CampList[[#This Row],[Total]]/Table_CampList[[#This Row],[HH]],0)","v":4.6190476190476186},"Camp/Community Leader","Estimate","Individual accommodation ",null,{"$f":"COUNTIF(N:N,Table_CampList[[#This Row],[Camp Name]])","v":1},{"$f":"C14","v":"Open"},"Rakhine"]
[251,"2013-07-30","Open","Rakhine","MMR012",null,null,"Sittwe","MMR012001","San Pya Ward","MMR012002701",null,"MMR012002701501","Basara","MMR012CMP039","Accessible by All"," 92.875814°"," 20.128489°",395,1874,{"$f":"IF(AND(Table_CampList[[#This Row],[HH]]<>\"\",Table_CampList[[#This Row],[HH]]>0),Table_CampList[[#This Row],[Total]]/Table_CampList[[#This Row],[HH]],0)","v":4.7443037974683548},"Camp/Community Leader","Estimate","Individual accommodation ",null,{"$f":"COUNTIF(N:N,Table_CampList[[#This Row],[Camp Name]])","v":1},{"$f":"C15","v":"Open"},"Muslim"]
[291,"2013-07-30","Close","Rakhine","MMR012",null,null,"Maungdaw","MMR012009","Ba Gone Nar","MMR012009066","Baw Di Kone(No standard name yet",217897,"Baw Di Gone","MMR012CMP079","Accessible by All"," 92.416264°"," 20.796128°",null,null,{"$f":"IF(AND(Table_CampList[[#This Row],[HH]]<>\"\",Table_CampList[[#This Row],[HH]]>0),Table_CampList[[#This Row],[Total]]/Table_CampList[[#This Row],[HH]],0)","v":0},"Camp/Community Leader","Estimate","Planned Camp",null,{"$f":"COUNTIF(N:N,Table_CampList[[#This Row],[Camp Name]])","v":1},{"$f":"C16","v":"Close"},"Rakhine"]
[252,"2013-07-30","Open","Rakhine","MMR012",null,null,"Sittwe","MMR012001","Khaung Doke Kar","MMR012001025","Baw Du Hpa",196192,"Baw Du Pha","MMR012CMP040","Accessible by All"," 92.807419°"," 20.181238°",2051,10461,{"$f":"IF(AND(Table_CampList[[#This Row],[HH]]<>\"\",Table_CampList[[#This Row],[HH]]>0),Table_CampList[[#This Row],[Total]]/Table_CampList[[#This Row],[HH]],0)","v":5.1004388103364215},"Camp/Community Leader","Estimate","Individual accommodation ",null,{"$f":"COUNTIF(N:N,Table_CampList[[#This Row],[Camp Name]])","v":1},{"$f":"C17","v":"Open"},"Muslim"]
[null,"2013-07-30","Open","Rakhine","MMR012",null,null,"Sittwe","MMR012001","Khaung Doke Kar","MMR012001025","Baw Du Hpa",196192,"Baw Du Pha (IDP in host families)","MMR012CMP103","Accessible by All"," 92.804803°"," 20.182987°",41,226,{"$f":"IF(AND(Table_CampList[[#This Row],[HH]]<>\"\",Table_CampList[[#This Row],[HH]]>0),Table_CampList[[#This Row],[Total]]/Table_CampList[[#This Row],[HH]],0)","v":5.5121951219512191},"Camp/Community Leader","Estimate","Planned Camp",null,{"$f":"COUNTIF(N:N,Table_CampList[[#This Row],[Camp Name]])","v":1},{"$f":"C18","v":"Open"},"Muslim"]
[296,"2013-07-30","Open","Rakhine","MMR012",null,null,"Maungdaw","MMR012009","Myo Ma (North) Ward","MMR012009701",null,"MMR012009701503","Bomu Ywa","MMR012CMP084","Accessible by All"," 92.365794°"," 20.819958°",10,106,{"$f":"IF(AND(Table_CampList[[#This Row],[HH]]<>\"\",Table_CampList[[#This Row],[HH]]>0),Table_CampList[[#This Row],[Total]]/Table_CampList[[#This Row],[HH]],0)","v":10.6},"Camp/Community Leader","Estimate","Planned Camp",null,{"$f":"COUNTIF(N:N,Table_CampList[[#This Row],[Camp Name]])","v":1},{"$f":"C19","v":"Open"},"Muslim"]
[null,"2013-08-31","Open","Rakhine","MMR012",null,null,"Maungdaw",null,null,null,null,null,"Bomu Ywa 2","MMR012CMP106","Accessible by All"," 92.365619°"," 20.820317°",8,52,{"$f":"IF(AND(Table_CampList[[#This Row],[HH]]<>\"\",Table_CampList[[#This Row],[HH]]>0),Table_CampList[[#This Row],[Total]]/Table_CampList[[#This Row],[HH]],0)","v":6.5},"Camp/Community Leader","Estimate","Planned Camp",null,{"$f":"COUNTIF(N:N,Table_CampList[[#This Row],[Camp Name]])","v":1},{"$f":"C20","v":"Open"},"Rakhine"]
[263,"2013-07-30","Close","Rakhine","MMR012",null,null,"Sittwe","MMR012001","Bu May","MMR012001027","Thea Chaung Let Tha Mar Kone",196209,"Bu May Ohn Taw","MMR012CMP051","Accessible by All"," 92.847967°"," 20.147108°",0,0,{"$f":"IF(AND(Table_CampList[[#This Row],[HH]]<>\"\",Table_CampList[[#This Row],[HH]]>0),Table_CampList[[#This Row],[Total]]/Table_CampList[[#This Row],[HH]],0)","v":0},"Camp/Community Leader","Estimate","Self-Settled Camp",null,{"$f":"COUNTIF(N:N,Table_CampList[[#This Row],[Camp Name]])","v":1},{"$f":"C21","v":"Close"}]
[264,"2013-07-30","Close","Rakhine","MMR012",null,null,"Sittwe","MMR012001","Bu May","MMR012001027","Tin Bi",196216,"Bu May Ohn Taw Shore","MMR012CMP052","Accessible by All"," 92.848348°"," 20.133385°",0,0,{"$f":"IF(AND(Table_CampList[[#This Row],[HH]]<>\"\",Table_CampList[[#This Row],[HH]]>0),Table_CampList[[#This Row],[Total]]/Table_CampList[[#This Row],[HH]],0)","v":0},"Camp/Community Leader","Estimate","Self-Settled Camp",null,{"$f":"COUNTIF(N:N,Table_CampList[[#This Row],[Camp Name]])","v":1},{"$f":"C22","v":"Close"}]
[null,"2013-08-31","Open","Rakhine","MMR012",null,null,"Rathedaung",null,null,null,null,null,"Chein Khar Li","MMR012CMP033","Accessible by All"," 92.660361°"," 20.408453°",211,1191,{"$f":"IF(AND(Table_CampList[[#This Row],[HH]]<>\"\",Table_CampList[[#This Row],[HH]]>0),Table_CampList[[#This Row],[Total]]/Table_CampList[[#This Row],[HH]],0)","v":5.6445497630331758},"Camp/Community Leader","Estimate","Planned Camp",null,{"$f":"COUNTIF(N:N,Table_CampList[[#This Row],[Camp Name]])","v":1},{"$f":"C23","v":"Open"},"Muslim"]
[271,"2013-07-30","Close","Rakhine","MMR012",null,null,"Sittwe","MMR012001","Kyaung Tet Lan Ward","MMR012001701",null,"MMR012001701519","Dak Kaung Monastery","MMR012CMP059","Accessible by All"," 92.894568°"," 20.145585°",0,0,{"$f":"IF(AND(Table_CampList[[#This Row],[HH]]<>\"\",Table_CampList[[#This Row],[HH]]>0),Table_CampList[[#This Row],[Total]]/Table_CampList[[#This Row],[HH]],0)","v":0},"Camp/Community Leader","Estimate","Collective Centre",null,{"$f":"COUNTIF(N:N,Table_CampList[[#This Row],[Camp Name]])","v":1},{"$f":"C24","v":"Close"}]
[272,"2013-07-30","Close","Rakhine","MMR012",null,null,"Sittwe","MMR012001","Bauk Thee Su Ward","MMR012001701",null,"MMR012001701518","Dama Set Kyar Monastery","MMR012CMP060","Accessible by All"," 92.898398°"," 20.152559°",0,0,{"$f":"IF(AND(Table_CampList[[#This Row],[HH]]<>\"\",Table_CampList[[#This Row],[HH]]>0),Table_CampList[[#This Row],[Total]]/Table_CampList[[#This Row],[HH]],0)","v":0},"Camp/Community Leader","Estimate","Collective Centre",null,{"$f":"COUNTIF(N:N,Table_CampList[[#This Row],[Camp Name]])","v":1},{"$f":"C25","v":"Close"}]
[267,"2013-07-30","Close","Rakhine","MMR012",null,null,"Sittwe","MMR012001","Baw Lone Kwin Ward","MMR012001701",null,"MMR012001701528","Danyawaddy Baw Lone Kwin","MMR012CMP055","Accessible by All"," 92.889384°"," 20.135474°",0,0,{"$f":"IF(AND(Table_CampList[[#This Row],[HH]]<>\"\",Table_CampList[[#This Row],[HH]]>0),Table_CampList[[#This Row],[Total]]/Table_CampList[[#This Row],[HH]],0)","v":0},"Camp/Community Leader","Estimate","Planned Camp",null,{"$f":"COUNTIF(N:N,Table_CampList[[#This Row],[Camp Name]])","v":1},{"$f":"C26","v":"Close"}]
[253,"2013-07-30","Open","Rakhine","MMR012",null,null,"Sittwe","MMR012001","Bu May","MMR012001027","Dar Paing Ywar Thit",196206,"Dar Pai","MMR012CMP041","Accessible by All"," 92.827427°"," 20.168460°",1885,11154,{"$f":"IF(AND(Table_CampList[[#This Row],[HH]]<>\"\",Table_CampList[[#This Row],[HH]]>0),Table_CampList[[#This Row],[Total]]/Table_CampList[[#This Row],[HH]],0)","v":5.9172413793103447},"Camp/Community Leader","Estimate","Individual accommodation ",null,{"$f":"COUNTIF(N:N,Table_CampList[[#This Row],[Camp Name]])","v":1},{"$f":"C27","v":"Open"},"Muslim"]
[null,"2013-07-30","Open","Rakhine","MMR012",null,null,"Sittwe","MMR012001","Bu May","MMR012001027","Dar Paing Ywar Thit",196206,"Dar Pai (IDP in host families)","MMR012CMP097","Accessible by All"," 92.830075°"," 20.167422°",468,2818,{"$f":"IF(AND(Table_CampList[[#This Row],[HH]]<>\"\",Table_CampList[[#This Row],[HH]]>0),Table_CampList[[#This Row],[Total]]/Table_CampList[[#This Row],[HH]],0)","v":6.0213675213675213},"Camp/Community Leader","Estimate","Planned Camp",null,{"$f":"COUNTIF(N:N,Table_CampList[[#This Row],[Camp Name]])","v":1},{"$f":"C28","v":"Open"},"Muslim"]
[269,"2013-07-30","Close","Rakhine","MMR012",null,null,"Sittwe","MMR012001","Ywar Gyi (North) Ward","MMR012001701",null,"MMR012001701515","Dohn Taik Kwin","MMR012CMP057","Accessible by All"," 92.897178°"," 20.153129°",0,0,{"$f":"IF(AND(Table_CampList[[#This Row],[HH]]<>\"\",Table_CampList[[#This Row],[HH]]>0),Table_CampList[[#This Row],[Total]]/Table_CampList[[#This Row],[HH]],0)","v":0},"Camp/Community Leader","Estimate","Planned Camp",null,{"$f":"COUNTIF(N:N,Table_CampList[[#This Row],[Camp Name]])","v":1},{"$f":"C29","v":"Close"}]
[300,"2013-07-30","Open","Rakhine","MMR012",null,null,"Maungdaw","MMR012009","Than Dar","MMR012009075","Myo Thu Gyi (Yar Zar Bi)",197988,"Du Than Dar","MMR012CMP088","Accessible by All"," 92.443428°"," 20.714847°",45,291,{"$f":"IF(AND(Table_CampList[[#This Row],[HH]]<>\"\",Table_CampList[[#This Row],[HH]]>0),Table_CampList[[#This Row],[Total]]/Table_CampList[[#This Row],[HH]],0)","v":6.4666666666666668},"Camp/Community Leader","Estimate","Individual accommodation ",null,{"$f":"COUNTIF(N:N,Table_CampList[[#This Row],[Camp Name]])","v":1},{"$f":"C30","v":"Open"},"Muslim"]
[239,"2013-07-30","Open","Rakhine","MMR012",null,null,"Kyauktaw","MMR012004","Goke Pi Htaunt","MMR012004074","Goke Pi Htaunt (Ku Lar)",196972,"Goke Pi Htaunt","MMR012CMP027","Accessible by All"," 93.014090°"," 20.713260°",116,707,{"$f":"IF(AND(Table_CampList[[#This Row],[HH]]<>\"\",Table_CampList[[#This Row],[HH]]>0),Table_CampList[[#This Row],[Total]]/Table_CampList[[#This Row],[HH]],0)","v":6.0948275862068968},"Camp/Community Leader","Estimate","Individual accommodation ",null,{"$f":"COUNTIF(N:N,Table_CampList[[#This Row],[Camp Name]])","v":1},{"$f":"C31","v":"Open"},"Muslim"]
[285,"2013-07-30","Close","Rakhine","MMR012",null,null,"Sittwe","MMR012001","Kyaung Tet Lan Ward","MMR012001701",null,"MMR012001701519","Gyit Bak Monastery","MMR012CMP073","Accessible by All"," 92.895600°"," 20.146917°",0,0,{"$f":"IF(AND(Table_CampList[[#This Row],[HH]]<>\"\",Table_CampList[[#This Row],[HH]]>0),Table_CampList[[#This Row],[Total]]/Table_CampList[[#This Row],[HH]],0)","v":0},"Camp/Community Leader","Estimate","Collective Centre",null,{"$f":"COUNTIF(N:N,Table_CampList[[#This Row],[Camp Name]])","v":1},{"$f":"C32","v":"Close"}]
[273,"2013-07-30","Close","Rakhine","MMR012",null,null,"Sittwe","MMR012001","Ywar Gyi (North) Ward","MMR012001701",null,"MMR012001701515","Gyit Chay Monastery","MMR012CMP061","Accessible by All"," 92.896409°"," 20.153754°",0,0,{"$f":"IF(AND(Table_CampList[[#This Row],[HH]]<>\"\",Table_CampList[[#This Row],[HH]]>0),Table_CampList[[#This Row],[Total]]/Table_CampList[[#This Row],[HH]],0)","v":0},"Camp/Community Leader","Estimate","Collective Centre",null,{"$f":"COUNTIF(N:N,Table_CampList[[#This Row],[Camp Name]])","v":1},{"$f":"C33","v":"Close"}]
[null,"2013-07-30","Open","Rakhine","MMR012",null,null,"Sittwe","MMR012001","Khaung Doke Kar","MMR012001025",null,null,"Hmanzi ","MMR012CMP102","Accessible by All"," 92.816639°",20.180194,242,1518,{"$f":"IF(AND(Table_CampList[[#This Row],[HH]]<>\"\",Table_CampList[[#This Row],[HH]]>0),Table_CampList[[#This Row],[Total]]/Table_CampList[[#This Row],[HH]],0)","v":6.2727272727272725},"Camp/Community Leader","Estimate","Individual accommodation ",null,{"$f":"COUNTIF(N:N,Table_CampList[[#This Row],[Camp Name]])","v":1},{"$f":"C34","v":"Open"},"Muslim"]
[261,"2013-07-30","Close","Rakhine","MMR012",null,null,"Sittwe","MMR012001","Bu May","MMR012001027","Hman Zi",196207,"Hmanzi Junction","MMR012CMP049","Accessible by All"," 92.826407°"," 20.175169°",0,0,{"$f":"IF(AND(Table_CampList[[#This Row],[HH]]<>\"\",Table_CampList[[#This Row],[HH]]>0),Table_CampList[[#This Row],[Total]]/Table_CampList[[#This Row],[HH]],0)","v":0},"Camp/Community Leader","Estimate","Planned Camp",null,{"$f":"COUNTIF(N:N,Table_CampList[[#This Row],[Camp Name]])","v":1},{"$f":"C35","v":"Close"}]
[null,"2013-08-31","Open","Rakhine","MMR012",null,null,"Maungdaw",null,null,null,null,null,"Honsara (Zaw Ma Tat)","MMR012CMP109","Accessible by All"," 92.435378°"," 20.713883°",48,355,{"$f":"IF(AND(Table_CampList[[#This Row],[HH]]<>\"\",Table_CampList[[#This Row],[HH]]>0),Table_CampList[[#This Row],[Total]]/Table_CampList[[#This Row],[HH]],0)","v":7.395833333333333},"Camp/Community Leader","Estimate","Individual accommodation ",null,{"$f":"COUNTIF(N:N,Table_CampList[[#This Row],[Camp Name]])","v":1},{"$f":"C36","v":"Open"},"Muslim"]
[238,"2013-07-30","Open","Rakhine","MMR012",null,null,"Kyauktaw","MMR012004","Doke Kan Chaung","MMR012004063","In Bar Yi",196945,"In Bar Yi","MMR012CMP026","Accessible by All"," 93.009900°"," 20.696820°",230,1367,{"$f":"IF(AND(Table_CampList[[#This Row],[HH]]<>\"\",Table_CampList[[#This Row],[HH]]>0),Table_CampList[[#This Row],[Total]]/Table_CampList[[#This Row],[HH]],0)","v":5.9434782608695649},"Camp/Community Leader","Estimate","Planned Camp",null,{"$f":"COUNTIF(N:N,Table_CampList[[#This Row],[Camp Name]])","v":1},{"$f":"C37","v":"Open"},"Muslim"]
[225,"2013-07-30","Open","Rakhine","MMR012",null,null,"Meybon","MMR012006","Urban","MMR012006701","Kan Thar Htwet Wa Ward","MMR012006701502","Kan Thar Htwat Wa","MMR012CMP013","Accessible by All"," 93.373951°"," 20.041981°",42,222,{"$f":"IF(AND(Table_CampList[[#This Row],[HH]]<>\"\",Table_CampList[[#This Row],[HH]]>0),Table_CampList[[#This Row],[Total]]/Table_CampList[[#This Row],[HH]],0)","v":5.2857142857142856},"Camp/Community Leader","Estimate","Individual accommodation ",null,{"$f":"COUNTIF(N:N,Table_CampList[[#This Row],[Camp Name]])","v":1},{"$f":"C38","v":"Open"},"Rakhine"]
[293,"2013-07-30","Close","Rakhine","MMR012",null,null,"Maungdaw","MMR012009","Ba Gone Nar","MMR012009066","Kan Thar Yar(No standard name yet)",217895,"Kan Thar Yar","MMR012CMP081","Accessible by All"," 92.423364°"," 20.801544°",null,null,{"$f":"IF(AND(Table_CampList[[#This Row],[HH]]<>\"\",Table_CampList[[#This Row],[HH]]>0),Table_CampList[[#This Row],[Total]]/Table_CampList[[#This Row],[HH]],0)","v":0},"Camp/Community Leader","Estimate","Planned Camp ",null,{"$f":"COUNTIF(N:N,Table_CampList[[#This Row],[Camp Name]])","v":1},{"$f":"C39","v":"Close"},"Rakhine"]
[283,"2013-07-30","Close","Rakhine","MMR012",null,null,"Sittwe","MMR012001","Ywar Gyi (South) Ward","MMR012001701",null,"MMR012001701516","Kha Maung Taw Monastery","MMR012CMP071","Accessible by All"," 92.894450°"," 20.147100°",0,0,{"$f":"IF(AND(Table_CampList[[#This Row],[HH]]<>\"\",Table_CampList[[#This Row],[HH]]>0),Table_CampList[[#This Row],[Total]]/Table_CampList[[#This Row],[HH]],0)","v":0},"Camp/Community Leader","Estimate","Collective Centre",null,{"$f":"COUNTIF(N:N,Table_CampList[[#This Row],[Camp Name]])","v":1},{"$f":"C40","v":"Close"}]
[254,"2013-07-30","Open","Rakhine","MMR012",null,null,"Sittwe","MMR012001","Khaung Doke Kar","MMR012001025","Khaung Doke Kar",196191,"Khaung Doke Khar ","MMR012CMP042","Accessible by All"," 92.823167°"," 20.181778°",390,2096,{"$f":"IF(AND(Table_CampList[[#This Row],[HH]]<>\"\",Table_CampList[[#This Row],[HH]]>0),Table_CampList[[#This Row],[Total]]/Table_CampList[[#This Row],[HH]],0)","v":5.3743589743589739},"Camp/Community Leader","Estimate","Individual accommodation ",null,{"$f":"COUNTIF(N:N,Table_CampList[[#This Row],[Camp Name]])","v":1},{"$f":"C41","v":"Open"},"Muslim"]
[242,"2013-07-30","Open","Rakhine","MMR012",null,null,"Kyauktaw","MMR012004","Khaung Toke","MMR012004030","Khaung Toke (Ku Lar)",196838,"Khaung Htoke","MMR012CMP030","Accessible by All"," 93.006498°"," 20.886998°",97,557,{"$f":"IF(AND(Table_CampList[[#This Row],[HH]]<>\"\",Table_CampList[[#This Row],[HH]]>0),Table_CampList[[#This Row],[Total]]/Table_CampList[[#This Row],[HH]],0)","v":5.7422680412371134},"Camp/Community Leader","Estimate","Planned Camp",null,{"$f":"COUNTIF(N:N,Table_CampList[[#This Row],[Camp Name]])","v":1},{"$f":"C42","v":"Open"},"Muslim"]
[292,"2013-07-30","Close","Rakhine","MMR012",null,null,"Maungdaw","MMR012009","(Du) Chee Yar Tan","MMR012009069","King Chaung(No standard name yet)",217898,"Kin Chaung","MMR012CMP080","Accessible by All"," 92.424139°"," 20.762731°",null,null,{"$f":"IF(AND(Table_CampList[[#This Row],[HH]]<>\"\",Table_CampList[[#This Row],[HH]]>0),Table_CampList[[#This Row],[Total]]/Table_CampList[[#This Row],[HH]],0)","v":0},"Camp/Community Leader","Estimate","Individual accommodation ",null,{"$f":"COUNTIF(N:N,Table_CampList[[#This Row],[Camp Name]])","v":1},{"$f":"C43","v":"Close"},"Rakhine"]
[null,"2013-08-31","Open","Rakhine","MMR012",null,null,"Rathedaung",null,null,null,null,null,"Koe Tan Kauk","MMR012CMP110","Accessible by All"," 92.639589°"," 20.447261°",202,928,{"$f":"IF(AND(Table_CampList[[#This Row],[HH]]<>\"\",Table_CampList[[#This Row],[HH]]>0),Table_CampList[[#This Row],[Total]]/Table_CampList[[#This Row],[HH]],0)","v":4.5940594059405937},"Camp/Community Leader","Estimate","Planned Camp",null,{"$f":"COUNTIF(N:N,Table_CampList[[#This Row],[Camp Name]])","v":1},{"$f":"C44","v":"Open"},"Muslim"]
[245,"2013-07-30","Close","Rakhine","MMR012",null,null,"Rathedaung","MMR012008","Koe Tan Kauk","MMR012008031","Chein Khar Li (Ku Lar)",197651,"Koe Tan Kauk/Chein Khar Li","MMR012CMP033","Accessible by All"," 92.650180°"," 20.432280°",0,0,{"$f":"IF(AND(Table_CampList[[#This Row],[HH]]<>\"\",Table_CampList[[#This Row],[HH]]>0),Table_CampList[[#This Row],[Total]]/Table_CampList[[#This Row],[HH]],0)","v":0},"Camp/Community Leader","Estimate","Individual accommodation ",null,{"$f":"COUNTIF(N:N,Table_CampList[[#This Row],[Camp Name]])","v":1},{"$f":"C45","v":"Close"},"Muslim"]
[290,"2013-07-30","Close","Rakhine","MMR012",null,null,"Maungdaw","MMR012009","NA","NA","NA","NA","Kyaing Gyi","MMR012CMP078","Accessible by All","NA","NA",0,0,{"$f":"IF(AND(Table_CampList[[#This Row],[HH]]<>\"\",Table_CampList[[#This Row],[HH]]>0),Table_CampList[[#This Row],[Total]]/Table_CampList[[#This Row],[HH]],0)","v":0},"Camp/Community Leader","Estimate","Planned Camp",null,{"$f":"COUNTIF(N:N,Table_CampList[[#This Row],[Camp Name]])","v":1},{"$f":"C46","v":"Close"}]
[247,"2013-07-30","Open","Rakhine","MMR012",null,null,"Kyauk_Phyu","MMR012011","Gone Chein","MMR012011006","Say Poke Kay",198486,"Kyauk Ta Lone","MMR012CMP035","Accessible by All"," 93.512326°"," 19.424577°",427,1549,{"$f":"IF(AND(Table_CampList[[#This Row],[HH]]<>\"\",Table_CampList[[#This Row],[HH]]>0),Table_CampList[[#This Row],[Total]]/Table_CampList[[#This Row],[HH]],0)","v":3.6276346604215455},"Camp/Community Leader","Estimate","Individual accommodation ",null,{"$f":"COUNTIF(N:N,Table_CampList[[#This Row],[Camp Name]])","v":1},{"$f":"C47","v":"Open"},"Muslim"]
[230,"2013-07-30","Open","Rakhine","MMR012",null,null,"Pauktaw","MMR012007","Pein Hne Chaung","MMR012007049","Kyein Ni Pyin",197533,"Kyein Ni Pyin","MMR012CMP018","Accessible by All"," 93.010369°"," 20.090183°",923,4554,{"$f":"IF(AND(Table_CampList[[#This Row],[HH]]<>\"\",Table_CampList[[#This Row],[HH]]>0),Table_CampList[[#This Row],[Total]]/Table_CampList[[#This Row],[HH]],0)","v":4.9339111592632721},"Camp/Community Leader","Estimate","Planned Camp",null,{"$f":"COUNTIF(N:N,Table_CampList[[#This Row],[Camp Name]])","v":1},{"$f":"C48","v":"Open"},"Muslim"]
[299,"2013-07-30","Close","Rakhine","MMR012",null,null,"Maungdaw","MMR012009","Zaw Ma Tet","MMR012009078","Zaw Ma Tet",198045,"Lamber Gone Nah","MMR012CMP087","Accessible by All"," 92.426886°"," 20.717331°",null,null,{"$f":"IF(AND(Table_CampList[[#This Row],[HH]]<>\"\",Table_CampList[[#This Row],[HH]]>0),Table_CampList[[#This Row],[Total]]/Table_CampList[[#This Row],[HH]],0)","v":0},"Camp/Community Leader","Estimate","Individual accommodation ",null,{"$f":"COUNTIF(N:N,Table_CampList[[#This Row],[Camp Name]])","v":1},{"$f":"C49","v":"Close"},"Muslim"]
[274,"2013-07-30","Close","Rakhine","MMR012",null,null,"Sittwe","MMR012001","Sin Ku Lan Ward","MMR012001701",null,"MMR012001701512","Layaungwin Monastery","MMR012CMP062","Accessible by All"," 92.896006°"," 20.154331°",0,0,{"$f":"IF(AND(Table_CampList[[#This Row],[HH]]<>\"\",Table_CampList[[#This Row],[HH]]>0),Table_CampList[[#This Row],[Total]]/Table_CampList[[#This Row],[HH]],0)","v":0},"Camp/Community Leader","Estimate","Collective Centre",null,{"$f":"COUNTIF(N:N,Table_CampList[[#This Row],[Camp Name]])","v":1},{"$f":"C50","v":"Close"}]
[232,"2013-07-30","Open","Rakhine","MMR012",null,null,"Kyauktaw","MMR012004","Hpa Yar Paung","MMR012004046","Taung Pauk",196873,"Let Saung Kauk","MMR012CMP020","Accessible by All"," 92.982676°"," 20.805734°",18,157,{"$f":"IF(AND(Table_CampList[[#This Row],[HH]]<>\"\",Table_CampList[[#This Row],[HH]]>0),Table_CampList[[#This Row],[Total]]/Table_CampList[[#This Row],[HH]],0)","v":8.7222222222222214},"Camp/Community Leader","Estimate","Individual accommodation ",null,{"$f":"COUNTIF(N:N,Table_CampList[[#This Row],[Camp Name]])","v":1},{"$f":"C51","v":"Open"},"Muslim"]
[265,"2013-07-30","Close","Rakhine","MMR012",null,null,"Sittwe","MMR012001","Ye New Su Ward","MMR012001701",null,"MMR012001701523","Ma Gyi Myaing","MMR012CMP053","Accessible by All"," 92.886890°"," 20.132695°",0,0,{"$f":"IF(AND(Table_CampList[[#This Row],[HH]]<>\"\",Table_CampList[[#This Row],[HH]]>0),Table_CampList[[#This Row],[Total]]/Table_CampList[[#This Row],[HH]],0)","v":0},"Camp/Community Leader","Estimate","Planned Camp",null,{"$f":"COUNTIF(N:N,Table_CampList[[#This Row],[Camp Name]])","v":1},{"$f":"C52","v":"Close"}]
[284,"2013-07-30","Close","Rakhine","MMR012",null,null,"Sittwe","MMR012001",null,null,null,null,"Ma Ni Yadanar Monastery","MMR012CMP072","Accessible by All"," 92.893904°"," 20.146673°",0,0,{"$f":"IF(AND(Table_CampList[[#This Row],[HH]]<>\"\",Table_CampList[[#This Row],[HH]]>0),Table_CampList[[#This Row],[Total]]/Table_CampList[[#This Row],[HH]],0)","v":0},"Camp/Community Leader","Estimate","Collective Centre",null,{"$f":"COUNTIF(N:N,Table_CampList[[#This Row],[Camp Name]])","v":1},{"$f":"C53","v":"Close"}]
[305,"2013-07-30","Open","Rakhine","MMR012",null,null,"Sittwe","MMR012001","Bu May","MMR012001027","Bu May",196200,"Maw Ti Ngar (TKP west)","MMR012CMP092","Accessible by All"," 92.831000°"," 20.185917°",512,3066,{"$f":"IF(AND(Table_CampList[[#This Row],[HH]]<>\"\",Table_CampList[[#This Row],[HH]]>0),Table_CampList[[#This Row],[Total]]/Table_CampList[[#This Row],[HH]],0)","v":5.98828125},"Camp/Community Leader","Estimate","Individual accommodation ",null,{"$f":"COUNTIF(N:N,Table_CampList[[#This Row],[Camp Name]])","v":1},{"$f":"C54","v":"Open"},"Muslim"]
[288,"2013-07-30","Close","Rakhine","MMR012",null,null,"Maungdaw","MMR012009","NA","NA","NA","NA","Maw Ya Waddy","MMR012CMP076","Accessible by All","NA","NA",0,0,{"$f":"IF(AND(Table_CampList[[#This Row],[HH]]<>\"\",Table_CampList[[#This Row],[HH]]>0),Table_CampList[[#This Row],[Total]]/Table_CampList[[#This Row],[HH]],0)","v":0},"Camp/Community Leader","Estimate","Planned Camp",null,{"$f":"COUNTIF(N:N,Table_CampList[[#This Row],[Camp Name]])","v":1},{"$f":"C55","v":"Close"}]
[266,"2013-07-30","Close","Rakhine","MMR012",null,null,"Sittwe","MMR012001","Min Gan Ward","MMR012001701",null,"MMR012001701532","Mingan","MMR012CMP054","Accessible by All"," 92.860599°"," 20.154343°",null,null,{"$f":"IF(AND(Table_CampList[[#This Row],[HH]]<>\"\",Table_CampList[[#This Row],[HH]]>0),Table_CampList[[#This Row],[Total]]/Table_CampList[[#This Row],[HH]],0)","v":0},"Camp/Community Leader","Estimate","Planned Camp",null,{"$f":"COUNTIF(N:N,Table_CampList[[#This Row],[Camp Name]])","v":1},{"$f":"C56","v":"Close"}]
[223,"2013-07-30","Open","Rakhine","MMR012",null,null,"Mrauk_U","MMR012003","Urban","MMR012003701",null,null,"Myat Buddha Mandine Monastery","MMR012CMP011","Accessible by All"," 93.187996°"," 20.589569°",31,164,{"$f":"IF(AND(Table_CampList[[#This Row],[HH]]<>\"\",Table_CampList[[#This Row],[HH]]>0),Table_CampList[[#This Row],[Total]]/Table_CampList[[#This Row],[HH]],0)","v":5.290322580645161},"Camp/Community Leader","Estimate","Individual accommodation ","Ward Name not available",{"$f":"COUNTIF(N:N,Table_CampList[[#This Row],[Camp Name]])","v":1},{"$f":"C57","v":"Open"},"Rakhine"]
[275,"2013-07-30","Close","Rakhine","MMR012",null,null,"Sittwe","MMR012001"," Bauk Thee Su Ward","MMR012001701",null,"MMR012001701518","Myo Ma Monastery","MMR012CMP063","Accessible by All"," 92.897783°"," 20.151050°",0,0,{"$f":"IF(AND(Table_CampList[[#This Row],[HH]]<>\"\",Table_CampList[[#This Row],[HH]]>0),Table_CampList[[#This Row],[Total]]/Table_CampList[[#This Row],[HH]],0)","v":0},"Camp/Community Leader","Estimate","Collective Centre",null,{"$f":"COUNTIF(N:N,Table_CampList[[#This Row],[Camp Name]])","v":1},{"$f":"C58","v":"Close"}]
[295,"2013-07-30","Open","Rakhine","MMR012",null,null,"Maungdaw","MMR012009","Myo Ma (North) Ward","MMR012009701",null,"MMR012009701503","Myoma Myauk","MMR012CMP083","Accessible by All"," 92.362933°"," 20.827044°",80,585,{"$f":"IF(AND(Table_CampList[[#This Row],[HH]]<>\"\",Table_CampList[[#This Row],[HH]]>0),Table_CampList[[#This Row],[Total]]/Table_CampList[[#This Row],[HH]],0)","v":7.3125},"Camp/Community Leader","Estimate","Individual accommodation ",null,{"$f":"COUNTIF(N:N,Table_CampList[[#This Row],[Camp Name]])","v":1},{"$f":"C59","v":"Open"},"Muslim"]
[216,"2013-07-30","Close","Rakhine","MMR012",null,null,"Minbya","MMR012005","Shwe Ta Mar","MMR012005018","Na Ga Yar Pyin",197063,"Nagara Pauktaw","MMR012CMP004","Accessible by All"," 93.258476°"," 20.554084°",0,0,{"$f":"IF(AND(Table_CampList[[#This Row],[HH]]<>\"\",Table_CampList[[#This Row],[HH]]>0),Table_CampList[[#This Row],[Total]]/Table_CampList[[#This Row],[HH]],0)","v":0},"Camp/Community Leader","Estimate","Privately Hosted",null,{"$f":"COUNTIF(N:N,Table_CampList[[#This Row],[Camp Name]])","v":1},{"$f":"C60","v":"Close"}]
[229,"2013-07-30","Open","Rakhine","MMR012",null,null,"Pauktaw","MMR012007","Pon Nar Gyi","MMR012007012","Cha Eik",197414,"Nget Chaung","MMR012CMP017","Accessible by All"," 93.154552°"," 20.073438°",236,1340,{"$f":"IF(AND(Table_CampList[[#This Row],[HH]]<>\"\",Table_CampList[[#This Row],[HH]]>0),Table_CampList[[#This Row],[Total]]/Table_CampList[[#This Row],[HH]],0)","v":5.6779661016949152},"Camp/Community Leader","Estimate","Individual accommodation ",null,{"$f":"COUNTIF(N:N,Table_CampList[[#This Row],[Camp Name]])","v":1},{"$f":"C61","v":"Open"},"Muslim"]
[235,"2013-07-30","Open","Rakhine","MMR012",null,null,"Kyauktaw","MMR012004","Wa Kin","MMR012004028","Ni Din",196829,"Nidin","MMR012CMP023","Accessible by All"," 92.965981°"," 20.865687°",83,516,{"$f":"IF(AND(Table_CampList[[#This Row],[HH]]<>\"\",Table_CampList[[#This Row],[HH]]>0),Table_CampList[[#This Row],[Total]]/Table_CampList[[#This Row],[HH]],0)","v":6.2168674698795181},"Camp/Community Leader","Estimate","Individual (non hosted)",null,{"$f":"COUNTIF(N:N,Table_CampList[[#This Row],[Camp Name]])","v":1},{"$f":"C62","v":"Open"},"Muslim"]
[243,"2013-07-30","Open","Rakhine","MMR012",null,null,"Rathedaung","MMR012008","Nyaung Pin Gyi","MMR012008082","Nyaung Pin Gyi (Ku Lar)",197780,"Nyaung Pin Gyi","MMR012CMP031","Accessible by All"," 92.786301°"," 20.336254°",62,372,{"$f":"IF(AND(Table_CampList[[#This Row],[HH]]<>\"\",Table_CampList[[#This Row],[HH]]>0),Table_CampList[[#This Row],[Total]]/Table_CampList[[#This Row],[HH]],0)","v":6},"Camp/Community Leader","Estimate","Individual (non hosted)",null,{"$f":"COUNTIF(N:N,Table_CampList[[#This Row],[Camp Name]])","v":1},{"$f":"C63","v":"Open"},"Muslim"]
[294,"2013-07-30","Open","Rakhine","MMR012",null,null,"Maungdaw","MMR012009","Urban","MMR012009701",null,null,"Nyaung Pin Hla","MMR012CMP082","Accessible by All"," 92.362197°"," 20.824778°",4,20,{"$f":"IF(AND(Table_CampList[[#This Row],[HH]]<>\"\",Table_CampList[[#This Row],[HH]]>0),Table_CampList[[#This Row],[Total]]/Table_CampList[[#This Row],[HH]],0)","v":5},"Camp/Community Leader","Estimate","Individual (non hosted)","Ward Name not available",{"$f":"COUNTIF(N:N,Table_CampList[[#This Row],[Camp Name]])","v":1},{"$f":"C64","v":"Open"},"Muslim"]
[255,"2013-07-30","Open","Rakhine","MMR012",null,null,"Sittwe","MMR012001","Khaung Doke Kar","MMR012001025","Baw Du Hpa",196192,"Ohn Taw Gyi 1","MMR012CMP043","Accessible by All"," 92.798677°"," 20.187751°",1076,6225,{"$f":"IF(AND(Table_CampList[[#This Row],[HH]]<>\"\",Table_CampList[[#This Row],[HH]]>0),Table_CampList[[#This Row],[Total]]/Table_CampList[[#This Row],[HH]],0)","v":5.7853159851301115},"Camp/Community Leader","Estimate","Planned Camp",null,{"$f":"COUNTIF(N:N,Table_CampList[[#This Row],[Camp Name]])","v":1},{"$f":"C65","v":"Open"},"Muslim"]
[null,"2013-07-30","Open","Rakhine","MMR012",null,null,"Sittwe","MMR012001","Say Tha Mar","MMR012001010","Ohn Taw Shey",196158,"Ohn Taw Gyi 2","MMR012CMP098","Accessible by All"," 92.774194°"," 20.206778°",626,2937,{"$f":"IF(AND(Table_CampList[[#This Row],[HH]]<>\"\",Table_CampList[[#This Row],[HH]]>0),Table_CampList[[#This Row],[Total]]/Table_CampList[[#This Row],[HH]],0)","v":4.6916932907348246},"Camp/Community Leader","Estimate","Planned Camp",null,{"$f":"COUNTIF(N:N,Table_CampList[[#This Row],[Camp Name]])","v":1},{"$f":"C66","v":"Open"},"Muslim"]
[303,"2013-07-30","Open","Rakhine","MMR012",null,null,"Sittwe","MMR012001","Khaung Doke Kar","MMR012001025","Baw Du Hpa",196192,"Ohn Taw Gyi 3","MMR012CMP090","Accessible by All","92.800694°","20.190056°",342,1796,{"$f":"IF(AND(Table_CampList[[#This Row],[HH]]<>\"\",Table_CampList[[#This Row],[HH]]>0),Table_CampList[[#This Row],[Total]]/Table_CampList[[#This Row],[HH]],0)","v":5.2514619883040936},"Camp/Community Leader","Estimate","Planned Camp",null,{"$f":"COUNTIF(N:N,Table_CampList[[#This Row],[Camp Name]])","v":1},{"$f":"C67","v":"Open"},"Muslim"]
[null,"2013-07-30","Open","Rakhine","MMR012",null,null,"Sittwe","MMR012001","Khaung Doke Kar","MMR012001025","Baw Du Hpa",196192,"Ohn Taw Gyi 4","MMR012CMP099","Accessible by All","92.800528°","20.185583°",891,4914,{"$f":"IF(AND(Table_CampList[[#This Row],[HH]]<>\"\",Table_CampList[[#This Row],[HH]]>0),Table_CampList[[#This Row],[Total]]/Table_CampList[[#This Row],[HH]],0)","v":5.5151515151515156},"Camp/Community Leader","Estimate","Planned Camp","This HH and Total population is for Both camps Ohn Taw Gyi 4 and 5 because information is only possible to get combine information for 2 camps.",{"$f":"COUNTIF(N:N,Table_CampList[[#This Row],[Camp Name]])","v":1},{"$f":"C68","v":"Open"},"Muslim"]
[null,"2013-07-30","Open","Rakhine","MMR012",null,null,"Sittwe","MMR012001","Khaung Doke Kar","MMR012001025","Baw Du Hpa",196192,"Ohn Taw Gyi 5","MMR012CMP100","Accessible by All","92.799861°","20.185194°",809,4675,{"$f":"IF(AND(Table_CampList[[#This Row],[HH]]<>\"\",Table_CampList[[#This Row],[HH]]>0),Table_CampList[[#This Row],[Total]]/Table_CampList[[#This Row],[HH]],0)","v":5.7787391841779971},"Camp/Community Leader","Estimate","Planned Camp",null,{"$f":"COUNTIF(N:N,Table_CampList[[#This Row],[Camp Name]])","v":1},{"$f":"C69","v":"Open"},"Muslim"]
[262,"2013-07-30","Close","Rakhine","MMR012",null,null,"Sittwe","MMR012001","Say Tha Mar","MMR012001010","Say Tha Mar Gyi",196154,"Pa Lin Pyin Ywar Thit","MMR012CMP050","Accessible by All"," 92.792959°"," 20.205295°",0,0,{"$f":"IF(AND(Table_CampList[[#This Row],[HH]]<>\"\",Table_CampList[[#This Row],[HH]]>0),Table_CampList[[#This Row],[Total]]/Table_CampList[[#This Row],[HH]],0)","v":0},"Camp/Community Leader","Estimate","Self-Settled Camp",null,{"$f":"COUNTIF(N:N,Table_CampList[[#This Row],[Camp Name]])","v":1},{"$f":"C70","v":"Close"}]
[221,"2013-07-30","Open","Rakhine","MMR012",null,null,"Mrauk_U","MMR012003","Pu Rein","MMR012003004","Pu Rein",196428,"Pa Rein","MMR012CMP009","Accessible by All"," 93.245551°"," 20.576577°",240,1228,{"$f":"IF(AND(Table_CampList[[#This Row],[HH]]<>\"\",Table_CampList[[#This Row],[HH]]>0),Table_CampList[[#This Row],[Total]]/Table_CampList[[#This Row],[HH]],0)","v":5.1166666666666663},"Camp/Community Leader","Estimate","Individual (non hosted)",null,{"$f":"COUNTIF(N:N,Table_CampList[[#This Row],[Camp Name]])","v":1},{"$f":"C71","v":"Open"},"Muslim"]
[213,"2013-07-30","Open","Rakhine","MMR012",null,null,"Minbya","MMR012005","Kin Seik","MMR012005001","Kin Seik",196984,"Paik Thay","MMR012CMP001","Accessible by All"," 93.271642°"," 20.377523°",19,143,{"$f":"IF(AND(Table_CampList[[#This Row],[HH]]<>\"\",Table_CampList[[#This Row],[HH]]>0),Table_CampList[[#This Row],[Total]]/Table_CampList[[#This Row],[HH]],0)","v":7.5263157894736841},"Camp/Community Leader","Estimate","Individual (non hosted)",null,{"$f":"COUNTIF(N:N,Table_CampList[[#This Row],[Camp Name]])","v":1},{"$f":"C72","v":"Open"},"Muslim"]
[248,"2013-07-30","Open","Rakhine","MMR012",null,null,"Kyauk_Phyu","MMR012011","Taung Yin","MMR012011002","Ka Nyin Taw",198469,"Pha Yar Gyi Kwin","MMR012CMP036","Accessible by All"," 93.552452°"," 19.421102°",65,318,{"$f":"IF(AND(Table_CampList[[#This Row],[HH]]<>\"\",Table_CampList[[#This Row],[HH]]>0),Table_CampList[[#This Row],[Total]]/Table_CampList[[#This Row],[HH]],0)","v":4.8923076923076927},"Camp/Community Leader","Estimate","Planned Camp",null,{"$f":"COUNTIF(N:N,Table_CampList[[#This Row],[Camp Name]])","v":1},{"$f":"C73","v":"Open"},"Rakhine"]
[256,"2013-07-30","Open","Rakhine","MMR012",null,null,"Sittwe","MMR012001","Aung Daing","MMR012001005","Hpwe Ywar Kone",196157,"Phwe Yar Kone","MMR012CMP044","Accessible by All"," 92.788177°"," 20.207285°",350,2115,{"$f":"IF(AND(Table_CampList[[#This Row],[HH]]<>\"\",Table_CampList[[#This Row],[HH]]>0),Table_CampList[[#This Row],[Total]]/Table_CampList[[#This Row],[HH]],0)","v":6.0428571428571427},"Camp/Community Leader","Estimate","Planned Camp",null,{"$f":"COUNTIF(N:N,Table_CampList[[#This Row],[Camp Name]])","v":1},{"$f":"C74","v":"Open"},"Muslim"]
[276,"2013-07-30","Close","Rakhine","MMR012",null,null,"Sittwe","MMR012001","Baung Dut Ward","MMR012001701",null,"MMR012001701517","Pyin Nyar Mandine Monastery","MMR012CMP064","Accessible by All"," 92.896944°"," 20.150892°",0,0,{"$f":"IF(AND(Table_CampList[[#This Row],[HH]]<>\"\",Table_CampList[[#This Row],[HH]]>0),Table_CampList[[#This Row],[Total]]/Table_CampList[[#This Row],[HH]],0)","v":0},"Camp/Community Leader","Estimate","Collective Centre",null,{"$f":"COUNTIF(N:N,Table_CampList[[#This Row],[Camp Name]])","v":1},{"$f":"C75","v":"Close"}]
[250,"2013-07-30","Open","Rakhine","MMR012",null,null,"Ramree","MMR012013","Kha Maung Chi Taing","MMR012013020",null,null,"Ramree Town","MMR012CMP038","Accessible by All"," 93.865170°"," 19.091054°",12,44,{"$f":"IF(AND(Table_CampList[[#This Row],[HH]]<>\"\",Table_CampList[[#This Row],[HH]]>0),Table_CampList[[#This Row],[Total]]/Table_CampList[[#This Row],[HH]],0)","v":3.6666666666666665},"Camp/Community Leader","Estimate","Privately Hosted","Urban",{"$f":"COUNTIF(N:N,Table_CampList[[#This Row],[Camp Name]])","v":1},{"$f":"C76","v":"Open"},"Rakhine"]
[249,"2013-07-30","Open","Rakhine","MMR012",null,null,"Ramree","MMR012013","Kha Maung Chi Taing","MMR012013020",null,null,"Ramree Ward 6","MMR012CMP037","Accessible by All"," 93.857593°"," 19.088283°",57,183,{"$f":"IF(AND(Table_CampList[[#This Row],[HH]]<>\"\",Table_CampList[[#This Row],[HH]]>0),Table_CampList[[#This Row],[Total]]/Table_CampList[[#This Row],[HH]],0)","v":3.2105263157894739},"Camp/Community Leader","Estimate","Planned Camp","Urban",{"$f":"COUNTIF(N:N,Table_CampList[[#This Row],[Camp Name]])","v":1},{"$f":"C77","v":"Open"},"Muslim"]
[224,"2013-07-30","Open","Rakhine","MMR012",null,null,"Mrauk_U","MMR012003","Sin Oe","MMR012003006","Raw Ma Ni",196441,"Raw Ma Ni Sin Oe","MMR012CMP012","Accessible by All"," 93.239520°"," 20.616920°",15,64,{"$f":"IF(AND(Table_CampList[[#This Row],[HH]]<>\"\",Table_CampList[[#This Row],[HH]]>0),Table_CampList[[#This Row],[Total]]/Table_CampList[[#This Row],[HH]],0)","v":4.2666666666666666},"Camp/Community Leader","Estimate","Collective Centre",null,{"$f":"COUNTIF(N:N,Table_CampList[[#This Row],[Camp Name]])","v":1},{"$f":"C78","v":"Open"},"Maramargyi"]
[220,"2013-07-30","Open","Rakhine","MMR012",null,null,"Minbya","MMR012005","San Bar Lay","MMR012005009","Zi War",197025,"Sam Ba Le","MMR012CMP008","Accessible by All"," 93.313628°"," 20.407971°",225,1317,{"$f":"IF(AND(Table_CampList[[#This Row],[HH]]<>\"\",Table_CampList[[#This Row],[HH]]>0),Table_CampList[[#This Row],[Total]]/Table_CampList[[#This Row],[HH]],0)","v":5.8533333333333335},"Camp/Community Leader","Estimate","Individual (non hosted)",null,{"$f":"COUNTIF(N:N,Table_CampList[[#This Row],[Camp Name]])","v":1},{"$f":"C79","v":"Open"},"Muslim"]
[215,"2013-07-30","Open","Rakhine","MMR012",null,null,"Minbya","MMR012005","Chaik Taung","MMR012005003","San Htoe Tan",196995,"San Htoe Tan","MMR012CMP003","Accessible by All"," 93.249670°"," 20.399020°",124,475,{"$f":"IF(AND(Table_CampList[[#This Row],[HH]]<>\"\",Table_CampList[[#This Row],[HH]]>0),Table_CampList[[#This Row],[Total]]/Table_CampList[[#This Row],[HH]],0)","v":3.8306451612903225},"Camp/Community Leader","Estimate","Individual (non hosted)",null,{"$f":"COUNTIF(N:N,Table_CampList[[#This Row],[Camp Name]])","v":1},{"$f":"C80","v":"Open"},"Muslim"]
[null,"2013-07-30","Open","Rakhine","MMR012",null,null,"Sittwe","MMR012001","Urban","MMR012001701","Sut Yoe Kya Ward","MMR012001701531","Sat Roe Kya","MMR012CMP105","Accessible by All"," 92.887278°"," 20.151472°",630,3014,{"$f":"IF(AND(Table_CampList[[#This Row],[HH]]<>\"\",Table_CampList[[#This Row],[HH]]>0),Table_CampList[[#This Row],[Total]]/Table_CampList[[#This Row],[HH]],0)","v":4.784126984126984},"Camp/Community Leader","Estimate","Individual (non hosted)",null,{"$f":"COUNTIF(N:N,Table_CampList[[#This Row],[Camp Name]])","v":1},{"$f":"C81","v":"Open"},"Rakhine"]
[null,"2013-07-30","Open","Rakhine","MMR012",null,null,"Sittwe","MMR012001","Say Tha Mar","MMR012001010","Say Tha Mar Gyi",196154,"Say Tha Mar Gyi","MMR012CMP045","Accessible by All"," 92.792480°"," 20.202525°",2160,11710,{"$f":"IF(AND(Table_CampList[[#This Row],[HH]]<>\"\",Table_CampList[[#This Row],[HH]]>0),Table_CampList[[#This Row],[Total]]/Table_CampList[[#This Row],[HH]],0)","v":5.4212962962962967},"Camp/Community Leader","Estimate","Planned Camp",null,{"$f":"COUNTIF(N:N,Table_CampList[[#This Row],[Camp Name]])","v":1},{"$f":"C82","v":"Open"},"Muslim"]
[null,"2013-07-30","Open","Rakhine","MMR012",null,null,"Minbya","MMR012005","Na Yan","MMR012005010","Sat Yon Maw (Ku Lar)",197023,"Set Yone Maw","MMR012CMP104","Accessible by All"," 93.314695°"," 20.409645°",17,79,{"$f":"IF(AND(Table_CampList[[#This Row],[HH]]<>\"\",Table_CampList[[#This Row],[HH]]>0),Table_CampList[[#This Row],[Total]]/Table_CampList[[#This Row],[HH]],0)","v":4.6470588235294121},"Camp/Community Leader","Estimate","Individual (non hosted)",null,{"$f":"COUNTIF(N:N,Table_CampList[[#This Row],[Camp Name]])","v":1},{"$f":"C83","v":"Open"},"Rakhine"]
[null,"2013-07-30","Open","Rakhine","MMR012",null,null,"Sittwe","MMR012001","Set Yon Su Ward","MMR012001701",null,"MMR012001701526","Set Yone Su","MMR012CMP056","Accessible by All"," 92.880320°"," 20.148584°",74,435,{"$f":"IF(AND(Table_CampList[[#This Row],[HH]]<>\"\",Table_CampList[[#This Row],[HH]]>0),Table_CampList[[#This Row],[Total]]/Table_CampList[[#This Row],[HH]],0)","v":5.8783783783783781},"Camp/Community Leader","Estimate","Planned Camp",null,{"$f":"COUNTIF(N:N,Table_CampList[[#This Row],[Camp Name]])","v":1},{"$f":"C84","v":"Open"},"Maramargyi"]
[null,"2013-07-30","Open","Rakhine","MMR012",null,null,"Sittwe","MMR012001","Set Yon Su Ward","MMR012001701",null,"MMR012001701526","Set Yone Su 3","MMR012CMP093","Accessible by All"," 92.879139°","20.155806°",176,779,{"$f":"IF(AND(Table_CampList[[#This Row],[HH]]<>\"\",Table_CampList[[#This Row],[HH]]>0),Table_CampList[[#This Row],[Total]]/Table_CampList[[#This Row],[HH]],0)","v":4.4261363636363633},"Camp/Community Leader","Estimate","Planned Camp",null,{"$f":"COUNTIF(N:N,Table_CampList[[#This Row],[Camp Name]])","v":1},{"$f":"C85","v":"Open"},"Rakhine"]
[null,"2013-07-30","Open","Rakhine","MMR012",null,null,"Kyauktaw","MMR012004","Sin Oe Chaing","MMR012004069","Shwe Hlaing Ku Lar",196868,"Shwe Hlaing","MMR012CMP029","Accessible by All"," 92.987400°"," 20.783320°",174,920,{"$f":"IF(AND(Table_CampList[[#This Row],[HH]]<>\"\",Table_CampList[[#This Row],[HH]]>0),Table_CampList[[#This Row],[Total]]/Table_CampList[[#This Row],[HH]],0)","v":5.2873563218390807},"Camp/Community Leader","Estimate","Individual (non hosted)",null,{"$f":"COUNTIF(N:N,Table_CampList[[#This Row],[Camp Name]])","v":1},{"$f":"C86","v":"Open"},"Muslim"]
[null,"2013-07-30","Close","Rakhine","MMR012",null,null,"Sittwe","MMR012001","Ywar Gyi (North) Ward","MMR012001701",null,"MMR012001701515","Shwe Zay Ti Monastery","MMR012CMP065","Accessible by All"," 92.894500°"," 20.146200°",0,0,{"$f":"IF(AND(Table_CampList[[#This Row],[HH]]<>\"\",Table_CampList[[#This Row],[HH]]>0),Table_CampList[[#This Row],[Total]]/Table_CampList[[#This Row],[HH]],0)","v":0},"Camp/Community Leader","Estimate","Collective Centre",null,{"$f":"COUNTIF(N:N,Table_CampList[[#This Row],[Camp Name]])","v":1},{"$f":"C87","v":"Close"}]
[null,"2013-07-30","Close","Rakhine","MMR012",null,null,"Sittwe","MMR012001","Sin Ku Lan Ward","MMR012001701",null,"MMR012001701512","Sin Ku Lann Monastery","MMR012CMP068","Accessible by All"," 92.897933°"," 20.155850°",0,0,{"$f":"IF(AND(Table_CampList[[#This Row],[HH]]<>\"\",Table_CampList[[#This Row],[HH]]>0),Table_CampList[[#This Row],[Total]]/Table_CampList[[#This Row],[HH]],0)","v":0},"Camp/Community Leader","Estimate","Collective Centre",null,{"$f":"COUNTIF(N:N,Table_CampList[[#This Row],[Camp Name]])","v":1},{"$f":"C88","v":"Close"}]
[null,"2013-07-30","Open","Rakhine","MMR012",null,null,"Pauktaw","MMR012007","Sin Tet Maw","MMR012007051","Sin Tet Maw (Ku Lar)",197548,"Sin Tet Maw","MMR012CMP019","Accessible by All"," 92.993759°"," 20.064226°",783,3060,{"$f":"IF(AND(Table_CampList[[#This Row],[HH]]<>\"\",Table_CampList[[#This Row],[HH]]>0),Table_CampList[[#This Row],[Total]]/Table_CampList[[#This Row],[HH]],0)","v":3.9080459770114944},"Camp/Community Leader","Estimate","Planned Camp",null,{"$f":"COUNTIF(N:N,Table_CampList[[#This Row],[Camp Name]])","v":1},{"$f":"C89","v":"Open"},"Muslim"]
[null,"2013-07-30","Open","Rakhine","MMR012",null,null,"Pauktaw","MMR012007","Sin Tet Maw","MMR012007051","Sin Tet Maw (Ku Lar)",197548,"Sin Tet Maw (from Nget Chaung)","MMR012CMP096","Accessible by All"," 92.993360°"," 20.063098°",1165,7052,{"$f":"IF(AND(Table_CampList[[#This Row],[HH]]<>\"\",Table_CampList[[#This Row],[HH]]>0),Table_CampList[[#This Row],[Total]]/Table_CampList[[#This Row],[HH]],0)","v":6.0532188841201719},"Camp/Community Leader","Estimate","Individual (non hosted)",null,{"$f":"COUNTIF(N:N,Table_CampList[[#This Row],[Camp Name]])","v":1},{"$f":"C90","v":"Open"},"Muslim"]
[null,"2013-07-30","Open","Rakhine","MMR012",null,null,"Maungdaw","MMR012009","Laung Don","MMR012009025","Laung Done Zay Di Pyin",197868,"Sin Thay Pyin","MMR012CMP094","Accessible by All"," 92.338031°"," 21.066664°",8,53,{"$f":"IF(AND(Table_CampList[[#This Row],[HH]]<>\"\",Table_CampList[[#This Row],[HH]]>0),Table_CampList[[#This Row],[Total]]/Table_CampList[[#This Row],[HH]],0)","v":6.625},"Camp/Community Leader","Estimate","Privately Hosted",null,{"$f":"COUNTIF(N:N,Table_CampList[[#This Row],[Camp Name]])","v":1},{"$f":"C91","v":"Open"},"Muslim"]
[null,"2013-07-30","Close","Rakhine","MMR012",null,null,"Sittwe","MMR012001","Pyi Taw Thar Ward","MMR012001701",null,"MMR012001701520","Su Taung Pyae Monastery","MMR012CMP066","Accessible by All"," 92.888950°"," 20.125033°",0,0,{"$f":"IF(AND(Table_CampList[[#This Row],[HH]]<>\"\",Table_CampList[[#This Row],[HH]]>0),Table_CampList[[#This Row],[Total]]/Table_CampList[[#This Row],[HH]],0)","v":0},"Camp/Community Leader","Estimate","Collective Centre",null,{"$f":"COUNTIF(N:N,Table_CampList[[#This Row],[Camp Name]])","v":1},{"$f":"C92","v":"Close"}]
[null,"2013-07-30","Open","Rakhine","MMR012",null,null,"Kyauktaw","MMR012004","Ya Da Nar Pon","MMR012004019","Ku Lar Taung Bway",196789,"Taung Bwe","MMR012CMP021","Accessible by All"," 93.000815°"," 20.929649°",64,512,{"$f":"IF(AND(Table_CampList[[#This Row],[HH]]<>\"\",Table_CampList[[#This Row],[HH]]>0),Table_CampList[[#This Row],[Total]]/Table_CampList[[#This Row],[HH]],0)","v":8},"Camp/Community Leader","Estimate","Individual (non hosted)",null,{"$f":"COUNTIF(N:N,Table_CampList[[#This Row],[Camp Name]])","v":1},{"$f":"C93","v":"Open"},"Muslim"]
[null,"2013-07-30","Open","Rakhine","MMR012",null,null,"Meybon","MMR012006","Ah Ngu","MMR012006001","Pyin Taw Che",217973,"Taung Paw ","MMR012CMP014","Accessible by All"," 93.370038°"," 20.037655°",632,3844,{"$f":"IF(AND(Table_CampList[[#This Row],[HH]]<>\"\",Table_CampList[[#This Row],[HH]]>0),Table_CampList[[#This Row],[Total]]/Table_CampList[[#This Row],[HH]],0)","v":6.0822784810126587},"Camp/Community Leader","Estimate","Planned Camp",null,{"$f":"COUNTIF(N:N,Table_CampList[[#This Row],[Camp Name]])","v":1},{"$f":"C94","v":"Open"},"Muslim"]
[null,"2013-07-30","Open","Rakhine","MMR012",null,null,"Minbya","MMR012005","Kin Seik","MMR012005001","Thar Dar",196997,"Tha Dar","MMR012CMP002","Accessible by All"," 93.257272°"," 20.392138°",203,1008,{"$f":"IF(AND(Table_CampList[[#This Row],[HH]]<>\"\",Table_CampList[[#This Row],[HH]]>0),Table_CampList[[#This Row],[Total]]/Table_CampList[[#This Row],[HH]],0)","v":4.9655172413793105},"Camp/Community Leader","Estimate","Individual (non hosted)",null,{"$f":"COUNTIF(N:N,Table_CampList[[#This Row],[Camp Name]])","v":1},{"$f":"C95","v":"Open"},"Muslim"]
[null,"2013-07-30","Close","Rakhine","MMR012",null,null,"Maungdaw","MMR012009","Tha Yae Kone Tan","MMR012009080","Tha Ray Kon Baung",198016,"Tha Yay Kone Baung","MMR012CMP077","Accessible by All"," 92.429600°"," 20.729867°",null,null,{"$f":"IF(AND(Table_CampList[[#This Row],[HH]]<>\"\",Table_CampList[[#This Row],[HH]]>0),Table_CampList[[#This Row],[Total]]/Table_CampList[[#This Row],[HH]],0)","v":0},"Camp/Community Leader","Estimate","Planned Camp",null,{"$f":"COUNTIF(N:N,Table_CampList[[#This Row],[Camp Name]])","v":1},{"$f":"C96","v":"Close"},"Rakhine"]
[null,"2013-07-30","Open","Rakhine","MMR012",null,null,"Minbya","MMR012005","Tha Yet Oke","MMR012005017","Tha Yet Oke",197062,"Tha Yet Oak","MMR012CMP005","Accessible by All"," 93.258574°"," 20.587142°",275,1585,{"$f":"IF(AND(Table_CampList[[#This Row],[HH]]<>\"\",Table_CampList[[#This Row],[HH]]>0),Table_CampList[[#This Row],[Total]]/Table_CampList[[#This Row],[HH]],0)","v":5.7636363636363637},"Camp/Community Leader","Estimate","Individual (non hosted)",null,{"$f":"COUNTIF(N:N,Table_CampList[[#This Row],[Camp Name]])","v":1},{"$f":"C97","v":"Open"},"Muslim"]
[null,"2013-07-30","Open","Rakhine","MMR012",null,null,"Sittwe","MMR012001","Bu May","MMR012001027","Thea Chaung Ku Lar",196211,"Thae Chaung","MMR012CMP046","Accessible by All"," 92.839417°"," 20.158500°",1505,8107,{"$f":"IF(AND(Table_CampList[[#This Row],[HH]]<>\"\",Table_CampList[[#This Row],[HH]]>0),Table_CampList[[#This Row],[Total]]/Table_CampList[[#This Row],[HH]],0)","v":5.3867109634551493},"Camp/Community Leader","Estimate","Planned Camp",null,{"$f":"COUNTIF(N:N,Table_CampList[[#This Row],[Camp Name]])","v":1},{"$f":"C98","v":"Open"},"Muslim"]
[null,"2013-07-30","Open","Rakhine","MMR012",null,null,"Sittwe","MMR012001","Bu May","MMR012001027","Thea Chaung Ku Lar",196211,"Thae Chaung (IDP in host families)","MMR012CMP101","Accessible by All"," 92.837577°"," 20.156842°",438,1728,{"$f":"IF(AND(Table_CampList[[#This Row],[HH]]<>\"\",Table_CampList[[#This Row],[HH]]>0),Table_CampList[[#This Row],[Total]]/Table_CampList[[#This Row],[HH]],0)","v":3.9452054794520546},"Camp/Community Leader","Estimate","Individual (non hosted)",null,{"$f":"COUNTIF(N:N,Table_CampList[[#This Row],[Camp Name]])","v":1},{"$f":"C99","v":"Open"},"Muslim"]
[null,"2013-07-30","Open","Rakhine","MMR012",null,null,"Sittwe","MMR012001","Bu May","MMR012001027","Thea Chaung Ku Lar",196211,"Thae Chaung (Kyaukphyu)","MMR012CMP047","Accessible by All"," 92.839166°"," 20.157311°",377,1982,{"$f":"IF(AND(Table_CampList[[#This Row],[HH]]<>\"\",Table_CampList[[#This Row],[HH]]>0),Table_CampList[[#This Row],[Total]]/Table_CampList[[#This Row],[HH]],0)","v":5.2572944297082227},"Camp/Community Leader","Estimate","Individual (non hosted)",null,{"$f":"COUNTIF(N:N,Table_CampList[[#This Row],[Camp Name]])","v":1},{"$f":"C100","v":"Open"},"Muslim"]
[null,"2013-07-30","Close","Rakhine","MMR012",null,null,"Sittwe","MMR012001","Ywar Gyi (South) Ward","MMR012001701",null,"MMR012001701516","Thangga Yarzar Monastery","MMR012CMP070","Accessible by All"," 92.892432°"," 20.146041°",0,0,{"$f":"IF(AND(Table_CampList[[#This Row],[HH]]<>\"\",Table_CampList[[#This Row],[HH]]>0),Table_CampList[[#This Row],[Total]]/Table_CampList[[#This Row],[HH]],0)","v":0},"Camp/Community Leader","Estimate","Collective Centre",null,{"$f":"COUNTIF(N:N,Table_CampList[[#This Row],[Camp Name]])","v":1},{"$f":"C101","v":"Close"}]
[null,"2013-07-30","Open","Rakhine","MMR012",null,null,"Maungdaw","MMR012009","Myo Thu Gyi","MMR012009063","Ywar Haung",197990,"Thaung Paing Nyar","MMR012CMP086","Accessible by All"," 92.401294°"," 20.824517°",15,69,{"$f":"IF(AND(Table_CampList[[#This Row],[HH]]<>\"\",Table_CampList[[#This Row],[HH]]>0),Table_CampList[[#This Row],[Total]]/Table_CampList[[#This Row],[HH]],0)","v":4.5999999999999996},"Camp/Community Leader","Estimate","Individual (non hosted)",null,{"$f":"COUNTIF(N:N,Table_CampList[[#This Row],[Camp Name]])","v":1},{"$f":"C102","v":"Open"},"Muslim"]
[null,"2013-07-30","Close","Rakhine","MMR012",null,null,"Minbya","MMR012005","San Bar Lay","MMR012005009","Thay Kan",197021,"Thay Kan","MMR012CMP007","Accessible by All"," 93.321957°"," 20.403736°",0,0,{"$f":"IF(AND(Table_CampList[[#This Row],[HH]]<>\"\",Table_CampList[[#This Row],[HH]]>0),Table_CampList[[#This Row],[Total]]/Table_CampList[[#This Row],[HH]],0)","v":0},"Camp/Community Leader","Estimate","Individual (non hosted)",null,{"$f":"COUNTIF(N:N,Table_CampList[[#This Row],[Camp Name]])","v":1},{"$f":"C103","v":"Close"}]
[null,"2013-07-30","Close","Rakhine","MMR012",null,null,"Sittwe","MMR012001","Ywar Gyi (North) Ward","MMR012001701",null,"MMR012001701515","Theit Di Kar Yone Monastery","MMR012CMP067","Accessible by All"," 92.896418°"," 20.152895°",0,0,{"$f":"IF(AND(Table_CampList[[#This Row],[HH]]<>\"\",Table_CampList[[#This Row],[HH]]>0),Table_CampList[[#This Row],[Total]]/Table_CampList[[#This Row],[HH]],0)","v":0},"Camp/Community Leader","Estimate","Collective Centre",null,{"$f":"COUNTIF(N:N,Table_CampList[[#This Row],[Camp Name]])","v":1},{"$f":"C104","v":"Close"}]
[null,"2013-07-30","Open","Rakhine","MMR012",null,null,"Sittwe","MMR012001","Bu May","MMR012001027","Kha War De Ywar Haung",196186,"Thet Kae Pyin ","MMR012CMP048","Accessible by All"," 92.831879°"," 20.179940°",581,3379,{"$f":"IF(AND(Table_CampList[[#This Row],[HH]]<>\"\",Table_CampList[[#This Row],[HH]]>0),Table_CampList[[#This Row],[Total]]/Table_CampList[[#This Row],[HH]],0)","v":5.8158347676419968},"Camp/Community Leader","Estimate","Planned Camp",null,{"$f":"COUNTIF(N:N,Table_CampList[[#This Row],[Camp Name]])","v":1},{"$f":"C105","v":"Open"},"Muslim"]
[null,"2013-07-30","Open","Rakhine","MMR012",null,null,"Sittwe","MMR012001","Bu May","MMR012001027","Kha War De Ywar Haung",196186,"Thet Kae Pyin (IDPs in host family)","MMR012CMP091","Accessible by All"," 92.842230°"," 20.181742°",614,4843,{"$f":"IF(AND(Table_CampList[[#This Row],[HH]]<>\"\",Table_CampList[[#This Row],[HH]]>0),Table_CampList[[#This Row],[Total]]/Table_CampList[[#This Row],[HH]],0)","v":7.8876221498371333},"Camp/Community Leader","Estimate","Individual (non hosted)",null,{"$f":"COUNTIF(N:N,Table_CampList[[#This Row],[Camp Name]])","v":1},{"$f":"C106","v":"Open"},"Muslim"]
[null,"2013-07-30","Open","Rakhine","MMR012",null,null,"Sittwe","MMR012001","Thin Pone Tan","MMR012001002","Thin Pone Tan",196129,"Thin Pone Tan","MMR012CMP058","Accessible by All"," 92.836861°"," 20.226865°",7,29,{"$f":"IF(AND(Table_CampList[[#This Row],[HH]]<>\"\",Table_CampList[[#This Row],[HH]]>0),Table_CampList[[#This Row],[Total]]/Table_CampList[[#This Row],[HH]],0)","v":4.1428571428571432},"Camp/Community Leader","Estimate","Privately Hosted",null,{"$f":"COUNTIF(N:N,Table_CampList[[#This Row],[Camp Name]])","v":1},{"$f":"C107","v":"Open"},"Rakhine"]
[null,"2013-07-30","Open","Rakhine","MMR012",null,null,"Maungdaw","MMR012009","Myo Thu Gyi","MMR012009063",null,null,"Ward-6","MMR012CMP095","Accessible by All"," 92.416683°"," 20.833831°",52,369,{"$f":"IF(AND(Table_CampList[[#This Row],[HH]]<>\"\",Table_CampList[[#This Row],[HH]]>0),Table_CampList[[#This Row],[Total]]/Table_CampList[[#This Row],[HH]],0)","v":7.0961538461538458},"Camp/Community Leader","Estimate","Privately Hosted",null,{"$f":"COUNTIF(N:N,Table_CampList[[#This Row],[Camp Name]])","v":1},{"$f":"C108","v":"Open"},"Muslim"]
[null,"2013-07-30","Close","Rakhine","MMR012",null,null,"Sittwe","MMR012001","Sin Ku Lan Ward","MMR012001701",null,"MMR012001701512","Weikzar Thaikdi Monastery","MMR012CMP075","Accessible by All"," 92.896533°"," 20.154650°",0,0,{"$f":"IF(AND(Table_CampList[[#This Row],[HH]]<>\"\",Table_CampList[[#This Row],[HH]]>0),Table_CampList[[#This Row],[Total]]/Table_CampList[[#This Row],[HH]],0)","v":0},"Camp/Community Leader","Estimate","Collective Centre",null,{"$f":"COUNTIF(N:N,Table_CampList[[#This Row],[Camp Name]])","v":1},{"$f":"C109","v":"Close"}]
[null,"2013-07-30","Close","Rakhine","MMR012",null,null,"Sittwe","MMR012001","Ywar Gyi (South) Ward","MMR012001701",null,"MMR012001701516","Ya Tayar Monastery","MMR012CMP074","Accessible by All"," 92.893333°"," 20.146117°",0,0,{"$f":"IF(AND(Table_CampList[[#This Row],[HH]]<>\"\",Table_CampList[[#This Row],[HH]]>0),Table_CampList[[#This Row],[Total]]/Table_CampList[[#This Row],[HH]],0)","v":0},"Camp/Community Leader","Estimate","Collective Centre",null,{"$f":"COUNTIF(N:N,Table_CampList[[#This Row],[Camp Name]])","v":1},{"$f":"C110","v":"Close"}]
[null,"2013-07-30","Open","Rakhine","MMR012",null,null,"Mrauk_U","MMR012003","Yin Thei","MMR012003026","Yin Thei",196507,"Yai Thei-Muslim","MMR012CMP010","Accessible by All"," 93.217040°"," 20.501758°",399,2542,{"$f":"IF(AND(Table_CampList[[#This Row],[HH]]<>\"\",Table_CampList[[#This Row],[HH]]>0),Table_CampList[[#This Row],[Total]]/Table_CampList[[#This Row],[HH]],0)","v":6.3709273182957391},"Camp/Community Leader","Estimate","Individual (non hosted)",null,{"$f":"COUNTIF(N:N,Table_CampList[[#This Row],[Camp Name]])","v":1},{"$f":"C111","v":"Open"},"Muslim"]
[null,"2013-07-30","Open","Rakhine","MMR012",null,null,"Kyauktaw","MMR012004","Ah Pauk Wa","MMR012004064","Yun Nyar",196952,"Yun Nyar","MMR012CMP028","Accessible by All"," 92.969350°"," 20.727590°",143,738,{"$f":"IF(AND(Table_CampList[[#This Row],[HH]]<>\"\",Table_CampList[[#This Row],[HH]]>0),Table_CampList[[#This Row],[Total]]/Table_CampList[[#This Row],[HH]],0)","v":5.1608391608391608},"Camp/Community Leader","Estimate","Individual (non hosted)",null,{"$f":"COUNTIF(N:N,Table_CampList[[#This Row],[Camp Name]])","v":1},{"$f":"C112","v":"Open"},"Muslim"]
[null,"2013-07-30","Open","Rakhine","MMR012",null,null,"Maungdaw","MMR012009","Ywar Thit Kay Ward","MMR012009701",null,"MMR012009701505","Ywa thit Kay","MMR012CMP085","Accessible by All"," 92.367853°"," 20.825306°",8,62,{"$f":"IF(AND(Table_CampList[[#This Row],[HH]]<>\"\",Table_CampList[[#This Row],[HH]]>0),Table_CampList[[#This Row],[Total]]/Table_CampList[[#This Row],[HH]],0)","v":7.75},"Camp/Community Leader","Estimate","Individual (non hosted)",null,{"$f":"COUNTIF(N:N,Table_CampList[[#This Row],[Camp Name]])","v":1},{"$f":"C113","v":"Open"},"Muslim"]
[null,"2013-08-31","Open","Rakhine","MMR012",null,null,"Maungdaw",null,null,null,null,null,"Ywa thit Kay 2","MMR012CMP107","Accessible by All"," 92.367536°"," 20.825500°",6,43,{"$f":"IF(AND(Table_CampList[[#This Row],[HH]]<>\"\",Table_CampList[[#This Row],[HH]]>0),Table_CampList[[#This Row],[Total]]/Table_CampList[[#This Row],[HH]],0)","v":7.166666666666667},"Camp/Community Leader","Estimate","Planned Camp",null,{"$f":"COUNTIF(N:N,Table_CampList[[#This Row],[Camp Name]])","v":1},{"$f":"C114","v":"Open"},"Rakhine"]
[null,"2013-08-31","Open","Rakhine","MMR012",null,null,"Maungdaw",null,null,null,null,null,"Ywa thit Kay 3","MMR012CMP108","Accessible by All"," 92.367933°"," 20.825417°",4,41,{"$f":"IF(AND(Table_CampList[[#This Row],[HH]]<>\"\",Table_CampList[[#This Row],[HH]]>0),Table_CampList[[#This Row],[Total]]/Table_CampList[[#This Row],[HH]],0)","v":10.25},"Camp/Community Leader","Estimate","Individual accommodation ",null,{"$f":"COUNTIF(N:N,Table_CampList[[#This Row],[Camp Name]])","v":1},{"$f":"C115","v":"Open"},"Hindu"]

{"sheet":"Camp List (print)","index":3,"n_rows":22,"n_cols":8,"rows_kept":22,"cut":false,"hidden":false,"merged":[[1,0,1,2],[2,0,2,2]]}
[]
["Rakhine - IDPs CAMP LIST"]
[{"$f":"Report_Date","v":"2013-09-01"}]
[]
[]
["Status","Open"]
[]
["TOWNSHIP_NAME","Camp Name","Type of Accomodation","P_Code","Longitude","Latitude","HH ","Ind "]
["Maungdaw","Bomu Ywa","Planned Camp","MMR012CMP084"," 92.365794°"," 20.819958°",10,106]
[null,"Du Than Dar","Individual accommodation ","MMR012CMP088"," 92.443428°"," 20.714847°",45,291]
[null,"Myoma Myauk","Individual accommodation ","MMR012CMP083"," 92.362933°"," 20.827044°",80,585]
[null,"Nyaung Pin Hla","Individual (non hosted)","MMR012CMP082"," 92.362197°"," 20.824778°",4,20]
[null,"Sin Thay Pyin","Privately Hosted","MMR012CMP094"," 92.338031°"," 21.066664°",8,53]
[null,"Thaung Paing Nyar","Individual (non hosted)","MMR012CMP086"," 92.401294°"," 20.824517°",15,69]
[null,"Ward-6","Privately Hosted","MMR012CMP095"," 92.416683°"," 20.833831°",52,369]
[null,"Ywa thit Kay","Individual (non hosted)","MMR012CMP085"," 92.367853°"," 20.825306°",8,62]
[null,"Ywa thit Kay 2","Planned Camp","MMR012CMP107"," 92.367536°"," 20.825500°",6,43]
[null,"Ywa thit Kay 3","Individual accommodation ","MMR012CMP108"," 92.367933°"," 20.825417°",4,41]
[null,"Bomu Ywa 2","Planned Camp","MMR012CMP106"," 92.365619°"," 20.820317°",8,52]
[null,"Honsara (Zaw Ma Tat)","Individual accommodation ","MMR012CMP109"," 92.435378°"," 20.713883°",48,355]
["Maungdaw Total",null,null,null,null,null,288,2046]
["Grand Total",null,null,null,null,null,288,2046]

{"sheet":"CampAnalysis","index":4,"n_rows":49,"n_cols":18,"rows_kept":49,"cut":false,"hidden":false,"merged":[[4,0,4,4]]}
[]
["CAMPS SUMMARY"]
[{"$f":"Report_Date","v":"2013-09-01"}]
[]
["Rakhine State # of IDPs /Township"]
[]
["State","Rakhine","(Select State)"]
[]
["Row Labels","# of Camps","Households","Population",null,null,null,null,null,null,null,null,null,null,null,"State","Rakhine","(Select State)"]
["Close",36,0,0]
["Maungdaw",8,0,0,null,null,null,null,null,null,null,null,null,null,null,"Row Labels","Population"]
["Minbya",2,0,0,null,null,null,null,null,null,null,null,null,null,null,"Sittwe",91881]
["Rathedaung",1,0,0,null,null,null,null,null,null,null,null,null,null,null,"Pauktaw",20054]
["Sittwe",25,0,0,null,null,null,null,null,null,null,null,null,null,null,"Kyauktaw",6554]
["Open",75,25649,139881,null,null,null,null,null,null,null,null,null,null,null,"Minbya",5207]
["Kyauk_Phyu",2,492,1867,null,null,null,null,null,null,null,null,null,null,null,"Meybon",4066]
["Kyauktaw",11,1053,6554,null,null,null,null,null,null,null,null,null,null,null,"Mrauk_U",3998]
["Maungdaw",12,288,2046,null,null,null,null,null,null,null,null,null,null,null,"Rathedaung",3981]
["Meybon",2,674,4066,null,null,null,null,null,null,null,null,null,null,null,"Maungdaw",2046]
["Minbya",7,949,5207,null,null,null,null,null,null,null,null,null,null,null,"Kyauk_Phyu",1867]
["Mrauk_U",4,685,3998,null,null,null,null,null,null,null,null,null,null,null,"Ramree",227]
["Pauktaw",6,4017,20054,null,null,null,null,null,null,null,null,null,null,null,"Grand Total",139881]
["Ramree",2,69,227]
["Rathedaung",5,782,3981]
["Sittwe",24,16640,91881]
["Grand Total",111,25649,139881]
[]
[]
[]
[]
[]
[]
["Status","Open"]
[]
["Row Labels","Sum of Total"]
["Collective Centre",64]
["Individual (non hosted)",30205]
["Planned Camp",67554]
["Privately Hosted",495]
["Individual accommodation ",41563]
["Grand Total",139881]
[]
[]
[]
["Status","Open"]
[]
[null,"Column Labels"]
[null,"Hindu","Maramargyi","Muslim","Rakhine","Grand Total"]
["Sum of Total",41,499,134500,4841,139881]

{"sheet":"Rakhine_CCCM_D","index":5,"n_rows":36,"n_cols":40,"rows_kept":36,"cut":false,"hidden":false,"merged":[[32,4,32,9],[1,0,1,7],[2,0,2,7],[0,0,0,14]]}
[]
["Rakhine CCCM Dashboard"]
["2013-08-01"]
[null,null,null,null,null,null,null,null,null,null,null,null,null,null,null,null,null,null,null,null,null,null,null,null,null,null,null,null,null,null,null,null,null,"Township","1-1k","1k-5k","5k-10k","Over 10k"]
[null,null,null,null,null,null,null,null,null,null,null,null,null,null,null,null,null,null,null,null,null,null,null,null,null,null,null,null,null,null,null,null,null,"Kyauk_Phyu",{"$f":"SUMIFS(Camplist_Popl,Camplist_Township,AH5,Camplist_Popl,\">0\",Camplist_Popl,\"<=1000\")","v":318},{"$f":"SUMIFS(Camplist_Popl,Camplist_Township,AH5,Camplist_Popl,\">1000\",Camplist_Popl,\"<=5000\")","v":1549},{"$f":"SUMIFS(Camplist_Popl,Camplist_Township,AH5,Camplist_Popl,\">5000\",Camplist_Popl,\"<=10000\")","v":0},{"$f":"SUMIFS(Camplist_Popl,Camplist_Township,AH5,Camplist_Popl,\">10000\")","v":0}]
[null,null,null,null,null,null,null,null,null,null,null,null,null,null,null,null,null,null,null,null,null,null,null,null,null,null,null,null,null,null,null,null,null,"Kyauktaw",5187,{"$f":"SUMIFS(Camplist_Popl,Camplist_Township,AH6,Camplist_Popl,\">1000\",Camplist_Popl,\"<=5000\")","v":1367},{"$f":"SUMIFS(Camplist_Popl,Camplist_Township,AH6,Camplist_Popl,\">5000\",Camplist_Popl,\"<=10000\")","v":0},0]
[null,null,null,null,null,null,null,null,null,null,null,null,null,null,null,null,null,null,null,null,null,null,null,null,null,null,null,null,null,null,null,null,null,"Maungdaw",2046,0,{"$f":"SUMIFS(Camplist_Popl,Camplist_Township,AH7,Camplist_Popl,\">5000\",Camplist_Popl,\"<=10000\")","v":0},0]
[null,null,null,null,null,null,null,null,null,null,null,null,null,null,null,null,null,null,null,null,null,null,null,null,null,null,null,null,null,null,null,null,null,"Meybon",222,3844,0,0]
[null,null,null,null,null,null,null,null,null,null,null,null,null,null,null,null,null,null,null,null,null,null,null,null,null,null,null,null,null,null,null,null,null,"Minbya",1297,3910,0,0]
[null,null,null,null,null,null,null,null,null,null,null,null,null,null,null,null,null,null,null,null,null,null,null,null,null,null,null,null,null,null,null,null,null,"Mrauk_U",228,3770,0,0]
["Township","# of HH","# of IDPs","# of Camp",null,null,null,null,null,null,null,null,null,null,null,null,null,null,null,null,null,null,null,null,null,null,null,null,null,null,null,null,null,"Pauktaw",97,12905,7052,0]
["Kyauk_Phyu",{"$f":"SUMIFS(Camplist_HH,Camplist_Township,Rakhine_CCCM_D!$A12,CampList_Status,\"Open\")","v":492},{"$f":"SUMIFS(Camplist_Popl,Camplist_Township,Rakhine_CCCM_D!$A12,CampList_Status,\"Open\")","v":1867},{"$f":"COUNTIFS(Camplist_Township,Rakhine_CCCM_D!A12,CampList_Status,\"open\")","v":2},null,null,null,null,null,null,null,null,null,null,null,null,null,null,null,null,null,null,null,null,null,null,null,null,null,null,null,null,null,"Ramree",227,0,0,0]
["Kyauktaw",{"$f":"SUMIFS(Camplist_HH,Camplist_Township,Rakhine_CCCM_D!$A13,CampList_Status,\"Open\")","v":1053},{"$f":"SUMIFS(Camplist_Popl,Camplist_Township,Rakhine_CCCM_D!$A13,CampList_Status,\"Open\")","v":6554},{"$f":"COUNTIFS(Camplist_Township,Rakhine_CCCM_D!A13,CampList_Status,\"open\")","v":11},null,null,null,null,null,null,null,null,null,null,null,null,null,null,null,null,null,null,null,null,null,null,null,null,null,null,null,null,null,"Rathedaung",1591,2390,0,0]
["Maungdaw",{"$f":"SUMIFS(Camplist_HH,Camplist_Township,Rakhine_CCCM_D!$A14,CampList_Status,\"Open\")","v":288},{"$f":"SUMIFS(Camplist_Popl,Camplist_Township,Rakhine_CCCM_D!$A14,CampList_Status,\"Open\")","v":2046},{"$f":"COUNTIFS(Camplist_Township,Rakhine_CCCM_D!A14,CampList_Status,\"open\")","v":12},null,null,null,null,null,null,null,null,null,null,null,null,null,null,null,null,null,null,null,null,null,null,null,null,null,null,null,null,null,"Sittwe",1469,42755,14332,33325]
["Meybon",{"$f":"SUMIFS(Camplist_HH,Camplist_Township,Rakhine_CCCM_D!$A15,CampList_Status,\"Open\")","v":674},{"$f":"SUMIFS(Camplist_Popl,Camplist_Township,Rakhine_CCCM_D!$A15,CampList_Status,\"Open\")","v":4066},{"$f":"COUNTIFS(Camplist_Township,Rakhine_CCCM_D!A15,CampList_Status,\"open\")","v":2},null,null,null,null,null,null,null,null,null,null,null,null,null,null,null,null,null,null,null,null,null,null,null,null,null,null,null,null,null,"Total",{"$f":"SUM(AI5:AI14)","v":12682},{"$f":"SUM(AJ5:AJ14)","v":72490},21384,33325,null,{"$f":"SUM(AI15:AL15)","v":139881}]
["Minbya",{"$f":"SUMIFS(Camplist_HH,Camplist_Township,Rakhine_CCCM_D!$A16,CampList_Status,\"Open\")","v":949},{"$f":"SUMIFS(Camplist_Popl,Camplist_Township,Rakhine_CCCM_D!$A16,CampList_Status,\"Open\")","v":5207},{"$f":"COUNTIFS(Camplist_Township,Rakhine_CCCM_D!A16,CampList_Status,\"open\")","v":7},null,null,null,null,null,null,null,null,null,null,null,null,null,null,null,null,null,null,null,null,null,null,null,null,null,null,null,null,null,"% of IDP",{"$f":"AI15/$AN$15","v":9.0662777646713988E-2},{"$f":"AJ15/$AN$15","v":0.51822620656129137},{"$f":"AK15/$AN$15","v":0.15287279902202586},{"$f":"AL15/$AN$15","v":0.23823821676996876}]
["Mrauk_U",{"$f":"SUMIFS(Camplist_HH,Camplist_Township,Rakhine_CCCM_D!$A17,CampList_Status,\"Open\")","v":685},{"$f":"SUMIFS(Camplist_Popl,Camplist_Township,Rakhine_CCCM_D!$A17,CampList_Status,\"Open\")","v":3998},{"$f":"COUNTIFS(Camplist_Township,Rakhine_CCCM_D!A17,CampList_Status,\"open\")","v":4}]
["Pauktaw",{"$f":"SUMIFS(Camplist_HH,Camplist_Township,Rakhine_CCCM_D!$A18,CampList_Status,\"Open\")","v":4017},{"$f":"SUMIFS(Camplist_Popl,Camplist_Township,Rakhine_CCCM_D!$A18,CampList_Status,\"Open\")","v":20054},{"$f":"COUNTIFS(Camplist_Township,Rakhine_CCCM_D!A18,CampList_Status,\"open\")","v":6}]
["Ramree",{"$f":"SUMIFS(Camplist_HH,Camplist_Township,Rakhine_CCCM_D!$A19,CampList_Status,\"Open\")","v":69},{"$f":"SUMIFS(Camplist_Popl,Camplist_Township,Rakhine_CCCM_D!$A19,CampList_Status,\"Open\")","v":227},{"$f":"COUNTIFS(Camplist_Township,Rakhine_CCCM_D!A19,CampList_Status,\"open\")","v":2}]
["Rathedaung",{"$f":"SUMIFS(Camplist_HH,Camplist_Township,Rakhine_CCCM_D!$A20,CampList_Status,\"Open\")","v":782},{"$f":"SUMIFS(Camplist_Popl,Camplist_Township,Rakhine_CCCM_D!$A20,CampList_Status,\"Open\")","v":3981},{"$f":"COUNTIFS(Camplist_Township,Rakhine_CCCM_D!A20,CampList_Status,\"open\")","v":5},null,null,null,null,null,null,null,null,null,null,null,null,null,null,null,null,null,null,null,null,null,null,null,null,null,null,null,null,null,null,"# of camps by Size of Population"]
["Sittwe",{"$f":"SUMIFS(Camplist_HH,Camplist_Township,Rakhine_CCCM_D!$A21,CampList_Status,\"Open\")","v":16640},{"$f":"SUMIFS(Camplist_Popl,Camplist_Township,Rakhine_CCCM_D!$A21,CampList_Status,\"Open\")","v":91881},{"$f":"COUNTIFS(Camplist_Township,Rakhine_CCCM_D!A21,CampList_Status,\"open\")","v":24},null,null,null,null,null,null,null,null,null,null,null,null,null,null,null,null,null,null,null,null,null,null,null,null,null,null,null,null,null,"Township","1-1k","1k - 5k","5k-10k",">10k","Unknown"]
["Total",{"$f":"SUM(B12:B21)","v":25649},{"$f":"SUM(C12:C21)","v":139881},{"$f":"SUM(D12:D21)","v":75},null,null,null,null,null,null,null,null,null,null,null,null,null,null,null,null,null,null,null,null,null,null,null,null,null,null,null,null,null,"Kyauk_Phyu",{"$f":"COUNTIFS(Camplist_Township,Rakhine_CCCM_D!$AH22,Camplist_Popl,\">0\",Camplist_Popl,\"<=1000\")","v":1},{"$f":"COUNTIFS(Camplist_Township,Rakhine_CCCM_D!$AH22,Camplist_Popl,\">1000\",Camplist_Popl,\"<=5000\")","v":1},{"$f":"COUNTIFS(Camplist_Township,Rakhine_CCCM_D!$AH22,Camplist_Popl,\">5000\",Camplist_Popl,\"<=10000\")","v":0},{"$f":"COUNTIFS(Camplist_Township,Rakhine_CCCM_D!$AH22,Camplist_Popl,\">10000\")","v":0},{"$f":"COUNTIFS(Camplist_Township,Rakhine_CCCM_D!$AH22,Camplist_Popl,\"=0\",CampList_Status,\"Open\")","v":0}]
[null,null,null,null,null,null,null,null,null,null,null,null,null,null,null,null,null,null,null,null,null,null,null,null,null,null,null,null,null,null,null,null,null,"Kyauktaw",{"$f":"COUNTIFS(Camplist_Township,Rakhine_CCCM_D!$AH23,Camplist_Popl,\">0\",Camplist_Popl,\"<=1000\")","v":10},{"$f":"COUNTIFS(Camplist_Township,Rakhine_CCCM_D!$AH23,Camplist_Popl,\">1000\",Camplist_Popl,\"<=5000\")","v":1},{"$f":"COUNTIFS(Camplist_Township,Rakhine_CCCM_D!$AH23,Camplist_Popl,\">5000\",Camplist_Popl,\"<=10000\")","v":0},{"$f":"COUNTIFS(Camplist_Township,Rakhine_CCCM_D!$AH23,Camplist_Popl,\">10000\")","v":0},{"$f":"COUNTIFS(Camplist_Township,Rakhine_CCCM_D!$AH23,Camplist_Popl,\"=0\",CampList_Status,\"Open\")","v":0}]
[null,null,null,null,null,null,null,null,null,null,null,null,null,null,null,null,null,null,null,null,null,null,null,null,null,null,null,null,null,null,null,null,null,"Maungdaw",{"$f":"COUNTIFS(Camplist_Township,Rakhine_CCCM_D!$AH24,Camplist_Popl,\">0\",Camplist_Popl,\"<=1000\")","v":12},{"$f":"COUNTIFS(Camplist_Township,Rakhine_CCCM_D!$AH24,Camplist_Popl,\">1000\",Camplist_Popl,\"<=5000\")","v":0},{"$f":"COUNTIFS(Camplist_Township,Rakhine_CCCM_D!$AH24,Camplist_Popl,\">5000\",Camplist_Popl,\"<=10000\")","v":0},{"$f":"COUNTIFS(Camplist_Township,Rakhine_CCCM_D!$AH24,Camplist_Popl,\">10000\")","v":0},{"$f":"COUNTIFS(Camplist_Township,Rakhine_CCCM_D!$AH24,Camplist_Popl,\"=0\",CampList_Status,\"Open\")","v":0}]
[null,null,null,null,null,null,null,null,null,null,null,null,null,null,null,null,null,null,null,null,null,null,null,null,null,null,null,null,null,null,null,null,null,"Meybon",{"$f":"COUNTIFS(Camplist_Township,Rakhine_CCCM_D!$AH25,Camplist_Popl,\">0\",Camplist_Popl,\"<=1000\")","v":1},{"$f":"COUNTIFS(Camplist_Township,Rakhine_CCCM_D!$AH25,Camplist_Popl,\">1000\",Camplist_Popl,\"<=5000\")","v":1},{"$f":"COUNTIFS(Camplist_Township,Rakhine_CCCM_D!$AH25,Camplist_Popl,\">5000\",Camplist_Popl,\"<=10000\")","v":0},{"$f":"COUNTIFS(Camplist_Township,Rakhine_CCCM_D!$AH25,Camplist_Popl,\">10000\")","v":0},{"$f":"COUNTIFS(Camplist_Township,Rakhine_CCCM_D!$AH25,Camplist_Popl,\"=0\",CampList_Status,\"Open\")","v":0}]
[null,null,null,null,null,null,null,null,null,null,null,null,null,null,null,null,null,null,null,null,null,null,null,null,null,null,null,null,null,null,null,null,null,"Minbya",{"$f":"COUNTIFS(Camplist_Township,Rakhine_CCCM_D!$AH26,Camplist_Popl,\">0\",Camplist_Popl,\"<=1000\")","v":4},{"$f":"COUNTIFS(Camplist_Township,Rakhine_CCCM_D!$AH26,Camplist_Popl,\">1000\",Camplist_Popl,\"<=5000\")","v":3},{"$f":"COUNTIFS(Camplist_Township,Rakhine_CCCM_D!$AH26,Camplist_Popl,\">5000\",Camplist_Popl,\"<=10000\")","v":0},{"$f":"COUNTIFS(Camplist_Township,Rakhine_CCCM_D!$AH26,Camplist_Popl,\">10000\")","v":0},{"$f":"COUNTIFS(Camplist_Township,Rakhine_CCCM_D!$AH26,Camplist_Popl,\"=0\",CampList_Status,\"Open\")","v":0}]
[null,null,null,null,null,null,null,null,null,null,null,null,null,null,null,null,null,null,null,null,null,null,null,null,null,null,null,null,null,null,null,null,null,"Mrauk_U",{"$f":"COUNTIFS(Camplist_Township,Rakhine_CCCM_D!$AH27,Camplist_Popl,\">0\",Camplist_Popl,\"<=1000\")","v":2},{"$f":"COUNTIFS(Camplist_Township,Rakhine_CCCM_D!$AH27,Camplist_Popl,\">1000\",Camplist_Popl,\"<=5000\")","v":2},{"$f":"COUNTIFS(Camplist_Township,Rakhine_CCCM_D!$AH27,Camplist_Popl,\">5000\",Camplist_Popl,\"<=10000\")","v":0},{"$f":"COUNTIFS(Camplist_Township,Rakhine_CCCM_D!$AH27,Camplist_Popl,\">10000\")","v":0},{"$f":"COUNTIFS(Camplist_Township,Rakhine_CCCM_D!$AH27,Camplist_Popl,\"=0\",CampList_Status,\"Open\")","v":0}]
[null,null,null,null,null,null,null,null,null,null,null,null,null,null,null,null,null,null,null,null,null,null,null,null,null,null,null,null,null,null,null,null,null,"Pauktaw",{"$f":"COUNTIFS(Camplist_Township,Rakhine_CCCM_D!$AH28,Camplist_Popl,\">0\",Camplist_Popl,\"<=1000\")","v":1},{"$f":"COUNTIFS(Camplist_Township,Rakhine_CCCM_D!$AH28,Camplist_Popl,\">1000\",Camplist_Popl,\"<=5000\")","v":4},{"$f":"COUNTIFS(Camplist_Township,Rakhine_CCCM_D!$AH28,Camplist_Popl,\">5000\",Camplist_Popl,\"<=10000\")","v":1},{"$f":"COUNTIFS(Camplist_Township,Rakhine_CCCM_D!$AH28,Camplist_Popl,\">10000\")","v":0},{"$f":"COUNTIFS(Camplist_Township,Rakhine_CCCM_D!$AH28,Camplist_Popl,\"=0\",CampList_Status,\"Open\")","v":0}]
[null,null,null,null,null,null,null,null,null,null,null,null,null,null,null,null,null,null,null,null,null,null,null,null,null,null,null,null,null,null,null,null,null,"Ramree",{"$f":"COUNTIFS(Camplist_Township,Rakhine_CCCM_D!$AH29,Camplist_Popl,\">0\",Camplist_Popl,\"<=1000\")","v":2},{"$f":"COUNTIFS(Camplist_Township,Rakhine_CCCM_D!$AH29,Camplist_Popl,\">1000\",Camplist_Popl,\"<=5000\")","v":0},{"$f":"COUNTIFS(Camplist_Township,Rakhine_CCCM_D!$AH29,Camplist_Popl,\">5000\",Camplist_Popl,\"<=10000\")","v":0},{"$f":"COUNTIFS(Camplist_Township,Rakhine_CCCM_D!$AH29,Camplist_Popl,\">10000\")","v":0},{"$f":"COUNTIFS(Camplist_Township,Rakhine_CCCM_D!$AH29,Camplist_Popl,\"=0\",CampList_Status,\"Open\")","v":0}]
[null,null,null,null,null,null,null,null,null,null,null,null,null,null,null,null,null,null,null,null,null,null,null,null,null,null,null,null,null,null,null,null,null,"Rathedaung",{"$f":"COUNTIFS(Camplist_Township,Rakhine_CCCM_D!$AH30,Camplist_Popl,\">0\",Camplist_Popl,\"<=1000\")","v":3},{"$f":"COUNTIFS(Camplist_Township,Rakhine_CCCM_D!$AH30,Camplist_Popl,\">1000\",Camplist_Popl,\"<=5000\")","v":2},{"$f":"COUNTIFS(Camplist_Township,Rakhine_CCCM_D!$AH30,Camplist_Popl,\">5000\",Camplist_Popl,\"<=10000\")","v":0},{"$f":"COUNTIFS(Camplist_Township,Rakhine_CCCM_D!$AH30,Camplist_Popl,\">10000\")","v":0},{"$f":"COUNTIFS(Camplist_Township,Rakhine_CCCM_D!$AH30,Camplist_Popl,\"=0\",CampList_Status,\"Open\")","v":0}]
[null,null,null,null,null,null,null,null,null,null,null,null,null,null,null,null,null,null,null,null,null,null,null,null,null,null,null,null,null,null,null,null,null,"Sittwe",{"$f":"COUNTIFS(Camplist_Township,Rakhine_CCCM_D!$AH31,Camplist_Popl,\">0\",Camplist_Popl,\"<=1000\")","v":4},{"$f":"COUNTIFS(Camplist_Township,Rakhine_CCCM_D!$AH31,Camplist_Popl,\">1000\",Camplist_Popl,\"<=5000\")","v":15},{"$f":"COUNTIFS(Camplist_Township,Rakhine_CCCM_D!$AH31,Camplist_Popl,\">5000\",Camplist_Popl,\"<=10000\")","v":2},{"$f":"COUNTIFS(Camplist_Township,Rakhine_CCCM_D!$AH31,Camplist_Popl,\">10000\")","v":3},{"$f":"COUNTIFS(Camplist_Township,Rakhine_CCCM_D!$AH31,Camplist_Popl,\"=0\",CampList_Status,\"Open\")","v":0}]
[null,null,null,null,null,null,null,null,null,null,null,null,null,null,null,null,null,null,null,null,null,null,null,null,null,null,null,null,null,null,null,null,null,"Total",{"$f":"SUM(AI22:AI31)","v":40},{"$f":"SUM(AJ22:AJ31)","v":29},3,3,0]
[null,null,null,null,"Size of camps"]
[null,null,null,null,null,"1-1k","1k-5k","5k-10k","Over 10k","Unknown"]
[null,null,null,null,"# of Camps",{"$f":"AI32","v":40},{"$f":"AJ32","v":29},{"$f":"AK32","v":3},{"$f":"AL32","v":3},{"$f":"AM32","v":0}]
[null,null,null,null,"# of IDP",{"$f":"AI15","v":12682},{"$f":"AJ15","v":72490},21384,33325,0]

{"sheet":"Sheet3","index":6,"n_rows":31,"n_cols":6,"rows_kept":31,"cut":false,"hidden":false,"merged":[]}
[]
[]
[null,null,"Status","Open"]
[]
[null,null,"Row Labels","Sum of HH","Sum of Total","Sum of HHCovered"]
[null,null,"Sittwe",16340,95372,16151]
[null,null,"Basare",395,1790,416]
[null,null,"Baw Du Pha",2051,10461,3008]
[null,null,"Baw Du Pha (IDP in host families)",41,226]
[null,null,"Dar Pai",1885,11154,1456]
[null,null,"Dar Pai (IDP in host families)",468,2818]
[null,null,"Hmanzi",212,1354,400]
[null,null,"Khaung Doke Khar",384,2050,400]
[null,null,"Maw Ti Ngar (TKP west)",312,1992,624]
[null,null,"Ohn Taw Gyi 1",1076,6225,1200]
[null,null,"Ohn Taw Gyi 2",526,3031,640]
[null,null,"Ohn Taw Gyi 3",380,1828,960]
[null,null,"Ohn Taw Gyi 4",849,5974,960]
[null,null,"Ohn Taw Gyi 5",849,5973,808]
[null,null,"Phwe Yar Kone",350,2115,800]
[null,null,"Sat Roe Kya",500,2989,819]
[null,null,"Say Tha Mar Gyi",2268,13963,2280]
[null,null,"Set Yone Su",74,435,220]
[null,null,"Set Yone Su 3",176,776,176]
[null,null,"Thae Chaung",1505,8107]
[null,null,"Thae Chaung (IDP in host families)",377,1982]
[null,null,"Thae Chaung (Kyaukphyu)",460,1879]
[null,null,"Thet Kae Pyin",581,3379,984]
[null,null,"Thet Kae Pyin (IDPs in host family)",614,4843]
[null,null,"Thin Pone Tan",7,28]
[null,null,"Grand Total",16340,95372,16151]

{"sheet":"Shelter Tracking","index":7,"n_rows":95,"n_cols":19,"rows_kept":95,"cut":false,"hidden":false,"merged":[[1,0,1,2],[2,0,2,15]]}
[]
["SHELTERTRACKINGSHEET"]
[{"$f":"Report_Date","v":"2013-09-01"}]
["DateUpdated","Organization","ImplementingPartner","State","Township","CampName","HHperShelter","#ofFamilyTentPlanned(Target)","#ofFamilyTentDistributed","#ofTemporaryShelterPlanned(Target)","#ofTemporaryShelterBuilt","#ofTemporaryShelterUnderConstruction","#ofPermanentHousePlanned(Target)","#ofPermanentHouseBuilt","#ofPermanentHouseUnderConstruction","HHCovered","Pcode","Status","Coverage/Camp"]
["2013-08-02","Government","Government","Rakhine","Minbya","Paik Thay",8,null,null,2,1,1,null,null,null,{"$f":"Table_Shelter[[#This Row],[HHperShelter]]*(Table_Shelter[[#This Row],['#ofTemporaryShelterBuilt]]+Table_Shelter[[#This Row],['#ofTemporaryShelterUnderConstruction]]+Table_Shelter[[#This Row],['#ofPermanentHouseBuilt]]+Table_Shelter[[#This Row],['#ofPermanentHouseUnderConstruction]])","v":16},{"$f":"VLOOKUP(Table_Shelter[[#This Row],[CampName]],Camp_List!N$5:O$302,2,0)","v":"MMR012CMP001"},{"$f":"VLOOKUP(Table_Shelter[[#This Row],[CampName]],Camp_List!N$5:AA$302,14,0)","v":"Open"},{"$f":"Table_Shelter[[#This Row],[HHCovered]]/VLOOKUP(Table_Shelter[[#This Row],[CampName]],Camp_List!N$5:AA$302,6,0)","v":0.84210526315789469}]
["2013-08-02","Government","Government","Rakhine","Minbya","Tha Dar",8,null,null,14,13,1,null,null,null,{"$f":"Table_Shelter[[#This Row],[HHperShelter]]*(Table_Shelter[[#This Row],['#ofTemporaryShelterBuilt]]+Table_Shelter[[#This Row],['#ofTemporaryShelterUnderConstruction]]+Table_Shelter[[#This Row],['#ofPermanentHouseBuilt]]+Table_Shelter[[#This Row],['#ofPermanentHouseUnderConstruction]])","v":112},{"$f":"VLOOKUP(Table_Shelter[[#This Row],[CampName]],Camp_List!N$5:O$302,2,0)","v":"MMR012CMP002"},{"$f":"VLOOKUP(Table_Shelter[[#This Row],[CampName]],Camp_List!N$5:AA$302,14,0)","v":"Open"},{"$f":"Table_Shelter[[#This Row],[HHCovered]]/VLOOKUP(Table_Shelter[[#This Row],[CampName]],Camp_List!N$5:AA$302,6,0)","v":0.55172413793103448}]
["2013-08-02","Government","Government","Rakhine","Minbya","San Htoe Tan",8,null,null,10,10,null,null,null,null,{"$f":"Table_Shelter[[#This Row],[HHperShelter]]*(Table_Shelter[[#This Row],['#ofTemporaryShelterBuilt]]+Table_Shelter[[#This Row],['#ofTemporaryShelterUnderConstruction]]+Table_Shelter[[#This Row],['#ofPermanentHouseBuilt]]+Table_Shelter[[#This Row],['#ofPermanentHouseUnderConstruction]])","v":80},{"$f":"VLOOKUP(Table_Shelter[[#This Row],[CampName]],Camp_List!N$5:O$302,2,0)","v":"MMR012CMP003"},{"$f":"VLOOKUP(Table_Shelter[[#This Row],[CampName]],Camp_List!N$5:AA$302,14,0)","v":"Open"},{"$f":"Table_Shelter[[#This Row],[HHCovered]]/VLOOKUP(Table_Shelter[[#This Row],[CampName]],Camp_List!N$5:AA$302,6,0)","v":0.64516129032258063}]
["2013-08-02","Government","Government","Rakhine","Minbya","Tha Yet Oak",8,null,null,20,20,null,null,null,null,{"$f":"Table_Shelter[[#This Row],[HHperShelter]]*(Table_Shelter[[#This Row],['#ofTemporaryShelterBuilt]]+Table_Shelter[[#This Row],['#ofTemporaryShelterUnderConstruction]]+Table_Shelter[[#This Row],['#ofPermanentHouseBuilt]]+Table_Shelter[[#This Row],['#ofPermanentHouseUnderConstruction]])","v":160},{"$f":"VLOOKUP(Table_Shelter[[#This Row],[CampName]],Camp_List!N$5:O$302,2,0)","v":"MMR012CMP005"},{"$f":"VLOOKUP(Table_Shelter[[#This Row],[CampName]],Camp_List!N$5:AA$302,14,0)","v":"Open"},{"$f":"Table_Shelter[[#This Row],[HHCovered]]/VLOOKUP(Table_Shelter[[#This Row],[CampName]],Camp_List!N$5:AA$302,6,0)","v":0.58181818181818179}]
["2013-08-02","Government","Government","Rakhine","Minbya","Aung Taing",8,null,null,10,10,null,null,null,null,{"$f":"Table_Shelter[[#This Row],[HHperShelter]]*(Table_Shelter[[#This Row],['#ofTemporaryShelterBuilt]]+Table_Shelter[[#This Row],['#ofTemporaryShelterUnderConstruction]]+Table_Shelter[[#This Row],['#ofPermanentHouseBuilt]]+Table_Shelter[[#This Row],['#ofPermanentHouseUnderConstruction]])","v":80},{"$f":"VLOOKUP(Table_Shelter[[#This Row],[CampName]],Camp_List!N$5:O$302,2,0)","v":"MMR012CMP006"},{"$f":"VLOOKUP(Table_Shelter[[#This Row],[CampName]],Camp_List!N$5:AA$302,14,0)","v":"Open"},{"$f":"Table_Shelter[[#This Row],[HHCovered]]/VLOOKUP(Table_Shelter[[#This Row],[CampName]],Camp_List!N$5:AA$302,6,0)","v":0.93023255813953487}]
["2013-08-02","Government","Government","Rakhine","Minbya","Sam Ba Le",8,null,null,28,25,3,null,null,null,{"$f":"Table_Shelter[[#This Row],[HHperShelter]]*(Table_Shelter[[#This Row],['#ofTemporaryShelterBuilt]]+Table_Shelter[[#This Row],['#ofTemporaryShelterUnderConstruction]]+Table_Shelter[[#This Row],['#ofPermanentHouseBuilt]]+Table_Shelter[[#This Row],['#ofPermanentHouseUnderConstruction]])","v":224},{"$f":"VLOOKUP(Table_Shelter[[#This Row],[CampName]],Camp_List!N$5:O$302,2,0)","v":"MMR012CMP008"},{"$f":"VLOOKUP(Table_Shelter[[#This Row],[CampName]],Camp_List!N$5:AA$302,14,0)","v":"Open"},{"$f":"Table_Shelter[[#This Row],[HHCovered]]/VLOOKUP(Table_Shelter[[#This Row],[CampName]],Camp_List!N$5:AA$302,6,0)","v":0.99555555555555553}]
["2013-08-02","Government","Government","Rakhine","Mrauk_U","Pa Rein",8,null,null,26,26,null,null,null,null,{"$f":"Table_Shelter[[#This Row],[HHperShelter]]*(Table_Shelter[[#This Row],['#ofTemporaryShelterBuilt]]+Table_Shelter[[#This Row],['#ofTemporaryShelterUnderConstruction]]+Table_Shelter[[#This Row],['#ofPermanentHouseBuilt]]+Table_Shelter[[#This Row],['#ofPermanentHouseUnderConstruction]])","v":208},{"$f":"VLOOKUP(Table_Shelter[[#This Row],[CampName]],Camp_List!N$5:O$302,2,0)","v":"MMR012CMP009"},{"$f":"VLOOKUP(Table_Shelter[[#This Row],[CampName]],Camp_List!N$5:AA$302,14,0)","v":"Open"},{"$f":"Table_Shelter[[#This Row],[HHCovered]]/VLOOKUP(Table_Shelter[[#This Row],[CampName]],Camp_List!N$5:AA$302,6,0)","v":0.8666666666666667}]
["2013-08-02","Government","Government","Rakhine","Mrauk_U","Yai Thei-Muslim",8,null,null,46,46,null,null,null,null,{"$f":"Table_Shelter[[#This Row],[HHperShelter]]*(Table_Shelter[[#This Row],['#ofTemporaryShelterBuilt]]+Table_Shelter[[#This Row],['#ofTemporaryShelterUnderConstruction]]+Table_Shelter[[#This Row],['#ofPermanentHouseBuilt]]+Table_Shelter[[#This Row],['#ofPermanentHouseUnderConstruction]])","v":368},{"$f":"VLOOKUP(Table_Shelter[[#This Row],[CampName]],Camp_List!N$5:O$302,2,0)","v":"MMR012CMP010"},{"$f":"VLOOKUP(Table_Shelter[[#This Row],[CampName]],Camp_List!N$5:AA$302,14,0)","v":"Open"},{"$f":"Table_Shelter[[#This Row],[HHCovered]]/VLOOKUP(Table_Shelter[[#This Row],[CampName]],Camp_List!N$5:AA$302,6,0)","v":0.92230576441102752}]
["2013-08-02","UNHCR","UNHCR","Rakhine","Meybon","Kan Thar Htwat Wa",8,null,null,6,6,0,null,null,null,{"$f":"Table_Shelter[[#This Row],[HHperShelter]]*(Table_Shelter[[#This Row],['#ofTemporaryShelterBuilt]]+Table_Shelter[[#This Row],['#ofTemporaryShelterUnderConstruction]]+Table_Shelter[[#This Row],['#ofPermanentHouseBuilt]]+Table_Shelter[[#This Row],['#ofPermanentHouseUnderConstruction]])","v":48},{"$f":"VLOOKUP(Table_Shelter[[#This Row],[CampName]],Camp_List!N$5:O$302,2,0)","v":"MMR012CMP013"},{"$f":"VLOOKUP(Table_Shelter[[#This Row],[CampName]],Camp_List!N$5:AA$302,14,0)","v":"Open"},{"$f":"Table_Shelter[[#This Row],[HHCovered]]/VLOOKUP(Table_Shelter[[#This Row],[CampName]],Camp_List!N$5:AA$302,6,0)","v":1.1428571428571428}]
["2013-08-02","UNHCR","UNHCR","Rakhine","Meybon","Taung Paw ",8,null,null,89,89,null,null,null,null,{"$f":"Table_Shelter[[#This Row],[HHperShelter]]*(Table_Shelter[[#This Row],['#ofTemporaryShelterBuilt]]+Table_Shelter[[#This Row],['#ofTemporaryShelterUnderConstruction]]+Table_Shelter[[#This Row],['#ofPermanentHouseBuilt]]+Table_Shelter[[#This Row],['#ofPermanentHouseUnderConstruction]])","v":712},{"$f":"VLOOKUP(Table_Shelter[[#This Row],[CampName]],Camp_List!N$5:O$302,2,0)","v":"MMR012CMP014"},{"$f":"VLOOKUP(Table_Shelter[[#This Row],[CampName]],Camp_List!N$5:AA$302,14,0)","v":"Open"},{"$f":"Table_Shelter[[#This Row],[HHCovered]]/VLOOKUP(Table_Shelter[[#This Row],[CampName]],Camp_List!N$5:AA$302,6,0)","v":1.1265822784810127}]
["2013-08-02","Government","Government","Rakhine","Pauktaw","Ba Wan Chaung Wa Su",10,null,null,3,3,null,null,null,null,{"$f":"Table_Shelter[[#This Row],[HHperShelter]]*(Table_Shelter[[#This Row],['#ofTemporaryShelterBuilt]]+Table_Shelter[[#This Row],['#ofTemporaryShelterUnderConstruction]]+Table_Shelter[[#This Row],['#ofPermanentHouseBuilt]]+Table_Shelter[[#This Row],['#ofPermanentHouseUnderConstruction]])","v":30},{"$f":"VLOOKUP(Table_Shelter[[#This Row],[CampName]],Camp_List!N$5:O$302,2,0)","v":"MMR012CMP015"},{"$f":"VLOOKUP(Table_Shelter[[#This Row],[CampName]],Camp_List!N$5:AA$302,14,0)","v":"Open"},{"$f":"Table_Shelter[[#This Row],[HHCovered]]/VLOOKUP(Table_Shelter[[#This Row],[CampName]],Camp_List!N$5:AA$302,6,0)","v":1.4285714285714286}]
["2013-08-02","DRC","DRC","Rakhine","Pauktaw","Ah Nauk Ywe",8,null,null,96,65,31,null,null,null,{"$f":"Table_Shelter[[#This Row],[HHperShelter]]*(Table_Shelter[[#This Row],['#ofTemporaryShelterBuilt]]+Table_Shelter[[#This Row],['#ofTemporaryShelterUnderConstruction]]+Table_Shelter[[#This Row],['#ofPermanentHouseBuilt]]+Table_Shelter[[#This Row],['#ofPermanentHouseUnderConstruction]])","v":768},{"$f":"VLOOKUP(Table_Shelter[[#This Row],[CampName]],Camp_List!N$5:O$302,2,0)","v":"MMR012CMP016"},{"$f":"VLOOKUP(Table_Shelter[[#This Row],[CampName]],Camp_List!N$5:AA$302,14,0)","v":"Open"},{"$f":"Table_Shelter[[#This Row],[HHCovered]]/VLOOKUP(Table_Shelter[[#This Row],[CampName]],Camp_List!N$5:AA$302,6,0)","v":0.86389201349831268}]
["2013-08-02","UNHCR","UNHCR","Rakhine","Pauktaw","Nget Chaung",8,null,null,169,169,null,null,null,null,{"$f":"Table_Shelter[[#This Row],[HHperShelter]]*(Table_Shelter[[#This Row],['#ofTemporaryShelterBuilt]]+Table_Shelter[[#This Row],['#ofTemporaryShelterUnderConstruction]]+Table_Shelter[[#This Row],['#ofPermanentHouseBuilt]]+Table_Shelter[[#This Row],['#ofPermanentHouseUnderConstruction]])","v":1352},{"$f":"VLOOKUP(Table_Shelter[[#This Row],[CampName]],Camp_List!N$5:O$302,2,0)","v":"MMR012CMP017"},{"$f":"VLOOKUP(Table_Shelter[[#This Row],[CampName]],Camp_List!N$5:AA$302,14,0)","v":"Open"},{"$f":"Table_Shelter[[#This Row],[HHCovered]]/VLOOKUP(Table_Shelter[[#This Row],[CampName]],Camp_List!N$5:AA$302,6,0)","v":5.7288135593220337}]
["2013-08-02","Government","Government","Rakhine","Pauktaw","Kyein Ni Pyin",8,null,null,13,0,13,null,null,null,{"$f":"Table_Shelter[[#This Row],[HHperShelter]]*(Table_Shelter[[#This Row],['#ofTemporaryShelterBuilt]]+Table_Shelter[[#This Row],['#ofTemporaryShelterUnderConstruction]]+Table_Shelter[[#This Row],['#ofPermanentHouseBuilt]]+Table_Shelter[[#This Row],['#ofPermanentHouseUnderConstruction]])","v":104},{"$f":"VLOOKUP(Table_Shelter[[#This Row],[CampName]],Camp_List!N$5:O$302,2,0)","v":"MMR012CMP018"},{"$f":"VLOOKUP(Table_Shelter[[#This Row],[CampName]],Camp_List!N$5:AA$302,14,0)","v":"Open"},{"$f":"Table_Shelter[[#This Row],[HHCovered]]/VLOOKUP(Table_Shelter[[#This Row],[CampName]],Camp_List!N$5:AA$302,6,0)","v":0.11267605633802817}]
["2013-08-02","UNHCR","UNHCR","Rakhine","Pauktaw","Kyein Ni Pyin",8,null,null,98,80,18,null,null,null,{"$f":"Table_Shelter[[#This Row],[HHperShelter]]*(Table_Shelter[[#This Row],['#ofTemporaryShelterBuilt]]+Table_Shelter[[#This Row],['#ofTemporaryShelterUnderConstruction]]+Table_Shelter[[#This Row],['#ofPermanentHouseBuilt]]+Table_Shelter[[#This Row],['#ofPermanentHouseUnderConstruction]])","v":784},{"$f":"VLOOKUP(Table_Shelter[[#This Row],[CampName]],Camp_List!N$5:O$302,2,0)","v":"MMR012CMP018"},{"$f":"VLOOKUP(Table_Shelter[[#This Row],[CampName]],Camp_List!N$5:AA$302,14,0)","v":"Open"},{"$f":"Table_Shelter[[#This Row],[HHCovered]]/VLOOKUP(Table_Shelter[[#This Row],[CampName]],Camp_List!N$5:AA$302,6,0)","v":0.84940411700975083}]
["2013-08-02","DRC","DRC","Rakhine","Pauktaw","Sin Tet Maw",8,null,null,106,73,33,null,null,null,{"$f":"Table_Shelter[[#This Row],[HHperShelter]]*(Table_Shelter[[#This Row],['#ofTemporaryShelterBuilt]]+Table_Shelter[[#This Row],['#ofTemporaryShelterUnderConstruction]]+Table_Shelter[[#This Row],['#ofPermanentHouseBuilt]]+Table_Shelter[[#This Row],['#ofPermanentHouseUnderConstruction]])","v":848},{"$f":"VLOOKUP(Table_Shelter[[#This Row],[CampName]],Camp_List!N$5:O$302,2,0)","v":"MMR012CMP019"},{"$f":"VLOOKUP(Table_Shelter[[#This Row],[CampName]],Camp_List!N$5:AA$302,14,0)","v":"Open"},{"$f":"Table_Shelter[[#This Row],[HHCovered]]/VLOOKUP(Table_Shelter[[#This Row],[CampName]],Camp_List!N$5:AA$302,6,0)","v":1.08301404853129}]
["2013-08-02","Government","Government","Rakhine","Kyauktaw","Let Saung Kauk",8,null,null,2,2,null,null,null,null,{"$f":"Table_Shelter[[#This Row],[HHperShelter]]*(Table_Shelter[[#This Row],['#ofTemporaryShelterBuilt]]+Table_Shelter[[#This Row],['#ofTemporaryShelterUnderConstruction]]+Table_Shelter[[#This Row],['#ofPermanentHouseBuilt]]+Table_Shelter[[#This Row],['#ofPermanentHouseUnderConstruction]])","v":16},{"$f":"VLOOKUP(Table_Shelter[[#This Row],[CampName]],Camp_List!N$5:O$302,2,0)","v":"MMR012CMP020"},{"$f":"VLOOKUP(Table_Shelter[[#This Row],[CampName]],Camp_List!N$5:AA$302,14,0)","v":"Open"},{"$f":"Table_Shelter[[#This Row],[HHCovered]]/VLOOKUP(Table_Shelter[[#This Row],[CampName]],Camp_List!N$5:AA$302,6,0)","v":0.88888888888888884}]
["2013-08-02","Government","Government","Rakhine","Kyauktaw","Taung Bwe",8,null,null,8,8,null,null,null,null,{"$f":"Table_Shelter[[#This Row],[HHperShelter]]*(Table_Shelter[[#This Row],['#ofTemporaryShelterBuilt]]+Table_Shelter[[#This Row],['#ofTemporaryShelterUnderConstruction]]+Table_Shelter[[#This Row],['#ofPermanentHouseBuilt]]+Table_Shelter[[#This Row],['#ofPermanentHouseUnderConstruction]])","v":64},{"$f":"VLOOKUP(Table_Shelter[[#This Row],[CampName]],Camp_List!N$5:O$302,2,0)","v":"MMR012CMP021"},{"$f":"VLOOKUP(Table_Shelter[[#This Row],[CampName]],Camp_List!N$5:AA$302,14,0)","v":"Open"},{"$f":"Table_Shelter[[#This Row],[HHCovered]]/VLOOKUP(Table_Shelter[[#This Row],[CampName]],Camp_List!N$5:AA$302,6,0)","v":1}]
["2013-08-02","Government","Government","Rakhine","Kyauktaw","Ah Lel",8,null,null,2,2,null,null,null,null,{"$f":"Table_Shelter[[#This Row],[HHperShelter]]*(Table_Shelter[[#This Row],['#ofTemporaryShelterBuilt]]+Table_Shelter[[#This Row],['#ofTemporaryShelterUnderConstruction]]+Table_Shelter[[#This Row],['#ofPermanentHouseBuilt]]+Table_Shelter[[#This Row],['#ofPermanentHouseUnderConstruction]])","v":16},{"$f":"VLOOKUP(Table_Shelter[[#This Row],[CampName]],Camp_List!N$5:O$302,2,0)","v":"MMR012CMP022"},{"$f":"VLOOKUP(Table_Shelter[[#This Row],[CampName]],Camp_List!N$5:AA$302,14,0)","v":"Open"},{"$f":"Table_Shelter[[#This Row],[HHCovered]]/VLOOKUP(Table_Shelter[[#This Row],[CampName]],Camp_List!N$5:AA$302,6,0)","v":0.94117647058823528}]
["2013-08-02","Government","Government","Rakhine","Kyauktaw","Nidin",8,null,null,9,9,null,null,null,null,{"$f":"Table_Shelter[[#This Row],[HHperShelter]]*(Table_Shelter[[#This Row],['#ofTemporaryShelterBuilt]]+Table_Shelter[[#This Row],['#ofTemporaryShelterUnderConstruction]]+Table_Shelter[[#This Row],['#ofPermanentHouseBuilt]]+Table_Shelter[[#This Row],['#ofPermanentHouseUnderConstruction]])","v":72},{"$f":"VLOOKUP(Table_Shelter[[#This Row],[CampName]],Camp_List!N$5:O$302,2,0)","v":"MMR012CMP023"},{"$f":"VLOOKUP(Table_Shelter[[#This Row],[CampName]],Camp_List!N$5:AA$302,14,0)","v":"Open"},{"$f":"Table_Shelter[[#This Row],[HHCovered]]/VLOOKUP(Table_Shelter[[#This Row],[CampName]],Camp_List!N$5:AA$302,6,0)","v":0.86746987951807231}]
["2013-08-02","Government","Government","Rakhine","Kyauktaw","Ah Pauk Wa ",8,null,null,7,7,null,null,null,null,{"$f":"Table_Shelter[[#This Row],[HHperShelter]]*(Table_Shelter[[#This Row],['#ofTemporaryShelterBuilt]]+Table_Shelter[[#This Row],['#ofTemporaryShelterUnderConstruction]]+Table_Shelter[[#This Row],['#ofPermanentHouseBuilt]]+Table_Shelter[[#This Row],['#ofPermanentHouseUnderConstruction]])","v":56},{"$f":"VLOOKUP(Table_Shelter[[#This Row],[CampName]],Camp_List!N$5:O$302,2,0)","v":"MMR012CMP024"},{"$f":"VLOOKUP(Table_Shelter[[#This Row],[CampName]],Camp_List!N$5:AA$302,14,0)","v":"Open"},{"$f":"Table_Shelter[[#This Row],[HHCovered]]/VLOOKUP(Table_Shelter[[#This Row],[CampName]],Camp_List!N$5:AA$302,6,0)","v":0.57731958762886593}]
["2013-08-02","Government","Government","Rakhine","Kyauktaw","Ah Lel Kyun",8,null,null,2,2,null,null,null,null,{"$f":"Table_Shelter[[#This Row],[HHperShelter]]*(Table_Shelter[[#This Row],['#ofTemporaryShelterBuilt]]+Table_Shelter[[#This Row],['#ofTemporaryShelterUnderConstruction]]+Table_Shelter[[#This Row],['#ofPermanentHouseBuilt]]+Table_Shelter[[#This Row],['#ofPermanentHouseUnderConstruction]])","v":16},{"$f":"VLOOKUP(Table_Shelter[[#This Row],[CampName]],Camp_List!N$5:O$302,2,0)","v":"MMR012CMP025"},{"$f":"VLOOKUP(Table_Shelter[[#This Row],[CampName]],Camp_List!N$5:AA$302,14,0)","v":"Open"},{"$f":"Table_Shelter[[#This Row],[HHCovered]]/VLOOKUP(Table_Shelter[[#This Row],[CampName]],Camp_List!N$5:AA$302,6,0)","v":1.1428571428571428}]
["2013-08-02","Government","Government","Rakhine","Kyauktaw","In Bar Yi",8,null,null,29,29,null,null,null,null,{"$f":"Table_Shelter[[#This Row],[HHperShelter]]*(Table_Shelter[[#This Row],['#ofTemporaryShelterBuilt]]+Table_Shelter[[#This Row],['#ofTemporaryShelterUnderConstruction]]+Table_Shelter[[#This Row],['#ofPermanentHouseBuilt]]+Table_Shelter[[#This Row],['#ofPermanentHouseUnderConstruction]])","v":232},{"$f":"VLOOKUP(Table_Shelter[[#This Row],[CampName]],Camp_List!N$5:O$302,2,0)","v":"MMR012CMP026"},{"$f":"VLOOKUP(Table_Shelter[[#This Row],[CampName]],Camp_List!N$5:AA$302,14,0)","v":"Open"},{"$f":"Table_Shelter[[#This Row],[HHCovered]]/VLOOKUP(Table_Shelter[[#This Row],[CampName]],Camp_List!N$5:AA$302,6,0)","v":1.008695652173913}]
["2013-08-02","Government","Government","Rakhine","Kyauktaw","Goke Pi Htaunt",8,null,null,10,10,null,null,null,null,{"$f":"Table_Shelter[[#This Row],[HHperShelter]]*(Table_Shelter[[#This Row],['#ofTemporaryShelterBuilt]]+Table_Shelter[[#This Row],['#ofTemporaryShelterUnderConstruction]]+Table_Shelter[[#This Row],['#ofPermanentHouseBuilt]]+Table_Shelter[[#This Row],['#ofPermanentHouseUnderConstruction]])","v":80},{"$f":"VLOOKUP(Table_Shelter[[#This Row],[CampName]],Camp_List!N$5:O$302,2,0)","v":"MMR012CMP027"},{"$f":"VLOOKUP(Table_Shelter[[#This Row],[CampName]],Camp_List!N$5:AA$302,14,0)","v":"Open"},{"$f":"Table_Shelter[[#This Row],[HHCovered]]/VLOOKUP(Table_Shelter[[#This Row],[CampName]],Camp_List!N$5:AA$302,6,0)","v":0.68965517241379315}]
["2013-08-02","Government","Government","Rakhine","Kyauktaw","Yun Nyar",8,null,null,14,14,null,null,null,null,{"$f":"Table_Shelter[[#This Row],[HHperShelter]]*(Table_Shelter[[#This Row],['#ofTemporaryShelterBuilt]]+Table_Shelter[[#This Row],['#ofTemporaryShelterUnderConstruction]]+Table_Shelter[[#This Row],['#ofPermanentHouseBuilt]]+Table_Shelter[[#This Row],['#ofPermanentHouseUnderConstruction]])","v":112},{"$f":"VLOOKUP(Table_Shelter[[#This Row],[CampName]],Camp_List!N$5:O$302,2,0)","v":"MMR012CMP028"},{"$f":"VLOOKUP(Table_Shelter[[#This Row],[CampName]],Camp_List!N$5:AA$302,14,0)","v":"Open"},{"$f":"Table_Shelter[[#This Row],[HHCovered]]/VLOOKUP(Table_Shelter[[#This Row],[CampName]],Camp_List!N$5:AA$302,6,0)","v":0.78321678321678323}]
["2013-08-02","Government","Government","Rakhine","Kyauktaw","Shwe Hlaing",8,null,null,18,18,null,null,null,null,{"$f":"Table_Shelter[[#This Row],[HHperShelter]]*(Table_Shelter[[#This Row],['#ofTemporaryShelterBuilt]]+Table_Shelter[[#This Row],['#ofTemporaryShelterUnderConstruction]]+Table_Shelter[[#This Row],['#ofPermanentHouseBuilt]]+Table_Shelter[[#This Row],['#ofPermanentHouseUnderConstruction]])","v":144},{"$f":"VLOOKUP(Table_Shelter[[#This Row],[CampName]],Camp_List!N$5:O$302,2,0)","v":"MMR012CMP029"},{"$f":"VLOOKUP(Table_Shelter[[#This Row],[CampName]],Camp_List!N$5:AA$302,14,0)","v":"Open"},{"$f":"Table_Shelter[[#This Row],[HHCovered]]/VLOOKUP(Table_Shelter[[#This Row],[CampName]],Camp_List!N$5:AA$302,6,0)","v":0.82758620689655171}]
["2013-08-02","Government","Government","Rakhine","Kyauktaw","Khaung Htoke",8,null,null,10,10,null,null,null,null,{"$f":"Table_Shelter[[#This Row],[HHperShelter]]*(Table_Shelter[[#This Row],['#ofTemporaryShelterBuilt]]+Table_Shelter[[#This Row],['#ofTemporaryShelterUnderConstruction]]+Table_Shelter[[#This Row],['#ofPermanentHouseBuilt]]+Table_Shelter[[#This Row],['#ofPermanentHouseUnderConstruction]])","v":80},{"$f":"VLOOKUP(Table_Shelter[[#This Row],[CampName]],Camp_List!N$5:O$302,2,0)","v":"MMR012CMP030"},{"$f":"VLOOKUP(Table_Shelter[[#This Row],[CampName]],Camp_List!N$5:AA$302,14,0)","v":"Open"},{"$f":"Table_Shelter[[#This Row],[HHCovered]]/VLOOKUP(Table_Shelter[[#This Row],[CampName]],Camp_List!N$5:AA$302,6,0)","v":0.82474226804123707}]
["2013-08-02","Government","Government","Rakhine","Rathedaung","Nyaung Pin Gyi",8,null,null,7,7,null,null,null,null,{"$f":"Table_Shelter[[#This Row],[HHperShelter]]*(Table_Shelter[[#This Row],['#ofTemporaryShelterBuilt]]+Table_Shelter[[#This Row],['#ofTemporaryShelterUnderConstruction]]+Table_Shelter[[#This Row],['#ofPermanentHouseBuilt]]+Table_Shelter[[#This Row],['#ofPermanentHouseUnderConstruction]])","v":56},{"$f":"VLOOKUP(Table_Shelter[[#This Row],[CampName]],Camp_List!N$5:O$302,2,0)","v":"MMR012CMP031"},{"$f":"VLOOKUP(Table_Shelter[[#This Row],[CampName]],Camp_List!N$5:AA$302,14,0)","v":"Open"},{"$f":"Table_Shelter[[#This Row],[HHCovered]]/VLOOKUP(Table_Shelter[[#This Row],[CampName]],Camp_List!N$5:AA$302,6,0)","v":0.90322580645161288}]
["2013-08-02","UNHCR","UNHCR","Rakhine","Rathedaung","Nyaung Pin Gyi",1,null,2,null,null,null,null,null,null,{"$f":"Table_Shelter[[#This Row],[HHperShelter]]*(Table_Shelter[[#This Row],['#ofTemporaryShelterBuilt]]+Table_Shelter[[#This Row],['#ofTemporaryShelterUnderConstruction]]+Table_Shelter[[#This Row],['#ofPermanentHouseBuilt]]+Table_Shelter[[#This Row],['#ofPermanentHouseUnderConstruction]])","v":0},{"$f":"VLOOKUP(Table_Shelter[[#This Row],[CampName]],Camp_List!N$5:O$302,2,0)","v":"MMR012CMP031"},{"$f":"VLOOKUP(Table_Shelter[[#This Row],[CampName]],Camp_List!N$5:AA$302,14,0)","v":"Open"},{"$f":"Table_Shelter[[#This Row],[HHCovered]]/VLOOKUP(Table_Shelter[[#This Row],[CampName]],Camp_List!N$5:AA$302,6,0)","v":0}]
["2013-08-02","Government","Government","Rakhine","Rathedaung","Ah Nauk Pyin",8,null,null,4,4,null,null,null,null,{"$f":"Table_Shelter[[#This Row],[HHperShelter]]*(Table_Shelter[[#This Row],['#ofTemporaryShelterBuilt]]+Table_Shelter[[#This Row],['#ofTemporaryShelterUnderConstruction]]+Table_Shelter[[#This Row],['#ofPermanentHouseBuilt]]+Table_Shelter[[#This Row],['#ofPermanentHouseUnderConstruction]])","v":32},{"$f":"VLOOKUP(Table_Shelter[[#This Row],[CampName]],Camp_List!N$5:O$302,2,0)","v":"MMR012CMP032"},{"$f":"VLOOKUP(Table_Shelter[[#This Row],[CampName]],Camp_List!N$5:AA$302,14,0)","v":"Open"},{"$f":"Table_Shelter[[#This Row],[HHCovered]]/VLOOKUP(Table_Shelter[[#This Row],[CampName]],Camp_List!N$5:AA$302,6,0)","v":0.56140350877192979}]
["2013-08-02","Government","Government","Rakhine","Rathedaung","Koe Tan Kauk/Chein Khar Li",8,null,null,53,53,null,null,null,null,{"$f":"Table_Shelter[[#This Row],[HHperShelter]]*(Table_Shelter[[#This Row],['#ofTemporaryShelterBuilt]]+Table_Shelter[[#This Row],['#ofTemporaryShelterUnderConstruction]]+Table_Shelter[[#This Row],['#ofPermanentHouseBuilt]]+Table_Shelter[[#This Row],['#ofPermanentHouseUnderConstruction]])","v":424},{"$f":"VLOOKUP(Table_Shelter[[#This Row],[CampName]],Camp_List!N$5:O$302,2,0)","v":"MMR012CMP033"},{"$f":"VLOOKUP(Table_Shelter[[#This Row],[CampName]],Camp_List!N$5:AA$302,14,0)","v":"Close"},{"$f":"Table_Shelter[[#This Row],[HHCovered]]/VLOOKUP(Table_Shelter[[#This Row],[CampName]],Camp_List!N$5:AA$302,6,0)","v":{"$error":"#DIV/0!"}}]
["2013-08-02","UNHCR","UNHCR","Rakhine","Rathedaung","Koe Tan Kauk/Chein Khar Li",1,414,414,null,null,null,null,null,null,{"$f":"Table_Shelter[[#This Row],[HHperShelter]]*(Table_Shelter[[#This Row],['#ofTemporaryShelterBuilt]]+Table_Shelter[[#This Row],['#ofTemporaryShelterUnderConstruction]]+Table_Shelter[[#This Row],['#ofPermanentHouseBuilt]]+Table_Shelter[[#This Row],['#ofPermanentHouseUnderConstruction]])","v":0},{"$f":"VLOOKUP(Table_Shelter[[#This Row],[CampName]],Camp_List!N$5:O$302,2,0)","v":"MMR012CMP033"},{"$f":"VLOOKUP(Table_Shelter[[#This Row],[CampName]],Camp_List!N$5:AA$302,14,0)","v":"Close"},{"$f":"Table_Shelter[[#This Row],[HHCovered]]/VLOOKUP(Table_Shelter[[#This Row],[CampName]],Camp_List!N$5:AA$302,6,0)","v":{"$error":"#DIV/0!"}}]
["2013-08-02","Government","Government","Rakhine","Kyauk_Phyu","Kyauk Ta Lone",8,null,null,22,22,null,null,null,null,{"$f":"Table_Shelter[[#This Row],[HHperShelter]]*(Table_Shelter[[#This Row],['#ofTemporaryShelterBuilt]]+Table_Shelter[[#This Row],['#ofTemporaryShelterUnderConstruction]]+Table_Shelter[[#This Row],['#ofPermanentHouseBuilt]]+Table_Shelter[[#This Row],['#ofPermanentHouseUnderConstruction]])","v":176},{"$f":"VLOOKUP(Table_Shelter[[#This Row],[CampName]],Camp_List!N$5:O$302,2,0)","v":"MMR012CMP035"},{"$f":"VLOOKUP(Table_Shelter[[#This Row],[CampName]],Camp_List!N$5:AA$302,14,0)","v":"Open"},{"$f":"Table_Shelter[[#This Row],[HHCovered]]/VLOOKUP(Table_Shelter[[#This Row],[CampName]],Camp_List!N$5:AA$302,6,0)","v":0.41217798594847777}]
["2013-08-02","Service City","Service City","Rakhine","Kyauk_Phyu","Kyauk Ta Lone",8,null,null,7,7,null,null,null,null,{"$f":"Table_Shelter[[#This Row],[HHperShelter]]*(Table_Shelter[[#This Row],['#ofTemporaryShelterBuilt]]+Table_Shelter[[#This Row],['#ofTemporaryShelterUnderConstruction]]+Table_Shelter[[#This Row],['#ofPermanentHouseBuilt]]+Table_Shelter[[#This Row],['#ofPermanentHouseUnderConstruction]])","v":56},{"$f":"VLOOKUP(Table_Shelter[[#This Row],[CampName]],Camp_List!N$5:O$302,2,0)","v":"MMR012CMP035"},{"$f":"VLOOKUP(Table_Shelter[[#This Row],[CampName]],Camp_List!N$5:AA$302,14,0)","v":"Open"},{"$f":"Table_Shelter[[#This Row],[HHCovered]]/VLOOKUP(Table_Shelter[[#This Row],[CampName]],Camp_List!N$5:AA$302,6,0)","v":0.13114754098360656}]
["2013-08-02","Service City","Service City","Rakhine","Kyauk_Phyu","Pha Yar Gyi Kwin",8,null,null,31,31,null,null,null,null,{"$f":"Table_Shelter[[#This Row],[HHperShelter]]*(Table_Shelter[[#This Row],['#ofTemporaryShelterBuilt]]+Table_Shelter[[#This Row],['#ofTemporaryShelterUnderConstruction]]+Table_Shelter[[#This Row],['#ofPermanentHouseBuilt]]+Table_Shelter[[#This Row],['#ofPermanentHouseUnderConstruction]])","v":248},{"$f":"VLOOKUP(Table_Shelter[[#This Row],[CampName]],Camp_List!N$5:O$302,2,0)","v":"MMR012CMP036"},{"$f":"VLOOKUP(Table_Shelter[[#This Row],[CampName]],Camp_List!N$5:AA$302,14,0)","v":"Open"},{"$f":"Table_Shelter[[#This Row],[HHCovered]]/VLOOKUP(Table_Shelter[[#This Row],[CampName]],Camp_List!N$5:AA$302,6,0)","v":3.8153846153846156}]
["2013-08-02","Government","Government","Rakhine","Ramree","Ramree Town",8,null,null,12,12,null,null,null,null,{"$f":"Table_Shelter[[#This Row],[HHperShelter]]*(Table_Shelter[[#This Row],['#ofTemporaryShelterBuilt]]+Table_Shelter[[#This Row],['#ofTemporaryShelterUnderConstruction]]+Table_Shelter[[#This Row],['#ofPermanentHouseBuilt]]+Table_Shelter[[#This Row],['#ofPermanentHouseUnderConstruction]])","v":96},{"$f":"VLOOKUP(Table_Shelter[[#This Row],[CampName]],Camp_List!N$5:O$302,2,0)","v":"MMR012CMP038"},{"$f":"VLOOKUP(Table_Shelter[[#This Row],[CampName]],Camp_List!N$5:AA$302,14,0)","v":"Open"},{"$f":"Table_Shelter[[#This Row],[HHCovered]]/VLOOKUP(Table_Shelter[[#This Row],[CampName]],Camp_List!N$5:AA$302,6,0)","v":8}]
["2013-08-02","Government","Government","Rakhine","Sittwe","Basare",8,null,null,52,52,null,null,null,null,{"$f":"Table_Shelter[[#This Row],[HHperShelter]]*(Table_Shelter[[#This Row],['#ofTemporaryShelterBuilt]]+Table_Shelter[[#This Row],['#ofTemporaryShelterUnderConstruction]]+Table_Shelter[[#This Row],['#ofPermanentHouseBuilt]]+Table_Shelter[[#This Row],['#ofPermanentHouseUnderConstruction]])","v":416},{"$f":"VLOOKUP(Table_Shelter[[#This Row],[CampName]],Camp_List!N$5:O$302,2,0)","v":{"$error":"#N/A"}},{"$f":"VLOOKUP(Table_Shelter[[#This Row],[CampName]],Camp_List!N$5:AA$302,14,0)","v":{"$error":"#N/A"}},{"$f":"Table_Shelter[[#This Row],[HHCovered]]/VLOOKUP(Table_Shelter[[#This Row],[CampName]],Camp_List!N$5:AA$302,6,0)","v":{"$error":"#N/A"}}]
["2013-08-02","CARE","CARE","Rakhine","Sittwe","Baw Du Pha",8,null,null,50,35,15,null,null,null,{"$f":"Table_Shelter[[#This Row],[HHperShelter]]*(Table_Shelter[[#This Row],['#ofTemporaryShelterBuilt]]+Table_Shelter[[#This Row],['#ofTemporaryShelterUnderConstruction]]+Table_Shelter[[#This Row],['#ofPermanentHouseBuilt]]+Table_Shelter[[#This Row],['#ofPermanentHouseUnderConstruction]])","v":400},{"$f":"VLOOKUP(Table_Shelter[[#This Row],[CampName]],Camp_List!N$5:O$302,2,0)","v":"MMR012CMP040"},{"$f":"VLOOKUP(Table_Shelter[[#This Row],[CampName]],Camp_List!N$5:AA$302,14,0)","v":"Open"},{"$f":"Table_Shelter[[#This Row],[HHCovered]]/VLOOKUP(Table_Shelter[[#This Row],[CampName]],Camp_List!N$5:AA$302,6,0)","v":0.19502681618722575}]
["2013-08-02","Government","Government","Rakhine","Sittwe","Baw Du Pha",10,null,null,20,20,null,null,null,null,{"$f":"Table_Shelter[[#This Row],[HHperShelter]]*(Table_Shelter[[#This Row],['#ofTemporaryShelterBuilt]]+Table_Shelter[[#This Row],['#ofTemporaryShelterUnderConstruction]]+Table_Shelter[[#This Row],['#ofPermanentHouseBuilt]]+Table_Shelter[[#This Row],['#ofPermanentHouseUnderConstruction]])","v":200},{"$f":"VLOOKUP(Table_Shelter[[#This Row],[CampName]],Camp_List!N$5:O$302,2,0)","v":"MMR012CMP040"},{"$f":"VLOOKUP(Table_Shelter[[#This Row],[CampName]],Camp_List!N$5:AA$302,14,0)","v":"Open"},{"$f":"Table_Shelter[[#This Row],[HHCovered]]/VLOOKUP(Table_Shelter[[#This Row],[CampName]],Camp_List!N$5:AA$302,6,0)","v":9.7513408093612877E-2}]
["2013-08-02","Government","Government","Rakhine","Sittwe","Baw Du Pha",8,null,null,200,140,60,null,null,null,{"$f":"Table_Shelter[[#This Row],[HHperShelter]]*(Table_Shelter[[#This Row],['#ofTemporaryShelterBuilt]]+Table_Shelter[[#This Row],['#ofTemporaryShelterUnderConstruction]]+Table_Shelter[[#This Row],['#ofPermanentHouseBuilt]]+Table_Shelter[[#This Row],['#ofPermanentHouseUnderConstruction]])","v":1600},{"$f":"VLOOKUP(Table_Shelter[[#This Row],[CampName]],Camp_List!N$5:O$302,2,0)","v":"MMR012CMP040"},{"$f":"VLOOKUP(Table_Shelter[[#This Row],[CampName]],Camp_List!N$5:AA$302,14,0)","v":"Open"},{"$f":"Table_Shelter[[#This Row],[HHCovered]]/VLOOKUP(Table_Shelter[[#This Row],[CampName]],Camp_List!N$5:AA$302,6,0)","v":0.78010726474890302}]
["2013-08-02","ICRC","ICRC","Rakhine","Sittwe","Baw Du Pha",8,null,null,19,0,19,null,null,null,{"$f":"Table_Shelter[[#This Row],[HHperShelter]]*(Table_Shelter[[#This Row],['#ofTemporaryShelterBuilt]]+Table_Shelter[[#This Row],['#ofTemporaryShelterUnderConstruction]]+Table_Shelter[[#This Row],['#ofPermanentHouseBuilt]]+Table_Shelter[[#This Row],['#ofPermanentHouseUnderConstruction]])","v":152},{"$f":"VLOOKUP(Table_Shelter[[#This Row],[CampName]],Camp_List!N$5:O$302,2,0)","v":"MMR012CMP040"},{"$f":"VLOOKUP(Table_Shelter[[#This Row],[CampName]],Camp_List!N$5:AA$302,14,0)","v":"Open"},{"$f":"Table_Shelter[[#This Row],[HHCovered]]/VLOOKUP(Table_Shelter[[#This Row],[CampName]],Camp_List!N$5:AA$302,6,0)","v":7.4110190151145783E-2}]
["2013-08-02","MAUK","MAUK","Rakhine","Sittwe","Baw Du Pha",8,null,null,32,25,7,null,null,null,{"$f":"Table_Shelter[[#This Row],[HHperShelter]]*(Table_Shelter[[#This Row],['#ofTemporaryShelterBuilt]]+Table_Shelter[[#This Row],['#ofTemporaryShelterUnderConstruction]]+Table_Shelter[[#This Row],['#ofPermanentHouseBuilt]]+Table_Shelter[[#This Row],['#ofPermanentHouseUnderConstruction]])","v":256},{"$f":"VLOOKUP(Table_Shelter[[#This Row],[CampName]],Camp_List!N$5:O$302,2,0)","v":"MMR012CMP040"},{"$f":"VLOOKUP(Table_Shelter[[#This Row],[CampName]],Camp_List!N$5:AA$302,14,0)","v":"Open"},{"$f":"Table_Shelter[[#This Row],[HHCovered]]/VLOOKUP(Table_Shelter[[#This Row],[CampName]],Camp_List!N$5:AA$302,6,0)","v":0.12481716235982447}]
["2013-08-02","WFP","WFP","Rakhine","Sittwe","Baw Du Pha",10,null,null,40,40,null,null,null,null,{"$f":"Table_Shelter[[#This Row],[HHperShelter]]*(Table_Shelter[[#This Row],['#ofTemporaryShelterBuilt]]+Table_Shelter[[#This Row],['#ofTemporaryShelterUnderConstruction]]+Table_Shelter[[#This Row],['#ofPermanentHouseBuilt]]+Table_Shelter[[#This Row],['#ofPermanentHouseUnderConstruction]])","v":400},{"$f":"VLOOKUP(Table_Shelter[[#This Row],[CampName]],Camp_List!N$5:O$302,2,0)","v":"MMR012CMP040"},{"$f":"VLOOKUP(Table_Shelter[[#This Row],[CampName]],Camp_List!N$5:AA$302,14,0)","v":"Open"},{"$f":"Table_Shelter[[#This Row],[HHCovered]]/VLOOKUP(Table_Shelter[[#This Row],[CampName]],Camp_List!N$5:AA$302,6,0)","v":0.19502681618722575}]
["2013-08-02","CARE","CARE","Rakhine","Sittwe","Dar Pai",8,null,null,41,35,6,null,null,null,{"$f":"Table_Shelter[[#This Row],[HHperShelter]]*(Table_Shelter[[#This Row],['#ofTemporaryShelterBuilt]]+Table_Shelter[[#This Row],['#ofTemporaryShelterUnderConstruction]]+Table_Shelter[[#This Row],['#ofPermanentHouseBuilt]]+Table_Shelter[[#This Row],['#ofPermanentHouseUnderConstruction]])","v":328},{"$f":"VLOOKUP(Table_Shelter[[#This Row],[CampName]],Camp_List!N$5:O$302,2,0)","v":"MMR012CMP041"},{"$f":"VLOOKUP(Table_Shelter[[#This Row],[CampName]],Camp_List!N$5:AA$302,14,0)","v":"Open"},{"$f":"Table_Shelter[[#This Row],[HHCovered]]/VLOOKUP(Table_Shelter[[#This Row],[CampName]],Camp_List!N$5:AA$302,6,0)","v":0.17400530503978781}]
["2013-08-02","Government","Government","Rakhine","Sittwe","Dar Pai",8,null,null,141,141,null,null,null,null,{"$f":"Table_Shelter[[#This Row],[HHperShelter]]*(Table_Shelter[[#This Row],['#ofTemporaryShelterBuilt]]+Table_Shelter[[#This Row],['#ofTemporaryShelterUnderConstruction]]+Table_Shelter[[#This Row],['#ofPermanentHouseBuilt]]+Table_Shelter[[#This Row],['#ofPermanentHouseUnderConstruction]])","v":1128},{"$f":"VLOOKUP(Table_Shelter[[#This Row],[CampName]],Camp_List!N$5:O$302,2,0)","v":"MMR012CMP041"},{"$f":"VLOOKUP(Table_Shelter[[#This Row],[CampName]],Camp_List!N$5:AA$302,14,0)","v":"Open"},{"$f":"Table_Shelter[[#This Row],[HHCovered]]/VLOOKUP(Table_Shelter[[#This Row],[CampName]],Camp_List!N$5:AA$302,6,0)","v":0.59840848806366043}]
["2013-08-02","Government","Government","Rakhine","Sittwe","Khaung Doke Khar ",8,null,null,50,50,null,null,null,null,{"$f":"Table_Shelter[[#This Row],[HHperShelter]]*(Table_Shelter[[#This Row],['#ofTemporaryShelterBuilt]]+Table_Shelter[[#This Row],['#ofTemporaryShelterUnderConstruction]]+Table_Shelter[[#This Row],['#ofPermanentHouseBuilt]]+Table_Shelter[[#This Row],['#ofPermanentHouseUnderConstruction]])","v":400},{"$f":"VLOOKUP(Table_Shelter[[#This Row],[CampName]],Camp_List!N$5:O$302,2,0)","v":"MMR012CMP042"},{"$f":"VLOOKUP(Table_Shelter[[#This Row],[CampName]],Camp_List!N$5:AA$302,14,0)","v":"Open"},{"$f":"Table_Shelter[[#This Row],[HHCovered]]/VLOOKUP(Table_Shelter[[#This Row],[CampName]],Camp_List!N$5:AA$302,6,0)","v":1.0256410256410255}]
["2013-08-02","UNHCR","UNHCR","Rakhine","Sittwe","Ohn Taw Gyi 1",8,null,null,150,150,null,null,null,null,{"$f":"Table_Shelter[[#This Row],[HHperShelter]]*(Table_Shelter[[#This Row],['#ofTemporaryShelterBuilt]]+Table_Shelter[[#This Row],['#ofTemporaryShelterUnderConstruction]]+Table_Shelter[[#This Row],['#ofPermanentHouseBuilt]]+Table_Shelter[[#This Row],['#ofPermanentHouseUnderConstruction]])","v":1200},{"$f":"VLOOKUP(Table_Shelter[[#This Row],[CampName]],Camp_List!N$5:O$302,2,0)","v":"MMR012CMP043"},{"$f":"VLOOKUP(Table_Shelter[[#This Row],[CampName]],Camp_List!N$5:AA$302,14,0)","v":"Open"},{"$f":"Table_Shelter[[#This Row],[HHCovered]]/VLOOKUP(Table_Shelter[[#This Row],[CampName]],Camp_List!N$5:AA$302,6,0)","v":1.1152416356877324}]
["2013-08-02","Government","Government","Rakhine","Sittwe","Phwe Yar Kone",10,null,null,40,40,null,null,null,null,{"$f":"Table_Shelter[[#This Row],[HHperShelter]]*(Table_Shelter[[#This Row],['#ofTemporaryShelterBuilt]]+Table_Shelter[[#This Row],['#ofTemporaryShelterUnderConstruction]]+Table_Shelter[[#This Row],['#ofPermanentHouseBuilt]]+Table_Shelter[[#This Row],['#ofPermanentHouseUnderConstruction]])","v":400},{"$f":"VLOOKUP(Table_Shelter[[#This Row],[CampName]],Camp_List!N$5:O$302,2,0)","v":"MMR012CMP044"},{"$f":"VLOOKUP(Table_Shelter[[#This Row],[CampName]],Camp_List!N$5:AA$302,14,0)","v":"Open"},{"$f":"Table_Shelter[[#This Row],[HHCovered]]/VLOOKUP(Table_Shelter[[#This Row],[CampName]],Camp_List!N$5:AA$302,6,0)","v":1.1428571428571428}]
["2013-08-02","Government","Government","Rakhine","Sittwe","Phwe Yar Kone",10,null,null,40,40,null,null,null,null,{"$f":"Table_Shelter[[#This Row],[HHperShelter]]*(Table_Shelter[[#This Row],['#ofTemporaryShelterBuilt]]+Table_Shelter[[#This Row],['#ofTemporaryShelterUnderConstruction]]+Table_Shelter[[#This Row],['#ofPermanentHouseBuilt]]+Table_Shelter[[#This Row],['#ofPermanentHouseUnderConstruction]])","v":400},{"$f":"VLOOKUP(Table_Shelter[[#This Row],[CampName]],Camp_List!N$5:O$302,2,0)","v":"MMR012CMP044"},{"$f":"VLOOKUP(Table_Shelter[[#This Row],[CampName]],Camp_List!N$5:AA$302,14,0)","v":"Open"},{"$f":"Table_Shelter[[#This Row],[HHCovered]]/VLOOKUP(Table_Shelter[[#This Row],[CampName]],Camp_List!N$5:AA$302,6,0)","v":1.1428571428571428}]
["2013-08-02","DRC","DRC","Rakhine","Sittwe","Say Tha Mar Gyi",8,null,null,27,27,null,null,null,null,{"$f":"Table_Shelter[[#This Row],[HHperShelter]]*(Table_Shelter[[#This Row],['#ofTemporaryShelterBuilt]]+Table_Shelter[[#This Row],['#ofTemporaryShelterUnderConstruction]]+Table_Shelter[[#This Row],['#ofPermanentHouseBuilt]]+Table_Shelter[[#This Row],['#ofPermanentHouseUnderConstruction]])","v":216},{"$f":"VLOOKUP(Table_Shelter[[#This Row],[CampName]],Camp_List!N$5:O$302,2,0)","v":"MMR012CMP045"},{"$f":"VLOOKUP(Table_Shelter[[#This Row],[CampName]],Camp_List!N$5:AA$302,14,0)","v":"Open"},{"$f":"Table_Shelter[[#This Row],[HHCovered]]/VLOOKUP(Table_Shelter[[#This Row],[CampName]],Camp_List!N$5:AA$302,6,0)","v":0.1}]
["2013-08-02","Government","Government","Rakhine","Sittwe","Say Tha Mar Gyi",10,null,null,23,23,null,null,null,null,{"$f":"Table_Shelter[[#This Row],[HHperShelter]]*(Table_Shelter[[#This Row],['#ofTemporaryShelterBuilt]]+Table_Shelter[[#This Row],['#ofTemporaryShelterUnderConstruction]]+Table_Shelter[[#This Row],['#ofPermanentHouseBuilt]]+Table_Shelter[[#This Row],['#ofPermanentHouseUnderConstruction]])","v":230},{"$f":"VLOOKUP(Table_Shelter[[#This Row],[CampName]],Camp_List!N$5:O$302,2,0)","v":"MMR012CMP045"},{"$f":"VLOOKUP(Table_Shelter[[#This Row],[CampName]],Camp_List!N$5:AA$302,14,0)","v":"Open"},{"$f":"Table_Shelter[[#This Row],[HHCovered]]/VLOOKUP(Table_Shelter[[#This Row],[CampName]],Camp_List!N$5:AA$302,6,0)","v":0.10648148148148148}]
["2013-08-02","IRW","IRW","Rakhine","Sittwe","Say Tha Mar Gyi",8,null,null,40,40,null,null,null,null,{"$f":"Table_Shelter[[#This Row],[HHperShelter]]*(Table_Shelter[[#This Row],['#ofTemporaryShelterBuilt]]+Table_Shelter[[#This Row],['#ofTemporaryShelterUnderConstruction]]+Table_Shelter[[#This Row],['#ofPermanentHouseBuilt]]+Table_Shelter[[#This Row],['#ofPermanentHouseUnderConstruction]])","v":320},{"$f":"VLOOKUP(Table_Shelter[[#This Row],[CampName]],Camp_List!N$5:O$302,2,0)","v":"MMR012CMP045"},{"$f":"VLOOKUP(Table_Shelter[[#This Row],[CampName]],Camp_List!N$5:AA$302,14,0)","v":"Open"},{"$f":"Table_Shelter[[#This Row],[HHCovered]]/VLOOKUP(Table_Shelter[[#This Row],[CampName]],Camp_List!N$5:AA$302,6,0)","v":0.14814814814814814}]
["2013-08-02","MRCS","MRCS","Rakhine","Sittwe","Say Tha Mar Gyi",8,null,null,60,60,null,null,null,null,{"$f":"Table_Shelter[[#This Row],[HHperShelter]]*(Table_Shelter[[#This Row],['#ofTemporaryShelterBuilt]]+Table_Shelter[[#This Row],['#ofTemporaryShelterUnderConstruction]]+Table_Shelter[[#This Row],['#ofPermanentHouseBuilt]]+Table_Shelter[[#This Row],['#ofPermanentHouseUnderConstruction]])","v":480},{"$f":"VLOOKUP(Table_Shelter[[#This Row],[CampName]],Camp_List!N$5:O$302,2,0)","v":"MMR012CMP045"},{"$f":"VLOOKUP(Table_Shelter[[#This Row],[CampName]],Camp_List!N$5:AA$302,14,0)","v":"Open"},{"$f":"Table_Shelter[[#This Row],[HHCovered]]/VLOOKUP(Table_Shelter[[#This Row],[CampName]],Camp_List!N$5:AA$302,6,0)","v":0.22222222222222221}]
["2013-08-02","MRF/ACT","MRF/ACT","Rakhine","Sittwe","Say Tha Mar Gyi",10,null,null,77,77,null,null,null,null,{"$f":"Table_Shelter[[#This Row],[HHperShelter]]*(Table_Shelter[[#This Row],['#ofTemporaryShelterBuilt]]+Table_Shelter[[#This Row],['#ofTemporaryShelterUnderConstruction]]+Table_Shelter[[#This Row],['#ofPermanentHouseBuilt]]+Table_Shelter[[#This Row],['#ofPermanentHouseUnderConstruction]])","v":770},{"$f":"VLOOKUP(Table_Shelter[[#This Row],[CampName]],Camp_List!N$5:O$302,2,0)","v":"MMR012CMP045"},{"$f":"VLOOKUP(Table_Shelter[[#This Row],[CampName]],Camp_List!N$5:AA$302,14,0)","v":"Open"},{"$f":"Table_Shelter[[#This Row],[HHCovered]]/VLOOKUP(Table_Shelter[[#This Row],[CampName]],Camp_List!N$5:AA$302,6,0)","v":0.35648148148148145}]
["2013-08-02","UNHCR","UNHCR","Rakhine","Sittwe","Say Tha Mar Gyi",8,null,null,33,33,null,null,null,null,{"$f":"Table_Shelter[[#This Row],[HHperShelter]]*(Table_Shelter[[#This Row],['#ofTemporaryShelterBuilt]]+Table_Shelter[[#This Row],['#ofTemporaryShelterUnderConstruction]]+Table_Shelter[[#This Row],['#ofPermanentHouseBuilt]]+Table_Shelter[[#This Row],['#ofPermanentHouseUnderConstruction]])","v":264},{"$f":"VLOOKUP(Table_Shelter[[#This Row],[CampName]],Camp_List!N$5:O$302,2,0)","v":"MMR012CMP045"},{"$f":"VLOOKUP(Table_Shelter[[#This Row],[CampName]],Camp_List!N$5:AA$302,14,0)","v":"Open"},{"$f":"Table_Shelter[[#This Row],[HHCovered]]/VLOOKUP(Table_Shelter[[#This Row],[CampName]],Camp_List!N$5:AA$302,6,0)","v":0.12222222222222222}]
["2013-08-02","CARE","CARE","Rakhine","Sittwe","Thet Kae Pyin ",8,null,null,63,63,null,null,null,null,{"$f":"Table_Shelter[[#This Row],[HHperShelter]]*(Table_Shelter[[#This Row],['#ofTemporaryShelterBuilt]]+Table_Shelter[[#This Row],['#ofTemporaryShelterUnderConstruction]]+Table_Shelter[[#This Row],['#ofPermanentHouseBuilt]]+Table_Shelter[[#This Row],['#ofPermanentHouseUnderConstruction]])","v":504},{"$f":"VLOOKUP(Table_Shelter[[#This Row],[CampName]],Camp_List!N$5:O$302,2,0)","v":"MMR012CMP048"},{"$f":"VLOOKUP(Table_Shelter[[#This Row],[CampName]],Camp_List!N$5:AA$302,14,0)","v":"Open"},{"$f":"Table_Shelter[[#This Row],[HHCovered]]/VLOOKUP(Table_Shelter[[#This Row],[CampName]],Camp_List!N$5:AA$302,6,0)","v":0.86746987951807231}]
["2013-08-02","Government","Government","Rakhine","Sittwe","Thet Kae Pyin ",8,null,null,60,17,43,null,null,null,{"$f":"Table_Shelter[[#This Row],[HHperShelter]]*(Table_Shelter[[#This Row],['#ofTemporaryShelterBuilt]]+Table_Shelter[[#This Row],['#ofTemporaryShelterUnderConstruction]]+Table_Shelter[[#This Row],['#ofPermanentHouseBuilt]]+Table_Shelter[[#This Row],['#ofPermanentHouseUnderConstruction]])","v":480},{"$f":"VLOOKUP(Table_Shelter[[#This Row],[CampName]],Camp_List!N$5:O$302,2,0)","v":"MMR012CMP048"},{"$f":"VLOOKUP(Table_Shelter[[#This Row],[CampName]],Camp_List!N$5:AA$302,14,0)","v":"Open"},{"$f":"Table_Shelter[[#This Row],[HHCovered]]/VLOOKUP(Table_Shelter[[#This Row],[CampName]],Camp_List!N$5:AA$302,6,0)","v":0.82616179001721168}]
["2013-08-02","UNHCR","UNHCR","Rakhine","Sittwe","Ma Gyi Myaing",8,null,null,15,15,null,null,null,null,{"$f":"Table_Shelter[[#This Row],[HHperShelter]]*(Table_Shelter[[#This Row],['#ofTemporaryShelterBuilt]]+Table_Shelter[[#This Row],['#ofTemporaryShelterUnderConstruction]]+Table_Shelter[[#This Row],['#ofPermanentHouseBuilt]]+Table_Shelter[[#This Row],['#ofPermanentHouseUnderConstruction]])","v":120},{"$f":"VLOOKUP(Table_Shelter[[#This Row],[CampName]],Camp_List!N$5:O$302,2,0)","v":"MMR012CMP053"},{"$f":"VLOOKUP(Table_Shelter[[#This Row],[CampName]],Camp_List!N$5:AA$302,14,0)","v":"Close"},{"$f":"Table_Shelter[[#This Row],[HHCovered]]/VLOOKUP(Table_Shelter[[#This Row],[CampName]],Camp_List!N$5:AA$302,6,0)","v":{"$error":"#DIV/0!"}}]
["2013-08-02","Government","Government","Rakhine","Sittwe","Mingan",10,null,null,8,8,null,null,null,null,{"$f":"Table_Shelter[[#This Row],[HHperShelter]]*(Table_Shelter[[#This Row],['#ofTemporaryShelterBuilt]]+Table_Shelter[[#This Row],['#ofTemporaryShelterUnderConstruction]]+Table_Shelter[[#This Row],['#ofPermanentHouseBuilt]]+Table_Shelter[[#This Row],['#ofPermanentHouseUnderConstruction]])","v":80},{"$f":"VLOOKUP(Table_Shelter[[#This Row],[CampName]],Camp_List!N$5:O$302,2,0)","v":"MMR012CMP054"},{"$f":"VLOOKUP(Table_Shelter[[#This Row],[CampName]],Camp_List!N$5:AA$302,14,0)","v":"Close"},{"$f":"Table_Shelter[[#This Row],[HHCovered]]/VLOOKUP(Table_Shelter[[#This Row],[CampName]],Camp_List!N$5:AA$302,6,0)","v":{"$error":"#DIV/0!"}}]
["2013-08-02","Government","Government","Rakhine","Sittwe","Danyawaddy Baw Lone Kwin",10,null,null,7,7,null,null,null,null,{"$f":"Table_Shelter[[#This Row],[HHperShelter]]*(Table_Shelter[[#This Row],['#ofTemporaryShelterBuilt]]+Table_Shelter[[#This Row],['#ofTemporaryShelterUnderConstruction]]+Table_Shelter[[#This Row],['#ofPermanentHouseBuilt]]+Table_Shelter[[#This Row],['#ofPermanentHouseUnderConstruction]])","v":70},{"$f":"VLOOKUP(Table_Shelter[[#This Row],[CampName]],Camp_List!N$5:O$302,2,0)","v":"MMR012CMP055"},{"$f":"VLOOKUP(Table_Shelter[[#This Row],[CampName]],Camp_List!N$5:AA$302,14,0)","v":"Close"},{"$f":"Table_Shelter[[#This Row],[HHCovered]]/VLOOKUP(Table_Shelter[[#This Row],[CampName]],Camp_List!N$5:AA$302,6,0)","v":{"$error":"#DIV/0!"}}]
["2013-08-02","Government","Government","Rakhine","Sittwe","Set Yone Su",10,null,null,22,22,null,null,null,null,{"$f":"Table_Shelter[[#This Row],[HHperShelter]]*(Table_Shelter[[#This Row],['#ofTemporaryShelterBuilt]]+Table_Shelter[[#This Row],['#ofTemporaryShelterUnderConstruction]]+Table_Shelter[[#This Row],['#ofPermanentHouseBuilt]]+Table_Shelter[[#This Row],['#ofPermanentHouseUnderConstruction]])","v":220},{"$f":"VLOOKUP(Table_Shelter[[#This Row],[CampName]],Camp_List!N$5:O$302,2,0)","v":"MMR012CMP056"},{"$f":"VLOOKUP(Table_Shelter[[#This Row],[CampName]],Camp_List!N$5:AA$302,14,0)","v":"Open"},{"$f":"Table_Shelter[[#This Row],[HHCovered]]/VLOOKUP(Table_Shelter[[#This Row],[CampName]],Camp_List!N$5:AA$302,6,0)","v":2.9729729729729728}]
["2013-08-02","WFP","WFP","Rakhine","Sittwe","Dohn Taik Kwin",10,null,null,20,20,null,null,null,null,{"$f":"Table_Shelter[[#This Row],[HHperShelter]]*(Table_Shelter[[#This Row],['#ofTemporaryShelterBuilt]]+Table_Shelter[[#This Row],['#ofTemporaryShelterUnderConstruction]]+Table_Shelter[[#This Row],['#ofPermanentHouseBuilt]]+Table_Shelter[[#This Row],['#ofPermanentHouseUnderConstruction]])","v":200},{"$f":"VLOOKUP(Table_Shelter[[#This Row],[CampName]],Camp_List!N$5:O$302,2,0)","v":"MMR012CMP057"},{"$f":"VLOOKUP(Table_Shelter[[#This Row],[CampName]],Camp_List!N$5:AA$302,14,0)","v":"Close"},{"$f":"Table_Shelter[[#This Row],[HHCovered]]/VLOOKUP(Table_Shelter[[#This Row],[CampName]],Camp_List!N$5:AA$302,6,0)","v":{"$error":"#DIV/0!"}}]
["2013-08-02","Government","Government","Rakhine","Maungdaw","Maw Ya Waddy",1,null,null,null,null,null,11,11,null,{"$f":"Table_Shelter[[#This Row],[HHperShelter]]*(Table_Shelter[[#This Row],['#ofTemporaryShelterBuilt]]+Table_Shelter[[#This Row],['#ofTemporaryShelterUnderConstruction]]+Table_Shelter[[#This Row],['#ofPermanentHouseBuilt]]+Table_Shelter[[#This Row],['#ofPermanentHouseUnderConstruction]])","v":11},{"$f":"VLOOKUP(Table_Shelter[[#This Row],[CampName]],Camp_List!N$5:O$302,2,0)","v":"MMR012CMP076"},{"$f":"VLOOKUP(Table_Shelter[[#This Row],[CampName]],Camp_List!N$5:AA$302,14,0)","v":"Close"},{"$f":"Table_Shelter[[#This Row],[HHCovered]]/VLOOKUP(Table_Shelter[[#This Row],[CampName]],Camp_List!N$5:AA$302,6,0)","v":{"$error":"#DIV/0!"}}]
["2013-08-02","UNHCR","UNHCR","Rakhine","Maungdaw","Maw Ya Waddy",1,null,null,null,null,null,102,98,4,{"$f":"Table_Shelter[[#This Row],[HHperShelter]]*(Table_Shelter[[#This Row],['#ofTemporaryShelterBuilt]]+Table_Shelter[[#This Row],['#ofTemporaryShelterUnderConstruction]]+Table_Shelter[[#This Row],['#ofPermanentHouseBuilt]]+Table_Shelter[[#This Row],['#ofPermanentHouseUnderConstruction]])","v":102},{"$f":"VLOOKUP(Table_Shelter[[#This Row],[CampName]],Camp_List!N$5:O$302,2,0)","v":"MMR012CMP076"},{"$f":"VLOOKUP(Table_Shelter[[#This Row],[CampName]],Camp_List!N$5:AA$302,14,0)","v":"Close"},{"$f":"Table_Shelter[[#This Row],[HHCovered]]/VLOOKUP(Table_Shelter[[#This Row],[CampName]],Camp_List!N$5:AA$302,6,0)","v":{"$error":"#DIV/0!"}}]
["2013-08-02","CARE","CARE","Rakhine","Maungdaw","Tha Yay Kone Baung",1,null,null,null,null,null,103,103,null,{"$f":"Table_Shelter[[#This Row],[HHperShelter]]*(Table_Shelter[[#This Row],['#ofTemporaryShelterBuilt]]+Table_Shelter[[#This Row],['#ofTemporaryShelterUnderConstruction]]+Table_Shelter[[#This Row],['#ofPermanentHouseBuilt]]+Table_Shelter[[#This Row],['#ofPermanentHouseUnderConstruction]])","v":103},{"$f":"VLOOKUP(Table_Shelter[[#This Row],[CampName]],Camp_List!N$5:O$302,2,0)","v":"MMR012CMP077"},{"$f":"VLOOKUP(Table_Shelter[[#This Row],[CampName]],Camp_List!N$5:AA$302,14,0)","v":"Close"},{"$f":"Table_Shelter[[#This Row],[HHCovered]]/VLOOKUP(Table_Shelter[[#This Row],[CampName]],Camp_List!N$5:AA$302,6,0)","v":{"$error":"#DIV/0!"}}]
["2013-08-02","Government","Government","Rakhine","Maungdaw","Tha Yay Kone Baung",1,null,null,null,null,null,12,12,null,{"$f":"Table_Shelter[[#This Row],[HHperShelter]]*(Table_Shelter[[#This Row],['#ofTemporaryShelterBuilt]]+Table_Shelter[[#This Row],['#ofTemporaryShelterUnderConstruction]]+Table_Shelter[[#This Row],['#ofPermanentHouseBuilt]]+Table_Shelter[[#This Row],['#ofPermanentHouseUnderConstruction]])","v":12},{"$f":"VLOOKUP(Table_Shelter[[#This Row],[CampName]],Camp_List!N$5:O$302,2,0)","v":"MMR012CMP077"},{"$f":"VLOOKUP(Table_Shelter[[#This Row],[CampName]],Camp_List!N$5:AA$302,14,0)","v":"Close"},{"$f":"Table_Shelter[[#This Row],[HHCovered]]/VLOOKUP(Table_Shelter[[#This Row],[CampName]],Camp_List!N$5:AA$302,6,0)","v":{"$error":"#DIV/0!"}}]
["2013-08-02","Government","Government","Rakhine","Maungdaw","Kyaing Gyi",1,null,null,null,null,null,36,36,null,{"$f":"Table_Shelter[[#This Row],[HHperShelter]]*(Table_Shelter[[#This Row],['#ofTemporaryShelterBuilt]]+Table_Shelter[[#This Row],['#ofTemporaryShelterUnderConstruction]]+Table_Shelter[[#This Row],['#ofPermanentHouseBuilt]]+Table_Shelter[[#This Row],['#ofPermanentHouseUnderConstruction]])","v":36},{"$f":"VLOOKUP(Table_Shelter[[#This Row],[CampName]],Camp_List!N$5:O$302,2,0)","v":"MMR012CMP078"},{"$f":"VLOOKUP(Table_Shelter[[#This Row],[CampName]],Camp_List!N$5:AA$302,14,0)","v":"Close"},{"$f":"Table_Shelter[[#This Row],[HHCovered]]/VLOOKUP(Table_Shelter[[#This Row],[CampName]],Camp_List!N$5:AA$302,6,0)","v":{"$error":"#DIV/0!"}}]
["2013-08-02","UNHCR","UNHCR","Rakhine","Maungdaw","Kyaing Gyi",1,null,null,null,null,null,36,36,null,{"$f":"Table_Shelter[[#This Row],[HHperShelter]]*(Table_Shelter[[#This Row],['#ofTemporaryShelterBuilt]]+Table_Shelter[[#This Row],['#ofTemporaryShelterUnderConstruction]]+Table_Shelter[[#This Row],['#ofPermanentHouseBuilt]]+Table_Shelter[[#This Row],['#ofPermanentHouseUnderConstruction]])","v":36},{"$f":"VLOOKUP(Table_Shelter[[#This Row],[CampName]],Camp_List!N$5:O$302,2,0)","v":"MMR012CMP078"},{"$f":"VLOOKUP(Table_Shelter[[#This Row],[CampName]],Camp_List!N$5:AA$302,14,0)","v":"Close"},{"$f":"Table_Shelter[[#This Row],[HHCovered]]/VLOOKUP(Table_Shelter[[#This Row],[CampName]],Camp_List!N$5:AA$302,6,0)","v":{"$error":"#DIV/0!"}}]
["2013-08-02","Government","Government","Rakhine","Maungdaw","Baw Di Gone",1,null,null,null,null,null,10,10,null,{"$f":"Table_Shelter[[#This Row],[HHperShelter]]*(Table_Shelter[[#This Row],['#ofTemporaryShelterBuilt]]+Table_Shelter[[#This Row],['#ofTemporaryShelterUnderConstruction]]+Table_Shelter[[#This Row],['#ofPermanentHouseBuilt]]+Table_Shelter[[#This Row],['#ofPermanentHouseUnderConstruction]])","v":10},{"$f":"VLOOKUP(Table_Shelter[[#This Row],[CampName]],Camp_List!N$5:O$302,2,0)","v":"MMR012CMP079"},{"$f":"VLOOKUP(Table_Shelter[[#This Row],[CampName]],Camp_List!N$5:AA$302,14,0)","v":"Close"},{"$f":"Table_Shelter[[#This Row],[HHCovered]]/VLOOKUP(Table_Shelter[[#This Row],[CampName]],Camp_List!N$5:AA$302,6,0)","v":{"$error":"#DIV/0!"}}]
["2013-08-02","UNHCR","UNHCR","Rakhine","Maungdaw","Baw Di Gone",1,null,null,null,null,null,31,27,null,{"$f":"Table_Shelter[[#This Row],[HHperShelter]]*(Table_Shelter[[#This Row],['#ofTemporaryShelterBuilt]]+Table_Shelter[[#This Row],['#ofTemporaryShelterUnderConstruction]]+Table_Shelter[[#This Row],['#ofPermanentHouseBuilt]]+Table_Shelter[[#This Row],['#ofPermanentHouseUnderConstruction]])","v":27},{"$f":"VLOOKUP(Table_Shelter[[#This Row],[CampName]],Camp_List!N$5:O$302,2,0)","v":"MMR012CMP079"},{"$f":"VLOOKUP(Table_Shelter[[#This Row],[CampName]],Camp_List!N$5:AA$302,14,0)","v":"Close"},{"$f":"Table_Shelter[[#This Row],[HHCovered]]/VLOOKUP(Table_Shelter[[#This Row],[CampName]],Camp_List!N$5:AA$302,6,0)","v":{"$error":"#DIV/0!"}}]
["2013-08-02","CARE","CARE","Rakhine","Maungdaw","Kin Chaung",1,null,null,null,null,null,25,25,null,{"$f":"Table_Shelter[[#This Row],[HHperShelter]]*(Table_Shelter[[#This Row],['#ofTemporaryShelterBuilt]]+Table_Shelter[[#This Row],['#ofTemporaryShelterUnderConstruction]]+Table_Shelter[[#This Row],['#ofPermanentHouseBuilt]]+Table_Shelter[[#This Row],['#ofPermanentHouseUnderConstruction]])","v":25},{"$f":"VLOOKUP(Table_Shelter[[#This Row],[CampName]],Camp_List!N$5:O$302,2,0)","v":"MMR012CMP080"},{"$f":"VLOOKUP(Table_Shelter[[#This Row],[CampName]],Camp_List!N$5:AA$302,14,0)","v":"Close"},{"$f":"Table_Shelter[[#This Row],[HHCovered]]/VLOOKUP(Table_Shelter[[#This Row],[CampName]],Camp_List!N$5:AA$302,6,0)","v":{"$error":"#DIV/0!"}}]
["2013-08-02","Government","Government","Rakhine","Maungdaw","Kan Thar Yar",1,null,null,null,null,null,10,10,null,{"$f":"Table_Shelter[[#This Row],[HHperShelter]]*(Table_Shelter[[#This Row],['#ofTemporaryShelterBuilt]]+Table_Shelter[[#This Row],['#ofTemporaryShelterUnderConstruction]]+Table_Shelter[[#This Row],['#ofPermanentHouseBuilt]]+Table_Shelter[[#This Row],['#ofPermanentHouseUnderConstruction]])","v":10},{"$f":"VLOOKUP(Table_Shelter[[#This Row],[CampName]],Camp_List!N$5:O$302,2,0)","v":"MMR012CMP081"},{"$f":"VLOOKUP(Table_Shelter[[#This Row],[CampName]],Camp_List!N$5:AA$302,14,0)","v":"Close"},{"$f":"Table_Shelter[[#This Row],[HHCovered]]/VLOOKUP(Table_Shelter[[#This Row],[CampName]],Camp_List!N$5:AA$302,6,0)","v":{"$error":"#DIV/0!"}}]
["2013-08-02","UNHCR","UNHCR","Rakhine","Maungdaw","Kan Thar Yar",1,null,null,null,null,null,21,21,null,{"$f":"Table_Shelter[[#This Row],[HHperShelter]]*(Table_Shelter[[#This Row],['#ofTemporaryShelterBuilt]]+Table_Shelter[[#This Row],['#ofTemporaryShelterUnderConstruction]]+Table_Shelter[[#This Row],['#ofPermanentHouseBuilt]]+Table_Shelter[[#This Row],['#ofPermanentHouseUnderConstruction]])","v":21},{"$f":"VLOOKUP(Table_Shelter[[#This Row],[CampName]],Camp_List!N$5:O$302,2,0)","v":"MMR012CMP081"},{"$f":"VLOOKUP(Table_Shelter[[#This Row],[CampName]],Camp_List!N$5:AA$302,14,0)","v":"Close"},{"$f":"Table_Shelter[[#This Row],[HHCovered]]/VLOOKUP(Table_Shelter[[#This Row],[CampName]],Camp_List!N$5:AA$302,6,0)","v":{"$error":"#DIV/0!"}}]
["2013-08-02","MRF/ACT","MRF/ACT","Rakhine","Sittwe","Ohn Taw Gyi 3",8,null,null,120,65,55,null,null,null,{"$f":"Table_Shelter[[#This Row],[HHperShelter]]*(Table_Shelter[[#This Row],['#ofTemporaryShelterBuilt]]+Table_Shelter[[#This Row],['#ofTemporaryShelterUnderConstruction]]+Table_Shelter[[#This Row],['#ofPermanentHouseBuilt]]+Table_Shelter[[#This Row],['#ofPermanentHouseUnderConstruction]])","v":960},{"$f":"VLOOKUP(Table_Shelter[[#This Row],[CampName]],Camp_List!N$5:O$302,2,0)","v":"MMR012CMP090"},{"$f":"VLOOKUP(Table_Shelter[[#This Row],[CampName]],Camp_List!N$5:AA$302,14,0)","v":"Open"},{"$f":"Table_Shelter[[#This Row],[HHCovered]]/VLOOKUP(Table_Shelter[[#This Row],[CampName]],Camp_List!N$5:AA$302,6,0)","v":2.807017543859649}]
["2013-08-02","Government","Government","Rakhine","Sittwe","Maw Ti Ngar (TKP west)",8,null,null,78,39,39,null,null,null,{"$f":"Table_Shelter[[#This Row],[HHperShelter]]*(Table_Shelter[[#This Row],['#ofTemporaryShelterBuilt]]+Table_Shelter[[#This Row],['#ofTemporaryShelterUnderConstruction]]+Table_Shelter[[#This Row],['#ofPermanentHouseBuilt]]+Table_Shelter[[#This Row],['#ofPermanentHouseUnderConstruction]])","v":624},{"$f":"VLOOKUP(Table_Shelter[[#This Row],[CampName]],Camp_List!N$5:O$302,2,0)","v":"MMR012CMP092"},{"$f":"VLOOKUP(Table_Shelter[[#This Row],[CampName]],Camp_List!N$5:AA$302,14,0)","v":"Open"},{"$f":"Table_Shelter[[#This Row],[HHCovered]]/VLOOKUP(Table_Shelter[[#This Row],[CampName]],Camp_List!N$5:AA$302,6,0)","v":1.21875}]
["2013-08-02","UNHCR","UNHCR","Rakhine","Sittwe","Set Yone Su 3",8,null,null,22,22,null,null,null,null,{"$f":"Table_Shelter[[#This Row],[HHperShelter]]*(Table_Shelter[[#This Row],['#ofTemporaryShelterBuilt]]+Table_Shelter[[#This Row],['#ofTemporaryShelterUnderConstruction]]+Table_Shelter[[#This Row],['#ofPermanentHouseBuilt]]+Table_Shelter[[#This Row],['#ofPermanentHouseUnderConstruction]])","v":176},{"$f":"VLOOKUP(Table_Shelter[[#This Row],[CampName]],Camp_List!N$5:O$302,2,0)","v":"MMR012CMP093"},{"$f":"VLOOKUP(Table_Shelter[[#This Row],[CampName]],Camp_List!N$5:AA$302,14,0)","v":"Open"},{"$f":"Table_Shelter[[#This Row],[HHCovered]]/VLOOKUP(Table_Shelter[[#This Row],[CampName]],Camp_List!N$5:AA$302,6,0)","v":1}]
["2013-08-02","UNHCR","UNHCR","Rakhine","Sittwe","Ohn Taw Gyi 2",8,null,null,80,80,null,null,null,null,{"$f":"Table_Shelter[[#This Row],[HHperShelter]]*(Table_Shelter[[#This Row],['#ofTemporaryShelterBuilt]]+Table_Shelter[[#This Row],['#ofTemporaryShelterUnderConstruction]]+Table_Shelter[[#This Row],['#ofPermanentHouseBuilt]]+Table_Shelter[[#This Row],['#ofPermanentHouseUnderConstruction]])","v":640},{"$f":"VLOOKUP(Table_Shelter[[#This Row],[CampName]],Camp_List!N$5:O$302,2,0)","v":"MMR012CMP098"},{"$f":"VLOOKUP(Table_Shelter[[#This Row],[CampName]],Camp_List!N$5:AA$302,14,0)","v":"Open"},{"$f":"Table_Shelter[[#This Row],[HHCovered]]/VLOOKUP(Table_Shelter[[#This Row],[CampName]],Camp_List!N$5:AA$302,6,0)","v":1.0223642172523961}]
["2013-08-02","Government","Government","Rakhine","Sittwe","Ohn Taw Gyi 4",8,null,null,120,120,null,null,null,null,{"$f":"Table_Shelter[[#This Row],[HHperShelter]]*(Table_Shelter[[#This Row],['#ofTemporaryShelterBuilt]]+Table_Shelter[[#This Row],['#ofTemporaryShelterUnderConstruction]]+Table_Shelter[[#This Row],['#ofPermanentHouseBuilt]]+Table_Shelter[[#This Row],['#ofPermanentHouseUnderConstruction]])","v":960},{"$f":"VLOOKUP(Table_Shelter[[#This Row],[CampName]],Camp_List!N$5:O$302,2,0)","v":"MMR012CMP099"},{"$f":"VLOOKUP(Table_Shelter[[#This Row],[CampName]],Camp_List!N$5:AA$302,14,0)","v":"Open"},{"$f":"Table_Shelter[[#This Row],[HHCovered]]/VLOOKUP(Table_Shelter[[#This Row],[CampName]],Camp_List!N$5:AA$302,6,0)","v":1.0774410774410774}]
["2013-08-02","Government","Government","Rakhine","Sittwe","Ohn Taw Gyi 5",8,"`",null,101,101,null,null,null,null,{"$f":"Table_Shelter[[#This Row],[HHperShelter]]*(Table_Shelter[[#This Row],['#ofTemporaryShelterBuilt]]+Table_Shelter[[#This Row],['#ofTemporaryShelterUnderConstruction]]+Table_Shelter[[#This Row],['#ofPermanentHouseBuilt]]+Table_Shelter[[#This Row],['#ofPermanentHouseUnderConstruction]])","v":808},{"$f":"VLOOKUP(Table_Shelter[[#This Row],[CampName]],Camp_List!N$5:O$302,2,0)","v":"MMR012CMP100"},{"$f":"VLOOKUP(Table_Shelter[[#This Row],[CampName]],Camp_List!N$5:AA$302,14,0)","v":"Open"},{"$f":"Table_Shelter[[#This Row],[HHCovered]]/VLOOKUP(Table_Shelter[[#This Row],[CampName]],Camp_List!N$5:AA$302,6,0)","v":0.99876390605686027}]
["2013-08-02","CARE","CARE","Rakhine","Sittwe","Hmanzi ",8,null,null,25,14,11,null,null,null,{"$f":"Table_Shelter[[#This Row],[HHperShelter]]*(Table_Shelter[[#This Row],['#ofTemporaryShelterBuilt]]+Table_Shelter[[#This Row],['#ofTemporaryShelterUnderConstruction]]+Table_Shelter[[#This Row],['#ofPermanentHouseBuilt]]+Table_Shelter[[#This Row],['#ofPermanentHouseUnderConstruction]])","v":200},{"$f":"VLOOKUP(Table_Shelter[[#This Row],[CampName]],Camp_List!N$5:O$302,2,0)","v":"MMR012CMP102"},{"$f":"VLOOKUP(Table_Shelter[[#This Row],[CampName]],Camp_List!N$5:AA$302,14,0)","v":"Open"},{"$f":"Table_Shelter[[#This Row],[HHCovered]]/VLOOKUP(Table_Shelter[[#This Row],[CampName]],Camp_List!N$5:AA$302,6,0)","v":0.82644628099173556}]
["2013-08-02","Government","Government","Rakhine","Sittwe","Hmanzi ",8,null,null,25,25,null,null,null,null,{"$f":"Table_Shelter[[#This Row],[HHperShelter]]*(Table_Shelter[[#This Row],['#ofTemporaryShelterBuilt]]+Table_Shelter[[#This Row],['#ofTemporaryShelterUnderConstruction]]+Table_Shelter[[#This Row],['#ofPermanentHouseBuilt]]+Table_Shelter[[#This Row],['#ofPermanentHouseUnderConstruction]])","v":200},{"$f":"VLOOKUP(Table_Shelter[[#This Row],[CampName]],Camp_List!N$5:O$302,2,0)","v":"MMR012CMP102"},{"$f":"VLOOKUP(Table_Shelter[[#This Row],[CampName]],Camp_List!N$5:AA$302,14,0)","v":"Open"},{"$f":"Table_Shelter[[#This Row],[HHCovered]]/VLOOKUP(Table_Shelter[[#This Row],[CampName]],Camp_List!N$5:AA$302,6,0)","v":0.82644628099173556}]
["2013-07-01","Government",null,"Rakhine","Sittwe","Sat Roe Kya",1,null,null,null,null,null,819,669,150,{"$f":"Table_Shelter[[#This Row],[HHperShelter]]*(Table_Shelter[[#This Row],['#ofTemporaryShelterBuilt]]+Table_Shelter[[#This Row],['#ofTemporaryShelterUnderConstruction]]+Table_Shelter[[#This Row],['#ofPermanentHouseBuilt]]+Table_Shelter[[#This Row],['#ofPermanentHouseUnderConstruction]])","v":819},{"$f":"VLOOKUP(Table_Shelter[[#This Row],[CampName]],Camp_List!N$5:O$302,2,0)","v":"MMR012CMP105"},{"$f":"VLOOKUP(Table_Shelter[[#This Row],[CampName]],Camp_List!N$5:AA$302,14,0)","v":"Open"},{"$f":"Table_Shelter[[#This Row],[HHCovered]]/VLOOKUP(Table_Shelter[[#This Row],[CampName]],Camp_List!N$5:AA$302,6,0)","v":1.3}]
["2013-08-02","CARE","CARE","Rakhine","Sittwe","Ohn Taw Gyi 6",8,null,null,45,45,null,null,null,null,null,{"$f":"VLOOKUP(Table_Shelter[[#This Row],[CampName]],Camp_List!N$5:O$302,2,0)","v":{"$error":"#N/A"}},{"$f":"VLOOKUP(Table_Shelter[[#This Row],[CampName]],Camp_List!N$5:AA$302,14,0)","v":{"$error":"#N/A"}},{"$f":"Table_Shelter[[#This Row],[HHCovered]]/VLOOKUP(Table_Shelter[[#This Row],[CampName]],Camp_List!N$5:AA$302,6,0)","v":{"$error":"#N/A"}}]
["2013-08-02","Government","Government","Rakhine","Maungdaw","Kha Yay Myaing( DPA)",1,null,null,null,null,null,2,2,null,null,{"$f":"VLOOKUP(Table_Shelter[[#This Row],[CampName]],Camp_List!N$5:O$302,2,0)","v":{"$error":"#N/A"}},{"$f":"VLOOKUP(Table_Shelter[[#This Row],[CampName]],Camp_List!N$5:AA$302,14,0)","v":{"$error":"#N/A"}},{"$f":"Table_Shelter[[#This Row],[HHCovered]]/VLOOKUP(Table_Shelter[[#This Row],[CampName]],Camp_List!N$5:AA$302,6,0)","v":{"$error":"#N/A"}}]
["2013-08-02","Government","Government","Rakhine","Maungdaw","Wai Thar Li",1,null,null,null,null,null,9,9,null,null,{"$f":"VLOOKUP(Table_Shelter[[#This Row],[CampName]],Camp_List!N$5:O$302,2,0)","v":{"$error":"#N/A"}},{"$f":"VLOOKUP(Table_Shelter[[#This Row],[CampName]],Camp_List!N$5:AA$302,14,0)","v":{"$error":"#N/A"}},{"$f":"Table_Shelter[[#This Row],[HHCovered]]/VLOOKUP(Table_Shelter[[#This Row],[CampName]],Camp_List!N$5:AA$302,6,0)","v":{"$error":"#N/A"}}]
["2013-08-02","Government","Government","Rakhine","Maungdaw","Kan Pyin Thar Si",1,null,null,null,null,null,15,15,null,null,{"$f":"VLOOKUP(Table_Shelter[[#This Row],[CampName]],Camp_List!N$5:O$302,2,0)","v":{"$error":"#N/A"}},{"$f":"VLOOKUP(Table_Shelter[[#This Row],[CampName]],Camp_List!N$5:AA$302,14,0)","v":{"$error":"#N/A"}},{"$f":"Table_Shelter[[#This Row],[HHCovered]]/VLOOKUP(Table_Shelter[[#This Row],[CampName]],Camp_List!N$5:AA$302,6,0)","v":{"$error":"#N/A"}}]
["2013-08-02","Government","Government","Rakhine","Maungdaw","Kha Yay Myaing(short legged)",1,null,null,null,null,null,22,22,null,null,{"$f":"VLOOKUP(Table_Shelter[[#This Row],[CampName]],Camp_List!N$5:O$302,2,0)","v":{"$error":"#N/A"}},{"$f":"VLOOKUP(Table_Shelter[[#This Row],[CampName]],Camp_List!N$5:AA$302,14,0)","v":{"$error":"#N/A"}},{"$f":"Table_Shelter[[#This Row],[HHCovered]]/VLOOKUP(Table_Shelter[[#This Row],[CampName]],Camp_List!N$5:AA$302,6,0)","v":{"$error":"#N/A"}}]
["2013-08-02","Government","Government","Rakhine","Maungdaw","Shwe Yin Aye",1,null,null,null,null,null,77,77,null,null,{"$f":"VLOOKUP(Table_Shelter[[#This Row],[CampName]],Camp_List!N$5:O$302,2,0)","v":{"$error":"#N/A"}},{"$f":"VLOOKUP(Table_Shelter[[#This Row],[CampName]],Camp_List!N$5:AA$302,14,0)","v":{"$error":"#N/A"}},{"$f":"Table_Shelter[[#This Row],[HHCovered]]/VLOOKUP(Table_Shelter[[#This Row],[CampName]],Camp_List!N$5:AA$302,6,0)","v":{"$error":"#N/A"}}]
["2013-07-01","Government",null,"Rakhine","Pauktaw",null,8,null,null,null,null,null,3,null,3,null,{"$f":"VLOOKUP(Table_Shelter[[#This Row],[CampName]],Camp_List!N$5:O$302,2,0)","v":{"$error":"#N/A"}},{"$f":"VLOOKUP(Table_Shelter[[#This Row],[CampName]],Camp_List!N$5:AA$302,14,0)","v":{"$error":"#N/A"}},{"$f":"Table_Shelter[[#This Row],[HHCovered]]/VLOOKUP(Table_Shelter[[#This Row],[CampName]],Camp_List!N$5:AA$302,6,0)","v":{"$error":"#N/A"}}]
["2013-08-02","UNHCR","UNHCR","Rakhine","Maungdaw","Kan Pyin Thar Si",1,null,null,null,null,null,11,null,11,null,{"$f":"VLOOKUP(Table_Shelter[[#This Row],[CampName]],Camp_List!N$5:O$302,2,0)","v":{"$error":"#N/A"}},{"$f":"VLOOKUP(Table_Shelter[[#This Row],[CampName]],Camp_List!N$5:AA$302,14,0)","v":{"$error":"#N/A"}},{"$f":"Table_Shelter[[#This Row],[HHCovered]]/VLOOKUP(Table_Shelter[[#This Row],[CampName]],Camp_List!N$5:AA$302,6,0)","v":{"$error":"#N/A"}}]
["2013-08-02","UNHCR","UNHCR","Rakhine","Maungdaw","Kha Yay Myaing(short legged)",1,null,null,null,null,null,25,25,null,null,{"$f":"VLOOKUP(Table_Shelter[[#This Row],[CampName]],Camp_List!N$5:O$302,2,0)","v":{"$error":"#N/A"}},{"$f":"VLOOKUP(Table_Shelter[[#This Row],[CampName]],Camp_List!N$5:AA$302,14,0)","v":{"$error":"#N/A"}},{"$f":"Table_Shelter[[#This Row],[HHCovered]]/VLOOKUP(Table_Shelter[[#This Row],[CampName]],Camp_List!N$5:AA$302,6,0)","v":{"$error":"#N/A"}}]

{"sheet":"Shelter_Progress","index":8,"n_rows":176,"n_cols":16,"rows_kept":176,"cut":false,"hidden":false,"merged":[[2,0,2,2],[1,0,1,2]]}
[]
["SHELTER PROGRESS"]
[{"$f":"Report_Date","v":"2013-09-01"}]
[]
["Rakhine"]
["Township","Total # of HH","Total # of Population","Tents Distributed","Temporary Shelter Built","Temporary Shelter Under Construction","Temporary Shelter Planned","Permanent Shelter Built","Permament Shelter Under Construction","Permanent Shelter Planned","Coverage (HH)"," Coverage (in Pop)","Gap - HH","Covered","Ind. Not covered"]
["Kyauk_Phyu",{"$f":"SUMIF(Camplist_Township,Shelter_Progress!$A7,Camplist_HH)","v":492},{"$f":"SUMIF(Camplist_Township,Shelter_Progress!$A7,Camplist_Popl)","v":1867},{"$f":"SUMIF(Col_Shelter_Township,$A7,Col_Shelter_Tent_Dist)","v":0},{"$f":"SUMIF(Col_Shelter_Township,$A7,Col_Shelter_Temp_B)","v":60},{"$f":"SUMIF(Col_Shelter_Township,$A7,Col_Shelter_Temp_U)","v":0},{"$f":"SUMIF(Col_Shelter_Township,$A7,Col_Shelter_Temp_P)","v":60},{"$f":"SUMIF(Col_Shelter_Township,$A7,Col_Shelter_Perm_B)","v":0},{"$f":"SUMIF(Col_Shelter_Township,$A7,Col_Shelter_Perm_U)","v":0},{"$f":"SUMIF(Col_Shelter_Township,$A7,Col_Shelter_Perm_P)","v":0},{"$f":"SUMIF(Col_Shelter_Township,$A7,Shelter_HH_Covered)","v":480},{"$f":"K7*P7","v":1821.4634146341464},{"$f":"B7-K7","v":12},{"$f":"K7/B7","v":0.97560975609756095},{"$f":"MAX(0,C7-L7)","v":45.536585365853625},{"$f":"C7/B7","v":3.7947154471544717}]
["Kyauktaw",{"$f":"SUMIF(Camplist_Township,Shelter_Progress!$A8,Camplist_HH)","v":1053},{"$f":"SUMIF(Camplist_Township,Shelter_Progress!$A8,Camplist_Popl)","v":6554},0,111,0,111,0,0,0,888,{"$f":"K8*P8","v":5527.0199430199427},165,0.84330484330484334,1026.9800569800573,6.2241215574548905]
["Maungdaw",{"$f":"SUMIF(Camplist_Township,Shelter_Progress!$A9,Camplist_HH)","v":288},{"$f":"SUMIF(Camplist_Township,Shelter_Progress!$A9,Camplist_Popl)","v":2046},0,0,0,0,539,15,558,393,2791.9375,-105,1.3645833333333333,0,7.104166666666667]
["Meybon",{"$f":"SUMIF(Camplist_Township,Shelter_Progress!$A10,Camplist_HH)","v":674},{"$f":"SUMIF(Camplist_Township,Shelter_Progress!$A10,Camplist_Popl)","v":4066},0,95,0,95,0,0,0,760,4584.8071216617209,-86,1.1275964391691395,0,6.0326409495548958]
["Minbya",{"$f":"SUMIF(Camplist_Township,Shelter_Progress!$A11,Camplist_HH)","v":949},{"$f":"SUMIF(Camplist_Township,Shelter_Progress!$A11,Camplist_Popl)","v":5207},0,79,5,84,0,0,0,672,3687.148577449947,277,0.70811380400421498,1519.851422550053,5.4868282402528976]
["Mrauk_U",{"$f":"SUMIF(Camplist_Township,Shelter_Progress!$A12,Camplist_HH)","v":685},{"$f":"SUMIF(Camplist_Township,Shelter_Progress!$A12,Camplist_Popl)","v":3998},0,72,0,72,0,0,0,576,3361.8218978102186,109,0.84087591240875914,636.17810218978138,5.8364963503649632]
["Pauktaw",{"$f":"SUMIF(Camplist_Township,Shelter_Progress!$A13,Camplist_HH)","v":4017},{"$f":"SUMIF(Camplist_Township,Shelter_Progress!$A13,Camplist_Popl)","v":20054},0,390,95,485,0,3,3,3886,19400.010953447843,131,0.96738859845655967,653.98904655215665,4.9922827981080404]
["Ramree",{"$f":"SUMIF(Camplist_Township,Shelter_Progress!$A14,Camplist_HH)","v":69},{"$f":"SUMIF(Camplist_Township,Shelter_Progress!$A14,Camplist_Popl)","v":227},0,12,0,12,0,0,0,96,315.82608695652175,-27,1.3913043478260869,0,3.2898550724637681]
["Rathedaung",{"$f":"SUMIF(Camplist_Township,Shelter_Progress!$A15,Camplist_HH)","v":782},{"$f":"SUMIF(Camplist_Township,Shelter_Progress!$A15,Camplist_Popl)","v":3981},416,64,0,64,0,0,0,512,2606.4859335038363,270,0.65473145780051156,1374.5140664961637,5.0907928388746804]
["Sittwe",{"$f":"SUMIF(Camplist_Township,Shelter_Progress!$A16,Camplist_HH)","v":16640},{"$f":"SUMIF(Camplist_Township,Shelter_Progress!$A16,Camplist_Popl)","v":91881},0,1691,255,1946,669,150,819,16621,91776.08780048076,19,0.99885817307692304,104.91219951923995,5.5216947115384611]
["Total",{"$f":"SUM(B7:B16)","v":25649},139881,416,2574,355,2929,1208,168,1380,24884,135872.60922896492,765,0.97017427580022608,{"$f":"SUM(O7:O16)","v":5361.961479653306},5.4536629108347308]
[]
[]
["  ","  "]
["    ","  "]
["Rakhine"]
[]
[]
[]
[]
[]
[]
[]
[]
[]
[]
[]
[]
[]
[]
[]
[]
[]
[]
[]
[]
[]
[]
[]
[]
[]
["State","Rakhine",null,null,null,null,null,"State","Rakhine"]
[]
["Row Labels","Sum of HHCovered",null,null,null,null,null,"Row Labels","Count of #ofTemporaryShelterBuilt"]
["CARE",1920,null,null,null,null,null,"CARE",5]
["DRC",1832,null,null,null,null,null,"Maungdaw"]
["Government",12317,null,null,null,null,null,"Kin Chaung"]
["IRW",320,null,null,null,null,null,"Tha Yay Kone Baung"]
["MAUK",256,null,null,null,null,null,"Sittwe",5]
["MRCS",480,null,null,null,null,null,"Baw Du Pha",1]
["MRF/ACT",1730,null,null,null,null,null,"Dar Pai",1]
["Service City",304,null,null,null,null,null,"Hmanzi ",1]
["UNHCR",5518,null,null,null,null,null,"Ohn Taw Gyi 6",1]
["WFP",600,null,null,null,null,null,"Thet Kae Pyin ",1]
["ICRC",152,null,null,null,null,null,"DRC",3]
["Grand Total",25429,null,null,null,null,null,"Pauktaw",2]
[null,null,null,null,null,null,null,"Ah Nauk Ywe",1]
[null,null,null,null,null,null,null,"Sin Tet Maw",1]
[null,null,null,null,null,null,null,"Sittwe",1]
[null,null,null,null,null,null,null,"Say Tha Mar Gyi",1]
[null,null,null,null,null,null,null,"Government",42]
[null,null,null,null,null,null,null,"Kyauk_Phyu",1]
[null,null,null,null,null,null,null,"Kyauk Ta Lone",1]
[null,null,null,null,null,null,null,"Kyauktaw",11]
[null,null,null,null,null,null,null,"Ah Lel",1]
[null,null,null,null,null,null,null,"Ah Lel Kyun",1]
[null,null,null,null,null,null,null,"Ah Pauk Wa ",1]
[null,null,null,null,null,null,null,"Goke Pi Htaunt",1]
[null,null,null,null,null,null,null,"In Bar Yi",1]
[null,null,null,null,null,null,null,"Khaung Htoke",1]
[null,null,null,null,null,null,null,"Let Saung Kauk",1]
[null,null,null,null,null,null,null,"Nidin",1]
[null,null,null,null,null,null,null,"Shwe Hlaing",1]
[null,null,null,null,null,null,null,"Taung Bwe",1]
[null,null,null,null,null,null,null,"Yun Nyar",1]
[null,null,null,null,null,null,null,"Maungdaw"]
[null,null,null,null,null,null,null,"Baw Di Gone"]
[null,null,null,null,null,null,null,"Kan Pyin Thar Si"]
[null,null,null,null,null,null,null,"Kan Thar Yar"]
[null,null,null,null,null,null,null,"Kha Yay Myaing( DPA)"]
[null,null,null,null,null,null,null,"Kha Yay Myaing(short legged)"]
[null,null,null,null,null,null,null,"Kyaing Gyi"]
[null,null,null,null,null,null,null,"Maw Ya Waddy"]
[null,null,null,null,null,null,null,"Shwe Yin Aye"]
[null,null,null,null,null,null,null,"Tha Yay Kone Baung"]
[null,null,null,null,null,null,null,"Wai Thar Li"]
[null,null,null,null,null,null,null,"Minbya",6]
[null,null,null,null,null,null,null,"Aung Taing",1]
[null,null,null,null,null,null,null,"Paik Thay",1]
[null,null,null,null,null,null,null,"Sam Ba Le",1]
[null,null,null,null,null,null,null,"San Htoe Tan",1]
[null,null,null,null,null,null,null,"Tha Dar",1]
[null,null,null,null,null,null,null,"Tha Yet Oak",1]
[null,null,null,null,null,null,null,"Mrauk_U",2]
[null,null,null,null,null,null,null,"Pa Rein",1]
[null,null,null,null,null,null,null,"Yai Thei-Muslim",1]
[null,null,null,null,null,null,null,"Pauktaw",2]
[null,null,null,null,null,null,null,"Ba Wan Chaung Wa Su",1]
[null,null,null,null,null,null,null,"Kyein Ni Pyin",1]
[null,null,null,null,null,null,null,"(blank)"]
[null,null,null,null,null,null,null,"Ramree",1]
[null,null,null,null,null,null,null,"Ramree Town",1]
[null,null,null,null,null,null,null,"Rathedaung",3]
[null,null,null,null,null,null,null,"Ah Nauk Pyin",1]
[null,null,null,null,null,null,null,"Koe Tan Kauk/Chein Khar Li",1]
[null,null,null,null,null,null,null,"Nyaung Pin Gyi",1]
[null,null,null,null,null,null,null,"Sittwe",16]
[null,null,null,null,null,null,null,"Basare",1]
[null,null,null,null,null,null,null,"Baw Du Pha",2]
[null,null,null,null,null,null,null,"Danyawaddy Baw Lone Kwin",1]
[null,null,null,null,null,null,null,"Dar Pai",1]
[null,null,null,null,null,null,null,"Hmanzi ",1]
[null,null,null,null,null,null,null,"Khaung Doke Khar ",1]
[null,null,null,null,null,null,null,"Maw Ti Ngar (TKP west)",1]
[null,null,null,null,null,null,null,"Mingan",1]
[null,null,null,null,null,null,null,"Ohn Taw Gyi 4",1]
[null,null,null,null,null,null,null,"Ohn Taw Gyi 5",1]
[null,null,null,null,null,null,null,"Phwe Yar Kone",2]
[null,null,null,null,null,null,null,"Sat Roe Kya"]
[null,null,null,null,null,null,null,"Say Tha Mar Gyi",1]
[null,null,null,null,null,null,null,"Set Yone Su",1]
[null,null,null,null,null,null,null,"Thet Kae Pyin ",1]
[null,null,null,null,null,null,null,"IRW",1]
[null,null,null,null,null,null,null,"Sittwe",1]
[null,null,null,null,null,null,null,"Say Tha Mar Gyi",1]
[null,null,null,null,null,null,null,"MAUK",1]
[null,null,null,null,null,null,null,"Sittwe",1]
[null,null,null,null,null,null,null,"Baw Du Pha",1]
[null,null,null,null,null,null,null,"MRCS",1]
[null,null,null,null,null,null,null,"Sittwe",1]
[null,null,null,null,null,null,null,"Say Tha Mar Gyi",1]
[null,null,null,null,null,null,null,"MRF/ACT",2]
[null,null,null,null,null,null,null,"Sittwe",2]
[null,null,null,null,null,null,null,"Ohn Taw Gyi 3",1]
[null,null,null,null,null,null,null,"Say Tha Mar Gyi",1]
[null,null,null,null,null,null,null,"Service City",2]
[null,null,null,null,null,null,null,"Kyauk_Phyu",2]
[null,null,null,null,null,null,null,"Kyauk Ta Lone",1]
[null,null,null,null,null,null,null,"Pha Yar Gyi Kwin",1]
[null,null,null,null,null,null,null,"UNHCR",9]
[null,null,null,null,null,null,null,"Maungdaw"]
[null,null,null,null,null,null,null,"Baw Di Gone"]
[null,null,null,null,null,null,null,"Kan Pyin Thar Si"]
[null,null,null,null,null,null,null,"Kan Thar Yar"]
[null,null,null,null,null,null,null,"Kha Yay Myaing(short legged)"]
[null,null,null,null,null,null,null,"Kyaing Gyi"]
[null,null,null,null,null,null,null,"Maw Ya Waddy"]
[null,null,null,null,null,null,null,"Meybon",2]
[null,null,null,null,null,null,null,"Kan Thar Htwat Wa",1]
[null,null,null,null,null,null,null,"Taung Paw ",1]
[null,null,null,null,null,null,null,"Pauktaw",2]
[null,null,null,null,null,null,null,"Kyein Ni Pyin",1]
[null,null,null,null,null,null,null,"Nget Chaung",1]
[null,null,null,null,null,null,null,"Rathedaung"]
[null,null,null,null,null,null,null,"Koe Tan Kauk/Chein Khar Li"]
[null,null,null,null,null,null,null,"Nyaung Pin Gyi"]
[null,null,null,null,null,null,null,"Sittwe",5]
[null,null,null,null,null,null,null,"Ma Gyi Myaing",1]
[null,null,null,null,null,null,null,"Ohn Taw Gyi 1",1]
[null,null,null,null,null,null,null,"Ohn Taw Gyi 2",1]
[null,null,null,null,null,null,null,"Say Tha Mar Gyi",1]
[null,null,null,null,null,null,null,"Set Yone Su 3",1]
[null,null,null,null,null,null,null,"WFP",2]
[null,null,null,null,null,null,null,"Sittwe",2]
[null,null,null,null,null,null,null,"Baw Du Pha",1]
[null,null,null,null,null,null,null,"Dohn Taik Kwin",1]
[null,null,null,null,null,null,null,"ICRC",1]
[null,null,null,null,null,null,null,"Sittwe",1]
[null,null,null,null,null,null,null,"Baw Du Pha",1]
[null,null,null,null,null,null,null,"Grand Total",69]

{"sheet":"ShelterAgency","index":9,"n_rows":53,"n_cols":5,"rows_kept":53,"cut":false,"hidden":false,"merged":[[1,0,1,2],[2,0,2,5]]}
[]
["SHELTER SUMMARY BY AGENCY"]
[{"$f":"Report_Date","v":"2013-09-01"}]
[]
["State","Rakhine","(Select State)"]
[]
["Row Labels","Temporary Shelter Built","Temporary Shelter Under Construction","Permanent House Built","Permanent House Under Construction"]
["CARE",192,32,128]
["DRC",165,64]
["Government",1208,160,873,153]
["ICRC",0,19]
["IRW",40]
["MAUK",25,7]
["MRCS",60]
["MRF/ACT",142,55]
["Service City",38]
["UNHCR",644,18,207,15]
["WFP",60]
["Grand Total",2574,355,1208,168]
[]
[]
["State","Rakhine"]
[]
["Row Labels","Sum of HHCovered"]
["CARE",1920]
["DRC",1832]
["Government",12317]
["ICRC",152]
["IRW",320]
["MAUK",256]
["MRCS",480]
["MRF/ACT",1730]
["Service City",304]
["UNHCR",5518]
["WFP",600]
["Grand Total",25429]
[]
[]
[]
["State","Rakhine"]
[]
["Row Labels","Sum of HHCovered"]
["Kyauk_Phyu",480]
["Kyauktaw",888]
["Maungdaw",554]
["Meybon",760]
["Minbya",672]
["Mrauk_U",576]
["Pauktaw",3910]
["Ramree",96]
["Rathedaung",512]
["Sittwe",16981]
["Grand Total",25429]

{"sheet":"Rakhine_Shelter_D","index":10,"n_rows":28,"n_cols":7,"rows_kept":28,"cut":false,"hidden":false,"merged":[[1,0,1,7],[2,0,2,7],[15,1,15,3],[15,4,15,6]]}
[]
["Rakhine Shelter Coverage & Gaps"]
[{"$f":"Report_Date","v":"2013-09-01"}]
[]
[]
[]
[]
[]
[]
[]
[]
[]
[]
[]
[]
[null,"Population",null,null,"Shelter"]
["Township","# of HH","# of Ind.","# of Camp","# Ind. Covered","# Ind. Not Covered","% Coverage"]
["Kyauk_Phyu",{"$f":"SUMIFS(Camplist_HH,Camplist_Township,Rakhine_Shelter_D!$A18,CampList_Status,\"Open\")","v":492},{"$f":"SUMIFS(Camplist_Popl,Camplist_Township,Rakhine_Shelter_D!$A18,CampList_Status,\"Open\")","v":1867},{"$f":"COUNTIFS(Camplist_Township,Rakhine_Shelter_D!A18,CampList_Status,\"open\")","v":2},{"$f":"Shelter_Progress!L7","v":1821.4634146341464},{"$f":"Shelter_Progress!O7","v":45.536585365853625},{"$f":"IF(E18>0,E18/(E18+F18),0.00000001)","v":0.97560975609756095}]
["Kyauktaw",{"$f":"SUMIFS(Camplist_HH,Camplist_Township,Rakhine_Shelter_D!$A19,CampList_Status,\"Open\")","v":1053},{"$f":"SUMIFS(Camplist_Popl,Camplist_Township,Rakhine_Shelter_D!$A19,CampList_Status,\"Open\")","v":6554},{"$f":"COUNTIFS(Camplist_Township,Rakhine_Shelter_D!A19,CampList_Status,\"open\")","v":11},{"$f":"Shelter_Progress!L8","v":5527.0199430199427},{"$f":"Shelter_Progress!O8","v":1026.9800569800573},0.84330484330484323]
["Maungdaw",{"$f":"SUMIFS(Camplist_HH,Camplist_Township,Rakhine_Shelter_D!$A20,CampList_Status,\"Open\")","v":288},{"$f":"SUMIFS(Camplist_Popl,Camplist_Township,Rakhine_Shelter_D!$A20,CampList_Status,\"Open\")","v":2046},{"$f":"COUNTIFS(Camplist_Township,Rakhine_Shelter_D!A20,CampList_Status,\"open\")","v":12},{"$f":"Shelter_Progress!L9","v":2791.9375},{"$f":"Shelter_Progress!O9","v":0},1]
["Meybon",{"$f":"SUMIFS(Camplist_HH,Camplist_Township,Rakhine_Shelter_D!$A21,CampList_Status,\"Open\")","v":674},{"$f":"SUMIFS(Camplist_Popl,Camplist_Township,Rakhine_Shelter_D!$A21,CampList_Status,\"Open\")","v":4066},{"$f":"COUNTIFS(Camplist_Township,Rakhine_Shelter_D!A21,CampList_Status,\"open\")","v":2},{"$f":"Shelter_Progress!L10","v":4584.8071216617209},{"$f":"Shelter_Progress!O10","v":0},1]
["Minbya",{"$f":"SUMIFS(Camplist_HH,Camplist_Township,Rakhine_Shelter_D!$A22,CampList_Status,\"Open\")","v":949},{"$f":"SUMIFS(Camplist_Popl,Camplist_Township,Rakhine_Shelter_D!$A22,CampList_Status,\"Open\")","v":5207},{"$f":"COUNTIFS(Camplist_Township,Rakhine_Shelter_D!A22,CampList_Status,\"open\")","v":7},{"$f":"Shelter_Progress!L11","v":3687.148577449947},{"$f":"Shelter_Progress!O11","v":1519.851422550053},0.70811380400421486]
["Mrauk_U",{"$f":"SUMIFS(Camplist_HH,Camplist_Township,Rakhine_Shelter_D!$A23,CampList_Status,\"Open\")","v":685},{"$f":"SUMIFS(Camplist_Popl,Camplist_Township,Rakhine_Shelter_D!$A23,CampList_Status,\"Open\")","v":3998},{"$f":"COUNTIFS(Camplist_Township,Rakhine_Shelter_D!A23,CampList_Status,\"open\")","v":4},{"$f":"Shelter_Progress!L12","v":3361.8218978102186},{"$f":"Shelter_Progress!O12","v":636.17810218978138},0.84087591240875903]
["Pauktaw",{"$f":"SUMIFS(Camplist_HH,Camplist_Township,Rakhine_Shelter_D!$A24,CampList_Status,\"Open\")","v":4017},{"$f":"SUMIFS(Camplist_Popl,Camplist_Township,Rakhine_Shelter_D!$A24,CampList_Status,\"Open\")","v":20054},{"$f":"COUNTIFS(Camplist_Township,Rakhine_Shelter_D!A24,CampList_Status,\"open\")","v":6},{"$f":"Shelter_Progress!L13","v":19400.010953447843},{"$f":"Shelter_Progress!O13","v":653.98904655215665},0.96738859845655945]
["Ramree",{"$f":"SUMIFS(Camplist_HH,Camplist_Township,Rakhine_Shelter_D!$A25,CampList_Status,\"Open\")","v":69},{"$f":"SUMIFS(Camplist_Popl,Camplist_Township,Rakhine_Shelter_D!$A25,CampList_Status,\"Open\")","v":227},{"$f":"COUNTIFS(Camplist_Township,Rakhine_Shelter_D!A25,CampList_Status,\"open\")","v":2},{"$f":"Shelter_Progress!L14","v":315.82608695652175},{"$f":"Shelter_Progress!O14","v":0},1]
["Rathedaung",{"$f":"SUMIFS(Camplist_HH,Camplist_Township,Rakhine_Shelter_D!$A26,CampList_Status,\"Open\")","v":782},{"$f":"SUMIFS(Camplist_Popl,Camplist_Township,Rakhine_Shelter_D!$A26,CampList_Status,\"Open\")","v":3981},{"$f":"COUNTIFS(Camplist_Township,Rakhine_Shelter_D!A26,CampList_Status,\"open\")","v":5},{"$f":"Shelter_Progress!L15","v":2606.4859335038363},{"$f":"Shelter_Progress!O15","v":1374.5140664961637},0.65473145780051156]
["Sittwe",{"$f":"SUMIFS(Camplist_HH,Camplist_Township,Rakhine_Shelter_D!$A27,CampList_Status,\"Open\")","v":16640},{"$f":"SUMIFS(Camplist_Popl,Camplist_Township,Rakhine_Shelter_D!$A27,CampList_Status,\"Open\")","v":91881},{"$f":"COUNTIFS(Camplist_Township,Rakhine_Shelter_D!A27,CampList_Status,\"open\")","v":24},{"$f":"Shelter_Progress!L16","v":91776.08780048076},{"$f":"Shelter_Progress!O16","v":104.91219951923995},0.99885817307692293]
["Total",{"$f":"SUM(B18:B27)","v":25649},{"$f":"SUM(C18:C27)","v":139881},{"$f":"SUM(D18:D27)","v":75},{"$f":"Shelter_Progress!L17","v":135872.60922896492},{"$f":"Shelter_Progress!O17","v":5361.961479653306},0.96203506370465341]

{"sheet":"Kachin","index":11,"n_rows":13,"n_cols":14,"rows_kept":13,"cut":false,"hidden":true,"merged":[]}
["Camp",null,null,null,null,null,null,"Shelter","NFI",null,null,"Pos",130]
["Pcode","Township","Long.","Lat.","HS","Pop","N_cps","Coverage","Hygiene","Core","Sanitary","Y","X","Column1"]
["MMR012011","Kyauk_Phyu",93.45,19.315330739299597,492,1793,{"$f":"CONCATENATE(N3, \" camp\",IF(N3>1,\"s\",\"\"))","v":"13 camps"},0.97560975609756106,0.99390243902439024,0,0,{"$f":"1300-ROUND((D3-19)*$M$1,0)","v":1259},{"$f":"ROUND((C3-93)*$M$1,0)+300","v":359},13]
["MMR012004","Kyauktaw",92.954056224899546,20.835542168674699,989,6518,"6 camps",0.89787664307381188,0,1,6.0667340748230547E-2,1061,294,6]
["MMR012009","Maungdaw",92.44,20.89,398,2354,"23 camps",1,1,0.79145728643216084,1,1054,227,23]
["MMR012006","Meybon",93.45,19.899999999999999,674,4066,"1 camp",1,1,0,0,1183,359,1]
["MMR012005","Minbya",93.42,20.39,865,5212,"1 camp",0.77687861271676306,1,1,0,1119,355,1]
["MMR012003","Mrauk_U",93.171744680851077,20.580936170212777,644,3926,"8 camps",0.89440993788819878,0.99378881987577639,1,0,1094,322,8]
["MMR012007","Pauktaw",93.05,19.984999999999999,3886,19690,"11 camps",1,1,0,0,1172,306,11]
["MMR012013","Ramree",93.65,19.033045977011483,70,263,"3 camps",1,1,0,0,1296,385,3]
["MMR012008","Rathedaung",92.74,20.399999999999999,771,3973,"3 camps",0.66407263294422836,0,0.1712062256809338,0.34241245136186771,1118,266,3]
["MMR012001","Sittwe",92.8,20.11,16340,95372,"3 camps",1,1,0.36352509179926601,0,1156,274,3]
[null,"Rakhine","96.00","27.00",{"$f":"SUBTOTAL(109,Table58[HS])","v":25129},{"$f":"SUBTOTAL(109,Table58[Pop])","v":143167},{"$f":"CONCATENATE(Table58[[#Totals],[Column1]],\" camps\")","v":"164 camps"},{"$f":"SUMPRODUCT(Table58[Pop]*Table58[Coverage])/Table58[[#Totals],[Pop]]","v":0.97470460070095966},{"$f":"SUMPRODUCT(Table58[Pop]*Table58[Hygiene])/Table58[[#Totals],[Pop]]","v":0.92647524904484291},{"$f":"SUMPRODUCT(Table58[Pop]*Table58[Core])/Table58[[#Totals],[Pop]]","v":0.36928487599775967},{"$f":"SUMPRODUCT(Table58[Pop]*Table58[Sanitary])/Table58[[#Totals],[Pop]]","v":2.8706576210004171E-2},{"$f":"1000-ROUND((D13-23.5)*$M$1,0)","v":545},{"$f":"ROUND((C13-96.5)*$M$1,0)+100","v":35},"164"]

{"sheet":"Rakhine","index":12,"n_rows":13,"n_cols":14,"rows_kept":13,"cut":false,"hidden":true,"merged":[]}
["Camp",null,null,null,null,null,null,"Shelter","NFI",null,null,"Pos",500]
["Pcode","Township","Long.","Lat.","HS","Pop","N_camps","Coverage","Hygiene","Core","Sanitary","Y","X"]
["MMR012011","Kyauk_Phyu",93.45,19.315330739299597,492,1793,{"$f":"CONCATENATE(N3, \" camp\",IF(N3>1,\"s\",\"\"))","v":"2 camps"},0.97560975609756106,0.99390243902439024,0,0,{"$f":"1300-ROUND((D3-19)*$M$1,0)","v":1142},{"$f":"ROUND((C3-93)*$M$1,0)+300","v":525},2]
["MMR012004","Kyauktaw",92.954056224899546,20.835542168674699,989,6518,"11 camps",0.89787664307381188,0,1,6.0667340748230547E-2,382,277,11]
["MMR012009","Maungdaw",92.44,20.89,398,2354,"14 camps",1,1,0.79145728643216084,1,355,20,14]
["MMR012006","Meybon",93.45,19.899999999999999,674,4066,"2 camps",1,1,0,0,850,525,2]
["MMR012005","Minbya",93.42,20.39,865,5212,"7 camps",0.77687861271676306,1,1,0,605,510,7]
["MMR012003","Mrauk_U",93.171744680851077,20.580936170212777,644,3926,"4 camps",0.89440993788819878,0.99378881987577639,1,0,510,386,4]
["MMR012007","Pauktaw",93.05,19.984999999999999,3886,19690,"6 camps",1,1,0,0,807,325,6]
["MMR012013","Ramree",93.65,19.033045977011483,70,263,"2 camps",1,1,0,0,1283,625,2]
["MMR012008","Rathedaung",92.74,20.399999999999999,771,3973,"4 camps",0.66407263294422836,0,0.1712062256809338,0.34241245136186771,600,170,4]
["MMR012001","Sittwe",92.8,20.11,16340,95372,"24 camps",1,1,0.36352509179926601,0,745,200,24]
[null,"Rakhine",null,null,{"$f":"SUBTOTAL(109,Table5[HS])","v":25129},{"$f":"SUBTOTAL(109,Table5[Pop])","v":143167},{"$f":"CONCATENATE(SUM(N3:N12),\" camps\")","v":"76 camps"},{"$f":"SUMPRODUCT(Table5[Pop]*Table5[Coverage])/Table5[[#Totals],[Pop]]","v":0.97470460070095966},{"$f":"SUMPRODUCT(Table5[Pop]*Table5[Hygiene])/Table5[[#Totals],[Pop]]","v":0.92647524904484291},{"$f":"SUMPRODUCT(Table5[Pop]*Table5[Core])/Table5[[#Totals],[Pop]]","v":0.36928487599775967},{"$f":"SUMPRODUCT(Table5[Pop]*Table5[Sanitary])/Table5[[#Totals],[Pop]]","v":2.8706576210004171E-2},"1200","50"]

{"sheet":"Sheet2","index":13,"n_rows":151,"n_cols":12,"rows_kept":151,"cut":false,"hidden":true,"merged":[]}
[null,null,null,null,null,null,null,null,null,null,null,"Row Labels"]
[null,null,null,null,null,"State","Rakhine",null,null,null,null,"Rakhine"]
["Row Labels",null,null,null,null,"Status","Open",null,null,null,null,"(blank)"]
["Rakhine",null,null,"1 Ward, Sein Yadanar Company(Lon Khin)",null,null,null,null,null,null,null,"Kyauk_Phyu"]
["Kyauk_Phyu",null,null,"AD-2000 Tharthana Compound",null,"Sum of Total","Column Labels",null,null,null,null,"Kyauktaw"]
["Kyauktaw",null,null,"Anglican Church, Hmaw Si Sar",null,"Row Labels","Accessible by All","Grand Total",null,null,null,"Maungdaw"]
["Maungdaw",null,null,"Away Yar Rama Monastery, Ka Day village",null,"(blank)",139881,139881,null,null,null,"Meybon"]
["Meybon",null,null,"Aye Mya Tharyar Church of Christ ",null,"Grand Total",139881,139881,null,null,null,"Minbya"]
["Minbya",null,null,"Belehem",null,null,null,null,null,null,null,"Mrauk_U"]
["Mrauk_U",null,null,"Border Post 10",null,null,null,null,null,null,null,"Pauktaw"]
["Pauktaw",null,null,"Border Post 8",null,null,null,null,null,null,null,"Ramree"]
["Ramree",null,null,"Chin(Zomi) Baptist Church",null,null,null,null,null,null,null,"Rathedaung"]
["Rathedaung",null,null,"Dap Kawng/Tak Kone",null,null,null,null,null,null,null,"Sittwe"]
["Sittwe",null,null,"Du Kahtawng Qtr. 14",null,null,null,null,null,null,null,"Grand Total"]
["Grand Total",null,null,"Du Kahtawng Qtr. 4"]
[null,null,null,"Du Kahtawng Qtr. 5"]
[null,null,null,"Dum Bung "]
[null,null,null,"Dumbung"]
[null,null,null,"Ei Wan Gali Asso., Ward 1, Seik Mu"]
[null,null,null,"Free Christian Asso., Ward 1, Seik Mu"]
[null,null,null,"Galile"]
[null,null,null,"Hkat Cho "]
[null,null,null,"Hkau Shau (BP 12)"]
[null,null,null,"Hmaw Wan, Baptist Christian Church"]
[null,null,null,"Howa"]
[null,null,null,"Howa/Mungbaw/Namhkawng"]
[null,null,null,"Hpun Lum Yang "]
[null,null,null,"Jan Mai (Pa Jau)"]
[null,null,null,"Jan Mai Kawng"]
[null,null,null,"Jan Mai Kawng Baptist Church"]
[null,null,null,"Jan Mai Kawng Catholic church"]
[null,null,null,"Je Yang Hka "]
[null,null,null,"Kyun Pin Thar Baptist Church"]
[null,null,null,"Kyun Pyin Tar (maisakwang)"]
[null,null,null,"Kyun Taw Baptist Church "]
[null,null,null,"Lana Zup Ja "]
[null,null,null,"Le Kone Bethlehem Church"]
[null,null,null,"Le Kone Ziun Baptist Church "]
[null,null,null,"Lhaovao Baptist Church (LBC)"]
[null,null,null,"Lisu Boarding-House"]
[null,null,null,"Loi Je Baptist Church"]
[null,null,null,"Loi Je Catholic Church"]
[null,null,null,"Loi Je Lisu Camp"]
[null,null,null,"Ma Mon Buddhist Monastery"]
[null,null,null,"Mading Baptist Church"]
[null,null,null,"Maga Yang "]
[null,null,null,"Maina AG Church"]
[null,null,null,"Maina Catholic Church (St. Joseph)"]
[null,null,null,"Maina Catholic Church (St.Joseph)"]
[null,null,null,"Maina KBC (Bawng Ring)"]
[null,null,null,"Maina KBC Camp"]
[null,null,null,"Maina Lawang Baptist Church"]
[null,null,null,"Maina Lawang BC"]
[null,null,null,"Mali Yang"]
[null,null,null,"Maliyang Baptist Church"]
[null,null,null,"Man Bung Catholic compound"]
[null,null,null,"Man Dung"]
[null,null,null,"Man Hkring Baptist Church"]
[null,null,null,"Man Wing Baptist Church"]
[null,null,null,"Man Wing Catholic Church"]
[null,null,null,"Mandung - Jinghpaw"]
[null,null,null,"Mang Hawng Baptist Church"]
[null,null,null,"Manhkring"]
[null,null,null,"Mansi Baptist Church"]
[]
[null,null,null,"Mashi Kahtawng Baptist  Church"]
[null,null,null,"Mashi Kahtawng Catholic Church"]
[null,null,null,"Mashi Kahtawng Evangelical Church"]
[null,null,null,"Mashi Kahtawng Municipal Dammar Yone"]
[null,null,null,"Mashi Kahtawng Myo Oo Taw Ya Monestry"]
[null,null,null,"Mashi Kahtawng Rakhine traditional group"]
[null,null,null,"Mashi Kahtawng Shan Traditional Monestry"]
[null,null,null,"Mashi Kahtawng Yaung Chi Oo Thi la shin Monestry"]
[null,null,null,"Maw Hpawng Hka Nan Baptist Church"]
[null,null,null,"Maw Hpawng Lhaovo Baptist Church"]
[null,null,null,"Maw Si Zar, Thiriyardanar Sein, Damma Compound, Lone Khin"]
[null,null,null,"Maw Wan, Catholic Church"]
[]
[null,null,null,"Maw Wan, Kachin Baptist Church"]
[null,null,null,"Maw Wan, Kyauk Hlaing Gu Pagoda Compound"]
[null,null,null,"Maw Wan, Myo Oo Pagoda"]
[null,null,null,"May Di Ka Rama Monastery(Lon Khin)"]
[null,null,null,"Mogawng Kyungtaw Camp"]
[null,null,null,"Mogawng Mahawng Camp"]
[null,null,null,"Mogawng Natkyikone Camp"]
[null,null,null,"Moke Lwe Village / Hkar Shi"]
[null,null,null,"Momauk Baptist Church"]
[null,null,null,"Mung Ding Pa "]
[null,null,null,"Mungga Zup/Zai Awng"]
[null,null,null,"N Jang Dung"]
[null,null,null,"Nam Hkam - Nay Win Ni (Palawng)"]
[null,null,null,"Nam Hkam (KBC Jaw Wang)"]
[null,null,null,"Nam Lim Pa - Scattered IDPs in forest"]
[null,null,null,"Nam Tu"]
[null,null,null,"Namdu Camp"]
[null,null,null,"Namphaka"]
[null,null,null,"Nan Kway St. John Catholic Church"]
[null,null,null,"Nant Hlaing Church"]
[null,null,null,"Nat Gyi Kone Baptist Church "]
[null,null,null,"Nawng Ing (Indawgyi) Baptist Church  "]
[null,null,null,"Nawng Ing Camp"]
[null,null,null,"Nawng Si Paw Village / Inn Lay"]
[null,null,null,"Nga Pyaw Taw Baptist Nursery School "]
[null,null,null,"Nga Pyaw Taw Roman Catholic Church"]
[null,null,null,"Ni Thaw Ka Monestry"]
[null,null,null,"Njang Dung Baptist Church "]
[null,null,null,"Nong Pong"]
[null,null,null,"Nong Pong Camp"]
[null,null,null,"Nyaung Na Pin "]
[null,null,null,"Pa Kahtawng "]
[null,null,null,"Padauk Mying (Palana)"]
[null,null,null,"Pajau / Jan Mai"]
[null,null,null,"Parami, Charity Office, MyoMa Quarter"]
[null,null,null,"Phan Khar Kone"]
[null,null,null,"Post 6 Camp"]
[null,null,null,"Qtr. 2 Lhaovo Baptist Church"]
[null,null,null,"Qtr. 2 Myoma Baptist Church"]
[null,null,null,"Qtr. 3 Mu-yin  Baptist Church"]
[null,null,null,"Qtr. 4 Monestry (Thargaya Thayett Taw)"]
[null,null,null,"Robert Church"]
[null,null,null,"Sa Baw Sarsana Parla Monastery"]
[null,null,null,"San Kyel, Masoe Yein Monestry"]
[null,null,null,"San Pra"]
[null,null,null,"Seng Ja "]
[null,null,null,"Shatapru"]
[null,null,null,"Shatapru Sut Ngai Tawng"]
[null,null,null,"Shing Jai"]
[null,null,null,"Shingchyai"]
[null,null,null,"Shwe Gu Catholic Church"]
[null,null,null,"Shwe Zet"]
[null,null,null,"Shwe Zet Baptist Church"]
[null,null,null,"St.Patrick catholic church"]
[null,null,null,"Ta Gun Taing Monastery (Shwe Kyi Na)"]
[null,null,null,"Tar Ma Hkan Buddhist Monastery, Haung Par"]
[null,null,null,"Tat Kone Baptist Church"]
[null,null,null,"Tat Kone COC Baptist / Tat Kone Htoi San"]
[null,null,null,"Tat Kone Emanuel Church"]
[null,null,null,"Tat Kone Galile Baptist Church"]
[null,null,null,"Tat Kone San Pya Baptist Church"]
[null,null,null,"Thargaya Lisu Baptist Church"]
[null,null,null,"Thiri Mingalar Manizay Yone, Myoma Quarter"]
[null,null,null,"W.M Baptist Association"]
[null,null,null,"Waing Maw Town Church"]
[null,null,null,"Waingmaw AG Church"]
[null,null,null,"Waingmaw Baptist Zonal Office"]
[null,null,null,"Wrad(5) Christian Association"]
[null,null,null,"Wun Tho Buddhist Monastery"]
[null,null,null,"Yumar Baptist Church"]
[null,null,null,"Zai Awng / Mung Ga Zup"]
[null,null,null,"Ziun"]
[null,null,null,"Zomee Baptist Church camp, Hmaw Wan"]

{"sheet":"NFI_Tracking","index":14,"n_rows":283,"n_cols":30,"rows_kept":283,"cut":false,"hidden":false,"merged":[[3,0,3,2],[1,0,1,7],[2,0,2,7]]}
[null,null,null,null,null,null,null,null,{"$f":"NFISummary!P1","v":1}]
["NFI TRACKING SHEET"]
[{"$f":"Report_Date","v":"2013-09-01"}]
[]
["Months","Distribution Date","Organization","Implementing Partner","State","Township","Camp Name","Hygiene Kit","NFI Core Kit","Sanitary Kit","Mosquito net","Tarpaulin","Blanket","Kitchen Set","Complementary Kit","Plastic Bucket","Plastic Mat","Hygiene Kit2","NFI Core Kit3","Sanitary Kit4","Mosquito net5","Tarpaulin6","Blanket7","Kitchen Set8","Complementary Kit9","Plastic Bucket ","Plastic  Mat ","Pcode","Status","Column1"]
[{"$f":"IF(ISBLANK(B6),\"\",(Report_Date-B6)/30)","v":8.7333333333333325},"2012-12-13","UNHCR",null,"Rakhine","Minbya","Paik Thay",null,null,null,null,null,2,null,null,null,null,{"$f":"IF(NFI_Expiration=1,IF($A6<VLOOKUP(H$5,NFI,5,0),1,0)*Table_NFI[[#This Row],[Hygiene Kit]],0)","v":0},{"$f":"IF(NFI_Expiration=1,IF($A6<VLOOKUP(I$5,NFI,5,0),1,0)*Table_NFI[[#This Row],[NFI Core Kit]],0)","v":0},{"$f":"IF(NFI_Expiration=1,IF($A6<VLOOKUP(J$5,NFI,5,0),1,0)*Table_NFI[[#This Row],[Sanitary Kit]],0)","v":0},{"$f":"IF(NFI_Expiration=1,IF($A6<VLOOKUP(K$5,NFI,5,0),1,0)*Table_NFI[[#This Row],[Mosquito net]],0)","v":0},{"$f":"IF(NFI_Expiration=1,IF($A6<VLOOKUP(L$5,NFI,5,0),1,0)*Table_NFI[[#This Row],[Tarpaulin]],0)","v":0},{"$f":"IF(NFI_Expiration=1,IF($A6<VLOOKUP(M$5,NFI,5,0),1,0)*Table_NFI[[#This Row],[Blanket]],0)","v":2},{"$f":"IF(NFI_Expiration=1,IF($A6<VLOOKUP(N$5,NFI,5,0),1,0)*Table_NFI[[#This Row],[Kitchen Set]],0)","v":0},{"$f":"IF(NFI_Expiration=1,IF($A6<VLOOKUP(O$5,NFI,5,0),1,0)*Table_NFI[[#This Row],[Complementary Kit]],0)","v":0},{"$f":"IF(NFI_Expiration=1,IF($A6<VLOOKUP(P$5,NFI,5,0),1,0)*Table_NFI[[#This Row],[Plastic Bucket]],0)","v":0},{"$f":"IF(NFI_Expiration=1,IF($A6<VLOOKUP(Q$5,NFI,5,0),1,0)*Table_NFI[[#This Row],[Plastic Mat]],0)","v":0},{"$f":"VLOOKUP(Table_NFI[[#This Row],[Camp Name]],Camp_List!N$5:AA$254,2,0)","v":"MMR012CMP001"},{"$f":"VLOOKUP(Table_NFI[[#This Row],[Camp Name]],Camp_List!N$5:AA$254,14,0)","v":"Open"},{"$f":"VLOOKUP(Table_NFI[[#This Row],[Camp Name]],Camp_List!N$5:AC$254,1,1)","v":"Paik Thay"}]
[6.6,"2013-02-15","UNICEF ",null,"Rakhine","Minbya","Paik Thay",20,null,null,null,null,null,null,null,null,null,{"$f":"IF(NFI_Expiration=1,IF($A7<VLOOKUP(H$5,NFI,5,0),1,0)*Table_NFI[[#This Row],[Hygiene Kit]],0)","v":20},{"$f":"IF(NFI_Expiration=1,IF($A7<VLOOKUP(I$5,NFI,5,0),1,0)*Table_NFI[[#This Row],[NFI Core Kit]],0)","v":0},{"$f":"IF(NFI_Expiration=1,IF($A7<VLOOKUP(J$5,NFI,5,0),1,0)*Table_NFI[[#This Row],[Sanitary Kit]],0)","v":0},{"$f":"IF(NFI_Expiration=1,IF($A7<VLOOKUP(K$5,NFI,5,0),1,0)*Table_NFI[[#This Row],[Mosquito net]],0)","v":0},{"$f":"IF(NFI_Expiration=1,IF($A7<VLOOKUP(L$5,NFI,5,0),1,0)*Table_NFI[[#This Row],[Tarpaulin]],0)","v":0},{"$f":"IF(NFI_Expiration=1,IF($A7<VLOOKUP(M$5,NFI,5,0),1,0)*Table_NFI[[#This Row],[Blanket]],0)","v":0},{"$f":"IF(NFI_Expiration=1,IF($A7<VLOOKUP(N$5,NFI,5,0),1,0)*Table_NFI[[#This Row],[Kitchen Set]],0)","v":0},{"$f":"IF(NFI_Expiration=1,IF($A7<VLOOKUP(O$5,NFI,5,0),1,0)*Table_NFI[[#This Row],[Complementary Kit]],0)","v":0},{"$f":"IF(NFI_Expiration=1,IF($A7<VLOOKUP(P$5,NFI,5,0),1,0)*Table_NFI[[#This Row],[Plastic Bucket]],0)","v":0},{"$f":"IF(NFI_Expiration=1,IF($A7<VLOOKUP(Q$5,NFI,5,0),1,0)*Table_NFI[[#This Row],[Plastic Mat]],0)","v":0},{"$f":"VLOOKUP(Table_NFI[[#This Row],[Camp Name]],Camp_List!N$5:AA$254,2,0)","v":"MMR012CMP001"},{"$f":"VLOOKUP(Table_NFI[[#This Row],[Camp Name]],Camp_List!N$5:AA$254,14,0)","v":"Open"},{"$f":"VLOOKUP(Table_NFI[[#This Row],[Camp Name]],Camp_List!N$5:AC$254,1,1)","v":"Paik Thay"}]
[1.8,"2013-07-09","UNHCR","UNHCR","Rakhine","Minbya","Paik Thay",null,null,null,null,null,null,null,null,null,null,{"$f":"IF(NFI_Expiration=1,IF($A8<VLOOKUP(H$5,NFI,5,0),1,0)*Table_NFI[[#This Row],[Hygiene Kit]],0)","v":0},{"$f":"IF(NFI_Expiration=1,IF($A8<VLOOKUP(I$5,NFI,5,0),1,0)*Table_NFI[[#This Row],[NFI Core Kit]],0)","v":0},{"$f":"IF(NFI_Expiration=1,IF($A8<VLOOKUP(J$5,NFI,5,0),1,0)*Table_NFI[[#This Row],[Sanitary Kit]],0)","v":0},{"$f":"IF(NFI_Expiration=1,IF($A8<VLOOKUP(K$5,NFI,5,0),1,0)*Table_NFI[[#This Row],[Mosquito net]],0)","v":0},{"$f":"IF(NFI_Expiration=1,IF($A8<VLOOKUP(L$5,NFI,5,0),1,0)*Table_NFI[[#This Row],[Tarpaulin]],0)","v":0},{"$f":"IF(NFI_Expiration=1,IF($A8<VLOOKUP(M$5,NFI,5,0),1,0)*Table_NFI[[#This Row],[Blanket]],0)","v":0},{"$f":"IF(NFI_Expiration=1,IF($A8<VLOOKUP(N$5,NFI,5,0),1,0)*Table_NFI[[#This Row],[Kitchen Set]],0)","v":0},{"$f":"IF(NFI_Expiration=1,IF($A8<VLOOKUP(O$5,NFI,5,0),1,0)*Table_NFI[[#This Row],[Complementary Kit]],0)","v":0},{"$f":"IF(NFI_Expiration=1,IF($A8<VLOOKUP(P$5,NFI,5,0),1,0)*Table_NFI[[#This Row],[Plastic Bucket]],0)","v":0},{"$f":"IF(NFI_Expiration=1,IF($A8<VLOOKUP(Q$5,NFI,5,0),1,0)*Table_NFI[[#This Row],[Plastic Mat]],0)","v":0},{"$f":"VLOOKUP(Table_NFI[[#This Row],[Camp Name]],Camp_List!N$5:AA$254,2,0)","v":"MMR012CMP001"},{"$f":"VLOOKUP(Table_NFI[[#This Row],[Camp Name]],Camp_List!N$5:AA$254,14,0)","v":"Open"},{"$f":"VLOOKUP(Table_NFI[[#This Row],[Camp Name]],Camp_List!N$5:AC$254,1,1)","v":"Paik Thay"}]
[1.8,"2013-07-09","UNHCR","UNHCR","Rakhine","Minbya","Paik Thay",null,65,null,130,65,130,65,65,65,130,{"$f":"IF(NFI_Expiration=1,IF($A9<VLOOKUP(H$5,NFI,5,0),1,0)*Table_NFI[[#This Row],[Hygiene Kit]],0)","v":0},{"$f":"IF(NFI_Expiration=1,IF($A9<VLOOKUP(I$5,NFI,5,0),1,0)*Table_NFI[[#This Row],[NFI Core Kit]],0)","v":65},{"$f":"IF(NFI_Expiration=1,IF($A9<VLOOKUP(J$5,NFI,5,0),1,0)*Table_NFI[[#This Row],[Sanitary Kit]],0)","v":0},{"$f":"IF(NFI_Expiration=1,IF($A9<VLOOKUP(K$5,NFI,5,0),1,0)*Table_NFI[[#This Row],[Mosquito net]],0)","v":130},{"$f":"IF(NFI_Expiration=1,IF($A9<VLOOKUP(L$5,NFI,5,0),1,0)*Table_NFI[[#This Row],[Tarpaulin]],0)","v":65},{"$f":"IF(NFI_Expiration=1,IF($A9<VLOOKUP(M$5,NFI,5,0),1,0)*Table_NFI[[#This Row],[Blanket]],0)","v":130},{"$f":"IF(NFI_Expiration=1,IF($A9<VLOOKUP(N$5,NFI,5,0),1,0)*Table_NFI[[#This Row],[Kitchen Set]],0)","v":65},{"$f":"IF(NFI_Expiration=1,IF($A9<VLOOKUP(O$5,NFI,5,0),1,0)*Table_NFI[[#This Row],[Complementary Kit]],0)","v":65},{"$f":"IF(NFI_Expiration=1,IF($A9<VLOOKUP(P$5,NFI,5,0),1,0)*Table_NFI[[#This Row],[Plastic Bucket]],0)","v":65},{"$f":"IF(NFI_Expiration=1,IF($A9<VLOOKUP(Q$5,NFI,5,0),1,0)*Table_NFI[[#This Row],[Plastic Mat]],0)","v":130},{"$f":"VLOOKUP(Table_NFI[[#This Row],[Camp Name]],Camp_List!N$5:AA$254,2,0)","v":"MMR012CMP001"},{"$f":"VLOOKUP(Table_NFI[[#This Row],[Camp Name]],Camp_List!N$5:AA$254,14,0)","v":"Open"},{"$f":"VLOOKUP(Table_NFI[[#This Row],[Camp Name]],Camp_List!N$5:AC$254,1,1)","v":"Paik Thay"}]
[9.4666666666666668,"2012-11-21","UNHCR",null,"Rakhine","Minbya","Tha Dar",null,null,null,null,145,null,null,null,null,null,{"$f":"IF(NFI_Expiration=1,IF($A10<VLOOKUP(H$5,NFI,5,0),1,0)*Table_NFI[[#This Row],[Hygiene Kit]],0)","v":0},{"$f":"IF(NFI_Expiration=1,IF($A10<VLOOKUP(I$5,NFI,5,0),1,0)*Table_NFI[[#This Row],[NFI Core Kit]],0)","v":0},{"$f":"IF(NFI_Expiration=1,IF($A10<VLOOKUP(J$5,NFI,5,0),1,0)*Table_NFI[[#This Row],[Sanitary Kit]],0)","v":0},{"$f":"IF(NFI_Expiration=1,IF($A10<VLOOKUP(K$5,NFI,5,0),1,0)*Table_NFI[[#This Row],[Mosquito net]],0)","v":0},{"$f":"IF(NFI_Expiration=1,IF($A10<VLOOKUP(L$5,NFI,5,0),1,0)*Table_NFI[[#This Row],[Tarpaulin]],0)","v":145},{"$f":"IF(NFI_Expiration=1,IF($A10<VLOOKUP(M$5,NFI,5,0),1,0)*Table_NFI[[#This Row],[Blanket]],0)","v":0},{"$f":"IF(NFI_Expiration=1,IF($A10<VLOOKUP(N$5,NFI,5,0),1,0)*Table_NFI[[#This Row],[Kitchen Set]],0)","v":0},{"$f":"IF(NFI_Expiration=1,IF($A10<VLOOKUP(O$5,NFI,5,0),1,0)*Table_NFI[[#This Row],[Complementary Kit]],0)","v":0},{"$f":"IF(NFI_Expiration=1,IF($A10<VLOOKUP(P$5,NFI,5,0),1,0)*Table_NFI[[#This Row],[Plastic Bucket]],0)","v":0},{"$f":"IF(NFI_Expiration=1,IF($A10<VLOOKUP(Q$5,NFI,5,0),1,0)*Table_NFI[[#This Row],[Plastic Mat]],0)","v":0},{"$f":"VLOOKUP(Table_NFI[[#This Row],[Camp Name]],Camp_List!N$5:AA$254,2,0)","v":"MMR012CMP002"},{"$f":"VLOOKUP(Table_NFI[[#This Row],[Camp Name]],Camp_List!N$5:AA$254,14,0)","v":"Open"},{"$f":"VLOOKUP(Table_NFI[[#This Row],[Camp Name]],Camp_List!N$5:AC$254,1,1)","v":"Tha Dar"}]
[8.7333333333333325,"2012-12-13","UNHCR",null,"Rakhine","Minbya","Tha Dar",null,null,null,null,null,153,null,null,null,null,{"$f":"IF(NFI_Expiration=1,IF($A11<VLOOKUP(H$5,NFI,5,0),1,0)*Table_NFI[[#This Row],[Hygiene Kit]],0)","v":0},{"$f":"IF(NFI_Expiration=1,IF($A11<VLOOKUP(I$5,NFI,5,0),1,0)*Table_NFI[[#This Row],[NFI Core Kit]],0)","v":0},{"$f":"IF(NFI_Expiration=1,IF($A11<VLOOKUP(J$5,NFI,5,0),1,0)*Table_NFI[[#This Row],[Sanitary Kit]],0)","v":0},{"$f":"IF(NFI_Expiration=1,IF($A11<VLOOKUP(K$5,NFI,5,0),1,0)*Table_NFI[[#This Row],[Mosquito net]],0)","v":0},{"$f":"IF(NFI_Expiration=1,IF($A11<VLOOKUP(L$5,NFI,5,0),1,0)*Table_NFI[[#This Row],[Tarpaulin]],0)","v":0},{"$f":"IF(NFI_Expiration=1,IF($A11<VLOOKUP(M$5,NFI,5,0),1,0)*Table_NFI[[#This Row],[Blanket]],0)","v":153},{"$f":"IF(NFI_Expiration=1,IF($A11<VLOOKUP(N$5,NFI,5,0),1,0)*Table_NFI[[#This Row],[Kitchen Set]],0)","v":0},{"$f":"IF(NFI_Expiration=1,IF($A11<VLOOKUP(O$5,NFI,5,0),1,0)*Table_NFI[[#This Row],[Complementary Kit]],0)","v":0},{"$f":"IF(NFI_Expiration=1,IF($A11<VLOOKUP(P$5,NFI,5,0),1,0)*Table_NFI[[#This Row],[Plastic Bucket]],0)","v":0},{"$f":"IF(NFI_Expiration=1,IF($A11<VLOOKUP(Q$5,NFI,5,0),1,0)*Table_NFI[[#This Row],[Plastic Mat]],0)","v":0},{"$f":"VLOOKUP(Table_NFI[[#This Row],[Camp Name]],Camp_List!N$5:AA$254,2,0)","v":"MMR012CMP002"},{"$f":"VLOOKUP(Table_NFI[[#This Row],[Camp Name]],Camp_List!N$5:AA$254,14,0)","v":"Open"},{"$f":"VLOOKUP(Table_NFI[[#This Row],[Camp Name]],Camp_List!N$5:AC$254,1,1)","v":"Tha Dar"}]
[6.6,"2013-02-15","UNICEF ",null,"Rakhine","Minbya","Tha Dar",205,null,null,null,null,null,null,null,null,null,{"$f":"IF(NFI_Expiration=1,IF($A12<VLOOKUP(H$5,NFI,5,0),1,0)*Table_NFI[[#This Row],[Hygiene Kit]],0)","v":205},{"$f":"IF(NFI_Expiration=1,IF($A12<VLOOKUP(I$5,NFI,5,0),1,0)*Table_NFI[[#This Row],[NFI Core Kit]],0)","v":0},{"$f":"IF(NFI_Expiration=1,IF($A12<VLOOKUP(J$5,NFI,5,0),1,0)*Table_NFI[[#This Row],[Sanitary Kit]],0)","v":0},{"$f":"IF(NFI_Expiration=1,IF($A12<VLOOKUP(K$5,NFI,5,0),1,0)*Table_NFI[[#This Row],[Mosquito net]],0)","v":0},{"$f":"IF(NFI_Expiration=1,IF($A12<VLOOKUP(L$5,NFI,5,0),1,0)*Table_NFI[[#This Row],[Tarpaulin]],0)","v":0},{"$f":"IF(NFI_Expiration=1,IF($A12<VLOOKUP(M$5,NFI,5,0),1,0)*Table_NFI[[#This Row],[Blanket]],0)","v":0},{"$f":"IF(NFI_Expiration=1,IF($A12<VLOOKUP(N$5,NFI,5,0),1,0)*Table_NFI[[#This Row],[Kitchen Set]],0)","v":0},{"$f":"IF(NFI_Expiration=1,IF($A12<VLOOKUP(O$5,NFI,5,0),1,0)*Table_NFI[[#This Row],[Complementary Kit]],0)","v":0},{"$f":"IF(NFI_Expiration=1,IF($A12<VLOOKUP(P$5,NFI,5,0),1,0)*Table_NFI[[#This Row],[Plastic Bucket]],0)","v":0},{"$f":"IF(NFI_Expiration=1,IF($A12<VLOOKUP(Q$5,NFI,5,0),1,0)*Table_NFI[[#This Row],[Plastic Mat]],0)","v":0},{"$f":"VLOOKUP(Table_NFI[[#This Row],[Camp Name]],Camp_List!N$5:AA$254,2,0)","v":"MMR012CMP002"},{"$f":"VLOOKUP(Table_NFI[[#This Row],[Camp Name]],Camp_List!N$5:AA$254,14,0)","v":"Open"},{"$f":"VLOOKUP(Table_NFI[[#This Row],[Camp Name]],Camp_List!N$5:AC$254,1,1)","v":"Tha Dar"}]
[1.7666666666666666,"2013-07-10","UNHCR","UNHCR","Rakhine","Minbya","Tha Dar",null,null,null,null,null,null,null,null,null,null,{"$f":"IF(NFI_Expiration=1,IF($A13<VLOOKUP(H$5,NFI,5,0),1,0)*Table_NFI[[#This Row],[Hygiene Kit]],0)","v":0},{"$f":"IF(NFI_Expiration=1,IF($A13<VLOOKUP(I$5,NFI,5,0),1,0)*Table_NFI[[#This Row],[NFI Core Kit]],0)","v":0},{"$f":"IF(NFI_Expiration=1,IF($A13<VLOOKUP(J$5,NFI,5,0),1,0)*Table_NFI[[#This Row],[Sanitary Kit]],0)","v":0},{"$f":"IF(NFI_Expiration=1,IF($A13<VLOOKUP(K$5,NFI,5,0),1,0)*Table_NFI[[#This Row],[Mosquito net]],0)","v":0},{"$f":"IF(NFI_Expiration=1,IF($A13<VLOOKUP(L$5,NFI,5,0),1,0)*Table_NFI[[#This Row],[Tarpaulin]],0)","v":0},{"$f":"IF(NFI_Expiration=1,IF($A13<VLOOKUP(M$5,NFI,5,0),1,0)*Table_NFI[[#This Row],[Blanket]],0)","v":0},{"$f":"IF(NFI_Expiration=1,IF($A13<VLOOKUP(N$5,NFI,5,0),1,0)*Table_NFI[[#This Row],[Kitchen Set]],0)","v":0},{"$f":"IF(NFI_Expiration=1,IF($A13<VLOOKUP(O$5,NFI,5,0),1,0)*Table_NFI[[#This Row],[Complementary Kit]],0)","v":0},{"$f":"IF(NFI_Expiration=1,IF($A13<VLOOKUP(P$5,NFI,5,0),1,0)*Table_NFI[[#This Row],[Plastic Bucket]],0)","v":0},{"$f":"IF(NFI_Expiration=1,IF($A13<VLOOKUP(Q$5,NFI,5,0),1,0)*Table_NFI[[#This Row],[Plastic Mat]],0)","v":0},{"$f":"VLOOKUP(Table_NFI[[#This Row],[Camp Name]],Camp_List!N$5:AA$254,2,0)","v":"MMR012CMP002"},{"$f":"VLOOKUP(Table_NFI[[#This Row],[Camp Name]],Camp_List!N$5:AA$254,14,0)","v":"Open"},{"$f":"VLOOKUP(Table_NFI[[#This Row],[Camp Name]],Camp_List!N$5:AC$254,1,1)","v":"Tha Dar"}]
[1.7666666666666666,"2013-07-10","UNHCR","UNHCR","Rakhine","Minbya","Tha Dar",null,214,null,428,214,428,214,214,214,428,{"$f":"IF(NFI_Expiration=1,IF($A14<VLOOKUP(H$5,NFI,5,0),1,0)*Table_NFI[[#This Row],[Hygiene Kit]],0)","v":0},{"$f":"IF(NFI_Expiration=1,IF($A14<VLOOKUP(I$5,NFI,5,0),1,0)*Table_NFI[[#This Row],[NFI Core Kit]],0)","v":214},{"$f":"IF(NFI_Expiration=1,IF($A14<VLOOKUP(J$5,NFI,5,0),1,0)*Table_NFI[[#This Row],[Sanitary Kit]],0)","v":0},{"$f":"IF(NFI_Expiration=1,IF($A14<VLOOKUP(K$5,NFI,5,0),1,0)*Table_NFI[[#This Row],[Mosquito net]],0)","v":428},{"$f":"IF(NFI_Expiration=1,IF($A14<VLOOKUP(L$5,NFI,5,0),1,0)*Table_NFI[[#This Row],[Tarpaulin]],0)","v":214},{"$f":"IF(NFI_Expiration=1,IF($A14<VLOOKUP(M$5,NFI,5,0),1,0)*Table_NFI[[#This Row],[Blanket]],0)","v":428},{"$f":"IF(NFI_Expiration=1,IF($A14<VLOOKUP(N$5,NFI,5,0),1,0)*Table_NFI[[#This Row],[Kitchen Set]],0)","v":214},{"$f":"IF(NFI_Expiration=1,IF($A14<VLOOKUP(O$5,NFI,5,0),1,0)*Table_NFI[[#This Row],[Complementary Kit]],0)","v":214},{"$f":"IF(NFI_Expiration=1,IF($A14<VLOOKUP(P$5,NFI,5,0),1,0)*Table_NFI[[#This Row],[Plastic Bucket]],0)","v":214},{"$f":"IF(NFI_Expiration=1,IF($A14<VLOOKUP(Q$5,NFI,5,0),1,0)*Table_NFI[[#This Row],[Plastic Mat]],0)","v":428},{"$f":"VLOOKUP(Table_NFI[[#This Row],[Camp Name]],Camp_List!N$5:AA$254,2,0)","v":"MMR012CMP002"},{"$f":"VLOOKUP(Table_NFI[[#This Row],[Camp Name]],Camp_List!N$5:AA$254,14,0)","v":"Open"},{"$f":"VLOOKUP(Table_NFI[[#This Row],[Camp Name]],Camp_List!N$5:AC$254,1,1)","v":"Tha Dar"}]
[9.4666666666666668,"2012-11-21","UNHCR",null,"Rakhine","Minbya","San Htoe Tan",null,null,null,null,10,null,null,null,null,null,{"$f":"IF(NFI_Expiration=1,IF($A15<VLOOKUP(H$5,NFI,5,0),1,0)*Table_NFI[[#This Row],[Hygiene Kit]],0)","v":0},{"$f":"IF(NFI_Expiration=1,IF($A15<VLOOKUP(I$5,NFI,5,0),1,0)*Table_NFI[[#This Row],[NFI Core Kit]],0)","v":0},{"$f":"IF(NFI_Expiration=1,IF($A15<VLOOKUP(J$5,NFI,5,0),1,0)*Table_NFI[[#This Row],[Sanitary Kit]],0)","v":0},{"$f":"IF(NFI_Expiration=1,IF($A15<VLOOKUP(K$5,NFI,5,0),1,0)*Table_NFI[[#This Row],[Mosquito net]],0)","v":0},{"$f":"IF(NFI_Expiration=1,IF($A15<VLOOKUP(L$5,NFI,5,0),1,0)*Table_NFI[[#This Row],[Tarpaulin]],0)","v":10},{"$f":"IF(NFI_Expiration=1,IF($A15<VLOOKUP(M$5,NFI,5,0),1,0)*Table_NFI[[#This Row],[Blanket]],0)","v":0},{"$f":"IF(NFI_Expiration=1,IF($A15<VLOOKUP(N$5,NFI,5,0),1,0)*Table_NFI[[#This Row],[Kitchen Set]],0)","v":0},{"$f":"IF(NFI_Expiration=1,IF($A15<VLOOKUP(O$5,NFI,5,0),1,0)*Table_NFI[[#This Row],[Complementary Kit]],0)","v":0},{"$f":"IF(NFI_Expiration=1,IF($A15<VLOOKUP(P$5,NFI,5,0),1,0)*Table_NFI[[#This Row],[Plastic Bucket]],0)","v":0},{"$f":"IF(NFI_Expiration=1,IF($A15<VLOOKUP(Q$5,NFI,5,0),1,0)*Table_NFI[[#This Row],[Plastic Mat]],0)","v":0},{"$f":"VLOOKUP(Table_NFI[[#This Row],[Camp Name]],Camp_List!N$5:AA$254,2,0)","v":"MMR012CMP003"},{"$f":"VLOOKUP(Table_NFI[[#This Row],[Camp Name]],Camp_List!N$5:AA$254,14,0)","v":"Open"},{"$f":"VLOOKUP(Table_NFI[[#This Row],[Camp Name]],Camp_List!N$5:AC$254,1,1)","v":"San Htoe Tan"}]
[8.6666666666666661,"2012-12-15","UNHCR",null,"Rakhine","Minbya","San Htoe Tan",null,null,null,null,null,53,null,null,null,null,{"$f":"IF(NFI_Expiration=1,IF($A16<VLOOKUP(H$5,NFI,5,0),1,0)*Table_NFI[[#This Row],[Hygiene Kit]],0)","v":0},{"$f":"IF(NFI_Expiration=1,IF($A16<VLOOKUP(I$5,NFI,5,0),1,0)*Table_NFI[[#This Row],[NFI Core Kit]],0)","v":0},{"$f":"IF(NFI_Expiration=1,IF($A16<VLOOKUP(J$5,NFI,5,0),1,0)*Table_NFI[[#This Row],[Sanitary Kit]],0)","v":0},{"$f":"IF(NFI_Expiration=1,IF($A16<VLOOKUP(K$5,NFI,5,0),1,0)*Table_NFI[[#This Row],[Mosquito net]],0)","v":0},{"$f":"IF(NFI_Expiration=1,IF($A16<VLOOKUP(L$5,NFI,5,0),1,0)*Table_NFI[[#This Row],[Tarpaulin]],0)","v":0},{"$f":"IF(NFI_Expiration=1,IF($A16<VLOOKUP(M$5,NFI,5,0),1,0)*Table_NFI[[#This Row],[Blanket]],0)","v":53},{"$f":"IF(NFI_Expiration=1,IF($A16<VLOOKUP(N$5,NFI,5,0),1,0)*Table_NFI[[#This Row],[Kitchen Set]],0)","v":0},{"$f":"IF(NFI_Expiration=1,IF($A16<VLOOKUP(O$5,NFI,5,0),1,0)*Table_NFI[[#This Row],[Complementary Kit]],0)","v":0},{"$f":"IF(NFI_Expiration=1,IF($A16<VLOOKUP(P$5,NFI,5,0),1,0)*Table_NFI[[#This Row],[Plastic Bucket]],0)","v":0},{"$f":"IF(NFI_Expiration=1,IF($A16<VLOOKUP(Q$5,NFI,5,0),1,0)*Table_NFI[[#This Row],[Plastic Mat]],0)","v":0},{"$f":"VLOOKUP(Table_NFI[[#This Row],[Camp Name]],Camp_List!N$5:AA$254,2,0)","v":"MMR012CMP003"},{"$f":"VLOOKUP(Table_NFI[[#This Row],[Camp Name]],Camp_List!N$5:AA$254,14,0)","v":"Open"},{"$f":"VLOOKUP(Table_NFI[[#This Row],[Camp Name]],Camp_List!N$5:AC$254,1,1)","v":"San Htoe Tan"}]
[6.6,"2013-02-15","UNICEF ",null,"Rakhine","Minbya","San Htoe Tan",90,null,null,null,null,null,null,null,null,null,{"$f":"IF(NFI_Expiration=1,IF($A17<VLOOKUP(H$5,NFI,5,0),1,0)*Table_NFI[[#This Row],[Hygiene Kit]],0)","v":90},{"$f":"IF(NFI_Expiration=1,IF($A17<VLOOKUP(I$5,NFI,5,0),1,0)*Table_NFI[[#This Row],[NFI Core Kit]],0)","v":0},{"$f":"IF(NFI_Expiration=1,IF($A17<VLOOKUP(J$5,NFI,5,0),1,0)*Table_NFI[[#This Row],[Sanitary Kit]],0)","v":0},{"$f":"IF(NFI_Expiration=1,IF($A17<VLOOKUP(K$5,NFI,5,0),1,0)*Table_NFI[[#This Row],[Mosquito net]],0)","v":0},{"$f":"IF(NFI_Expiration=1,IF($A17<VLOOKUP(L$5,NFI,5,0),1,0)*Table_NFI[[#This Row],[Tarpaulin]],0)","v":0},{"$f":"IF(NFI_Expiration=1,IF($A17<VLOOKUP(M$5,NFI,5,0),1,0)*Table_NFI[[#This Row],[Blanket]],0)","v":0},{"$f":"IF(NFI_Expiration=1,IF($A17<VLOOKUP(N$5,NFI,5,0),1,0)*Table_NFI[[#This Row],[Kitchen Set]],0)","v":0},{"$f":"IF(NFI_Expiration=1,IF($A17<VLOOKUP(O$5,NFI,5,0),1,0)*Table_NFI[[#This Row],[Complementary Kit]],0)","v":0},{"$f":"IF(NFI_Expiration=1,IF($A17<VLOOKUP(P$5,NFI,5,0),1,0)*Table_NFI[[#This Row],[Plastic Bucket]],0)","v":0},{"$f":"IF(NFI_Expiration=1,IF($A17<VLOOKUP(Q$5,NFI,5,0),1,0)*Table_NFI[[#This Row],[Plastic Mat]],0)","v":0},{"$f":"VLOOKUP(Table_NFI[[#This Row],[Camp Name]],Camp_List!N$5:AA$254,2,0)","v":"MMR012CMP003"},{"$f":"VLOOKUP(Table_NFI[[#This Row],[Camp Name]],Camp_List!N$5:AA$254,14,0)","v":"Open"},{"$f":"VLOOKUP(Table_NFI[[#This Row],[Camp Name]],Camp_List!N$5:AC$254,1,1)","v":"San Htoe Tan"}]
[1.7666666666666666,"2013-07-10","UNHCR","UNHCR","Rakhine","Minbya","San Htoe Tan",null,null,null,null,null,null,null,null,null,null,{"$f":"IF(NFI_Expiration=1,IF($A18<VLOOKUP(H$5,NFI,5,0),1,0)*Table_NFI[[#This Row],[Hygiene Kit]],0)","v":0},{"$f":"IF(NFI_Expiration=1,IF($A18<VLOOKUP(I$5,NFI,5,0),1,0)*Table_NFI[[#This Row],[NFI Core Kit]],0)","v":0},{"$f":"IF(NFI_Expiration=1,IF($A18<VLOOKUP(J$5,NFI,5,0),1,0)*Table_NFI[[#This Row],[Sanitary Kit]],0)","v":0},{"$f":"IF(NFI_Expiration=1,IF($A18<VLOOKUP(K$5,NFI,5,0),1,0)*Table_NFI[[#This Row],[Mosquito net]],0)","v":0},{"$f":"IF(NFI_Expiration=1,IF($A18<VLOOKUP(L$5,NFI,5,0),1,0)*Table_NFI[[#This Row],[Tarpaulin]],0)","v":0},{"$f":"IF(NFI_Expiration=1,IF($A18<VLOOKUP(M$5,NFI,5,0),1,0)*Table_NFI[[#This Row],[Blanket]],0)","v":0},{"$f":"IF(NFI_Expiration=1,IF($A18<VLOOKUP(N$5,NFI,5,0),1,0)*Table_NFI[[#This Row],[Kitchen Set]],0)","v":0},{"$f":"IF(NFI_Expiration=1,IF($A18<VLOOKUP(O$5,NFI,5,0),1,0)*Table_NFI[[#This Row],[Complementary Kit]],0)","v":0},{"$f":"IF(NFI_Expiration=1,IF($A18<VLOOKUP(P$5,NFI,5,0),1,0)*Table_NFI[[#This Row],[Plastic Bucket]],0)","v":0},{"$f":"IF(NFI_Expiration=1,IF($A18<VLOOKUP(Q$5,NFI,5,0),1,0)*Table_NFI[[#This Row],[Plastic Mat]],0)","v":0},{"$f":"VLOOKUP(Table_NFI[[#This Row],[Camp Name]],Camp_List!N$5:AA$254,2,0)","v":"MMR012CMP003"},{"$f":"VLOOKUP(Table_NFI[[#This Row],[Camp Name]],Camp_List!N$5:AA$254,14,0)","v":"Open"},{"$f":"VLOOKUP(Table_NFI[[#This Row],[Camp Name]],Camp_List!N$5:AC$254,1,1)","v":"San Htoe Tan"}]
[1.7666666666666666,"2013-07-10","UNHCR","UNHCR","Rakhine","Minbya","San Htoe Tan",null,100,null,200,100,200,100,100,100,200,{"$f":"IF(NFI_Expiration=1,IF($A19<VLOOKUP(H$5,NFI,5,0),1,0)*Table_NFI[[#This Row],[Hygiene Kit]],0)","v":0},{"$f":"IF(NFI_Expiration=1,IF($A19<VLOOKUP(I$5,NFI,5,0),1,0)*Table_NFI[[#This Row],[NFI Core Kit]],0)","v":100},{"$f":"IF(NFI_Expiration=1,IF($A19<VLOOKUP(J$5,NFI,5,0),1,0)*Table_NFI[[#This Row],[Sanitary Kit]],0)","v":0},{"$f":"IF(NFI_Expiration=1,IF($A19<VLOOKUP(K$5,NFI,5,0),1,0)*Table_NFI[[#This Row],[Mosquito net]],0)","v":200},{"$f":"IF(NFI_Expiration=1,IF($A19<VLOOKUP(L$5,NFI,5,0),1,0)*Table_NFI[[#This Row],[Tarpaulin]],0)","v":100},{"$f":"IF(NFI_Expiration=1,IF($A19<VLOOKUP(M$5,NFI,5,0),1,0)*Table_NFI[[#This Row],[Blanket]],0)","v":200},{"$f":"IF(NFI_Expiration=1,IF($A19<VLOOKUP(N$5,NFI,5,0),1,0)*Table_NFI[[#This Row],[Kitchen Set]],0)","v":100},{"$f":"IF(NFI_Expiration=1,IF($A19<VLOOKUP(O$5,NFI,5,0),1,0)*Table_NFI[[#This Row],[Complementary Kit]],0)","v":100},{"$f":"IF(NFI_Expiration=1,IF($A19<VLOOKUP(P$5,NFI,5,0),1,0)*Table_NFI[[#This Row],[Plastic Bucket]],0)","v":100},{"$f":"IF(NFI_Expiration=1,IF($A19<VLOOKUP(Q$5,NFI,5,0),1,0)*Table_NFI[[#This Row],[Plastic Mat]],0)","v":200},{"$f":"VLOOKUP(Table_NFI[[#This Row],[Camp Name]],Camp_List!N$5:AA$254,2,0)","v":"MMR012CMP003"},{"$f":"VLOOKUP(Table_NFI[[#This Row],[Camp Name]],Camp_List!N$5:AA$254,14,0)","v":"Open"},{"$f":"VLOOKUP(Table_NFI[[#This Row],[Camp Name]],Camp_List!N$5:AC$254,1,1)","v":"San Htoe Tan"}]
[10.166666666666666,"2012-10-31","UNHCR",null,"Rakhine","Minbya","Nagara Pauktaw",null,null,null,null,100,null,null,null,null,null,{"$f":"IF(NFI_Expiration=1,IF($A20<VLOOKUP(H$5,NFI,5,0),1,0)*Table_NFI[[#This Row],[Hygiene Kit]],0)","v":0},{"$f":"IF(NFI_Expiration=1,IF($A20<VLOOKUP(I$5,NFI,5,0),1,0)*Table_NFI[[#This Row],[NFI Core Kit]],0)","v":0},{"$f":"IF(NFI_Expiration=1,IF($A20<VLOOKUP(J$5,NFI,5,0),1,0)*Table_NFI[[#This Row],[Sanitary Kit]],0)","v":0},{"$f":"IF(NFI_Expiration=1,IF($A20<VLOOKUP(K$5,NFI,5,0),1,0)*Table_NFI[[#This Row],[Mosquito net]],0)","v":0},{"$f":"IF(NFI_Expiration=1,IF($A20<VLOOKUP(L$5,NFI,5,0),1,0)*Table_NFI[[#This Row],[Tarpaulin]],0)","v":100},{"$f":"IF(NFI_Expiration=1,IF($A20<VLOOKUP(M$5,NFI,5,0),1,0)*Table_NFI[[#This Row],[Blanket]],0)","v":0},{"$f":"IF(NFI_Expiration=1,IF($A20<VLOOKUP(N$5,NFI,5,0),1,0)*Table_NFI[[#This Row],[Kitchen Set]],0)","v":0},{"$f":"IF(NFI_Expiration=1,IF($A20<VLOOKUP(O$5,NFI,5,0),1,0)*Table_NFI[[#This Row],[Complementary Kit]],0)","v":0},{"$f":"IF(NFI_Expiration=1,IF($A20<VLOOKUP(P$5,NFI,5,0),1,0)*Table_NFI[[#This Row],[Plastic Bucket]],0)","v":0},{"$f":"IF(NFI_Expiration=1,IF($A20<VLOOKUP(Q$5,NFI,5,0),1,0)*Table_NFI[[#This Row],[Plastic Mat]],0)","v":0},{"$f":"VLOOKUP(Table_NFI[[#This Row],[Camp Name]],Camp_List!N$5:AA$254,2,0)","v":"MMR012CMP004"},{"$f":"VLOOKUP(Table_NFI[[#This Row],[Camp Name]],Camp_List!N$5:AA$254,14,0)","v":"Close"},{"$f":"VLOOKUP(Table_NFI[[#This Row],[Camp Name]],Camp_List!N$5:AC$254,1,1)","v":"Nagara Pauktaw"}]
[9.4666666666666668,"2012-11-21","UNHCR",null,"Rakhine","Minbya","Nagara Pauktaw",null,null,null,null,129,null,null,null,null,null,{"$f":"IF(NFI_Expiration=1,IF($A21<VLOOKUP(H$5,NFI,5,0),1,0)*Table_NFI[[#This Row],[Hygiene Kit]],0)","v":0},{"$f":"IF(NFI_Expiration=1,IF($A21<VLOOKUP(I$5,NFI,5,0),1,0)*Table_NFI[[#This Row],[NFI Core Kit]],0)","v":0},{"$f":"IF(NFI_Expiration=1,IF($A21<VLOOKUP(J$5,NFI,5,0),1,0)*Table_NFI[[#This Row],[Sanitary Kit]],0)","v":0},{"$f":"IF(NFI_Expiration=1,IF($A21<VLOOKUP(K$5,NFI,5,0),1,0)*Table_NFI[[#This Row],[Mosquito net]],0)","v":0},{"$f":"IF(NFI_Expiration=1,IF($A21<VLOOKUP(L$5,NFI,5,0),1,0)*Table_NFI[[#This Row],[Tarpaulin]],0)","v":129},{"$f":"IF(NFI_Expiration=1,IF($A21<VLOOKUP(M$5,NFI,5,0),1,0)*Table_NFI[[#This Row],[Blanket]],0)","v":0},{"$f":"IF(NFI_Expiration=1,IF($A21<VLOOKUP(N$5,NFI,5,0),1,0)*Table_NFI[[#This Row],[Kitchen Set]],0)","v":0},{"$f":"IF(NFI_Expiration=1,IF($A21<VLOOKUP(O$5,NFI,5,0),1,0)*Table_NFI[[#This Row],[Complementary Kit]],0)","v":0},{"$f":"IF(NFI_Expiration=1,IF($A21<VLOOKUP(P$5,NFI,5,0),1,0)*Table_NFI[[#This Row],[Plastic Bucket]],0)","v":0},{"$f":"IF(NFI_Expiration=1,IF($A21<VLOOKUP(Q$5,NFI,5,0),1,0)*Table_NFI[[#This Row],[Plastic Mat]],0)","v":0},{"$f":"VLOOKUP(Table_NFI[[#This Row],[Camp Name]],Camp_List!N$5:AA$254,2,0)","v":"MMR012CMP004"},{"$f":"VLOOKUP(Table_NFI[[#This Row],[Camp Name]],Camp_List!N$5:AA$254,14,0)","v":"Close"},{"$f":"VLOOKUP(Table_NFI[[#This Row],[Camp Name]],Camp_List!N$5:AC$254,1,1)","v":"Nagara Pauktaw"}]
[8.6666666666666661,"2012-12-15","UNHCR",null,"Rakhine","Minbya","Nagara Pauktaw",null,null,null,null,null,156,null,null,null,null,{"$f":"IF(NFI_Expiration=1,IF($A22<VLOOKUP(H$5,NFI,5,0),1,0)*Table_NFI[[#This Row],[Hygiene Kit]],0)","v":0},{"$f":"IF(NFI_Expiration=1,IF($A22<VLOOKUP(I$5,NFI,5,0),1,0)*Table_NFI[[#This Row],[NFI Core Kit]],0)","v":0},{"$f":"IF(NFI_Expiration=1,IF($A22<VLOOKUP(J$5,NFI,5,0),1,0)*Table_NFI[[#This Row],[Sanitary Kit]],0)","v":0},{"$f":"IF(NFI_Expiration=1,IF($A22<VLOOKUP(K$5,NFI,5,0),1,0)*Table_NFI[[#This Row],[Mosquito net]],0)","v":0},{"$f":"IF(NFI_Expiration=1,IF($A22<VLOOKUP(L$5,NFI,5,0),1,0)*Table_NFI[[#This Row],[Tarpaulin]],0)","v":0},{"$f":"IF(NFI_Expiration=1,IF($A22<VLOOKUP(M$5,NFI,5,0),1,0)*Table_NFI[[#This Row],[Blanket]],0)","v":156},{"$f":"IF(NFI_Expiration=1,IF($A22<VLOOKUP(N$5,NFI,5,0),1,0)*Table_NFI[[#This Row],[Kitchen Set]],0)","v":0},{"$f":"IF(NFI_Expiration=1,IF($A22<VLOOKUP(O$5,NFI,5,0),1,0)*Table_NFI[[#This Row],[Complementary Kit]],0)","v":0},{"$f":"IF(NFI_Expiration=1,IF($A22<VLOOKUP(P$5,NFI,5,0),1,0)*Table_NFI[[#This Row],[Plastic Bucket]],0)","v":0},{"$f":"IF(NFI_Expiration=1,IF($A22<VLOOKUP(Q$5,NFI,5,0),1,0)*Table_NFI[[#This Row],[Plastic Mat]],0)","v":0},{"$f":"VLOOKUP(Table_NFI[[#This Row],[Camp Name]],Camp_List!N$5:AA$254,2,0)","v":"MMR012CMP004"},{"$f":"VLOOKUP(Table_NFI[[#This Row],[Camp Name]],Camp_List!N$5:AA$254,14,0)","v":"Close"},{"$f":"VLOOKUP(Table_NFI[[#This Row],[Camp Name]],Camp_List!N$5:AC$254,1,1)","v":"Nagara Pauktaw"}]
[6.6,"2013-02-15","UNICEF ",null,"Rakhine","Minbya","Nagara Pauktaw",230,null,null,null,null,null,null,null,null,null,{"$f":"IF(NFI_Expiration=1,IF($A23<VLOOKUP(H$5,NFI,5,0),1,0)*Table_NFI[[#This Row],[Hygiene Kit]],0)","v":230},{"$f":"IF(NFI_Expiration=1,IF($A23<VLOOKUP(I$5,NFI,5,0),1,0)*Table_NFI[[#This Row],[NFI Core Kit]],0)","v":0},{"$f":"IF(NFI_Expiration=1,IF($A23<VLOOKUP(J$5,NFI,5,0),1,0)*Table_NFI[[#This Row],[Sanitary Kit]],0)","v":0},{"$f":"IF(NFI_Expiration=1,IF($A23<VLOOKUP(K$5,NFI,5,0),1,0)*Table_NFI[[#This Row],[Mosquito net]],0)","v":0},{"$f":"IF(NFI_Expiration=1,IF($A23<VLOOKUP(L$5,NFI,5,0),1,0)*Table_NFI[[#This Row],[Tarpaulin]],0)","v":0},{"$f":"IF(NFI_Expiration=1,IF($A23<VLOOKUP(M$5,NFI,5,0),1,0)*Table_NFI[[#This Row],[Blanket]],0)","v":0},{"$f":"IF(NFI_Expiration=1,IF($A23<VLOOKUP(N$5,NFI,5,0),1,0)*Table_NFI[[#This Row],[Kitchen Set]],0)","v":0},{"$f":"IF(NFI_Expiration=1,IF($A23<VLOOKUP(O$5,NFI,5,0),1,0)*Table_NFI[[#This Row],[Complementary Kit]],0)","v":0},{"$f":"IF(NFI_Expiration=1,IF($A23<VLOOKUP(P$5,NFI,5,0),1,0)*Table_NFI[[#This Row],[Plastic Bucket]],0)","v":0},{"$f":"IF(NFI_Expiration=1,IF($A23<VLOOKUP(Q$5,NFI,5,0),1,0)*Table_NFI[[#This Row],[Plastic Mat]],0)","v":0},{"$f":"VLOOKUP(Table_NFI[[#This Row],[Camp Name]],Camp_List!N$5:AA$254,2,0)","v":"MMR012CMP004"},{"$f":"VLOOKUP(Table_NFI[[#This Row],[Camp Name]],Camp_List!N$5:AA$254,14,0)","v":"Close"},{"$f":"VLOOKUP(Table_NFI[[#This Row],[Camp Name]],Camp_List!N$5:AC$254,1,1)","v":"Nagara Pauktaw"}]
[8.6666666666666661,"2012-12-15","UNHCR",null,"Rakhine","Minbya","Tha Yet Oak",null,null,null,null,null,35,null,null,null,null,{"$f":"IF(NFI_Expiration=1,IF($A24<VLOOKUP(H$5,NFI,5,0),1,0)*Table_NFI[[#This Row],[Hygiene Kit]],0)","v":0},{"$f":"IF(NFI_Expiration=1,IF($A24<VLOOKUP(I$5,NFI,5,0),1,0)*Table_NFI[[#This Row],[NFI Core Kit]],0)","v":0},{"$f":"IF(NFI_Expiration=1,IF($A24<VLOOKUP(J$5,NFI,5,0),1,0)*Table_NFI[[#This Row],[Sanitary Kit]],0)","v":0},{"$f":"IF(NFI_Expiration=1,IF($A24<VLOOKUP(K$5,NFI,5,0),1,0)*Table_NFI[[#This Row],[Mosquito net]],0)","v":0},{"$f":"IF(NFI_Expiration=1,IF($A24<VLOOKUP(L$5,NFI,5,0),1,0)*Table_NFI[[#This Row],[Tarpaulin]],0)","v":0},{"$f":"IF(NFI_Expiration=1,IF($A24<VLOOKUP(M$5,NFI,5,0),1,0)*Table_NFI[[#This Row],[Blanket]],0)","v":35},{"$f":"IF(NFI_Expiration=1,IF($A24<VLOOKUP(N$5,NFI,5,0),1,0)*Table_NFI[[#This Row],[Kitchen Set]],0)","v":0},{"$f":"IF(NFI_Expiration=1,IF($A24<VLOOKUP(O$5,NFI,5,0),1,0)*Table_NFI[[#This Row],[Complementary Kit]],0)","v":0},{"$f":"IF(NFI_Expiration=1,IF($A24<VLOOKUP(P$5,NFI,5,0),1,0)*Table_NFI[[#This Row],[Plastic Bucket]],0)","v":0},{"$f":"IF(NFI_Expiration=1,IF($A24<VLOOKUP(Q$5,NFI,5,0),1,0)*Table_NFI[[#This Row],[Plastic Mat]],0)","v":0},{"$f":"VLOOKUP(Table_NFI[[#This Row],[Camp Name]],Camp_List!N$5:AA$254,2,0)","v":"MMR012CMP005"},{"$f":"VLOOKUP(Table_NFI[[#This Row],[Camp Name]],Camp_List!N$5:AA$254,14,0)","v":"Open"},{"$f":"VLOOKUP(Table_NFI[[#This Row],[Camp Name]],Camp_List!N$5:AC$254,1,1)","v":"Tha Yet Oak"}]
[{"$f":"IF(ISBLANK(B25),\"\",(Report_Date-B25)/30)","v":1.9},"2013-07-06","UNHCR","UNHCR","Rakhine","Minbya","Tha Yet Oak",null,null,null,null,null,null,null,null,null,null,{"$f":"IF(NFI_Expiration=1,IF($A25<VLOOKUP(H$5,NFI,5,0),1,0)*Table_NFI[[#This Row],[Hygiene Kit]],0)","v":0},{"$f":"IF(NFI_Expiration=1,IF($A25<VLOOKUP(I$5,NFI,5,0),1,0)*Table_NFI[[#This Row],[NFI Core Kit]],0)","v":0},{"$f":"IF(NFI_Expiration=1,IF($A25<VLOOKUP(J$5,NFI,5,0),1,0)*Table_NFI[[#This Row],[Sanitary Kit]],0)","v":0},{"$f":"IF(NFI_Expiration=1,IF($A25<VLOOKUP(K$5,NFI,5,0),1,0)*Table_NFI[[#This Row],[Mosquito net]],0)","v":0},{"$f":"IF(NFI_Expiration=1,IF($A25<VLOOKUP(L$5,NFI,5,0),1,0)*Table_NFI[[#This Row],[Tarpaulin]],0)","v":0},{"$f":"IF(NFI_Expiration=1,IF($A25<VLOOKUP(M$5,NFI,5,0),1,0)*Table_NFI[[#This Row],[Blanket]],0)","v":0},{"$f":"IF(NFI_Expiration=1,IF($A25<VLOOKUP(N$5,NFI,5,0),1,0)*Table_NFI[[#This Row],[Kitchen Set]],0)","v":0},{"$f":"IF(NFI_Expiration=1,IF($A25<VLOOKUP(O$5,NFI,5,0),1,0)*Table_NFI[[#This Row],[Complementary Kit]],0)","v":0},{"$f":"IF(NFI_Expiration=1,IF($A25<VLOOKUP(P$5,NFI,5,0),1,0)*Table_NFI[[#This Row],[Plastic Bucket]],0)","v":0},{"$f":"IF(NFI_Expiration=1,IF($A25<VLOOKUP(Q$5,NFI,5,0),1,0)*Table_NFI[[#This Row],[Plastic Mat]],0)","v":0},{"$f":"VLOOKUP(Table_NFI[[#This Row],[Camp Name]],Camp_List!N$5:AA$254,2,0)","v":"MMR012CMP005"},{"$f":"VLOOKUP(Table_NFI[[#This Row],[Camp Name]],Camp_List!N$5:AA$254,14,0)","v":"Open"},{"$f":"VLOOKUP(Table_NFI[[#This Row],[Camp Name]],Camp_List!N$5:AC$254,1,1)","v":"Tha Yet Oak"}]
[1.9,"2013-07-06","UNHCR","UNHCR","Rakhine","Minbya","Tha Yet Oak",null,229,null,458,229,458,229,229,229,458,{"$f":"IF(NFI_Expiration=1,IF($A26<VLOOKUP(H$5,NFI,5,0),1,0)*Table_NFI[[#This Row],[Hygiene Kit]],0)","v":0},{"$f":"IF(NFI_Expiration=1,IF($A26<VLOOKUP(I$5,NFI,5,0),1,0)*Table_NFI[[#This Row],[NFI Core Kit]],0)","v":229},{"$f":"IF(NFI_Expiration=1,IF($A26<VLOOKUP(J$5,NFI,5,0),1,0)*Table_NFI[[#This Row],[Sanitary Kit]],0)","v":0},{"$f":"IF(NFI_Expiration=1,IF($A26<VLOOKUP(K$5,NFI,5,0),1,0)*Table_NFI[[#This Row],[Mosquito net]],0)","v":458},{"$f":"IF(NFI_Expiration=1,IF($A26<VLOOKUP(L$5,NFI,5,0),1,0)*Table_NFI[[#This Row],[Tarpaulin]],0)","v":229},{"$f":"IF(NFI_Expiration=1,IF($A26<VLOOKUP(M$5,NFI,5,0),1,0)*Table_NFI[[#This Row],[Blanket]],0)","v":458},{"$f":"IF(NFI_Expiration=1,IF($A26<VLOOKUP(N$5,NFI,5,0),1,0)*Table_NFI[[#This Row],[Kitchen Set]],0)","v":229},{"$f":"IF(NFI_Expiration=1,IF($A26<VLOOKUP(O$5,NFI,5,0),1,0)*Table_NFI[[#This Row],[Complementary Kit]],0)","v":229},{"$f":"IF(NFI_Expiration=1,IF($A26<VLOOKUP(P$5,NFI,5,0),1,0)*Table_NFI[[#This Row],[Plastic Bucket]],0)","v":229},{"$f":"IF(NFI_Expiration=1,IF($A26<VLOOKUP(Q$5,NFI,5,0),1,0)*Table_NFI[[#This Row],[Plastic Mat]],0)","v":458},{"$f":"VLOOKUP(Table_NFI[[#This Row],[Camp Name]],Camp_List!N$5:AA$254,2,0)","v":"MMR012CMP005"},{"$f":"VLOOKUP(Table_NFI[[#This Row],[Camp Name]],Camp_List!N$5:AA$254,14,0)","v":"Open"},{"$f":"VLOOKUP(Table_NFI[[#This Row],[Camp Name]],Camp_List!N$5:AC$254,1,1)","v":"Tha Yet Oak"}]
[10.166666666666666,"2012-10-31","UNHCR",null,"Rakhine","Minbya","Aung Taing",null,null,null,null,40,null,null,null,null,null,{"$f":"IF(NFI_Expiration=1,IF($A27<VLOOKUP(H$5,NFI,5,0),1,0)*Table_NFI[[#This Row],[Hygiene Kit]],0)","v":0},{"$f":"IF(NFI_Expiration=1,IF($A27<VLOOKUP(I$5,NFI,5,0),1,0)*Table_NFI[[#This Row],[NFI Core Kit]],0)","v":0},{"$f":"IF(NFI_Expiration=1,IF($A27<VLOOKUP(J$5,NFI,5,0),1,0)*Table_NFI[[#This Row],[Sanitary Kit]],0)","v":0},{"$f":"IF(NFI_Expiration=1,IF($A27<VLOOKUP(K$5,NFI,5,0),1,0)*Table_NFI[[#This Row],[Mosquito net]],0)","v":0},{"$f":"IF(NFI_Expiration=1,IF($A27<VLOOKUP(L$5,NFI,5,0),1,0)*Table_NFI[[#This Row],[Tarpaulin]],0)","v":40},{"$f":"IF(NFI_Expiration=1,IF($A27<VLOOKUP(M$5,NFI,5,0),1,0)*Table_NFI[[#This Row],[Blanket]],0)","v":0},{"$f":"IF(NFI_Expiration=1,IF($A27<VLOOKUP(N$5,NFI,5,0),1,0)*Table_NFI[[#This Row],[Kitchen Set]],0)","v":0},{"$f":"IF(NFI_Expiration=1,IF($A27<VLOOKUP(O$5,NFI,5,0),1,0)*Table_NFI[[#This Row],[Complementary Kit]],0)","v":0},{"$f":"IF(NFI_Expiration=1,IF($A27<VLOOKUP(P$5,NFI,5,0),1,0)*Table_NFI[[#This Row],[Plastic Bucket]],0)","v":0},{"$f":"IF(NFI_Expiration=1,IF($A27<VLOOKUP(Q$5,NFI,5,0),1,0)*Table_NFI[[#This Row],[Plastic Mat]],0)","v":0},{"$f":"VLOOKUP(Table_NFI[[#This Row],[Camp Name]],Camp_List!N$5:AA$254,2,0)","v":"MMR012CMP006"},{"$f":"VLOOKUP(Table_NFI[[#This Row],[Camp Name]],Camp_List!N$5:AA$254,14,0)","v":"Open"},{"$f":"VLOOKUP(Table_NFI[[#This Row],[Camp Name]],Camp_List!N$5:AC$254,1,1)","v":"Aung Taing"}]
[9.1666666666666661,"2012-11-30","UNHCR",null,"Rakhine","Minbya","Aung Taing",null,null,null,null,46,null,null,null,null,null,{"$f":"IF(NFI_Expiration=1,IF($A28<VLOOKUP(H$5,NFI,5,0),1,0)*Table_NFI[[#This Row],[Hygiene Kit]],0)","v":0},{"$f":"IF(NFI_Expiration=1,IF($A28<VLOOKUP(I$5,NFI,5,0),1,0)*Table_NFI[[#This Row],[NFI Core Kit]],0)","v":0},{"$f":"IF(NFI_Expiration=1,IF($A28<VLOOKUP(J$5,NFI,5,0),1,0)*Table_NFI[[#This Row],[Sanitary Kit]],0)","v":0},{"$f":"IF(NFI_Expiration=1,IF($A28<VLOOKUP(K$5,NFI,5,0),1,0)*Table_NFI[[#This Row],[Mosquito net]],0)","v":0},{"$f":"IF(NFI_Expiration=1,IF($A28<VLOOKUP(L$5,NFI,5,0),1,0)*Table_NFI[[#This Row],[Tarpaulin]],0)","v":46},{"$f":"IF(NFI_Expiration=1,IF($A28<VLOOKUP(M$5,NFI,5,0),1,0)*Table_NFI[[#This Row],[Blanket]],0)","v":0},{"$f":"IF(NFI_Expiration=1,IF($A28<VLOOKUP(N$5,NFI,5,0),1,0)*Table_NFI[[#This Row],[Kitchen Set]],0)","v":0},{"$f":"IF(NFI_Expiration=1,IF($A28<VLOOKUP(O$5,NFI,5,0),1,0)*Table_NFI[[#This Row],[Complementary Kit]],0)","v":0},{"$f":"IF(NFI_Expiration=1,IF($A28<VLOOKUP(P$5,NFI,5,0),1,0)*Table_NFI[[#This Row],[Plastic Bucket]],0)","v":0},{"$f":"IF(NFI_Expiration=1,IF($A28<VLOOKUP(Q$5,NFI,5,0),1,0)*Table_NFI[[#This Row],[Plastic Mat]],0)","v":0},{"$f":"VLOOKUP(Table_NFI[[#This Row],[Camp Name]],Camp_List!N$5:AA$254,2,0)","v":"MMR012CMP006"},{"$f":"VLOOKUP(Table_NFI[[#This Row],[Camp Name]],Camp_List!N$5:AA$254,14,0)","v":"Open"},{"$f":"VLOOKUP(Table_NFI[[#This Row],[Camp Name]],Camp_List!N$5:AC$254,1,1)","v":"Aung Taing"}]
[8.6666666666666661,"2012-12-15","UNHCR",null,"Rakhine","Minbya","Aung Taing",null,null,null,null,null,65,null,null,null,null,{"$f":"IF(NFI_Expiration=1,IF($A29<VLOOKUP(H$5,NFI,5,0),1,0)*Table_NFI[[#This Row],[Hygiene Kit]],0)","v":0},{"$f":"IF(NFI_Expiration=1,IF($A29<VLOOKUP(I$5,NFI,5,0),1,0)*Table_NFI[[#This Row],[NFI Core Kit]],0)","v":0},{"$f":"IF(NFI_Expiration=1,IF($A29<VLOOKUP(J$5,NFI,5,0),1,0)*Table_NFI[[#This Row],[Sanitary Kit]],0)","v":0},{"$f":"IF(NFI_Expiration=1,IF($A29<VLOOKUP(K$5,NFI,5,0),1,0)*Table_NFI[[#This Row],[Mosquito net]],0)","v":0},{"$f":"IF(NFI_Expiration=1,IF($A29<VLOOKUP(L$5,NFI,5,0),1,0)*Table_NFI[[#This Row],[Tarpaulin]],0)","v":0},{"$f":"IF(NFI_Expiration=1,IF($A29<VLOOKUP(M$5,NFI,5,0),1,0)*Table_NFI[[#This Row],[Blanket]],0)","v":65},{"$f":"IF(NFI_Expiration=1,IF($A29<VLOOKUP(N$5,NFI,5,0),1,0)*Table_NFI[[#This Row],[Kitchen Set]],0)","v":0},{"$f":"IF(NFI_Expiration=1,IF($A29<VLOOKUP(O$5,NFI,5,0),1,0)*Table_NFI[[#This Row],[Complementary Kit]],0)","v":0},{"$f":"IF(NFI_Expiration=1,IF($A29<VLOOKUP(P$5,NFI,5,0),1,0)*Table_NFI[[#This Row],[Plastic Bucket]],0)","v":0},{"$f":"IF(NFI_Expiration=1,IF($A29<VLOOKUP(Q$5,NFI,5,0),1,0)*Table_NFI[[#This Row],[Plastic Mat]],0)","v":0},{"$f":"VLOOKUP(Table_NFI[[#This Row],[Camp Name]],Camp_List!N$5:AA$254,2,0)","v":"MMR012CMP006"},{"$f":"VLOOKUP(Table_NFI[[#This Row],[Camp Name]],Camp_List!N$5:AA$254,14,0)","v":"Open"},{"$f":"VLOOKUP(Table_NFI[[#This Row],[Camp Name]],Camp_List!N$5:AC$254,1,1)","v":"Aung Taing"}]
[6.6,"2013-02-15","UNICEF ",null,"Rakhine","Minbya","Aung Taing",90,null,null,null,null,null,null,null,null,null,{"$f":"IF(NFI_Expiration=1,IF($A30<VLOOKUP(H$5,NFI,5,0),1,0)*Table_NFI[[#This Row],[Hygiene Kit]],0)","v":90},{"$f":"IF(NFI_Expiration=1,IF($A30<VLOOKUP(I$5,NFI,5,0),1,0)*Table_NFI[[#This Row],[NFI Core Kit]],0)","v":0},{"$f":"IF(NFI_Expiration=1,IF($A30<VLOOKUP(J$5,NFI,5,0),1,0)*Table_NFI[[#This Row],[Sanitary Kit]],0)","v":0},{"$f":"IF(NFI_Expiration=1,IF($A30<VLOOKUP(K$5,NFI,5,0),1,0)*Table_NFI[[#This Row],[Mosquito net]],0)","v":0},{"$f":"IF(NFI_Expiration=1,IF($A30<VLOOKUP(L$5,NFI,5,0),1,0)*Table_NFI[[#This Row],[Tarpaulin]],0)","v":0},{"$f":"IF(NFI_Expiration=1,IF($A30<VLOOKUP(M$5,NFI,5,0),1,0)*Table_NFI[[#This Row],[Blanket]],0)","v":0},{"$f":"IF(NFI_Expiration=1,IF($A30<VLOOKUP(N$5,NFI,5,0),1,0)*Table_NFI[[#This Row],[Kitchen Set]],0)","v":0},{"$f":"IF(NFI_Expiration=1,IF($A30<VLOOKUP(O$5,NFI,5,0),1,0)*Table_NFI[[#This Row],[Complementary Kit]],0)","v":0},{"$f":"IF(NFI_Expiration=1,IF($A30<VLOOKUP(P$5,NFI,5,0),1,0)*Table_NFI[[#This Row],[Plastic Bucket]],0)","v":0},{"$f":"IF(NFI_Expiration=1,IF($A30<VLOOKUP(Q$5,NFI,5,0),1,0)*Table_NFI[[#This Row],[Plastic Mat]],0)","v":0},{"$f":"VLOOKUP(Table_NFI[[#This Row],[Camp Name]],Camp_List!N$5:AA$254,2,0)","v":"MMR012CMP006"},{"$f":"VLOOKUP(Table_NFI[[#This Row],[Camp Name]],Camp_List!N$5:AA$254,14,0)","v":"Open"},{"$f":"VLOOKUP(Table_NFI[[#This Row],[Camp Name]],Camp_List!N$5:AC$254,1,1)","v":"Aung Taing"}]
[4.0666666666666664,"2013-05-02","UNHCR",null,"Rakhine","Minbya","Aung Taing",null,null,null,null,null,1,null,null,null,null,{"$f":"IF(NFI_Expiration=1,IF($A31<VLOOKUP(H$5,NFI,5,0),1,0)*Table_NFI[[#This Row],[Hygiene Kit]],0)","v":0},{"$f":"IF(NFI_Expiration=1,IF($A31<VLOOKUP(I$5,NFI,5,0),1,0)*Table_NFI[[#This Row],[NFI Core Kit]],0)","v":0},{"$f":"IF(NFI_Expiration=1,IF($A31<VLOOKUP(J$5,NFI,5,0),1,0)*Table_NFI[[#This Row],[Sanitary Kit]],0)","v":0},{"$f":"IF(NFI_Expiration=1,IF($A31<VLOOKUP(K$5,NFI,5,0),1,0)*Table_NFI[[#This Row],[Mosquito net]],0)","v":0},{"$f":"IF(NFI_Expiration=1,IF($A31<VLOOKUP(L$5,NFI,5,0),1,0)*Table_NFI[[#This Row],[Tarpaulin]],0)","v":0},{"$f":"IF(NFI_Expiration=1,IF($A31<VLOOKUP(M$5,NFI,5,0),1,0)*Table_NFI[[#This Row],[Blanket]],0)","v":1},{"$f":"IF(NFI_Expiration=1,IF($A31<VLOOKUP(N$5,NFI,5,0),1,0)*Table_NFI[[#This Row],[Kitchen Set]],0)","v":0},{"$f":"IF(NFI_Expiration=1,IF($A31<VLOOKUP(O$5,NFI,5,0),1,0)*Table_NFI[[#This Row],[Complementary Kit]],0)","v":0},{"$f":"IF(NFI_Expiration=1,IF($A31<VLOOKUP(P$5,NFI,5,0),1,0)*Table_NFI[[#This Row],[Plastic Bucket]],0)","v":0},{"$f":"IF(NFI_Expiration=1,IF($A31<VLOOKUP(Q$5,NFI,5,0),1,0)*Table_NFI[[#This Row],[Plastic Mat]],0)","v":0},{"$f":"VLOOKUP(Table_NFI[[#This Row],[Camp Name]],Camp_List!N$5:AA$254,2,0)","v":"MMR012CMP006"},{"$f":"VLOOKUP(Table_NFI[[#This Row],[Camp Name]],Camp_List!N$5:AA$254,14,0)","v":"Open"},{"$f":"VLOOKUP(Table_NFI[[#This Row],[Camp Name]],Camp_List!N$5:AC$254,1,1)","v":"Aung Taing"}]
[4.0666666666666664,"2013-05-02","UNHCR",null,"Rakhine","Minbya","Aung Taing",null,null,null,null,1,null,null,null,null,null,{"$f":"IF(NFI_Expiration=1,IF($A32<VLOOKUP(H$5,NFI,5,0),1,0)*Table_NFI[[#This Row],[Hygiene Kit]],0)","v":0},{"$f":"IF(NFI_Expiration=1,IF($A32<VLOOKUP(I$5,NFI,5,0),1,0)*Table_NFI[[#This Row],[NFI Core Kit]],0)","v":0},{"$f":"IF(NFI_Expiration=1,IF($A32<VLOOKUP(J$5,NFI,5,0),1,0)*Table_NFI[[#This Row],[Sanitary Kit]],0)","v":0},{"$f":"IF(NFI_Expiration=1,IF($A32<VLOOKUP(K$5,NFI,5,0),1,0)*Table_NFI[[#This Row],[Mosquito net]],0)","v":0},{"$f":"IF(NFI_Expiration=1,IF($A32<VLOOKUP(L$5,NFI,5,0),1,0)*Table_NFI[[#This Row],[Tarpaulin]],0)","v":1},{"$f":"IF(NFI_Expiration=1,IF($A32<VLOOKUP(M$5,NFI,5,0),1,0)*Table_NFI[[#This Row],[Blanket]],0)","v":0},{"$f":"IF(NFI_Expiration=1,IF($A32<VLOOKUP(N$5,NFI,5,0),1,0)*Table_NFI[[#This Row],[Kitchen Set]],0)","v":0},{"$f":"IF(NFI_Expiration=1,IF($A32<VLOOKUP(O$5,NFI,5,0),1,0)*Table_NFI[[#This Row],[Complementary Kit]],0)","v":0},{"$f":"IF(NFI_Expiration=1,IF($A32<VLOOKUP(P$5,NFI,5,0),1,0)*Table_NFI[[#This Row],[Plastic Bucket]],0)","v":0},{"$f":"IF(NFI_Expiration=1,IF($A32<VLOOKUP(Q$5,NFI,5,0),1,0)*Table_NFI[[#This Row],[Plastic Mat]],0)","v":0},{"$f":"VLOOKUP(Table_NFI[[#This Row],[Camp Name]],Camp_List!N$5:AA$254,2,0)","v":"MMR012CMP006"},{"$f":"VLOOKUP(Table_NFI[[#This Row],[Camp Name]],Camp_List!N$5:AA$254,14,0)","v":"Open"},{"$f":"VLOOKUP(Table_NFI[[#This Row],[Camp Name]],Camp_List!N$5:AC$254,1,1)","v":"Aung Taing"}]
[1.8,"2013-07-09","UNHCR","UNHCR","Rakhine","Minbya","Aung Taing",null,null,null,null,null,null,null,null,null,null,{"$f":"IF(NFI_Expiration=1,IF($A33<VLOOKUP(H$5,NFI,5,0),1,0)*Table_NFI[[#This Row],[Hygiene Kit]],0)","v":0},{"$f":"IF(NFI_Expiration=1,IF($A33<VLOOKUP(I$5,NFI,5,0),1,0)*Table_NFI[[#This Row],[NFI Core Kit]],0)","v":0},{"$f":"IF(NFI_Expiration=1,IF($A33<VLOOKUP(J$5,NFI,5,0),1,0)*Table_NFI[[#This Row],[Sanitary Kit]],0)","v":0},{"$f":"IF(NFI_Expiration=1,IF($A33<VLOOKUP(K$5,NFI,5,0),1,0)*Table_NFI[[#This Row],[Mosquito net]],0)","v":0},{"$f":"IF(NFI_Expiration=1,IF($A33<VLOOKUP(L$5,NFI,5,0),1,0)*Table_NFI[[#This Row],[Tarpaulin]],0)","v":0},{"$f":"IF(NFI_Expiration=1,IF($A33<VLOOKUP(M$5,NFI,5,0),1,0)*Table_NFI[[#This Row],[Blanket]],0)","v":0},{"$f":"IF(NFI_Expiration=1,IF($A33<VLOOKUP(N$5,NFI,5,0),1,0)*Table_NFI[[#This Row],[Kitchen Set]],0)","v":0},{"$f":"IF(NFI_Expiration=1,IF($A33<VLOOKUP(O$5,NFI,5,0),1,0)*Table_NFI[[#This Row],[Complementary Kit]],0)","v":0},{"$f":"IF(NFI_Expiration=1,IF($A33<VLOOKUP(P$5,NFI,5,0),1,0)*Table_NFI[[#This Row],[Plastic Bucket]],0)","v":0},{"$f":"IF(NFI_Expiration=1,IF($A33<VLOOKUP(Q$5,NFI,5,0),1,0)*Table_NFI[[#This Row],[Plastic Mat]],0)","v":0},{"$f":"VLOOKUP(Table_NFI[[#This Row],[Camp Name]],Camp_List!N$5:AA$254,2,0)","v":"MMR012CMP006"},{"$f":"VLOOKUP(Table_NFI[[#This Row],[Camp Name]],Camp_List!N$5:AA$254,14,0)","v":"Open"},{"$f":"VLOOKUP(Table_NFI[[#This Row],[Camp Name]],Camp_List!N$5:AC$254,1,1)","v":"Aung Taing"}]
[1.8,"2013-07-09","UNHCR","UNHCR","Rakhine","Minbya","Aung Taing",null,144,null,288,144,288,144,144,144,288,{"$f":"IF(NFI_Expiration=1,IF($A34<VLOOKUP(H$5,NFI,5,0),1,0)*Table_NFI[[#This Row],[Hygiene Kit]],0)","v":0},{"$f":"IF(NFI_Expiration=1,IF($A34<VLOOKUP(I$5,NFI,5,0),1,0)*Table_NFI[[#This Row],[NFI Core Kit]],0)","v":144},{"$f":"IF(NFI_Expiration=1,IF($A34<VLOOKUP(J$5,NFI,5,0),1,0)*Table_NFI[[#This Row],[Sanitary Kit]],0)","v":0},{"$f":"IF(NFI_Expiration=1,IF($A34<VLOOKUP(K$5,NFI,5,0),1,0)*Table_NFI[[#This Row],[Mosquito net]],0)","v":288},{"$f":"IF(NFI_Expiration=1,IF($A34<VLOOKUP(L$5,NFI,5,0),1,0)*Table_NFI[[#This Row],[Tarpaulin]],0)","v":144},{"$f":"IF(NFI_Expiration=1,IF($A34<VLOOKUP(M$5,NFI,5,0),1,0)*Table_NFI[[#This Row],[Blanket]],0)","v":288},{"$f":"IF(NFI_Expiration=1,IF($A34<VLOOKUP(N$5,NFI,5,0),1,0)*Table_NFI[[#This Row],[Kitchen Set]],0)","v":144},{"$f":"IF(NFI_Expiration=1,IF($A34<VLOOKUP(O$5,NFI,5,0),1,0)*Table_NFI[[#This Row],[Complementary Kit]],0)","v":144},{"$f":"IF(NFI_Expiration=1,IF($A34<VLOOKUP(P$5,NFI,5,0),1,0)*Table_NFI[[#This Row],[Plastic Bucket]],0)","v":144},{"$f":"IF(NFI_Expiration=1,IF($A34<VLOOKUP(Q$5,NFI,5,0),1,0)*Table_NFI[[#This Row],[Plastic Mat]],0)","v":288},{"$f":"VLOOKUP(Table_NFI[[#This Row],[Camp Name]],Camp_List!N$5:AA$254,2,0)","v":"MMR012CMP006"},{"$f":"VLOOKUP(Table_NFI[[#This Row],[Camp Name]],Camp_List!N$5:AA$254,14,0)","v":"Open"},{"$f":"VLOOKUP(Table_NFI[[#This Row],[Camp Name]],Camp_List!N$5:AC$254,1,1)","v":"Aung Taing"}]
[8.6,"2012-12-17","UNHCR",null,"Rakhine","Minbya","Thay Kan",null,null,null,null,33,null,null,null,null,null,{"$f":"IF(NFI_Expiration=1,IF($A35<VLOOKUP(H$5,NFI,5,0),1,0)*Table_NFI[[#This Row],[Hygiene Kit]],0)","v":0},{"$f":"IF(NFI_Expiration=1,IF($A35<VLOOKUP(I$5,NFI,5,0),1,0)*Table_NFI[[#This Row],[NFI Core Kit]],0)","v":0},{"$f":"IF(NFI_Expiration=1,IF($A35<VLOOKUP(J$5,NFI,5,0),1,0)*Table_NFI[[#This Row],[Sanitary Kit]],0)","v":0},{"$f":"IF(NFI_Expiration=1,IF($A35<VLOOKUP(K$5,NFI,5,0),1,0)*Table_NFI[[#This Row],[Mosquito net]],0)","v":0},{"$f":"IF(NFI_Expiration=1,IF($A35<VLOOKUP(L$5,NFI,5,0),1,0)*Table_NFI[[#This Row],[Tarpaulin]],0)","v":33},{"$f":"IF(NFI_Expiration=1,IF($A35<VLOOKUP(M$5,NFI,5,0),1,0)*Table_NFI[[#This Row],[Blanket]],0)","v":0},{"$f":"IF(NFI_Expiration=1,IF($A35<VLOOKUP(N$5,NFI,5,0),1,0)*Table_NFI[[#This Row],[Kitchen Set]],0)","v":0},{"$f":"IF(NFI_Expiration=1,IF($A35<VLOOKUP(O$5,NFI,5,0),1,0)*Table_NFI[[#This Row],[Complementary Kit]],0)","v":0},{"$f":"IF(NFI_Expiration=1,IF($A35<VLOOKUP(P$5,NFI,5,0),1,0)*Table_NFI[[#This Row],[Plastic Bucket]],0)","v":0},{"$f":"IF(NFI_Expiration=1,IF($A35<VLOOKUP(Q$5,NFI,5,0),1,0)*Table_NFI[[#This Row],[Plastic Mat]],0)","v":0},{"$f":"VLOOKUP(Table_NFI[[#This Row],[Camp Name]],Camp_List!N$5:AA$254,2,0)","v":"MMR012CMP007"},{"$f":"VLOOKUP(Table_NFI[[#This Row],[Camp Name]],Camp_List!N$5:AA$254,14,0)","v":"Close"},{"$f":"VLOOKUP(Table_NFI[[#This Row],[Camp Name]],Camp_List!N$5:AC$254,1,1)","v":"Thay Kan"}]
[6.6,"2013-02-15","UNICEF ",null,"Rakhine","Minbya","Thay Kan",35,null,null,null,null,null,null,null,null,null,{"$f":"IF(NFI_Expiration=1,IF($A36<VLOOKUP(H$5,NFI,5,0),1,0)*Table_NFI[[#This Row],[Hygiene Kit]],0)","v":35},{"$f":"IF(NFI_Expiration=1,IF($A36<VLOOKUP(I$5,NFI,5,0),1,0)*Table_NFI[[#This Row],[NFI Core Kit]],0)","v":0},{"$f":"IF(NFI_Expiration=1,IF($A36<VLOOKUP(J$5,NFI,5,0),1,0)*Table_NFI[[#This Row],[Sanitary Kit]],0)","v":0},{"$f":"IF(NFI_Expiration=1,IF($A36<VLOOKUP(K$5,NFI,5,0),1,0)*Table_NFI[[#This Row],[Mosquito net]],0)","v":0},{"$f":"IF(NFI_Expiration=1,IF($A36<VLOOKUP(L$5,NFI,5,0),1,0)*Table_NFI[[#This Row],[Tarpaulin]],0)","v":0},{"$f":"IF(NFI_Expiration=1,IF($A36<VLOOKUP(M$5,NFI,5,0),1,0)*Table_NFI[[#This Row],[Blanket]],0)","v":0},{"$f":"IF(NFI_Expiration=1,IF($A36<VLOOKUP(N$5,NFI,5,0),1,0)*Table_NFI[[#This Row],[Kitchen Set]],0)","v":0},{"$f":"IF(NFI_Expiration=1,IF($A36<VLOOKUP(O$5,NFI,5,0),1,0)*Table_NFI[[#This Row],[Complementary Kit]],0)","v":0},{"$f":"IF(NFI_Expiration=1,IF($A36<VLOOKUP(P$5,NFI,5,0),1,0)*Table_NFI[[#This Row],[Plastic Bucket]],0)","v":0},{"$f":"IF(NFI_Expiration=1,IF($A36<VLOOKUP(Q$5,NFI,5,0),1,0)*Table_NFI[[#This Row],[Plastic Mat]],0)","v":0},{"$f":"VLOOKUP(Table_NFI[[#This Row],[Camp Name]],Camp_List!N$5:AA$254,2,0)","v":"MMR012CMP007"},{"$f":"VLOOKUP(Table_NFI[[#This Row],[Camp Name]],Camp_List!N$5:AA$254,14,0)","v":"Close"},{"$f":"VLOOKUP(Table_NFI[[#This Row],[Camp Name]],Camp_List!N$5:AC$254,1,1)","v":"Thay Kan"}]
[6.0666666666666664,"2013-03-03","UNHCR",null,"Rakhine","Minbya","Thay Kan",null,null,null,null,null,33,null,null,null,null,{"$f":"IF(NFI_Expiration=1,IF($A37<VLOOKUP(H$5,NFI,5,0),1,0)*Table_NFI[[#This Row],[Hygiene Kit]],0)","v":0},{"$f":"IF(NFI_Expiration=1,IF($A37<VLOOKUP(I$5,NFI,5,0),1,0)*Table_NFI[[#This Row],[NFI Core Kit]],0)","v":0},{"$f":"IF(NFI_Expiration=1,IF($A37<VLOOKUP(J$5,NFI,5,0),1,0)*Table_NFI[[#This Row],[Sanitary Kit]],0)","v":0},{"$f":"IF(NFI_Expiration=1,IF($A37<VLOOKUP(K$5,NFI,5,0),1,0)*Table_NFI[[#This Row],[Mosquito net]],0)","v":0},{"$f":"IF(NFI_Expiration=1,IF($A37<VLOOKUP(L$5,NFI,5,0),1,0)*Table_NFI[[#This Row],[Tarpaulin]],0)","v":0},{"$f":"IF(NFI_Expiration=1,IF($A37<VLOOKUP(M$5,NFI,5,0),1,0)*Table_NFI[[#This Row],[Blanket]],0)","v":33},{"$f":"IF(NFI_Expiration=1,IF($A37<VLOOKUP(N$5,NFI,5,0),1,0)*Table_NFI[[#This Row],[Kitchen Set]],0)","v":0},{"$f":"IF(NFI_Expiration=1,IF($A37<VLOOKUP(O$5,NFI,5,0),1,0)*Table_NFI[[#This Row],[Complementary Kit]],0)","v":0},{"$f":"IF(NFI_Expiration=1,IF($A37<VLOOKUP(P$5,NFI,5,0),1,0)*Table_NFI[[#This Row],[Plastic Bucket]],0)","v":0},{"$f":"IF(NFI_Expiration=1,IF($A37<VLOOKUP(Q$5,NFI,5,0),1,0)*Table_NFI[[#This Row],[Plastic Mat]],0)","v":0},{"$f":"VLOOKUP(Table_NFI[[#This Row],[Camp Name]],Camp_List!N$5:AA$254,2,0)","v":"MMR012CMP007"},{"$f":"VLOOKUP(Table_NFI[[#This Row],[Camp Name]],Camp_List!N$5:AA$254,14,0)","v":"Close"},{"$f":"VLOOKUP(Table_NFI[[#This Row],[Camp Name]],Camp_List!N$5:AC$254,1,1)","v":"Thay Kan"}]
[1.8,"2013-07-09","UNHCR","UNHCR","Rakhine","Minbya","Thay Kan",null,null,null,null,null,null,null,null,null,null,{"$f":"IF(NFI_Expiration=1,IF($A38<VLOOKUP(H$5,NFI,5,0),1,0)*Table_NFI[[#This Row],[Hygiene Kit]],0)","v":0},{"$f":"IF(NFI_Expiration=1,IF($A38<VLOOKUP(I$5,NFI,5,0),1,0)*Table_NFI[[#This Row],[NFI Core Kit]],0)","v":0},{"$f":"IF(NFI_Expiration=1,IF($A38<VLOOKUP(J$5,NFI,5,0),1,0)*Table_NFI[[#This Row],[Sanitary Kit]],0)","v":0},{"$f":"IF(NFI_Expiration=1,IF($A38<VLOOKUP(K$5,NFI,5,0),1,0)*Table_NFI[[#This Row],[Mosquito net]],0)","v":0},{"$f":"IF(NFI_Expiration=1,IF($A38<VLOOKUP(L$5,NFI,5,0),1,0)*Table_NFI[[#This Row],[Tarpaulin]],0)","v":0},{"$f":"IF(NFI_Expiration=1,IF($A38<VLOOKUP(M$5,NFI,5,0),1,0)*Table_NFI[[#This Row],[Blanket]],0)","v":0},{"$f":"IF(NFI_Expiration=1,IF($A38<VLOOKUP(N$5,NFI,5,0),1,0)*Table_NFI[[#This Row],[Kitchen Set]],0)","v":0},{"$f":"IF(NFI_Expiration=1,IF($A38<VLOOKUP(O$5,NFI,5,0),1,0)*Table_NFI[[#This Row],[Complementary Kit]],0)","v":0},{"$f":"IF(NFI_Expiration=1,IF($A38<VLOOKUP(P$5,NFI,5,0),1,0)*Table_NFI[[#This Row],[Plastic Bucket]],0)","v":0},{"$f":"IF(NFI_Expiration=1,IF($A38<VLOOKUP(Q$5,NFI,5,0),1,0)*Table_NFI[[#This Row],[Plastic Mat]],0)","v":0},{"$f":"VLOOKUP(Table_NFI[[#This Row],[Camp Name]],Camp_List!N$5:AA$254,2,0)","v":"MMR012CMP007"},{"$f":"VLOOKUP(Table_NFI[[#This Row],[Camp Name]],Camp_List!N$5:AA$254,14,0)","v":"Close"},{"$f":"VLOOKUP(Table_NFI[[#This Row],[Camp Name]],Camp_List!N$5:AC$254,1,1)","v":"Thay Kan"}]
[1.8,"2013-07-09","UNHCR","UNHCR","Rakhine","Minbya","Thay Kan",null,33,null,66,33,66,33,33,33,66,{"$f":"IF(NFI_Expiration=1,IF($A39<VLOOKUP(H$5,NFI,5,0),1,0)*Table_NFI[[#This Row],[Hygiene Kit]],0)","v":0},{"$f":"IF(NFI_Expiration=1,IF($A39<VLOOKUP(I$5,NFI,5,0),1,0)*Table_NFI[[#This Row],[NFI Core Kit]],0)","v":33},{"$f":"IF(NFI_Expiration=1,IF($A39<VLOOKUP(J$5,NFI,5,0),1,0)*Table_NFI[[#This Row],[Sanitary Kit]],0)","v":0},{"$f":"IF(NFI_Expiration=1,IF($A39<VLOOKUP(K$5,NFI,5,0),1,0)*Table_NFI[[#This Row],[Mosquito net]],0)","v":66},{"$f":"IF(NFI_Expiration=1,IF($A39<VLOOKUP(L$5,NFI,5,0),1,0)*Table_NFI[[#This Row],[Tarpaulin]],0)","v":33},{"$f":"IF(NFI_Expiration=1,IF($A39<VLOOKUP(M$5,NFI,5,0),1,0)*Table_NFI[[#This Row],[Blanket]],0)","v":66},{"$f":"IF(NFI_Expiration=1,IF($A39<VLOOKUP(N$5,NFI,5,0),1,0)*Table_NFI[[#This Row],[Kitchen Set]],0)","v":33},{"$f":"IF(NFI_Expiration=1,IF($A39<VLOOKUP(O$5,NFI,5,0),1,0)*Table_NFI[[#This Row],[Complementary Kit]],0)","v":33},{"$f":"IF(NFI_Expiration=1,IF($A39<VLOOKUP(P$5,NFI,5,0),1,0)*Table_NFI[[#This Row],[Plastic Bucket]],0)","v":33},{"$f":"IF(NFI_Expiration=1,IF($A39<VLOOKUP(Q$5,NFI,5,0),1,0)*Table_NFI[[#This Row],[Plastic Mat]],0)","v":66},{"$f":"VLOOKUP(Table_NFI[[#This Row],[Camp Name]],Camp_List!N$5:AA$254,2,0)","v":"MMR012CMP007"},{"$f":"VLOOKUP(Table_NFI[[#This Row],[Camp Name]],Camp_List!N$5:AA$254,14,0)","v":"Close"},{"$f":"VLOOKUP(Table_NFI[[#This Row],[Camp Name]],Camp_List!N$5:AC$254,1,1)","v":"Thay Kan"}]
[{"$f":"IF(ISBLANK(B40),\"\",(Report_Date-B40)/30)","v":9.4666666666666668},"2012-11-21","UNHCR",null,"Rakhine","Minbya","Sam Ba Le",null,null,null,null,2,null,null,null,null,null,{"$f":"IF(NFI_Expiration=1,IF($A40<VLOOKUP(H$5,NFI,5,0),1,0)*Table_NFI[[#This Row],[Hygiene Kit]],0)","v":0},{"$f":"IF(NFI_Expiration=1,IF($A40<VLOOKUP(I$5,NFI,5,0),1,0)*Table_NFI[[#This Row],[NFI Core Kit]],0)","v":0},{"$f":"IF(NFI_Expiration=1,IF($A40<VLOOKUP(J$5,NFI,5,0),1,0)*Table_NFI[[#This Row],[Sanitary Kit]],0)","v":0},{"$f":"IF(NFI_Expiration=1,IF($A40<VLOOKUP(K$5,NFI,5,0),1,0)*Table_NFI[[#This Row],[Mosquito net]],0)","v":0},{"$f":"IF(NFI_Expiration=1,IF($A40<VLOOKUP(L$5,NFI,5,0),1,0)*Table_NFI[[#This Row],[Tarpaulin]],0)","v":2},{"$f":"IF(NFI_Expiration=1,IF($A40<VLOOKUP(M$5,NFI,5,0),1,0)*Table_NFI[[#This Row],[Blanket]],0)","v":0},{"$f":"IF(NFI_Expiration=1,IF($A40<VLOOKUP(N$5,NFI,5,0),1,0)*Table_NFI[[#This Row],[Kitchen Set]],0)","v":0},{"$f":"IF(NFI_Expiration=1,IF($A40<VLOOKUP(O$5,NFI,5,0),1,0)*Table_NFI[[#This Row],[Complementary Kit]],0)","v":0},{"$f":"IF(NFI_Expiration=1,IF($A40<VLOOKUP(P$5,NFI,5,0),1,0)*Table_NFI[[#This Row],[Plastic Bucket]],0)","v":0},{"$f":"IF(NFI_Expiration=1,IF($A40<VLOOKUP(Q$5,NFI,5,0),1,0)*Table_NFI[[#This Row],[Plastic Mat]],0)","v":0},{"$f":"VLOOKUP(Table_NFI[[#This Row],[Camp Name]],Camp_List!N$5:AA$254,2,0)","v":"MMR012CMP008"},{"$f":"VLOOKUP(Table_NFI[[#This Row],[Camp Name]],Camp_List!N$5:AA$254,14,0)","v":"Open"},{"$f":"VLOOKUP(Table_NFI[[#This Row],[Camp Name]],Camp_List!N$5:AC$254,1,1)","v":"Sam Ba Le"}]
[8.6666666666666661,"2012-12-15","UNHCR",null,"Rakhine","Minbya","Sam Ba Le",null,null,null,null,null,109,null,null,null,null,{"$f":"IF(NFI_Expiration=1,IF($A41<VLOOKUP(H$5,NFI,5,0),1,0)*Table_NFI[[#This Row],[Hygiene Kit]],0)","v":0},{"$f":"IF(NFI_Expiration=1,IF($A41<VLOOKUP(I$5,NFI,5,0),1,0)*Table_NFI[[#This Row],[NFI Core Kit]],0)","v":0},{"$f":"IF(NFI_Expiration=1,IF($A41<VLOOKUP(J$5,NFI,5,0),1,0)*Table_NFI[[#This Row],[Sanitary Kit]],0)","v":0},{"$f":"IF(NFI_Expiration=1,IF($A41<VLOOKUP(K$5,NFI,5,0),1,0)*Table_NFI[[#This Row],[Mosquito net]],0)","v":0},{"$f":"IF(NFI_Expiration=1,IF($A41<VLOOKUP(L$5,NFI,5,0),1,0)*Table_NFI[[#This Row],[Tarpaulin]],0)","v":0},{"$f":"IF(NFI_Expiration=1,IF($A41<VLOOKUP(M$5,NFI,5,0),1,0)*Table_NFI[[#This Row],[Blanket]],0)","v":109},{"$f":"IF(NFI_Expiration=1,IF($A41<VLOOKUP(N$5,NFI,5,0),1,0)*Table_NFI[[#This Row],[Kitchen Set]],0)","v":0},{"$f":"IF(NFI_Expiration=1,IF($A41<VLOOKUP(O$5,NFI,5,0),1,0)*Table_NFI[[#This Row],[Complementary Kit]],0)","v":0},{"$f":"IF(NFI_Expiration=1,IF($A41<VLOOKUP(P$5,NFI,5,0),1,0)*Table_NFI[[#This Row],[Plastic Bucket]],0)","v":0},{"$f":"IF(NFI_Expiration=1,IF($A41<VLOOKUP(Q$5,NFI,5,0),1,0)*Table_NFI[[#This Row],[Plastic Mat]],0)","v":0},{"$f":"VLOOKUP(Table_NFI[[#This Row],[Camp Name]],Camp_List!N$5:AA$254,2,0)","v":"MMR012CMP008"},{"$f":"VLOOKUP(Table_NFI[[#This Row],[Camp Name]],Camp_List!N$5:AA$254,14,0)","v":"Open"},{"$f":"VLOOKUP(Table_NFI[[#This Row],[Camp Name]],Camp_List!N$5:AC$254,1,1)","v":"Sam Ba Le"}]
[{"$f":"IF(ISBLANK(B42),\"\",(Report_Date-B42)/30)","v":6.6},"2013-02-15","UNICEF ",null,"Rakhine","Minbya","Sam Ba Le",230,null,null,null,null,null,null,null,null,null,{"$f":"IF(NFI_Expiration=1,IF($A42<VLOOKUP(H$5,NFI,5,0),1,0)*Table_NFI[[#This Row],[Hygiene Kit]],0)","v":230},{"$f":"IF(NFI_Expiration=1,IF($A42<VLOOKUP(I$5,NFI,5,0),1,0)*Table_NFI[[#This Row],[NFI Core Kit]],0)","v":0},{"$f":"IF(NFI_Expiration=1,IF($A42<VLOOKUP(J$5,NFI,5,0),1,0)*Table_NFI[[#This Row],[Sanitary Kit]],0)","v":0},{"$f":"IF(NFI_Expiration=1,IF($A42<VLOOKUP(K$5,NFI,5,0),1,0)*Table_NFI[[#This Row],[Mosquito net]],0)","v":0},{"$f":"IF(NFI_Expiration=1,IF($A42<VLOOKUP(L$5,NFI,5,0),1,0)*Table_NFI[[#This Row],[Tarpaulin]],0)","v":0},{"$f":"IF(NFI_Expiration=1,IF($A42<VLOOKUP(M$5,NFI,5,0),1,0)*Table_NFI[[#This Row],[Blanket]],0)","v":0},{"$f":"IF(NFI_Expiration=1,IF($A42<VLOOKUP(N$5,NFI,5,0),1,0)*Table_NFI[[#This Row],[Kitchen Set]],0)","v":0},{"$f":"IF(NFI_Expiration=1,IF($A42<VLOOKUP(O$5,NFI,5,0),1,0)*Table_NFI[[#This Row],[Complementary Kit]],0)","v":0},{"$f":"IF(NFI_Expiration=1,IF($A42<VLOOKUP(P$5,NFI,5,0),1,0)*Table_NFI[[#This Row],[Plastic Bucket]],0)","v":0},{"$f":"IF(NFI_Expiration=1,IF($A42<VLOOKUP(Q$5,NFI,5,0),1,0)*Table_NFI[[#This Row],[Plastic Mat]],0)","v":0},{"$f":"VLOOKUP(Table_NFI[[#This Row],[Camp Name]],Camp_List!N$5:AA$254,2,0)","v":"MMR012CMP008"},{"$f":"VLOOKUP(Table_NFI[[#This Row],[Camp Name]],Camp_List!N$5:AA$254,14,0)","v":"Open"},{"$f":"VLOOKUP(Table_NFI[[#This Row],[Camp Name]],Camp_List!N$5:AC$254,1,1)","v":"Sam Ba Le"}]
[1.8,"2013-07-09","UNHCR","UNHCR","Rakhine","Minbya","Sam Ba Le",null,null,null,null,null,null,null,null,null,null,{"$f":"IF(NFI_Expiration=1,IF($A43<VLOOKUP(H$5,NFI,5,0),1,0)*Table_NFI[[#This Row],[Hygiene Kit]],0)","v":0},{"$f":"IF(NFI_Expiration=1,IF($A43<VLOOKUP(I$5,NFI,5,0),1,0)*Table_NFI[[#This Row],[NFI Core Kit]],0)","v":0},{"$f":"IF(NFI_Expiration=1,IF($A43<VLOOKUP(J$5,NFI,5,0),1,0)*Table_NFI[[#This Row],[Sanitary Kit]],0)","v":0},{"$f":"IF(NFI_Expiration=1,IF($A43<VLOOKUP(K$5,NFI,5,0),1,0)*Table_NFI[[#This Row],[Mosquito net]],0)","v":0},{"$f":"IF(NFI_Expiration=1,IF($A43<VLOOKUP(L$5,NFI,5,0),1,0)*Table_NFI[[#This Row],[Tarpaulin]],0)","v":0},{"$f":"IF(NFI_Expiration=1,IF($A43<VLOOKUP(M$5,NFI,5,0),1,0)*Table_NFI[[#This Row],[Blanket]],0)","v":0},{"$f":"IF(NFI_Expiration=1,IF($A43<VLOOKUP(N$5,NFI,5,0),1,0)*Table_NFI[[#This Row],[Kitchen Set]],0)","v":0},{"$f":"IF(NFI_Expiration=1,IF($A43<VLOOKUP(O$5,NFI,5,0),1,0)*Table_NFI[[#This Row],[Complementary Kit]],0)","v":0},{"$f":"IF(NFI_Expiration=1,IF($A43<VLOOKUP(P$5,NFI,5,0),1,0)*Table_NFI[[#This Row],[Plastic Bucket]],0)","v":0},{"$f":"IF(NFI_Expiration=1,IF($A43<VLOOKUP(Q$5,NFI,5,0),1,0)*Table_NFI[[#This Row],[Plastic Mat]],0)","v":0},{"$f":"VLOOKUP(Table_NFI[[#This Row],[Camp Name]],Camp_List!N$5:AA$254,2,0)","v":"MMR012CMP008"},{"$f":"VLOOKUP(Table_NFI[[#This Row],[Camp Name]],Camp_List!N$5:AA$254,14,0)","v":"Open"},{"$f":"VLOOKUP(Table_NFI[[#This Row],[Camp Name]],Camp_List!N$5:AC$254,1,1)","v":"Sam Ba Le"}]
[1.8,"2013-07-09","UNHCR","UNHCR","Rakhine","Minbya","Sam Ba Le",null,245,null,490,245,490,245,245,245,490,{"$f":"IF(NFI_Expiration=1,IF($A44<VLOOKUP(H$5,NFI,5,0),1,0)*Table_NFI[[#This Row],[Hygiene Kit]],0)","v":0},{"$f":"IF(NFI_Expiration=1,IF($A44<VLOOKUP(I$5,NFI,5,0),1,0)*Table_NFI[[#This Row],[NFI Core Kit]],0)","v":245},{"$f":"IF(NFI_Expiration=1,IF($A44<VLOOKUP(J$5,NFI,5,0),1,0)*Table_NFI[[#This Row],[Sanitary Kit]],0)","v":0},{"$f":"IF(NFI_Expiration=1,IF($A44<VLOOKUP(K$5,NFI,5,0),1,0)*Table_NFI[[#This Row],[Mosquito net]],0)","v":490},{"$f":"IF(NFI_Expiration=1,IF($A44<VLOOKUP(L$5,NFI,5,0),1,0)*Table_NFI[[#This Row],[Tarpaulin]],0)","v":245},{"$f":"IF(NFI_Expiration=1,IF($A44<VLOOKUP(M$5,NFI,5,0),1,0)*Table_NFI[[#This Row],[Blanket]],0)","v":490},{"$f":"IF(NFI_Expiration=1,IF($A44<VLOOKUP(N$5,NFI,5,0),1,0)*Table_NFI[[#This Row],[Kitchen Set]],0)","v":245},{"$f":"IF(NFI_Expiration=1,IF($A44<VLOOKUP(O$5,NFI,5,0),1,0)*Table_NFI[[#This Row],[Complementary Kit]],0)","v":245},{"$f":"IF(NFI_Expiration=1,IF($A44<VLOOKUP(P$5,NFI,5,0),1,0)*Table_NFI[[#This Row],[Plastic Bucket]],0)","v":245},{"$f":"IF(NFI_Expiration=1,IF($A44<VLOOKUP(Q$5,NFI,5,0),1,0)*Table_NFI[[#This Row],[Plastic Mat]],0)","v":490},{"$f":"VLOOKUP(Table_NFI[[#This Row],[Camp Name]],Camp_List!N$5:AA$254,2,0)","v":"MMR012CMP008"},{"$f":"VLOOKUP(Table_NFI[[#This Row],[Camp Name]],Camp_List!N$5:AA$254,14,0)","v":"Open"},{"$f":"VLOOKUP(Table_NFI[[#This Row],[Camp Name]],Camp_List!N$5:AC$254,1,1)","v":"Sam Ba Le"}]
[10.166666666666666,"2012-10-31","UNHCR",null,"Rakhine","Mrauk_U","Pa Rein",null,null,null,null,100,null,null,null,null,null,{"$f":"IF(NFI_Expiration=1,IF($A45<VLOOKUP(H$5,NFI,5,0),1,0)*Table_NFI[[#This Row],[Hygiene Kit]],0)","v":0},{"$f":"IF(NFI_Expiration=1,IF($A45<VLOOKUP(I$5,NFI,5,0),1,0)*Table_NFI[[#This Row],[NFI Core Kit]],0)","v":0},{"$f":"IF(NFI_Expiration=1,IF($A45<VLOOKUP(J$5,NFI,5,0),1,0)*Table_NFI[[#This Row],[Sanitary Kit]],0)","v":0},{"$f":"IF(NFI_Expiration=1,IF($A45<VLOOKUP(K$5,NFI,5,0),1,0)*Table_NFI[[#This Row],[Mosquito net]],0)","v":0},{"$f":"IF(NFI_Expiration=1,IF($A45<VLOOKUP(L$5,NFI,5,0),1,0)*Table_NFI[[#This Row],[Tarpaulin]],0)","v":100},{"$f":"IF(NFI_Expiration=1,IF($A45<VLOOKUP(M$5,NFI,5,0),1,0)*Table_NFI[[#This Row],[Blanket]],0)","v":0},{"$f":"IF(NFI_Expiration=1,IF($A45<VLOOKUP(N$5,NFI,5,0),1,0)*Table_NFI[[#This Row],[Kitchen Set]],0)","v":0},{"$f":"IF(NFI_Expiration=1,IF($A45<VLOOKUP(O$5,NFI,5,0),1,0)*Table_NFI[[#This Row],[Complementary Kit]],0)","v":0},{"$f":"IF(NFI_Expiration=1,IF($A45<VLOOKUP(P$5,NFI,5,0),1,0)*Table_NFI[[#This Row],[Plastic Bucket]],0)","v":0},{"$f":"IF(NFI_Expiration=1,IF($A45<VLOOKUP(Q$5,NFI,5,0),1,0)*Table_NFI[[#This Row],[Plastic Mat]],0)","v":0},{"$f":"VLOOKUP(Table_NFI[[#This Row],[Camp Name]],Camp_List!N$5:AA$254,2,0)","v":"MMR012CMP009"},{"$f":"VLOOKUP(Table_NFI[[#This Row],[Camp Name]],Camp_List!N$5:AA$254,14,0)","v":"Open"},{"$f":"VLOOKUP(Table_NFI[[#This Row],[Camp Name]],Camp_List!N$5:AC$254,1,1)","v":"Pa Rein"}]
[9.4666666666666668,"2012-11-21","UNHCR",null,"Rakhine","Mrauk_U","Pa Rein",null,null,null,null,140,null,null,null,null,null,{"$f":"IF(NFI_Expiration=1,IF($A46<VLOOKUP(H$5,NFI,5,0),1,0)*Table_NFI[[#This Row],[Hygiene Kit]],0)","v":0},{"$f":"IF(NFI_Expiration=1,IF($A46<VLOOKUP(I$5,NFI,5,0),1,0)*Table_NFI[[#This Row],[NFI Core Kit]],0)","v":0},{"$f":"IF(NFI_Expiration=1,IF($A46<VLOOKUP(J$5,NFI,5,0),1,0)*Table_NFI[[#This Row],[Sanitary Kit]],0)","v":0},{"$f":"IF(NFI_Expiration=1,IF($A46<VLOOKUP(K$5,NFI,5,0),1,0)*Table_NFI[[#This Row],[Mosquito net]],0)","v":0},{"$f":"IF(NFI_Expiration=1,IF($A46<VLOOKUP(L$5,NFI,5,0),1,0)*Table_NFI[[#This Row],[Tarpaulin]],0)","v":140},{"$f":"IF(NFI_Expiration=1,IF($A46<VLOOKUP(M$5,NFI,5,0),1,0)*Table_NFI[[#This Row],[Blanket]],0)","v":0},{"$f":"IF(NFI_Expiration=1,IF($A46<VLOOKUP(N$5,NFI,5,0),1,0)*Table_NFI[[#This Row],[Kitchen Set]],0)","v":0},{"$f":"IF(NFI_Expiration=1,IF($A46<VLOOKUP(O$5,NFI,5,0),1,0)*Table_NFI[[#This Row],[Complementary Kit]],0)","v":0},{"$f":"IF(NFI_Expiration=1,IF($A46<VLOOKUP(P$5,NFI,5,0),1,0)*Table_NFI[[#This Row],[Plastic Bucket]],0)","v":0},{"$f":"IF(NFI_Expiration=1,IF($A46<VLOOKUP(Q$5,NFI,5,0),1,0)*Table_NFI[[#This Row],[Plastic Mat]],0)","v":0},{"$f":"VLOOKUP(Table_NFI[[#This Row],[Camp Name]],Camp_List!N$5:AA$254,2,0)","v":"MMR012CMP009"},{"$f":"VLOOKUP(Table_NFI[[#This Row],[Camp Name]],Camp_List!N$5:AA$254,14,0)","v":"Open"},{"$f":"VLOOKUP(Table_NFI[[#This Row],[Camp Name]],Camp_List!N$5:AC$254,1,1)","v":"Pa Rein"}]
[8.6666666666666661,"2012-12-15","UNHCR",null,"Rakhine","Mrauk_U","Pa Rein",null,null,null,null,null,240,null,null,null,null,{"$f":"IF(NFI_Expiration=1,IF($A47<VLOOKUP(H$5,NFI,5,0),1,0)*Table_NFI[[#This Row],[Hygiene Kit]],0)","v":0},{"$f":"IF(NFI_Expiration=1,IF($A47<VLOOKUP(I$5,NFI,5,0),1,0)*Table_NFI[[#This Row],[NFI Core Kit]],0)","v":0},{"$f":"IF(NFI_Expiration=1,IF($A47<VLOOKUP(J$5,NFI,5,0),1,0)*Table_NFI[[#This Row],[Sanitary Kit]],0)","v":0},{"$f":"IF(NFI_Expiration=1,IF($A47<VLOOKUP(K$5,NFI,5,0),1,0)*Table_NFI[[#This Row],[Mosquito net]],0)","v":0},{"$f":"IF(NFI_Expiration=1,IF($A47<VLOOKUP(L$5,NFI,5,0),1,0)*Table_NFI[[#This Row],[Tarpaulin]],0)","v":0},{"$f":"IF(NFI_Expiration=1,IF($A47<VLOOKUP(M$5,NFI,5,0),1,0)*Table_NFI[[#This Row],[Blanket]],0)","v":240},{"$f":"IF(NFI_Expiration=1,IF($A47<VLOOKUP(N$5,NFI,5,0),1,0)*Table_NFI[[#This Row],[Kitchen Set]],0)","v":0},{"$f":"IF(NFI_Expiration=1,IF($A47<VLOOKUP(O$5,NFI,5,0),1,0)*Table_NFI[[#This Row],[Complementary Kit]],0)","v":0},{"$f":"IF(NFI_Expiration=1,IF($A47<VLOOKUP(P$5,NFI,5,0),1,0)*Table_NFI[[#This Row],[Plastic Bucket]],0)","v":0},{"$f":"IF(NFI_Expiration=1,IF($A47<VLOOKUP(Q$5,NFI,5,0),1,0)*Table_NFI[[#This Row],[Plastic Mat]],0)","v":0},{"$f":"VLOOKUP(Table_NFI[[#This Row],[Camp Name]],Camp_List!N$5:AA$254,2,0)","v":"MMR012CMP009"},{"$f":"VLOOKUP(Table_NFI[[#This Row],[Camp Name]],Camp_List!N$5:AA$254,14,0)","v":"Open"},{"$f":"VLOOKUP(Table_NFI[[#This Row],[Camp Name]],Camp_List!N$5:AC$254,1,1)","v":"Pa Rein"}]
[6.6,"2013-02-15","UNICEF ",null,"Rakhine","Mrauk_U","Pa Rein",245,null,null,null,null,null,null,null,null,null,{"$f":"IF(NFI_Expiration=1,IF($A48<VLOOKUP(H$5,NFI,5,0),1,0)*Table_NFI[[#This Row],[Hygiene Kit]],0)","v":245},{"$f":"IF(NFI_Expiration=1,IF($A48<VLOOKUP(I$5,NFI,5,0),1,0)*Table_NFI[[#This Row],[NFI Core Kit]],0)","v":0},{"$f":"IF(NFI_Expiration=1,IF($A48<VLOOKUP(J$5,NFI,5,0),1,0)*Table_NFI[[#This Row],[Sanitary Kit]],0)","v":0},{"$f":"IF(NFI_Expiration=1,IF($A48<VLOOKUP(K$5,NFI,5,0),1,0)*Table_NFI[[#This Row],[Mosquito net]],0)","v":0},{"$f":"IF(NFI_Expiration=1,IF($A48<VLOOKUP(L$5,NFI,5,0),1,0)*Table_NFI[[#This Row],[Tarpaulin]],0)","v":0},{"$f":"IF(NFI_Expiration=1,IF($A48<VLOOKUP(M$5,NFI,5,0),1,0)*Table_NFI[[#This Row],[Blanket]],0)","v":0},{"$f":"IF(NFI_Expiration=1,IF($A48<VLOOKUP(N$5,NFI,5,0),1,0)*Table_NFI[[#This Row],[Kitchen Set]],0)","v":0},{"$f":"IF(NFI_Expiration=1,IF($A48<VLOOKUP(O$5,NFI,5,0),1,0)*Table_NFI[[#This Row],[Complementary Kit]],0)","v":0},{"$f":"IF(NFI_Expiration=1,IF($A48<VLOOKUP(P$5,NFI,5,0),1,0)*Table_NFI[[#This Row],[Plastic Bucket]],0)","v":0},{"$f":"IF(NFI_Expiration=1,IF($A48<VLOOKUP(Q$5,NFI,5,0),1,0)*Table_NFI[[#This Row],[Plastic Mat]],0)","v":0},{"$f":"VLOOKUP(Table_NFI[[#This Row],[Camp Name]],Camp_List!N$5:AA$254,2,0)","v":"MMR012CMP009"},{"$f":"VLOOKUP(Table_NFI[[#This Row],[Camp Name]],Camp_List!N$5:AA$254,14,0)","v":"Open"},{"$f":"VLOOKUP(Table_NFI[[#This Row],[Camp Name]],Camp_List!N$5:AC$254,1,1)","v":"Pa Rein"}]
[1.9,"2013-07-06","UNHCR","UNHCR","Rakhine","Mrauk_U","Pa Rein",null,null,null,null,null,null,null,null,null,null,{"$f":"IF(NFI_Expiration=1,IF($A49<VLOOKUP(H$5,NFI,5,0),1,0)*Table_NFI[[#This Row],[Hygiene Kit]],0)","v":0},{"$f":"IF(NFI_Expiration=1,IF($A49<VLOOKUP(I$5,NFI,5,0),1,0)*Table_NFI[[#This Row],[NFI Core Kit]],0)","v":0},{"$f":"IF(NFI_Expiration=1,IF($A49<VLOOKUP(J$5,NFI,5,0),1,0)*Table_NFI[[#This Row],[Sanitary Kit]],0)","v":0},{"$f":"IF(NFI_Expiration=1,IF($A49<VLOOKUP(K$5,NFI,5,0),1,0)*Table_NFI[[#This Row],[Mosquito net]],0)","v":0},{"$f":"IF(NFI_Expiration=1,IF($A49<VLOOKUP(L$5,NFI,5,0),1,0)*Table_NFI[[#This Row],[Tarpaulin]],0)","v":0},{"$f":"IF(NFI_Expiration=1,IF($A49<VLOOKUP(M$5,NFI,5,0),1,0)*Table_NFI[[#This Row],[Blanket]],0)","v":0},{"$f":"IF(NFI_Expiration=1,IF($A49<VLOOKUP(N$5,NFI,5,0),1,0)*Table_NFI[[#This Row],[Kitchen Set]],0)","v":0},{"$f":"IF(NFI_Expiration=1,IF($A49<VLOOKUP(O$5,NFI,5,0),1,0)*Table_NFI[[#This Row],[Complementary Kit]],0)","v":0},{"$f":"IF(NFI_Expiration=1,IF($A49<VLOOKUP(P$5,NFI,5,0),1,0)*Table_NFI[[#This Row],[Plastic Bucket]],0)","v":0},{"$f":"IF(NFI_Expiration=1,IF($A49<VLOOKUP(Q$5,NFI,5,0),1,0)*Table_NFI[[#This Row],[Plastic Mat]],0)","v":0},{"$f":"VLOOKUP(Table_NFI[[#This Row],[Camp Name]],Camp_List!N$5:AA$254,2,0)","v":"MMR012CMP009"},{"$f":"VLOOKUP(Table_NFI[[#This Row],[Camp Name]],Camp_List!N$5:AA$254,14,0)","v":"Open"},{"$f":"VLOOKUP(Table_NFI[[#This Row],[Camp Name]],Camp_List!N$5:AC$254,1,1)","v":"Pa Rein"}]
[1.9,"2013-07-06","UNHCR","UNHCR","Rakhine","Mrauk_U","Pa Rein",null,300,null,600,300,600,300,300,300,600,{"$f":"IF(NFI_Expiration=1,IF($A50<VLOOKUP(H$5,NFI,5,0),1,0)*Table_NFI[[#This Row],[Hygiene Kit]],0)","v":0},{"$f":"IF(NFI_Expiration=1,IF($A50<VLOOKUP(I$5,NFI,5,0),1,0)*Table_NFI[[#This Row],[NFI Core Kit]],0)","v":300},{"$f":"IF(NFI_Expiration=1,IF($A50<VLOOKUP(J$5,NFI,5,0),1,0)*Table_NFI[[#This Row],[Sanitary Kit]],0)","v":0},{"$f":"IF(NFI_Expiration=1,IF($A50<VLOOKUP(K$5,NFI,5,0),1,0)*Table_NFI[[#This Row],[Mosquito net]],0)","v":600},{"$f":"IF(NFI_Expiration=1,IF($A50<VLOOKUP(L$5,NFI,5,0),1,0)*Table_NFI[[#This Row],[Tarpaulin]],0)","v":300},{"$f":"IF(NFI_Expiration=1,IF($A50<VLOOKUP(M$5,NFI,5,0),1,0)*Table_NFI[[#This Row],[Blanket]],0)","v":600},{"$f":"IF(NFI_Expiration=1,IF($A50<VLOOKUP(N$5,NFI,5,0),1,0)*Table_NFI[[#This Row],[Kitchen Set]],0)","v":300},{"$f":"IF(NFI_Expiration=1,IF($A50<VLOOKUP(O$5,NFI,5,0),1,0)*Table_NFI[[#This Row],[Complementary Kit]],0)","v":300},{"$f":"IF(NFI_Expiration=1,IF($A50<VLOOKUP(P$5,NFI,5,0),1,0)*Table_NFI[[#This Row],[Plastic Bucket]],0)","v":300},{"$f":"IF(NFI_Expiration=1,IF($A50<VLOOKUP(Q$5,NFI,5,0),1,0)*Table_NFI[[#This Row],[Plastic Mat]],0)","v":600},{"$f":"VLOOKUP(Table_NFI[[#This Row],[Camp Name]],Camp_List!N$5:AA$254,2,0)","v":"MMR012CMP009"},{"$f":"VLOOKUP(Table_NFI[[#This Row],[Camp Name]],Camp_List!N$5:AA$254,14,0)","v":"Open"},{"$f":"VLOOKUP(Table_NFI[[#This Row],[Camp Name]],Camp_List!N$5:AC$254,1,1)","v":"Pa Rein"}]
[9.4666666666666668,"2012-11-21","UNHCR",null,"Rakhine","Mrauk_U","Yai Thei-Muslim",null,null,null,null,83,null,null,null,null,null,{"$f":"IF(NFI_Expiration=1,IF($A51<VLOOKUP(H$5,NFI,5,0),1,0)*Table_NFI[[#This Row],[Hygiene Kit]],0)","v":0},{"$f":"IF(NFI_Expiration=1,IF($A51<VLOOKUP(I$5,NFI,5,0),1,0)*Table_NFI[[#This Row],[NFI Core Kit]],0)","v":0},{"$f":"IF(NFI_Expiration=1,IF($A51<VLOOKUP(J$5,NFI,5,0),1,0)*Table_NFI[[#This Row],[Sanitary Kit]],0)","v":0},{"$f":"IF(NFI_Expiration=1,IF($A51<VLOOKUP(K$5,NFI,5,0),1,0)*Table_NFI[[#This Row],[Mosquito net]],0)","v":0},{"$f":"IF(NFI_Expiration=1,IF($A51<VLOOKUP(L$5,NFI,5,0),1,0)*Table_NFI[[#This Row],[Tarpaulin]],0)","v":83},{"$f":"IF(NFI_Expiration=1,IF($A51<VLOOKUP(M$5,NFI,5,0),1,0)*Table_NFI[[#This Row],[Blanket]],0)","v":0},{"$f":"IF(NFI_Expiration=1,IF($A51<VLOOKUP(N$5,NFI,5,0),1,0)*Table_NFI[[#This Row],[Kitchen Set]],0)","v":0},{"$f":"IF(NFI_Expiration=1,IF($A51<VLOOKUP(O$5,NFI,5,0),1,0)*Table_NFI[[#This Row],[Complementary Kit]],0)","v":0},{"$f":"IF(NFI_Expiration=1,IF($A51<VLOOKUP(P$5,NFI,5,0),1,0)*Table_NFI[[#This Row],[Plastic Bucket]],0)","v":0},{"$f":"IF(NFI_Expiration=1,IF($A51<VLOOKUP(Q$5,NFI,5,0),1,0)*Table_NFI[[#This Row],[Plastic Mat]],0)","v":0},{"$f":"VLOOKUP(Table_NFI[[#This Row],[Camp Name]],Camp_List!N$5:AA$254,2,0)","v":"MMR012CMP010"},{"$f":"VLOOKUP(Table_NFI[[#This Row],[Camp Name]],Camp_List!N$5:AA$254,14,0)","v":"Open"},{"$f":"VLOOKUP(Table_NFI[[#This Row],[Camp Name]],Camp_List!N$5:AC$254,1,1)","v":"Yai Thei-Muslim"}]
[8.6666666666666661,"2012-12-15","UNHCR",null,"Rakhine","Mrauk_U","Yai Thei-Muslim",null,null,null,null,null,260,null,null,null,null,{"$f":"IF(NFI_Expiration=1,IF($A52<VLOOKUP(H$5,NFI,5,0),1,0)*Table_NFI[[#This Row],[Hygiene Kit]],0)","v":0},{"$f":"IF(NFI_Expiration=1,IF($A52<VLOOKUP(I$5,NFI,5,0),1,0)*Table_NFI[[#This Row],[NFI Core Kit]],0)","v":0},{"$f":"IF(NFI_Expiration=1,IF($A52<VLOOKUP(J$5,NFI,5,0),1,0)*Table_NFI[[#This Row],[Sanitary Kit]],0)","v":0},{"$f":"IF(NFI_Expiration=1,IF($A52<VLOOKUP(K$5,NFI,5,0),1,0)*Table_NFI[[#This Row],[Mosquito net]],0)","v":0},{"$f":"IF(NFI_Expiration=1,IF($A52<VLOOKUP(L$5,NFI,5,0),1,0)*Table_NFI[[#This Row],[Tarpaulin]],0)","v":0},{"$f":"IF(NFI_Expiration=1,IF($A52<VLOOKUP(M$5,NFI,5,0),1,0)*Table_NFI[[#This Row],[Blanket]],0)","v":260},{"$f":"IF(NFI_Expiration=1,IF($A52<VLOOKUP(N$5,NFI,5,0),1,0)*Table_NFI[[#This Row],[Kitchen Set]],0)","v":0},{"$f":"IF(NFI_Expiration=1,IF($A52<VLOOKUP(O$5,NFI,5,0),1,0)*Table_NFI[[#This Row],[Complementary Kit]],0)","v":0},{"$f":"IF(NFI_Expiration=1,IF($A52<VLOOKUP(P$5,NFI,5,0),1,0)*Table_NFI[[#This Row],[Plastic Bucket]],0)","v":0},{"$f":"IF(NFI_Expiration=1,IF($A52<VLOOKUP(Q$5,NFI,5,0),1,0)*Table_NFI[[#This Row],[Plastic Mat]],0)","v":0},{"$f":"VLOOKUP(Table_NFI[[#This Row],[Camp Name]],Camp_List!N$5:AA$254,2,0)","v":"MMR012CMP010"},{"$f":"VLOOKUP(Table_NFI[[#This Row],[Camp Name]],Camp_List!N$5:AA$254,14,0)","v":"Open"},{"$f":"VLOOKUP(Table_NFI[[#This Row],[Camp Name]],Camp_List!N$5:AC$254,1,1)","v":"Yai Thei-Muslim"}]
[6.6,"2013-02-15","UNICEF ",null,"Rakhine","Mrauk_U","Yai Thei-Muslim",360,null,null,null,null,null,null,null,null,null,{"$f":"IF(NFI_Expiration=1,IF($A53<VLOOKUP(H$5,NFI,5,0),1,0)*Table_NFI[[#This Row],[Hygiene Kit]],0)","v":360},{"$f":"IF(NFI_Expiration=1,IF($A53<VLOOKUP(I$5,NFI,5,0),1,0)*Table_NFI[[#This Row],[NFI Core Kit]],0)","v":0},{"$f":"IF(NFI_Expiration=1,IF($A53<VLOOKUP(J$5,NFI,5,0),1,0)*Table_NFI[[#This Row],[Sanitary Kit]],0)","v":0},{"$f":"IF(NFI_Expiration=1,IF($A53<VLOOKUP(K$5,NFI,5,0),1,0)*Table_NFI[[#This Row],[Mosquito net]],0)","v":0},{"$f":"IF(NFI_Expiration=1,IF($A53<VLOOKUP(L$5,NFI,5,0),1,0)*Table_NFI[[#This Row],[Tarpaulin]],0)","v":0},{"$f":"IF(NFI_Expiration=1,IF($A53<VLOOKUP(M$5,NFI,5,0),1,0)*Table_NFI[[#This Row],[Blanket]],0)","v":0},{"$f":"IF(NFI_Expiration=1,IF($A53<VLOOKUP(N$5,NFI,5,0),1,0)*Table_NFI[[#This Row],[Kitchen Set]],0)","v":0},{"$f":"IF(NFI_Expiration=1,IF($A53<VLOOKUP(O$5,NFI,5,0),1,0)*Table_NFI[[#This Row],[Complementary Kit]],0)","v":0},{"$f":"IF(NFI_Expiration=1,IF($A53<VLOOKUP(P$5,NFI,5,0),1,0)*Table_NFI[[#This Row],[Plastic Bucket]],0)","v":0},{"$f":"IF(NFI_Expiration=1,IF($A53<VLOOKUP(Q$5,NFI,5,0),1,0)*Table_NFI[[#This Row],[Plastic Mat]],0)","v":0},{"$f":"VLOOKUP(Table_NFI[[#This Row],[Camp Name]],Camp_List!N$5:AA$254,2,0)","v":"MMR012CMP010"},{"$f":"VLOOKUP(Table_NFI[[#This Row],[Camp Name]],Camp_List!N$5:AA$254,14,0)","v":"Open"},{"$f":"VLOOKUP(Table_NFI[[#This Row],[Camp Name]],Camp_List!N$5:AC$254,1,1)","v":"Yai Thei-Muslim"}]
[1.9,"2013-07-06","UNHCR","UNHCR","Rakhine","Mrauk_U","Yai Thei-Muslim",null,null,null,null,null,null,null,null,null,null,{"$f":"IF(NFI_Expiration=1,IF($A54<VLOOKUP(H$5,NFI,5,0),1,0)*Table_NFI[[#This Row],[Hygiene Kit]],0)","v":0},{"$f":"IF(NFI_Expiration=1,IF($A54<VLOOKUP(I$5,NFI,5,0),1,0)*Table_NFI[[#This Row],[NFI Core Kit]],0)","v":0},{"$f":"IF(NFI_Expiration=1,IF($A54<VLOOKUP(J$5,NFI,5,0),1,0)*Table_NFI[[#This Row],[Sanitary Kit]],0)","v":0},{"$f":"IF(NFI_Expiration=1,IF($A54<VLOOKUP(K$5,NFI,5,0),1,0)*Table_NFI[[#This Row],[Mosquito net]],0)","v":0},{"$f":"IF(NFI_Expiration=1,IF($A54<VLOOKUP(L$5,NFI,5,0),1,0)*Table_NFI[[#This Row],[Tarpaulin]],0)","v":0},{"$f":"IF(NFI_Expiration=1,IF($A54<VLOOKUP(M$5,NFI,5,0),1,0)*Table_NFI[[#This Row],[Blanket]],0)","v":0},{"$f":"IF(NFI_Expiration=1,IF($A54<VLOOKUP(N$5,NFI,5,0),1,0)*Table_NFI[[#This Row],[Kitchen Set]],0)","v":0},{"$f":"IF(NFI_Expiration=1,IF($A54<VLOOKUP(O$5,NFI,5,0),1,0)*Table_NFI[[#This Row],[Complementary Kit]],0)","v":0},{"$f":"IF(NFI_Expiration=1,IF($A54<VLOOKUP(P$5,NFI,5,0),1,0)*Table_NFI[[#This Row],[Plastic Bucket]],0)","v":0},{"$f":"IF(NFI_Expiration=1,IF($A54<VLOOKUP(Q$5,NFI,5,0),1,0)*Table_NFI[[#This Row],[Plastic Mat]],0)","v":0},{"$f":"VLOOKUP(Table_NFI[[#This Row],[Camp Name]],Camp_List!N$5:AA$254,2,0)","v":"MMR012CMP010"},{"$f":"VLOOKUP(Table_NFI[[#This Row],[Camp Name]],Camp_List!N$5:AA$254,14,0)","v":"Open"},{"$f":"VLOOKUP(Table_NFI[[#This Row],[Camp Name]],Camp_List!N$5:AC$254,1,1)","v":"Yai Thei-Muslim"}]
[{"$f":"IF(ISBLANK(B55),\"\",(Report_Date-B55)/30)","v":1.9},"2013-07-06","UNHCR","UNHCR","Rakhine","Mrauk_U","Yai Thei-Muslim",null,365,null,730,365,730,365,365,365,730,{"$f":"IF(NFI_Expiration=1,IF($A55<VLOOKUP(H$5,NFI,5,0),1,0)*Table_NFI[[#This Row],[Hygiene Kit]],0)","v":0},{"$f":"IF(NFI_Expiration=1,IF($A55<VLOOKUP(I$5,NFI,5,0),1,0)*Table_NFI[[#This Row],[NFI Core Kit]],0)","v":365},{"$f":"IF(NFI_Expiration=1,IF($A55<VLOOKUP(J$5,NFI,5,0),1,0)*Table_NFI[[#This Row],[Sanitary Kit]],0)","v":0},{"$f":"IF(NFI_Expiration=1,IF($A55<VLOOKUP(K$5,NFI,5,0),1,0)*Table_NFI[[#This Row],[Mosquito net]],0)","v":730},{"$f":"IF(NFI_Expiration=1,IF($A55<VLOOKUP(L$5,NFI,5,0),1,0)*Table_NFI[[#This Row],[Tarpaulin]],0)","v":365},{"$f":"IF(NFI_Expiration=1,IF($A55<VLOOKUP(M$5,NFI,5,0),1,0)*Table_NFI[[#This Row],[Blanket]],0)","v":730},{"$f":"IF(NFI_Expiration=1,IF($A55<VLOOKUP(N$5,NFI,5,0),1,0)*Table_NFI[[#This Row],[Kitchen Set]],0)","v":365},{"$f":"IF(NFI_Expiration=1,IF($A55<VLOOKUP(O$5,NFI,5,0),1,0)*Table_NFI[[#This Row],[Complementary Kit]],0)","v":365},{"$f":"IF(NFI_Expiration=1,IF($A55<VLOOKUP(P$5,NFI,5,0),1,0)*Table_NFI[[#This Row],[Plastic Bucket]],0)","v":365},{"$f":"IF(NFI_Expiration=1,IF($A55<VLOOKUP(Q$5,NFI,5,0),1,0)*Table_NFI[[#This Row],[Plastic Mat]],0)","v":730},{"$f":"VLOOKUP(Table_NFI[[#This Row],[Camp Name]],Camp_List!N$5:AA$254,2,0)","v":"MMR012CMP010"},{"$f":"VLOOKUP(Table_NFI[[#This Row],[Camp Name]],Camp_List!N$5:AA$254,14,0)","v":"Open"},{"$f":"VLOOKUP(Table_NFI[[#This Row],[Camp Name]],Camp_List!N$5:AC$254,1,1)","v":"Yai Thei-Muslim"}]
[8.1,"2013-01-01","ABCD","ABCD","Rakhine","Minbya","Myat Buddha Mandine Monastery",50,null,null,null,null,null,null,null,null,null,{"$f":"IF(NFI_Expiration=1,IF($A56<VLOOKUP(H$5,NFI,5,0),1,0)*Table_NFI[[#This Row],[Hygiene Kit]],0)","v":50},{"$f":"IF(NFI_Expiration=1,IF($A56<VLOOKUP(I$5,NFI,5,0),1,0)*Table_NFI[[#This Row],[NFI Core Kit]],0)","v":0},{"$f":"IF(NFI_Expiration=1,IF($A56<VLOOKUP(J$5,NFI,5,0),1,0)*Table_NFI[[#This Row],[Sanitary Kit]],0)","v":0},{"$f":"IF(NFI_Expiration=1,IF($A56<VLOOKUP(K$5,NFI,5,0),1,0)*Table_NFI[[#This Row],[Mosquito net]],0)","v":0},{"$f":"IF(NFI_Expiration=1,IF($A56<VLOOKUP(L$5,NFI,5,0),1,0)*Table_NFI[[#This Row],[Tarpaulin]],0)","v":0},{"$f":"IF(NFI_Expiration=1,IF($A56<VLOOKUP(M$5,NFI,5,0),1,0)*Table_NFI[[#This Row],[Blanket]],0)","v":0},{"$f":"IF(NFI_Expiration=1,IF($A56<VLOOKUP(N$5,NFI,5,0),1,0)*Table_NFI[[#This Row],[Kitchen Set]],0)","v":0},{"$f":"IF(NFI_Expiration=1,IF($A56<VLOOKUP(O$5,NFI,5,0),1,0)*Table_NFI[[#This Row],[Complementary Kit]],0)","v":0},{"$f":"IF(NFI_Expiration=1,IF($A56<VLOOKUP(P$5,NFI,5,0),1,0)*Table_NFI[[#This Row],[Plastic Bucket]],0)","v":0},{"$f":"IF(NFI_Expiration=1,IF($A56<VLOOKUP(Q$5,NFI,5,0),1,0)*Table_NFI[[#This Row],[Plastic Mat]],0)","v":0},{"$f":"VLOOKUP(Table_NFI[[#This Row],[Camp Name]],Camp_List!N$5:AA$254,2,0)","v":"MMR012CMP011"},{"$f":"VLOOKUP(Table_NFI[[#This Row],[Camp Name]],Camp_List!N$5:AA$254,14,0)","v":"Open"},{"$f":"VLOOKUP(Table_NFI[[#This Row],[Camp Name]],Camp_List!N$5:AC$254,1,1)","v":"Myat Buddha Mandine Monastery"}]
[6.6,"2013-02-15","UNICEF ",null,"Rakhine","Mrauk_U","Myat Buddha Mandine Monastery",35,null,null,null,null,null,null,null,null,null,{"$f":"IF(NFI_Expiration=1,IF($A57<VLOOKUP(H$5,NFI,5,0),1,0)*Table_NFI[[#This Row],[Hygiene Kit]],0)","v":35},{"$f":"IF(NFI_Expiration=1,IF($A57<VLOOKUP(I$5,NFI,5,0),1,0)*Table_NFI[[#This Row],[NFI Core Kit]],0)","v":0},{"$f":"IF(NFI_Expiration=1,IF($A57<VLOOKUP(J$5,NFI,5,0),1,0)*Table_NFI[[#This Row],[Sanitary Kit]],0)","v":0},{"$f":"IF(NFI_Expiration=1,IF($A57<VLOOKUP(K$5,NFI,5,0),1,0)*Table_NFI[[#This Row],[Mosquito net]],0)","v":0},{"$f":"IF(NFI_Expiration=1,IF($A57<VLOOKUP(L$5,NFI,5,0),1,0)*Table_NFI[[#This Row],[Tarpaulin]],0)","v":0},{"$f":"IF(NFI_Expiration=1,IF($A57<VLOOKUP(M$5,NFI,5,0),1,0)*Table_NFI[[#This Row],[Blanket]],0)","v":0},{"$f":"IF(NFI_Expiration=1,IF($A57<VLOOKUP(N$5,NFI,5,0),1,0)*Table_NFI[[#This Row],[Kitchen Set]],0)","v":0},{"$f":"IF(NFI_Expiration=1,IF($A57<VLOOKUP(O$5,NFI,5,0),1,0)*Table_NFI[[#This Row],[Complementary Kit]],0)","v":0},{"$f":"IF(NFI_Expiration=1,IF($A57<VLOOKUP(P$5,NFI,5,0),1,0)*Table_NFI[[#This Row],[Plastic Bucket]],0)","v":0},{"$f":"IF(NFI_Expiration=1,IF($A57<VLOOKUP(Q$5,NFI,5,0),1,0)*Table_NFI[[#This Row],[Plastic Mat]],0)","v":0},{"$f":"VLOOKUP(Table_NFI[[#This Row],[Camp Name]],Camp_List!N$5:AA$254,2,0)","v":"MMR012CMP011"},{"$f":"VLOOKUP(Table_NFI[[#This Row],[Camp Name]],Camp_List!N$5:AA$254,14,0)","v":"Open"},{"$f":"VLOOKUP(Table_NFI[[#This Row],[Camp Name]],Camp_List!N$5:AC$254,1,1)","v":"Myat Buddha Mandine Monastery"}]
[3.1666666666666665,"2013-05-29","UNHCR",null,"Rakhine","Mrauk_U","Raw Ma Ni Sin Oe",0,null,null,null,null,null,null,null,null,null,{"$f":"IF(NFI_Expiration=1,IF($A58<VLOOKUP(H$5,NFI,5,0),1,0)*Table_NFI[[#This Row],[Hygiene Kit]],0)","v":0},{"$f":"IF(NFI_Expiration=1,IF($A58<VLOOKUP(I$5,NFI,5,0),1,0)*Table_NFI[[#This Row],[NFI Core Kit]],0)","v":0},{"$f":"IF(NFI_Expiration=1,IF($A58<VLOOKUP(J$5,NFI,5,0),1,0)*Table_NFI[[#This Row],[Sanitary Kit]],0)","v":0},{"$f":"IF(NFI_Expiration=1,IF($A58<VLOOKUP(K$5,NFI,5,0),1,0)*Table_NFI[[#This Row],[Mosquito net]],0)","v":0},{"$f":"IF(NFI_Expiration=1,IF($A58<VLOOKUP(L$5,NFI,5,0),1,0)*Table_NFI[[#This Row],[Tarpaulin]],0)","v":0},{"$f":"IF(NFI_Expiration=1,IF($A58<VLOOKUP(M$5,NFI,5,0),1,0)*Table_NFI[[#This Row],[Blanket]],0)","v":0},{"$f":"IF(NFI_Expiration=1,IF($A58<VLOOKUP(N$5,NFI,5,0),1,0)*Table_NFI[[#This Row],[Kitchen Set]],0)","v":0},{"$f":"IF(NFI_Expiration=1,IF($A58<VLOOKUP(O$5,NFI,5,0),1,0)*Table_NFI[[#This Row],[Complementary Kit]],0)","v":0},{"$f":"IF(NFI_Expiration=1,IF($A58<VLOOKUP(P$5,NFI,5,0),1,0)*Table_NFI[[#This Row],[Plastic Bucket]],0)","v":0},{"$f":"IF(NFI_Expiration=1,IF($A58<VLOOKUP(Q$5,NFI,5,0),1,0)*Table_NFI[[#This Row],[Plastic Mat]],0)","v":0},{"$f":"VLOOKUP(Table_NFI[[#This Row],[Camp Name]],Camp_List!N$5:AA$254,2,0)","v":"MMR012CMP012"},{"$f":"VLOOKUP(Table_NFI[[#This Row],[Camp Name]],Camp_List!N$5:AA$254,14,0)","v":"Open"},{"$f":"VLOOKUP(Table_NFI[[#This Row],[Camp Name]],Camp_List!N$5:AC$254,1,1)","v":"Raw Ma Ni Sin Oe"}]
[3.1666666666666665,"2013-05-29","UNHCR",null,"Rakhine","Mrauk_U","Raw Ma Ni Sin Oe",0,10,null,20,10,20,10,10,10,20,{"$f":"IF(NFI_Expiration=1,IF($A59<VLOOKUP(H$5,NFI,5,0),1,0)*Table_NFI[[#This Row],[Hygiene Kit]],0)","v":0},{"$f":"IF(NFI_Expiration=1,IF($A59<VLOOKUP(I$5,NFI,5,0),1,0)*Table_NFI[[#This Row],[NFI Core Kit]],0)","v":10},{"$f":"IF(NFI_Expiration=1,IF($A59<VLOOKUP(J$5,NFI,5,0),1,0)*Table_NFI[[#This Row],[Sanitary Kit]],0)","v":0},{"$f":"IF(NFI_Expiration=1,IF($A59<VLOOKUP(K$5,NFI,5,0),1,0)*Table_NFI[[#This Row],[Mosquito net]],0)","v":20},{"$f":"IF(NFI_Expiration=1,IF($A59<VLOOKUP(L$5,NFI,5,0),1,0)*Table_NFI[[#This Row],[Tarpaulin]],0)","v":10},{"$f":"IF(NFI_Expiration=1,IF($A59<VLOOKUP(M$5,NFI,5,0),1,0)*Table_NFI[[#This Row],[Blanket]],0)","v":20},{"$f":"IF(NFI_Expiration=1,IF($A59<VLOOKUP(N$5,NFI,5,0),1,0)*Table_NFI[[#This Row],[Kitchen Set]],0)","v":10},{"$f":"IF(NFI_Expiration=1,IF($A59<VLOOKUP(O$5,NFI,5,0),1,0)*Table_NFI[[#This Row],[Complementary Kit]],0)","v":10},{"$f":"IF(NFI_Expiration=1,IF($A59<VLOOKUP(P$5,NFI,5,0),1,0)*Table_NFI[[#This Row],[Plastic Bucket]],0)","v":10},{"$f":"IF(NFI_Expiration=1,IF($A59<VLOOKUP(Q$5,NFI,5,0),1,0)*Table_NFI[[#This Row],[Plastic Mat]],0)","v":20},{"$f":"VLOOKUP(Table_NFI[[#This Row],[Camp Name]],Camp_List!N$5:AA$254,2,0)","v":"MMR012CMP012"},{"$f":"VLOOKUP(Table_NFI[[#This Row],[Camp Name]],Camp_List!N$5:AA$254,14,0)","v":"Open"},{"$f":"VLOOKUP(Table_NFI[[#This Row],[Camp Name]],Camp_List!N$5:AC$254,1,1)","v":"Raw Ma Ni Sin Oe"}]
[9.1666666666666661,"2012-11-30","UNHCR",null,"Rakhine","Meybon","Kan Thar Htwat Wa",null,null,null,null,44,null,null,null,null,null,{"$f":"IF(NFI_Expiration=1,IF($A60<VLOOKUP(H$5,NFI,5,0),1,0)*Table_NFI[[#This Row],[Hygiene Kit]],0)","v":0},{"$f":"IF(NFI_Expiration=1,IF($A60<VLOOKUP(I$5,NFI,5,0),1,0)*Table_NFI[[#This Row],[NFI Core Kit]],0)","v":0},{"$f":"IF(NFI_Expiration=1,IF($A60<VLOOKUP(J$5,NFI,5,0),1,0)*Table_NFI[[#This Row],[Sanitary Kit]],0)","v":0},{"$f":"IF(NFI_Expiration=1,IF($A60<VLOOKUP(K$5,NFI,5,0),1,0)*Table_NFI[[#This Row],[Mosquito net]],0)","v":0},{"$f":"IF(NFI_Expiration=1,IF($A60<VLOOKUP(L$5,NFI,5,0),1,0)*Table_NFI[[#This Row],[Tarpaulin]],0)","v":44},{"$f":"IF(NFI_Expiration=1,IF($A60<VLOOKUP(M$5,NFI,5,0),1,0)*Table_NFI[[#This Row],[Blanket]],0)","v":0},{"$f":"IF(NFI_Expiration=1,IF($A60<VLOOKUP(N$5,NFI,5,0),1,0)*Table_NFI[[#This Row],[Kitchen Set]],0)","v":0},{"$f":"IF(NFI_Expiration=1,IF($A60<VLOOKUP(O$5,NFI,5,0),1,0)*Table_NFI[[#This Row],[Complementary Kit]],0)","v":0},{"$f":"IF(NFI_Expiration=1,IF($A60<VLOOKUP(P$5,NFI,5,0),1,0)*Table_NFI[[#This Row],[Plastic Bucket]],0)","v":0},{"$f":"IF(NFI_Expiration=1,IF($A60<VLOOKUP(Q$5,NFI,5,0),1,0)*Table_NFI[[#This Row],[Plastic Mat]],0)","v":0},{"$f":"VLOOKUP(Table_NFI[[#This Row],[Camp Name]],Camp_List!N$5:AA$254,2,0)","v":"MMR012CMP013"},{"$f":"VLOOKUP(Table_NFI[[#This Row],[Camp Name]],Camp_List!N$5:AA$254,14,0)","v":"Open"},{"$f":"VLOOKUP(Table_NFI[[#This Row],[Camp Name]],Camp_List!N$5:AC$254,1,1)","v":"Kan Thar Htwat Wa"}]
[6.833333333333333,"2013-02-08","UNICEF ",null,"Rakhine","Meybon","Kan Thar Htwat Wa",45,null,null,null,null,null,null,null,null,null,{"$f":"IF(NFI_Expiration=1,IF($A61<VLOOKUP(H$5,NFI,5,0),1,0)*Table_NFI[[#This Row],[Hygiene Kit]],0)","v":45},{"$f":"IF(NFI_Expiration=1,IF($A61<VLOOKUP(I$5,NFI,5,0),1,0)*Table_NFI[[#This Row],[NFI Core Kit]],0)","v":0},{"$f":"IF(NFI_Expiration=1,IF($A61<VLOOKUP(J$5,NFI,5,0),1,0)*Table_NFI[[#This Row],[Sanitary Kit]],0)","v":0},{"$f":"IF(NFI_Expiration=1,IF($A61<VLOOKUP(K$5,NFI,5,0),1,0)*Table_NFI[[#This Row],[Mosquito net]],0)","v":0},{"$f":"IF(NFI_Expiration=1,IF($A61<VLOOKUP(L$5,NFI,5,0),1,0)*Table_NFI[[#This Row],[Tarpaulin]],0)","v":0},{"$f":"IF(NFI_Expiration=1,IF($A61<VLOOKUP(M$5,NFI,5,0),1,0)*Table_NFI[[#This Row],[Blanket]],0)","v":0},{"$f":"IF(NFI_Expiration=1,IF($A61<VLOOKUP(N$5,NFI,5,0),1,0)*Table_NFI[[#This Row],[Kitchen Set]],0)","v":0},{"$f":"IF(NFI_Expiration=1,IF($A61<VLOOKUP(O$5,NFI,5,0),1,0)*Table_NFI[[#This Row],[Complementary Kit]],0)","v":0},{"$f":"IF(NFI_Expiration=1,IF($A61<VLOOKUP(P$5,NFI,5,0),1,0)*Table_NFI[[#This Row],[Plastic Bucket]],0)","v":0},{"$f":"IF(NFI_Expiration=1,IF($A61<VLOOKUP(Q$5,NFI,5,0),1,0)*Table_NFI[[#This Row],[Plastic Mat]],0)","v":0},{"$f":"VLOOKUP(Table_NFI[[#This Row],[Camp Name]],Camp_List!N$5:AA$254,2,0)","v":"MMR012CMP013"},{"$f":"VLOOKUP(Table_NFI[[#This Row],[Camp Name]],Camp_List!N$5:AA$254,14,0)","v":"Open"},{"$f":"VLOOKUP(Table_NFI[[#This Row],[Camp Name]],Camp_List!N$5:AC$254,1,1)","v":"Kan Thar Htwat Wa"}]
[10.133333333333333,"2012-11-01","UNHCR",null,"Rakhine","Meybon","Taung Paw ",null,null,null,null,400,null,null,null,null,null,{"$f":"IF(NFI_Expiration=1,IF($A62<VLOOKUP(H$5,NFI,5,0),1,0)*Table_NFI[[#This Row],[Hygiene Kit]],0)","v":0},{"$f":"IF(NFI_Expiration=1,IF($A62<VLOOKUP(I$5,NFI,5,0),1,0)*Table_NFI[[#This Row],[NFI Core Kit]],0)","v":0},{"$f":"IF(NFI_Expiration=1,IF($A62<VLOOKUP(J$5,NFI,5,0),1,0)*Table_NFI[[#This Row],[Sanitary Kit]],0)","v":0},{"$f":"IF(NFI_Expiration=1,IF($A62<VLOOKUP(K$5,NFI,5,0),1,0)*Table_NFI[[#This Row],[Mosquito net]],0)","v":0},{"$f":"IF(NFI_Expiration=1,IF($A62<VLOOKUP(L$5,NFI,5,0),1,0)*Table_NFI[[#This Row],[Tarpaulin]],0)","v":400},{"$f":"IF(NFI_Expiration=1,IF($A62<VLOOKUP(M$5,NFI,5,0),1,0)*Table_NFI[[#This Row],[Blanket]],0)","v":0},{"$f":"IF(NFI_Expiration=1,IF($A62<VLOOKUP(N$5,NFI,5,0),1,0)*Table_NFI[[#This Row],[Kitchen Set]],0)","v":0},{"$f":"IF(NFI_Expiration=1,IF($A62<VLOOKUP(O$5,NFI,5,0),1,0)*Table_NFI[[#This Row],[Complementary Kit]],0)","v":0},{"$f":"IF(NFI_Expiration=1,IF($A62<VLOOKUP(P$5,NFI,5,0),1,0)*Table_NFI[[#This Row],[Plastic Bucket]],0)","v":0},{"$f":"IF(NFI_Expiration=1,IF($A62<VLOOKUP(Q$5,NFI,5,0),1,0)*Table_NFI[[#This Row],[Plastic Mat]],0)","v":0},{"$f":"VLOOKUP(Table_NFI[[#This Row],[Camp Name]],Camp_List!N$5:AA$254,2,0)","v":"MMR012CMP014"},{"$f":"VLOOKUP(Table_NFI[[#This Row],[Camp Name]],Camp_List!N$5:AA$254,14,0)","v":"Open"},{"$f":"VLOOKUP(Table_NFI[[#This Row],[Camp Name]],Camp_List!N$5:AC$254,1,1)","v":"Taung Paw "}]
[9.1666666666666661,"2012-11-30","UNHCR",null,"Rakhine","Meybon","Taung Paw ",null,null,null,null,232,null,null,null,null,null,{"$f":"IF(NFI_Expiration=1,IF($A63<VLOOKUP(H$5,NFI,5,0),1,0)*Table_NFI[[#This Row],[Hygiene Kit]],0)","v":0},{"$f":"IF(NFI_Expiration=1,IF($A63<VLOOKUP(I$5,NFI,5,0),1,0)*Table_NFI[[#This Row],[NFI Core Kit]],0)","v":0},{"$f":"IF(NFI_Expiration=1,IF($A63<VLOOKUP(J$5,NFI,5,0),1,0)*Table_NFI[[#This Row],[Sanitary Kit]],0)","v":0},{"$f":"IF(NFI_Expiration=1,IF($A63<VLOOKUP(K$5,NFI,5,0),1,0)*Table_NFI[[#This Row],[Mosquito net]],0)","v":0},{"$f":"IF(NFI_Expiration=1,IF($A63<VLOOKUP(L$5,NFI,5,0),1,0)*Table_NFI[[#This Row],[Tarpaulin]],0)","v":232},{"$f":"IF(NFI_Expiration=1,IF($A63<VLOOKUP(M$5,NFI,5,0),1,0)*Table_NFI[[#This Row],[Blanket]],0)","v":0},{"$f":"IF(NFI_Expiration=1,IF($A63<VLOOKUP(N$5,NFI,5,0),1,0)*Table_NFI[[#This Row],[Kitchen Set]],0)","v":0},{"$f":"IF(NFI_Expiration=1,IF($A63<VLOOKUP(O$5,NFI,5,0),1,0)*Table_NFI[[#This Row],[Complementary Kit]],0)","v":0},{"$f":"IF(NFI_Expiration=1,IF($A63<VLOOKUP(P$5,NFI,5,0),1,0)*Table_NFI[[#This Row],[Plastic Bucket]],0)","v":0},{"$f":"IF(NFI_Expiration=1,IF($A63<VLOOKUP(Q$5,NFI,5,0),1,0)*Table_NFI[[#This Row],[Plastic Mat]],0)","v":0},{"$f":"VLOOKUP(Table_NFI[[#This Row],[Camp Name]],Camp_List!N$5:AA$254,2,0)","v":"MMR012CMP014"},{"$f":"VLOOKUP(Table_NFI[[#This Row],[Camp Name]],Camp_List!N$5:AA$254,14,0)","v":"Open"},{"$f":"VLOOKUP(Table_NFI[[#This Row],[Camp Name]],Camp_List!N$5:AC$254,1,1)","v":"Taung Paw "}]
[8.6,"2012-12-17","UNHCR",null,"Rakhine","Meybon","Taung Paw ",null,null,null,null,73,null,null,null,null,null,{"$f":"IF(NFI_Expiration=1,IF($A64<VLOOKUP(H$5,NFI,5,0),1,0)*Table_NFI[[#This Row],[Hygiene Kit]],0)","v":0},{"$f":"IF(NFI_Expiration=1,IF($A64<VLOOKUP(I$5,NFI,5,0),1,0)*Table_NFI[[#This Row],[NFI Core Kit]],0)","v":0},{"$f":"IF(NFI_Expiration=1,IF($A64<VLOOKUP(J$5,NFI,5,0),1,0)*Table_NFI[[#This Row],[Sanitary Kit]],0)","v":0},{"$f":"IF(NFI_Expiration=1,IF($A64<VLOOKUP(K$5,NFI,5,0),1,0)*Table_NFI[[#This Row],[Mosquito net]],0)","v":0},{"$f":"IF(NFI_Expiration=1,IF($A64<VLOOKUP(L$5,NFI,5,0),1,0)*Table_NFI[[#This Row],[Tarpaulin]],0)","v":73},{"$f":"IF(NFI_Expiration=1,IF($A64<VLOOKUP(M$5,NFI,5,0),1,0)*Table_NFI[[#This Row],[Blanket]],0)","v":0},{"$f":"IF(NFI_Expiration=1,IF($A64<VLOOKUP(N$5,NFI,5,0),1,0)*Table_NFI[[#This Row],[Kitchen Set]],0)","v":0},{"$f":"IF(NFI_Expiration=1,IF($A64<VLOOKUP(O$5,NFI,5,0),1,0)*Table_NFI[[#This Row],[Complementary Kit]],0)","v":0},{"$f":"IF(NFI_Expiration=1,IF($A64<VLOOKUP(P$5,NFI,5,0),1,0)*Table_NFI[[#This Row],[Plastic Bucket]],0)","v":0},{"$f":"IF(NFI_Expiration=1,IF($A64<VLOOKUP(Q$5,NFI,5,0),1,0)*Table_NFI[[#This Row],[Plastic Mat]],0)","v":0},{"$f":"VLOOKUP(Table_NFI[[#This Row],[Camp Name]],Camp_List!N$5:AA$254,2,0)","v":"MMR012CMP014"},{"$f":"VLOOKUP(Table_NFI[[#This Row],[Camp Name]],Camp_List!N$5:AA$254,14,0)","v":"Open"},{"$f":"VLOOKUP(Table_NFI[[#This Row],[Camp Name]],Camp_List!N$5:AC$254,1,1)","v":"Taung Paw "}]
[6.833333333333333,"2013-02-08","UNICEF ",null,"Rakhine","Meybon","Taung Paw ",705,null,null,null,null,null,null,null,null,null,{"$f":"IF(NFI_Expiration=1,IF($A65<VLOOKUP(H$5,NFI,5,0),1,0)*Table_NFI[[#This Row],[Hygiene Kit]],0)","v":705},{"$f":"IF(NFI_Expiration=1,IF($A65<VLOOKUP(I$5,NFI,5,0),1,0)*Table_NFI[[#This Row],[NFI Core Kit]],0)","v":0},{"$f":"IF(NFI_Expiration=1,IF($A65<VLOOKUP(J$5,NFI,5,0),1,0)*Table_NFI[[#This Row],[Sanitary Kit]],0)","v":0},{"$f":"IF(NFI_Expiration=1,IF($A65<VLOOKUP(K$5,NFI,5,0),1,0)*Table_NFI[[#This Row],[Mosquito net]],0)","v":0},{"$f":"IF(NFI_Expiration=1,IF($A65<VLOOKUP(L$5,NFI,5,0),1,0)*Table_NFI[[#This Row],[Tarpaulin]],0)","v":0},{"$f":"IF(NFI_Expiration=1,IF($A65<VLOOKUP(M$5,NFI,5,0),1,0)*Table_NFI[[#This Row],[Blanket]],0)","v":0},{"$f":"IF(NFI_Expiration=1,IF($A65<VLOOKUP(N$5,NFI,5,0),1,0)*Table_NFI[[#This Row],[Kitchen Set]],0)","v":0},{"$f":"IF(NFI_Expiration=1,IF($A65<VLOOKUP(O$5,NFI,5,0),1,0)*Table_NFI[[#This Row],[Complementary Kit]],0)","v":0},{"$f":"IF(NFI_Expiration=1,IF($A65<VLOOKUP(P$5,NFI,5,0),1,0)*Table_NFI[[#This Row],[Plastic Bucket]],0)","v":0},{"$f":"IF(NFI_Expiration=1,IF($A65<VLOOKUP(Q$5,NFI,5,0),1,0)*Table_NFI[[#This Row],[Plastic Mat]],0)","v":0},{"$f":"VLOOKUP(Table_NFI[[#This Row],[Camp Name]],Camp_List!N$5:AA$254,2,0)","v":"MMR012CMP014"},{"$f":"VLOOKUP(Table_NFI[[#This Row],[Camp Name]],Camp_List!N$5:AA$254,14,0)","v":"Open"},{"$f":"VLOOKUP(Table_NFI[[#This Row],[Camp Name]],Camp_List!N$5:AC$254,1,1)","v":"Taung Paw "}]
[6.3666666666666663,"2013-02-22","UNICEF ",null,"Rakhine","Pauktaw","Ba Wan Chaung Wa Su",23,0,null,null,null,null,null,null,null,null,{"$f":"IF(NFI_Expiration=1,IF($A66<VLOOKUP(H$5,NFI,5,0),1,0)*Table_NFI[[#This Row],[Hygiene Kit]],0)","v":23},{"$f":"IF(NFI_Expiration=1,IF($A66<VLOOKUP(I$5,NFI,5,0),1,0)*Table_NFI[[#This Row],[NFI Core Kit]],0)","v":0},{"$f":"IF(NFI_Expiration=1,IF($A66<VLOOKUP(J$5,NFI,5,0),1,0)*Table_NFI[[#This Row],[Sanitary Kit]],0)","v":0},{"$f":"IF(NFI_Expiration=1,IF($A66<VLOOKUP(K$5,NFI,5,0),1,0)*Table_NFI[[#This Row],[Mosquito net]],0)","v":0},{"$f":"IF(NFI_Expiration=1,IF($A66<VLOOKUP(L$5,NFI,5,0),1,0)*Table_NFI[[#This Row],[Tarpaulin]],0)","v":0},{"$f":"IF(NFI_Expiration=1,IF($A66<VLOOKUP(M$5,NFI,5,0),1,0)*Table_NFI[[#This Row],[Blanket]],0)","v":0},{"$f":"IF(NFI_Expiration=1,IF($A66<VLOOKUP(N$5,NFI,5,0),1,0)*Table_NFI[[#This Row],[Kitchen Set]],0)","v":0},{"$f":"IF(NFI_Expiration=1,IF($A66<VLOOKUP(O$5,NFI,5,0),1,0)*Table_NFI[[#This Row],[Complementary Kit]],0)","v":0},{"$f":"IF(NFI_Expiration=1,IF($A66<VLOOKUP(P$5,NFI,5,0),1,0)*Table_NFI[[#This Row],[Plastic Bucket]],0)","v":0},{"$f":"IF(NFI_Expiration=1,IF($A66<VLOOKUP(Q$5,NFI,5,0),1,0)*Table_NFI[[#This Row],[Plastic Mat]],0)","v":0},{"$f":"VLOOKUP(Table_NFI[[#This Row],[Camp Name]],Camp_List!N$5:AA$254,2,0)","v":"MMR012CMP015"},{"$f":"VLOOKUP(Table_NFI[[#This Row],[Camp Name]],Camp_List!N$5:AA$254,14,0)","v":"Open"},{"$f":"VLOOKUP(Table_NFI[[#This Row],[Camp Name]],Camp_List!N$5:AC$254,1,1)","v":"Ba Wan Chaung Wa Su"}]
[9.5333333333333332,"2012-11-19","UNHCR",null,"Rakhine","Pauktaw","Ah Nauk Ywe",null,null,null,null,458,null,null,null,null,null,{"$f":"IF(NFI_Expiration=1,IF($A67<VLOOKUP(H$5,NFI,5,0),1,0)*Table_NFI[[#This Row],[Hygiene Kit]],0)","v":0},{"$f":"IF(NFI_Expiration=1,IF($A67<VLOOKUP(I$5,NFI,5,0),1,0)*Table_NFI[[#This Row],[NFI Core Kit]],0)","v":0},{"$f":"IF(NFI_Expiration=1,IF($A67<VLOOKUP(J$5,NFI,5,0),1,0)*Table_NFI[[#This Row],[Sanitary Kit]],0)","v":0},{"$f":"IF(NFI_Expiration=1,IF($A67<VLOOKUP(K$5,NFI,5,0),1,0)*Table_NFI[[#This Row],[Mosquito net]],0)","v":0},{"$f":"IF(NFI_Expiration=1,IF($A67<VLOOKUP(L$5,NFI,5,0),1,0)*Table_NFI[[#This Row],[Tarpaulin]],0)","v":458},{"$f":"IF(NFI_Expiration=1,IF($A67<VLOOKUP(M$5,NFI,5,0),1,0)*Table_NFI[[#This Row],[Blanket]],0)","v":0},{"$f":"IF(NFI_Expiration=1,IF($A67<VLOOKUP(N$5,NFI,5,0),1,0)*Table_NFI[[#This Row],[Kitchen Set]],0)","v":0},{"$f":"IF(NFI_Expiration=1,IF($A67<VLOOKUP(O$5,NFI,5,0),1,0)*Table_NFI[[#This Row],[Complementary Kit]],0)","v":0},{"$f":"IF(NFI_Expiration=1,IF($A67<VLOOKUP(P$5,NFI,5,0),1,0)*Table_NFI[[#This Row],[Plastic Bucket]],0)","v":0},{"$f":"IF(NFI_Expiration=1,IF($A67<VLOOKUP(Q$5,NFI,5,0),1,0)*Table_NFI[[#This Row],[Plastic Mat]],0)","v":0},{"$f":"VLOOKUP(Table_NFI[[#This Row],[Camp Name]],Camp_List!N$5:AA$254,2,0)","v":"MMR012CMP016"},{"$f":"VLOOKUP(Table_NFI[[#This Row],[Camp Name]],Camp_List!N$5:AA$254,14,0)","v":"Open"},{"$f":"VLOOKUP(Table_NFI[[#This Row],[Camp Name]],Camp_List!N$5:AC$254,1,1)","v":"Ah Nauk Ywe"}]
[8.3666666666666671,"2012-12-24","UNHCR",null,"Rakhine","Pauktaw","Ah Nauk Ywe",null,null,null,null,758,null,null,null,null,null,{"$f":"IF(NFI_Expiration=1,IF($A68<VLOOKUP(H$5,NFI,5,0),1,0)*Table_NFI[[#This Row],[Hygiene Kit]],0)","v":0},{"$f":"IF(NFI_Expiration=1,IF($A68<VLOOKUP(I$5,NFI,5,0),1,0)*Table_NFI[[#This Row],[NFI Core Kit]],0)","v":0},{"$f":"IF(NFI_Expiration=1,IF($A68<VLOOKUP(J$5,NFI,5,0),1,0)*Table_NFI[[#This Row],[Sanitary Kit]],0)","v":0},{"$f":"IF(NFI_Expiration=1,IF($A68<VLOOKUP(K$5,NFI,5,0),1,0)*Table_NFI[[#This Row],[Mosquito net]],0)","v":0},{"$f":"IF(NFI_Expiration=1,IF($A68<VLOOKUP(L$5,NFI,5,0),1,0)*Table_NFI[[#This Row],[Tarpaulin]],0)","v":758},{"$f":"IF(NFI_Expiration=1,IF($A68<VLOOKUP(M$5,NFI,5,0),1,0)*Table_NFI[[#This Row],[Blanket]],0)","v":0},{"$f":"IF(NFI_Expiration=1,IF($A68<VLOOKUP(N$5,NFI,5,0),1,0)*Table_NFI[[#This Row],[Kitchen Set]],0)","v":0},{"$f":"IF(NFI_Expiration=1,IF($A68<VLOOKUP(O$5,NFI,5,0),1,0)*Table_NFI[[#This Row],[Complementary Kit]],0)","v":0},{"$f":"IF(NFI_Expiration=1,IF($A68<VLOOKUP(P$5,NFI,5,0),1,0)*Table_NFI[[#This Row],[Plastic Bucket]],0)","v":0},{"$f":"IF(NFI_Expiration=1,IF($A68<VLOOKUP(Q$5,NFI,5,0),1,0)*Table_NFI[[#This Row],[Plastic Mat]],0)","v":0},{"$f":"VLOOKUP(Table_NFI[[#This Row],[Camp Name]],Camp_List!N$5:AA$254,2,0)","v":"MMR012CMP016"},{"$f":"VLOOKUP(Table_NFI[[#This Row],[Camp Name]],Camp_List!N$5:AA$254,14,0)","v":"Open"},{"$f":"VLOOKUP(Table_NFI[[#This Row],[Camp Name]],Camp_List!N$5:AC$254,1,1)","v":"Ah Nauk Ywe"}]
[7.0666666666666664,"2013-02-01","Save the Children","Save the Children","Rakhine","Pauktaw","Ah Nauk Ywe",803,null,null,null,null,null,null,null,null,null,{"$f":"IF(NFI_Expiration=1,IF($A69<VLOOKUP(H$5,NFI,5,0),1,0)*Table_NFI[[#This Row],[Hygiene Kit]],0)","v":803},{"$f":"IF(NFI_Expiration=1,IF($A69<VLOOKUP(I$5,NFI,5,0),1,0)*Table_NFI[[#This Row],[NFI Core Kit]],0)","v":0},{"$f":"IF(NFI_Expiration=1,IF($A69<VLOOKUP(J$5,NFI,5,0),1,0)*Table_NFI[[#This Row],[Sanitary Kit]],0)","v":0},{"$f":"IF(NFI_Expiration=1,IF($A69<VLOOKUP(K$5,NFI,5,0),1,0)*Table_NFI[[#This Row],[Mosquito net]],0)","v":0},{"$f":"IF(NFI_Expiration=1,IF($A69<VLOOKUP(L$5,NFI,5,0),1,0)*Table_NFI[[#This Row],[Tarpaulin]],0)","v":0},{"$f":"IF(NFI_Expiration=1,IF($A69<VLOOKUP(M$5,NFI,5,0),1,0)*Table_NFI[[#This Row],[Blanket]],0)","v":0},{"$f":"IF(NFI_Expiration=1,IF($A69<VLOOKUP(N$5,NFI,5,0),1,0)*Table_NFI[[#This Row],[Kitchen Set]],0)","v":0},{"$f":"IF(NFI_Expiration=1,IF($A69<VLOOKUP(O$5,NFI,5,0),1,0)*Table_NFI[[#This Row],[Complementary Kit]],0)","v":0},{"$f":"IF(NFI_Expiration=1,IF($A69<VLOOKUP(P$5,NFI,5,0),1,0)*Table_NFI[[#This Row],[Plastic Bucket]],0)","v":0},{"$f":"IF(NFI_Expiration=1,IF($A69<VLOOKUP(Q$5,NFI,5,0),1,0)*Table_NFI[[#This Row],[Plastic Mat]],0)","v":0},{"$f":"VLOOKUP(Table_NFI[[#This Row],[Camp Name]],Camp_List!N$5:AA$254,2,0)","v":"MMR012CMP016"},{"$f":"VLOOKUP(Table_NFI[[#This Row],[Camp Name]],Camp_List!N$5:AA$254,14,0)","v":"Open"},{"$f":"VLOOKUP(Table_NFI[[#This Row],[Camp Name]],Camp_List!N$5:AC$254,1,1)","v":"Ah Nauk Ywe"}]
[6.8666666666666663,"2013-02-07","UNHCR",null,"Rakhine","Pauktaw","Ah Nauk Ywe",null,null,null,null,null,500,null,null,null,null,{"$f":"IF(NFI_Expiration=1,IF($A70<VLOOKUP(H$5,NFI,5,0),1,0)*Table_NFI[[#This Row],[Hygiene Kit]],0)","v":0},{"$f":"IF(NFI_Expiration=1,IF($A70<VLOOKUP(I$5,NFI,5,0),1,0)*Table_NFI[[#This Row],[NFI Core Kit]],0)","v":0},{"$f":"IF(NFI_Expiration=1,IF($A70<VLOOKUP(J$5,NFI,5,0),1,0)*Table_NFI[[#This Row],[Sanitary Kit]],0)","v":0},{"$f":"IF(NFI_Expiration=1,IF($A70<VLOOKUP(K$5,NFI,5,0),1,0)*Table_NFI[[#This Row],[Mosquito net]],0)","v":0},{"$f":"IF(NFI_Expiration=1,IF($A70<VLOOKUP(L$5,NFI,5,0),1,0)*Table_NFI[[#This Row],[Tarpaulin]],0)","v":0},{"$f":"IF(NFI_Expiration=1,IF($A70<VLOOKUP(M$5,NFI,5,0),1,0)*Table_NFI[[#This Row],[Blanket]],0)","v":500},{"$f":"IF(NFI_Expiration=1,IF($A70<VLOOKUP(N$5,NFI,5,0),1,0)*Table_NFI[[#This Row],[Kitchen Set]],0)","v":0},{"$f":"IF(NFI_Expiration=1,IF($A70<VLOOKUP(O$5,NFI,5,0),1,0)*Table_NFI[[#This Row],[Complementary Kit]],0)","v":0},{"$f":"IF(NFI_Expiration=1,IF($A70<VLOOKUP(P$5,NFI,5,0),1,0)*Table_NFI[[#This Row],[Plastic Bucket]],0)","v":0},{"$f":"IF(NFI_Expiration=1,IF($A70<VLOOKUP(Q$5,NFI,5,0),1,0)*Table_NFI[[#This Row],[Plastic Mat]],0)","v":0},{"$f":"VLOOKUP(Table_NFI[[#This Row],[Camp Name]],Camp_List!N$5:AA$254,2,0)","v":"MMR012CMP016"},{"$f":"VLOOKUP(Table_NFI[[#This Row],[Camp Name]],Camp_List!N$5:AA$254,14,0)","v":"Open"},{"$f":"VLOOKUP(Table_NFI[[#This Row],[Camp Name]],Camp_List!N$5:AC$254,1,1)","v":"Ah Nauk Ywe"}]
[6.7666666666666666,"2013-02-10","UNHCR",null,"Rakhine","Pauktaw","Ah Nauk Ywe",null,null,null,null,null,273,null,null,null,null,{"$f":"IF(NFI_Expiration=1,IF($A71<VLOOKUP(H$5,NFI,5,0),1,0)*Table_NFI[[#This Row],[Hygiene Kit]],0)","v":0},{"$f":"IF(NFI_Expiration=1,IF($A71<VLOOKUP(I$5,NFI,5,0),1,0)*Table_NFI[[#This Row],[NFI Core Kit]],0)","v":0},{"$f":"IF(NFI_Expiration=1,IF($A71<VLOOKUP(J$5,NFI,5,0),1,0)*Table_NFI[[#This Row],[Sanitary Kit]],0)","v":0},{"$f":"IF(NFI_Expiration=1,IF($A71<VLOOKUP(K$5,NFI,5,0),1,0)*Table_NFI[[#This Row],[Mosquito net]],0)","v":0},{"$f":"IF(NFI_Expiration=1,IF($A71<VLOOKUP(L$5,NFI,5,0),1,0)*Table_NFI[[#This Row],[Tarpaulin]],0)","v":0},{"$f":"IF(NFI_Expiration=1,IF($A71<VLOOKUP(M$5,NFI,5,0),1,0)*Table_NFI[[#This Row],[Blanket]],0)","v":273},{"$f":"IF(NFI_Expiration=1,IF($A71<VLOOKUP(N$5,NFI,5,0),1,0)*Table_NFI[[#This Row],[Kitchen Set]],0)","v":0},{"$f":"IF(NFI_Expiration=1,IF($A71<VLOOKUP(O$5,NFI,5,0),1,0)*Table_NFI[[#This Row],[Complementary Kit]],0)","v":0},{"$f":"IF(NFI_Expiration=1,IF($A71<VLOOKUP(P$5,NFI,5,0),1,0)*Table_NFI[[#This Row],[Plastic Bucket]],0)","v":0},{"$f":"IF(NFI_Expiration=1,IF($A71<VLOOKUP(Q$5,NFI,5,0),1,0)*Table_NFI[[#This Row],[Plastic Mat]],0)","v":0},{"$f":"VLOOKUP(Table_NFI[[#This Row],[Camp Name]],Camp_List!N$5:AA$254,2,0)","v":"MMR012CMP016"},{"$f":"VLOOKUP(Table_NFI[[#This Row],[Camp Name]],Camp_List!N$5:AA$254,14,0)","v":"Open"},{"$f":"VLOOKUP(Table_NFI[[#This Row],[Camp Name]],Camp_List!N$5:AC$254,1,1)","v":"Ah Nauk Ywe"}]
[6.6333333333333337,"2013-02-14","UNHCR",null,"Rakhine","Pauktaw","Ah Nauk Ywe",null,null,null,null,null,500,null,null,null,null,{"$f":"IF(NFI_Expiration=1,IF($A72<VLOOKUP(H$5,NFI,5,0),1,0)*Table_NFI[[#This Row],[Hygiene Kit]],0)","v":0},{"$f":"IF(NFI_Expiration=1,IF($A72<VLOOKUP(I$5,NFI,5,0),1,0)*Table_NFI[[#This Row],[NFI Core Kit]],0)","v":0},{"$f":"IF(NFI_Expiration=1,IF($A72<VLOOKUP(J$5,NFI,5,0),1,0)*Table_NFI[[#This Row],[Sanitary Kit]],0)","v":0},{"$f":"IF(NFI_Expiration=1,IF($A72<VLOOKUP(K$5,NFI,5,0),1,0)*Table_NFI[[#This Row],[Mosquito net]],0)","v":0},{"$f":"IF(NFI_Expiration=1,IF($A72<VLOOKUP(L$5,NFI,5,0),1,0)*Table_NFI[[#This Row],[Tarpaulin]],0)","v":0},{"$f":"IF(NFI_Expiration=1,IF($A72<VLOOKUP(M$5,NFI,5,0),1,0)*Table_NFI[[#This Row],[Blanket]],0)","v":500},{"$f":"IF(NFI_Expiration=1,IF($A72<VLOOKUP(N$5,NFI,5,0),1,0)*Table_NFI[[#This Row],[Kitchen Set]],0)","v":0},{"$f":"IF(NFI_Expiration=1,IF($A72<VLOOKUP(O$5,NFI,5,0),1,0)*Table_NFI[[#This Row],[Complementary Kit]],0)","v":0},{"$f":"IF(NFI_Expiration=1,IF($A72<VLOOKUP(P$5,NFI,5,0),1,0)*Table_NFI[[#This Row],[Plastic Bucket]],0)","v":0},{"$f":"IF(NFI_Expiration=1,IF($A72<VLOOKUP(Q$5,NFI,5,0),1,0)*Table_NFI[[#This Row],[Plastic Mat]],0)","v":0},{"$f":"VLOOKUP(Table_NFI[[#This Row],[Camp Name]],Camp_List!N$5:AA$254,2,0)","v":"MMR012CMP016"},{"$f":"VLOOKUP(Table_NFI[[#This Row],[Camp Name]],Camp_List!N$5:AA$254,14,0)","v":"Open"},{"$f":"VLOOKUP(Table_NFI[[#This Row],[Camp Name]],Camp_List!N$5:AC$254,1,1)","v":"Ah Nauk Ywe"}]
[3.1666666666666665,"2013-05-29","Save the Children","Save the Children","Rakhine","Pauktaw","Ah Nauk Ywe",773,null,null,null,null,null,null,null,null,null,{"$f":"IF(NFI_Expiration=1,IF($A73<VLOOKUP(H$5,NFI,5,0),1,0)*Table_NFI[[#This Row],[Hygiene Kit]],0)","v":773},{"$f":"IF(NFI_Expiration=1,IF($A73<VLOOKUP(I$5,NFI,5,0),1,0)*Table_NFI[[#This Row],[NFI Core Kit]],0)","v":0},{"$f":"IF(NFI_Expiration=1,IF($A73<VLOOKUP(J$5,NFI,5,0),1,0)*Table_NFI[[#This Row],[Sanitary Kit]],0)","v":0},{"$f":"IF(NFI_Expiration=1,IF($A73<VLOOKUP(K$5,NFI,5,0),1,0)*Table_NFI[[#This Row],[Mosquito net]],0)","v":0},{"$f":"IF(NFI_Expiration=1,IF($A73<VLOOKUP(L$5,NFI,5,0),1,0)*Table_NFI[[#This Row],[Tarpaulin]],0)","v":0},{"$f":"IF(NFI_Expiration=1,IF($A73<VLOOKUP(M$5,NFI,5,0),1,0)*Table_NFI[[#This Row],[Blanket]],0)","v":0},{"$f":"IF(NFI_Expiration=1,IF($A73<VLOOKUP(N$5,NFI,5,0),1,0)*Table_NFI[[#This Row],[Kitchen Set]],0)","v":0},{"$f":"IF(NFI_Expiration=1,IF($A73<VLOOKUP(O$5,NFI,5,0),1,0)*Table_NFI[[#This Row],[Complementary Kit]],0)","v":0},{"$f":"IF(NFI_Expiration=1,IF($A73<VLOOKUP(P$5,NFI,5,0),1,0)*Table_NFI[[#This Row],[Plastic Bucket]],0)","v":0},{"$f":"IF(NFI_Expiration=1,IF($A73<VLOOKUP(Q$5,NFI,5,0),1,0)*Table_NFI[[#This Row],[Plastic Mat]],0)","v":0},{"$f":"VLOOKUP(Table_NFI[[#This Row],[Camp Name]],Camp_List!N$5:AA$254,2,0)","v":"MMR012CMP016"},{"$f":"VLOOKUP(Table_NFI[[#This Row],[Camp Name]],Camp_List!N$5:AA$254,14,0)","v":"Open"},{"$f":"VLOOKUP(Table_NFI[[#This Row],[Camp Name]],Camp_List!N$5:AC$254,1,1)","v":"Ah Nauk Ywe"}]
[9.5333333333333332,"2012-11-19","UNHCR",null,"Rakhine","Pauktaw","Nget Chaung",null,null,null,null,506,null,null,null,null,null,{"$f":"IF(NFI_Expiration=1,IF($A74<VLOOKUP(H$5,NFI,5,0),1,0)*Table_NFI[[#This Row],[Hygiene Kit]],0)","v":0},{"$f":"IF(NFI_Expiration=1,IF($A74<VLOOKUP(I$5,NFI,5,0),1,0)*Table_NFI[[#This Row],[NFI Core Kit]],0)","v":0},{"$f":"IF(NFI_Expiration=1,IF($A74<VLOOKUP(J$5,NFI,5,0),1,0)*Table_NFI[[#This Row],[Sanitary Kit]],0)","v":0},{"$f":"IF(NFI_Expiration=1,IF($A74<VLOOKUP(K$5,NFI,5,0),1,0)*Table_NFI[[#This Row],[Mosquito net]],0)","v":0},{"$f":"IF(NFI_Expiration=1,IF($A74<VLOOKUP(L$5,NFI,5,0),1,0)*Table_NFI[[#This Row],[Tarpaulin]],0)","v":506},{"$f":"IF(NFI_Expiration=1,IF($A74<VLOOKUP(M$5,NFI,5,0),1,0)*Table_NFI[[#This Row],[Blanket]],0)","v":0},{"$f":"IF(NFI_Expiration=1,IF($A74<VLOOKUP(N$5,NFI,5,0),1,0)*Table_NFI[[#This Row],[Kitchen Set]],0)","v":0},{"$f":"IF(NFI_Expiration=1,IF($A74<VLOOKUP(O$5,NFI,5,0),1,0)*Table_NFI[[#This Row],[Complementary Kit]],0)","v":0},{"$f":"IF(NFI_Expiration=1,IF($A74<VLOOKUP(P$5,NFI,5,0),1,0)*Table_NFI[[#This Row],[Plastic Bucket]],0)","v":0},{"$f":"IF(NFI_Expiration=1,IF($A74<VLOOKUP(Q$5,NFI,5,0),1,0)*Table_NFI[[#This Row],[Plastic Mat]],0)","v":0},{"$f":"VLOOKUP(Table_NFI[[#This Row],[Camp Name]],Camp_List!N$5:AA$254,2,0)","v":"MMR012CMP017"},{"$f":"VLOOKUP(Table_NFI[[#This Row],[Camp Name]],Camp_List!N$5:AA$254,14,0)","v":"Open"},{"$f":"VLOOKUP(Table_NFI[[#This Row],[Camp Name]],Camp_List!N$5:AC$254,1,1)","v":"Nget Chaung"}]
[8.3666666666666671,"2012-12-24","UNHCR",null,"Rakhine","Pauktaw","Nget Chaung",null,null,null,null,1306,null,null,null,null,null,{"$f":"IF(NFI_Expiration=1,IF($A75<VLOOKUP(H$5,NFI,5,0),1,0)*Table_NFI[[#This Row],[Hygiene Kit]],0)","v":0},{"$f":"IF(NFI_Expiration=1,IF($A75<VLOOKUP(I$5,NFI,5,0),1,0)*Table_NFI[[#This Row],[NFI Core Kit]],0)","v":0},{"$f":"IF(NFI_Expiration=1,IF($A75<VLOOKUP(J$5,NFI,5,0),1,0)*Table_NFI[[#This Row],[Sanitary Kit]],0)","v":0},{"$f":"IF(NFI_Expiration=1,IF($A75<VLOOKUP(K$5,NFI,5,0),1,0)*Table_NFI[[#This Row],[Mosquito net]],0)","v":0},{"$f":"IF(NFI_Expiration=1,IF($A75<VLOOKUP(L$5,NFI,5,0),1,0)*Table_NFI[[#This Row],[Tarpaulin]],0)","v":1306},{"$f":"IF(NFI_Expiration=1,IF($A75<VLOOKUP(M$5,NFI,5,0),1,0)*Table_NFI[[#This Row],[Blanket]],0)","v":0},{"$f":"IF(NFI_Expiration=1,IF($A75<VLOOKUP(N$5,NFI,5,0),1,0)*Table_NFI[[#This Row],[Kitchen Set]],0)","v":0},{"$f":"IF(NFI_Expiration=1,IF($A75<VLOOKUP(O$5,NFI,5,0),1,0)*Table_NFI[[#This Row],[Complementary Kit]],0)","v":0},{"$f":"IF(NFI_Expiration=1,IF($A75<VLOOKUP(P$5,NFI,5,0),1,0)*Table_NFI[[#This Row],[Plastic Bucket]],0)","v":0},{"$f":"IF(NFI_Expiration=1,IF($A75<VLOOKUP(Q$5,NFI,5,0),1,0)*Table_NFI[[#This Row],[Plastic Mat]],0)","v":0},{"$f":"VLOOKUP(Table_NFI[[#This Row],[Camp Name]],Camp_List!N$5:AA$254,2,0)","v":"MMR012CMP017"},{"$f":"VLOOKUP(Table_NFI[[#This Row],[Camp Name]],Camp_List!N$5:AA$254,14,0)","v":"Open"},{"$f":"VLOOKUP(Table_NFI[[#This Row],[Camp Name]],Camp_List!N$5:AC$254,1,1)","v":"Nget Chaung"}]
[6.3666666666666663,"2013-02-22","UNICEF ",null,"Rakhine","Pauktaw","Nget Chaung",1306,0,null,null,null,null,null,null,null,null,{"$f":"IF(NFI_Expiration=1,IF($A76<VLOOKUP(H$5,NFI,5,0),1,0)*Table_NFI[[#This Row],[Hygiene Kit]],0)","v":1306},{"$f":"IF(NFI_Expiration=1,IF($A76<VLOOKUP(I$5,NFI,5,0),1,0)*Table_NFI[[#This Row],[NFI Core Kit]],0)","v":0},{"$f":"IF(NFI_Expiration=1,IF($A76<VLOOKUP(J$5,NFI,5,0),1,0)*Table_NFI[[#This Row],[Sanitary Kit]],0)","v":0},{"$f":"IF(NFI_Expiration=1,IF($A76<VLOOKUP(K$5,NFI,5,0),1,0)*Table_NFI[[#This Row],[Mosquito net]],0)","v":0},{"$f":"IF(NFI_Expiration=1,IF($A76<VLOOKUP(L$5,NFI,5,0),1,0)*Table_NFI[[#This Row],[Tarpaulin]],0)","v":0},{"$f":"IF(NFI_Expiration=1,IF($A76<VLOOKUP(M$5,NFI,5,0),1,0)*Table_NFI[[#This Row],[Blanket]],0)","v":0},{"$f":"IF(NFI_Expiration=1,IF($A76<VLOOKUP(N$5,NFI,5,0),1,0)*Table_NFI[[#This Row],[Kitchen Set]],0)","v":0},{"$f":"IF(NFI_Expiration=1,IF($A76<VLOOKUP(O$5,NFI,5,0),1,0)*Table_NFI[[#This Row],[Complementary Kit]],0)","v":0},{"$f":"IF(NFI_Expiration=1,IF($A76<VLOOKUP(P$5,NFI,5,0),1,0)*Table_NFI[[#This Row],[Plastic Bucket]],0)","v":0},{"$f":"IF(NFI_Expiration=1,IF($A76<VLOOKUP(Q$5,NFI,5,0),1,0)*Table_NFI[[#This Row],[Plastic Mat]],0)","v":0},{"$f":"VLOOKUP(Table_NFI[[#This Row],[Camp Name]],Camp_List!N$5:AA$254,2,0)","v":"MMR012CMP017"},{"$f":"VLOOKUP(Table_NFI[[#This Row],[Camp Name]],Camp_List!N$5:AA$254,14,0)","v":"Open"},{"$f":"VLOOKUP(Table_NFI[[#This Row],[Camp Name]],Camp_List!N$5:AC$254,1,1)","v":"Nget Chaung"}]
[4.333333333333333,"2013-04-24","Save the Children","Save the Children","Rakhine","Pauktaw","Nget Chaung",1338,null,null,null,null,null,null,null,null,null,{"$f":"IF(NFI_Expiration=1,IF($A77<VLOOKUP(H$5,NFI,5,0),1,0)*Table_NFI[[#This Row],[Hygiene Kit]],0)","v":1338},{"$f":"IF(NFI_Expiration=1,IF($A77<VLOOKUP(I$5,NFI,5,0),1,0)*Table_NFI[[#This Row],[NFI Core Kit]],0)","v":0},{"$f":"IF(NFI_Expiration=1,IF($A77<VLOOKUP(J$5,NFI,5,0),1,0)*Table_NFI[[#This Row],[Sanitary Kit]],0)","v":0},{"$f":"IF(NFI_Expiration=1,IF($A77<VLOOKUP(K$5,NFI,5,0),1,0)*Table_NFI[[#This Row],[Mosquito net]],0)","v":0},{"$f":"IF(NFI_Expiration=1,IF($A77<VLOOKUP(L$5,NFI,5,0),1,0)*Table_NFI[[#This Row],[Tarpaulin]],0)","v":0},{"$f":"IF(NFI_Expiration=1,IF($A77<VLOOKUP(M$5,NFI,5,0),1,0)*Table_NFI[[#This Row],[Blanket]],0)","v":0},{"$f":"IF(NFI_Expiration=1,IF($A77<VLOOKUP(N$5,NFI,5,0),1,0)*Table_NFI[[#This Row],[Kitchen Set]],0)","v":0},{"$f":"IF(NFI_Expiration=1,IF($A77<VLOOKUP(O$5,NFI,5,0),1,0)*Table_NFI[[#This Row],[Complementary Kit]],0)","v":0},{"$f":"IF(NFI_Expiration=1,IF($A77<VLOOKUP(P$5,NFI,5,0),1,0)*Table_NFI[[#This Row],[Plastic Bucket]],0)","v":0},{"$f":"IF(NFI_Expiration=1,IF($A77<VLOOKUP(Q$5,NFI,5,0),1,0)*Table_NFI[[#This Row],[Plastic Mat]],0)","v":0},{"$f":"VLOOKUP(Table_NFI[[#This Row],[Camp Name]],Camp_List!N$5:AA$254,2,0)","v":"MMR012CMP017"},{"$f":"VLOOKUP(Table_NFI[[#This Row],[Camp Name]],Camp_List!N$5:AA$254,14,0)","v":"Open"},{"$f":"VLOOKUP(Table_NFI[[#This Row],[Camp Name]],Camp_List!N$5:AC$254,1,1)","v":"Nget Chaung"}]
[3.1666666666666665,"2013-05-29","Save the Children","Save the Children","Rakhine","Pauktaw","Nget Chaung",173,null,null,null,null,null,null,null,null,null,{"$f":"IF(NFI_Expiration=1,IF($A78<VLOOKUP(H$5,NFI,5,0),1,0)*Table_NFI[[#This Row],[Hygiene Kit]],0)","v":173},{"$f":"IF(NFI_Expiration=1,IF($A78<VLOOKUP(I$5,NFI,5,0),1,0)*Table_NFI[[#This Row],[NFI Core Kit]],0)","v":0},{"$f":"IF(NFI_Expiration=1,IF($A78<VLOOKUP(J$5,NFI,5,0),1,0)*Table_NFI[[#This Row],[Sanitary Kit]],0)","v":0},{"$f":"IF(NFI_Expiration=1,IF($A78<VLOOKUP(K$5,NFI,5,0),1,0)*Table_NFI[[#This Row],[Mosquito net]],0)","v":0},{"$f":"IF(NFI_Expiration=1,IF($A78<VLOOKUP(L$5,NFI,5,0),1,0)*Table_NFI[[#This Row],[Tarpaulin]],0)","v":0},{"$f":"IF(NFI_Expiration=1,IF($A78<VLOOKUP(M$5,NFI,5,0),1,0)*Table_NFI[[#This Row],[Blanket]],0)","v":0},{"$f":"IF(NFI_Expiration=1,IF($A78<VLOOKUP(N$5,NFI,5,0),1,0)*Table_NFI[[#This Row],[Kitchen Set]],0)","v":0},{"$f":"IF(NFI_Expiration=1,IF($A78<VLOOKUP(O$5,NFI,5,0),1,0)*Table_NFI[[#This Row],[Complementary Kit]],0)","v":0},{"$f":"IF(NFI_Expiration=1,IF($A78<VLOOKUP(P$5,NFI,5,0),1,0)*Table_NFI[[#This Row],[Plastic Bucket]],0)","v":0},{"$f":"IF(NFI_Expiration=1,IF($A78<VLOOKUP(Q$5,NFI,5,0),1,0)*Table_NFI[[#This Row],[Plastic Mat]],0)","v":0},{"$f":"VLOOKUP(Table_NFI[[#This Row],[Camp Name]],Camp_List!N$5:AA$254,2,0)","v":"MMR012CMP017"},{"$f":"VLOOKUP(Table_NFI[[#This Row],[Camp Name]],Camp_List!N$5:AA$254,14,0)","v":"Open"},{"$f":"VLOOKUP(Table_NFI[[#This Row],[Camp Name]],Camp_List!N$5:AC$254,1,1)","v":"Nget Chaung"}]
[9.5333333333333332,"2012-11-19","UNHCR",null,"Rakhine","Pauktaw","Kyein Ni Pyin",null,null,null,null,369,null,null,null,null,null,{"$f":"IF(NFI_Expiration=1,IF($A79<VLOOKUP(H$5,NFI,5,0),1,0)*Table_NFI[[#This Row],[Hygiene Kit]],0)","v":0},{"$f":"IF(NFI_Expiration=1,IF($A79<VLOOKUP(I$5,NFI,5,0),1,0)*Table_NFI[[#This Row],[NFI Core Kit]],0)","v":0},{"$f":"IF(NFI_Expiration=1,IF($A79<VLOOKUP(J$5,NFI,5,0),1,0)*Table_NFI[[#This Row],[Sanitary Kit]],0)","v":0},{"$f":"IF(NFI_Expiration=1,IF($A79<VLOOKUP(K$5,NFI,5,0),1,0)*Table_NFI[[#This Row],[Mosquito net]],0)","v":0},{"$f":"IF(NFI_Expiration=1,IF($A79<VLOOKUP(L$5,NFI,5,0),1,0)*Table_NFI[[#This Row],[Tarpaulin]],0)","v":369},{"$f":"IF(NFI_Expiration=1,IF($A79<VLOOKUP(M$5,NFI,5,0),1,0)*Table_NFI[[#This Row],[Blanket]],0)","v":0},{"$f":"IF(NFI_Expiration=1,IF($A79<VLOOKUP(N$5,NFI,5,0),1,0)*Table_NFI[[#This Row],[Kitchen Set]],0)","v":0},{"$f":"IF(NFI_Expiration=1,IF($A79<VLOOKUP(O$5,NFI,5,0),1,0)*Table_NFI[[#This Row],[Complementary Kit]],0)","v":0},{"$f":"IF(NFI_Expiration=1,IF($A79<VLOOKUP(P$5,NFI,5,0),1,0)*Table_NFI[[#This Row],[Plastic Bucket]],0)","v":0},{"$f":"IF(NFI_Expiration=1,IF($A79<VLOOKUP(Q$5,NFI,5,0),1,0)*Table_NFI[[#This Row],[Plastic Mat]],0)","v":0},{"$f":"VLOOKUP(Table_NFI[[#This Row],[Camp Name]],Camp_List!N$5:AA$254,2,0)","v":"MMR012CMP018"},{"$f":"VLOOKUP(Table_NFI[[#This Row],[Camp Name]],Camp_List!N$5:AA$254,14,0)","v":"Open"},{"$f":"VLOOKUP(Table_NFI[[#This Row],[Camp Name]],Camp_List!N$5:AC$254,1,1)","v":"Kyein Ni Pyin"}]
[7.0666666666666664,"2013-02-01","Save the Children","Save the Children","Rakhine","Pauktaw","Kyein Ni Pyin",858,null,null,null,null,null,null,null,null,null,{"$f":"IF(NFI_Expiration=1,IF($A80<VLOOKUP(H$5,NFI,5,0),1,0)*Table_NFI[[#This Row],[Hygiene Kit]],0)","v":858},{"$f":"IF(NFI_Expiration=1,IF($A80<VLOOKUP(I$5,NFI,5,0),1,0)*Table_NFI[[#This Row],[NFI Core Kit]],0)","v":0},{"$f":"IF(NFI_Expiration=1,IF($A80<VLOOKUP(J$5,NFI,5,0),1,0)*Table_NFI[[#This Row],[Sanitary Kit]],0)","v":0},{"$f":"IF(NFI_Expiration=1,IF($A80<VLOOKUP(K$5,NFI,5,0),1,0)*Table_NFI[[#This Row],[Mosquito net]],0)","v":0},{"$f":"IF(NFI_Expiration=1,IF($A80<VLOOKUP(L$5,NFI,5,0),1,0)*Table_NFI[[#This Row],[Tarpaulin]],0)","v":0},{"$f":"IF(NFI_Expiration=1,IF($A80<VLOOKUP(M$5,NFI,5,0),1,0)*Table_NFI[[#This Row],[Blanket]],0)","v":0},{"$f":"IF(NFI_Expiration=1,IF($A80<VLOOKUP(N$5,NFI,5,0),1,0)*Table_NFI[[#This Row],[Kitchen Set]],0)","v":0},{"$f":"IF(NFI_Expiration=1,IF($A80<VLOOKUP(O$5,NFI,5,0),1,0)*Table_NFI[[#This Row],[Complementary Kit]],0)","v":0},{"$f":"IF(NFI_Expiration=1,IF($A80<VLOOKUP(P$5,NFI,5,0),1,0)*Table_NFI[[#This Row],[Plastic Bucket]],0)","v":0},{"$f":"IF(NFI_Expiration=1,IF($A80<VLOOKUP(Q$5,NFI,5,0),1,0)*Table_NFI[[#This Row],[Plastic Mat]],0)","v":0},{"$f":"VLOOKUP(Table_NFI[[#This Row],[Camp Name]],Camp_List!N$5:AA$254,2,0)","v":"MMR012CMP018"},{"$f":"VLOOKUP(Table_NFI[[#This Row],[Camp Name]],Camp_List!N$5:AA$254,14,0)","v":"Open"},{"$f":"VLOOKUP(Table_NFI[[#This Row],[Camp Name]],Camp_List!N$5:AC$254,1,1)","v":"Kyein Ni Pyin"}]
[4.2666666666666666,"2013-04-26","Save the Children","Save the Children","Rakhine","Pauktaw","Kyein Ni Pyin",1028,null,null,null,null,null,null,null,null,null,{"$f":"IF(NFI_Expiration=1,IF($A81<VLOOKUP(H$5,NFI,5,0),1,0)*Table_NFI[[#This Row],[Hygiene Kit]],0)","v":1028},{"$f":"IF(NFI_Expiration=1,IF($A81<VLOOKUP(I$5,NFI,5,0),1,0)*Table_NFI[[#This Row],[NFI Core Kit]],0)","v":0},{"$f":"IF(NFI_Expiration=1,IF($A81<VLOOKUP(J$5,NFI,5,0),1,0)*Table_NFI[[#This Row],[Sanitary Kit]],0)","v":0},{"$f":"IF(NFI_Expiration=1,IF($A81<VLOOKUP(K$5,NFI,5,0),1,0)*Table_NFI[[#This Row],[Mosquito net]],0)","v":0},{"$f":"IF(NFI_Expiration=1,IF($A81<VLOOKUP(L$5,NFI,5,0),1,0)*Table_NFI[[#This Row],[Tarpaulin]],0)","v":0},{"$f":"IF(NFI_Expiration=1,IF($A81<VLOOKUP(M$5,NFI,5,0),1,0)*Table_NFI[[#This Row],[Blanket]],0)","v":0},{"$f":"IF(NFI_Expiration=1,IF($A81<VLOOKUP(N$5,NFI,5,0),1,0)*Table_NFI[[#This Row],[Kitchen Set]],0)","v":0},{"$f":"IF(NFI_Expiration=1,IF($A81<VLOOKUP(O$5,NFI,5,0),1,0)*Table_NFI[[#This Row],[Complementary Kit]],0)","v":0},{"$f":"IF(NFI_Expiration=1,IF($A81<VLOOKUP(P$5,NFI,5,0),1,0)*Table_NFI[[#This Row],[Plastic Bucket]],0)","v":0},{"$f":"IF(NFI_Expiration=1,IF($A81<VLOOKUP(Q$5,NFI,5,0),1,0)*Table_NFI[[#This Row],[Plastic Mat]],0)","v":0},{"$f":"VLOOKUP(Table_NFI[[#This Row],[Camp Name]],Camp_List!N$5:AA$254,2,0)","v":"MMR012CMP018"},{"$f":"VLOOKUP(Table_NFI[[#This Row],[Camp Name]],Camp_List!N$5:AA$254,14,0)","v":"Open"},{"$f":"VLOOKUP(Table_NFI[[#This Row],[Camp Name]],Camp_List!N$5:AC$254,1,1)","v":"Kyein Ni Pyin"}]
[3.4,"2013-05-22","Save the Children","Save the Children","Rakhine","Pauktaw","Kyein Ni Pyin",903,null,null,null,null,null,null,null,null,null,{"$f":"IF(NFI_Expiration=1,IF($A82<VLOOKUP(H$5,NFI,5,0),1,0)*Table_NFI[[#This Row],[Hygiene Kit]],0)","v":903},{"$f":"IF(NFI_Expiration=1,IF($A82<VLOOKUP(I$5,NFI,5,0),1,0)*Table_NFI[[#This Row],[NFI Core Kit]],0)","v":0},{"$f":"IF(NFI_Expiration=1,IF($A82<VLOOKUP(J$5,NFI,5,0),1,0)*Table_NFI[[#This Row],[Sanitary Kit]],0)","v":0},{"$f":"IF(NFI_Expiration=1,IF($A82<VLOOKUP(K$5,NFI,5,0),1,0)*Table_NFI[[#This Row],[Mosquito net]],0)","v":0},{"$f":"IF(NFI_Expiration=1,IF($A82<VLOOKUP(L$5,NFI,5,0),1,0)*Table_NFI[[#This Row],[Tarpaulin]],0)","v":0},{"$f":"IF(NFI_Expiration=1,IF($A82<VLOOKUP(M$5,NFI,5,0),1,0)*Table_NFI[[#This Row],[Blanket]],0)","v":0},{"$f":"IF(NFI_Expiration=1,IF($A82<VLOOKUP(N$5,NFI,5,0),1,0)*Table_NFI[[#This Row],[Kitchen Set]],0)","v":0},{"$f":"IF(NFI_Expiration=1,IF($A82<VLOOKUP(O$5,NFI,5,0),1,0)*Table_NFI[[#This Row],[Complementary Kit]],0)","v":0},{"$f":"IF(NFI_Expiration=1,IF($A82<VLOOKUP(P$5,NFI,5,0),1,0)*Table_NFI[[#This Row],[Plastic Bucket]],0)","v":0},{"$f":"IF(NFI_Expiration=1,IF($A82<VLOOKUP(Q$5,NFI,5,0),1,0)*Table_NFI[[#This Row],[Plastic Mat]],0)","v":0},{"$f":"VLOOKUP(Table_NFI[[#This Row],[Camp Name]],Camp_List!N$5:AA$254,2,0)","v":"MMR012CMP018"},{"$f":"VLOOKUP(Table_NFI[[#This Row],[Camp Name]],Camp_List!N$5:AA$254,14,0)","v":"Open"},{"$f":"VLOOKUP(Table_NFI[[#This Row],[Camp Name]],Camp_List!N$5:AC$254,1,1)","v":"Kyein Ni Pyin"}]
[10.066666666666666,"2012-11-03","UNHCR",null,"Rakhine","Pauktaw","Sin Tet Maw",null,null,null,null,500,null,null,null,null,null,{"$f":"IF(NFI_Expiration=1,IF($A83<VLOOKUP(H$5,NFI,5,0),1,0)*Table_NFI[[#This Row],[Hygiene Kit]],0)","v":0},{"$f":"IF(NFI_Expiration=1,IF($A83<VLOOKUP(I$5,NFI,5,0),1,0)*Table_NFI[[#This Row],[NFI Core Kit]],0)","v":0},{"$f":"IF(NFI_Expiration=1,IF($A83<VLOOKUP(J$5,NFI,5,0),1,0)*Table_NFI[[#This Row],[Sanitary Kit]],0)","v":0},{"$f":"IF(NFI_Expiration=1,IF($A83<VLOOKUP(K$5,NFI,5,0),1,0)*Table_NFI[[#This Row],[Mosquito net]],0)","v":0},{"$f":"IF(NFI_Expiration=1,IF($A83<VLOOKUP(L$5,NFI,5,0),1,0)*Table_NFI[[#This Row],[Tarpaulin]],0)","v":500},{"$f":"IF(NFI_Expiration=1,IF($A83<VLOOKUP(M$5,NFI,5,0),1,0)*Table_NFI[[#This Row],[Blanket]],0)","v":0},{"$f":"IF(NFI_Expiration=1,IF($A83<VLOOKUP(N$5,NFI,5,0),1,0)*Table_NFI[[#This Row],[Kitchen Set]],0)","v":0},{"$f":"IF(NFI_Expiration=1,IF($A83<VLOOKUP(O$5,NFI,5,0),1,0)*Table_NFI[[#This Row],[Complementary Kit]],0)","v":0},{"$f":"IF(NFI_Expiration=1,IF($A83<VLOOKUP(P$5,NFI,5,0),1,0)*Table_NFI[[#This Row],[Plastic Bucket]],0)","v":0},{"$f":"IF(NFI_Expiration=1,IF($A83<VLOOKUP(Q$5,NFI,5,0),1,0)*Table_NFI[[#This Row],[Plastic Mat]],0)","v":0},{"$f":"VLOOKUP(Table_NFI[[#This Row],[Camp Name]],Camp_List!N$5:AA$254,2,0)","v":"MMR012CMP019"},{"$f":"VLOOKUP(Table_NFI[[#This Row],[Camp Name]],Camp_List!N$5:AA$254,14,0)","v":"Open"},{"$f":"VLOOKUP(Table_NFI[[#This Row],[Camp Name]],Camp_List!N$5:AC$254,1,1)","v":"Sin Tet Maw"}]
[9.5333333333333332,"2012-11-19","UNHCR",null,"Rakhine","Pauktaw","Sin Tet Maw",null,null,null,null,362,null,null,null,null,null,{"$f":"IF(NFI_Expiration=1,IF($A84<VLOOKUP(H$5,NFI,5,0),1,0)*Table_NFI[[#This Row],[Hygiene Kit]],0)","v":0},{"$f":"IF(NFI_Expiration=1,IF($A84<VLOOKUP(I$5,NFI,5,0),1,0)*Table_NFI[[#This Row],[NFI Core Kit]],0)","v":0},{"$f":"IF(NFI_Expiration=1,IF($A84<VLOOKUP(J$5,NFI,5,0),1,0)*Table_NFI[[#This Row],[Sanitary Kit]],0)","v":0},{"$f":"IF(NFI_Expiration=1,IF($A84<VLOOKUP(K$5,NFI,5,0),1,0)*Table_NFI[[#This Row],[Mosquito net]],0)","v":0},{"$f":"IF(NFI_Expiration=1,IF($A84<VLOOKUP(L$5,NFI,5,0),1,0)*Table_NFI[[#This Row],[Tarpaulin]],0)","v":362},{"$f":"IF(NFI_Expiration=1,IF($A84<VLOOKUP(M$5,NFI,5,0),1,0)*Table_NFI[[#This Row],[Blanket]],0)","v":0},{"$f":"IF(NFI_Expiration=1,IF($A84<VLOOKUP(N$5,NFI,5,0),1,0)*Table_NFI[[#This Row],[Kitchen Set]],0)","v":0},{"$f":"IF(NFI_Expiration=1,IF($A84<VLOOKUP(O$5,NFI,5,0),1,0)*Table_NFI[[#This Row],[Complementary Kit]],0)","v":0},{"$f":"IF(NFI_Expiration=1,IF($A84<VLOOKUP(P$5,NFI,5,0),1,0)*Table_NFI[[#This Row],[Plastic Bucket]],0)","v":0},{"$f":"IF(NFI_Expiration=1,IF($A84<VLOOKUP(Q$5,NFI,5,0),1,0)*Table_NFI[[#This Row],[Plastic Mat]],0)","v":0},{"$f":"VLOOKUP(Table_NFI[[#This Row],[Camp Name]],Camp_List!N$5:AA$254,2,0)","v":"MMR012CMP019"},{"$f":"VLOOKUP(Table_NFI[[#This Row],[Camp Name]],Camp_List!N$5:AA$254,14,0)","v":"Open"},{"$f":"VLOOKUP(Table_NFI[[#This Row],[Camp Name]],Camp_List!N$5:AC$254,1,1)","v":"Sin Tet Maw"}]
[8.3666666666666671,"2012-12-24","UNHCR",null,"Rakhine","Pauktaw","Sin Tet Maw",null,null,null,null,796,null,null,null,null,null,{"$f":"IF(NFI_Expiration=1,IF($A85<VLOOKUP(H$5,NFI,5,0),1,0)*Table_NFI[[#This Row],[Hygiene Kit]],0)","v":0},{"$f":"IF(NFI_Expiration=1,IF($A85<VLOOKUP(I$5,NFI,5,0),1,0)*Table_NFI[[#This Row],[NFI Core Kit]],0)","v":0},{"$f":"IF(NFI_Expiration=1,IF($A85<VLOOKUP(J$5,NFI,5,0),1,0)*Table_NFI[[#This Row],[Sanitary Kit]],0)","v":0},{"$f":"IF(NFI_Expiration=1,IF($A85<VLOOKUP(K$5,NFI,5,0),1,0)*Table_NFI[[#This Row],[Mosquito net]],0)","v":0},{"$f":"IF(NFI_Expiration=1,IF($A85<VLOOKUP(L$5,NFI,5,0),1,0)*Table_NFI[[#This Row],[Tarpaulin]],0)","v":796},{"$f":"IF(NFI_Expiration=1,IF($A85<VLOOKUP(M$5,NFI,5,0),1,0)*Table_NFI[[#This Row],[Blanket]],0)","v":0},{"$f":"IF(NFI_Expiration=1,IF($A85<VLOOKUP(N$5,NFI,5,0),1,0)*Table_NFI[[#This Row],[Kitchen Set]],0)","v":0},{"$f":"IF(NFI_Expiration=1,IF($A85<VLOOKUP(O$5,NFI,5,0),1,0)*Table_NFI[[#This Row],[Complementary Kit]],0)","v":0},{"$f":"IF(NFI_Expiration=1,IF($A85<VLOOKUP(P$5,NFI,5,0),1,0)*Table_NFI[[#This Row],[Plastic Bucket]],0)","v":0},{"$f":"IF(NFI_Expiration=1,IF($A85<VLOOKUP(Q$5,NFI,5,0),1,0)*Table_NFI[[#This Row],[Plastic Mat]],0)","v":0},{"$f":"VLOOKUP(Table_NFI[[#This Row],[Camp Name]],Camp_List!N$5:AA$254,2,0)","v":"MMR012CMP019"},{"$f":"VLOOKUP(Table_NFI[[#This Row],[Camp Name]],Camp_List!N$5:AA$254,14,0)","v":"Open"},{"$f":"VLOOKUP(Table_NFI[[#This Row],[Camp Name]],Camp_List!N$5:AC$254,1,1)","v":"Sin Tet Maw"}]
[7.1333333333333337,"2013-01-30","Save the Children","Save the Children","Rakhine","Pauktaw","Sin Tet Maw",810,null,null,null,null,null,null,null,null,null,{"$f":"IF(NFI_Expiration=1,IF($A86<VLOOKUP(H$5,NFI,5,0),1,0)*Table_NFI[[#This Row],[Hygiene Kit]],0)","v":810},{"$f":"IF(NFI_Expiration=1,IF($A86<VLOOKUP(I$5,NFI,5,0),1,0)*Table_NFI[[#This Row],[NFI Core Kit]],0)","v":0},{"$f":"IF(NFI_Expiration=1,IF($A86<VLOOKUP(J$5,NFI,5,0),1,0)*Table_NFI[[#This Row],[Sanitary Kit]],0)","v":0},{"$f":"IF(NFI_Expiration=1,IF($A86<VLOOKUP(K$5,NFI,5,0),1,0)*Table_NFI[[#This Row],[Mosquito net]],0)","v":0},{"$f":"IF(NFI_Expiration=1,IF($A86<VLOOKUP(L$5,NFI,5,0),1,0)*Table_NFI[[#This Row],[Tarpaulin]],0)","v":0},{"$f":"IF(NFI_Expiration=1,IF($A86<VLOOKUP(M$5,NFI,5,0),1,0)*Table_NFI[[#This Row],[Blanket]],0)","v":0},{"$f":"IF(NFI_Expiration=1,IF($A86<VLOOKUP(N$5,NFI,5,0),1,0)*Table_NFI[[#This Row],[Kitchen Set]],0)","v":0},{"$f":"IF(NFI_Expiration=1,IF($A86<VLOOKUP(O$5,NFI,5,0),1,0)*Table_NFI[[#This Row],[Complementary Kit]],0)","v":0},{"$f":"IF(NFI_Expiration=1,IF($A86<VLOOKUP(P$5,NFI,5,0),1,0)*Table_NFI[[#This Row],[Plastic Bucket]],0)","v":0},{"$f":"IF(NFI_Expiration=1,IF($A86<VLOOKUP(Q$5,NFI,5,0),1,0)*Table_NFI[[#This Row],[Plastic Mat]],0)","v":0},{"$f":"VLOOKUP(Table_NFI[[#This Row],[Camp Name]],Camp_List!N$5:AA$254,2,0)","v":"MMR012CMP019"},{"$f":"VLOOKUP(Table_NFI[[#This Row],[Camp Name]],Camp_List!N$5:AA$254,14,0)","v":"Open"},{"$f":"VLOOKUP(Table_NFI[[#This Row],[Camp Name]],Camp_List!N$5:AC$254,1,1)","v":"Sin Tet Maw"}]
[4.8,"2013-04-10","UNHCR",null,"Rakhine","Pauktaw","Sin Tet Maw",null,null,null,null,null,91,null,null,null,null,{"$f":"IF(NFI_Expiration=1,IF($A87<VLOOKUP(H$5,NFI,5,0),1,0)*Table_NFI[[#This Row],[Hygiene Kit]],0)","v":0},{"$f":"IF(NFI_Expiration=1,IF($A87<VLOOKUP(I$5,NFI,5,0),1,0)*Table_NFI[[#This Row],[NFI Core Kit]],0)","v":0},{"$f":"IF(NFI_Expiration=1,IF($A87<VLOOKUP(J$5,NFI,5,0),1,0)*Table_NFI[[#This Row],[Sanitary Kit]],0)","v":0},{"$f":"IF(NFI_Expiration=1,IF($A87<VLOOKUP(K$5,NFI,5,0),1,0)*Table_NFI[[#This Row],[Mosquito net]],0)","v":0},{"$f":"IF(NFI_Expiration=1,IF($A87<VLOOKUP(L$5,NFI,5,0),1,0)*Table_NFI[[#This Row],[Tarpaulin]],0)","v":0},{"$f":"IF(NFI_Expiration=1,IF($A87<VLOOKUP(M$5,NFI,5,0),1,0)*Table_NFI[[#This Row],[Blanket]],0)","v":91},{"$f":"IF(NFI_Expiration=1,IF($A87<VLOOKUP(N$5,NFI,5,0),1,0)*Table_NFI[[#This Row],[Kitchen Set]],0)","v":0},{"$f":"IF(NFI_Expiration=1,IF($A87<VLOOKUP(O$5,NFI,5,0),1,0)*Table_NFI[[#This Row],[Complementary Kit]],0)","v":0},{"$f":"IF(NFI_Expiration=1,IF($A87<VLOOKUP(P$5,NFI,5,0),1,0)*Table_NFI[[#This Row],[Plastic Bucket]],0)","v":0},{"$f":"IF(NFI_Expiration=1,IF($A87<VLOOKUP(Q$5,NFI,5,0),1,0)*Table_NFI[[#This Row],[Plastic Mat]],0)","v":0},{"$f":"VLOOKUP(Table_NFI[[#This Row],[Camp Name]],Camp_List!N$5:AA$254,2,0)","v":"MMR012CMP019"},{"$f":"VLOOKUP(Table_NFI[[#This Row],[Camp Name]],Camp_List!N$5:AA$254,14,0)","v":"Open"},{"$f":"VLOOKUP(Table_NFI[[#This Row],[Camp Name]],Camp_List!N$5:AC$254,1,1)","v":"Sin Tet Maw"}]
[3.2,"2013-05-28","Save the Children","Save the Children","Rakhine","Pauktaw","Sin Tet Maw",849,null,null,null,null,null,null,null,null,null,{"$f":"IF(NFI_Expiration=1,IF($A88<VLOOKUP(H$5,NFI,5,0),1,0)*Table_NFI[[#This Row],[Hygiene Kit]],0)","v":849},{"$f":"IF(NFI_Expiration=1,IF($A88<VLOOKUP(I$5,NFI,5,0),1,0)*Table_NFI[[#This Row],[NFI Core Kit]],0)","v":0},{"$f":"IF(NFI_Expiration=1,IF($A88<VLOOKUP(J$5,NFI,5,0),1,0)*Table_NFI[[#This Row],[Sanitary Kit]],0)","v":0},{"$f":"IF(NFI_Expiration=1,IF($A88<VLOOKUP(K$5,NFI,5,0),1,0)*Table_NFI[[#This Row],[Mosquito net]],0)","v":0},{"$f":"IF(NFI_Expiration=1,IF($A88<VLOOKUP(L$5,NFI,5,0),1,0)*Table_NFI[[#This Row],[Tarpaulin]],0)","v":0},{"$f":"IF(NFI_Expiration=1,IF($A88<VLOOKUP(M$5,NFI,5,0),1,0)*Table_NFI[[#This Row],[Blanket]],0)","v":0},{"$f":"IF(NFI_Expiration=1,IF($A88<VLOOKUP(N$5,NFI,5,0),1,0)*Table_NFI[[#This Row],[Kitchen Set]],0)","v":0},{"$f":"IF(NFI_Expiration=1,IF($A88<VLOOKUP(O$5,NFI,5,0),1,0)*Table_NFI[[#This Row],[Complementary Kit]],0)","v":0},{"$f":"IF(NFI_Expiration=1,IF($A88<VLOOKUP(P$5,NFI,5,0),1,0)*Table_NFI[[#This Row],[Plastic Bucket]],0)","v":0},{"$f":"IF(NFI_Expiration=1,IF($A88<VLOOKUP(Q$5,NFI,5,0),1,0)*Table_NFI[[#This Row],[Plastic Mat]],0)","v":0},{"$f":"VLOOKUP(Table_NFI[[#This Row],[Camp Name]],Camp_List!N$5:AA$254,2,0)","v":"MMR012CMP019"},{"$f":"VLOOKUP(Table_NFI[[#This Row],[Camp Name]],Camp_List!N$5:AA$254,14,0)","v":"Open"},{"$f":"VLOOKUP(Table_NFI[[#This Row],[Camp Name]],Camp_List!N$5:AC$254,1,1)","v":"Sin Tet Maw"}]
[8.7333333333333325,"2012-12-13","UNHCR",null,"Rakhine","Kyauktaw","Let Saung Kauk",null,null,null,null,null,18,null,null,null,null,{"$f":"IF(NFI_Expiration=1,IF($A89<VLOOKUP(H$5,NFI,5,0),1,0)*Table_NFI[[#This Row],[Hygiene Kit]],0)","v":0},{"$f":"IF(NFI_Expiration=1,IF($A89<VLOOKUP(I$5,NFI,5,0),1,0)*Table_NFI[[#This Row],[NFI Core Kit]],0)","v":0},{"$f":"IF(NFI_Expiration=1,IF($A89<VLOOKUP(J$5,NFI,5,0),1,0)*Table_NFI[[#This Row],[Sanitary Kit]],0)","v":0},{"$f":"IF(NFI_Expiration=1,IF($A89<VLOOKUP(K$5,NFI,5,0),1,0)*Table_NFI[[#This Row],[Mosquito net]],0)","v":0},{"$f":"IF(NFI_Expiration=1,IF($A89<VLOOKUP(L$5,NFI,5,0),1,0)*Table_NFI[[#This Row],[Tarpaulin]],0)","v":0},{"$f":"IF(NFI_Expiration=1,IF($A89<VLOOKUP(M$5,NFI,5,0),1,0)*Table_NFI[[#This Row],[Blanket]],0)","v":18},{"$f":"IF(NFI_Expiration=1,IF($A89<VLOOKUP(N$5,NFI,5,0),1,0)*Table_NFI[[#This Row],[Kitchen Set]],0)","v":0},{"$f":"IF(NFI_Expiration=1,IF($A89<VLOOKUP(O$5,NFI,5,0),1,0)*Table_NFI[[#This Row],[Complementary Kit]],0)","v":0},{"$f":"IF(NFI_Expiration=1,IF($A89<VLOOKUP(P$5,NFI,5,0),1,0)*Table_NFI[[#This Row],[Plastic Bucket]],0)","v":0},{"$f":"IF(NFI_Expiration=1,IF($A89<VLOOKUP(Q$5,NFI,5,0),1,0)*Table_NFI[[#This Row],[Plastic Mat]],0)","v":0},{"$f":"VLOOKUP(Table_NFI[[#This Row],[Camp Name]],Camp_List!N$5:AA$254,2,0)","v":"MMR012CMP020"},{"$f":"VLOOKUP(Table_NFI[[#This Row],[Camp Name]],Camp_List!N$5:AA$254,14,0)","v":"Open"},{"$f":"VLOOKUP(Table_NFI[[#This Row],[Camp Name]],Camp_List!N$5:AC$254,1,1)","v":"Let Saung Kauk"}]
[2.0666666666666669,"2013-07-01","UNFPA","UNHCR","Rakhine","Kyauktaw","Let Saung Kauk",null,null,60,null,null,null,null,null,null,null,{"$f":"IF(NFI_Expiration=1,IF($A90<VLOOKUP(H$5,NFI,5,0),1,0)*Table_NFI[[#This Row],[Hygiene Kit]],0)","v":0},{"$f":"IF(NFI_Expiration=1,IF($A90<VLOOKUP(I$5,NFI,5,0),1,0)*Table_NFI[[#This Row],[NFI Core Kit]],0)","v":0},{"$f":"IF(NFI_Expiration=1,IF($A90<VLOOKUP(J$5,NFI,5,0),1,0)*Table_NFI[[#This Row],[Sanitary Kit]],0)","v":60},{"$f":"IF(NFI_Expiration=1,IF($A90<VLOOKUP(K$5,NFI,5,0),1,0)*Table_NFI[[#This Row],[Mosquito net]],0)","v":0},{"$f":"IF(NFI_Expiration=1,IF($A90<VLOOKUP(L$5,NFI,5,0),1,0)*Table_NFI[[#This Row],[Tarpaulin]],0)","v":0},{"$f":"IF(NFI_Expiration=1,IF($A90<VLOOKUP(M$5,NFI,5,0),1,0)*Table_NFI[[#This Row],[Blanket]],0)","v":0},{"$f":"IF(NFI_Expiration=1,IF($A90<VLOOKUP(N$5,NFI,5,0),1,0)*Table_NFI[[#This Row],[Kitchen Set]],0)","v":0},{"$f":"IF(NFI_Expiration=1,IF($A90<VLOOKUP(O$5,NFI,5,0),1,0)*Table_NFI[[#This Row],[Complementary Kit]],0)","v":0},{"$f":"IF(NFI_Expiration=1,IF($A90<VLOOKUP(P$5,NFI,5,0),1,0)*Table_NFI[[#This Row],[Plastic Bucket]],0)","v":0},{"$f":"IF(NFI_Expiration=1,IF($A90<VLOOKUP(Q$5,NFI,5,0),1,0)*Table_NFI[[#This Row],[Plastic Mat]],0)","v":0},{"$f":"VLOOKUP(Table_NFI[[#This Row],[Camp Name]],Camp_List!N$5:AA$254,2,0)","v":"MMR012CMP020"},{"$f":"VLOOKUP(Table_NFI[[#This Row],[Camp Name]],Camp_List!N$5:AA$254,14,0)","v":"Open"},{"$f":"VLOOKUP(Table_NFI[[#This Row],[Camp Name]],Camp_List!N$5:AC$254,1,1)","v":"Let Saung Kauk"}]
[2.0666666666666669,"2013-07-01","UNHCR","UNHCR","Rakhine","Kyauktaw","Let Saung Kauk",null,null,null,null,null,null,null,null,null,null,{"$f":"IF(NFI_Expiration=1,IF($A91<VLOOKUP(H$5,NFI,5,0),1,0)*Table_NFI[[#This Row],[Hygiene Kit]],0)","v":0},{"$f":"IF(NFI_Expiration=1,IF($A91<VLOOKUP(I$5,NFI,5,0),1,0)*Table_NFI[[#This Row],[NFI Core Kit]],0)","v":0},{"$f":"IF(NFI_Expiration=1,IF($A91<VLOOKUP(J$5,NFI,5,0),1,0)*Table_NFI[[#This Row],[Sanitary Kit]],0)","v":0},{"$f":"IF(NFI_Expiration=1,IF($A91<VLOOKUP(K$5,NFI,5,0),1,0)*Table_NFI[[#This Row],[Mosquito net]],0)","v":0},{"$f":"IF(NFI_Expiration=1,IF($A91<VLOOKUP(L$5,NFI,5,0),1,0)*Table_NFI[[#This Row],[Tarpaulin]],0)","v":0},{"$f":"IF(NFI_Expiration=1,IF($A91<VLOOKUP(M$5,NFI,5,0),1,0)*Table_NFI[[#This Row],[Blanket]],0)","v":0},{"$f":"IF(NFI_Expiration=1,IF($A91<VLOOKUP(N$5,NFI,5,0),1,0)*Table_NFI[[#This Row],[Kitchen Set]],0)","v":0},{"$f":"IF(NFI_Expiration=1,IF($A91<VLOOKUP(O$5,NFI,5,0),1,0)*Table_NFI[[#This Row],[Complementary Kit]],0)","v":0},{"$f":"IF(NFI_Expiration=1,IF($A91<VLOOKUP(P$5,NFI,5,0),1,0)*Table_NFI[[#This Row],[Plastic Bucket]],0)","v":0},{"$f":"IF(NFI_Expiration=1,IF($A91<VLOOKUP(Q$5,NFI,5,0),1,0)*Table_NFI[[#This Row],[Plastic Mat]],0)","v":0},{"$f":"VLOOKUP(Table_NFI[[#This Row],[Camp Name]],Camp_List!N$5:AA$254,2,0)","v":"MMR012CMP020"},{"$f":"VLOOKUP(Table_NFI[[#This Row],[Camp Name]],Camp_List!N$5:AA$254,14,0)","v":"Open"},{"$f":"VLOOKUP(Table_NFI[[#This Row],[Camp Name]],Camp_List!N$5:AC$254,1,1)","v":"Let Saung Kauk"}]
[2.0666666666666669,"2013-07-01","UNHCR","UNHCR","Rakhine","Kyauktaw","Let Saung Kauk",null,83,null,166,83,166,83,83,83,166,{"$f":"IF(NFI_Expiration=1,IF($A92<VLOOKUP(H$5,NFI,5,0),1,0)*Table_NFI[[#This Row],[Hygiene Kit]],0)","v":0},{"$f":"IF(NFI_Expiration=1,IF($A92<VLOOKUP(I$5,NFI,5,0),1,0)*Table_NFI[[#This Row],[NFI Core Kit]],0)","v":83},{"$f":"IF(NFI_Expiration=1,IF($A92<VLOOKUP(J$5,NFI,5,0),1,0)*Table_NFI[[#This Row],[Sanitary Kit]],0)","v":0},{"$f":"IF(NFI_Expiration=1,IF($A92<VLOOKUP(K$5,NFI,5,0),1,0)*Table_NFI[[#This Row],[Mosquito net]],0)","v":166},{"$f":"IF(NFI_Expiration=1,IF($A92<VLOOKUP(L$5,NFI,5,0),1,0)*Table_NFI[[#This Row],[Tarpaulin]],0)","v":83},{"$f":"IF(NFI_Expiration=1,IF($A92<VLOOKUP(M$5,NFI,5,0),1,0)*Table_NFI[[#This Row],[Blanket]],0)","v":166},{"$f":"IF(NFI_Expiration=1,IF($A92<VLOOKUP(N$5,NFI,5,0),1,0)*Table_NFI[[#This Row],[Kitchen Set]],0)","v":83},{"$f":"IF(NFI_Expiration=1,IF($A92<VLOOKUP(O$5,NFI,5,0),1,0)*Table_NFI[[#This Row],[Complementary Kit]],0)","v":83},{"$f":"IF(NFI_Expiration=1,IF($A92<VLOOKUP(P$5,NFI,5,0),1,0)*Table_NFI[[#This Row],[Plastic Bucket]],0)","v":83},{"$f":"IF(NFI_Expiration=1,IF($A92<VLOOKUP(Q$5,NFI,5,0),1,0)*Table_NFI[[#This Row],[Plastic Mat]],0)","v":166},{"$f":"VLOOKUP(Table_NFI[[#This Row],[Camp Name]],Camp_List!N$5:AA$254,2,0)","v":"MMR012CMP020"},{"$f":"VLOOKUP(Table_NFI[[#This Row],[Camp Name]],Camp_List!N$5:AA$254,14,0)","v":"Open"},{"$f":"VLOOKUP(Table_NFI[[#This Row],[Camp Name]],Camp_List!N$5:AC$254,1,1)","v":"Let Saung Kauk"}]
[2.0666666666666669,"2013-07-01","UNHCR","UNHCR","Rakhine","Kyauktaw","Taung Bwe",null,null,null,null,null,null,null,null,null,null,{"$f":"IF(NFI_Expiration=1,IF($A93<VLOOKUP(H$5,NFI,5,0),1,0)*Table_NFI[[#This Row],[Hygiene Kit]],0)","v":0},{"$f":"IF(NFI_Expiration=1,IF($A93<VLOOKUP(I$5,NFI,5,0),1,0)*Table_NFI[[#This Row],[NFI Core Kit]],0)","v":0},{"$f":"IF(NFI_Expiration=1,IF($A93<VLOOKUP(J$5,NFI,5,0),1,0)*Table_NFI[[#This Row],[Sanitary Kit]],0)","v":0},{"$f":"IF(NFI_Expiration=1,IF($A93<VLOOKUP(K$5,NFI,5,0),1,0)*Table_NFI[[#This Row],[Mosquito net]],0)","v":0},{"$f":"IF(NFI_Expiration=1,IF($A93<VLOOKUP(L$5,NFI,5,0),1,0)*Table_NFI[[#This Row],[Tarpaulin]],0)","v":0},{"$f":"IF(NFI_Expiration=1,IF($A93<VLOOKUP(M$5,NFI,5,0),1,0)*Table_NFI[[#This Row],[Blanket]],0)","v":0},{"$f":"IF(NFI_Expiration=1,IF($A93<VLOOKUP(N$5,NFI,5,0),1,0)*Table_NFI[[#This Row],[Kitchen Set]],0)","v":0},{"$f":"IF(NFI_Expiration=1,IF($A93<VLOOKUP(O$5,NFI,5,0),1,0)*Table_NFI[[#This Row],[Complementary Kit]],0)","v":0},{"$f":"IF(NFI_Expiration=1,IF($A93<VLOOKUP(P$5,NFI,5,0),1,0)*Table_NFI[[#This Row],[Plastic Bucket]],0)","v":0},{"$f":"IF(NFI_Expiration=1,IF($A93<VLOOKUP(Q$5,NFI,5,0),1,0)*Table_NFI[[#This Row],[Plastic Mat]],0)","v":0},{"$f":"VLOOKUP(Table_NFI[[#This Row],[Camp Name]],Camp_List!N$5:AA$254,2,0)","v":"MMR012CMP021"},{"$f":"VLOOKUP(Table_NFI[[#This Row],[Camp Name]],Camp_List!N$5:AA$254,14,0)","v":"Open"},{"$f":"VLOOKUP(Table_NFI[[#This Row],[Camp Name]],Camp_List!N$5:AC$254,1,1)","v":"Taung Bwe"}]
[2.0666666666666669,"2013-07-01","UNHCR","UNHCR","Rakhine","Kyauktaw","Taung Bwe",null,48,null,96,48,96,48,48,48,96,{"$f":"IF(NFI_Expiration=1,IF($A94<VLOOKUP(H$5,NFI,5,0),1,0)*Table_NFI[[#This Row],[Hygiene Kit]],0)","v":0},{"$f":"IF(NFI_Expiration=1,IF($A94<VLOOKUP(I$5,NFI,5,0),1,0)*Table_NFI[[#This Row],[NFI Core Kit]],0)","v":48},{"$f":"IF(NFI_Expiration=1,IF($A94<VLOOKUP(J$5,NFI,5,0),1,0)*Table_NFI[[#This Row],[Sanitary Kit]],0)","v":0},{"$f":"IF(NFI_Expiration=1,IF($A94<VLOOKUP(K$5,NFI,5,0),1,0)*Table_NFI[[#This Row],[Mosquito net]],0)","v":96},{"$f":"IF(NFI_Expiration=1,IF($A94<VLOOKUP(L$5,NFI,5,0),1,0)*Table_NFI[[#This Row],[Tarpaulin]],0)","v":48},{"$f":"IF(NFI_Expiration=1,IF($A94<VLOOKUP(M$5,NFI,5,0),1,0)*Table_NFI[[#This Row],[Blanket]],0)","v":96},{"$f":"IF(NFI_Expiration=1,IF($A94<VLOOKUP(N$5,NFI,5,0),1,0)*Table_NFI[[#This Row],[Kitchen Set]],0)","v":48},{"$f":"IF(NFI_Expiration=1,IF($A94<VLOOKUP(O$5,NFI,5,0),1,0)*Table_NFI[[#This Row],[Complementary Kit]],0)","v":48},{"$f":"IF(NFI_Expiration=1,IF($A94<VLOOKUP(P$5,NFI,5,0),1,0)*Table_NFI[[#This Row],[Plastic Bucket]],0)","v":48},{"$f":"IF(NFI_Expiration=1,IF($A94<VLOOKUP(Q$5,NFI,5,0),1,0)*Table_NFI[[#This Row],[Plastic Mat]],0)","v":96},{"$f":"VLOOKUP(Table_NFI[[#This Row],[Camp Name]],Camp_List!N$5:AA$254,2,0)","v":"MMR012CMP021"},{"$f":"VLOOKUP(Table_NFI[[#This Row],[Camp Name]],Camp_List!N$5:AA$254,14,0)","v":"Open"},{"$f":"VLOOKUP(Table_NFI[[#This Row],[Camp Name]],Camp_List!N$5:AC$254,1,1)","v":"Taung Bwe"}]
[8.7333333333333325,"2012-12-13","UNHCR",null,"Rakhine","Kyauktaw","Ah Lel",null,null,null,null,null,87,null,null,null,null,{"$f":"IF(NFI_Expiration=1,IF($A95<VLOOKUP(H$5,NFI,5,0),1,0)*Table_NFI[[#This Row],[Hygiene Kit]],0)","v":0},{"$f":"IF(NFI_Expiration=1,IF($A95<VLOOKUP(I$5,NFI,5,0),1,0)*Table_NFI[[#This Row],[NFI Core Kit]],0)","v":0},{"$f":"IF(NFI_Expiration=1,IF($A95<VLOOKUP(J$5,NFI,5,0),1,0)*Table_NFI[[#This Row],[Sanitary Kit]],0)","v":0},{"$f":"IF(NFI_Expiration=1,IF($A95<VLOOKUP(K$5,NFI,5,0),1,0)*Table_NFI[[#This Row],[Mosquito net]],0)","v":0},{"$f":"IF(NFI_Expiration=1,IF($A95<VLOOKUP(L$5,NFI,5,0),1,0)*Table_NFI[[#This Row],[Tarpaulin]],0)","v":0},{"$f":"IF(NFI_Expiration=1,IF($A95<VLOOKUP(M$5,NFI,5,0),1,0)*Table_NFI[[#This Row],[Blanket]],0)","v":87},{"$f":"IF(NFI_Expiration=1,IF($A95<VLOOKUP(N$5,NFI,5,0),1,0)*Table_NFI[[#This Row],[Kitchen Set]],0)","v":0},{"$f":"IF(NFI_Expiration=1,IF($A95<VLOOKUP(O$5,NFI,5,0),1,0)*Table_NFI[[#This Row],[Complementary Kit]],0)","v":0},{"$f":"IF(NFI_Expiration=1,IF($A95<VLOOKUP(P$5,NFI,5,0),1,0)*Table_NFI[[#This Row],[Plastic Bucket]],0)","v":0},{"$f":"IF(NFI_Expiration=1,IF($A95<VLOOKUP(Q$5,NFI,5,0),1,0)*Table_NFI[[#This Row],[Plastic Mat]],0)","v":0},{"$f":"VLOOKUP(Table_NFI[[#This Row],[Camp Name]],Camp_List!N$5:AA$254,2,0)","v":"MMR012CMP022"},{"$f":"VLOOKUP(Table_NFI[[#This Row],[Camp Name]],Camp_List!N$5:AA$254,14,0)","v":"Open"},{"$f":"VLOOKUP(Table_NFI[[#This Row],[Camp Name]],Camp_List!N$5:AC$254,1,1)","v":"Ah Lel"}]
[8.5666666666666664,"2012-12-18","UNHCR",null,"Rakhine","Kyauktaw","Ah Lel",null,null,null,null,23,null,null,null,null,null,{"$f":"IF(NFI_Expiration=1,IF($A96<VLOOKUP(H$5,NFI,5,0),1,0)*Table_NFI[[#This Row],[Hygiene Kit]],0)","v":0},{"$f":"IF(NFI_Expiration=1,IF($A96<VLOOKUP(I$5,NFI,5,0),1,0)*Table_NFI[[#This Row],[NFI Core Kit]],0)","v":0},{"$f":"IF(NFI_Expiration=1,IF($A96<VLOOKUP(J$5,NFI,5,0),1,0)*Table_NFI[[#This Row],[Sanitary Kit]],0)","v":0},{"$f":"IF(NFI_Expiration=1,IF($A96<VLOOKUP(K$5,NFI,5,0),1,0)*Table_NFI[[#This Row],[Mosquito net]],0)","v":0},{"$f":"IF(NFI_Expiration=1,IF($A96<VLOOKUP(L$5,NFI,5,0),1,0)*Table_NFI[[#This Row],[Tarpaulin]],0)","v":23},{"$f":"IF(NFI_Expiration=1,IF($A96<VLOOKUP(M$5,NFI,5,0),1,0)*Table_NFI[[#This Row],[Blanket]],0)","v":0},{"$f":"IF(NFI_Expiration=1,IF($A96<VLOOKUP(N$5,NFI,5,0),1,0)*Table_NFI[[#This Row],[Kitchen Set]],0)","v":0},{"$f":"IF(NFI_Expiration=1,IF($A96<VLOOKUP(O$5,NFI,5,0),1,0)*Table_NFI[[#This Row],[Complementary Kit]],0)","v":0},{"$f":"IF(NFI_Expiration=1,IF($A96<VLOOKUP(P$5,NFI,5,0),1,0)*Table_NFI[[#This Row],[Plastic Bucket]],0)","v":0},{"$f":"IF(NFI_Expiration=1,IF($A96<VLOOKUP(Q$5,NFI,5,0),1,0)*Table_NFI[[#This Row],[Plastic Mat]],0)","v":0},{"$f":"VLOOKUP(Table_NFI[[#This Row],[Camp Name]],Camp_List!N$5:AA$254,2,0)","v":"MMR012CMP022"},{"$f":"VLOOKUP(Table_NFI[[#This Row],[Camp Name]],Camp_List!N$5:AA$254,14,0)","v":"Open"},{"$f":"VLOOKUP(Table_NFI[[#This Row],[Camp Name]],Camp_List!N$5:AC$254,1,1)","v":"Ah Lel"}]
[2.0666666666666669,"2013-07-01","UNHCR","UNHCR","Rakhine","Kyauktaw","Ah Lel",null,null,null,null,null,null,null,null,null,null,{"$f":"IF(NFI_Expiration=1,IF($A97<VLOOKUP(H$5,NFI,5,0),1,0)*Table_NFI[[#This Row],[Hygiene Kit]],0)","v":0},{"$f":"IF(NFI_Expiration=1,IF($A97<VLOOKUP(I$5,NFI,5,0),1,0)*Table_NFI[[#This Row],[NFI Core Kit]],0)","v":0},{"$f":"IF(NFI_Expiration=1,IF($A97<VLOOKUP(J$5,NFI,5,0),1,0)*Table_NFI[[#This Row],[Sanitary Kit]],0)","v":0},{"$f":"IF(NFI_Expiration=1,IF($A97<VLOOKUP(K$5,NFI,5,0),1,0)*Table_NFI[[#This Row],[Mosquito net]],0)","v":0},{"$f":"IF(NFI_Expiration=1,IF($A97<VLOOKUP(L$5,NFI,5,0),1,0)*Table_NFI[[#This Row],[Tarpaulin]],0)","v":0},{"$f":"IF(NFI_Expiration=1,IF($A97<VLOOKUP(M$5,NFI,5,0),1,0)*Table_NFI[[#This Row],[Blanket]],0)","v":0},{"$f":"IF(NFI_Expiration=1,IF($A97<VLOOKUP(N$5,NFI,5,0),1,0)*Table_NFI[[#This Row],[Kitchen Set]],0)","v":0},{"$f":"IF(NFI_Expiration=1,IF($A97<VLOOKUP(O$5,NFI,5,0),1,0)*Table_NFI[[#This Row],[Complementary Kit]],0)","v":0},{"$f":"IF(NFI_Expiration=1,IF($A97<VLOOKUP(P$5,NFI,5,0),1,0)*Table_NFI[[#This Row],[Plastic Bucket]],0)","v":0},{"$f":"IF(NFI_Expiration=1,IF($A97<VLOOKUP(Q$5,NFI,5,0),1,0)*Table_NFI[[#This Row],[Plastic Mat]],0)","v":0},{"$f":"VLOOKUP(Table_NFI[[#This Row],[Camp Name]],Camp_List!N$5:AA$254,2,0)","v":"MMR012CMP022"},{"$f":"VLOOKUP(Table_NFI[[#This Row],[Camp Name]],Camp_List!N$5:AA$254,14,0)","v":"Open"},{"$f":"VLOOKUP(Table_NFI[[#This Row],[Camp Name]],Camp_List!N$5:AC$254,1,1)","v":"Ah Lel"}]
[2.0666666666666669,"2013-07-01","UNHCR","UNHCR","Rakhine","Kyauktaw","Ah Lel",null,47,null,94,47,94,47,47,47,94,{"$f":"IF(NFI_Expiration=1,IF($A98<VLOOKUP(H$5,NFI,5,0),1,0)*Table_NFI[[#This Row],[Hygiene Kit]],0)","v":0},{"$f":"IF(NFI_Expiration=1,IF($A98<VLOOKUP(I$5,NFI,5,0),1,0)*Table_NFI[[#This Row],[NFI Core Kit]],0)","v":47},{"$f":"IF(NFI_Expiration=1,IF($A98<VLOOKUP(J$5,NFI,5,0),1,0)*Table_NFI[[#This Row],[Sanitary Kit]],0)","v":0},{"$f":"IF(NFI_Expiration=1,IF($A98<VLOOKUP(K$5,NFI,5,0),1,0)*Table_NFI[[#This Row],[Mosquito net]],0)","v":94},{"$f":"IF(NFI_Expiration=1,IF($A98<VLOOKUP(L$5,NFI,5,0),1,0)*Table_NFI[[#This Row],[Tarpaulin]],0)","v":47},{"$f":"IF(NFI_Expiration=1,IF($A98<VLOOKUP(M$5,NFI,5,0),1,0)*Table_NFI[[#This Row],[Blanket]],0)","v":94},{"$f":"IF(NFI_Expiration=1,IF($A98<VLOOKUP(N$5,NFI,5,0),1,0)*Table_NFI[[#This Row],[Kitchen Set]],0)","v":47},{"$f":"IF(NFI_Expiration=1,IF($A98<VLOOKUP(O$5,NFI,5,0),1,0)*Table_NFI[[#This Row],[Complementary Kit]],0)","v":47},{"$f":"IF(NFI_Expiration=1,IF($A98<VLOOKUP(P$5,NFI,5,0),1,0)*Table_NFI[[#This Row],[Plastic Bucket]],0)","v":47},{"$f":"IF(NFI_Expiration=1,IF($A98<VLOOKUP(Q$5,NFI,5,0),1,0)*Table_NFI[[#This Row],[Plastic Mat]],0)","v":94},{"$f":"VLOOKUP(Table_NFI[[#This Row],[Camp Name]],Camp_List!N$5:AA$254,2,0)","v":"MMR012CMP022"},{"$f":"VLOOKUP(Table_NFI[[#This Row],[Camp Name]],Camp_List!N$5:AA$254,14,0)","v":"Open"},{"$f":"VLOOKUP(Table_NFI[[#This Row],[Camp Name]],Camp_List!N$5:AC$254,1,1)","v":"Ah Lel"}]
[8.5666666666666664,"2012-12-18","UNHCR",null,"Rakhine","Kyauktaw","Nidin",null,null,null,null,80,null,null,null,null,null,{"$f":"IF(NFI_Expiration=1,IF($A99<VLOOKUP(H$5,NFI,5,0),1,0)*Table_NFI[[#This Row],[Hygiene Kit]],0)","v":0},{"$f":"IF(NFI_Expiration=1,IF($A99<VLOOKUP(I$5,NFI,5,0),1,0)*Table_NFI[[#This Row],[NFI Core Kit]],0)","v":0},{"$f":"IF(NFI_Expiration=1,IF($A99<VLOOKUP(J$5,NFI,5,0),1,0)*Table_NFI[[#This Row],[Sanitary Kit]],0)","v":0},{"$f":"IF(NFI_Expiration=1,IF($A99<VLOOKUP(K$5,NFI,5,0),1,0)*Table_NFI[[#This Row],[Mosquito net]],0)","v":0},{"$f":"IF(NFI_Expiration=1,IF($A99<VLOOKUP(L$5,NFI,5,0),1,0)*Table_NFI[[#This Row],[Tarpaulin]],0)","v":80},{"$f":"IF(NFI_Expiration=1,IF($A99<VLOOKUP(M$5,NFI,5,0),1,0)*Table_NFI[[#This Row],[Blanket]],0)","v":0},{"$f":"IF(NFI_Expiration=1,IF($A99<VLOOKUP(N$5,NFI,5,0),1,0)*Table_NFI[[#This Row],[Kitchen Set]],0)","v":0},{"$f":"IF(NFI_Expiration=1,IF($A99<VLOOKUP(O$5,NFI,5,0),1,0)*Table_NFI[[#This Row],[Complementary Kit]],0)","v":0},{"$f":"IF(NFI_Expiration=1,IF($A99<VLOOKUP(P$5,NFI,5,0),1,0)*Table_NFI[[#This Row],[Plastic Bucket]],0)","v":0},{"$f":"IF(NFI_Expiration=1,IF($A99<VLOOKUP(Q$5,NFI,5,0),1,0)*Table_NFI[[#This Row],[Plastic Mat]],0)","v":0},{"$f":"VLOOKUP(Table_NFI[[#This Row],[Camp Name]],Camp_List!N$5:AA$254,2,0)","v":"MMR012CMP023"},{"$f":"VLOOKUP(Table_NFI[[#This Row],[Camp Name]],Camp_List!N$5:AA$254,14,0)","v":"Open"},{"$f":"VLOOKUP(Table_NFI[[#This Row],[Camp Name]],Camp_List!N$5:AC$254,1,1)","v":"Nidin"}]
[6.0666666666666664,"2013-03-03","UNHCR",null,"Rakhine","Kyauktaw","Nidin",null,null,null,null,null,83,null,null,null,null,{"$f":"IF(NFI_Expiration=1,IF($A100<VLOOKUP(H$5,NFI,5,0),1,0)*Table_NFI[[#This Row],[Hygiene Kit]],0)","v":0},{"$f":"IF(NFI_Expiration=1,IF($A100<VLOOKUP(I$5,NFI,5,0),1,0)*Table_NFI[[#This Row],[NFI Core Kit]],0)","v":0},{"$f":"IF(NFI_Expiration=1,IF($A100<VLOOKUP(J$5,NFI,5,0),1,0)*Table_NFI[[#This Row],[Sanitary Kit]],0)","v":0},{"$f":"IF(NFI_Expiration=1,IF($A100<VLOOKUP(K$5,NFI,5,0),1,0)*Table_NFI[[#This Row],[Mosquito net]],0)","v":0},{"$f":"IF(NFI_Expiration=1,IF($A100<VLOOKUP(L$5,NFI,5,0),1,0)*Table_NFI[[#This Row],[Tarpaulin]],0)","v":0},{"$f":"IF(NFI_Expiration=1,IF($A100<VLOOKUP(M$5,NFI,5,0),1,0)*Table_NFI[[#This Row],[Blanket]],0)","v":83},{"$f":"IF(NFI_Expiration=1,IF($A100<VLOOKUP(N$5,NFI,5,0),1,0)*Table_NFI[[#This Row],[Kitchen Set]],0)","v":0},{"$f":"IF(NFI_Expiration=1,IF($A100<VLOOKUP(O$5,NFI,5,0),1,0)*Table_NFI[[#This Row],[Complementary Kit]],0)","v":0},{"$f":"IF(NFI_Expiration=1,IF($A100<VLOOKUP(P$5,NFI,5,0),1,0)*Table_NFI[[#This Row],[Plastic Bucket]],0)","v":0},{"$f":"IF(NFI_Expiration=1,IF($A100<VLOOKUP(Q$5,NFI,5,0),1,0)*Table_NFI[[#This Row],[Plastic Mat]],0)","v":0},{"$f":"VLOOKUP(Table_NFI[[#This Row],[Camp Name]],Camp_List!N$5:AA$254,2,0)","v":"MMR012CMP023"},{"$f":"VLOOKUP(Table_NFI[[#This Row],[Camp Name]],Camp_List!N$5:AA$254,14,0)","v":"Open"},{"$f":"VLOOKUP(Table_NFI[[#This Row],[Camp Name]],Camp_List!N$5:AC$254,1,1)","v":"Nidin"}]
[2.0666666666666669,"2013-07-01","UNHCR","UNHCR","Rakhine","Kyauktaw","Nidin",null,null,null,null,null,null,null,null,null,null,{"$f":"IF(NFI_Expiration=1,IF($A101<VLOOKUP(H$5,NFI,5,0),1,0)*Table_NFI[[#This Row],[Hygiene Kit]],0)","v":0},{"$f":"IF(NFI_Expiration=1,IF($A101<VLOOKUP(I$5,NFI,5,0),1,0)*Table_NFI[[#This Row],[NFI Core Kit]],0)","v":0},{"$f":"IF(NFI_Expiration=1,IF($A101<VLOOKUP(J$5,NFI,5,0),1,0)*Table_NFI[[#This Row],[Sanitary Kit]],0)","v":0},{"$f":"IF(NFI_Expiration=1,IF($A101<VLOOKUP(K$5,NFI,5,0),1,0)*Table_NFI[[#This Row],[Mosquito net]],0)","v":0},{"$f":"IF(NFI_Expiration=1,IF($A101<VLOOKUP(L$5,NFI,5,0),1,0)*Table_NFI[[#This Row],[Tarpaulin]],0)","v":0},{"$f":"IF(NFI_Expiration=1,IF($A101<VLOOKUP(M$5,NFI,5,0),1,0)*Table_NFI[[#This Row],[Blanket]],0)","v":0},{"$f":"IF(NFI_Expiration=1,IF($A101<VLOOKUP(N$5,NFI,5,0),1,0)*Table_NFI[[#This Row],[Kitchen Set]],0)","v":0},{"$f":"IF(NFI_Expiration=1,IF($A101<VLOOKUP(O$5,NFI,5,0),1,0)*Table_NFI[[#This Row],[Complementary Kit]],0)","v":0},{"$f":"IF(NFI_Expiration=1,IF($A101<VLOOKUP(P$5,NFI,5,0),1,0)*Table_NFI[[#This Row],[Plastic Bucket]],0)","v":0},{"$f":"IF(NFI_Expiration=1,IF($A101<VLOOKUP(Q$5,NFI,5,0),1,0)*Table_NFI[[#This Row],[Plastic Mat]],0)","v":0},{"$f":"VLOOKUP(Table_NFI[[#This Row],[Camp Name]],Camp_List!N$5:AA$254,2,0)","v":"MMR012CMP023"},{"$f":"VLOOKUP(Table_NFI[[#This Row],[Camp Name]],Camp_List!N$5:AA$254,14,0)","v":"Open"},{"$f":"VLOOKUP(Table_NFI[[#This Row],[Camp Name]],Camp_List!N$5:AC$254,1,1)","v":"Nidin"}]
[2.0666666666666669,"2013-07-01","UNHCR","UNHCR","Rakhine","Kyauktaw","Nidin",null,163,null,326,163,326,163,163,163,326,{"$f":"IF(NFI_Expiration=1,IF($A102<VLOOKUP(H$5,NFI,5,0),1,0)*Table_NFI[[#This Row],[Hygiene Kit]],0)","v":0},{"$f":"IF(NFI_Expiration=1,IF($A102<VLOOKUP(I$5,NFI,5,0),1,0)*Table_NFI[[#This Row],[NFI Core Kit]],0)","v":163},{"$f":"IF(NFI_Expiration=1,IF($A102<VLOOKUP(J$5,NFI,5,0),1,0)*Table_NFI[[#This Row],[Sanitary Kit]],0)","v":0},{"$f":"IF(NFI_Expiration=1,IF($A102<VLOOKUP(K$5,NFI,5,0),1,0)*Table_NFI[[#This Row],[Mosquito net]],0)","v":326},{"$f":"IF(NFI_Expiration=1,IF($A102<VLOOKUP(L$5,NFI,5,0),1,0)*Table_NFI[[#This Row],[Tarpaulin]],0)","v":163},{"$f":"IF(NFI_Expiration=1,IF($A102<VLOOKUP(M$5,NFI,5,0),1,0)*Table_NFI[[#This Row],[Blanket]],0)","v":326},{"$f":"IF(NFI_Expiration=1,IF($A102<VLOOKUP(N$5,NFI,5,0),1,0)*Table_NFI[[#This Row],[Kitchen Set]],0)","v":163},{"$f":"IF(NFI_Expiration=1,IF($A102<VLOOKUP(O$5,NFI,5,0),1,0)*Table_NFI[[#This Row],[Complementary Kit]],0)","v":163},{"$f":"IF(NFI_Expiration=1,IF($A102<VLOOKUP(P$5,NFI,5,0),1,0)*Table_NFI[[#This Row],[Plastic Bucket]],0)","v":163},{"$f":"IF(NFI_Expiration=1,IF($A102<VLOOKUP(Q$5,NFI,5,0),1,0)*Table_NFI[[#This Row],[Plastic Mat]],0)","v":326},{"$f":"VLOOKUP(Table_NFI[[#This Row],[Camp Name]],Camp_List!N$5:AA$254,2,0)","v":"MMR012CMP023"},{"$f":"VLOOKUP(Table_NFI[[#This Row],[Camp Name]],Camp_List!N$5:AA$254,14,0)","v":"Open"},{"$f":"VLOOKUP(Table_NFI[[#This Row],[Camp Name]],Camp_List!N$5:AC$254,1,1)","v":"Nidin"}]
[10.966666666666667,"2012-10-07","UNHCR",null,"Rakhine","Kyauktaw","Ah Pauk Wa ",null,null,null,null,85,null,null,null,null,null,{"$f":"IF(NFI_Expiration=1,IF($A103<VLOOKUP(H$5,NFI,5,0),1,0)*Table_NFI[[#This Row],[Hygiene Kit]],0)","v":0},{"$f":"IF(NFI_Expiration=1,IF($A103<VLOOKUP(I$5,NFI,5,0),1,0)*Table_NFI[[#This Row],[NFI Core Kit]],0)","v":0},{"$f":"IF(NFI_Expiration=1,IF($A103<VLOOKUP(J$5,NFI,5,0),1,0)*Table_NFI[[#This Row],[Sanitary Kit]],0)","v":0},{"$f":"IF(NFI_Expiration=1,IF($A103<VLOOKUP(K$5,NFI,5,0),1,0)*Table_NFI[[#This Row],[Mosquito net]],0)","v":0},{"$f":"IF(NFI_Expiration=1,IF($A103<VLOOKUP(L$5,NFI,5,0),1,0)*Table_NFI[[#This Row],[Tarpaulin]],0)","v":85},{"$f":"IF(NFI_Expiration=1,IF($A103<VLOOKUP(M$5,NFI,5,0),1,0)*Table_NFI[[#This Row],[Blanket]],0)","v":0},{"$f":"IF(NFI_Expiration=1,IF($A103<VLOOKUP(N$5,NFI,5,0),1,0)*Table_NFI[[#This Row],[Kitchen Set]],0)","v":0},{"$f":"IF(NFI_Expiration=1,IF($A103<VLOOKUP(O$5,NFI,5,0),1,0)*Table_NFI[[#This Row],[Complementary Kit]],0)","v":0},{"$f":"IF(NFI_Expiration=1,IF($A103<VLOOKUP(P$5,NFI,5,0),1,0)*Table_NFI[[#This Row],[Plastic Bucket]],0)","v":0},{"$f":"IF(NFI_Expiration=1,IF($A103<VLOOKUP(Q$5,NFI,5,0),1,0)*Table_NFI[[#This Row],[Plastic Mat]],0)","v":0},{"$f":"VLOOKUP(Table_NFI[[#This Row],[Camp Name]],Camp_List!N$5:AA$254,2,0)","v":"MMR012CMP024"},{"$f":"VLOOKUP(Table_NFI[[#This Row],[Camp Name]],Camp_List!N$5:AA$254,14,0)","v":"Open"},{"$f":"VLOOKUP(Table_NFI[[#This Row],[Camp Name]],Camp_List!N$5:AC$254,1,1)","v":"Ah Pauk Wa "}]
[8.7333333333333325,"2012-12-13","UNHCR",null,"Rakhine","Kyauktaw","Ah Pauk Wa ",null,null,null,null,null,90,null,null,null,null,{"$f":"IF(NFI_Expiration=1,IF($A104<VLOOKUP(H$5,NFI,5,0),1,0)*Table_NFI[[#This Row],[Hygiene Kit]],0)","v":0},{"$f":"IF(NFI_Expiration=1,IF($A104<VLOOKUP(I$5,NFI,5,0),1,0)*Table_NFI[[#This Row],[NFI Core Kit]],0)","v":0},{"$f":"IF(NFI_Expiration=1,IF($A104<VLOOKUP(J$5,NFI,5,0),1,0)*Table_NFI[[#This Row],[Sanitary Kit]],0)","v":0},{"$f":"IF(NFI_Expiration=1,IF($A104<VLOOKUP(K$5,NFI,5,0),1,0)*Table_NFI[[#This Row],[Mosquito net]],0)","v":0},{"$f":"IF(NFI_Expiration=1,IF($A104<VLOOKUP(L$5,NFI,5,0),1,0)*Table_NFI[[#This Row],[Tarpaulin]],0)","v":0},{"$f":"IF(NFI_Expiration=1,IF($A104<VLOOKUP(M$5,NFI,5,0),1,0)*Table_NFI[[#This Row],[Blanket]],0)","v":90},{"$f":"IF(NFI_Expiration=1,IF($A104<VLOOKUP(N$5,NFI,5,0),1,0)*Table_NFI[[#This Row],[Kitchen Set]],0)","v":0},{"$f":"IF(NFI_Expiration=1,IF($A104<VLOOKUP(O$5,NFI,5,0),1,0)*Table_NFI[[#This Row],[Complementary Kit]],0)","v":0},{"$f":"IF(NFI_Expiration=1,IF($A104<VLOOKUP(P$5,NFI,5,0),1,0)*Table_NFI[[#This Row],[Plastic Bucket]],0)","v":0},{"$f":"IF(NFI_Expiration=1,IF($A104<VLOOKUP(Q$5,NFI,5,0),1,0)*Table_NFI[[#This Row],[Plastic Mat]],0)","v":0},{"$f":"VLOOKUP(Table_NFI[[#This Row],[Camp Name]],Camp_List!N$5:AA$254,2,0)","v":"MMR012CMP024"},{"$f":"VLOOKUP(Table_NFI[[#This Row],[Camp Name]],Camp_List!N$5:AA$254,14,0)","v":"Open"},{"$f":"VLOOKUP(Table_NFI[[#This Row],[Camp Name]],Camp_List!N$5:AC$254,1,1)","v":"Ah Pauk Wa "}]
[2.0666666666666669,"2013-07-01","UNHCR","UNHCR","Rakhine","Kyauktaw","Ah Pauk Wa ",null,null,null,null,null,null,null,null,null,null,{"$f":"IF(NFI_Expiration=1,IF($A105<VLOOKUP(H$5,NFI,5,0),1,0)*Table_NFI[[#This Row],[Hygiene Kit]],0)","v":0},{"$f":"IF(NFI_Expiration=1,IF($A105<VLOOKUP(I$5,NFI,5,0),1,0)*Table_NFI[[#This Row],[NFI Core Kit]],0)","v":0},{"$f":"IF(NFI_Expiration=1,IF($A105<VLOOKUP(J$5,NFI,5,0),1,0)*Table_NFI[[#This Row],[Sanitary Kit]],0)","v":0},{"$f":"IF(NFI_Expiration=1,IF($A105<VLOOKUP(K$5,NFI,5,0),1,0)*Table_NFI[[#This Row],[Mosquito net]],0)","v":0},{"$f":"IF(NFI_Expiration=1,IF($A105<VLOOKUP(L$5,NFI,5,0),1,0)*Table_NFI[[#This Row],[Tarpaulin]],0)","v":0},{"$f":"IF(NFI_Expiration=1,IF($A105<VLOOKUP(M$5,NFI,5,0),1,0)*Table_NFI[[#This Row],[Blanket]],0)","v":0},{"$f":"IF(NFI_Expiration=1,IF($A105<VLOOKUP(N$5,NFI,5,0),1,0)*Table_NFI[[#This Row],[Kitchen Set]],0)","v":0},{"$f":"IF(NFI_Expiration=1,IF($A105<VLOOKUP(O$5,NFI,5,0),1,0)*Table_NFI[[#This Row],[Complementary Kit]],0)","v":0},{"$f":"IF(NFI_Expiration=1,IF($A105<VLOOKUP(P$5,NFI,5,0),1,0)*Table_NFI[[#This Row],[Plastic Bucket]],0)","v":0},{"$f":"IF(NFI_Expiration=1,IF($A105<VLOOKUP(Q$5,NFI,5,0),1,0)*Table_NFI[[#This Row],[Plastic Mat]],0)","v":0},{"$f":"VLOOKUP(Table_NFI[[#This Row],[Camp Name]],Camp_List!N$5:AA$254,2,0)","v":"MMR012CMP024"},{"$f":"VLOOKUP(Table_NFI[[#This Row],[Camp Name]],Camp_List!N$5:AA$254,14,0)","v":"Open"},{"$f":"VLOOKUP(Table_NFI[[#This Row],[Camp Name]],Camp_List!N$5:AC$254,1,1)","v":"Ah Pauk Wa "}]
[2.0666666666666669,"2013-07-01","UNHCR","UNHCR","Rakhine","Kyauktaw","Ah Pauk Wa ",null,112,null,224,112,224,112,112,112,224,{"$f":"IF(NFI_Expiration=1,IF($A106<VLOOKUP(H$5,NFI,5,0),1,0)*Table_NFI[[#This Row],[Hygiene Kit]],0)","v":0},{"$f":"IF(NFI_Expiration=1,IF($A106<VLOOKUP(I$5,NFI,5,0),1,0)*Table_NFI[[#This Row],[NFI Core Kit]],0)","v":112},{"$f":"IF(NFI_Expiration=1,IF($A106<VLOOKUP(J$5,NFI,5,0),1,0)*Table_NFI[[#This Row],[Sanitary Kit]],0)","v":0},{"$f":"IF(NFI_Expiration=1,IF($A106<VLOOKUP(K$5,NFI,5,0),1,0)*Table_NFI[[#This Row],[Mosquito net]],0)","v":224},{"$f":"IF(NFI_Expiration=1,IF($A106<VLOOKUP(L$5,NFI,5,0),1,0)*Table_NFI[[#This Row],[Tarpaulin]],0)","v":112},{"$f":"IF(NFI_Expiration=1,IF($A106<VLOOKUP(M$5,NFI,5,0),1,0)*Table_NFI[[#This Row],[Blanket]],0)","v":224},{"$f":"IF(NFI_Expiration=1,IF($A106<VLOOKUP(N$5,NFI,5,0),1,0)*Table_NFI[[#This Row],[Kitchen Set]],0)","v":112},{"$f":"IF(NFI_Expiration=1,IF($A106<VLOOKUP(O$5,NFI,5,0),1,0)*Table_NFI[[#This Row],[Complementary Kit]],0)","v":112},{"$f":"IF(NFI_Expiration=1,IF($A106<VLOOKUP(P$5,NFI,5,0),1,0)*Table_NFI[[#This Row],[Plastic Bucket]],0)","v":112},{"$f":"IF(NFI_Expiration=1,IF($A106<VLOOKUP(Q$5,NFI,5,0),1,0)*Table_NFI[[#This Row],[Plastic Mat]],0)","v":224},{"$f":"VLOOKUP(Table_NFI[[#This Row],[Camp Name]],Camp_List!N$5:AA$254,2,0)","v":"MMR012CMP024"},{"$f":"VLOOKUP(Table_NFI[[#This Row],[Camp Name]],Camp_List!N$5:AA$254,14,0)","v":"Open"},{"$f":"VLOOKUP(Table_NFI[[#This Row],[Camp Name]],Camp_List!N$5:AC$254,1,1)","v":"Ah Pauk Wa "}]
[12.4,"2012-08-25","UNHCR",null,"Rakhine","Kyauktaw","In Bar Yi",null,null,null,null,230,null,null,null,null,null,{"$f":"IF(NFI_Expiration=1,IF($A107<VLOOKUP(H$5,NFI,5,0),1,0)*Table_NFI[[#This Row],[Hygiene Kit]],0)","v":0},{"$f":"IF(NFI_Expiration=1,IF($A107<VLOOKUP(I$5,NFI,5,0),1,0)*Table_NFI[[#This Row],[NFI Core Kit]],0)","v":0},{"$f":"IF(NFI_Expiration=1,IF($A107<VLOOKUP(J$5,NFI,5,0),1,0)*Table_NFI[[#This Row],[Sanitary Kit]],0)","v":0},{"$f":"IF(NFI_Expiration=1,IF($A107<VLOOKUP(K$5,NFI,5,0),1,0)*Table_NFI[[#This Row],[Mosquito net]],0)","v":0},{"$f":"IF(NFI_Expiration=1,IF($A107<VLOOKUP(L$5,NFI,5,0),1,0)*Table_NFI[[#This Row],[Tarpaulin]],0)","v":0},{"$f":"IF(NFI_Expiration=1,IF($A107<VLOOKUP(M$5,NFI,5,0),1,0)*Table_NFI[[#This Row],[Blanket]],0)","v":0},{"$f":"IF(NFI_Expiration=1,IF($A107<VLOOKUP(N$5,NFI,5,0),1,0)*Table_NFI[[#This Row],[Kitchen Set]],0)","v":0},{"$f":"IF(NFI_Expiration=1,IF($A107<VLOOKUP(O$5,NFI,5,0),1,0)*Table_NFI[[#This Row],[Complementary Kit]],0)","v":0},{"$f":"IF(NFI_Expiration=1,IF($A107<VLOOKUP(P$5,NFI,5,0),1,0)*Table_NFI[[#This Row],[Plastic Bucket]],0)","v":0},{"$f":"IF(NFI_Expiration=1,IF($A107<VLOOKUP(Q$5,NFI,5,0),1,0)*Table_NFI[[#This Row],[Plastic Mat]],0)","v":0},{"$f":"VLOOKUP(Table_NFI[[#This Row],[Camp Name]],Camp_List!N$5:AA$254,2,0)","v":"MMR012CMP026"},{"$f":"VLOOKUP(Table_NFI[[#This Row],[Camp Name]],Camp_List!N$5:AA$254,14,0)","v":"Open"},{"$f":"VLOOKUP(Table_NFI[[#This Row],[Camp Name]],Camp_List!N$5:AC$254,1,1)","v":"In Bar Yi"}]
[8.7333333333333325,"2012-12-13","UNHCR",null,"Rakhine","Kyauktaw","In Bar Yi",null,null,null,null,null,60,null,null,null,null,{"$f":"IF(NFI_Expiration=1,IF($A108<VLOOKUP(H$5,NFI,5,0),1,0)*Table_NFI[[#This Row],[Hygiene Kit]],0)","v":0},{"$f":"IF(NFI_Expiration=1,IF($A108<VLOOKUP(I$5,NFI,5,0),1,0)*Table_NFI[[#This Row],[NFI Core Kit]],0)","v":0},{"$f":"IF(NFI_Expiration=1,IF($A108<VLOOKUP(J$5,NFI,5,0),1,0)*Table_NFI[[#This Row],[Sanitary Kit]],0)","v":0},{"$f":"IF(NFI_Expiration=1,IF($A108<VLOOKUP(K$5,NFI,5,0),1,0)*Table_NFI[[#This Row],[Mosquito net]],0)","v":0},{"$f":"IF(NFI_Expiration=1,IF($A108<VLOOKUP(L$5,NFI,5,0),1,0)*Table_NFI[[#This Row],[Tarpaulin]],0)","v":0},{"$f":"IF(NFI_Expiration=1,IF($A108<VLOOKUP(M$5,NFI,5,0),1,0)*Table_NFI[[#This Row],[Blanket]],0)","v":60},{"$f":"IF(NFI_Expiration=1,IF($A108<VLOOKUP(N$5,NFI,5,0),1,0)*Table_NFI[[#This Row],[Kitchen Set]],0)","v":0},{"$f":"IF(NFI_Expiration=1,IF($A108<VLOOKUP(O$5,NFI,5,0),1,0)*Table_NFI[[#This Row],[Complementary Kit]],0)","v":0},{"$f":"IF(NFI_Expiration=1,IF($A108<VLOOKUP(P$5,NFI,5,0),1,0)*Table_NFI[[#This Row],[Plastic Bucket]],0)","v":0},{"$f":"IF(NFI_Expiration=1,IF($A108<VLOOKUP(Q$5,NFI,5,0),1,0)*Table_NFI[[#This Row],[Plastic Mat]],0)","v":0},{"$f":"VLOOKUP(Table_NFI[[#This Row],[Camp Name]],Camp_List!N$5:AA$254,2,0)","v":"MMR012CMP026"},{"$f":"VLOOKUP(Table_NFI[[#This Row],[Camp Name]],Camp_List!N$5:AA$254,14,0)","v":"Open"},{"$f":"VLOOKUP(Table_NFI[[#This Row],[Camp Name]],Camp_List!N$5:AC$254,1,1)","v":"In Bar Yi"}]
[2.0666666666666669,"2013-07-01","UNHCR","UNHCR","Rakhine","Kyauktaw","In Bar Yi",null,null,null,null,null,null,null,null,null,null,{"$f":"IF(NFI_Expiration=1,IF($A109<VLOOKUP(H$5,NFI,5,0),1,0)*Table_NFI[[#This Row],[Hygiene Kit]],0)","v":0},{"$f":"IF(NFI_Expiration=1,IF($A109<VLOOKUP(I$5,NFI,5,0),1,0)*Table_NFI[[#This Row],[NFI Core Kit]],0)","v":0},{"$f":"IF(NFI_Expiration=1,IF($A109<VLOOKUP(J$5,NFI,5,0),1,0)*Table_NFI[[#This Row],[Sanitary Kit]],0)","v":0},{"$f":"IF(NFI_Expiration=1,IF($A109<VLOOKUP(K$5,NFI,5,0),1,0)*Table_NFI[[#This Row],[Mosquito net]],0)","v":0},{"$f":"IF(NFI_Expiration=1,IF($A109<VLOOKUP(L$5,NFI,5,0),1,0)*Table_NFI[[#This Row],[Tarpaulin]],0)","v":0},{"$f":"IF(NFI_Expiration=1,IF($A109<VLOOKUP(M$5,NFI,5,0),1,0)*Table_NFI[[#This Row],[Blanket]],0)","v":0},{"$f":"IF(NFI_Expiration=1,IF($A109<VLOOKUP(N$5,NFI,5,0),1,0)*Table_NFI[[#This Row],[Kitchen Set]],0)","v":0},{"$f":"IF(NFI_Expiration=1,IF($A109<VLOOKUP(O$5,NFI,5,0),1,0)*Table_NFI[[#This Row],[Complementary Kit]],0)","v":0},{"$f":"IF(NFI_Expiration=1,IF($A109<VLOOKUP(P$5,NFI,5,0),1,0)*Table_NFI[[#This Row],[Plastic Bucket]],0)","v":0},{"$f":"IF(NFI_Expiration=1,IF($A109<VLOOKUP(Q$5,NFI,5,0),1,0)*Table_NFI[[#This Row],[Plastic Mat]],0)","v":0},{"$f":"VLOOKUP(Table_NFI[[#This Row],[Camp Name]],Camp_List!N$5:AA$254,2,0)","v":"MMR012CMP026"},{"$f":"VLOOKUP(Table_NFI[[#This Row],[Camp Name]],Camp_List!N$5:AA$254,14,0)","v":"Open"},{"$f":"VLOOKUP(Table_NFI[[#This Row],[Camp Name]],Camp_List!N$5:AC$254,1,1)","v":"In Bar Yi"}]
[2.0666666666666669,"2013-07-01","UNHCR","UNHCR","Rakhine","Kyauktaw","In Bar Yi",null,230,null,460,230,460,230,230,230,460,{"$f":"IF(NFI_Expiration=1,IF($A110<VLOOKUP(H$5,NFI,5,0),1,0)*Table_NFI[[#This Row],[Hygiene Kit]],0)","v":0},{"$f":"IF(NFI_Expiration=1,IF($A110<VLOOKUP(I$5,NFI,5,0),1,0)*Table_NFI[[#This Row],[NFI Core Kit]],0)","v":230},{"$f":"IF(NFI_Expiration=1,IF($A110<VLOOKUP(J$5,NFI,5,0),1,0)*Table_NFI[[#This Row],[Sanitary Kit]],0)","v":0},{"$f":"IF(NFI_Expiration=1,IF($A110<VLOOKUP(K$5,NFI,5,0),1,0)*Table_NFI[[#This Row],[Mosquito net]],0)","v":460},{"$f":"IF(NFI_Expiration=1,IF($A110<VLOOKUP(L$5,NFI,5,0),1,0)*Table_NFI[[#This Row],[Tarpaulin]],0)","v":230},{"$f":"IF(NFI_Expiration=1,IF($A110<VLOOKUP(M$5,NFI,5,0),1,0)*Table_NFI[[#This Row],[Blanket]],0)","v":460},{"$f":"IF(NFI_Expiration=1,IF($A110<VLOOKUP(N$5,NFI,5,0),1,0)*Table_NFI[[#This Row],[Kitchen Set]],0)","v":230},{"$f":"IF(NFI_Expiration=1,IF($A110<VLOOKUP(O$5,NFI,5,0),1,0)*Table_NFI[[#This Row],[Complementary Kit]],0)","v":230},{"$f":"IF(NFI_Expiration=1,IF($A110<VLOOKUP(P$5,NFI,5,0),1,0)*Table_NFI[[#This Row],[Plastic Bucket]],0)","v":230},{"$f":"IF(NFI_Expiration=1,IF($A110<VLOOKUP(Q$5,NFI,5,0),1,0)*Table_NFI[[#This Row],[Plastic Mat]],0)","v":460},{"$f":"VLOOKUP(Table_NFI[[#This Row],[Camp Name]],Camp_List!N$5:AA$254,2,0)","v":"MMR012CMP026"},{"$f":"VLOOKUP(Table_NFI[[#This Row],[Camp Name]],Camp_List!N$5:AA$254,14,0)","v":"Open"},{"$f":"VLOOKUP(Table_NFI[[#This Row],[Camp Name]],Camp_List!N$5:AC$254,1,1)","v":"In Bar Yi"}]
[12.4,"2012-08-25","UNHCR",null,"Rakhine","Kyauktaw","Goke Pi Htaunt",null,null,null,null,114,null,null,null,null,null,{"$f":"IF(NFI_Expiration=1,IF($A111<VLOOKUP(H$5,NFI,5,0),1,0)*Table_NFI[[#This Row],[Hygiene Kit]],0)","v":0},{"$f":"IF(NFI_Expiration=1,IF($A111<VLOOKUP(I$5,NFI,5,0),1,0)*Table_NFI[[#This Row],[NFI Core Kit]],0)","v":0},{"$f":"IF(NFI_Expiration=1,IF($A111<VLOOKUP(J$5,NFI,5,0),1,0)*Table_NFI[[#This Row],[Sanitary Kit]],0)","v":0},{"$f":"IF(NFI_Expiration=1,IF($A111<VLOOKUP(K$5,NFI,5,0),1,0)*Table_NFI[[#This Row],[Mosquito net]],0)","v":0},{"$f":"IF(NFI_Expiration=1,IF($A111<VLOOKUP(L$5,NFI,5,0),1,0)*Table_NFI[[#This Row],[Tarpaulin]],0)","v":0},{"$f":"IF(NFI_Expiration=1,IF($A111<VLOOKUP(M$5,NFI,5,0),1,0)*Table_NFI[[#This Row],[Blanket]],0)","v":0},{"$f":"IF(NFI_Expiration=1,IF($A111<VLOOKUP(N$5,NFI,5,0),1,0)*Table_NFI[[#This Row],[Kitchen Set]],0)","v":0},{"$f":"IF(NFI_Expiration=1,IF($A111<VLOOKUP(O$5,NFI,5,0),1,0)*Table_NFI[[#This Row],[Complementary Kit]],0)","v":0},{"$f":"IF(NFI_Expiration=1,IF($A111<VLOOKUP(P$5,NFI,5,0),1,0)*Table_NFI[[#This Row],[Plastic Bucket]],0)","v":0},{"$f":"IF(NFI_Expiration=1,IF($A111<VLOOKUP(Q$5,NFI,5,0),1,0)*Table_NFI[[#This Row],[Plastic Mat]],0)","v":0},{"$f":"VLOOKUP(Table_NFI[[#This Row],[Camp Name]],Camp_List!N$5:AA$254,2,0)","v":"MMR012CMP027"},{"$f":"VLOOKUP(Table_NFI[[#This Row],[Camp Name]],Camp_List!N$5:AA$254,14,0)","v":"Open"},{"$f":"VLOOKUP(Table_NFI[[#This Row],[Camp Name]],Camp_List!N$5:AC$254,1,1)","v":"Goke Pi Htaunt"}]
[8.7333333333333325,"2012-12-13","UNHCR",null,"Rakhine","Kyauktaw","Goke Pi Htaunt",null,null,null,null,null,86,null,null,null,null,{"$f":"IF(NFI_Expiration=1,IF($A112<VLOOKUP(H$5,NFI,5,0),1,0)*Table_NFI[[#This Row],[Hygiene Kit]],0)","v":0},{"$f":"IF(NFI_Expiration=1,IF($A112<VLOOKUP(I$5,NFI,5,0),1,0)*Table_NFI[[#This Row],[NFI Core Kit]],0)","v":0},{"$f":"IF(NFI_Expiration=1,IF($A112<VLOOKUP(J$5,NFI,5,0),1,0)*Table_NFI[[#This Row],[Sanitary Kit]],0)","v":0},{"$f":"IF(NFI_Expiration=1,IF($A112<VLOOKUP(K$5,NFI,5,0),1,0)*Table_NFI[[#This Row],[Mosquito net]],0)","v":0},{"$f":"IF(NFI_Expiration=1,IF($A112<VLOOKUP(L$5,NFI,5,0),1,0)*Table_NFI[[#This Row],[Tarpaulin]],0)","v":0},{"$f":"IF(NFI_Expiration=1,IF($A112<VLOOKUP(M$5,NFI,5,0),1,0)*Table_NFI[[#This Row],[Blanket]],0)","v":86},{"$f":"IF(NFI_Expiration=1,IF($A112<VLOOKUP(N$5,NFI,5,0),1,0)*Table_NFI[[#This Row],[Kitchen Set]],0)","v":0},{"$f":"IF(NFI_Expiration=1,IF($A112<VLOOKUP(O$5,NFI,5,0),1,0)*Table_NFI[[#This Row],[Complementary Kit]],0)","v":0},{"$f":"IF(NFI_Expiration=1,IF($A112<VLOOKUP(P$5,NFI,5,0),1,0)*Table_NFI[[#This Row],[Plastic Bucket]],0)","v":0},{"$f":"IF(NFI_Expiration=1,IF($A112<VLOOKUP(Q$5,NFI,5,0),1,0)*Table_NFI[[#This Row],[Plastic Mat]],0)","v":0},{"$f":"VLOOKUP(Table_NFI[[#This Row],[Camp Name]],Camp_List!N$5:AA$254,2,0)","v":"MMR012CMP027"},{"$f":"VLOOKUP(Table_NFI[[#This Row],[Camp Name]],Camp_List!N$5:AA$254,14,0)","v":"Open"},{"$f":"VLOOKUP(Table_NFI[[#This Row],[Camp Name]],Camp_List!N$5:AC$254,1,1)","v":"Goke Pi Htaunt"}]
[2.0666666666666669,"2013-07-01","UNHCR","UNHCR","Rakhine","Kyauktaw","Goke Pi Htaunt",null,null,null,null,null,null,null,null,null,null,{"$f":"IF(NFI_Expiration=1,IF($A113<VLOOKUP(H$5,NFI,5,0),1,0)*Table_NFI[[#This Row],[Hygiene Kit]],0)","v":0},{"$f":"IF(NFI_Expiration=1,IF($A113<VLOOKUP(I$5,NFI,5,0),1,0)*Table_NFI[[#This Row],[NFI Core Kit]],0)","v":0},{"$f":"IF(NFI_Expiration=1,IF($A113<VLOOKUP(J$5,NFI,5,0),1,0)*Table_NFI[[#This Row],[Sanitary Kit]],0)","v":0},{"$f":"IF(NFI_Expiration=1,IF($A113<VLOOKUP(K$5,NFI,5,0),1,0)*Table_NFI[[#This Row],[Mosquito net]],0)","v":0},{"$f":"IF(NFI_Expiration=1,IF($A113<VLOOKUP(L$5,NFI,5,0),1,0)*Table_NFI[[#This Row],[Tarpaulin]],0)","v":0},{"$f":"IF(NFI_Expiration=1,IF($A113<VLOOKUP(M$5,NFI,5,0),1,0)*Table_NFI[[#This Row],[Blanket]],0)","v":0},{"$f":"IF(NFI_Expiration=1,IF($A113<VLOOKUP(N$5,NFI,5,0),1,0)*Table_NFI[[#This Row],[Kitchen Set]],0)","v":0},{"$f":"IF(NFI_Expiration=1,IF($A113<VLOOKUP(O$5,NFI,5,0),1,0)*Table_NFI[[#This Row],[Complementary Kit]],0)","v":0},{"$f":"IF(NFI_Expiration=1,IF($A113<VLOOKUP(P$5,NFI,5,0),1,0)*Table_NFI[[#This Row],[Plastic Bucket]],0)","v":0},{"$f":"IF(NFI_Expiration=1,IF($A113<VLOOKUP(Q$5,NFI,5,0),1,0)*Table_NFI[[#This Row],[Plastic Mat]],0)","v":0},{"$f":"VLOOKUP(Table_NFI[[#This Row],[Camp Name]],Camp_List!N$5:AA$254,2,0)","v":"MMR012CMP027"},{"$f":"VLOOKUP(Table_NFI[[#This Row],[Camp Name]],Camp_List!N$5:AA$254,14,0)","v":"Open"},{"$f":"VLOOKUP(Table_NFI[[#This Row],[Camp Name]],Camp_List!N$5:AC$254,1,1)","v":"Goke Pi Htaunt"}]
[2.0666666666666669,"2013-07-01","UNHCR","UNHCR","Rakhine","Kyauktaw","Goke Pi Htaunt",null,116,null,232,116,232,116,116,116,232,{"$f":"IF(NFI_Expiration=1,IF($A114<VLOOKUP(H$5,NFI,5,0),1,0)*Table_NFI[[#This Row],[Hygiene Kit]],0)","v":0},{"$f":"IF(NFI_Expiration=1,IF($A114<VLOOKUP(I$5,NFI,5,0),1,0)*Table_NFI[[#This Row],[NFI Core Kit]],0)","v":116},{"$f":"IF(NFI_Expiration=1,IF($A114<VLOOKUP(J$5,NFI,5,0),1,0)*Table_NFI[[#This Row],[Sanitary Kit]],0)","v":0},{"$f":"IF(NFI_Expiration=1,IF($A114<VLOOKUP(K$5,NFI,5,0),1,0)*Table_NFI[[#This Row],[Mosquito net]],0)","v":232},{"$f":"IF(NFI_Expiration=1,IF($A114<VLOOKUP(L$5,NFI,5,0),1,0)*Table_NFI[[#This Row],[Tarpaulin]],0)","v":116},{"$f":"IF(NFI_Expiration=1,IF($A114<VLOOKUP(M$5,NFI,5,0),1,0)*Table_NFI[[#This Row],[Blanket]],0)","v":232},{"$f":"IF(NFI_Expiration=1,IF($A114<VLOOKUP(N$5,NFI,5,0),1,0)*Table_NFI[[#This Row],[Kitchen Set]],0)","v":116},{"$f":"IF(NFI_Expiration=1,IF($A114<VLOOKUP(O$5,NFI,5,0),1,0)*Table_NFI[[#This Row],[Complementary Kit]],0)","v":116},{"$f":"IF(NFI_Expiration=1,IF($A114<VLOOKUP(P$5,NFI,5,0),1,0)*Table_NFI[[#This Row],[Plastic Bucket]],0)","v":116},{"$f":"IF(NFI_Expiration=1,IF($A114<VLOOKUP(Q$5,NFI,5,0),1,0)*Table_NFI[[#This Row],[Plastic Mat]],0)","v":232},{"$f":"VLOOKUP(Table_NFI[[#This Row],[Camp Name]],Camp_List!N$5:AA$254,2,0)","v":"MMR012CMP027"},{"$f":"VLOOKUP(Table_NFI[[#This Row],[Camp Name]],Camp_List!N$5:AA$254,14,0)","v":"Open"},{"$f":"VLOOKUP(Table_NFI[[#This Row],[Camp Name]],Camp_List!N$5:AC$254,1,1)","v":"Goke Pi Htaunt"}]
[12.4,"2012-08-25","UNHCR",null,"Rakhine","Kyauktaw","Yun Nyar",null,null,null,null,107,null,null,null,null,null,{"$f":"IF(NFI_Expiration=1,IF($A115<VLOOKUP(H$5,NFI,5,0),1,0)*Table_NFI[[#This Row],[Hygiene Kit]],0)","v":0},{"$f":"IF(NFI_Expiration=1,IF($A115<VLOOKUP(I$5,NFI,5,0),1,0)*Table_NFI[[#This Row],[NFI Core Kit]],0)","v":0},{"$f":"IF(NFI_Expiration=1,IF($A115<VLOOKUP(J$5,NFI,5,0),1,0)*Table_NFI[[#This Row],[Sanitary Kit]],0)","v":0},{"$f":"IF(NFI_Expiration=1,IF($A115<VLOOKUP(K$5,NFI,5,0),1,0)*Table_NFI[[#This Row],[Mosquito net]],0)","v":0},{"$f":"IF(NFI_Expiration=1,IF($A115<VLOOKUP(L$5,NFI,5,0),1,0)*Table_NFI[[#This Row],[Tarpaulin]],0)","v":0},{"$f":"IF(NFI_Expiration=1,IF($A115<VLOOKUP(M$5,NFI,5,0),1,0)*Table_NFI[[#This Row],[Blanket]],0)","v":0},{"$f":"IF(NFI_Expiration=1,IF($A115<VLOOKUP(N$5,NFI,5,0),1,0)*Table_NFI[[#This Row],[Kitchen Set]],0)","v":0},{"$f":"IF(NFI_Expiration=1,IF($A115<VLOOKUP(O$5,NFI,5,0),1,0)*Table_NFI[[#This Row],[Complementary Kit]],0)","v":0},{"$f":"IF(NFI_Expiration=1,IF($A115<VLOOKUP(P$5,NFI,5,0),1,0)*Table_NFI[[#This Row],[Plastic Bucket]],0)","v":0},{"$f":"IF(NFI_Expiration=1,IF($A115<VLOOKUP(Q$5,NFI,5,0),1,0)*Table_NFI[[#This Row],[Plastic Mat]],0)","v":0},{"$f":"VLOOKUP(Table_NFI[[#This Row],[Camp Name]],Camp_List!N$5:AA$254,2,0)","v":"MMR012CMP028"},{"$f":"VLOOKUP(Table_NFI[[#This Row],[Camp Name]],Camp_List!N$5:AA$254,14,0)","v":"Open"},{"$f":"VLOOKUP(Table_NFI[[#This Row],[Camp Name]],Camp_List!N$5:AC$254,1,1)","v":"Yun Nyar"}]
[8.7333333333333325,"2012-12-13","UNHCR",null,"Rakhine","Kyauktaw","Yun Nyar",null,null,null,null,null,57,null,null,null,null,{"$f":"IF(NFI_Expiration=1,IF($A116<VLOOKUP(H$5,NFI,5,0),1,0)*Table_NFI[[#This Row],[Hygiene Kit]],0)","v":0},{"$f":"IF(NFI_Expiration=1,IF($A116<VLOOKUP(I$5,NFI,5,0),1,0)*Table_NFI[[#This Row],[NFI Core Kit]],0)","v":0},{"$f":"IF(NFI_Expiration=1,IF($A116<VLOOKUP(J$5,NFI,5,0),1,0)*Table_NFI[[#This Row],[Sanitary Kit]],0)","v":0},{"$f":"IF(NFI_Expiration=1,IF($A116<VLOOKUP(K$5,NFI,5,0),1,0)*Table_NFI[[#This Row],[Mosquito net]],0)","v":0},{"$f":"IF(NFI_Expiration=1,IF($A116<VLOOKUP(L$5,NFI,5,0),1,0)*Table_NFI[[#This Row],[Tarpaulin]],0)","v":0},{"$f":"IF(NFI_Expiration=1,IF($A116<VLOOKUP(M$5,NFI,5,0),1,0)*Table_NFI[[#This Row],[Blanket]],0)","v":57},{"$f":"IF(NFI_Expiration=1,IF($A116<VLOOKUP(N$5,NFI,5,0),1,0)*Table_NFI[[#This Row],[Kitchen Set]],0)","v":0},{"$f":"IF(NFI_Expiration=1,IF($A116<VLOOKUP(O$5,NFI,5,0),1,0)*Table_NFI[[#This Row],[Complementary Kit]],0)","v":0},{"$f":"IF(NFI_Expiration=1,IF($A116<VLOOKUP(P$5,NFI,5,0),1,0)*Table_NFI[[#This Row],[Plastic Bucket]],0)","v":0},{"$f":"IF(NFI_Expiration=1,IF($A116<VLOOKUP(Q$5,NFI,5,0),1,0)*Table_NFI[[#This Row],[Plastic Mat]],0)","v":0},{"$f":"VLOOKUP(Table_NFI[[#This Row],[Camp Name]],Camp_List!N$5:AA$254,2,0)","v":"MMR012CMP028"},{"$f":"VLOOKUP(Table_NFI[[#This Row],[Camp Name]],Camp_List!N$5:AA$254,14,0)","v":"Open"},{"$f":"VLOOKUP(Table_NFI[[#This Row],[Camp Name]],Camp_List!N$5:AC$254,1,1)","v":"Yun Nyar"}]
[2.0666666666666669,"2013-07-01","UNHCR","UNHCR","Rakhine","Kyauktaw","Yun Nyar",null,null,null,null,null,null,null,null,null,null,{"$f":"IF(NFI_Expiration=1,IF($A117<VLOOKUP(H$5,NFI,5,0),1,0)*Table_NFI[[#This Row],[Hygiene Kit]],0)","v":0},{"$f":"IF(NFI_Expiration=1,IF($A117<VLOOKUP(I$5,NFI,5,0),1,0)*Table_NFI[[#This Row],[NFI Core Kit]],0)","v":0},{"$f":"IF(NFI_Expiration=1,IF($A117<VLOOKUP(J$5,NFI,5,0),1,0)*Table_NFI[[#This Row],[Sanitary Kit]],0)","v":0},{"$f":"IF(NFI_Expiration=1,IF($A117<VLOOKUP(K$5,NFI,5,0),1,0)*Table_NFI[[#This Row],[Mosquito net]],0)","v":0},{"$f":"IF(NFI_Expiration=1,IF($A117<VLOOKUP(L$5,NFI,5,0),1,0)*Table_NFI[[#This Row],[Tarpaulin]],0)","v":0},{"$f":"IF(NFI_Expiration=1,IF($A117<VLOOKUP(M$5,NFI,5,0),1,0)*Table_NFI[[#This Row],[Blanket]],0)","v":0},{"$f":"IF(NFI_Expiration=1,IF($A117<VLOOKUP(N$5,NFI,5,0),1,0)*Table_NFI[[#This Row],[Kitchen Set]],0)","v":0},{"$f":"IF(NFI_Expiration=1,IF($A117<VLOOKUP(O$5,NFI,5,0),1,0)*Table_NFI[[#This Row],[Complementary Kit]],0)","v":0},{"$f":"IF(NFI_Expiration=1,IF($A117<VLOOKUP(P$5,NFI,5,0),1,0)*Table_NFI[[#This Row],[Plastic Bucket]],0)","v":0},{"$f":"IF(NFI_Expiration=1,IF($A117<VLOOKUP(Q$5,NFI,5,0),1,0)*Table_NFI[[#This Row],[Plastic Mat]],0)","v":0},{"$f":"VLOOKUP(Table_NFI[[#This Row],[Camp Name]],Camp_List!N$5:AA$254,2,0)","v":"MMR012CMP028"},{"$f":"VLOOKUP(Table_NFI[[#This Row],[Camp Name]],Camp_List!N$5:AA$254,14,0)","v":"Open"},{"$f":"VLOOKUP(Table_NFI[[#This Row],[Camp Name]],Camp_List!N$5:AC$254,1,1)","v":"Yun Nyar"}]
[2.0666666666666669,"2013-07-01","UNHCR","UNHCR","Rakhine","Kyauktaw","Yun Nyar",null,108,null,216,108,216,108,108,108,216,{"$f":"IF(NFI_Expiration=1,IF($A118<VLOOKUP(H$5,NFI,5,0),1,0)*Table_NFI[[#This Row],[Hygiene Kit]],0)","v":0},{"$f":"IF(NFI_Expiration=1,IF($A118<VLOOKUP(I$5,NFI,5,0),1,0)*Table_NFI[[#This Row],[NFI Core Kit]],0)","v":108},{"$f":"IF(NFI_Expiration=1,IF($A118<VLOOKUP(J$5,NFI,5,0),1,0)*Table_NFI[[#This Row],[Sanitary Kit]],0)","v":0},{"$f":"IF(NFI_Expiration=1,IF($A118<VLOOKUP(K$5,NFI,5,0),1,0)*Table_NFI[[#This Row],[Mosquito net]],0)","v":216},{"$f":"IF(NFI_Expiration=1,IF($A118<VLOOKUP(L$5,NFI,5,0),1,0)*Table_NFI[[#This Row],[Tarpaulin]],0)","v":108},{"$f":"IF(NFI_Expiration=1,IF($A118<VLOOKUP(M$5,NFI,5,0),1,0)*Table_NFI[[#This Row],[Blanket]],0)","v":216},{"$f":"IF(NFI_Expiration=1,IF($A118<VLOOKUP(N$5,NFI,5,0),1,0)*Table_NFI[[#This Row],[Kitchen Set]],0)","v":108},{"$f":"IF(NFI_Expiration=1,IF($A118<VLOOKUP(O$5,NFI,5,0),1,0)*Table_NFI[[#This Row],[Complementary Kit]],0)","v":108},{"$f":"IF(NFI_Expiration=1,IF($A118<VLOOKUP(P$5,NFI,5,0),1,0)*Table_NFI[[#This Row],[Plastic Bucket]],0)","v":108},{"$f":"IF(NFI_Expiration=1,IF($A118<VLOOKUP(Q$5,NFI,5,0),1,0)*Table_NFI[[#This Row],[Plastic Mat]],0)","v":216},{"$f":"VLOOKUP(Table_NFI[[#This Row],[Camp Name]],Camp_List!N$5:AA$254,2,0)","v":"MMR012CMP028"},{"$f":"VLOOKUP(Table_NFI[[#This Row],[Camp Name]],Camp_List!N$5:AA$254,14,0)","v":"Open"},{"$f":"VLOOKUP(Table_NFI[[#This Row],[Camp Name]],Camp_List!N$5:AC$254,1,1)","v":"Yun Nyar"}]
[{"$f":"IF(ISBLANK(B119),\"\",(Report_Date-B119)/30)","v":12.4},"2012-08-25","UNHCR",null,"Rakhine","Kyauktaw","Shwe Hlaing",null,null,null,null,144,null,null,null,null,null,{"$f":"IF(NFI_Expiration=1,IF($A119<VLOOKUP(H$5,NFI,5,0),1,0)*Table_NFI[[#This Row],[Hygiene Kit]],0)","v":0},{"$f":"IF(NFI_Expiration=1,IF($A119<VLOOKUP(I$5,NFI,5,0),1,0)*Table_NFI[[#This Row],[NFI Core Kit]],0)","v":0},{"$f":"IF(NFI_Expiration=1,IF($A119<VLOOKUP(J$5,NFI,5,0),1,0)*Table_NFI[[#This Row],[Sanitary Kit]],0)","v":0},{"$f":"IF(NFI_Expiration=1,IF($A119<VLOOKUP(K$5,NFI,5,0),1,0)*Table_NFI[[#This Row],[Mosquito net]],0)","v":0},{"$f":"IF(NFI_Expiration=1,IF($A119<VLOOKUP(L$5,NFI,5,0),1,0)*Table_NFI[[#This Row],[Tarpaulin]],0)","v":0},{"$f":"IF(NFI_Expiration=1,IF($A119<VLOOKUP(M$5,NFI,5,0),1,0)*Table_NFI[[#This Row],[Blanket]],0)","v":0},{"$f":"IF(NFI_Expiration=1,IF($A119<VLOOKUP(N$5,NFI,5,0),1,0)*Table_NFI[[#This Row],[Kitchen Set]],0)","v":0},{"$f":"IF(NFI_Expiration=1,IF($A119<VLOOKUP(O$5,NFI,5,0),1,0)*Table_NFI[[#This Row],[Complementary Kit]],0)","v":0},{"$f":"IF(NFI_Expiration=1,IF($A119<VLOOKUP(P$5,NFI,5,0),1,0)*Table_NFI[[#This Row],[Plastic Bucket]],0)","v":0},{"$f":"IF(NFI_Expiration=1,IF($A119<VLOOKUP(Q$5,NFI,5,0),1,0)*Table_NFI[[#This Row],[Plastic Mat]],0)","v":0},{"$f":"VLOOKUP(Table_NFI[[#This Row],[Camp Name]],Camp_List!N$5:AA$254,2,0)","v":"MMR012CMP029"},{"$f":"VLOOKUP(Table_NFI[[#This Row],[Camp Name]],Camp_List!N$5:AA$254,14,0)","v":"Open"},{"$f":"VLOOKUP(Table_NFI[[#This Row],[Camp Name]],Camp_List!N$5:AC$254,1,1)","v":"Shwe Hlaing"}]
[8.7333333333333325,"2012-12-13","UNHCR",null,"Rakhine","Kyauktaw","Shwe Hlaing",null,null,null,null,null,128,null,null,null,null,{"$f":"IF(NFI_Expiration=1,IF($A120<VLOOKUP(H$5,NFI,5,0),1,0)*Table_NFI[[#This Row],[Hygiene Kit]],0)","v":0},{"$f":"IF(NFI_Expiration=1,IF($A120<VLOOKUP(I$5,NFI,5,0),1,0)*Table_NFI[[#This Row],[NFI Core Kit]],0)","v":0},{"$f":"IF(NFI_Expiration=1,IF($A120<VLOOKUP(J$5,NFI,5,0),1,0)*Table_NFI[[#This Row],[Sanitary Kit]],0)","v":0},{"$f":"IF(NFI_Expiration=1,IF($A120<VLOOKUP(K$5,NFI,5,0),1,0)*Table_NFI[[#This Row],[Mosquito net]],0)","v":0},{"$f":"IF(NFI_Expiration=1,IF($A120<VLOOKUP(L$5,NFI,5,0),1,0)*Table_NFI[[#This Row],[Tarpaulin]],0)","v":0},{"$f":"IF(NFI_Expiration=1,IF($A120<VLOOKUP(M$5,NFI,5,0),1,0)*Table_NFI[[#This Row],[Blanket]],0)","v":128},{"$f":"IF(NFI_Expiration=1,IF($A120<VLOOKUP(N$5,NFI,5,0),1,0)*Table_NFI[[#This Row],[Kitchen Set]],0)","v":0},{"$f":"IF(NFI_Expiration=1,IF($A120<VLOOKUP(O$5,NFI,5,0),1,0)*Table_NFI[[#This Row],[Complementary Kit]],0)","v":0},{"$f":"IF(NFI_Expiration=1,IF($A120<VLOOKUP(P$5,NFI,5,0),1,0)*Table_NFI[[#This Row],[Plastic Bucket]],0)","v":0},{"$f":"IF(NFI_Expiration=1,IF($A120<VLOOKUP(Q$5,NFI,5,0),1,0)*Table_NFI[[#This Row],[Plastic Mat]],0)","v":0},{"$f":"VLOOKUP(Table_NFI[[#This Row],[Camp Name]],Camp_List!N$5:AA$254,2,0)","v":"MMR012CMP029"},{"$f":"VLOOKUP(Table_NFI[[#This Row],[Camp Name]],Camp_List!N$5:AA$254,14,0)","v":"Open"},{"$f":"VLOOKUP(Table_NFI[[#This Row],[Camp Name]],Camp_List!N$5:AC$254,1,1)","v":"Shwe Hlaing"}]
[2.0666666666666669,"2013-07-01","UNHCR","UNHCR","Rakhine","Kyauktaw","Shwe Hlaing",null,null,null,null,null,null,null,null,null,null,{"$f":"IF(NFI_Expiration=1,IF($A121<VLOOKUP(H$5,NFI,5,0),1,0)*Table_NFI[[#This Row],[Hygiene Kit]],0)","v":0},{"$f":"IF(NFI_Expiration=1,IF($A121<VLOOKUP(I$5,NFI,5,0),1,0)*Table_NFI[[#This Row],[NFI Core Kit]],0)","v":0},{"$f":"IF(NFI_Expiration=1,IF($A121<VLOOKUP(J$5,NFI,5,0),1,0)*Table_NFI[[#This Row],[Sanitary Kit]],0)","v":0},{"$f":"IF(NFI_Expiration=1,IF($A121<VLOOKUP(K$5,NFI,5,0),1,0)*Table_NFI[[#This Row],[Mosquito net]],0)","v":0},{"$f":"IF(NFI_Expiration=1,IF($A121<VLOOKUP(L$5,NFI,5,0),1,0)*Table_NFI[[#This Row],[Tarpaulin]],0)","v":0},{"$f":"IF(NFI_Expiration=1,IF($A121<VLOOKUP(M$5,NFI,5,0),1,0)*Table_NFI[[#This Row],[Blanket]],0)","v":0},{"$f":"IF(NFI_Expiration=1,IF($A121<VLOOKUP(N$5,NFI,5,0),1,0)*Table_NFI[[#This Row],[Kitchen Set]],0)","v":0},{"$f":"IF(NFI_Expiration=1,IF($A121<VLOOKUP(O$5,NFI,5,0),1,0)*Table_NFI[[#This Row],[Complementary Kit]],0)","v":0},{"$f":"IF(NFI_Expiration=1,IF($A121<VLOOKUP(P$5,NFI,5,0),1,0)*Table_NFI[[#This Row],[Plastic Bucket]],0)","v":0},{"$f":"IF(NFI_Expiration=1,IF($A121<VLOOKUP(Q$5,NFI,5,0),1,0)*Table_NFI[[#This Row],[Plastic Mat]],0)","v":0},{"$f":"VLOOKUP(Table_NFI[[#This Row],[Camp Name]],Camp_List!N$5:AA$254,2,0)","v":"MMR012CMP029"},{"$f":"VLOOKUP(Table_NFI[[#This Row],[Camp Name]],Camp_List!N$5:AA$254,14,0)","v":"Open"},{"$f":"VLOOKUP(Table_NFI[[#This Row],[Camp Name]],Camp_List!N$5:AC$254,1,1)","v":"Shwe Hlaing"}]
[2.0666666666666669,"2013-07-01","UNHCR","UNHCR","Rakhine","Kyauktaw","Shwe Hlaing",null,145,null,290,145,290,145,145,145,290,{"$f":"IF(NFI_Expiration=1,IF($A122<VLOOKUP(H$5,NFI,5,0),1,0)*Table_NFI[[#This Row],[Hygiene Kit]],0)","v":0},{"$f":"IF(NFI_Expiration=1,IF($A122<VLOOKUP(I$5,NFI,5,0),1,0)*Table_NFI[[#This Row],[NFI Core Kit]],0)","v":145},{"$f":"IF(NFI_Expiration=1,IF($A122<VLOOKUP(J$5,NFI,5,0),1,0)*Table_NFI[[#This Row],[Sanitary Kit]],0)","v":0},{"$f":"IF(NFI_Expiration=1,IF($A122<VLOOKUP(K$5,NFI,5,0),1,0)*Table_NFI[[#This Row],[Mosquito net]],0)","v":290},{"$f":"IF(NFI_Expiration=1,IF($A122<VLOOKUP(L$5,NFI,5,0),1,0)*Table_NFI[[#This Row],[Tarpaulin]],0)","v":145},{"$f":"IF(NFI_Expiration=1,IF($A122<VLOOKUP(M$5,NFI,5,0),1,0)*Table_NFI[[#This Row],[Blanket]],0)","v":290},{"$f":"IF(NFI_Expiration=1,IF($A122<VLOOKUP(N$5,NFI,5,0),1,0)*Table_NFI[[#This Row],[Kitchen Set]],0)","v":145},{"$f":"IF(NFI_Expiration=1,IF($A122<VLOOKUP(O$5,NFI,5,0),1,0)*Table_NFI[[#This Row],[Complementary Kit]],0)","v":145},{"$f":"IF(NFI_Expiration=1,IF($A122<VLOOKUP(P$5,NFI,5,0),1,0)*Table_NFI[[#This Row],[Plastic Bucket]],0)","v":145},{"$f":"IF(NFI_Expiration=1,IF($A122<VLOOKUP(Q$5,NFI,5,0),1,0)*Table_NFI[[#This Row],[Plastic Mat]],0)","v":290},{"$f":"VLOOKUP(Table_NFI[[#This Row],[Camp Name]],Camp_List!N$5:AA$254,2,0)","v":"MMR012CMP029"},{"$f":"VLOOKUP(Table_NFI[[#This Row],[Camp Name]],Camp_List!N$5:AA$254,14,0)","v":"Open"},{"$f":"VLOOKUP(Table_NFI[[#This Row],[Camp Name]],Camp_List!N$5:AC$254,1,1)","v":"Shwe Hlaing"}]
[2.0666666666666669,"2013-07-01","UNHCR","UNHCR","Rakhine","Kyauktaw","Khaung Htoke",null,null,null,null,null,null,null,null,null,null,{"$f":"IF(NFI_Expiration=1,IF($A123<VLOOKUP(H$5,NFI,5,0),1,0)*Table_NFI[[#This Row],[Hygiene Kit]],0)","v":0},{"$f":"IF(NFI_Expiration=1,IF($A123<VLOOKUP(I$5,NFI,5,0),1,0)*Table_NFI[[#This Row],[NFI Core Kit]],0)","v":0},{"$f":"IF(NFI_Expiration=1,IF($A123<VLOOKUP(J$5,NFI,5,0),1,0)*Table_NFI[[#This Row],[Sanitary Kit]],0)","v":0},{"$f":"IF(NFI_Expiration=1,IF($A123<VLOOKUP(K$5,NFI,5,0),1,0)*Table_NFI[[#This Row],[Mosquito net]],0)","v":0},{"$f":"IF(NFI_Expiration=1,IF($A123<VLOOKUP(L$5,NFI,5,0),1,0)*Table_NFI[[#This Row],[Tarpaulin]],0)","v":0},{"$f":"IF(NFI_Expiration=1,IF($A123<VLOOKUP(M$5,NFI,5,0),1,0)*Table_NFI[[#This Row],[Blanket]],0)","v":0},{"$f":"IF(NFI_Expiration=1,IF($A123<VLOOKUP(N$5,NFI,5,0),1,0)*Table_NFI[[#This Row],[Kitchen Set]],0)","v":0},{"$f":"IF(NFI_Expiration=1,IF($A123<VLOOKUP(O$5,NFI,5,0),1,0)*Table_NFI[[#This Row],[Complementary Kit]],0)","v":0},{"$f":"IF(NFI_Expiration=1,IF($A123<VLOOKUP(P$5,NFI,5,0),1,0)*Table_NFI[[#This Row],[Plastic Bucket]],0)","v":0},{"$f":"IF(NFI_Expiration=1,IF($A123<VLOOKUP(Q$5,NFI,5,0),1,0)*Table_NFI[[#This Row],[Plastic Mat]],0)","v":0},{"$f":"VLOOKUP(Table_NFI[[#This Row],[Camp Name]],Camp_List!N$5:AA$254,2,0)","v":"MMR012CMP030"},{"$f":"VLOOKUP(Table_NFI[[#This Row],[Camp Name]],Camp_List!N$5:AA$254,14,0)","v":"Open"},{"$f":"VLOOKUP(Table_NFI[[#This Row],[Camp Name]],Camp_List!N$5:AC$254,1,1)","v":"Khaung Htoke"}]
[2.0666666666666669,"2013-07-01","UNHCR","UNHCR","Rakhine","Kyauktaw","Khaung Htoke",null,159,null,318,159,318,159,159,159,318,{"$f":"IF(NFI_Expiration=1,IF($A124<VLOOKUP(H$5,NFI,5,0),1,0)*Table_NFI[[#This Row],[Hygiene Kit]],0)","v":0},{"$f":"IF(NFI_Expiration=1,IF($A124<VLOOKUP(I$5,NFI,5,0),1,0)*Table_NFI[[#This Row],[NFI Core Kit]],0)","v":159},{"$f":"IF(NFI_Expiration=1,IF($A124<VLOOKUP(J$5,NFI,5,0),1,0)*Table_NFI[[#This Row],[Sanitary Kit]],0)","v":0},{"$f":"IF(NFI_Expiration=1,IF($A124<VLOOKUP(K$5,NFI,5,0),1,0)*Table_NFI[[#This Row],[Mosquito net]],0)","v":318},{"$f":"IF(NFI_Expiration=1,IF($A124<VLOOKUP(L$5,NFI,5,0),1,0)*Table_NFI[[#This Row],[Tarpaulin]],0)","v":159},{"$f":"IF(NFI_Expiration=1,IF($A124<VLOOKUP(M$5,NFI,5,0),1,0)*Table_NFI[[#This Row],[Blanket]],0)","v":318},{"$f":"IF(NFI_Expiration=1,IF($A124<VLOOKUP(N$5,NFI,5,0),1,0)*Table_NFI[[#This Row],[Kitchen Set]],0)","v":159},{"$f":"IF(NFI_Expiration=1,IF($A124<VLOOKUP(O$5,NFI,5,0),1,0)*Table_NFI[[#This Row],[Complementary Kit]],0)","v":159},{"$f":"IF(NFI_Expiration=1,IF($A124<VLOOKUP(P$5,NFI,5,0),1,0)*Table_NFI[[#This Row],[Plastic Bucket]],0)","v":159},{"$f":"IF(NFI_Expiration=1,IF($A124<VLOOKUP(Q$5,NFI,5,0),1,0)*Table_NFI[[#This Row],[Plastic Mat]],0)","v":318},{"$f":"VLOOKUP(Table_NFI[[#This Row],[Camp Name]],Camp_List!N$5:AA$254,2,0)","v":"MMR012CMP030"},{"$f":"VLOOKUP(Table_NFI[[#This Row],[Camp Name]],Camp_List!N$5:AA$254,14,0)","v":"Open"},{"$f":"VLOOKUP(Table_NFI[[#This Row],[Camp Name]],Camp_List!N$5:AC$254,1,1)","v":"Khaung Htoke"}]
[4.166666666666667,"2013-04-29","UNHCR",null,"Rakhine","Rathedaung","Nyaung Pin Gyi",0,null,128,128,64,0,null,null,null,null,{"$f":"IF(NFI_Expiration=1,IF($A125<VLOOKUP(H$5,NFI,5,0),1,0)*Table_NFI[[#This Row],[Hygiene Kit]],0)","v":0},{"$f":"IF(NFI_Expiration=1,IF($A125<VLOOKUP(I$5,NFI,5,0),1,0)*Table_NFI[[#This Row],[NFI Core Kit]],0)","v":0},{"$f":"IF(NFI_Expiration=1,IF($A125<VLOOKUP(J$5,NFI,5,0),1,0)*Table_NFI[[#This Row],[Sanitary Kit]],0)","v":128},{"$f":"IF(NFI_Expiration=1,IF($A125<VLOOKUP(K$5,NFI,5,0),1,0)*Table_NFI[[#This Row],[Mosquito net]],0)","v":128},{"$f":"IF(NFI_Expiration=1,IF($A125<VLOOKUP(L$5,NFI,5,0),1,0)*Table_NFI[[#This Row],[Tarpaulin]],0)","v":64},{"$f":"IF(NFI_Expiration=1,IF($A125<VLOOKUP(M$5,NFI,5,0),1,0)*Table_NFI[[#This Row],[Blanket]],0)","v":0},{"$f":"IF(NFI_Expiration=1,IF($A125<VLOOKUP(N$5,NFI,5,0),1,0)*Table_NFI[[#This Row],[Kitchen Set]],0)","v":0},{"$f":"IF(NFI_Expiration=1,IF($A125<VLOOKUP(O$5,NFI,5,0),1,0)*Table_NFI[[#This Row],[Complementary Kit]],0)","v":0},{"$f":"IF(NFI_Expiration=1,IF($A125<VLOOKUP(P$5,NFI,5,0),1,0)*Table_NFI[[#This Row],[Plastic Bucket]],0)","v":0},{"$f":"IF(NFI_Expiration=1,IF($A125<VLOOKUP(Q$5,NFI,5,0),1,0)*Table_NFI[[#This Row],[Plastic Mat]],0)","v":0},{"$f":"VLOOKUP(Table_NFI[[#This Row],[Camp Name]],Camp_List!N$5:AA$254,2,0)","v":"MMR012CMP031"},{"$f":"VLOOKUP(Table_NFI[[#This Row],[Camp Name]],Camp_List!N$5:AA$254,14,0)","v":"Open"},{"$f":"VLOOKUP(Table_NFI[[#This Row],[Camp Name]],Camp_List!N$5:AC$254,1,1)","v":"Nyaung Pin Gyi"}]
[4.166666666666667,"2013-04-29","UNHCR",null,"Rakhine","Rathedaung","Nyaung Pin Gyi",0,64,null,128,64,128,64,64,64,128,{"$f":"IF(NFI_Expiration=1,IF($A126<VLOOKUP(H$5,NFI,5,0),1,0)*Table_NFI[[#This Row],[Hygiene Kit]],0)","v":0},{"$f":"IF(NFI_Expiration=1,IF($A126<VLOOKUP(I$5,NFI,5,0),1,0)*Table_NFI[[#This Row],[NFI Core Kit]],0)","v":64},{"$f":"IF(NFI_Expiration=1,IF($A126<VLOOKUP(J$5,NFI,5,0),1,0)*Table_NFI[[#This Row],[Sanitary Kit]],0)","v":0},{"$f":"IF(NFI_Expiration=1,IF($A126<VLOOKUP(K$5,NFI,5,0),1,0)*Table_NFI[[#This Row],[Mosquito net]],0)","v":128},{"$f":"IF(NFI_Expiration=1,IF($A126<VLOOKUP(L$5,NFI,5,0),1,0)*Table_NFI[[#This Row],[Tarpaulin]],0)","v":64},{"$f":"IF(NFI_Expiration=1,IF($A126<VLOOKUP(M$5,NFI,5,0),1,0)*Table_NFI[[#This Row],[Blanket]],0)","v":128},{"$f":"IF(NFI_Expiration=1,IF($A126<VLOOKUP(N$5,NFI,5,0),1,0)*Table_NFI[[#This Row],[Kitchen Set]],0)","v":64},{"$f":"IF(NFI_Expiration=1,IF($A126<VLOOKUP(O$5,NFI,5,0),1,0)*Table_NFI[[#This Row],[Complementary Kit]],0)","v":64},{"$f":"IF(NFI_Expiration=1,IF($A126<VLOOKUP(P$5,NFI,5,0),1,0)*Table_NFI[[#This Row],[Plastic Bucket]],0)","v":64},{"$f":"IF(NFI_Expiration=1,IF($A126<VLOOKUP(Q$5,NFI,5,0),1,0)*Table_NFI[[#This Row],[Plastic Mat]],0)","v":128},{"$f":"VLOOKUP(Table_NFI[[#This Row],[Camp Name]],Camp_List!N$5:AA$254,2,0)","v":"MMR012CMP031"},{"$f":"VLOOKUP(Table_NFI[[#This Row],[Camp Name]],Camp_List!N$5:AA$254,14,0)","v":"Open"},{"$f":"VLOOKUP(Table_NFI[[#This Row],[Camp Name]],Camp_List!N$5:AC$254,1,1)","v":"Nyaung Pin Gyi"}]
[5.7,"2013-03-14","UNHCR",null,"Rakhine","Rathedaung","Ah Nauk Pyin",0,null,136,136,68,0,null,null,null,null,{"$f":"IF(NFI_Expiration=1,IF($A127<VLOOKUP(H$5,NFI,5,0),1,0)*Table_NFI[[#This Row],[Hygiene Kit]],0)","v":0},{"$f":"IF(NFI_Expiration=1,IF($A127<VLOOKUP(I$5,NFI,5,0),1,0)*Table_NFI[[#This Row],[NFI Core Kit]],0)","v":0},{"$f":"IF(NFI_Expiration=1,IF($A127<VLOOKUP(J$5,NFI,5,0),1,0)*Table_NFI[[#This Row],[Sanitary Kit]],0)","v":136},{"$f":"IF(NFI_Expiration=1,IF($A127<VLOOKUP(K$5,NFI,5,0),1,0)*Table_NFI[[#This Row],[Mosquito net]],0)","v":136},{"$f":"IF(NFI_Expiration=1,IF($A127<VLOOKUP(L$5,NFI,5,0),1,0)*Table_NFI[[#This Row],[Tarpaulin]],0)","v":68},{"$f":"IF(NFI_Expiration=1,IF($A127<VLOOKUP(M$5,NFI,5,0),1,0)*Table_NFI[[#This Row],[Blanket]],0)","v":0},{"$f":"IF(NFI_Expiration=1,IF($A127<VLOOKUP(N$5,NFI,5,0),1,0)*Table_NFI[[#This Row],[Kitchen Set]],0)","v":0},{"$f":"IF(NFI_Expiration=1,IF($A127<VLOOKUP(O$5,NFI,5,0),1,0)*Table_NFI[[#This Row],[Complementary Kit]],0)","v":0},{"$f":"IF(NFI_Expiration=1,IF($A127<VLOOKUP(P$5,NFI,5,0),1,0)*Table_NFI[[#This Row],[Plastic Bucket]],0)","v":0},{"$f":"IF(NFI_Expiration=1,IF($A127<VLOOKUP(Q$5,NFI,5,0),1,0)*Table_NFI[[#This Row],[Plastic Mat]],0)","v":0},{"$f":"VLOOKUP(Table_NFI[[#This Row],[Camp Name]],Camp_List!N$5:AA$254,2,0)","v":"MMR012CMP032"},{"$f":"VLOOKUP(Table_NFI[[#This Row],[Camp Name]],Camp_List!N$5:AA$254,14,0)","v":"Open"},{"$f":"VLOOKUP(Table_NFI[[#This Row],[Camp Name]],Camp_List!N$5:AC$254,1,1)","v":"Ah Nauk Pyin"}]
[5.7,"2013-03-14","UNHCR",null,"Rakhine","Rathedaung","Ah Nauk Pyin",0,68,null,136,68,136,68,68,68,136,{"$f":"IF(NFI_Expiration=1,IF($A128<VLOOKUP(H$5,NFI,5,0),1,0)*Table_NFI[[#This Row],[Hygiene Kit]],0)","v":0},{"$f":"IF(NFI_Expiration=1,IF($A128<VLOOKUP(I$5,NFI,5,0),1,0)*Table_NFI[[#This Row],[NFI Core Kit]],0)","v":68},{"$f":"IF(NFI_Expiration=1,IF($A128<VLOOKUP(J$5,NFI,5,0),1,0)*Table_NFI[[#This Row],[Sanitary Kit]],0)","v":0},{"$f":"IF(NFI_Expiration=1,IF($A128<VLOOKUP(K$5,NFI,5,0),1,0)*Table_NFI[[#This Row],[Mosquito net]],0)","v":136},{"$f":"IF(NFI_Expiration=1,IF($A128<VLOOKUP(L$5,NFI,5,0),1,0)*Table_NFI[[#This Row],[Tarpaulin]],0)","v":68},{"$f":"IF(NFI_Expiration=1,IF($A128<VLOOKUP(M$5,NFI,5,0),1,0)*Table_NFI[[#This Row],[Blanket]],0)","v":136},{"$f":"IF(NFI_Expiration=1,IF($A128<VLOOKUP(N$5,NFI,5,0),1,0)*Table_NFI[[#This Row],[Kitchen Set]],0)","v":68},{"$f":"IF(NFI_Expiration=1,IF($A128<VLOOKUP(O$5,NFI,5,0),1,0)*Table_NFI[[#This Row],[Complementary Kit]],0)","v":68},{"$f":"IF(NFI_Expiration=1,IF($A128<VLOOKUP(P$5,NFI,5,0),1,0)*Table_NFI[[#This Row],[Plastic Bucket]],0)","v":68},{"$f":"IF(NFI_Expiration=1,IF($A128<VLOOKUP(Q$5,NFI,5,0),1,0)*Table_NFI[[#This Row],[Plastic Mat]],0)","v":136},{"$f":"VLOOKUP(Table_NFI[[#This Row],[Camp Name]],Camp_List!N$5:AA$254,2,0)","v":"MMR012CMP032"},{"$f":"VLOOKUP(Table_NFI[[#This Row],[Camp Name]],Camp_List!N$5:AA$254,14,0)","v":"Open"},{"$f":"VLOOKUP(Table_NFI[[#This Row],[Camp Name]],Camp_List!N$5:AC$254,1,1)","v":"Ah Nauk Pyin"}]
[7.9,"2013-01-07","UNHCR",null,"Rakhine","Rathedaung","Ah Htet Nan Yar",null,null,228,443,228,0,null,null,null,null,{"$f":"IF(NFI_Expiration=1,IF($A129<VLOOKUP(H$5,NFI,5,0),1,0)*Table_NFI[[#This Row],[Hygiene Kit]],0)","v":0},{"$f":"IF(NFI_Expiration=1,IF($A129<VLOOKUP(I$5,NFI,5,0),1,0)*Table_NFI[[#This Row],[NFI Core Kit]],0)","v":0},{"$f":"IF(NFI_Expiration=1,IF($A129<VLOOKUP(J$5,NFI,5,0),1,0)*Table_NFI[[#This Row],[Sanitary Kit]],0)","v":228},{"$f":"IF(NFI_Expiration=1,IF($A129<VLOOKUP(K$5,NFI,5,0),1,0)*Table_NFI[[#This Row],[Mosquito net]],0)","v":443},{"$f":"IF(NFI_Expiration=1,IF($A129<VLOOKUP(L$5,NFI,5,0),1,0)*Table_NFI[[#This Row],[Tarpaulin]],0)","v":228},{"$f":"IF(NFI_Expiration=1,IF($A129<VLOOKUP(M$5,NFI,5,0),1,0)*Table_NFI[[#This Row],[Blanket]],0)","v":0},{"$f":"IF(NFI_Expiration=1,IF($A129<VLOOKUP(N$5,NFI,5,0),1,0)*Table_NFI[[#This Row],[Kitchen Set]],0)","v":0},{"$f":"IF(NFI_Expiration=1,IF($A129<VLOOKUP(O$5,NFI,5,0),1,0)*Table_NFI[[#This Row],[Complementary Kit]],0)","v":0},{"$f":"IF(NFI_Expiration=1,IF($A129<VLOOKUP(P$5,NFI,5,0),1,0)*Table_NFI[[#This Row],[Plastic Bucket]],0)","v":0},{"$f":"IF(NFI_Expiration=1,IF($A129<VLOOKUP(Q$5,NFI,5,0),1,0)*Table_NFI[[#This Row],[Plastic Mat]],0)","v":0},{"$f":"VLOOKUP(Table_NFI[[#This Row],[Camp Name]],Camp_List!N$5:AA$254,2,0)","v":"MMR012CMP034"},{"$f":"VLOOKUP(Table_NFI[[#This Row],[Camp Name]],Camp_List!N$5:AA$254,14,0)","v":"Open"},{"$f":"VLOOKUP(Table_NFI[[#This Row],[Camp Name]],Camp_List!N$5:AC$254,1,1)","v":"Ah Htet Nan Yar"}]
[7.9,"2013-01-07","UNHCR",null,"Rakhine","Rathedaung","Ah Htet Nan Yar",null,228,null,456,228,456,228,228,228,456,{"$f":"IF(NFI_Expiration=1,IF($A130<VLOOKUP(H$5,NFI,5,0),1,0)*Table_NFI[[#This Row],[Hygiene Kit]],0)","v":0},{"$f":"IF(NFI_Expiration=1,IF($A130<VLOOKUP(I$5,NFI,5,0),1,0)*Table_NFI[[#This Row],[NFI Core Kit]],0)","v":228},{"$f":"IF(NFI_Expiration=1,IF($A130<VLOOKUP(J$5,NFI,5,0),1,0)*Table_NFI[[#This Row],[Sanitary Kit]],0)","v":0},{"$f":"IF(NFI_Expiration=1,IF($A130<VLOOKUP(K$5,NFI,5,0),1,0)*Table_NFI[[#This Row],[Mosquito net]],0)","v":456},{"$f":"IF(NFI_Expiration=1,IF($A130<VLOOKUP(L$5,NFI,5,0),1,0)*Table_NFI[[#This Row],[Tarpaulin]],0)","v":228},{"$f":"IF(NFI_Expiration=1,IF($A130<VLOOKUP(M$5,NFI,5,0),1,0)*Table_NFI[[#This Row],[Blanket]],0)","v":456},{"$f":"IF(NFI_Expiration=1,IF($A130<VLOOKUP(N$5,NFI,5,0),1,0)*Table_NFI[[#This Row],[Kitchen Set]],0)","v":228},{"$f":"IF(NFI_Expiration=1,IF($A130<VLOOKUP(O$5,NFI,5,0),1,0)*Table_NFI[[#This Row],[Complementary Kit]],0)","v":228},{"$f":"IF(NFI_Expiration=1,IF($A130<VLOOKUP(P$5,NFI,5,0),1,0)*Table_NFI[[#This Row],[Plastic Bucket]],0)","v":228},{"$f":"IF(NFI_Expiration=1,IF($A130<VLOOKUP(Q$5,NFI,5,0),1,0)*Table_NFI[[#This Row],[Plastic Mat]],0)","v":456},{"$f":"VLOOKUP(Table_NFI[[#This Row],[Camp Name]],Camp_List!N$5:AA$254,2,0)","v":"MMR012CMP034"},{"$f":"VLOOKUP(Table_NFI[[#This Row],[Camp Name]],Camp_List!N$5:AA$254,14,0)","v":"Open"},{"$f":"VLOOKUP(Table_NFI[[#This Row],[Camp Name]],Camp_List!N$5:AC$254,1,1)","v":"Ah Htet Nan Yar"}]
[6.833333333333333,"2013-02-08","UNICEF ",null,"Rakhine","Kyauk_Phyu","Kyauk Ta Lone",418,null,null,null,null,null,null,null,null,null,{"$f":"IF(NFI_Expiration=1,IF($A131<VLOOKUP(H$5,NFI,5,0),1,0)*Table_NFI[[#This Row],[Hygiene Kit]],0)","v":418},{"$f":"IF(NFI_Expiration=1,IF($A131<VLOOKUP(I$5,NFI,5,0),1,0)*Table_NFI[[#This Row],[NFI Core Kit]],0)","v":0},{"$f":"IF(NFI_Expiration=1,IF($A131<VLOOKUP(J$5,NFI,5,0),1,0)*Table_NFI[[#This Row],[Sanitary Kit]],0)","v":0},{"$f":"IF(NFI_Expiration=1,IF($A131<VLOOKUP(K$5,NFI,5,0),1,0)*Table_NFI[[#This Row],[Mosquito net]],0)","v":0},{"$f":"IF(NFI_Expiration=1,IF($A131<VLOOKUP(L$5,NFI,5,0),1,0)*Table_NFI[[#This Row],[Tarpaulin]],0)","v":0},{"$f":"IF(NFI_Expiration=1,IF($A131<VLOOKUP(M$5,NFI,5,0),1,0)*Table_NFI[[#This Row],[Blanket]],0)","v":0},{"$f":"IF(NFI_Expiration=1,IF($A131<VLOOKUP(N$5,NFI,5,0),1,0)*Table_NFI[[#This Row],[Kitchen Set]],0)","v":0},{"$f":"IF(NFI_Expiration=1,IF($A131<VLOOKUP(O$5,NFI,5,0),1,0)*Table_NFI[[#This Row],[Complementary Kit]],0)","v":0},{"$f":"IF(NFI_Expiration=1,IF($A131<VLOOKUP(P$5,NFI,5,0),1,0)*Table_NFI[[#This Row],[Plastic Bucket]],0)","v":0},{"$f":"IF(NFI_Expiration=1,IF($A131<VLOOKUP(Q$5,NFI,5,0),1,0)*Table_NFI[[#This Row],[Plastic Mat]],0)","v":0},{"$f":"VLOOKUP(Table_NFI[[#This Row],[Camp Name]],Camp_List!N$5:AA$254,2,0)","v":"MMR012CMP035"},{"$f":"VLOOKUP(Table_NFI[[#This Row],[Camp Name]],Camp_List!N$5:AA$254,14,0)","v":"Open"},{"$f":"VLOOKUP(Table_NFI[[#This Row],[Camp Name]],Camp_List!N$5:AC$254,1,1)","v":"Kyauk Ta Lone"}]
[6.833333333333333,"2013-02-08","UNICEF ",null,"Rakhine","Kyauk_Phyu","Pha Yar Gyi Kwin",71,null,null,null,null,null,null,null,null,null,{"$f":"IF(NFI_Expiration=1,IF($A132<VLOOKUP(H$5,NFI,5,0),1,0)*Table_NFI[[#This Row],[Hygiene Kit]],0)","v":71},{"$f":"IF(NFI_Expiration=1,IF($A132<VLOOKUP(I$5,NFI,5,0),1,0)*Table_NFI[[#This Row],[NFI Core Kit]],0)","v":0},{"$f":"IF(NFI_Expiration=1,IF($A132<VLOOKUP(J$5,NFI,5,0),1,0)*Table_NFI[[#This Row],[Sanitary Kit]],0)","v":0},{"$f":"IF(NFI_Expiration=1,IF($A132<VLOOKUP(K$5,NFI,5,0),1,0)*Table_NFI[[#This Row],[Mosquito net]],0)","v":0},{"$f":"IF(NFI_Expiration=1,IF($A132<VLOOKUP(L$5,NFI,5,0),1,0)*Table_NFI[[#This Row],[Tarpaulin]],0)","v":0},{"$f":"IF(NFI_Expiration=1,IF($A132<VLOOKUP(M$5,NFI,5,0),1,0)*Table_NFI[[#This Row],[Blanket]],0)","v":0},{"$f":"IF(NFI_Expiration=1,IF($A132<VLOOKUP(N$5,NFI,5,0),1,0)*Table_NFI[[#This Row],[Kitchen Set]],0)","v":0},{"$f":"IF(NFI_Expiration=1,IF($A132<VLOOKUP(O$5,NFI,5,0),1,0)*Table_NFI[[#This Row],[Complementary Kit]],0)","v":0},{"$f":"IF(NFI_Expiration=1,IF($A132<VLOOKUP(P$5,NFI,5,0),1,0)*Table_NFI[[#This Row],[Plastic Bucket]],0)","v":0},{"$f":"IF(NFI_Expiration=1,IF($A132<VLOOKUP(Q$5,NFI,5,0),1,0)*Table_NFI[[#This Row],[Plastic Mat]],0)","v":0},{"$f":"VLOOKUP(Table_NFI[[#This Row],[Camp Name]],Camp_List!N$5:AA$254,2,0)","v":"MMR012CMP036"},{"$f":"VLOOKUP(Table_NFI[[#This Row],[Camp Name]],Camp_List!N$5:AA$254,14,0)","v":"Open"},{"$f":"VLOOKUP(Table_NFI[[#This Row],[Camp Name]],Camp_List!N$5:AC$254,1,1)","v":"Pha Yar Gyi Kwin"}]
[6.833333333333333,"2013-02-08","UNICEF ",null,"Rakhine","Ramree","Ramree Ward 6",97,null,null,null,null,null,null,null,null,null,{"$f":"IF(NFI_Expiration=1,IF($A133<VLOOKUP(H$5,NFI,5,0),1,0)*Table_NFI[[#This Row],[Hygiene Kit]],0)","v":97},{"$f":"IF(NFI_Expiration=1,IF($A133<VLOOKUP(I$5,NFI,5,0),1,0)*Table_NFI[[#This Row],[NFI Core Kit]],0)","v":0},{"$f":"IF(NFI_Expiration=1,IF($A133<VLOOKUP(J$5,NFI,5,0),1,0)*Table_NFI[[#This Row],[Sanitary Kit]],0)","v":0},{"$f":"IF(NFI_Expiration=1,IF($A133<VLOOKUP(K$5,NFI,5,0),1,0)*Table_NFI[[#This Row],[Mosquito net]],0)","v":0},{"$f":"IF(NFI_Expiration=1,IF($A133<VLOOKUP(L$5,NFI,5,0),1,0)*Table_NFI[[#This Row],[Tarpaulin]],0)","v":0},{"$f":"IF(NFI_Expiration=1,IF($A133<VLOOKUP(M$5,NFI,5,0),1,0)*Table_NFI[[#This Row],[Blanket]],0)","v":0},{"$f":"IF(NFI_Expiration=1,IF($A133<VLOOKUP(N$5,NFI,5,0),1,0)*Table_NFI[[#This Row],[Kitchen Set]],0)","v":0},{"$f":"IF(NFI_Expiration=1,IF($A133<VLOOKUP(O$5,NFI,5,0),1,0)*Table_NFI[[#This Row],[Complementary Kit]],0)","v":0},{"$f":"IF(NFI_Expiration=1,IF($A133<VLOOKUP(P$5,NFI,5,0),1,0)*Table_NFI[[#This Row],[Plastic Bucket]],0)","v":0},{"$f":"IF(NFI_Expiration=1,IF($A133<VLOOKUP(Q$5,NFI,5,0),1,0)*Table_NFI[[#This Row],[Plastic Mat]],0)","v":0},{"$f":"VLOOKUP(Table_NFI[[#This Row],[Camp Name]],Camp_List!N$5:AA$254,2,0)","v":"MMR012CMP037"},{"$f":"VLOOKUP(Table_NFI[[#This Row],[Camp Name]],Camp_List!N$5:AA$254,14,0)","v":"Open"},{"$f":"VLOOKUP(Table_NFI[[#This Row],[Camp Name]],Camp_List!N$5:AC$254,1,1)","v":"Ramree Ward 6"}]
[6.833333333333333,"2013-02-08","UNICEF ",null,"Rakhine","Ramree","Ramree Town",24,null,null,null,null,null,null,null,null,null,{"$f":"IF(NFI_Expiration=1,IF($A134<VLOOKUP(H$5,NFI,5,0),1,0)*Table_NFI[[#This Row],[Hygiene Kit]],0)","v":24},{"$f":"IF(NFI_Expiration=1,IF($A134<VLOOKUP(I$5,NFI,5,0),1,0)*Table_NFI[[#This Row],[NFI Core Kit]],0)","v":0},{"$f":"IF(NFI_Expiration=1,IF($A134<VLOOKUP(J$5,NFI,5,0),1,0)*Table_NFI[[#This Row],[Sanitary Kit]],0)","v":0},{"$f":"IF(NFI_Expiration=1,IF($A134<VLOOKUP(K$5,NFI,5,0),1,0)*Table_NFI[[#This Row],[Mosquito net]],0)","v":0},{"$f":"IF(NFI_Expiration=1,IF($A134<VLOOKUP(L$5,NFI,5,0),1,0)*Table_NFI[[#This Row],[Tarpaulin]],0)","v":0},{"$f":"IF(NFI_Expiration=1,IF($A134<VLOOKUP(M$5,NFI,5,0),1,0)*Table_NFI[[#This Row],[Blanket]],0)","v":0},{"$f":"IF(NFI_Expiration=1,IF($A134<VLOOKUP(N$5,NFI,5,0),1,0)*Table_NFI[[#This Row],[Kitchen Set]],0)","v":0},{"$f":"IF(NFI_Expiration=1,IF($A134<VLOOKUP(O$5,NFI,5,0),1,0)*Table_NFI[[#This Row],[Complementary Kit]],0)","v":0},{"$f":"IF(NFI_Expiration=1,IF($A134<VLOOKUP(P$5,NFI,5,0),1,0)*Table_NFI[[#This Row],[Plastic Bucket]],0)","v":0},{"$f":"IF(NFI_Expiration=1,IF($A134<VLOOKUP(Q$5,NFI,5,0),1,0)*Table_NFI[[#This Row],[Plastic Mat]],0)","v":0},{"$f":"VLOOKUP(Table_NFI[[#This Row],[Camp Name]],Camp_List!N$5:AA$254,2,0)","v":"MMR012CMP038"},{"$f":"VLOOKUP(Table_NFI[[#This Row],[Camp Name]],Camp_List!N$5:AA$254,14,0)","v":"Open"},{"$f":"VLOOKUP(Table_NFI[[#This Row],[Camp Name]],Camp_List!N$5:AC$254,1,1)","v":"Ramree Town"}]
[13.6,"2012-07-20","UNHCR",null,"Rakhine","Sittwe","Basare",null,null,null,null,383,null,null,null,null,null,{"$f":"IF(NFI_Expiration=1,IF($A135<VLOOKUP(H$5,NFI,5,0),1,0)*Table_NFI[[#This Row],[Hygiene Kit]],0)","v":0},{"$f":"IF(NFI_Expiration=1,IF($A135<VLOOKUP(I$5,NFI,5,0),1,0)*Table_NFI[[#This Row],[NFI Core Kit]],0)","v":0},{"$f":"IF(NFI_Expiration=1,IF($A135<VLOOKUP(J$5,NFI,5,0),1,0)*Table_NFI[[#This Row],[Sanitary Kit]],0)","v":0},{"$f":"IF(NFI_Expiration=1,IF($A135<VLOOKUP(K$5,NFI,5,0),1,0)*Table_NFI[[#This Row],[Mosquito net]],0)","v":0},{"$f":"IF(NFI_Expiration=1,IF($A135<VLOOKUP(L$5,NFI,5,0),1,0)*Table_NFI[[#This Row],[Tarpaulin]],0)","v":0},{"$f":"IF(NFI_Expiration=1,IF($A135<VLOOKUP(M$5,NFI,5,0),1,0)*Table_NFI[[#This Row],[Blanket]],0)","v":0},{"$f":"IF(NFI_Expiration=1,IF($A135<VLOOKUP(N$5,NFI,5,0),1,0)*Table_NFI[[#This Row],[Kitchen Set]],0)","v":0},{"$f":"IF(NFI_Expiration=1,IF($A135<VLOOKUP(O$5,NFI,5,0),1,0)*Table_NFI[[#This Row],[Complementary Kit]],0)","v":0},{"$f":"IF(NFI_Expiration=1,IF($A135<VLOOKUP(P$5,NFI,5,0),1,0)*Table_NFI[[#This Row],[Plastic Bucket]],0)","v":0},{"$f":"IF(NFI_Expiration=1,IF($A135<VLOOKUP(Q$5,NFI,5,0),1,0)*Table_NFI[[#This Row],[Plastic Mat]],0)","v":0},{"$f":"VLOOKUP(Table_NFI[[#This Row],[Camp Name]],Camp_List!N$5:AA$254,2,0)","v":{"$error":"#N/A"}},{"$f":"VLOOKUP(Table_NFI[[#This Row],[Camp Name]],Camp_List!N$5:AA$254,14,0)","v":{"$error":"#N/A"}},{"$f":"VLOOKUP(Table_NFI[[#This Row],[Camp Name]],Camp_List!N$5:AC$254,1,1)","v":"Basara"}]
[8.7333333333333325,"2012-12-13","UNHCR",null,"Rakhine","Sittwe","Basare",null,null,302,null,null,null,null,null,null,null,{"$f":"IF(NFI_Expiration=1,IF($A136<VLOOKUP(H$5,NFI,5,0),1,0)*Table_NFI[[#This Row],[Hygiene Kit]],0)","v":0},{"$f":"IF(NFI_Expiration=1,IF($A136<VLOOKUP(I$5,NFI,5,0),1,0)*Table_NFI[[#This Row],[NFI Core Kit]],0)","v":0},{"$f":"IF(NFI_Expiration=1,IF($A136<VLOOKUP(J$5,NFI,5,0),1,0)*Table_NFI[[#This Row],[Sanitary Kit]],0)","v":302},{"$f":"IF(NFI_Expiration=1,IF($A136<VLOOKUP(K$5,NFI,5,0),1,0)*Table_NFI[[#This Row],[Mosquito net]],0)","v":0},{"$f":"IF(NFI_Expiration=1,IF($A136<VLOOKUP(L$5,NFI,5,0),1,0)*Table_NFI[[#This Row],[Tarpaulin]],0)","v":0},{"$f":"IF(NFI_Expiration=1,IF($A136<VLOOKUP(M$5,NFI,5,0),1,0)*Table_NFI[[#This Row],[Blanket]],0)","v":0},{"$f":"IF(NFI_Expiration=1,IF($A136<VLOOKUP(N$5,NFI,5,0),1,0)*Table_NFI[[#This Row],[Kitchen Set]],0)","v":0},{"$f":"IF(NFI_Expiration=1,IF($A136<VLOOKUP(O$5,NFI,5,0),1,0)*Table_NFI[[#This Row],[Complementary Kit]],0)","v":0},{"$f":"IF(NFI_Expiration=1,IF($A136<VLOOKUP(P$5,NFI,5,0),1,0)*Table_NFI[[#This Row],[Plastic Bucket]],0)","v":0},{"$f":"IF(NFI_Expiration=1,IF($A136<VLOOKUP(Q$5,NFI,5,0),1,0)*Table_NFI[[#This Row],[Plastic Mat]],0)","v":0},{"$f":"VLOOKUP(Table_NFI[[#This Row],[Camp Name]],Camp_List!N$5:AA$254,2,0)","v":{"$error":"#N/A"}},{"$f":"VLOOKUP(Table_NFI[[#This Row],[Camp Name]],Camp_List!N$5:AA$254,14,0)","v":{"$error":"#N/A"}},{"$f":"VLOOKUP(Table_NFI[[#This Row],[Camp Name]],Camp_List!N$5:AC$254,1,1)","v":"Basara"}]
[8.1,"2013-01-01","CDN","CDN","Rakhine","Sittwe","Basare",20,null,null,null,null,null,null,null,null,null,{"$f":"IF(NFI_Expiration=1,IF($A137<VLOOKUP(H$5,NFI,5,0),1,0)*Table_NFI[[#This Row],[Hygiene Kit]],0)","v":20},{"$f":"IF(NFI_Expiration=1,IF($A137<VLOOKUP(I$5,NFI,5,0),1,0)*Table_NFI[[#This Row],[NFI Core Kit]],0)","v":0},{"$f":"IF(NFI_Expiration=1,IF($A137<VLOOKUP(J$5,NFI,5,0),1,0)*Table_NFI[[#This Row],[Sanitary Kit]],0)","v":0},{"$f":"IF(NFI_Expiration=1,IF($A137<VLOOKUP(K$5,NFI,5,0),1,0)*Table_NFI[[#This Row],[Mosquito net]],0)","v":0},{"$f":"IF(NFI_Expiration=1,IF($A137<VLOOKUP(L$5,NFI,5,0),1,0)*Table_NFI[[#This Row],[Tarpaulin]],0)","v":0},{"$f":"IF(NFI_Expiration=1,IF($A137<VLOOKUP(M$5,NFI,5,0),1,0)*Table_NFI[[#This Row],[Blanket]],0)","v":0},{"$f":"IF(NFI_Expiration=1,IF($A137<VLOOKUP(N$5,NFI,5,0),1,0)*Table_NFI[[#This Row],[Kitchen Set]],0)","v":0},{"$f":"IF(NFI_Expiration=1,IF($A137<VLOOKUP(O$5,NFI,5,0),1,0)*Table_NFI[[#This Row],[Complementary Kit]],0)","v":0},{"$f":"IF(NFI_Expiration=1,IF($A137<VLOOKUP(P$5,NFI,5,0),1,0)*Table_NFI[[#This Row],[Plastic Bucket]],0)","v":0},{"$f":"IF(NFI_Expiration=1,IF($A137<VLOOKUP(Q$5,NFI,5,0),1,0)*Table_NFI[[#This Row],[Plastic Mat]],0)","v":0},{"$f":"VLOOKUP(Table_NFI[[#This Row],[Camp Name]],Camp_List!N$5:AA$254,2,0)","v":{"$error":"#N/A"}},{"$f":"VLOOKUP(Table_NFI[[#This Row],[Camp Name]],Camp_List!N$5:AA$254,14,0)","v":{"$error":"#N/A"}},{"$f":"VLOOKUP(Table_NFI[[#This Row],[Camp Name]],Camp_List!N$5:AC$254,1,1)","v":"Basara"}]
[13.766666666666667,"2012-07-15","UNHCR",null,"Rakhine","Sittwe","Baw Du Pha",null,null,null,null,150,null,null,null,null,null,{"$f":"IF(NFI_Expiration=1,IF($A138<VLOOKUP(H$5,NFI,5,0),1,0)*Table_NFI[[#This Row],[Hygiene Kit]],0)","v":0},{"$f":"IF(NFI_Expiration=1,IF($A138<VLOOKUP(I$5,NFI,5,0),1,0)*Table_NFI[[#This Row],[NFI Core Kit]],0)","v":0},{"$f":"IF(NFI_Expiration=1,IF($A138<VLOOKUP(J$5,NFI,5,0),1,0)*Table_NFI[[#This Row],[Sanitary Kit]],0)","v":0},{"$f":"IF(NFI_Expiration=1,IF($A138<VLOOKUP(K$5,NFI,5,0),1,0)*Table_NFI[[#This Row],[Mosquito net]],0)","v":0},{"$f":"IF(NFI_Expiration=1,IF($A138<VLOOKUP(L$5,NFI,5,0),1,0)*Table_NFI[[#This Row],[Tarpaulin]],0)","v":0},{"$f":"IF(NFI_Expiration=1,IF($A138<VLOOKUP(M$5,NFI,5,0),1,0)*Table_NFI[[#This Row],[Blanket]],0)","v":0},{"$f":"IF(NFI_Expiration=1,IF($A138<VLOOKUP(N$5,NFI,5,0),1,0)*Table_NFI[[#This Row],[Kitchen Set]],0)","v":0},{"$f":"IF(NFI_Expiration=1,IF($A138<VLOOKUP(O$5,NFI,5,0),1,0)*Table_NFI[[#This Row],[Complementary Kit]],0)","v":0},{"$f":"IF(NFI_Expiration=1,IF($A138<VLOOKUP(P$5,NFI,5,0),1,0)*Table_NFI[[#This Row],[Plastic Bucket]],0)","v":0},{"$f":"IF(NFI_Expiration=1,IF($A138<VLOOKUP(Q$5,NFI,5,0),1,0)*Table_NFI[[#This Row],[Plastic Mat]],0)","v":0},{"$f":"VLOOKUP(Table_NFI[[#This Row],[Camp Name]],Camp_List!N$5:AA$254,2,0)","v":"MMR012CMP040"},{"$f":"VLOOKUP(Table_NFI[[#This Row],[Camp Name]],Camp_List!N$5:AA$254,14,0)","v":"Open"},{"$f":"VLOOKUP(Table_NFI[[#This Row],[Camp Name]],Camp_List!N$5:AC$254,1,1)","v":"Baw Du Pha"}]
[13.733333333333333,"2012-07-16","UNHCR",null,"Rakhine","Sittwe","Baw Du Pha",null,null,null,null,120,null,null,null,null,null,{"$f":"IF(NFI_Expiration=1,IF($A139<VLOOKUP(H$5,NFI,5,0),1,0)*Table_NFI[[#This Row],[Hygiene Kit]],0)","v":0},{"$f":"IF(NFI_Expiration=1,IF($A139<VLOOKUP(I$5,NFI,5,0),1,0)*Table_NFI[[#This Row],[NFI Core Kit]],0)","v":0},{"$f":"IF(NFI_Expiration=1,IF($A139<VLOOKUP(J$5,NFI,5,0),1,0)*Table_NFI[[#This Row],[Sanitary Kit]],0)","v":0},{"$f":"IF(NFI_Expiration=1,IF($A139<VLOOKUP(K$5,NFI,5,0),1,0)*Table_NFI[[#This Row],[Mosquito net]],0)","v":0},{"$f":"IF(NFI_Expiration=1,IF($A139<VLOOKUP(L$5,NFI,5,0),1,0)*Table_NFI[[#This Row],[Tarpaulin]],0)","v":0},{"$f":"IF(NFI_Expiration=1,IF($A139<VLOOKUP(M$5,NFI,5,0),1,0)*Table_NFI[[#This Row],[Blanket]],0)","v":0},{"$f":"IF(NFI_Expiration=1,IF($A139<VLOOKUP(N$5,NFI,5,0),1,0)*Table_NFI[[#This Row],[Kitchen Set]],0)","v":0},{"$f":"IF(NFI_Expiration=1,IF($A139<VLOOKUP(O$5,NFI,5,0),1,0)*Table_NFI[[#This Row],[Complementary Kit]],0)","v":0},{"$f":"IF(NFI_Expiration=1,IF($A139<VLOOKUP(P$5,NFI,5,0),1,0)*Table_NFI[[#This Row],[Plastic Bucket]],0)","v":0},{"$f":"IF(NFI_Expiration=1,IF($A139<VLOOKUP(Q$5,NFI,5,0),1,0)*Table_NFI[[#This Row],[Plastic Mat]],0)","v":0},{"$f":"VLOOKUP(Table_NFI[[#This Row],[Camp Name]],Camp_List!N$5:AA$254,2,0)","v":"MMR012CMP040"},{"$f":"VLOOKUP(Table_NFI[[#This Row],[Camp Name]],Camp_List!N$5:AA$254,14,0)","v":"Open"},{"$f":"VLOOKUP(Table_NFI[[#This Row],[Camp Name]],Camp_List!N$5:AC$254,1,1)","v":"Baw Du Pha"}]
[13.7,"2012-07-17","UNHCR",null,"Rakhine","Sittwe","Baw Du Pha",null,null,null,null,630,null,null,null,null,null,{"$f":"IF(NFI_Expiration=1,IF($A140<VLOOKUP(H$5,NFI,5,0),1,0)*Table_NFI[[#This Row],[Hygiene Kit]],0)","v":0},{"$f":"IF(NFI_Expiration=1,IF($A140<VLOOKUP(I$5,NFI,5,0),1,0)*Table_NFI[[#This Row],[NFI Core Kit]],0)","v":0},{"$f":"IF(NFI_Expiration=1,IF($A140<VLOOKUP(J$5,NFI,5,0),1,0)*Table_NFI[[#This Row],[Sanitary Kit]],0)","v":0},{"$f":"IF(NFI_Expiration=1,IF($A140<VLOOKUP(K$5,NFI,5,0),1,0)*Table_NFI[[#This Row],[Mosquito net]],0)","v":0},{"$f":"IF(NFI_Expiration=1,IF($A140<VLOOKUP(L$5,NFI,5,0),1,0)*Table_NFI[[#This Row],[Tarpaulin]],0)","v":0},{"$f":"IF(NFI_Expiration=1,IF($A140<VLOOKUP(M$5,NFI,5,0),1,0)*Table_NFI[[#This Row],[Blanket]],0)","v":0},{"$f":"IF(NFI_Expiration=1,IF($A140<VLOOKUP(N$5,NFI,5,0),1,0)*Table_NFI[[#This Row],[Kitchen Set]],0)","v":0},{"$f":"IF(NFI_Expiration=1,IF($A140<VLOOKUP(O$5,NFI,5,0),1,0)*Table_NFI[[#This Row],[Complementary Kit]],0)","v":0},{"$f":"IF(NFI_Expiration=1,IF($A140<VLOOKUP(P$5,NFI,5,0),1,0)*Table_NFI[[#This Row],[Plastic Bucket]],0)","v":0},{"$f":"IF(NFI_Expiration=1,IF($A140<VLOOKUP(Q$5,NFI,5,0),1,0)*Table_NFI[[#This Row],[Plastic Mat]],0)","v":0},{"$f":"VLOOKUP(Table_NFI[[#This Row],[Camp Name]],Camp_List!N$5:AA$254,2,0)","v":"MMR012CMP040"},{"$f":"VLOOKUP(Table_NFI[[#This Row],[Camp Name]],Camp_List!N$5:AA$254,14,0)","v":"Open"},{"$f":"VLOOKUP(Table_NFI[[#This Row],[Camp Name]],Camp_List!N$5:AC$254,1,1)","v":"Baw Du Pha"}]
[13.666666666666666,"2012-07-18","UNHCR",null,"Rakhine","Sittwe","Baw Du Pha",null,null,null,null,248,null,null,null,null,null,{"$f":"IF(NFI_Expiration=1,IF($A141<VLOOKUP(H$5,NFI,5,0),1,0)*Table_NFI[[#This Row],[Hygiene Kit]],0)","v":0},{"$f":"IF(NFI_Expiration=1,IF($A141<VLOOKUP(I$5,NFI,5,0),1,0)*Table_NFI[[#This Row],[NFI Core Kit]],0)","v":0},{"$f":"IF(NFI_Expiration=1,IF($A141<VLOOKUP(J$5,NFI,5,0),1,0)*Table_NFI[[#This Row],[Sanitary Kit]],0)","v":0},{"$f":"IF(NFI_Expiration=1,IF($A141<VLOOKUP(K$5,NFI,5,0),1,0)*Table_NFI[[#This Row],[Mosquito net]],0)","v":0},{"$f":"IF(NFI_Expiration=1,IF($A141<VLOOKUP(L$5,NFI,5,0),1,0)*Table_NFI[[#This Row],[Tarpaulin]],0)","v":0},{"$f":"IF(NFI_Expiration=1,IF($A141<VLOOKUP(M$5,NFI,5,0),1,0)*Table_NFI[[#This Row],[Blanket]],0)","v":0},{"$f":"IF(NFI_Expiration=1,IF($A141<VLOOKUP(N$5,NFI,5,0),1,0)*Table_NFI[[#This Row],[Kitchen Set]],0)","v":0},{"$f":"IF(NFI_Expiration=1,IF($A141<VLOOKUP(O$5,NFI,5,0),1,0)*Table_NFI[[#This Row],[Complementary Kit]],0)","v":0},{"$f":"IF(NFI_Expiration=1,IF($A141<VLOOKUP(P$5,NFI,5,0),1,0)*Table_NFI[[#This Row],[Plastic Bucket]],0)","v":0},{"$f":"IF(NFI_Expiration=1,IF($A141<VLOOKUP(Q$5,NFI,5,0),1,0)*Table_NFI[[#This Row],[Plastic Mat]],0)","v":0},{"$f":"VLOOKUP(Table_NFI[[#This Row],[Camp Name]],Camp_List!N$5:AA$254,2,0)","v":"MMR012CMP040"},{"$f":"VLOOKUP(Table_NFI[[#This Row],[Camp Name]],Camp_List!N$5:AA$254,14,0)","v":"Open"},{"$f":"VLOOKUP(Table_NFI[[#This Row],[Camp Name]],Camp_List!N$5:AC$254,1,1)","v":"Baw Du Pha"}]
[12.033333333333333,"2012-09-05","UNHCR",null,"Rakhine","Sittwe","Baw Du Pha",null,null,null,null,null,65,null,null,null,null,{"$f":"IF(NFI_Expiration=1,IF($A142<VLOOKUP(H$5,NFI,5,0),1,0)*Table_NFI[[#This Row],[Hygiene Kit]],0)","v":0},{"$f":"IF(NFI_Expiration=1,IF($A142<VLOOKUP(I$5,NFI,5,0),1,0)*Table_NFI[[#This Row],[NFI Core Kit]],0)","v":0},{"$f":"IF(NFI_Expiration=1,IF($A142<VLOOKUP(J$5,NFI,5,0),1,0)*Table_NFI[[#This Row],[Sanitary Kit]],0)","v":0},{"$f":"IF(NFI_Expiration=1,IF($A142<VLOOKUP(K$5,NFI,5,0),1,0)*Table_NFI[[#This Row],[Mosquito net]],0)","v":0},{"$f":"IF(NFI_Expiration=1,IF($A142<VLOOKUP(L$5,NFI,5,0),1,0)*Table_NFI[[#This Row],[Tarpaulin]],0)","v":0},{"$f":"IF(NFI_Expiration=1,IF($A142<VLOOKUP(M$5,NFI,5,0),1,0)*Table_NFI[[#This Row],[Blanket]],0)","v":0},{"$f":"IF(NFI_Expiration=1,IF($A142<VLOOKUP(N$5,NFI,5,0),1,0)*Table_NFI[[#This Row],[Kitchen Set]],0)","v":0},{"$f":"IF(NFI_Expiration=1,IF($A142<VLOOKUP(O$5,NFI,5,0),1,0)*Table_NFI[[#This Row],[Complementary Kit]],0)","v":0},{"$f":"IF(NFI_Expiration=1,IF($A142<VLOOKUP(P$5,NFI,5,0),1,0)*Table_NFI[[#This Row],[Plastic Bucket]],0)","v":0},{"$f":"IF(NFI_Expiration=1,IF($A142<VLOOKUP(Q$5,NFI,5,0),1,0)*Table_NFI[[#This Row],[Plastic Mat]],0)","v":0},{"$f":"VLOOKUP(Table_NFI[[#This Row],[Camp Name]],Camp_List!N$5:AA$254,2,0)","v":"MMR012CMP040"},{"$f":"VLOOKUP(Table_NFI[[#This Row],[Camp Name]],Camp_List!N$5:AA$254,14,0)","v":"Open"},{"$f":"VLOOKUP(Table_NFI[[#This Row],[Camp Name]],Camp_List!N$5:AC$254,1,1)","v":"Baw Du Pha"}]
[11.966666666666667,"2012-09-07","UNHCR",null,"Rakhine","Sittwe","Baw Du Pha",null,null,null,null,55,null,null,null,null,null,{"$f":"IF(NFI_Expiration=1,IF($A143<VLOOKUP(H$5,NFI,5,0),1,0)*Table_NFI[[#This Row],[Hygiene Kit]],0)","v":0},{"$f":"IF(NFI_Expiration=1,IF($A143<VLOOKUP(I$5,NFI,5,0),1,0)*Table_NFI[[#This Row],[NFI Core Kit]],0)","v":0},{"$f":"IF(NFI_Expiration=1,IF($A143<VLOOKUP(J$5,NFI,5,0),1,0)*Table_NFI[[#This Row],[Sanitary Kit]],0)","v":0},{"$f":"IF(NFI_Expiration=1,IF($A143<VLOOKUP(K$5,NFI,5,0),1,0)*Table_NFI[[#This Row],[Mosquito net]],0)","v":0},{"$f":"IF(NFI_Expiration=1,IF($A143<VLOOKUP(L$5,NFI,5,0),1,0)*Table_NFI[[#This Row],[Tarpaulin]],0)","v":55},{"$f":"IF(NFI_Expiration=1,IF($A143<VLOOKUP(M$5,NFI,5,0),1,0)*Table_NFI[[#This Row],[Blanket]],0)","v":0},{"$f":"IF(NFI_Expiration=1,IF($A143<VLOOKUP(N$5,NFI,5,0),1,0)*Table_NFI[[#This Row],[Kitchen Set]],0)","v":0},{"$f":"IF(NFI_Expiration=1,IF($A143<VLOOKUP(O$5,NFI,5,0),1,0)*Table_NFI[[#This Row],[Complementary Kit]],0)","v":0},{"$f":"IF(NFI_Expiration=1,IF($A143<VLOOKUP(P$5,NFI,5,0),1,0)*Table_NFI[[#This Row],[Plastic Bucket]],0)","v":0},{"$f":"IF(NFI_Expiration=1,IF($A143<VLOOKUP(Q$5,NFI,5,0),1,0)*Table_NFI[[#This Row],[Plastic Mat]],0)","v":0},{"$f":"VLOOKUP(Table_NFI[[#This Row],[Camp Name]],Camp_List!N$5:AA$254,2,0)","v":"MMR012CMP040"},{"$f":"VLOOKUP(Table_NFI[[#This Row],[Camp Name]],Camp_List!N$5:AA$254,14,0)","v":"Open"},{"$f":"VLOOKUP(Table_NFI[[#This Row],[Camp Name]],Camp_List!N$5:AC$254,1,1)","v":"Baw Du Pha"}]
[8.7333333333333325,"2012-12-13","UNHCR",null,"Rakhine","Sittwe","Baw Du Pha",null,null,2142,null,null,null,null,null,null,null,{"$f":"IF(NFI_Expiration=1,IF($A144<VLOOKUP(H$5,NFI,5,0),1,0)*Table_NFI[[#This Row],[Hygiene Kit]],0)","v":0},{"$f":"IF(NFI_Expiration=1,IF($A144<VLOOKUP(I$5,NFI,5,0),1,0)*Table_NFI[[#This Row],[NFI Core Kit]],0)","v":0},{"$f":"IF(NFI_Expiration=1,IF($A144<VLOOKUP(J$5,NFI,5,0),1,0)*Table_NFI[[#This Row],[Sanitary Kit]],0)","v":2142},{"$f":"IF(NFI_Expiration=1,IF($A144<VLOOKUP(K$5,NFI,5,0),1,0)*Table_NFI[[#This Row],[Mosquito net]],0)","v":0},{"$f":"IF(NFI_Expiration=1,IF($A144<VLOOKUP(L$5,NFI,5,0),1,0)*Table_NFI[[#This Row],[Tarpaulin]],0)","v":0},{"$f":"IF(NFI_Expiration=1,IF($A144<VLOOKUP(M$5,NFI,5,0),1,0)*Table_NFI[[#This Row],[Blanket]],0)","v":0},{"$f":"IF(NFI_Expiration=1,IF($A144<VLOOKUP(N$5,NFI,5,0),1,0)*Table_NFI[[#This Row],[Kitchen Set]],0)","v":0},{"$f":"IF(NFI_Expiration=1,IF($A144<VLOOKUP(O$5,NFI,5,0),1,0)*Table_NFI[[#This Row],[Complementary Kit]],0)","v":0},{"$f":"IF(NFI_Expiration=1,IF($A144<VLOOKUP(P$5,NFI,5,0),1,0)*Table_NFI[[#This Row],[Plastic Bucket]],0)","v":0},{"$f":"IF(NFI_Expiration=1,IF($A144<VLOOKUP(Q$5,NFI,5,0),1,0)*Table_NFI[[#This Row],[Plastic Mat]],0)","v":0},{"$f":"VLOOKUP(Table_NFI[[#This Row],[Camp Name]],Camp_List!N$5:AA$254,2,0)","v":"MMR012CMP040"},{"$f":"VLOOKUP(Table_NFI[[#This Row],[Camp Name]],Camp_List!N$5:AA$254,14,0)","v":"Open"},{"$f":"VLOOKUP(Table_NFI[[#This Row],[Camp Name]],Camp_List!N$5:AC$254,1,1)","v":"Baw Du Pha"}]
[8.1,"2013-01-01","Solidarites International","Solidarities International","Rakhine","Sittwe","Baw Du Pha",4390,null,null,null,null,null,null,null,null,null,{"$f":"IF(NFI_Expiration=1,IF($A145<VLOOKUP(H$5,NFI,5,0),1,0)*Table_NFI[[#This Row],[Hygiene Kit]],0)","v":4390},{"$f":"IF(NFI_Expiration=1,IF($A145<VLOOKUP(I$5,NFI,5,0),1,0)*Table_NFI[[#This Row],[NFI Core Kit]],0)","v":0},{"$f":"IF(NFI_Expiration=1,IF($A145<VLOOKUP(J$5,NFI,5,0),1,0)*Table_NFI[[#This Row],[Sanitary Kit]],0)","v":0},{"$f":"IF(NFI_Expiration=1,IF($A145<VLOOKUP(K$5,NFI,5,0),1,0)*Table_NFI[[#This Row],[Mosquito net]],0)","v":0},{"$f":"IF(NFI_Expiration=1,IF($A145<VLOOKUP(L$5,NFI,5,0),1,0)*Table_NFI[[#This Row],[Tarpaulin]],0)","v":0},{"$f":"IF(NFI_Expiration=1,IF($A145<VLOOKUP(M$5,NFI,5,0),1,0)*Table_NFI[[#This Row],[Blanket]],0)","v":0},{"$f":"IF(NFI_Expiration=1,IF($A145<VLOOKUP(N$5,NFI,5,0),1,0)*Table_NFI[[#This Row],[Kitchen Set]],0)","v":0},{"$f":"IF(NFI_Expiration=1,IF($A145<VLOOKUP(O$5,NFI,5,0),1,0)*Table_NFI[[#This Row],[Complementary Kit]],0)","v":0},{"$f":"IF(NFI_Expiration=1,IF($A145<VLOOKUP(P$5,NFI,5,0),1,0)*Table_NFI[[#This Row],[Plastic Bucket]],0)","v":0},{"$f":"IF(NFI_Expiration=1,IF($A145<VLOOKUP(Q$5,NFI,5,0),1,0)*Table_NFI[[#This Row],[Plastic Mat]],0)","v":0},{"$f":"VLOOKUP(Table_NFI[[#This Row],[Camp Name]],Camp_List!N$5:AA$254,2,0)","v":"MMR012CMP040"},{"$f":"VLOOKUP(Table_NFI[[#This Row],[Camp Name]],Camp_List!N$5:AA$254,14,0)","v":"Open"},{"$f":"VLOOKUP(Table_NFI[[#This Row],[Camp Name]],Camp_List!N$5:AC$254,1,1)","v":"Baw Du Pha"}]
[14.333333333333334,"2012-06-28","UNHCR",null,"Rakhine","Sittwe","Dar Pai",null,null,null,null,300,null,null,null,null,null,{"$f":"IF(NFI_Expiration=1,IF($A146<VLOOKUP(H$5,NFI,5,0),1,0)*Table_NFI[[#This Row],[Hygiene Kit]],0)","v":0},{"$f":"IF(NFI_Expiration=1,IF($A146<VLOOKUP(I$5,NFI,5,0),1,0)*Table_NFI[[#This Row],[NFI Core Kit]],0)","v":0},{"$f":"IF(NFI_Expiration=1,IF($A146<VLOOKUP(J$5,NFI,5,0),1,0)*Table_NFI[[#This Row],[Sanitary Kit]],0)","v":0},{"$f":"IF(NFI_Expiration=1,IF($A146<VLOOKUP(K$5,NFI,5,0),1,0)*Table_NFI[[#This Row],[Mosquito net]],0)","v":0},{"$f":"IF(NFI_Expiration=1,IF($A146<VLOOKUP(L$5,NFI,5,0),1,0)*Table_NFI[[#This Row],[Tarpaulin]],0)","v":0},{"$f":"IF(NFI_Expiration=1,IF($A146<VLOOKUP(M$5,NFI,5,0),1,0)*Table_NFI[[#This Row],[Blanket]],0)","v":0},{"$f":"IF(NFI_Expiration=1,IF($A146<VLOOKUP(N$5,NFI,5,0),1,0)*Table_NFI[[#This Row],[Kitchen Set]],0)","v":0},{"$f":"IF(NFI_Expiration=1,IF($A146<VLOOKUP(O$5,NFI,5,0),1,0)*Table_NFI[[#This Row],[Complementary Kit]],0)","v":0},{"$f":"IF(NFI_Expiration=1,IF($A146<VLOOKUP(P$5,NFI,5,0),1,0)*Table_NFI[[#This Row],[Plastic Bucket]],0)","v":0},{"$f":"IF(NFI_Expiration=1,IF($A146<VLOOKUP(Q$5,NFI,5,0),1,0)*Table_NFI[[#This Row],[Plastic Mat]],0)","v":0},{"$f":"VLOOKUP(Table_NFI[[#This Row],[Camp Name]],Camp_List!N$5:AA$254,2,0)","v":"MMR012CMP041"},{"$f":"VLOOKUP(Table_NFI[[#This Row],[Camp Name]],Camp_List!N$5:AA$254,14,0)","v":"Open"},{"$f":"VLOOKUP(Table_NFI[[#This Row],[Camp Name]],Camp_List!N$5:AC$254,1,1)","v":"Dar Pai"}]
[14.1,"2012-07-05","UNHCR",null,"Rakhine","Sittwe","Dar Pai",null,null,null,null,18,null,null,null,null,null,{"$f":"IF(NFI_Expiration=1,IF($A147<VLOOKUP(H$5,NFI,5,0),1,0)*Table_NFI[[#This Row],[Hygiene Kit]],0)","v":0},{"$f":"IF(NFI_Expiration=1,IF($A147<VLOOKUP(I$5,NFI,5,0),1,0)*Table_NFI[[#This Row],[NFI Core Kit]],0)","v":0},{"$f":"IF(NFI_Expiration=1,IF($A147<VLOOKUP(J$5,NFI,5,0),1,0)*Table_NFI[[#This Row],[Sanitary Kit]],0)","v":0},{"$f":"IF(NFI_Expiration=1,IF($A147<VLOOKUP(K$5,NFI,5,0),1,0)*Table_NFI[[#This Row],[Mosquito net]],0)","v":0},{"$f":"IF(NFI_Expiration=1,IF($A147<VLOOKUP(L$5,NFI,5,0),1,0)*Table_NFI[[#This Row],[Tarpaulin]],0)","v":0},{"$f":"IF(NFI_Expiration=1,IF($A147<VLOOKUP(M$5,NFI,5,0),1,0)*Table_NFI[[#This Row],[Blanket]],0)","v":0},{"$f":"IF(NFI_Expiration=1,IF($A147<VLOOKUP(N$5,NFI,5,0),1,0)*Table_NFI[[#This Row],[Kitchen Set]],0)","v":0},{"$f":"IF(NFI_Expiration=1,IF($A147<VLOOKUP(O$5,NFI,5,0),1,0)*Table_NFI[[#This Row],[Complementary Kit]],0)","v":0},{"$f":"IF(NFI_Expiration=1,IF($A147<VLOOKUP(P$5,NFI,5,0),1,0)*Table_NFI[[#This Row],[Plastic Bucket]],0)","v":0},{"$f":"IF(NFI_Expiration=1,IF($A147<VLOOKUP(Q$5,NFI,5,0),1,0)*Table_NFI[[#This Row],[Plastic Mat]],0)","v":0},{"$f":"VLOOKUP(Table_NFI[[#This Row],[Camp Name]],Camp_List!N$5:AA$254,2,0)","v":"MMR012CMP041"},{"$f":"VLOOKUP(Table_NFI[[#This Row],[Camp Name]],Camp_List!N$5:AA$254,14,0)","v":"Open"},{"$f":"VLOOKUP(Table_NFI[[#This Row],[Camp Name]],Camp_List!N$5:AC$254,1,1)","v":"Dar Pai"}]
[12.466666666666667,"2012-08-23","UNHCR",null,"Rakhine","Sittwe","Dar Pai",null,null,null,null,805,null,null,null,null,null,{"$f":"IF(NFI_Expiration=1,IF($A148<VLOOKUP(H$5,NFI,5,0),1,0)*Table_NFI[[#This Row],[Hygiene Kit]],0)","v":0},{"$f":"IF(NFI_Expiration=1,IF($A148<VLOOKUP(I$5,NFI,5,0),1,0)*Table_NFI[[#This Row],[NFI Core Kit]],0)","v":0},{"$f":"IF(NFI_Expiration=1,IF($A148<VLOOKUP(J$5,NFI,5,0),1,0)*Table_NFI[[#This Row],[Sanitary Kit]],0)","v":0},{"$f":"IF(NFI_Expiration=1,IF($A148<VLOOKUP(K$5,NFI,5,0),1,0)*Table_NFI[[#This Row],[Mosquito net]],0)","v":0},{"$f":"IF(NFI_Expiration=1,IF($A148<VLOOKUP(L$5,NFI,5,0),1,0)*Table_NFI[[#This Row],[Tarpaulin]],0)","v":0},{"$f":"IF(NFI_Expiration=1,IF($A148<VLOOKUP(M$5,NFI,5,0),1,0)*Table_NFI[[#This Row],[Blanket]],0)","v":0},{"$f":"IF(NFI_Expiration=1,IF($A148<VLOOKUP(N$5,NFI,5,0),1,0)*Table_NFI[[#This Row],[Kitchen Set]],0)","v":0},{"$f":"IF(NFI_Expiration=1,IF($A148<VLOOKUP(O$5,NFI,5,0),1,0)*Table_NFI[[#This Row],[Complementary Kit]],0)","v":0},{"$f":"IF(NFI_Expiration=1,IF($A148<VLOOKUP(P$5,NFI,5,0),1,0)*Table_NFI[[#This Row],[Plastic Bucket]],0)","v":0},{"$f":"IF(NFI_Expiration=1,IF($A148<VLOOKUP(Q$5,NFI,5,0),1,0)*Table_NFI[[#This Row],[Plastic Mat]],0)","v":0},{"$f":"VLOOKUP(Table_NFI[[#This Row],[Camp Name]],Camp_List!N$5:AA$254,2,0)","v":"MMR012CMP041"},{"$f":"VLOOKUP(Table_NFI[[#This Row],[Camp Name]],Camp_List!N$5:AA$254,14,0)","v":"Open"},{"$f":"VLOOKUP(Table_NFI[[#This Row],[Camp Name]],Camp_List!N$5:AC$254,1,1)","v":"Dar Pai"}]
[8.7333333333333325,"2012-12-13","UNHCR",null,"Rakhine","Sittwe","Dar Pai",null,null,1707,null,null,null,null,null,null,null,{"$f":"IF(NFI_Expiration=1,IF($A149<VLOOKUP(H$5,NFI,5,0),1,0)*Table_NFI[[#This Row],[Hygiene Kit]],0)","v":0},{"$f":"IF(NFI_Expiration=1,IF($A149<VLOOKUP(I$5,NFI,5,0),1,0)*Table_NFI[[#This Row],[NFI Core Kit]],0)","v":0},{"$f":"IF(NFI_Expiration=1,IF($A149<VLOOKUP(J$5,NFI,5,0),1,0)*Table_NFI[[#This Row],[Sanitary Kit]],0)","v":1707},{"$f":"IF(NFI_Expiration=1,IF($A149<VLOOKUP(K$5,NFI,5,0),1,0)*Table_NFI[[#This Row],[Mosquito net]],0)","v":0},{"$f":"IF(NFI_Expiration=1,IF($A149<VLOOKUP(L$5,NFI,5,0),1,0)*Table_NFI[[#This Row],[Tarpaulin]],0)","v":0},{"$f":"IF(NFI_Expiration=1,IF($A149<VLOOKUP(M$5,NFI,5,0),1,0)*Table_NFI[[#This Row],[Blanket]],0)","v":0},{"$f":"IF(NFI_Expiration=1,IF($A149<VLOOKUP(N$5,NFI,5,0),1,0)*Table_NFI[[#This Row],[Kitchen Set]],0)","v":0},{"$f":"IF(NFI_Expiration=1,IF($A149<VLOOKUP(O$5,NFI,5,0),1,0)*Table_NFI[[#This Row],[Complementary Kit]],0)","v":0},{"$f":"IF(NFI_Expiration=1,IF($A149<VLOOKUP(P$5,NFI,5,0),1,0)*Table_NFI[[#This Row],[Plastic Bucket]],0)","v":0},{"$f":"IF(NFI_Expiration=1,IF($A149<VLOOKUP(Q$5,NFI,5,0),1,0)*Table_NFI[[#This Row],[Plastic Mat]],0)","v":0},{"$f":"VLOOKUP(Table_NFI[[#This Row],[Camp Name]],Camp_List!N$5:AA$254,2,0)","v":"MMR012CMP041"},{"$f":"VLOOKUP(Table_NFI[[#This Row],[Camp Name]],Camp_List!N$5:AA$254,14,0)","v":"Open"},{"$f":"VLOOKUP(Table_NFI[[#This Row],[Camp Name]],Camp_List!N$5:AC$254,1,1)","v":"Dar Pai"}]
[8.1,"2013-01-01","Solidarites International","Solidarities International","Rakhine","Sittwe","Dar Pai",3758,null,null,null,null,null,null,null,null,null,{"$f":"IF(NFI_Expiration=1,IF($A150<VLOOKUP(H$5,NFI,5,0),1,0)*Table_NFI[[#This Row],[Hygiene Kit]],0)","v":3758},{"$f":"IF(NFI_Expiration=1,IF($A150<VLOOKUP(I$5,NFI,5,0),1,0)*Table_NFI[[#This Row],[NFI Core Kit]],0)","v":0},{"$f":"IF(NFI_Expiration=1,IF($A150<VLOOKUP(J$5,NFI,5,0),1,0)*Table_NFI[[#This Row],[Sanitary Kit]],0)","v":0},{"$f":"IF(NFI_Expiration=1,IF($A150<VLOOKUP(K$5,NFI,5,0),1,0)*Table_NFI[[#This Row],[Mosquito net]],0)","v":0},{"$f":"IF(NFI_Expiration=1,IF($A150<VLOOKUP(L$5,NFI,5,0),1,0)*Table_NFI[[#This Row],[Tarpaulin]],0)","v":0},{"$f":"IF(NFI_Expiration=1,IF($A150<VLOOKUP(M$5,NFI,5,0),1,0)*Table_NFI[[#This Row],[Blanket]],0)","v":0},{"$f":"IF(NFI_Expiration=1,IF($A150<VLOOKUP(N$5,NFI,5,0),1,0)*Table_NFI[[#This Row],[Kitchen Set]],0)","v":0},{"$f":"IF(NFI_Expiration=1,IF($A150<VLOOKUP(O$5,NFI,5,0),1,0)*Table_NFI[[#This Row],[Complementary Kit]],0)","v":0},{"$f":"IF(NFI_Expiration=1,IF($A150<VLOOKUP(P$5,NFI,5,0),1,0)*Table_NFI[[#This Row],[Plastic Bucket]],0)","v":0},{"$f":"IF(NFI_Expiration=1,IF($A150<VLOOKUP(Q$5,NFI,5,0),1,0)*Table_NFI[[#This Row],[Plastic Mat]],0)","v":0},{"$f":"VLOOKUP(Table_NFI[[#This Row],[Camp Name]],Camp_List!N$5:AA$254,2,0)","v":"MMR012CMP041"},{"$f":"VLOOKUP(Table_NFI[[#This Row],[Camp Name]],Camp_List!N$5:AA$254,14,0)","v":"Open"},{"$f":"VLOOKUP(Table_NFI[[#This Row],[Camp Name]],Camp_List!N$5:AC$254,1,1)","v":"Dar Pai"}]
[4.833333333333333,"2013-04-09","Solidarites International","Solidarities International","Rakhine","Sittwe","Dar Pai",186,null,null,null,null,null,null,null,null,null,{"$f":"IF(NFI_Expiration=1,IF($A151<VLOOKUP(H$5,NFI,5,0),1,0)*Table_NFI[[#This Row],[Hygiene Kit]],0)","v":186},{"$f":"IF(NFI_Expiration=1,IF($A151<VLOOKUP(I$5,NFI,5,0),1,0)*Table_NFI[[#This Row],[NFI Core Kit]],0)","v":0},{"$f":"IF(NFI_Expiration=1,IF($A151<VLOOKUP(J$5,NFI,5,0),1,0)*Table_NFI[[#This Row],[Sanitary Kit]],0)","v":0},{"$f":"IF(NFI_Expiration=1,IF($A151<VLOOKUP(K$5,NFI,5,0),1,0)*Table_NFI[[#This Row],[Mosquito net]],0)","v":0},{"$f":"IF(NFI_Expiration=1,IF($A151<VLOOKUP(L$5,NFI,5,0),1,0)*Table_NFI[[#This Row],[Tarpaulin]],0)","v":0},{"$f":"IF(NFI_Expiration=1,IF($A151<VLOOKUP(M$5,NFI,5,0),1,0)*Table_NFI[[#This Row],[Blanket]],0)","v":0},{"$f":"IF(NFI_Expiration=1,IF($A151<VLOOKUP(N$5,NFI,5,0),1,0)*Table_NFI[[#This Row],[Kitchen Set]],0)","v":0},{"$f":"IF(NFI_Expiration=1,IF($A151<VLOOKUP(O$5,NFI,5,0),1,0)*Table_NFI[[#This Row],[Complementary Kit]],0)","v":0},{"$f":"IF(NFI_Expiration=1,IF($A151<VLOOKUP(P$5,NFI,5,0),1,0)*Table_NFI[[#This Row],[Plastic Bucket]],0)","v":0},{"$f":"IF(NFI_Expiration=1,IF($A151<VLOOKUP(Q$5,NFI,5,0),1,0)*Table_NFI[[#This Row],[Plastic Mat]],0)","v":0},{"$f":"VLOOKUP(Table_NFI[[#This Row],[Camp Name]],Camp_List!N$5:AA$254,2,0)","v":"MMR012CMP041"},{"$f":"VLOOKUP(Table_NFI[[#This Row],[Camp Name]],Camp_List!N$5:AA$254,14,0)","v":"Open"},{"$f":"VLOOKUP(Table_NFI[[#This Row],[Camp Name]],Camp_List!N$5:AC$254,1,1)","v":"Dar Pai"}]
[14.1,"2012-07-05","UNHCR",null,"Rakhine","Sittwe","Khaung Doke Khar ",null,null,null,null,132,null,null,null,null,null,{"$f":"IF(NFI_Expiration=1,IF($A152<VLOOKUP(H$5,NFI,5,0),1,0)*Table_NFI[[#This Row],[Hygiene Kit]],0)","v":0},{"$f":"IF(NFI_Expiration=1,IF($A152<VLOOKUP(I$5,NFI,5,0),1,0)*Table_NFI[[#This Row],[NFI Core Kit]],0)","v":0},{"$f":"IF(NFI_Expiration=1,IF($A152<VLOOKUP(J$5,NFI,5,0),1,0)*Table_NFI[[#This Row],[Sanitary Kit]],0)","v":0},{"$f":"IF(NFI_Expiration=1,IF($A152<VLOOKUP(K$5,NFI,5,0),1,0)*Table_NFI[[#This Row],[Mosquito net]],0)","v":0},{"$f":"IF(NFI_Expiration=1,IF($A152<VLOOKUP(L$5,NFI,5,0),1,0)*Table_NFI[[#This Row],[Tarpaulin]],0)","v":0},{"$f":"IF(NFI_Expiration=1,IF($A152<VLOOKUP(M$5,NFI,5,0),1,0)*Table_NFI[[#This Row],[Blanket]],0)","v":0},{"$f":"IF(NFI_Expiration=1,IF($A152<VLOOKUP(N$5,NFI,5,0),1,0)*Table_NFI[[#This Row],[Kitchen Set]],0)","v":0},{"$f":"IF(NFI_Expiration=1,IF($A152<VLOOKUP(O$5,NFI,5,0),1,0)*Table_NFI[[#This Row],[Complementary Kit]],0)","v":0},{"$f":"IF(NFI_Expiration=1,IF($A152<VLOOKUP(P$5,NFI,5,0),1,0)*Table_NFI[[#This Row],[Plastic Bucket]],0)","v":0},{"$f":"IF(NFI_Expiration=1,IF($A152<VLOOKUP(Q$5,NFI,5,0),1,0)*Table_NFI[[#This Row],[Plastic Mat]],0)","v":0},{"$f":"VLOOKUP(Table_NFI[[#This Row],[Camp Name]],Camp_List!N$5:AA$254,2,0)","v":"MMR012CMP042"},{"$f":"VLOOKUP(Table_NFI[[#This Row],[Camp Name]],Camp_List!N$5:AA$254,14,0)","v":"Open"},{"$f":"VLOOKUP(Table_NFI[[#This Row],[Camp Name]],Camp_List!N$5:AC$254,1,1)","v":"Khaung Doke Khar "}]
[13.666666666666666,"2012-07-18","UNHCR",null,"Rakhine","Sittwe","Khaung Doke Khar ",null,null,null,null,121,null,null,null,null,null,{"$f":"IF(NFI_Expiration=1,IF($A153<VLOOKUP(H$5,NFI,5,0),1,0)*Table_NFI[[#This Row],[Hygiene Kit]],0)","v":0},{"$f":"IF(NFI_Expiration=1,IF($A153<VLOOKUP(I$5,NFI,5,0),1,0)*Table_NFI[[#This Row],[NFI Core Kit]],0)","v":0},{"$f":"IF(NFI_Expiration=1,IF($A153<VLOOKUP(J$5,NFI,5,0),1,0)*Table_NFI[[#This Row],[Sanitary Kit]],0)","v":0},{"$f":"IF(NFI_Expiration=1,IF($A153<VLOOKUP(K$5,NFI,5,0),1,0)*Table_NFI[[#This Row],[Mosquito net]],0)","v":0},{"$f":"IF(NFI_Expiration=1,IF($A153<VLOOKUP(L$5,NFI,5,0),1,0)*Table_NFI[[#This Row],[Tarpaulin]],0)","v":0},{"$f":"IF(NFI_Expiration=1,IF($A153<VLOOKUP(M$5,NFI,5,0),1,0)*Table_NFI[[#This Row],[Blanket]],0)","v":0},{"$f":"IF(NFI_Expiration=1,IF($A153<VLOOKUP(N$5,NFI,5,0),1,0)*Table_NFI[[#This Row],[Kitchen Set]],0)","v":0},{"$f":"IF(NFI_Expiration=1,IF($A153<VLOOKUP(O$5,NFI,5,0),1,0)*Table_NFI[[#This Row],[Complementary Kit]],0)","v":0},{"$f":"IF(NFI_Expiration=1,IF($A153<VLOOKUP(P$5,NFI,5,0),1,0)*Table_NFI[[#This Row],[Plastic Bucket]],0)","v":0},{"$f":"IF(NFI_Expiration=1,IF($A153<VLOOKUP(Q$5,NFI,5,0),1,0)*Table_NFI[[#This Row],[Plastic Mat]],0)","v":0},{"$f":"VLOOKUP(Table_NFI[[#This Row],[Camp Name]],Camp_List!N$5:AA$254,2,0)","v":"MMR012CMP042"},{"$f":"VLOOKUP(Table_NFI[[#This Row],[Camp Name]],Camp_List!N$5:AA$254,14,0)","v":"Open"},{"$f":"VLOOKUP(Table_NFI[[#This Row],[Camp Name]],Camp_List!N$5:AC$254,1,1)","v":"Khaung Doke Khar "}]
[13.3,"2012-07-29","UNHCR",null,"Rakhine","Sittwe","Khaung Doke Khar ",null,null,null,null,22,null,null,null,null,null,{"$f":"IF(NFI_Expiration=1,IF($A154<VLOOKUP(H$5,NFI,5,0),1,0)*Table_NFI[[#This Row],[Hygiene Kit]],0)","v":0},{"$f":"IF(NFI_Expiration=1,IF($A154<VLOOKUP(I$5,NFI,5,0),1,0)*Table_NFI[[#This Row],[NFI Core Kit]],0)","v":0},{"$f":"IF(NFI_Expiration=1,IF($A154<VLOOKUP(J$5,NFI,5,0),1,0)*Table_NFI[[#This Row],[Sanitary Kit]],0)","v":0},{"$f":"IF(NFI_Expiration=1,IF($A154<VLOOKUP(K$5,NFI,5,0),1,0)*Table_NFI[[#This Row],[Mosquito net]],0)","v":0},{"$f":"IF(NFI_Expiration=1,IF($A154<VLOOKUP(L$5,NFI,5,0),1,0)*Table_NFI[[#This Row],[Tarpaulin]],0)","v":0},{"$f":"IF(NFI_Expiration=1,IF($A154<VLOOKUP(M$5,NFI,5,0),1,0)*Table_NFI[[#This Row],[Blanket]],0)","v":0},{"$f":"IF(NFI_Expiration=1,IF($A154<VLOOKUP(N$5,NFI,5,0),1,0)*Table_NFI[[#This Row],[Kitchen Set]],0)","v":0},{"$f":"IF(NFI_Expiration=1,IF($A154<VLOOKUP(O$5,NFI,5,0),1,0)*Table_NFI[[#This Row],[Complementary Kit]],0)","v":0},{"$f":"IF(NFI_Expiration=1,IF($A154<VLOOKUP(P$5,NFI,5,0),1,0)*Table_NFI[[#This Row],[Plastic Bucket]],0)","v":0},{"$f":"IF(NFI_Expiration=1,IF($A154<VLOOKUP(Q$5,NFI,5,0),1,0)*Table_NFI[[#This Row],[Plastic Mat]],0)","v":0},{"$f":"VLOOKUP(Table_NFI[[#This Row],[Camp Name]],Camp_List!N$5:AA$254,2,0)","v":"MMR012CMP042"},{"$f":"VLOOKUP(Table_NFI[[#This Row],[Camp Name]],Camp_List!N$5:AA$254,14,0)","v":"Open"},{"$f":"VLOOKUP(Table_NFI[[#This Row],[Camp Name]],Camp_List!N$5:AC$254,1,1)","v":"Khaung Doke Khar "}]
[8.7333333333333325,"2012-12-13","UNHCR",null,"Rakhine","Sittwe","Khaung Doke Khar ",null,null,310,null,null,null,null,null,null,null,{"$f":"IF(NFI_Expiration=1,IF($A155<VLOOKUP(H$5,NFI,5,0),1,0)*Table_NFI[[#This Row],[Hygiene Kit]],0)","v":0},{"$f":"IF(NFI_Expiration=1,IF($A155<VLOOKUP(I$5,NFI,5,0),1,0)*Table_NFI[[#This Row],[NFI Core Kit]],0)","v":0},{"$f":"IF(NFI_Expiration=1,IF($A155<VLOOKUP(J$5,NFI,5,0),1,0)*Table_NFI[[#This Row],[Sanitary Kit]],0)","v":310},{"$f":"IF(NFI_Expiration=1,IF($A155<VLOOKUP(K$5,NFI,5,0),1,0)*Table_NFI[[#This Row],[Mosquito net]],0)","v":0},{"$f":"IF(NFI_Expiration=1,IF($A155<VLOOKUP(L$5,NFI,5,0),1,0)*Table_NFI[[#This Row],[Tarpaulin]],0)","v":0},{"$f":"IF(NFI_Expiration=1,IF($A155<VLOOKUP(M$5,NFI,5,0),1,0)*Table_NFI[[#This Row],[Blanket]],0)","v":0},{"$f":"IF(NFI_Expiration=1,IF($A155<VLOOKUP(N$5,NFI,5,0),1,0)*Table_NFI[[#This Row],[Kitchen Set]],0)","v":0},{"$f":"IF(NFI_Expiration=1,IF($A155<VLOOKUP(O$5,NFI,5,0),1,0)*Table_NFI[[#This Row],[Complementary Kit]],0)","v":0},{"$f":"IF(NFI_Expiration=1,IF($A155<VLOOKUP(P$5,NFI,5,0),1,0)*Table_NFI[[#This Row],[Plastic Bucket]],0)","v":0},{"$f":"IF(NFI_Expiration=1,IF($A155<VLOOKUP(Q$5,NFI,5,0),1,0)*Table_NFI[[#This Row],[Plastic Mat]],0)","v":0},{"$f":"VLOOKUP(Table_NFI[[#This Row],[Camp Name]],Camp_List!N$5:AA$254,2,0)","v":"MMR012CMP042"},{"$f":"VLOOKUP(Table_NFI[[#This Row],[Camp Name]],Camp_List!N$5:AA$254,14,0)","v":"Open"},{"$f":"VLOOKUP(Table_NFI[[#This Row],[Camp Name]],Camp_List!N$5:AC$254,1,1)","v":"Khaung Doke Khar "}]
[8.1,"2013-01-01","CDN","CDN","Rakhine","Sittwe","Khaung Doke Khar ",722,null,null,null,null,null,null,null,null,null,{"$f":"IF(NFI_Expiration=1,IF($A156<VLOOKUP(H$5,NFI,5,0),1,0)*Table_NFI[[#This Row],[Hygiene Kit]],0)","v":722},{"$f":"IF(NFI_Expiration=1,IF($A156<VLOOKUP(I$5,NFI,5,0),1,0)*Table_NFI[[#This Row],[NFI Core Kit]],0)","v":0},{"$f":"IF(NFI_Expiration=1,IF($A156<VLOOKUP(J$5,NFI,5,0),1,0)*Table_NFI[[#This Row],[Sanitary Kit]],0)","v":0},{"$f":"IF(NFI_Expiration=1,IF($A156<VLOOKUP(K$5,NFI,5,0),1,0)*Table_NFI[[#This Row],[Mosquito net]],0)","v":0},{"$f":"IF(NFI_Expiration=1,IF($A156<VLOOKUP(L$5,NFI,5,0),1,0)*Table_NFI[[#This Row],[Tarpaulin]],0)","v":0},{"$f":"IF(NFI_Expiration=1,IF($A156<VLOOKUP(M$5,NFI,5,0),1,0)*Table_NFI[[#This Row],[Blanket]],0)","v":0},{"$f":"IF(NFI_Expiration=1,IF($A156<VLOOKUP(N$5,NFI,5,0),1,0)*Table_NFI[[#This Row],[Kitchen Set]],0)","v":0},{"$f":"IF(NFI_Expiration=1,IF($A156<VLOOKUP(O$5,NFI,5,0),1,0)*Table_NFI[[#This Row],[Complementary Kit]],0)","v":0},{"$f":"IF(NFI_Expiration=1,IF($A156<VLOOKUP(P$5,NFI,5,0),1,0)*Table_NFI[[#This Row],[Plastic Bucket]],0)","v":0},{"$f":"IF(NFI_Expiration=1,IF($A156<VLOOKUP(Q$5,NFI,5,0),1,0)*Table_NFI[[#This Row],[Plastic Mat]],0)","v":0},{"$f":"VLOOKUP(Table_NFI[[#This Row],[Camp Name]],Camp_List!N$5:AA$254,2,0)","v":"MMR012CMP042"},{"$f":"VLOOKUP(Table_NFI[[#This Row],[Camp Name]],Camp_List!N$5:AA$254,14,0)","v":"Open"},{"$f":"VLOOKUP(Table_NFI[[#This Row],[Camp Name]],Camp_List!N$5:AC$254,1,1)","v":"Khaung Doke Khar "}]
[12.166666666666666,"2012-09-01","KOICAT","UNHCR","Rakhine","Sittwe","Ohn Taw Gyi 1",null,null,null,null,null,60,null,null,null,null,{"$f":"IF(NFI_Expiration=1,IF($A157<VLOOKUP(H$5,NFI,5,0),1,0)*Table_NFI[[#This Row],[Hygiene Kit]],0)","v":0},{"$f":"IF(NFI_Expiration=1,IF($A157<VLOOKUP(I$5,NFI,5,0),1,0)*Table_NFI[[#This Row],[NFI Core Kit]],0)","v":0},{"$f":"IF(NFI_Expiration=1,IF($A157<VLOOKUP(J$5,NFI,5,0),1,0)*Table_NFI[[#This Row],[Sanitary Kit]],0)","v":0},{"$f":"IF(NFI_Expiration=1,IF($A157<VLOOKUP(K$5,NFI,5,0),1,0)*Table_NFI[[#This Row],[Mosquito net]],0)","v":0},{"$f":"IF(NFI_Expiration=1,IF($A157<VLOOKUP(L$5,NFI,5,0),1,0)*Table_NFI[[#This Row],[Tarpaulin]],0)","v":0},{"$f":"IF(NFI_Expiration=1,IF($A157<VLOOKUP(M$5,NFI,5,0),1,0)*Table_NFI[[#This Row],[Blanket]],0)","v":0},{"$f":"IF(NFI_Expiration=1,IF($A157<VLOOKUP(N$5,NFI,5,0),1,0)*Table_NFI[[#This Row],[Kitchen Set]],0)","v":0},{"$f":"IF(NFI_Expiration=1,IF($A157<VLOOKUP(O$5,NFI,5,0),1,0)*Table_NFI[[#This Row],[Complementary Kit]],0)","v":0},{"$f":"IF(NFI_Expiration=1,IF($A157<VLOOKUP(P$5,NFI,5,0),1,0)*Table_NFI[[#This Row],[Plastic Bucket]],0)","v":0},{"$f":"IF(NFI_Expiration=1,IF($A157<VLOOKUP(Q$5,NFI,5,0),1,0)*Table_NFI[[#This Row],[Plastic Mat]],0)","v":0},{"$f":"VLOOKUP(Table_NFI[[#This Row],[Camp Name]],Camp_List!N$5:AA$254,2,0)","v":"MMR012CMP043"},{"$f":"VLOOKUP(Table_NFI[[#This Row],[Camp Name]],Camp_List!N$5:AA$254,14,0)","v":"Open"},{"$f":"VLOOKUP(Table_NFI[[#This Row],[Camp Name]],Camp_List!N$5:AC$254,1,1)","v":"Ohn Taw Gyi 1"}]
[8.7333333333333325,"2012-12-13","UNHCR",null,"Rakhine","Sittwe","Ohn Taw Gyi 1",null,null,65,null,null,null,null,null,null,null,{"$f":"IF(NFI_Expiration=1,IF($A158<VLOOKUP(H$5,NFI,5,0),1,0)*Table_NFI[[#This Row],[Hygiene Kit]],0)","v":0},{"$f":"IF(NFI_Expiration=1,IF($A158<VLOOKUP(I$5,NFI,5,0),1,0)*Table_NFI[[#This Row],[NFI Core Kit]],0)","v":0},{"$f":"IF(NFI_Expiration=1,IF($A158<VLOOKUP(J$5,NFI,5,0),1,0)*Table_NFI[[#This Row],[Sanitary Kit]],0)","v":65},{"$f":"IF(NFI_Expiration=1,IF($A158<VLOOKUP(K$5,NFI,5,0),1,0)*Table_NFI[[#This Row],[Mosquito net]],0)","v":0},{"$f":"IF(NFI_Expiration=1,IF($A158<VLOOKUP(L$5,NFI,5,0),1,0)*Table_NFI[[#This Row],[Tarpaulin]],0)","v":0},{"$f":"IF(NFI_Expiration=1,IF($A158<VLOOKUP(M$5,NFI,5,0),1,0)*Table_NFI[[#This Row],[Blanket]],0)","v":0},{"$f":"IF(NFI_Expiration=1,IF($A158<VLOOKUP(N$5,NFI,5,0),1,0)*Table_NFI[[#This Row],[Kitchen Set]],0)","v":0},{"$f":"IF(NFI_Expiration=1,IF($A158<VLOOKUP(O$5,NFI,5,0),1,0)*Table_NFI[[#This Row],[Complementary Kit]],0)","v":0},{"$f":"IF(NFI_Expiration=1,IF($A158<VLOOKUP(P$5,NFI,5,0),1,0)*Table_NFI[[#This Row],[Plastic Bucket]],0)","v":0},{"$f":"IF(NFI_Expiration=1,IF($A158<VLOOKUP(Q$5,NFI,5,0),1,0)*Table_NFI[[#This Row],[Plastic Mat]],0)","v":0},{"$f":"VLOOKUP(Table_NFI[[#This Row],[Camp Name]],Camp_List!N$5:AA$254,2,0)","v":"MMR012CMP043"},{"$f":"VLOOKUP(Table_NFI[[#This Row],[Camp Name]],Camp_List!N$5:AA$254,14,0)","v":"Open"},{"$f":"VLOOKUP(Table_NFI[[#This Row],[Camp Name]],Camp_List!N$5:AC$254,1,1)","v":"Ohn Taw Gyi 1"}]
[6.2,"2013-02-27","Muslim Aid",null,"Rakhine","Sittwe","Ohn Taw Gyi 1",0,800,null,1600,800,1600,800,800,800,1600,{"$f":"IF(NFI_Expiration=1,IF($A159<VLOOKUP(H$5,NFI,5,0),1,0)*Table_NFI[[#This Row],[Hygiene Kit]],0)","v":0},{"$f":"IF(NFI_Expiration=1,IF($A159<VLOOKUP(I$5,NFI,5,0),1,0)*Table_NFI[[#This Row],[NFI Core Kit]],0)","v":800},{"$f":"IF(NFI_Expiration=1,IF($A159<VLOOKUP(J$5,NFI,5,0),1,0)*Table_NFI[[#This Row],[Sanitary Kit]],0)","v":0},{"$f":"IF(NFI_Expiration=1,IF($A159<VLOOKUP(K$5,NFI,5,0),1,0)*Table_NFI[[#This Row],[Mosquito net]],0)","v":1600},{"$f":"IF(NFI_Expiration=1,IF($A159<VLOOKUP(L$5,NFI,5,0),1,0)*Table_NFI[[#This Row],[Tarpaulin]],0)","v":800},{"$f":"IF(NFI_Expiration=1,IF($A159<VLOOKUP(M$5,NFI,5,0),1,0)*Table_NFI[[#This Row],[Blanket]],0)","v":1600},{"$f":"IF(NFI_Expiration=1,IF($A159<VLOOKUP(N$5,NFI,5,0),1,0)*Table_NFI[[#This Row],[Kitchen Set]],0)","v":800},{"$f":"IF(NFI_Expiration=1,IF($A159<VLOOKUP(O$5,NFI,5,0),1,0)*Table_NFI[[#This Row],[Complementary Kit]],0)","v":800},{"$f":"IF(NFI_Expiration=1,IF($A159<VLOOKUP(P$5,NFI,5,0),1,0)*Table_NFI[[#This Row],[Plastic Bucket]],0)","v":800},{"$f":"IF(NFI_Expiration=1,IF($A159<VLOOKUP(Q$5,NFI,5,0),1,0)*Table_NFI[[#This Row],[Plastic Mat]],0)","v":1600},{"$f":"VLOOKUP(Table_NFI[[#This Row],[Camp Name]],Camp_List!N$5:AA$254,2,0)","v":"MMR012CMP043"},{"$f":"VLOOKUP(Table_NFI[[#This Row],[Camp Name]],Camp_List!N$5:AA$254,14,0)","v":"Open"},{"$f":"VLOOKUP(Table_NFI[[#This Row],[Camp Name]],Camp_List!N$5:AC$254,1,1)","v":"Ohn Taw Gyi 1"}]
[6.2,"2013-02-27","Muslim Aid",null,"Rakhine","Sittwe","Ohn Taw Gyi 1",0,null,null,null,null,null,null,null,null,null,{"$f":"IF(NFI_Expiration=1,IF($A160<VLOOKUP(H$5,NFI,5,0),1,0)*Table_NFI[[#This Row],[Hygiene Kit]],0)","v":0},{"$f":"IF(NFI_Expiration=1,IF($A160<VLOOKUP(I$5,NFI,5,0),1,0)*Table_NFI[[#This Row],[NFI Core Kit]],0)","v":0},{"$f":"IF(NFI_Expiration=1,IF($A160<VLOOKUP(J$5,NFI,5,0),1,0)*Table_NFI[[#This Row],[Sanitary Kit]],0)","v":0},{"$f":"IF(NFI_Expiration=1,IF($A160<VLOOKUP(K$5,NFI,5,0),1,0)*Table_NFI[[#This Row],[Mosquito net]],0)","v":0},{"$f":"IF(NFI_Expiration=1,IF($A160<VLOOKUP(L$5,NFI,5,0),1,0)*Table_NFI[[#This Row],[Tarpaulin]],0)","v":0},{"$f":"IF(NFI_Expiration=1,IF($A160<VLOOKUP(M$5,NFI,5,0),1,0)*Table_NFI[[#This Row],[Blanket]],0)","v":0},{"$f":"IF(NFI_Expiration=1,IF($A160<VLOOKUP(N$5,NFI,5,0),1,0)*Table_NFI[[#This Row],[Kitchen Set]],0)","v":0},{"$f":"IF(NFI_Expiration=1,IF($A160<VLOOKUP(O$5,NFI,5,0),1,0)*Table_NFI[[#This Row],[Complementary Kit]],0)","v":0},{"$f":"IF(NFI_Expiration=1,IF($A160<VLOOKUP(P$5,NFI,5,0),1,0)*Table_NFI[[#This Row],[Plastic Bucket]],0)","v":0},{"$f":"IF(NFI_Expiration=1,IF($A160<VLOOKUP(Q$5,NFI,5,0),1,0)*Table_NFI[[#This Row],[Plastic Mat]],0)","v":0},{"$f":"VLOOKUP(Table_NFI[[#This Row],[Camp Name]],Camp_List!N$5:AA$254,2,0)","v":"MMR012CMP043"},{"$f":"VLOOKUP(Table_NFI[[#This Row],[Camp Name]],Camp_List!N$5:AA$254,14,0)","v":"Open"},{"$f":"VLOOKUP(Table_NFI[[#This Row],[Camp Name]],Camp_List!N$5:AC$254,1,1)","v":"Ohn Taw Gyi 1"}]
[8.7333333333333325,"2012-12-13","UNHCR",null,"Rakhine","Sittwe","Phwe Yar Kone",null,null,374,null,null,null,null,null,null,null,{"$f":"IF(NFI_Expiration=1,IF($A161<VLOOKUP(H$5,NFI,5,0),1,0)*Table_NFI[[#This Row],[Hygiene Kit]],0)","v":0},{"$f":"IF(NFI_Expiration=1,IF($A161<VLOOKUP(I$5,NFI,5,0),1,0)*Table_NFI[[#This Row],[NFI Core Kit]],0)","v":0},{"$f":"IF(NFI_Expiration=1,IF($A161<VLOOKUP(J$5,NFI,5,0),1,0)*Table_NFI[[#This Row],[Sanitary Kit]],0)","v":374},{"$f":"IF(NFI_Expiration=1,IF($A161<VLOOKUP(K$5,NFI,5,0),1,0)*Table_NFI[[#This Row],[Mosquito net]],0)","v":0},{"$f":"IF(NFI_Expiration=1,IF($A161<VLOOKUP(L$5,NFI,5,0),1,0)*Table_NFI[[#This Row],[Tarpaulin]],0)","v":0},{"$f":"IF(NFI_Expiration=1,IF($A161<VLOOKUP(M$5,NFI,5,0),1,0)*Table_NFI[[#This Row],[Blanket]],0)","v":0},{"$f":"IF(NFI_Expiration=1,IF($A161<VLOOKUP(N$5,NFI,5,0),1,0)*Table_NFI[[#This Row],[Kitchen Set]],0)","v":0},{"$f":"IF(NFI_Expiration=1,IF($A161<VLOOKUP(O$5,NFI,5,0),1,0)*Table_NFI[[#This Row],[Complementary Kit]],0)","v":0},{"$f":"IF(NFI_Expiration=1,IF($A161<VLOOKUP(P$5,NFI,5,0),1,0)*Table_NFI[[#This Row],[Plastic Bucket]],0)","v":0},{"$f":"IF(NFI_Expiration=1,IF($A161<VLOOKUP(Q$5,NFI,5,0),1,0)*Table_NFI[[#This Row],[Plastic Mat]],0)","v":0},{"$f":"VLOOKUP(Table_NFI[[#This Row],[Camp Name]],Camp_List!N$5:AA$254,2,0)","v":"MMR012CMP044"},{"$f":"VLOOKUP(Table_NFI[[#This Row],[Camp Name]],Camp_List!N$5:AA$254,14,0)","v":"Open"},{"$f":"VLOOKUP(Table_NFI[[#This Row],[Camp Name]],Camp_List!N$5:AC$254,1,1)","v":"Phwe Yar Kone"}]
[13.566666666666666,"2012-07-21","UNHCR",null,"Rakhine","Sittwe","Say Tha Mar Gyi",null,null,null,null,117,null,null,null,null,null,{"$f":"IF(NFI_Expiration=1,IF($A162<VLOOKUP(H$5,NFI,5,0),1,0)*Table_NFI[[#This Row],[Hygiene Kit]],0)","v":0},{"$f":"IF(NFI_Expiration=1,IF($A162<VLOOKUP(I$5,NFI,5,0),1,0)*Table_NFI[[#This Row],[NFI Core Kit]],0)","v":0},{"$f":"IF(NFI_Expiration=1,IF($A162<VLOOKUP(J$5,NFI,5,0),1,0)*Table_NFI[[#This Row],[Sanitary Kit]],0)","v":0},{"$f":"IF(NFI_Expiration=1,IF($A162<VLOOKUP(K$5,NFI,5,0),1,0)*Table_NFI[[#This Row],[Mosquito net]],0)","v":0},{"$f":"IF(NFI_Expiration=1,IF($A162<VLOOKUP(L$5,NFI,5,0),1,0)*Table_NFI[[#This Row],[Tarpaulin]],0)","v":0},{"$f":"IF(NFI_Expiration=1,IF($A162<VLOOKUP(M$5,NFI,5,0),1,0)*Table_NFI[[#This Row],[Blanket]],0)","v":0},{"$f":"IF(NFI_Expiration=1,IF($A162<VLOOKUP(N$5,NFI,5,0),1,0)*Table_NFI[[#This Row],[Kitchen Set]],0)","v":0},{"$f":"IF(NFI_Expiration=1,IF($A162<VLOOKUP(O$5,NFI,5,0),1,0)*Table_NFI[[#This Row],[Complementary Kit]],0)","v":0},{"$f":"IF(NFI_Expiration=1,IF($A162<VLOOKUP(P$5,NFI,5,0),1,0)*Table_NFI[[#This Row],[Plastic Bucket]],0)","v":0},{"$f":"IF(NFI_Expiration=1,IF($A162<VLOOKUP(Q$5,NFI,5,0),1,0)*Table_NFI[[#This Row],[Plastic Mat]],0)","v":0},{"$f":"VLOOKUP(Table_NFI[[#This Row],[Camp Name]],Camp_List!N$5:AA$254,2,0)","v":"MMR012CMP045"},{"$f":"VLOOKUP(Table_NFI[[#This Row],[Camp Name]],Camp_List!N$5:AA$254,14,0)","v":"Open"},{"$f":"VLOOKUP(Table_NFI[[#This Row],[Camp Name]],Camp_List!N$5:AC$254,1,1)","v":"Say Tha Mar Gyi"}]
[13.3,"2012-07-29","UNHCR",null,"Rakhine","Sittwe","Say Tha Mar Gyi",null,null,null,null,456,null,null,null,null,null,{"$f":"IF(NFI_Expiration=1,IF($A163<VLOOKUP(H$5,NFI,5,0),1,0)*Table_NFI[[#This Row],[Hygiene Kit]],0)","v":0},{"$f":"IF(NFI_Expiration=1,IF($A163<VLOOKUP(I$5,NFI,5,0),1,0)*Table_NFI[[#This Row],[NFI Core Kit]],0)","v":0},{"$f":"IF(NFI_Expiration=1,IF($A163<VLOOKUP(J$5,NFI,5,0),1,0)*Table_NFI[[#This Row],[Sanitary Kit]],0)","v":0},{"$f":"IF(NFI_Expiration=1,IF($A163<VLOOKUP(K$5,NFI,5,0),1,0)*Table_NFI[[#This Row],[Mosquito net]],0)","v":0},{"$f":"IF(NFI_Expiration=1,IF($A163<VLOOKUP(L$5,NFI,5,0),1,0)*Table_NFI[[#This Row],[Tarpaulin]],0)","v":0},{"$f":"IF(NFI_Expiration=1,IF($A163<VLOOKUP(M$5,NFI,5,0),1,0)*Table_NFI[[#This Row],[Blanket]],0)","v":0},{"$f":"IF(NFI_Expiration=1,IF($A163<VLOOKUP(N$5,NFI,5,0),1,0)*Table_NFI[[#This Row],[Kitchen Set]],0)","v":0},{"$f":"IF(NFI_Expiration=1,IF($A163<VLOOKUP(O$5,NFI,5,0),1,0)*Table_NFI[[#This Row],[Complementary Kit]],0)","v":0},{"$f":"IF(NFI_Expiration=1,IF($A163<VLOOKUP(P$5,NFI,5,0),1,0)*Table_NFI[[#This Row],[Plastic Bucket]],0)","v":0},{"$f":"IF(NFI_Expiration=1,IF($A163<VLOOKUP(Q$5,NFI,5,0),1,0)*Table_NFI[[#This Row],[Plastic Mat]],0)","v":0},{"$f":"VLOOKUP(Table_NFI[[#This Row],[Camp Name]],Camp_List!N$5:AA$254,2,0)","v":"MMR012CMP045"},{"$f":"VLOOKUP(Table_NFI[[#This Row],[Camp Name]],Camp_List!N$5:AA$254,14,0)","v":"Open"},{"$f":"VLOOKUP(Table_NFI[[#This Row],[Camp Name]],Camp_List!N$5:AC$254,1,1)","v":"Say Tha Mar Gyi"}]
[13.266666666666667,"2012-07-30","UNHCR",null,"Rakhine","Sittwe","Say Tha Mar Gyi",null,null,null,null,461,null,null,null,null,null,{"$f":"IF(NFI_Expiration=1,IF($A164<VLOOKUP(H$5,NFI,5,0),1,0)*Table_NFI[[#This Row],[Hygiene Kit]],0)","v":0},{"$f":"IF(NFI_Expiration=1,IF($A164<VLOOKUP(I$5,NFI,5,0),1,0)*Table_NFI[[#This Row],[NFI Core Kit]],0)","v":0},{"$f":"IF(NFI_Expiration=1,IF($A164<VLOOKUP(J$5,NFI,5,0),1,0)*Table_NFI[[#This Row],[Sanitary Kit]],0)","v":0},{"$f":"IF(NFI_Expiration=1,IF($A164<VLOOKUP(K$5,NFI,5,0),1,0)*Table_NFI[[#This Row],[Mosquito net]],0)","v":0},{"$f":"IF(NFI_Expiration=1,IF($A164<VLOOKUP(L$5,NFI,5,0),1,0)*Table_NFI[[#This Row],[Tarpaulin]],0)","v":0},{"$f":"IF(NFI_Expiration=1,IF($A164<VLOOKUP(M$5,NFI,5,0),1,0)*Table_NFI[[#This Row],[Blanket]],0)","v":0},{"$f":"IF(NFI_Expiration=1,IF($A164<VLOOKUP(N$5,NFI,5,0),1,0)*Table_NFI[[#This Row],[Kitchen Set]],0)","v":0},{"$f":"IF(NFI_Expiration=1,IF($A164<VLOOKUP(O$5,NFI,5,0),1,0)*Table_NFI[[#This Row],[Complementary Kit]],0)","v":0},{"$f":"IF(NFI_Expiration=1,IF($A164<VLOOKUP(P$5,NFI,5,0),1,0)*Table_NFI[[#This Row],[Plastic Bucket]],0)","v":0},{"$f":"IF(NFI_Expiration=1,IF($A164<VLOOKUP(Q$5,NFI,5,0),1,0)*Table_NFI[[#This Row],[Plastic Mat]],0)","v":0},{"$f":"VLOOKUP(Table_NFI[[#This Row],[Camp Name]],Camp_List!N$5:AA$254,2,0)","v":"MMR012CMP045"},{"$f":"VLOOKUP(Table_NFI[[#This Row],[Camp Name]],Camp_List!N$5:AA$254,14,0)","v":"Open"},{"$f":"VLOOKUP(Table_NFI[[#This Row],[Camp Name]],Camp_List!N$5:AC$254,1,1)","v":"Say Tha Mar Gyi"}]
[8.7333333333333325,"2012-12-13","UNHCR",null,"Rakhine","Sittwe","Say Tha Mar Gyi",null,null,1460,null,null,null,null,null,null,null,{"$f":"IF(NFI_Expiration=1,IF($A165<VLOOKUP(H$5,NFI,5,0),1,0)*Table_NFI[[#This Row],[Hygiene Kit]],0)","v":0},{"$f":"IF(NFI_Expiration=1,IF($A165<VLOOKUP(I$5,NFI,5,0),1,0)*Table_NFI[[#This Row],[NFI Core Kit]],0)","v":0},{"$f":"IF(NFI_Expiration=1,IF($A165<VLOOKUP(J$5,NFI,5,0),1,0)*Table_NFI[[#This Row],[Sanitary Kit]],0)","v":1460},{"$f":"IF(NFI_Expiration=1,IF($A165<VLOOKUP(K$5,NFI,5,0),1,0)*Table_NFI[[#This Row],[Mosquito net]],0)","v":0},{"$f":"IF(NFI_Expiration=1,IF($A165<VLOOKUP(L$5,NFI,5,0),1,0)*Table_NFI[[#This Row],[Tarpaulin]],0)","v":0},{"$f":"IF(NFI_Expiration=1,IF($A165<VLOOKUP(M$5,NFI,5,0),1,0)*Table_NFI[[#This Row],[Blanket]],0)","v":0},{"$f":"IF(NFI_Expiration=1,IF($A165<VLOOKUP(N$5,NFI,5,0),1,0)*Table_NFI[[#This Row],[Kitchen Set]],0)","v":0},{"$f":"IF(NFI_Expiration=1,IF($A165<VLOOKUP(O$5,NFI,5,0),1,0)*Table_NFI[[#This Row],[Complementary Kit]],0)","v":0},{"$f":"IF(NFI_Expiration=1,IF($A165<VLOOKUP(P$5,NFI,5,0),1,0)*Table_NFI[[#This Row],[Plastic Bucket]],0)","v":0},{"$f":"IF(NFI_Expiration=1,IF($A165<VLOOKUP(Q$5,NFI,5,0),1,0)*Table_NFI[[#This Row],[Plastic Mat]],0)","v":0},{"$f":"VLOOKUP(Table_NFI[[#This Row],[Camp Name]],Camp_List!N$5:AA$254,2,0)","v":"MMR012CMP045"},{"$f":"VLOOKUP(Table_NFI[[#This Row],[Camp Name]],Camp_List!N$5:AA$254,14,0)","v":"Open"},{"$f":"VLOOKUP(Table_NFI[[#This Row],[Camp Name]],Camp_List!N$5:AC$254,1,1)","v":"Say Tha Mar Gyi"}]
[5.7,"2013-03-14","DRC","DRC","Rakhine","Sittwe","Say Tha Mar Gyi",2907,null,null,null,null,null,null,null,null,null,{"$f":"IF(NFI_Expiration=1,IF($A166<VLOOKUP(H$5,NFI,5,0),1,0)*Table_NFI[[#This Row],[Hygiene Kit]],0)","v":2907},{"$f":"IF(NFI_Expiration=1,IF($A166<VLOOKUP(I$5,NFI,5,0),1,0)*Table_NFI[[#This Row],[NFI Core Kit]],0)","v":0},{"$f":"IF(NFI_Expiration=1,IF($A166<VLOOKUP(J$5,NFI,5,0),1,0)*Table_NFI[[#This Row],[Sanitary Kit]],0)","v":0},{"$f":"IF(NFI_Expiration=1,IF($A166<VLOOKUP(K$5,NFI,5,0),1,0)*Table_NFI[[#This Row],[Mosquito net]],0)","v":0},{"$f":"IF(NFI_Expiration=1,IF($A166<VLOOKUP(L$5,NFI,5,0),1,0)*Table_NFI[[#This Row],[Tarpaulin]],0)","v":0},{"$f":"IF(NFI_Expiration=1,IF($A166<VLOOKUP(M$5,NFI,5,0),1,0)*Table_NFI[[#This Row],[Blanket]],0)","v":0},{"$f":"IF(NFI_Expiration=1,IF($A166<VLOOKUP(N$5,NFI,5,0),1,0)*Table_NFI[[#This Row],[Kitchen Set]],0)","v":0},{"$f":"IF(NFI_Expiration=1,IF($A166<VLOOKUP(O$5,NFI,5,0),1,0)*Table_NFI[[#This Row],[Complementary Kit]],0)","v":0},{"$f":"IF(NFI_Expiration=1,IF($A166<VLOOKUP(P$5,NFI,5,0),1,0)*Table_NFI[[#This Row],[Plastic Bucket]],0)","v":0},{"$f":"IF(NFI_Expiration=1,IF($A166<VLOOKUP(Q$5,NFI,5,0),1,0)*Table_NFI[[#This Row],[Plastic Mat]],0)","v":0},{"$f":"VLOOKUP(Table_NFI[[#This Row],[Camp Name]],Camp_List!N$5:AA$254,2,0)","v":"MMR012CMP045"},{"$f":"VLOOKUP(Table_NFI[[#This Row],[Camp Name]],Camp_List!N$5:AA$254,14,0)","v":"Open"},{"$f":"VLOOKUP(Table_NFI[[#This Row],[Camp Name]],Camp_List!N$5:AC$254,1,1)","v":"Say Tha Mar Gyi"}]
[8.7333333333333325,"2012-12-13","UNHCR",null,"Rakhine","Sittwe","Thae Chaung",null,null,2813,null,null,null,null,null,null,null,{"$f":"IF(NFI_Expiration=1,IF($A167<VLOOKUP(H$5,NFI,5,0),1,0)*Table_NFI[[#This Row],[Hygiene Kit]],0)","v":0},{"$f":"IF(NFI_Expiration=1,IF($A167<VLOOKUP(I$5,NFI,5,0),1,0)*Table_NFI[[#This Row],[NFI Core Kit]],0)","v":0},{"$f":"IF(NFI_Expiration=1,IF($A167<VLOOKUP(J$5,NFI,5,0),1,0)*Table_NFI[[#This Row],[Sanitary Kit]],0)","v":2813},{"$f":"IF(NFI_Expiration=1,IF($A167<VLOOKUP(K$5,NFI,5,0),1,0)*Table_NFI[[#This Row],[Mosquito net]],0)","v":0},{"$f":"IF(NFI_Expiration=1,IF($A167<VLOOKUP(L$5,NFI,5,0),1,0)*Table_NFI[[#This Row],[Tarpaulin]],0)","v":0},{"$f":"IF(NFI_Expiration=1,IF($A167<VLOOKUP(M$5,NFI,5,0),1,0)*Table_NFI[[#This Row],[Blanket]],0)","v":0},{"$f":"IF(NFI_Expiration=1,IF($A167<VLOOKUP(N$5,NFI,5,0),1,0)*Table_NFI[[#This Row],[Kitchen Set]],0)","v":0},{"$f":"IF(NFI_Expiration=1,IF($A167<VLOOKUP(O$5,NFI,5,0),1,0)*Table_NFI[[#This Row],[Complementary Kit]],0)","v":0},{"$f":"IF(NFI_Expiration=1,IF($A167<VLOOKUP(P$5,NFI,5,0),1,0)*Table_NFI[[#This Row],[Plastic Bucket]],0)","v":0},{"$f":"IF(NFI_Expiration=1,IF($A167<VLOOKUP(Q$5,NFI,5,0),1,0)*Table_NFI[[#This Row],[Plastic Mat]],0)","v":0},{"$f":"VLOOKUP(Table_NFI[[#This Row],[Camp Name]],Camp_List!N$5:AA$254,2,0)","v":"MMR012CMP046"},{"$f":"VLOOKUP(Table_NFI[[#This Row],[Camp Name]],Camp_List!N$5:AA$254,14,0)","v":"Open"},{"$f":"VLOOKUP(Table_NFI[[#This Row],[Camp Name]],Camp_List!N$5:AC$254,1,1)","v":"Thae Chaung"}]
[8.1,"2013-01-01","Solidarites International","Solidarities International","Rakhine","Sittwe","Thae Chaung",2939,null,null,null,null,null,null,null,null,null,{"$f":"IF(NFI_Expiration=1,IF($A168<VLOOKUP(H$5,NFI,5,0),1,0)*Table_NFI[[#This Row],[Hygiene Kit]],0)","v":2939},{"$f":"IF(NFI_Expiration=1,IF($A168<VLOOKUP(I$5,NFI,5,0),1,0)*Table_NFI[[#This Row],[NFI Core Kit]],0)","v":0},{"$f":"IF(NFI_Expiration=1,IF($A168<VLOOKUP(J$5,NFI,5,0),1,0)*Table_NFI[[#This Row],[Sanitary Kit]],0)","v":0},{"$f":"IF(NFI_Expiration=1,IF($A168<VLOOKUP(K$5,NFI,5,0),1,0)*Table_NFI[[#This Row],[Mosquito net]],0)","v":0},{"$f":"IF(NFI_Expiration=1,IF($A168<VLOOKUP(L$5,NFI,5,0),1,0)*Table_NFI[[#This Row],[Tarpaulin]],0)","v":0},{"$f":"IF(NFI_Expiration=1,IF($A168<VLOOKUP(M$5,NFI,5,0),1,0)*Table_NFI[[#This Row],[Blanket]],0)","v":0},{"$f":"IF(NFI_Expiration=1,IF($A168<VLOOKUP(N$5,NFI,5,0),1,0)*Table_NFI[[#This Row],[Kitchen Set]],0)","v":0},{"$f":"IF(NFI_Expiration=1,IF($A168<VLOOKUP(O$5,NFI,5,0),1,0)*Table_NFI[[#This Row],[Complementary Kit]],0)","v":0},{"$f":"IF(NFI_Expiration=1,IF($A168<VLOOKUP(P$5,NFI,5,0),1,0)*Table_NFI[[#This Row],[Plastic Bucket]],0)","v":0},{"$f":"IF(NFI_Expiration=1,IF($A168<VLOOKUP(Q$5,NFI,5,0),1,0)*Table_NFI[[#This Row],[Plastic Mat]],0)","v":0},{"$f":"VLOOKUP(Table_NFI[[#This Row],[Camp Name]],Camp_List!N$5:AA$254,2,0)","v":"MMR012CMP046"},{"$f":"VLOOKUP(Table_NFI[[#This Row],[Camp Name]],Camp_List!N$5:AA$254,14,0)","v":"Open"},{"$f":"VLOOKUP(Table_NFI[[#This Row],[Camp Name]],Camp_List!N$5:AC$254,1,1)","v":"Thae Chaung"}]
[6.4,"2013-02-21","Solidarites International","Solidarities International","Rakhine","Sittwe","Thae Chaung",1542,null,null,null,null,null,null,null,null,null,{"$f":"IF(NFI_Expiration=1,IF($A169<VLOOKUP(H$5,NFI,5,0),1,0)*Table_NFI[[#This Row],[Hygiene Kit]],0)","v":1542},{"$f":"IF(NFI_Expiration=1,IF($A169<VLOOKUP(I$5,NFI,5,0),1,0)*Table_NFI[[#This Row],[NFI Core Kit]],0)","v":0},{"$f":"IF(NFI_Expiration=1,IF($A169<VLOOKUP(J$5,NFI,5,0),1,0)*Table_NFI[[#This Row],[Sanitary Kit]],0)","v":0},{"$f":"IF(NFI_Expiration=1,IF($A169<VLOOKUP(K$5,NFI,5,0),1,0)*Table_NFI[[#This Row],[Mosquito net]],0)","v":0},{"$f":"IF(NFI_Expiration=1,IF($A169<VLOOKUP(L$5,NFI,5,0),1,0)*Table_NFI[[#This Row],[Tarpaulin]],0)","v":0},{"$f":"IF(NFI_Expiration=1,IF($A169<VLOOKUP(M$5,NFI,5,0),1,0)*Table_NFI[[#This Row],[Blanket]],0)","v":0},{"$f":"IF(NFI_Expiration=1,IF($A169<VLOOKUP(N$5,NFI,5,0),1,0)*Table_NFI[[#This Row],[Kitchen Set]],0)","v":0},{"$f":"IF(NFI_Expiration=1,IF($A169<VLOOKUP(O$5,NFI,5,0),1,0)*Table_NFI[[#This Row],[Complementary Kit]],0)","v":0},{"$f":"IF(NFI_Expiration=1,IF($A169<VLOOKUP(P$5,NFI,5,0),1,0)*Table_NFI[[#This Row],[Plastic Bucket]],0)","v":0},{"$f":"IF(NFI_Expiration=1,IF($A169<VLOOKUP(Q$5,NFI,5,0),1,0)*Table_NFI[[#This Row],[Plastic Mat]],0)","v":0},{"$f":"VLOOKUP(Table_NFI[[#This Row],[Camp Name]],Camp_List!N$5:AA$254,2,0)","v":"MMR012CMP046"},{"$f":"VLOOKUP(Table_NFI[[#This Row],[Camp Name]],Camp_List!N$5:AA$254,14,0)","v":"Open"},{"$f":"VLOOKUP(Table_NFI[[#This Row],[Camp Name]],Camp_List!N$5:AC$254,1,1)","v":"Thae Chaung"}]
[14.3,"2012-06-29","UNHCR",null,"Rakhine","Sittwe","Thet Kae Pyin ",null,null,null,null,200,null,null,null,null,null,{"$f":"IF(NFI_Expiration=1,IF($A170<VLOOKUP(H$5,NFI,5,0),1,0)*Table_NFI[[#This Row],[Hygiene Kit]],0)","v":0},{"$f":"IF(NFI_Expiration=1,IF($A170<VLOOKUP(I$5,NFI,5,0),1,0)*Table_NFI[[#This Row],[NFI Core Kit]],0)","v":0},{"$f":"IF(NFI_Expiration=1,IF($A170<VLOOKUP(J$5,NFI,5,0),1,0)*Table_NFI[[#This Row],[Sanitary Kit]],0)","v":0},{"$f":"IF(NFI_Expiration=1,IF($A170<VLOOKUP(K$5,NFI,5,0),1,0)*Table_NFI[[#This Row],[Mosquito net]],0)","v":0},{"$f":"IF(NFI_Expiration=1,IF($A170<VLOOKUP(L$5,NFI,5,0),1,0)*Table_NFI[[#This Row],[Tarpaulin]],0)","v":0},{"$f":"IF(NFI_Expiration=1,IF($A170<VLOOKUP(M$5,NFI,5,0),1,0)*Table_NFI[[#This Row],[Blanket]],0)","v":0},{"$f":"IF(NFI_Expiration=1,IF($A170<VLOOKUP(N$5,NFI,5,0),1,0)*Table_NFI[[#This Row],[Kitchen Set]],0)","v":0},{"$f":"IF(NFI_Expiration=1,IF($A170<VLOOKUP(O$5,NFI,5,0),1,0)*Table_NFI[[#This Row],[Complementary Kit]],0)","v":0},{"$f":"IF(NFI_Expiration=1,IF($A170<VLOOKUP(P$5,NFI,5,0),1,0)*Table_NFI[[#This Row],[Plastic Bucket]],0)","v":0},{"$f":"IF(NFI_Expiration=1,IF($A170<VLOOKUP(Q$5,NFI,5,0),1,0)*Table_NFI[[#This Row],[Plastic Mat]],0)","v":0},{"$f":"VLOOKUP(Table_NFI[[#This Row],[Camp Name]],Camp_List!N$5:AA$254,2,0)","v":"MMR012CMP048"},{"$f":"VLOOKUP(Table_NFI[[#This Row],[Camp Name]],Camp_List!N$5:AA$254,14,0)","v":"Open"},{"$f":"VLOOKUP(Table_NFI[[#This Row],[Camp Name]],Camp_List!N$5:AC$254,1,1)","v":"Thet Kae Pyin "}]
[13.766666666666667,"2012-07-15","UNHCR",null,"Rakhine","Sittwe","Thet Kae Pyin ",null,null,null,null,200,null,null,null,null,null,{"$f":"IF(NFI_Expiration=1,IF($A171<VLOOKUP(H$5,NFI,5,0),1,0)*Table_NFI[[#This Row],[Hygiene Kit]],0)","v":0},{"$f":"IF(NFI_Expiration=1,IF($A171<VLOOKUP(I$5,NFI,5,0),1,0)*Table_NFI[[#This Row],[NFI Core Kit]],0)","v":0},{"$f":"IF(NFI_Expiration=1,IF($A171<VLOOKUP(J$5,NFI,5,0),1,0)*Table_NFI[[#This Row],[Sanitary Kit]],0)","v":0},{"$f":"IF(NFI_Expiration=1,IF($A171<VLOOKUP(K$5,NFI,5,0),1,0)*Table_NFI[[#This Row],[Mosquito net]],0)","v":0},{"$f":"IF(NFI_Expiration=1,IF($A171<VLOOKUP(L$5,NFI,5,0),1,0)*Table_NFI[[#This Row],[Tarpaulin]],0)","v":0},{"$f":"IF(NFI_Expiration=1,IF($A171<VLOOKUP(M$5,NFI,5,0),1,0)*Table_NFI[[#This Row],[Blanket]],0)","v":0},{"$f":"IF(NFI_Expiration=1,IF($A171<VLOOKUP(N$5,NFI,5,0),1,0)*Table_NFI[[#This Row],[Kitchen Set]],0)","v":0},{"$f":"IF(NFI_Expiration=1,IF($A171<VLOOKUP(O$5,NFI,5,0),1,0)*Table_NFI[[#This Row],[Complementary Kit]],0)","v":0},{"$f":"IF(NFI_Expiration=1,IF($A171<VLOOKUP(P$5,NFI,5,0),1,0)*Table_NFI[[#This Row],[Plastic Bucket]],0)","v":0},{"$f":"IF(NFI_Expiration=1,IF($A171<VLOOKUP(Q$5,NFI,5,0),1,0)*Table_NFI[[#This Row],[Plastic Mat]],0)","v":0},{"$f":"VLOOKUP(Table_NFI[[#This Row],[Camp Name]],Camp_List!N$5:AA$254,2,0)","v":"MMR012CMP048"},{"$f":"VLOOKUP(Table_NFI[[#This Row],[Camp Name]],Camp_List!N$5:AA$254,14,0)","v":"Open"},{"$f":"VLOOKUP(Table_NFI[[#This Row],[Camp Name]],Camp_List!N$5:AC$254,1,1)","v":"Thet Kae Pyin "}]
[13.633333333333333,"2012-07-19","UNHCR",null,"Rakhine","Sittwe","Thet Kae Pyin ",null,null,null,null,572,null,null,null,null,null,{"$f":"IF(NFI_Expiration=1,IF($A172<VLOOKUP(H$5,NFI,5,0),1,0)*Table_NFI[[#This Row],[Hygiene Kit]],0)","v":0},{"$f":"IF(NFI_Expiration=1,IF($A172<VLOOKUP(I$5,NFI,5,0),1,0)*Table_NFI[[#This Row],[NFI Core Kit]],0)","v":0},{"$f":"IF(NFI_Expiration=1,IF($A172<VLOOKUP(J$5,NFI,5,0),1,0)*Table_NFI[[#This Row],[Sanitary Kit]],0)","v":0},{"$f":"IF(NFI_Expiration=1,IF($A172<VLOOKUP(K$5,NFI,5,0),1,0)*Table_NFI[[#This Row],[Mosquito net]],0)","v":0},{"$f":"IF(NFI_Expiration=1,IF($A172<VLOOKUP(L$5,NFI,5,0),1,0)*Table_NFI[[#This Row],[Tarpaulin]],0)","v":0},{"$f":"IF(NFI_Expiration=1,IF($A172<VLOOKUP(M$5,NFI,5,0),1,0)*Table_NFI[[#This Row],[Blanket]],0)","v":0},{"$f":"IF(NFI_Expiration=1,IF($A172<VLOOKUP(N$5,NFI,5,0),1,0)*Table_NFI[[#This Row],[Kitchen Set]],0)","v":0},{"$f":"IF(NFI_Expiration=1,IF($A172<VLOOKUP(O$5,NFI,5,0),1,0)*Table_NFI[[#This Row],[Complementary Kit]],0)","v":0},{"$f":"IF(NFI_Expiration=1,IF($A172<VLOOKUP(P$5,NFI,5,0),1,0)*Table_NFI[[#This Row],[Plastic Bucket]],0)","v":0},{"$f":"IF(NFI_Expiration=1,IF($A172<VLOOKUP(Q$5,NFI,5,0),1,0)*Table_NFI[[#This Row],[Plastic Mat]],0)","v":0},{"$f":"VLOOKUP(Table_NFI[[#This Row],[Camp Name]],Camp_List!N$5:AA$254,2,0)","v":"MMR012CMP048"},{"$f":"VLOOKUP(Table_NFI[[#This Row],[Camp Name]],Camp_List!N$5:AA$254,14,0)","v":"Open"},{"$f":"VLOOKUP(Table_NFI[[#This Row],[Camp Name]],Camp_List!N$5:AC$254,1,1)","v":"Thet Kae Pyin "}]
[13.266666666666667,"2012-07-30","UNHCR",null,"Rakhine","Sittwe","Thet Kae Pyin ",null,null,null,null,11,null,null,null,null,null,{"$f":"IF(NFI_Expiration=1,IF($A173<VLOOKUP(H$5,NFI,5,0),1,0)*Table_NFI[[#This Row],[Hygiene Kit]],0)","v":0},{"$f":"IF(NFI_Expiration=1,IF($A173<VLOOKUP(I$5,NFI,5,0),1,0)*Table_NFI[[#This Row],[NFI Core Kit]],0)","v":0},{"$f":"IF(NFI_Expiration=1,IF($A173<VLOOKUP(J$5,NFI,5,0),1,0)*Table_NFI[[#This Row],[Sanitary Kit]],0)","v":0},{"$f":"IF(NFI_Expiration=1,IF($A173<VLOOKUP(K$5,NFI,5,0),1,0)*Table_NFI[[#This Row],[Mosquito net]],0)","v":0},{"$f":"IF(NFI_Expiration=1,IF($A173<VLOOKUP(L$5,NFI,5,0),1,0)*Table_NFI[[#This Row],[Tarpaulin]],0)","v":0},{"$f":"IF(NFI_Expiration=1,IF($A173<VLOOKUP(M$5,NFI,5,0),1,0)*Table_NFI[[#This Row],[Blanket]],0)","v":0},{"$f":"IF(NFI_Expiration=1,IF($A173<VLOOKUP(N$5,NFI,5,0),1,0)*Table_NFI[[#This Row],[Kitchen Set]],0)","v":0},{"$f":"IF(NFI_Expiration=1,IF($A173<VLOOKUP(O$5,NFI,5,0),1,0)*Table_NFI[[#This Row],[Complementary Kit]],0)","v":0},{"$f":"IF(NFI_Expiration=1,IF($A173<VLOOKUP(P$5,NFI,5,0),1,0)*Table_NFI[[#This Row],[Plastic Bucket]],0)","v":0},{"$f":"IF(NFI_Expiration=1,IF($A173<VLOOKUP(Q$5,NFI,5,0),1,0)*Table_NFI[[#This Row],[Plastic Mat]],0)","v":0},{"$f":"VLOOKUP(Table_NFI[[#This Row],[Camp Name]],Camp_List!N$5:AA$254,2,0)","v":"MMR012CMP048"},{"$f":"VLOOKUP(Table_NFI[[#This Row],[Camp Name]],Camp_List!N$5:AA$254,14,0)","v":"Open"},{"$f":"VLOOKUP(Table_NFI[[#This Row],[Camp Name]],Camp_List!N$5:AC$254,1,1)","v":"Thet Kae Pyin "}]
[13.066666666666666,"2012-08-05","UNHCR",null,"Rakhine","Sittwe","Thet Kae Pyin ",null,null,null,null,98,null,null,null,null,null,{"$f":"IF(NFI_Expiration=1,IF($A174<VLOOKUP(H$5,NFI,5,0),1,0)*Table_NFI[[#This Row],[Hygiene Kit]],0)","v":0},{"$f":"IF(NFI_Expiration=1,IF($A174<VLOOKUP(I$5,NFI,5,0),1,0)*Table_NFI[[#This Row],[NFI Core Kit]],0)","v":0},{"$f":"IF(NFI_Expiration=1,IF($A174<VLOOKUP(J$5,NFI,5,0),1,0)*Table_NFI[[#This Row],[Sanitary Kit]],0)","v":0},{"$f":"IF(NFI_Expiration=1,IF($A174<VLOOKUP(K$5,NFI,5,0),1,0)*Table_NFI[[#This Row],[Mosquito net]],0)","v":0},{"$f":"IF(NFI_Expiration=1,IF($A174<VLOOKUP(L$5,NFI,5,0),1,0)*Table_NFI[[#This Row],[Tarpaulin]],0)","v":0},{"$f":"IF(NFI_Expiration=1,IF($A174<VLOOKUP(M$5,NFI,5,0),1,0)*Table_NFI[[#This Row],[Blanket]],0)","v":0},{"$f":"IF(NFI_Expiration=1,IF($A174<VLOOKUP(N$5,NFI,5,0),1,0)*Table_NFI[[#This Row],[Kitchen Set]],0)","v":0},{"$f":"IF(NFI_Expiration=1,IF($A174<VLOOKUP(O$5,NFI,5,0),1,0)*Table_NFI[[#This Row],[Complementary Kit]],0)","v":0},{"$f":"IF(NFI_Expiration=1,IF($A174<VLOOKUP(P$5,NFI,5,0),1,0)*Table_NFI[[#This Row],[Plastic Bucket]],0)","v":0},{"$f":"IF(NFI_Expiration=1,IF($A174<VLOOKUP(Q$5,NFI,5,0),1,0)*Table_NFI[[#This Row],[Plastic Mat]],0)","v":0},{"$f":"VLOOKUP(Table_NFI[[#This Row],[Camp Name]],Camp_List!N$5:AA$254,2,0)","v":"MMR012CMP048"},{"$f":"VLOOKUP(Table_NFI[[#This Row],[Camp Name]],Camp_List!N$5:AA$254,14,0)","v":"Open"},{"$f":"VLOOKUP(Table_NFI[[#This Row],[Camp Name]],Camp_List!N$5:AC$254,1,1)","v":"Thet Kae Pyin "}]
[9.1666666666666661,"2012-11-30","KOICAT","UNHCR","Rakhine","Sittwe","Thet Kae Pyin ",null,null,null,null,null,100,null,null,null,null,{"$f":"IF(NFI_Expiration=1,IF($A175<VLOOKUP(H$5,NFI,5,0),1,0)*Table_NFI[[#This Row],[Hygiene Kit]],0)","v":0},{"$f":"IF(NFI_Expiration=1,IF($A175<VLOOKUP(I$5,NFI,5,0),1,0)*Table_NFI[[#This Row],[NFI Core Kit]],0)","v":0},{"$f":"IF(NFI_Expiration=1,IF($A175<VLOOKUP(J$5,NFI,5,0),1,0)*Table_NFI[[#This Row],[Sanitary Kit]],0)","v":0},{"$f":"IF(NFI_Expiration=1,IF($A175<VLOOKUP(K$5,NFI,5,0),1,0)*Table_NFI[[#This Row],[Mosquito net]],0)","v":0},{"$f":"IF(NFI_Expiration=1,IF($A175<VLOOKUP(L$5,NFI,5,0),1,0)*Table_NFI[[#This Row],[Tarpaulin]],0)","v":0},{"$f":"IF(NFI_Expiration=1,IF($A175<VLOOKUP(M$5,NFI,5,0),1,0)*Table_NFI[[#This Row],[Blanket]],0)","v":100},{"$f":"IF(NFI_Expiration=1,IF($A175<VLOOKUP(N$5,NFI,5,0),1,0)*Table_NFI[[#This Row],[Kitchen Set]],0)","v":0},{"$f":"IF(NFI_Expiration=1,IF($A175<VLOOKUP(O$5,NFI,5,0),1,0)*Table_NFI[[#This Row],[Complementary Kit]],0)","v":0},{"$f":"IF(NFI_Expiration=1,IF($A175<VLOOKUP(P$5,NFI,5,0),1,0)*Table_NFI[[#This Row],[Plastic Bucket]],0)","v":0},{"$f":"IF(NFI_Expiration=1,IF($A175<VLOOKUP(Q$5,NFI,5,0),1,0)*Table_NFI[[#This Row],[Plastic Mat]],0)","v":0},{"$f":"VLOOKUP(Table_NFI[[#This Row],[Camp Name]],Camp_List!N$5:AA$254,2,0)","v":"MMR012CMP048"},{"$f":"VLOOKUP(Table_NFI[[#This Row],[Camp Name]],Camp_List!N$5:AA$254,14,0)","v":"Open"},{"$f":"VLOOKUP(Table_NFI[[#This Row],[Camp Name]],Camp_List!N$5:AC$254,1,1)","v":"Thet Kae Pyin "}]
[9.0666666666666664,"2012-12-03","KOICAT","UNHCR","Rakhine","Sittwe","Thet Kae Pyin ",null,null,null,null,null,92,null,null,null,null,{"$f":"IF(NFI_Expiration=1,IF($A176<VLOOKUP(H$5,NFI,5,0),1,0)*Table_NFI[[#This Row],[Hygiene Kit]],0)","v":0},{"$f":"IF(NFI_Expiration=1,IF($A176<VLOOKUP(I$5,NFI,5,0),1,0)*Table_NFI[[#This Row],[NFI Core Kit]],0)","v":0},{"$f":"IF(NFI_Expiration=1,IF($A176<VLOOKUP(J$5,NFI,5,0),1,0)*Table_NFI[[#This Row],[Sanitary Kit]],0)","v":0},{"$f":"IF(NFI_Expiration=1,IF($A176<VLOOKUP(K$5,NFI,5,0),1,0)*Table_NFI[[#This Row],[Mosquito net]],0)","v":0},{"$f":"IF(NFI_Expiration=1,IF($A176<VLOOKUP(L$5,NFI,5,0),1,0)*Table_NFI[[#This Row],[Tarpaulin]],0)","v":0},{"$f":"IF(NFI_Expiration=1,IF($A176<VLOOKUP(M$5,NFI,5,0),1,0)*Table_NFI[[#This Row],[Blanket]],0)","v":92},{"$f":"IF(NFI_Expiration=1,IF($A176<VLOOKUP(N$5,NFI,5,0),1,0)*Table_NFI[[#This Row],[Kitchen Set]],0)","v":0},{"$f":"IF(NFI_Expiration=1,IF($A176<VLOOKUP(O$5,NFI,5,0),1,0)*Table_NFI[[#This Row],[Complementary Kit]],0)","v":0},{"$f":"IF(NFI_Expiration=1,IF($A176<VLOOKUP(P$5,NFI,5,0),1,0)*Table_NFI[[#This Row],[Plastic Bucket]],0)","v":0},{"$f":"IF(NFI_Expiration=1,IF($A176<VLOOKUP(Q$5,NFI,5,0),1,0)*Table_NFI[[#This Row],[Plastic Mat]],0)","v":0},{"$f":"VLOOKUP(Table_NFI[[#This Row],[Camp Name]],Camp_List!N$5:AA$254,2,0)","v":"MMR012CMP048"},{"$f":"VLOOKUP(Table_NFI[[#This Row],[Camp Name]],Camp_List!N$5:AA$254,14,0)","v":"Open"},{"$f":"VLOOKUP(Table_NFI[[#This Row],[Camp Name]],Camp_List!N$5:AC$254,1,1)","v":"Thet Kae Pyin "}]
[8.7333333333333325,"2012-12-13","UNHCR",null,"Rakhine","Sittwe","Thet Kae Pyin ",null,null,1900,null,null,null,null,null,null,null,{"$f":"IF(NFI_Expiration=1,IF($A177<VLOOKUP(H$5,NFI,5,0),1,0)*Table_NFI[[#This Row],[Hygiene Kit]],0)","v":0},{"$f":"IF(NFI_Expiration=1,IF($A177<VLOOKUP(I$5,NFI,5,0),1,0)*Table_NFI[[#This Row],[NFI Core Kit]],0)","v":0},{"$f":"IF(NFI_Expiration=1,IF($A177<VLOOKUP(J$5,NFI,5,0),1,0)*Table_NFI[[#This Row],[Sanitary Kit]],0)","v":1900},{"$f":"IF(NFI_Expiration=1,IF($A177<VLOOKUP(K$5,NFI,5,0),1,0)*Table_NFI[[#This Row],[Mosquito net]],0)","v":0},{"$f":"IF(NFI_Expiration=1,IF($A177<VLOOKUP(L$5,NFI,5,0),1,0)*Table_NFI[[#This Row],[Tarpaulin]],0)","v":0},{"$f":"IF(NFI_Expiration=1,IF($A177<VLOOKUP(M$5,NFI,5,0),1,0)*Table_NFI[[#This Row],[Blanket]],0)","v":0},{"$f":"IF(NFI_Expiration=1,IF($A177<VLOOKUP(N$5,NFI,5,0),1,0)*Table_NFI[[#This Row],[Kitchen Set]],0)","v":0},{"$f":"IF(NFI_Expiration=1,IF($A177<VLOOKUP(O$5,NFI,5,0),1,0)*Table_NFI[[#This Row],[Complementary Kit]],0)","v":0},{"$f":"IF(NFI_Expiration=1,IF($A177<VLOOKUP(P$5,NFI,5,0),1,0)*Table_NFI[[#This Row],[Plastic Bucket]],0)","v":0},{"$f":"IF(NFI_Expiration=1,IF($A177<VLOOKUP(Q$5,NFI,5,0),1,0)*Table_NFI[[#This Row],[Plastic Mat]],0)","v":0},{"$f":"VLOOKUP(Table_NFI[[#This Row],[Camp Name]],Camp_List!N$5:AA$254,2,0)","v":"MMR012CMP048"},{"$f":"VLOOKUP(Table_NFI[[#This Row],[Camp Name]],Camp_List!N$5:AA$254,14,0)","v":"Open"},{"$f":"VLOOKUP(Table_NFI[[#This Row],[Camp Name]],Camp_List!N$5:AC$254,1,1)","v":"Thet Kae Pyin "}]
[7.333333333333333,"2013-01-24","Save the Children","Save the Children","Rakhine","Sittwe","Thet Kae Pyin ",3100,null,null,null,null,null,null,null,null,null,{"$f":"IF(NFI_Expiration=1,IF($A178<VLOOKUP(H$5,NFI,5,0),1,0)*Table_NFI[[#This Row],[Hygiene Kit]],0)","v":3100},{"$f":"IF(NFI_Expiration=1,IF($A178<VLOOKUP(I$5,NFI,5,0),1,0)*Table_NFI[[#This Row],[NFI Core Kit]],0)","v":0},{"$f":"IF(NFI_Expiration=1,IF($A178<VLOOKUP(J$5,NFI,5,0),1,0)*Table_NFI[[#This Row],[Sanitary Kit]],0)","v":0},{"$f":"IF(NFI_Expiration=1,IF($A178<VLOOKUP(K$5,NFI,5,0),1,0)*Table_NFI[[#This Row],[Mosquito net]],0)","v":0},{"$f":"IF(NFI_Expiration=1,IF($A178<VLOOKUP(L$5,NFI,5,0),1,0)*Table_NFI[[#This Row],[Tarpaulin]],0)","v":0},{"$f":"IF(NFI_Expiration=1,IF($A178<VLOOKUP(M$5,NFI,5,0),1,0)*Table_NFI[[#This Row],[Blanket]],0)","v":0},{"$f":"IF(NFI_Expiration=1,IF($A178<VLOOKUP(N$5,NFI,5,0),1,0)*Table_NFI[[#This Row],[Kitchen Set]],0)","v":0},{"$f":"IF(NFI_Expiration=1,IF($A178<VLOOKUP(O$5,NFI,5,0),1,0)*Table_NFI[[#This Row],[Complementary Kit]],0)","v":0},{"$f":"IF(NFI_Expiration=1,IF($A178<VLOOKUP(P$5,NFI,5,0),1,0)*Table_NFI[[#This Row],[Plastic Bucket]],0)","v":0},{"$f":"IF(NFI_Expiration=1,IF($A178<VLOOKUP(Q$5,NFI,5,0),1,0)*Table_NFI[[#This Row],[Plastic Mat]],0)","v":0},{"$f":"VLOOKUP(Table_NFI[[#This Row],[Camp Name]],Camp_List!N$5:AA$254,2,0)","v":"MMR012CMP048"},{"$f":"VLOOKUP(Table_NFI[[#This Row],[Camp Name]],Camp_List!N$5:AA$254,14,0)","v":"Open"},{"$f":"VLOOKUP(Table_NFI[[#This Row],[Camp Name]],Camp_List!N$5:AC$254,1,1)","v":"Thet Kae Pyin "}]
[5.0666666666666664,"2013-04-02","Save the Children","Save the Children","Rakhine","Sittwe","Thet Kae Pyin ",3100,null,null,null,null,null,null,null,null,null,{"$f":"IF(NFI_Expiration=1,IF($A179<VLOOKUP(H$5,NFI,5,0),1,0)*Table_NFI[[#This Row],[Hygiene Kit]],0)","v":3100},{"$f":"IF(NFI_Expiration=1,IF($A179<VLOOKUP(I$5,NFI,5,0),1,0)*Table_NFI[[#This Row],[NFI Core Kit]],0)","v":0},{"$f":"IF(NFI_Expiration=1,IF($A179<VLOOKUP(J$5,NFI,5,0),1,0)*Table_NFI[[#This Row],[Sanitary Kit]],0)","v":0},{"$f":"IF(NFI_Expiration=1,IF($A179<VLOOKUP(K$5,NFI,5,0),1,0)*Table_NFI[[#This Row],[Mosquito net]],0)","v":0},{"$f":"IF(NFI_Expiration=1,IF($A179<VLOOKUP(L$5,NFI,5,0),1,0)*Table_NFI[[#This Row],[Tarpaulin]],0)","v":0},{"$f":"IF(NFI_Expiration=1,IF($A179<VLOOKUP(M$5,NFI,5,0),1,0)*Table_NFI[[#This Row],[Blanket]],0)","v":0},{"$f":"IF(NFI_Expiration=1,IF($A179<VLOOKUP(N$5,NFI,5,0),1,0)*Table_NFI[[#This Row],[Kitchen Set]],0)","v":0},{"$f":"IF(NFI_Expiration=1,IF($A179<VLOOKUP(O$5,NFI,5,0),1,0)*Table_NFI[[#This Row],[Complementary Kit]],0)","v":0},{"$f":"IF(NFI_Expiration=1,IF($A179<VLOOKUP(P$5,NFI,5,0),1,0)*Table_NFI[[#This Row],[Plastic Bucket]],0)","v":0},{"$f":"IF(NFI_Expiration=1,IF($A179<VLOOKUP(Q$5,NFI,5,0),1,0)*Table_NFI[[#This Row],[Plastic Mat]],0)","v":0},{"$f":"VLOOKUP(Table_NFI[[#This Row],[Camp Name]],Camp_List!N$5:AA$254,2,0)","v":"MMR012CMP048"},{"$f":"VLOOKUP(Table_NFI[[#This Row],[Camp Name]],Camp_List!N$5:AA$254,14,0)","v":"Open"},{"$f":"VLOOKUP(Table_NFI[[#This Row],[Camp Name]],Camp_List!N$5:AC$254,1,1)","v":"Thet Kae Pyin "}]
[3.3666666666666667,"2013-05-23","Save the Children","Save the Children","Rakhine","Sittwe","Thet Kae Pyin ",4795,null,null,null,null,null,null,null,null,null,{"$f":"IF(NFI_Expiration=1,IF($A180<VLOOKUP(H$5,NFI,5,0),1,0)*Table_NFI[[#This Row],[Hygiene Kit]],0)","v":4795},{"$f":"IF(NFI_Expiration=1,IF($A180<VLOOKUP(I$5,NFI,5,0),1,0)*Table_NFI[[#This Row],[NFI Core Kit]],0)","v":0},{"$f":"IF(NFI_Expiration=1,IF($A180<VLOOKUP(J$5,NFI,5,0),1,0)*Table_NFI[[#This Row],[Sanitary Kit]],0)","v":0},{"$f":"IF(NFI_Expiration=1,IF($A180<VLOOKUP(K$5,NFI,5,0),1,0)*Table_NFI[[#This Row],[Mosquito net]],0)","v":0},{"$f":"IF(NFI_Expiration=1,IF($A180<VLOOKUP(L$5,NFI,5,0),1,0)*Table_NFI[[#This Row],[Tarpaulin]],0)","v":0},{"$f":"IF(NFI_Expiration=1,IF($A180<VLOOKUP(M$5,NFI,5,0),1,0)*Table_NFI[[#This Row],[Blanket]],0)","v":0},{"$f":"IF(NFI_Expiration=1,IF($A180<VLOOKUP(N$5,NFI,5,0),1,0)*Table_NFI[[#This Row],[Kitchen Set]],0)","v":0},{"$f":"IF(NFI_Expiration=1,IF($A180<VLOOKUP(O$5,NFI,5,0),1,0)*Table_NFI[[#This Row],[Complementary Kit]],0)","v":0},{"$f":"IF(NFI_Expiration=1,IF($A180<VLOOKUP(P$5,NFI,5,0),1,0)*Table_NFI[[#This Row],[Plastic Bucket]],0)","v":0},{"$f":"IF(NFI_Expiration=1,IF($A180<VLOOKUP(Q$5,NFI,5,0),1,0)*Table_NFI[[#This Row],[Plastic Mat]],0)","v":0},{"$f":"VLOOKUP(Table_NFI[[#This Row],[Camp Name]],Camp_List!N$5:AA$254,2,0)","v":"MMR012CMP048"},{"$f":"VLOOKUP(Table_NFI[[#This Row],[Camp Name]],Camp_List!N$5:AA$254,14,0)","v":"Open"},{"$f":"VLOOKUP(Table_NFI[[#This Row],[Camp Name]],Camp_List!N$5:AC$254,1,1)","v":"Thet Kae Pyin "}]
[3.2333333333333334,"2013-05-27","UNHCR",null,"Rakhine","Sittwe","Thet Kae Pyin ",null,null,null,null,111,null,null,null,null,null,{"$f":"IF(NFI_Expiration=1,IF($A181<VLOOKUP(H$5,NFI,5,0),1,0)*Table_NFI[[#This Row],[Hygiene Kit]],0)","v":0},{"$f":"IF(NFI_Expiration=1,IF($A181<VLOOKUP(I$5,NFI,5,0),1,0)*Table_NFI[[#This Row],[NFI Core Kit]],0)","v":0},{"$f":"IF(NFI_Expiration=1,IF($A181<VLOOKUP(J$5,NFI,5,0),1,0)*Table_NFI[[#This Row],[Sanitary Kit]],0)","v":0},{"$f":"IF(NFI_Expiration=1,IF($A181<VLOOKUP(K$5,NFI,5,0),1,0)*Table_NFI[[#This Row],[Mosquito net]],0)","v":0},{"$f":"IF(NFI_Expiration=1,IF($A181<VLOOKUP(L$5,NFI,5,0),1,0)*Table_NFI[[#This Row],[Tarpaulin]],0)","v":111},{"$f":"IF(NFI_Expiration=1,IF($A181<VLOOKUP(M$5,NFI,5,0),1,0)*Table_NFI[[#This Row],[Blanket]],0)","v":0},{"$f":"IF(NFI_Expiration=1,IF($A181<VLOOKUP(N$5,NFI,5,0),1,0)*Table_NFI[[#This Row],[Kitchen Set]],0)","v":0},{"$f":"IF(NFI_Expiration=1,IF($A181<VLOOKUP(O$5,NFI,5,0),1,0)*Table_NFI[[#This Row],[Complementary Kit]],0)","v":0},{"$f":"IF(NFI_Expiration=1,IF($A181<VLOOKUP(P$5,NFI,5,0),1,0)*Table_NFI[[#This Row],[Plastic Bucket]],0)","v":0},{"$f":"IF(NFI_Expiration=1,IF($A181<VLOOKUP(Q$5,NFI,5,0),1,0)*Table_NFI[[#This Row],[Plastic Mat]],0)","v":0},{"$f":"VLOOKUP(Table_NFI[[#This Row],[Camp Name]],Camp_List!N$5:AA$254,2,0)","v":"MMR012CMP048"},{"$f":"VLOOKUP(Table_NFI[[#This Row],[Camp Name]],Camp_List!N$5:AA$254,14,0)","v":"Open"},{"$f":"VLOOKUP(Table_NFI[[#This Row],[Camp Name]],Camp_List!N$5:AC$254,1,1)","v":"Thet Kae Pyin "}]
[3.2,"2013-05-28","UNHCR",null,"Rakhine","Sittwe","Thet Kae Pyin ",null,null,null,null,108,null,null,null,null,null,{"$f":"IF(NFI_Expiration=1,IF($A182<VLOOKUP(H$5,NFI,5,0),1,0)*Table_NFI[[#This Row],[Hygiene Kit]],0)","v":0},{"$f":"IF(NFI_Expiration=1,IF($A182<VLOOKUP(I$5,NFI,5,0),1,0)*Table_NFI[[#This Row],[NFI Core Kit]],0)","v":0},{"$f":"IF(NFI_Expiration=1,IF($A182<VLOOKUP(J$5,NFI,5,0),1,0)*Table_NFI[[#This Row],[Sanitary Kit]],0)","v":0},{"$f":"IF(NFI_Expiration=1,IF($A182<VLOOKUP(K$5,NFI,5,0),1,0)*Table_NFI[[#This Row],[Mosquito net]],0)","v":0},{"$f":"IF(NFI_Expiration=1,IF($A182<VLOOKUP(L$5,NFI,5,0),1,0)*Table_NFI[[#This Row],[Tarpaulin]],0)","v":108},{"$f":"IF(NFI_Expiration=1,IF($A182<VLOOKUP(M$5,NFI,5,0),1,0)*Table_NFI[[#This Row],[Blanket]],0)","v":0},{"$f":"IF(NFI_Expiration=1,IF($A182<VLOOKUP(N$5,NFI,5,0),1,0)*Table_NFI[[#This Row],[Kitchen Set]],0)","v":0},{"$f":"IF(NFI_Expiration=1,IF($A182<VLOOKUP(O$5,NFI,5,0),1,0)*Table_NFI[[#This Row],[Complementary Kit]],0)","v":0},{"$f":"IF(NFI_Expiration=1,IF($A182<VLOOKUP(P$5,NFI,5,0),1,0)*Table_NFI[[#This Row],[Plastic Bucket]],0)","v":0},{"$f":"IF(NFI_Expiration=1,IF($A182<VLOOKUP(Q$5,NFI,5,0),1,0)*Table_NFI[[#This Row],[Plastic Mat]],0)","v":0},{"$f":"VLOOKUP(Table_NFI[[#This Row],[Camp Name]],Camp_List!N$5:AA$254,2,0)","v":"MMR012CMP048"},{"$f":"VLOOKUP(Table_NFI[[#This Row],[Camp Name]],Camp_List!N$5:AA$254,14,0)","v":"Open"},{"$f":"VLOOKUP(Table_NFI[[#This Row],[Camp Name]],Camp_List!N$5:AC$254,1,1)","v":"Thet Kae Pyin "}]
[{"$f":"IF(ISBLANK(B183),\"\",(Report_Date-B183)/30)","v":9},"2012-12-05","KOICAT","UNHCR","Rakhine","Sittwe","Hmanzi Junction",null,null,null,null,null,50,null,null,null,null,{"$f":"IF(NFI_Expiration=1,IF($A183<VLOOKUP(H$5,NFI,5,0),1,0)*Table_NFI[[#This Row],[Hygiene Kit]],0)","v":0},{"$f":"IF(NFI_Expiration=1,IF($A183<VLOOKUP(I$5,NFI,5,0),1,0)*Table_NFI[[#This Row],[NFI Core Kit]],0)","v":0},{"$f":"IF(NFI_Expiration=1,IF($A183<VLOOKUP(J$5,NFI,5,0),1,0)*Table_NFI[[#This Row],[Sanitary Kit]],0)","v":0},{"$f":"IF(NFI_Expiration=1,IF($A183<VLOOKUP(K$5,NFI,5,0),1,0)*Table_NFI[[#This Row],[Mosquito net]],0)","v":0},{"$f":"IF(NFI_Expiration=1,IF($A183<VLOOKUP(L$5,NFI,5,0),1,0)*Table_NFI[[#This Row],[Tarpaulin]],0)","v":0},{"$f":"IF(NFI_Expiration=1,IF($A183<VLOOKUP(M$5,NFI,5,0),1,0)*Table_NFI[[#This Row],[Blanket]],0)","v":50},{"$f":"IF(NFI_Expiration=1,IF($A183<VLOOKUP(N$5,NFI,5,0),1,0)*Table_NFI[[#This Row],[Kitchen Set]],0)","v":0},{"$f":"IF(NFI_Expiration=1,IF($A183<VLOOKUP(O$5,NFI,5,0),1,0)*Table_NFI[[#This Row],[Complementary Kit]],0)","v":0},{"$f":"IF(NFI_Expiration=1,IF($A183<VLOOKUP(P$5,NFI,5,0),1,0)*Table_NFI[[#This Row],[Plastic Bucket]],0)","v":0},{"$f":"IF(NFI_Expiration=1,IF($A183<VLOOKUP(Q$5,NFI,5,0),1,0)*Table_NFI[[#This Row],[Plastic Mat]],0)","v":0},{"$f":"VLOOKUP(Table_NFI[[#This Row],[Camp Name]],Camp_List!N$5:AA$254,2,0)","v":"MMR012CMP049"},{"$f":"VLOOKUP(Table_NFI[[#This Row],[Camp Name]],Camp_List!N$5:AA$254,14,0)","v":"Close"},{"$f":"VLOOKUP(Table_NFI[[#This Row],[Camp Name]],Camp_List!N$5:AC$254,1,1)","v":"Hmanzi Junction"}]
[8.7666666666666675,"2012-12-12","KOICAT","UNHCR","Rakhine","Sittwe","Hmanzi Junction",null,null,null,null,null,50,null,null,null,null,{"$f":"IF(NFI_Expiration=1,IF($A184<VLOOKUP(H$5,NFI,5,0),1,0)*Table_NFI[[#This Row],[Hygiene Kit]],0)","v":0},{"$f":"IF(NFI_Expiration=1,IF($A184<VLOOKUP(I$5,NFI,5,0),1,0)*Table_NFI[[#This Row],[NFI Core Kit]],0)","v":0},{"$f":"IF(NFI_Expiration=1,IF($A184<VLOOKUP(J$5,NFI,5,0),1,0)*Table_NFI[[#This Row],[Sanitary Kit]],0)","v":0},{"$f":"IF(NFI_Expiration=1,IF($A184<VLOOKUP(K$5,NFI,5,0),1,0)*Table_NFI[[#This Row],[Mosquito net]],0)","v":0},{"$f":"IF(NFI_Expiration=1,IF($A184<VLOOKUP(L$5,NFI,5,0),1,0)*Table_NFI[[#This Row],[Tarpaulin]],0)","v":0},{"$f":"IF(NFI_Expiration=1,IF($A184<VLOOKUP(M$5,NFI,5,0),1,0)*Table_NFI[[#This Row],[Blanket]],0)","v":50},{"$f":"IF(NFI_Expiration=1,IF($A184<VLOOKUP(N$5,NFI,5,0),1,0)*Table_NFI[[#This Row],[Kitchen Set]],0)","v":0},{"$f":"IF(NFI_Expiration=1,IF($A184<VLOOKUP(O$5,NFI,5,0),1,0)*Table_NFI[[#This Row],[Complementary Kit]],0)","v":0},{"$f":"IF(NFI_Expiration=1,IF($A184<VLOOKUP(P$5,NFI,5,0),1,0)*Table_NFI[[#This Row],[Plastic Bucket]],0)","v":0},{"$f":"IF(NFI_Expiration=1,IF($A184<VLOOKUP(Q$5,NFI,5,0),1,0)*Table_NFI[[#This Row],[Plastic Mat]],0)","v":0},{"$f":"VLOOKUP(Table_NFI[[#This Row],[Camp Name]],Camp_List!N$5:AA$254,2,0)","v":"MMR012CMP049"},{"$f":"VLOOKUP(Table_NFI[[#This Row],[Camp Name]],Camp_List!N$5:AA$254,14,0)","v":"Close"},{"$f":"VLOOKUP(Table_NFI[[#This Row],[Camp Name]],Camp_List!N$5:AC$254,1,1)","v":"Hmanzi Junction"}]
[8.6999999999999993,"2012-12-14","KOICAT","UNHCR","Rakhine","Sittwe","Hmanzi Junction",null,null,null,null,null,55,null,null,null,null,{"$f":"IF(NFI_Expiration=1,IF($A185<VLOOKUP(H$5,NFI,5,0),1,0)*Table_NFI[[#This Row],[Hygiene Kit]],0)","v":0},{"$f":"IF(NFI_Expiration=1,IF($A185<VLOOKUP(I$5,NFI,5,0),1,0)*Table_NFI[[#This Row],[NFI Core Kit]],0)","v":0},{"$f":"IF(NFI_Expiration=1,IF($A185<VLOOKUP(J$5,NFI,5,0),1,0)*Table_NFI[[#This Row],[Sanitary Kit]],0)","v":0},{"$f":"IF(NFI_Expiration=1,IF($A185<VLOOKUP(K$5,NFI,5,0),1,0)*Table_NFI[[#This Row],[Mosquito net]],0)","v":0},{"$f":"IF(NFI_Expiration=1,IF($A185<VLOOKUP(L$5,NFI,5,0),1,0)*Table_NFI[[#This Row],[Tarpaulin]],0)","v":0},{"$f":"IF(NFI_Expiration=1,IF($A185<VLOOKUP(M$5,NFI,5,0),1,0)*Table_NFI[[#This Row],[Blanket]],0)","v":55},{"$f":"IF(NFI_Expiration=1,IF($A185<VLOOKUP(N$5,NFI,5,0),1,0)*Table_NFI[[#This Row],[Kitchen Set]],0)","v":0},{"$f":"IF(NFI_Expiration=1,IF($A185<VLOOKUP(O$5,NFI,5,0),1,0)*Table_NFI[[#This Row],[Complementary Kit]],0)","v":0},{"$f":"IF(NFI_Expiration=1,IF($A185<VLOOKUP(P$5,NFI,5,0),1,0)*Table_NFI[[#This Row],[Plastic Bucket]],0)","v":0},{"$f":"IF(NFI_Expiration=1,IF($A185<VLOOKUP(Q$5,NFI,5,0),1,0)*Table_NFI[[#This Row],[Plastic Mat]],0)","v":0},{"$f":"VLOOKUP(Table_NFI[[#This Row],[Camp Name]],Camp_List!N$5:AA$254,2,0)","v":"MMR012CMP049"},{"$f":"VLOOKUP(Table_NFI[[#This Row],[Camp Name]],Camp_List!N$5:AA$254,14,0)","v":"Close"},{"$f":"VLOOKUP(Table_NFI[[#This Row],[Camp Name]],Camp_List!N$5:AC$254,1,1)","v":"Hmanzi Junction"}]
[8.6333333333333329,"2012-12-16","KOICAT","UNHCR","Rakhine","Sittwe","Hmanzi Junction",null,null,null,null,null,49,null,null,null,null,{"$f":"IF(NFI_Expiration=1,IF($A186<VLOOKUP(H$5,NFI,5,0),1,0)*Table_NFI[[#This Row],[Hygiene Kit]],0)","v":0},{"$f":"IF(NFI_Expiration=1,IF($A186<VLOOKUP(I$5,NFI,5,0),1,0)*Table_NFI[[#This Row],[NFI Core Kit]],0)","v":0},{"$f":"IF(NFI_Expiration=1,IF($A186<VLOOKUP(J$5,NFI,5,0),1,0)*Table_NFI[[#This Row],[Sanitary Kit]],0)","v":0},{"$f":"IF(NFI_Expiration=1,IF($A186<VLOOKUP(K$5,NFI,5,0),1,0)*Table_NFI[[#This Row],[Mosquito net]],0)","v":0},{"$f":"IF(NFI_Expiration=1,IF($A186<VLOOKUP(L$5,NFI,5,0),1,0)*Table_NFI[[#This Row],[Tarpaulin]],0)","v":0},{"$f":"IF(NFI_Expiration=1,IF($A186<VLOOKUP(M$5,NFI,5,0),1,0)*Table_NFI[[#This Row],[Blanket]],0)","v":49},{"$f":"IF(NFI_Expiration=1,IF($A186<VLOOKUP(N$5,NFI,5,0),1,0)*Table_NFI[[#This Row],[Kitchen Set]],0)","v":0},{"$f":"IF(NFI_Expiration=1,IF($A186<VLOOKUP(O$5,NFI,5,0),1,0)*Table_NFI[[#This Row],[Complementary Kit]],0)","v":0},{"$f":"IF(NFI_Expiration=1,IF($A186<VLOOKUP(P$5,NFI,5,0),1,0)*Table_NFI[[#This Row],[Plastic Bucket]],0)","v":0},{"$f":"IF(NFI_Expiration=1,IF($A186<VLOOKUP(Q$5,NFI,5,0),1,0)*Table_NFI[[#This Row],[Plastic Mat]],0)","v":0},{"$f":"VLOOKUP(Table_NFI[[#This Row],[Camp Name]],Camp_List!N$5:AA$254,2,0)","v":"MMR012CMP049"},{"$f":"VLOOKUP(Table_NFI[[#This Row],[Camp Name]],Camp_List!N$5:AA$254,14,0)","v":"Close"},{"$f":"VLOOKUP(Table_NFI[[#This Row],[Camp Name]],Camp_List!N$5:AC$254,1,1)","v":"Hmanzi Junction"}]
[8.6333333333333329,"2012-12-16","KOICAT","UNHCR","Rakhine","Sittwe","Hmanzi Junction",null,null,null,null,null,11,null,null,null,null,{"$f":"IF(NFI_Expiration=1,IF($A187<VLOOKUP(H$5,NFI,5,0),1,0)*Table_NFI[[#This Row],[Hygiene Kit]],0)","v":0},{"$f":"IF(NFI_Expiration=1,IF($A187<VLOOKUP(I$5,NFI,5,0),1,0)*Table_NFI[[#This Row],[NFI Core Kit]],0)","v":0},{"$f":"IF(NFI_Expiration=1,IF($A187<VLOOKUP(J$5,NFI,5,0),1,0)*Table_NFI[[#This Row],[Sanitary Kit]],0)","v":0},{"$f":"IF(NFI_Expiration=1,IF($A187<VLOOKUP(K$5,NFI,5,0),1,0)*Table_NFI[[#This Row],[Mosquito net]],0)","v":0},{"$f":"IF(NFI_Expiration=1,IF($A187<VLOOKUP(L$5,NFI,5,0),1,0)*Table_NFI[[#This Row],[Tarpaulin]],0)","v":0},{"$f":"IF(NFI_Expiration=1,IF($A187<VLOOKUP(M$5,NFI,5,0),1,0)*Table_NFI[[#This Row],[Blanket]],0)","v":11},{"$f":"IF(NFI_Expiration=1,IF($A187<VLOOKUP(N$5,NFI,5,0),1,0)*Table_NFI[[#This Row],[Kitchen Set]],0)","v":0},{"$f":"IF(NFI_Expiration=1,IF($A187<VLOOKUP(O$5,NFI,5,0),1,0)*Table_NFI[[#This Row],[Complementary Kit]],0)","v":0},{"$f":"IF(NFI_Expiration=1,IF($A187<VLOOKUP(P$5,NFI,5,0),1,0)*Table_NFI[[#This Row],[Plastic Bucket]],0)","v":0},{"$f":"IF(NFI_Expiration=1,IF($A187<VLOOKUP(Q$5,NFI,5,0),1,0)*Table_NFI[[#This Row],[Plastic Mat]],0)","v":0},{"$f":"VLOOKUP(Table_NFI[[#This Row],[Camp Name]],Camp_List!N$5:AA$254,2,0)","v":"MMR012CMP049"},{"$f":"VLOOKUP(Table_NFI[[#This Row],[Camp Name]],Camp_List!N$5:AA$254,14,0)","v":"Close"},{"$f":"VLOOKUP(Table_NFI[[#This Row],[Camp Name]],Camp_List!N$5:AC$254,1,1)","v":"Hmanzi Junction"}]
[3.1666666666666665,"2013-05-29","Save the Children","Save the Children","Rakhine","Sittwe","Hmanzi Junction",203,null,null,null,null,null,null,null,null,null,{"$f":"IF(NFI_Expiration=1,IF($A188<VLOOKUP(H$5,NFI,5,0),1,0)*Table_NFI[[#This Row],[Hygiene Kit]],0)","v":203},{"$f":"IF(NFI_Expiration=1,IF($A188<VLOOKUP(I$5,NFI,5,0),1,0)*Table_NFI[[#This Row],[NFI Core Kit]],0)","v":0},{"$f":"IF(NFI_Expiration=1,IF($A188<VLOOKUP(J$5,NFI,5,0),1,0)*Table_NFI[[#This Row],[Sanitary Kit]],0)","v":0},{"$f":"IF(NFI_Expiration=1,IF($A188<VLOOKUP(K$5,NFI,5,0),1,0)*Table_NFI[[#This Row],[Mosquito net]],0)","v":0},{"$f":"IF(NFI_Expiration=1,IF($A188<VLOOKUP(L$5,NFI,5,0),1,0)*Table_NFI[[#This Row],[Tarpaulin]],0)","v":0},{"$f":"IF(NFI_Expiration=1,IF($A188<VLOOKUP(M$5,NFI,5,0),1,0)*Table_NFI[[#This Row],[Blanket]],0)","v":0},{"$f":"IF(NFI_Expiration=1,IF($A188<VLOOKUP(N$5,NFI,5,0),1,0)*Table_NFI[[#This Row],[Kitchen Set]],0)","v":0},{"$f":"IF(NFI_Expiration=1,IF($A188<VLOOKUP(O$5,NFI,5,0),1,0)*Table_NFI[[#This Row],[Complementary Kit]],0)","v":0},{"$f":"IF(NFI_Expiration=1,IF($A188<VLOOKUP(P$5,NFI,5,0),1,0)*Table_NFI[[#This Row],[Plastic Bucket]],0)","v":0},{"$f":"IF(NFI_Expiration=1,IF($A188<VLOOKUP(Q$5,NFI,5,0),1,0)*Table_NFI[[#This Row],[Plastic Mat]],0)","v":0},{"$f":"VLOOKUP(Table_NFI[[#This Row],[Camp Name]],Camp_List!N$5:AA$254,2,0)","v":"MMR012CMP049"},{"$f":"VLOOKUP(Table_NFI[[#This Row],[Camp Name]],Camp_List!N$5:AA$254,14,0)","v":"Close"},{"$f":"VLOOKUP(Table_NFI[[#This Row],[Camp Name]],Camp_List!N$5:AC$254,1,1)","v":"Hmanzi Junction"}]
[9.1666666666666661,"2012-11-30","UNHCR",null,"Rakhine","Sittwe","Pa Lin Pyin Ywar Thit",null,null,null,null,822,null,null,null,null,null,{"$f":"IF(NFI_Expiration=1,IF($A189<VLOOKUP(H$5,NFI,5,0),1,0)*Table_NFI[[#This Row],[Hygiene Kit]],0)","v":0},{"$f":"IF(NFI_Expiration=1,IF($A189<VLOOKUP(I$5,NFI,5,0),1,0)*Table_NFI[[#This Row],[NFI Core Kit]],0)","v":0},{"$f":"IF(NFI_Expiration=1,IF($A189<VLOOKUP(J$5,NFI,5,0),1,0)*Table_NFI[[#This Row],[Sanitary Kit]],0)","v":0},{"$f":"IF(NFI_Expiration=1,IF($A189<VLOOKUP(K$5,NFI,5,0),1,0)*Table_NFI[[#This Row],[Mosquito net]],0)","v":0},{"$f":"IF(NFI_Expiration=1,IF($A189<VLOOKUP(L$5,NFI,5,0),1,0)*Table_NFI[[#This Row],[Tarpaulin]],0)","v":822},{"$f":"IF(NFI_Expiration=1,IF($A189<VLOOKUP(M$5,NFI,5,0),1,0)*Table_NFI[[#This Row],[Blanket]],0)","v":0},{"$f":"IF(NFI_Expiration=1,IF($A189<VLOOKUP(N$5,NFI,5,0),1,0)*Table_NFI[[#This Row],[Kitchen Set]],0)","v":0},{"$f":"IF(NFI_Expiration=1,IF($A189<VLOOKUP(O$5,NFI,5,0),1,0)*Table_NFI[[#This Row],[Complementary Kit]],0)","v":0},{"$f":"IF(NFI_Expiration=1,IF($A189<VLOOKUP(P$5,NFI,5,0),1,0)*Table_NFI[[#This Row],[Plastic Bucket]],0)","v":0},{"$f":"IF(NFI_Expiration=1,IF($A189<VLOOKUP(Q$5,NFI,5,0),1,0)*Table_NFI[[#This Row],[Plastic Mat]],0)","v":0},{"$f":"VLOOKUP(Table_NFI[[#This Row],[Camp Name]],Camp_List!N$5:AA$254,2,0)","v":"MMR012CMP050"},{"$f":"VLOOKUP(Table_NFI[[#This Row],[Camp Name]],Camp_List!N$5:AA$254,14,0)","v":"Close"},{"$f":"VLOOKUP(Table_NFI[[#This Row],[Camp Name]],Camp_List!N$5:AC$254,1,1)","v":"Pa Lin Pyin Ywar Thit"}]
[9.1666666666666661,"2012-11-30","UNHCR",null,"Rakhine","Sittwe","Bu May Ohn Taw",null,null,null,null,130,null,null,null,null,null,{"$f":"IF(NFI_Expiration=1,IF($A190<VLOOKUP(H$5,NFI,5,0),1,0)*Table_NFI[[#This Row],[Hygiene Kit]],0)","v":0},{"$f":"IF(NFI_Expiration=1,IF($A190<VLOOKUP(I$5,NFI,5,0),1,0)*Table_NFI[[#This Row],[NFI Core Kit]],0)","v":0},{"$f":"IF(NFI_Expiration=1,IF($A190<VLOOKUP(J$5,NFI,5,0),1,0)*Table_NFI[[#This Row],[Sanitary Kit]],0)","v":0},{"$f":"IF(NFI_Expiration=1,IF($A190<VLOOKUP(K$5,NFI,5,0),1,0)*Table_NFI[[#This Row],[Mosquito net]],0)","v":0},{"$f":"IF(NFI_Expiration=1,IF($A190<VLOOKUP(L$5,NFI,5,0),1,0)*Table_NFI[[#This Row],[Tarpaulin]],0)","v":130},{"$f":"IF(NFI_Expiration=1,IF($A190<VLOOKUP(M$5,NFI,5,0),1,0)*Table_NFI[[#This Row],[Blanket]],0)","v":0},{"$f":"IF(NFI_Expiration=1,IF($A190<VLOOKUP(N$5,NFI,5,0),1,0)*Table_NFI[[#This Row],[Kitchen Set]],0)","v":0},{"$f":"IF(NFI_Expiration=1,IF($A190<VLOOKUP(O$5,NFI,5,0),1,0)*Table_NFI[[#This Row],[Complementary Kit]],0)","v":0},{"$f":"IF(NFI_Expiration=1,IF($A190<VLOOKUP(P$5,NFI,5,0),1,0)*Table_NFI[[#This Row],[Plastic Bucket]],0)","v":0},{"$f":"IF(NFI_Expiration=1,IF($A190<VLOOKUP(Q$5,NFI,5,0),1,0)*Table_NFI[[#This Row],[Plastic Mat]],0)","v":0},{"$f":"VLOOKUP(Table_NFI[[#This Row],[Camp Name]],Camp_List!N$5:AA$254,2,0)","v":"MMR012CMP051"},{"$f":"VLOOKUP(Table_NFI[[#This Row],[Camp Name]],Camp_List!N$5:AA$254,14,0)","v":"Close"},{"$f":"VLOOKUP(Table_NFI[[#This Row],[Camp Name]],Camp_List!N$5:AC$254,1,1)","v":"Bu May Ohn Taw"}]
[9.1666666666666661,"2012-11-30","UNHCR",null,"Rakhine","Sittwe","Bu May Ohn Taw",null,null,null,null,314,null,null,null,null,null,{"$f":"IF(NFI_Expiration=1,IF($A191<VLOOKUP(H$5,NFI,5,0),1,0)*Table_NFI[[#This Row],[Hygiene Kit]],0)","v":0},{"$f":"IF(NFI_Expiration=1,IF($A191<VLOOKUP(I$5,NFI,5,0),1,0)*Table_NFI[[#This Row],[NFI Core Kit]],0)","v":0},{"$f":"IF(NFI_Expiration=1,IF($A191<VLOOKUP(J$5,NFI,5,0),1,0)*Table_NFI[[#This Row],[Sanitary Kit]],0)","v":0},{"$f":"IF(NFI_Expiration=1,IF($A191<VLOOKUP(K$5,NFI,5,0),1,0)*Table_NFI[[#This Row],[Mosquito net]],0)","v":0},{"$f":"IF(NFI_Expiration=1,IF($A191<VLOOKUP(L$5,NFI,5,0),1,0)*Table_NFI[[#This Row],[Tarpaulin]],0)","v":314},{"$f":"IF(NFI_Expiration=1,IF($A191<VLOOKUP(M$5,NFI,5,0),1,0)*Table_NFI[[#This Row],[Blanket]],0)","v":0},{"$f":"IF(NFI_Expiration=1,IF($A191<VLOOKUP(N$5,NFI,5,0),1,0)*Table_NFI[[#This Row],[Kitchen Set]],0)","v":0},{"$f":"IF(NFI_Expiration=1,IF($A191<VLOOKUP(O$5,NFI,5,0),1,0)*Table_NFI[[#This Row],[Complementary Kit]],0)","v":0},{"$f":"IF(NFI_Expiration=1,IF($A191<VLOOKUP(P$5,NFI,5,0),1,0)*Table_NFI[[#This Row],[Plastic Bucket]],0)","v":0},{"$f":"IF(NFI_Expiration=1,IF($A191<VLOOKUP(Q$5,NFI,5,0),1,0)*Table_NFI[[#This Row],[Plastic Mat]],0)","v":0},{"$f":"VLOOKUP(Table_NFI[[#This Row],[Camp Name]],Camp_List!N$5:AA$254,2,0)","v":"MMR012CMP051"},{"$f":"VLOOKUP(Table_NFI[[#This Row],[Camp Name]],Camp_List!N$5:AA$254,14,0)","v":"Close"},{"$f":"VLOOKUP(Table_NFI[[#This Row],[Camp Name]],Camp_List!N$5:AC$254,1,1)","v":"Bu May Ohn Taw"}]
[5.0333333333333332,"2013-04-03","UNHCR",null,"Rakhine","Sittwe","Bu May Ohn Taw",null,null,null,null,null,45,null,null,null,null,{"$f":"IF(NFI_Expiration=1,IF($A192<VLOOKUP(H$5,NFI,5,0),1,0)*Table_NFI[[#This Row],[Hygiene Kit]],0)","v":0},{"$f":"IF(NFI_Expiration=1,IF($A192<VLOOKUP(I$5,NFI,5,0),1,0)*Table_NFI[[#This Row],[NFI Core Kit]],0)","v":0},{"$f":"IF(NFI_Expiration=1,IF($A192<VLOOKUP(J$5,NFI,5,0),1,0)*Table_NFI[[#This Row],[Sanitary Kit]],0)","v":0},{"$f":"IF(NFI_Expiration=1,IF($A192<VLOOKUP(K$5,NFI,5,0),1,0)*Table_NFI[[#This Row],[Mosquito net]],0)","v":0},{"$f":"IF(NFI_Expiration=1,IF($A192<VLOOKUP(L$5,NFI,5,0),1,0)*Table_NFI[[#This Row],[Tarpaulin]],0)","v":0},{"$f":"IF(NFI_Expiration=1,IF($A192<VLOOKUP(M$5,NFI,5,0),1,0)*Table_NFI[[#This Row],[Blanket]],0)","v":45},{"$f":"IF(NFI_Expiration=1,IF($A192<VLOOKUP(N$5,NFI,5,0),1,0)*Table_NFI[[#This Row],[Kitchen Set]],0)","v":0},{"$f":"IF(NFI_Expiration=1,IF($A192<VLOOKUP(O$5,NFI,5,0),1,0)*Table_NFI[[#This Row],[Complementary Kit]],0)","v":0},{"$f":"IF(NFI_Expiration=1,IF($A192<VLOOKUP(P$5,NFI,5,0),1,0)*Table_NFI[[#This Row],[Plastic Bucket]],0)","v":0},{"$f":"IF(NFI_Expiration=1,IF($A192<VLOOKUP(Q$5,NFI,5,0),1,0)*Table_NFI[[#This Row],[Plastic Mat]],0)","v":0},{"$f":"VLOOKUP(Table_NFI[[#This Row],[Camp Name]],Camp_List!N$5:AA$254,2,0)","v":"MMR012CMP051"},{"$f":"VLOOKUP(Table_NFI[[#This Row],[Camp Name]],Camp_List!N$5:AA$254,14,0)","v":"Close"},{"$f":"VLOOKUP(Table_NFI[[#This Row],[Camp Name]],Camp_List!N$5:AC$254,1,1)","v":"Bu May Ohn Taw"}]
[5,"2013-04-04","UNHCR",null,"Rakhine","Sittwe","Bu May Ohn Taw",null,null,null,null,null,45,null,null,null,null,{"$f":"IF(NFI_Expiration=1,IF($A193<VLOOKUP(H$5,NFI,5,0),1,0)*Table_NFI[[#This Row],[Hygiene Kit]],0)","v":0},{"$f":"IF(NFI_Expiration=1,IF($A193<VLOOKUP(I$5,NFI,5,0),1,0)*Table_NFI[[#This Row],[NFI Core Kit]],0)","v":0},{"$f":"IF(NFI_Expiration=1,IF($A193<VLOOKUP(J$5,NFI,5,0),1,0)*Table_NFI[[#This Row],[Sanitary Kit]],0)","v":0},{"$f":"IF(NFI_Expiration=1,IF($A193<VLOOKUP(K$5,NFI,5,0),1,0)*Table_NFI[[#This Row],[Mosquito net]],0)","v":0},{"$f":"IF(NFI_Expiration=1,IF($A193<VLOOKUP(L$5,NFI,5,0),1,0)*Table_NFI[[#This Row],[Tarpaulin]],0)","v":0},{"$f":"IF(NFI_Expiration=1,IF($A193<VLOOKUP(M$5,NFI,5,0),1,0)*Table_NFI[[#This Row],[Blanket]],0)","v":45},{"$f":"IF(NFI_Expiration=1,IF($A193<VLOOKUP(N$5,NFI,5,0),1,0)*Table_NFI[[#This Row],[Kitchen Set]],0)","v":0},{"$f":"IF(NFI_Expiration=1,IF($A193<VLOOKUP(O$5,NFI,5,0),1,0)*Table_NFI[[#This Row],[Complementary Kit]],0)","v":0},{"$f":"IF(NFI_Expiration=1,IF($A193<VLOOKUP(P$5,NFI,5,0),1,0)*Table_NFI[[#This Row],[Plastic Bucket]],0)","v":0},{"$f":"IF(NFI_Expiration=1,IF($A193<VLOOKUP(Q$5,NFI,5,0),1,0)*Table_NFI[[#This Row],[Plastic Mat]],0)","v":0},{"$f":"VLOOKUP(Table_NFI[[#This Row],[Camp Name]],Camp_List!N$5:AA$254,2,0)","v":"MMR012CMP051"},{"$f":"VLOOKUP(Table_NFI[[#This Row],[Camp Name]],Camp_List!N$5:AA$254,14,0)","v":"Close"},{"$f":"VLOOKUP(Table_NFI[[#This Row],[Camp Name]],Camp_List!N$5:AC$254,1,1)","v":"Bu May Ohn Taw"}]
[4.9666666666666668,"2013-04-05","UNHCR",null,"Rakhine","Sittwe","Bu May Ohn Taw",null,null,null,null,null,90,null,null,null,null,{"$f":"IF(NFI_Expiration=1,IF($A194<VLOOKUP(H$5,NFI,5,0),1,0)*Table_NFI[[#This Row],[Hygiene Kit]],0)","v":0},{"$f":"IF(NFI_Expiration=1,IF($A194<VLOOKUP(I$5,NFI,5,0),1,0)*Table_NFI[[#This Row],[NFI Core Kit]],0)","v":0},{"$f":"IF(NFI_Expiration=1,IF($A194<VLOOKUP(J$5,NFI,5,0),1,0)*Table_NFI[[#This Row],[Sanitary Kit]],0)","v":0},{"$f":"IF(NFI_Expiration=1,IF($A194<VLOOKUP(K$5,NFI,5,0),1,0)*Table_NFI[[#This Row],[Mosquito net]],0)","v":0},{"$f":"IF(NFI_Expiration=1,IF($A194<VLOOKUP(L$5,NFI,5,0),1,0)*Table_NFI[[#This Row],[Tarpaulin]],0)","v":0},{"$f":"IF(NFI_Expiration=1,IF($A194<VLOOKUP(M$5,NFI,5,0),1,0)*Table_NFI[[#This Row],[Blanket]],0)","v":90},{"$f":"IF(NFI_Expiration=1,IF($A194<VLOOKUP(N$5,NFI,5,0),1,0)*Table_NFI[[#This Row],[Kitchen Set]],0)","v":0},{"$f":"IF(NFI_Expiration=1,IF($A194<VLOOKUP(O$5,NFI,5,0),1,0)*Table_NFI[[#This Row],[Complementary Kit]],0)","v":0},{"$f":"IF(NFI_Expiration=1,IF($A194<VLOOKUP(P$5,NFI,5,0),1,0)*Table_NFI[[#This Row],[Plastic Bucket]],0)","v":0},{"$f":"IF(NFI_Expiration=1,IF($A194<VLOOKUP(Q$5,NFI,5,0),1,0)*Table_NFI[[#This Row],[Plastic Mat]],0)","v":0},{"$f":"VLOOKUP(Table_NFI[[#This Row],[Camp Name]],Camp_List!N$5:AA$254,2,0)","v":"MMR012CMP051"},{"$f":"VLOOKUP(Table_NFI[[#This Row],[Camp Name]],Camp_List!N$5:AA$254,14,0)","v":"Close"},{"$f":"VLOOKUP(Table_NFI[[#This Row],[Camp Name]],Camp_List!N$5:AC$254,1,1)","v":"Bu May Ohn Taw"}]
[4.833333333333333,"2013-04-09","UNHCR",null,"Rakhine","Sittwe","Bu May Ohn Taw",null,null,null,null,null,90,null,null,null,null,{"$f":"IF(NFI_Expiration=1,IF($A195<VLOOKUP(H$5,NFI,5,0),1,0)*Table_NFI[[#This Row],[Hygiene Kit]],0)","v":0},{"$f":"IF(NFI_Expiration=1,IF($A195<VLOOKUP(I$5,NFI,5,0),1,0)*Table_NFI[[#This Row],[NFI Core Kit]],0)","v":0},{"$f":"IF(NFI_Expiration=1,IF($A195<VLOOKUP(J$5,NFI,5,0),1,0)*Table_NFI[[#This Row],[Sanitary Kit]],0)","v":0},{"$f":"IF(NFI_Expiration=1,IF($A195<VLOOKUP(K$5,NFI,5,0),1,0)*Table_NFI[[#This Row],[Mosquito net]],0)","v":0},{"$f":"IF(NFI_Expiration=1,IF($A195<VLOOKUP(L$5,NFI,5,0),1,0)*Table_NFI[[#This Row],[Tarpaulin]],0)","v":0},{"$f":"IF(NFI_Expiration=1,IF($A195<VLOOKUP(M$5,NFI,5,0),1,0)*Table_NFI[[#This Row],[Blanket]],0)","v":90},{"$f":"IF(NFI_Expiration=1,IF($A195<VLOOKUP(N$5,NFI,5,0),1,0)*Table_NFI[[#This Row],[Kitchen Set]],0)","v":0},{"$f":"IF(NFI_Expiration=1,IF($A195<VLOOKUP(O$5,NFI,5,0),1,0)*Table_NFI[[#This Row],[Complementary Kit]],0)","v":0},{"$f":"IF(NFI_Expiration=1,IF($A195<VLOOKUP(P$5,NFI,5,0),1,0)*Table_NFI[[#This Row],[Plastic Bucket]],0)","v":0},{"$f":"IF(NFI_Expiration=1,IF($A195<VLOOKUP(Q$5,NFI,5,0),1,0)*Table_NFI[[#This Row],[Plastic Mat]],0)","v":0},{"$f":"VLOOKUP(Table_NFI[[#This Row],[Camp Name]],Camp_List!N$5:AA$254,2,0)","v":"MMR012CMP051"},{"$f":"VLOOKUP(Table_NFI[[#This Row],[Camp Name]],Camp_List!N$5:AA$254,14,0)","v":"Close"},{"$f":"VLOOKUP(Table_NFI[[#This Row],[Camp Name]],Camp_List!N$5:AC$254,1,1)","v":"Bu May Ohn Taw"}]
[4.8,"2013-04-10","UNHCR",null,"Rakhine","Sittwe","Bu May Ohn Taw",null,null,null,null,null,90,null,null,null,null,{"$f":"IF(NFI_Expiration=1,IF($A196<VLOOKUP(H$5,NFI,5,0),1,0)*Table_NFI[[#This Row],[Hygiene Kit]],0)","v":0},{"$f":"IF(NFI_Expiration=1,IF($A196<VLOOKUP(I$5,NFI,5,0),1,0)*Table_NFI[[#This Row],[NFI Core Kit]],0)","v":0},{"$f":"IF(NFI_Expiration=1,IF($A196<VLOOKUP(J$5,NFI,5,0),1,0)*Table_NFI[[#This Row],[Sanitary Kit]],0)","v":0},{"$f":"IF(NFI_Expiration=1,IF($A196<VLOOKUP(K$5,NFI,5,0),1,0)*Table_NFI[[#This Row],[Mosquito net]],0)","v":0},{"$f":"IF(NFI_Expiration=1,IF($A196<VLOOKUP(L$5,NFI,5,0),1,0)*Table_NFI[[#This Row],[Tarpaulin]],0)","v":0},{"$f":"IF(NFI_Expiration=1,IF($A196<VLOOKUP(M$5,NFI,5,0),1,0)*Table_NFI[[#This Row],[Blanket]],0)","v":90},{"$f":"IF(NFI_Expiration=1,IF($A196<VLOOKUP(N$5,NFI,5,0),1,0)*Table_NFI[[#This Row],[Kitchen Set]],0)","v":0},{"$f":"IF(NFI_Expiration=1,IF($A196<VLOOKUP(O$5,NFI,5,0),1,0)*Table_NFI[[#This Row],[Complementary Kit]],0)","v":0},{"$f":"IF(NFI_Expiration=1,IF($A196<VLOOKUP(P$5,NFI,5,0),1,0)*Table_NFI[[#This Row],[Plastic Bucket]],0)","v":0},{"$f":"IF(NFI_Expiration=1,IF($A196<VLOOKUP(Q$5,NFI,5,0),1,0)*Table_NFI[[#This Row],[Plastic Mat]],0)","v":0},{"$f":"VLOOKUP(Table_NFI[[#This Row],[Camp Name]],Camp_List!N$5:AA$254,2,0)","v":"MMR012CMP051"},{"$f":"VLOOKUP(Table_NFI[[#This Row],[Camp Name]],Camp_List!N$5:AA$254,14,0)","v":"Close"},{"$f":"VLOOKUP(Table_NFI[[#This Row],[Camp Name]],Camp_List!N$5:AC$254,1,1)","v":"Bu May Ohn Taw"}]
[4.7333333333333334,"2013-04-12","UNHCR",null,"Rakhine","Sittwe","Bu May Ohn Taw",null,null,null,null,null,54,null,null,null,null,{"$f":"IF(NFI_Expiration=1,IF($A197<VLOOKUP(H$5,NFI,5,0),1,0)*Table_NFI[[#This Row],[Hygiene Kit]],0)","v":0},{"$f":"IF(NFI_Expiration=1,IF($A197<VLOOKUP(I$5,NFI,5,0),1,0)*Table_NFI[[#This Row],[NFI Core Kit]],0)","v":0},{"$f":"IF(NFI_Expiration=1,IF($A197<VLOOKUP(J$5,NFI,5,0),1,0)*Table_NFI[[#This Row],[Sanitary Kit]],0)","v":0},{"$f":"IF(NFI_Expiration=1,IF($A197<VLOOKUP(K$5,NFI,5,0),1,0)*Table_NFI[[#This Row],[Mosquito net]],0)","v":0},{"$f":"IF(NFI_Expiration=1,IF($A197<VLOOKUP(L$5,NFI,5,0),1,0)*Table_NFI[[#This Row],[Tarpaulin]],0)","v":0},{"$f":"IF(NFI_Expiration=1,IF($A197<VLOOKUP(M$5,NFI,5,0),1,0)*Table_NFI[[#This Row],[Blanket]],0)","v":54},{"$f":"IF(NFI_Expiration=1,IF($A197<VLOOKUP(N$5,NFI,5,0),1,0)*Table_NFI[[#This Row],[Kitchen Set]],0)","v":0},{"$f":"IF(NFI_Expiration=1,IF($A197<VLOOKUP(O$5,NFI,5,0),1,0)*Table_NFI[[#This Row],[Complementary Kit]],0)","v":0},{"$f":"IF(NFI_Expiration=1,IF($A197<VLOOKUP(P$5,NFI,5,0),1,0)*Table_NFI[[#This Row],[Plastic Bucket]],0)","v":0},{"$f":"IF(NFI_Expiration=1,IF($A197<VLOOKUP(Q$5,NFI,5,0),1,0)*Table_NFI[[#This Row],[Plastic Mat]],0)","v":0},{"$f":"VLOOKUP(Table_NFI[[#This Row],[Camp Name]],Camp_List!N$5:AA$254,2,0)","v":"MMR012CMP051"},{"$f":"VLOOKUP(Table_NFI[[#This Row],[Camp Name]],Camp_List!N$5:AA$254,14,0)","v":"Close"},{"$f":"VLOOKUP(Table_NFI[[#This Row],[Camp Name]],Camp_List!N$5:AC$254,1,1)","v":"Bu May Ohn Taw"}]
[3.1666666666666665,"2013-05-29","Save the Children","Save the Children","Rakhine","Sittwe","Bu May Ohn Taw",502,null,null,null,null,null,null,null,null,null,{"$f":"IF(NFI_Expiration=1,IF($A198<VLOOKUP(H$5,NFI,5,0),1,0)*Table_NFI[[#This Row],[Hygiene Kit]],0)","v":502},{"$f":"IF(NFI_Expiration=1,IF($A198<VLOOKUP(I$5,NFI,5,0),1,0)*Table_NFI[[#This Row],[NFI Core Kit]],0)","v":0},{"$f":"IF(NFI_Expiration=1,IF($A198<VLOOKUP(J$5,NFI,5,0),1,0)*Table_NFI[[#This Row],[Sanitary Kit]],0)","v":0},{"$f":"IF(NFI_Expiration=1,IF($A198<VLOOKUP(K$5,NFI,5,0),1,0)*Table_NFI[[#This Row],[Mosquito net]],0)","v":0},{"$f":"IF(NFI_Expiration=1,IF($A198<VLOOKUP(L$5,NFI,5,0),1,0)*Table_NFI[[#This Row],[Tarpaulin]],0)","v":0},{"$f":"IF(NFI_Expiration=1,IF($A198<VLOOKUP(M$5,NFI,5,0),1,0)*Table_NFI[[#This Row],[Blanket]],0)","v":0},{"$f":"IF(NFI_Expiration=1,IF($A198<VLOOKUP(N$5,NFI,5,0),1,0)*Table_NFI[[#This Row],[Kitchen Set]],0)","v":0},{"$f":"IF(NFI_Expiration=1,IF($A198<VLOOKUP(O$5,NFI,5,0),1,0)*Table_NFI[[#This Row],[Complementary Kit]],0)","v":0},{"$f":"IF(NFI_Expiration=1,IF($A198<VLOOKUP(P$5,NFI,5,0),1,0)*Table_NFI[[#This Row],[Plastic Bucket]],0)","v":0},{"$f":"IF(NFI_Expiration=1,IF($A198<VLOOKUP(Q$5,NFI,5,0),1,0)*Table_NFI[[#This Row],[Plastic Mat]],0)","v":0},{"$f":"VLOOKUP(Table_NFI[[#This Row],[Camp Name]],Camp_List!N$5:AA$254,2,0)","v":"MMR012CMP051"},{"$f":"VLOOKUP(Table_NFI[[#This Row],[Camp Name]],Camp_List!N$5:AA$254,14,0)","v":"Close"},{"$f":"VLOOKUP(Table_NFI[[#This Row],[Camp Name]],Camp_List!N$5:AC$254,1,1)","v":"Bu May Ohn Taw"}]
[8.7666666666666675,"2012-12-12","UNHCR",null,"Rakhine","Sittwe","Ma Gyi Myaing",null,null,85,null,null,null,null,null,null,null,{"$f":"IF(NFI_Expiration=1,IF($A199<VLOOKUP(H$5,NFI,5,0),1,0)*Table_NFI[[#This Row],[Hygiene Kit]],0)","v":0},{"$f":"IF(NFI_Expiration=1,IF($A199<VLOOKUP(I$5,NFI,5,0),1,0)*Table_NFI[[#This Row],[NFI Core Kit]],0)","v":0},{"$f":"IF(NFI_Expiration=1,IF($A199<VLOOKUP(J$5,NFI,5,0),1,0)*Table_NFI[[#This Row],[Sanitary Kit]],0)","v":85},{"$f":"IF(NFI_Expiration=1,IF($A199<VLOOKUP(K$5,NFI,5,0),1,0)*Table_NFI[[#This Row],[Mosquito net]],0)","v":0},{"$f":"IF(NFI_Expiration=1,IF($A199<VLOOKUP(L$5,NFI,5,0),1,0)*Table_NFI[[#This Row],[Tarpaulin]],0)","v":0},{"$f":"IF(NFI_Expiration=1,IF($A199<VLOOKUP(M$5,NFI,5,0),1,0)*Table_NFI[[#This Row],[Blanket]],0)","v":0},{"$f":"IF(NFI_Expiration=1,IF($A199<VLOOKUP(N$5,NFI,5,0),1,0)*Table_NFI[[#This Row],[Kitchen Set]],0)","v":0},{"$f":"IF(NFI_Expiration=1,IF($A199<VLOOKUP(O$5,NFI,5,0),1,0)*Table_NFI[[#This Row],[Complementary Kit]],0)","v":0},{"$f":"IF(NFI_Expiration=1,IF($A199<VLOOKUP(P$5,NFI,5,0),1,0)*Table_NFI[[#This Row],[Plastic Bucket]],0)","v":0},{"$f":"IF(NFI_Expiration=1,IF($A199<VLOOKUP(Q$5,NFI,5,0),1,0)*Table_NFI[[#This Row],[Plastic Mat]],0)","v":0},{"$f":"VLOOKUP(Table_NFI[[#This Row],[Camp Name]],Camp_List!N$5:AA$254,2,0)","v":"MMR012CMP053"},{"$f":"VLOOKUP(Table_NFI[[#This Row],[Camp Name]],Camp_List!N$5:AA$254,14,0)","v":"Close"},{"$f":"VLOOKUP(Table_NFI[[#This Row],[Camp Name]],Camp_List!N$5:AC$254,1,1)","v":"Ma Gyi Myaing"}]
[8.7666666666666675,"2012-12-12","UNHCR",null,"Rakhine","Sittwe","Mingan",null,null,53,null,null,null,null,null,null,null,{"$f":"IF(NFI_Expiration=1,IF($A200<VLOOKUP(H$5,NFI,5,0),1,0)*Table_NFI[[#This Row],[Hygiene Kit]],0)","v":0},{"$f":"IF(NFI_Expiration=1,IF($A200<VLOOKUP(I$5,NFI,5,0),1,0)*Table_NFI[[#This Row],[NFI Core Kit]],0)","v":0},{"$f":"IF(NFI_Expiration=1,IF($A200<VLOOKUP(J$5,NFI,5,0),1,0)*Table_NFI[[#This Row],[Sanitary Kit]],0)","v":53},{"$f":"IF(NFI_Expiration=1,IF($A200<VLOOKUP(K$5,NFI,5,0),1,0)*Table_NFI[[#This Row],[Mosquito net]],0)","v":0},{"$f":"IF(NFI_Expiration=1,IF($A200<VLOOKUP(L$5,NFI,5,0),1,0)*Table_NFI[[#This Row],[Tarpaulin]],0)","v":0},{"$f":"IF(NFI_Expiration=1,IF($A200<VLOOKUP(M$5,NFI,5,0),1,0)*Table_NFI[[#This Row],[Blanket]],0)","v":0},{"$f":"IF(NFI_Expiration=1,IF($A200<VLOOKUP(N$5,NFI,5,0),1,0)*Table_NFI[[#This Row],[Kitchen Set]],0)","v":0},{"$f":"IF(NFI_Expiration=1,IF($A200<VLOOKUP(O$5,NFI,5,0),1,0)*Table_NFI[[#This Row],[Complementary Kit]],0)","v":0},{"$f":"IF(NFI_Expiration=1,IF($A200<VLOOKUP(P$5,NFI,5,0),1,0)*Table_NFI[[#This Row],[Plastic Bucket]],0)","v":0},{"$f":"IF(NFI_Expiration=1,IF($A200<VLOOKUP(Q$5,NFI,5,0),1,0)*Table_NFI[[#This Row],[Plastic Mat]],0)","v":0},{"$f":"VLOOKUP(Table_NFI[[#This Row],[Camp Name]],Camp_List!N$5:AA$254,2,0)","v":"MMR012CMP054"},{"$f":"VLOOKUP(Table_NFI[[#This Row],[Camp Name]],Camp_List!N$5:AA$254,14,0)","v":"Close"},{"$f":"VLOOKUP(Table_NFI[[#This Row],[Camp Name]],Camp_List!N$5:AC$254,1,1)","v":"Mingan"}]
[8.1,"2013-01-01","ABCD","ABCD","Rakhine","Sittwe","Mingan",80,null,null,null,null,null,null,null,null,null,{"$f":"IF(NFI_Expiration=1,IF($A201<VLOOKUP(H$5,NFI,5,0),1,0)*Table_NFI[[#This Row],[Hygiene Kit]],0)","v":80},{"$f":"IF(NFI_Expiration=1,IF($A201<VLOOKUP(I$5,NFI,5,0),1,0)*Table_NFI[[#This Row],[NFI Core Kit]],0)","v":0},{"$f":"IF(NFI_Expiration=1,IF($A201<VLOOKUP(J$5,NFI,5,0),1,0)*Table_NFI[[#This Row],[Sanitary Kit]],0)","v":0},{"$f":"IF(NFI_Expiration=1,IF($A201<VLOOKUP(K$5,NFI,5,0),1,0)*Table_NFI[[#This Row],[Mosquito net]],0)","v":0},{"$f":"IF(NFI_Expiration=1,IF($A201<VLOOKUP(L$5,NFI,5,0),1,0)*Table_NFI[[#This Row],[Tarpaulin]],0)","v":0},{"$f":"IF(NFI_Expiration=1,IF($A201<VLOOKUP(M$5,NFI,5,0),1,0)*Table_NFI[[#This Row],[Blanket]],0)","v":0},{"$f":"IF(NFI_Expiration=1,IF($A201<VLOOKUP(N$5,NFI,5,0),1,0)*Table_NFI[[#This Row],[Kitchen Set]],0)","v":0},{"$f":"IF(NFI_Expiration=1,IF($A201<VLOOKUP(O$5,NFI,5,0),1,0)*Table_NFI[[#This Row],[Complementary Kit]],0)","v":0},{"$f":"IF(NFI_Expiration=1,IF($A201<VLOOKUP(P$5,NFI,5,0),1,0)*Table_NFI[[#This Row],[Plastic Bucket]],0)","v":0},{"$f":"IF(NFI_Expiration=1,IF($A201<VLOOKUP(Q$5,NFI,5,0),1,0)*Table_NFI[[#This Row],[Plastic Mat]],0)","v":0},{"$f":"VLOOKUP(Table_NFI[[#This Row],[Camp Name]],Camp_List!N$5:AA$254,2,0)","v":"MMR012CMP054"},{"$f":"VLOOKUP(Table_NFI[[#This Row],[Camp Name]],Camp_List!N$5:AA$254,14,0)","v":"Close"},{"$f":"VLOOKUP(Table_NFI[[#This Row],[Camp Name]],Camp_List!N$5:AC$254,1,1)","v":"Mingan"}]
[14.266666666666667,"2012-06-30","UNHCR",null,"Rakhine","Sittwe","Danyawaddy Baw Lone Kwin",null,null,null,null,103,null,null,null,null,null,{"$f":"IF(NFI_Expiration=1,IF($A202<VLOOKUP(H$5,NFI,5,0),1,0)*Table_NFI[[#This Row],[Hygiene Kit]],0)","v":0},{"$f":"IF(NFI_Expiration=1,IF($A202<VLOOKUP(I$5,NFI,5,0),1,0)*Table_NFI[[#This Row],[NFI Core Kit]],0)","v":0},{"$f":"IF(NFI_Expiration=1,IF($A202<VLOOKUP(J$5,NFI,5,0),1,0)*Table_NFI[[#This Row],[Sanitary Kit]],0)","v":0},{"$f":"IF(NFI_Expiration=1,IF($A202<VLOOKUP(K$5,NFI,5,0),1,0)*Table_NFI[[#This Row],[Mosquito net]],0)","v":0},{"$f":"IF(NFI_Expiration=1,IF($A202<VLOOKUP(L$5,NFI,5,0),1,0)*Table_NFI[[#This Row],[Tarpaulin]],0)","v":0},{"$f":"IF(NFI_Expiration=1,IF($A202<VLOOKUP(M$5,NFI,5,0),1,0)*Table_NFI[[#This Row],[Blanket]],0)","v":0},{"$f":"IF(NFI_Expiration=1,IF($A202<VLOOKUP(N$5,NFI,5,0),1,0)*Table_NFI[[#This Row],[Kitchen Set]],0)","v":0},{"$f":"IF(NFI_Expiration=1,IF($A202<VLOOKUP(O$5,NFI,5,0),1,0)*Table_NFI[[#This Row],[Complementary Kit]],0)","v":0},{"$f":"IF(NFI_Expiration=1,IF($A202<VLOOKUP(P$5,NFI,5,0),1,0)*Table_NFI[[#This Row],[Plastic Bucket]],0)","v":0},{"$f":"IF(NFI_Expiration=1,IF($A202<VLOOKUP(Q$5,NFI,5,0),1,0)*Table_NFI[[#This Row],[Plastic Mat]],0)","v":0},{"$f":"VLOOKUP(Table_NFI[[#This Row],[Camp Name]],Camp_List!N$5:AA$254,2,0)","v":"MMR012CMP055"},{"$f":"VLOOKUP(Table_NFI[[#This Row],[Camp Name]],Camp_List!N$5:AA$254,14,0)","v":"Close"},{"$f":"VLOOKUP(Table_NFI[[#This Row],[Camp Name]],Camp_List!N$5:AC$254,1,1)","v":"Danyawaddy Baw Lone Kwin"}]
[8.7666666666666675,"2012-12-12","UNHCR",null,"Rakhine","Sittwe","Set Yone Su",null,null,195,null,null,null,null,null,null,null,{"$f":"IF(NFI_Expiration=1,IF($A203<VLOOKUP(H$5,NFI,5,0),1,0)*Table_NFI[[#This Row],[Hygiene Kit]],0)","v":0},{"$f":"IF(NFI_Expiration=1,IF($A203<VLOOKUP(I$5,NFI,5,0),1,0)*Table_NFI[[#This Row],[NFI Core Kit]],0)","v":0},{"$f":"IF(NFI_Expiration=1,IF($A203<VLOOKUP(J$5,NFI,5,0),1,0)*Table_NFI[[#This Row],[Sanitary Kit]],0)","v":195},{"$f":"IF(NFI_Expiration=1,IF($A203<VLOOKUP(K$5,NFI,5,0),1,0)*Table_NFI[[#This Row],[Mosquito net]],0)","v":0},{"$f":"IF(NFI_Expiration=1,IF($A203<VLOOKUP(L$5,NFI,5,0),1,0)*Table_NFI[[#This Row],[Tarpaulin]],0)","v":0},{"$f":"IF(NFI_Expiration=1,IF($A203<VLOOKUP(M$5,NFI,5,0),1,0)*Table_NFI[[#This Row],[Blanket]],0)","v":0},{"$f":"IF(NFI_Expiration=1,IF($A203<VLOOKUP(N$5,NFI,5,0),1,0)*Table_NFI[[#This Row],[Kitchen Set]],0)","v":0},{"$f":"IF(NFI_Expiration=1,IF($A203<VLOOKUP(O$5,NFI,5,0),1,0)*Table_NFI[[#This Row],[Complementary Kit]],0)","v":0},{"$f":"IF(NFI_Expiration=1,IF($A203<VLOOKUP(P$5,NFI,5,0),1,0)*Table_NFI[[#This Row],[Plastic Bucket]],0)","v":0},{"$f":"IF(NFI_Expiration=1,IF($A203<VLOOKUP(Q$5,NFI,5,0),1,0)*Table_NFI[[#This Row],[Plastic Mat]],0)","v":0},{"$f":"VLOOKUP(Table_NFI[[#This Row],[Camp Name]],Camp_List!N$5:AA$254,2,0)","v":"MMR012CMP056"},{"$f":"VLOOKUP(Table_NFI[[#This Row],[Camp Name]],Camp_List!N$5:AA$254,14,0)","v":"Open"},{"$f":"VLOOKUP(Table_NFI[[#This Row],[Camp Name]],Camp_List!N$5:AC$254,1,1)","v":"Set Yone Su"}]
[8.1,"2013-01-01","ABCD","ABCD","Rakhine","Sittwe","Set Yone Su",220,null,null,null,null,null,null,null,null,null,{"$f":"IF(NFI_Expiration=1,IF($A204<VLOOKUP(H$5,NFI,5,0),1,0)*Table_NFI[[#This Row],[Hygiene Kit]],0)","v":220},{"$f":"IF(NFI_Expiration=1,IF($A204<VLOOKUP(I$5,NFI,5,0),1,0)*Table_NFI[[#This Row],[NFI Core Kit]],0)","v":0},{"$f":"IF(NFI_Expiration=1,IF($A204<VLOOKUP(J$5,NFI,5,0),1,0)*Table_NFI[[#This Row],[Sanitary Kit]],0)","v":0},{"$f":"IF(NFI_Expiration=1,IF($A204<VLOOKUP(K$5,NFI,5,0),1,0)*Table_NFI[[#This Row],[Mosquito net]],0)","v":0},{"$f":"IF(NFI_Expiration=1,IF($A204<VLOOKUP(L$5,NFI,5,0),1,0)*Table_NFI[[#This Row],[Tarpaulin]],0)","v":0},{"$f":"IF(NFI_Expiration=1,IF($A204<VLOOKUP(M$5,NFI,5,0),1,0)*Table_NFI[[#This Row],[Blanket]],0)","v":0},{"$f":"IF(NFI_Expiration=1,IF($A204<VLOOKUP(N$5,NFI,5,0),1,0)*Table_NFI[[#This Row],[Kitchen Set]],0)","v":0},{"$f":"IF(NFI_Expiration=1,IF($A204<VLOOKUP(O$5,NFI,5,0),1,0)*Table_NFI[[#This Row],[Complementary Kit]],0)","v":0},{"$f":"IF(NFI_Expiration=1,IF($A204<VLOOKUP(P$5,NFI,5,0),1,0)*Table_NFI[[#This Row],[Plastic Bucket]],0)","v":0},{"$f":"IF(NFI_Expiration=1,IF($A204<VLOOKUP(Q$5,NFI,5,0),1,0)*Table_NFI[[#This Row],[Plastic Mat]],0)","v":0},{"$f":"VLOOKUP(Table_NFI[[#This Row],[Camp Name]],Camp_List!N$5:AA$254,2,0)","v":"MMR012CMP056"},{"$f":"VLOOKUP(Table_NFI[[#This Row],[Camp Name]],Camp_List!N$5:AA$254,14,0)","v":"Open"},{"$f":"VLOOKUP(Table_NFI[[#This Row],[Camp Name]],Camp_List!N$5:AC$254,1,1)","v":"Set Yone Su"}]
[8.1,"2013-01-01","Solidarites International","Solidarities International","Rakhine","Sittwe","Set Yone Su",220,null,null,null,null,null,null,null,null,null,{"$f":"IF(NFI_Expiration=1,IF($A205<VLOOKUP(H$5,NFI,5,0),1,0)*Table_NFI[[#This Row],[Hygiene Kit]],0)","v":220},{"$f":"IF(NFI_Expiration=1,IF($A205<VLOOKUP(I$5,NFI,5,0),1,0)*Table_NFI[[#This Row],[NFI Core Kit]],0)","v":0},{"$f":"IF(NFI_Expiration=1,IF($A205<VLOOKUP(J$5,NFI,5,0),1,0)*Table_NFI[[#This Row],[Sanitary Kit]],0)","v":0},{"$f":"IF(NFI_Expiration=1,IF($A205<VLOOKUP(K$5,NFI,5,0),1,0)*Table_NFI[[#This Row],[Mosquito net]],0)","v":0},{"$f":"IF(NFI_Expiration=1,IF($A205<VLOOKUP(L$5,NFI,5,0),1,0)*Table_NFI[[#This Row],[Tarpaulin]],0)","v":0},{"$f":"IF(NFI_Expiration=1,IF($A205<VLOOKUP(M$5,NFI,5,0),1,0)*Table_NFI[[#This Row],[Blanket]],0)","v":0},{"$f":"IF(NFI_Expiration=1,IF($A205<VLOOKUP(N$5,NFI,5,0),1,0)*Table_NFI[[#This Row],[Kitchen Set]],0)","v":0},{"$f":"IF(NFI_Expiration=1,IF($A205<VLOOKUP(O$5,NFI,5,0),1,0)*Table_NFI[[#This Row],[Complementary Kit]],0)","v":0},{"$f":"IF(NFI_Expiration=1,IF($A205<VLOOKUP(P$5,NFI,5,0),1,0)*Table_NFI[[#This Row],[Plastic Bucket]],0)","v":0},{"$f":"IF(NFI_Expiration=1,IF($A205<VLOOKUP(Q$5,NFI,5,0),1,0)*Table_NFI[[#This Row],[Plastic Mat]],0)","v":0},{"$f":"VLOOKUP(Table_NFI[[#This Row],[Camp Name]],Camp_List!N$5:AA$254,2,0)","v":"MMR012CMP056"},{"$f":"VLOOKUP(Table_NFI[[#This Row],[Camp Name]],Camp_List!N$5:AA$254,14,0)","v":"Open"},{"$f":"VLOOKUP(Table_NFI[[#This Row],[Camp Name]],Camp_List!N$5:AC$254,1,1)","v":"Set Yone Su"}]
[6.2,"2013-02-27","Muslim Aid",null,"Rakhine","Sittwe","Set Yone Su",0,null,null,null,null,null,null,null,null,null,{"$f":"IF(NFI_Expiration=1,IF($A206<VLOOKUP(H$5,NFI,5,0),1,0)*Table_NFI[[#This Row],[Hygiene Kit]],0)","v":0},{"$f":"IF(NFI_Expiration=1,IF($A206<VLOOKUP(I$5,NFI,5,0),1,0)*Table_NFI[[#This Row],[NFI Core Kit]],0)","v":0},{"$f":"IF(NFI_Expiration=1,IF($A206<VLOOKUP(J$5,NFI,5,0),1,0)*Table_NFI[[#This Row],[Sanitary Kit]],0)","v":0},{"$f":"IF(NFI_Expiration=1,IF($A206<VLOOKUP(K$5,NFI,5,0),1,0)*Table_NFI[[#This Row],[Mosquito net]],0)","v":0},{"$f":"IF(NFI_Expiration=1,IF($A206<VLOOKUP(L$5,NFI,5,0),1,0)*Table_NFI[[#This Row],[Tarpaulin]],0)","v":0},{"$f":"IF(NFI_Expiration=1,IF($A206<VLOOKUP(M$5,NFI,5,0),1,0)*Table_NFI[[#This Row],[Blanket]],0)","v":0},{"$f":"IF(NFI_Expiration=1,IF($A206<VLOOKUP(N$5,NFI,5,0),1,0)*Table_NFI[[#This Row],[Kitchen Set]],0)","v":0},{"$f":"IF(NFI_Expiration=1,IF($A206<VLOOKUP(O$5,NFI,5,0),1,0)*Table_NFI[[#This Row],[Complementary Kit]],0)","v":0},{"$f":"IF(NFI_Expiration=1,IF($A206<VLOOKUP(P$5,NFI,5,0),1,0)*Table_NFI[[#This Row],[Plastic Bucket]],0)","v":0},{"$f":"IF(NFI_Expiration=1,IF($A206<VLOOKUP(Q$5,NFI,5,0),1,0)*Table_NFI[[#This Row],[Plastic Mat]],0)","v":0},{"$f":"VLOOKUP(Table_NFI[[#This Row],[Camp Name]],Camp_List!N$5:AA$254,2,0)","v":"MMR012CMP056"},{"$f":"VLOOKUP(Table_NFI[[#This Row],[Camp Name]],Camp_List!N$5:AA$254,14,0)","v":"Open"},{"$f":"VLOOKUP(Table_NFI[[#This Row],[Camp Name]],Camp_List!N$5:AC$254,1,1)","v":"Set Yone Su"}]
[6.2,"2013-02-27","Muslim Aid",null,"Rakhine","Sittwe","Set Yone Su",0,200,null,400,200,400,200,200,200,400,{"$f":"IF(NFI_Expiration=1,IF($A207<VLOOKUP(H$5,NFI,5,0),1,0)*Table_NFI[[#This Row],[Hygiene Kit]],0)","v":0},{"$f":"IF(NFI_Expiration=1,IF($A207<VLOOKUP(I$5,NFI,5,0),1,0)*Table_NFI[[#This Row],[NFI Core Kit]],0)","v":200},{"$f":"IF(NFI_Expiration=1,IF($A207<VLOOKUP(J$5,NFI,5,0),1,0)*Table_NFI[[#This Row],[Sanitary Kit]],0)","v":0},{"$f":"IF(NFI_Expiration=1,IF($A207<VLOOKUP(K$5,NFI,5,0),1,0)*Table_NFI[[#This Row],[Mosquito net]],0)","v":400},{"$f":"IF(NFI_Expiration=1,IF($A207<VLOOKUP(L$5,NFI,5,0),1,0)*Table_NFI[[#This Row],[Tarpaulin]],0)","v":200},{"$f":"IF(NFI_Expiration=1,IF($A207<VLOOKUP(M$5,NFI,5,0),1,0)*Table_NFI[[#This Row],[Blanket]],0)","v":400},{"$f":"IF(NFI_Expiration=1,IF($A207<VLOOKUP(N$5,NFI,5,0),1,0)*Table_NFI[[#This Row],[Kitchen Set]],0)","v":200},{"$f":"IF(NFI_Expiration=1,IF($A207<VLOOKUP(O$5,NFI,5,0),1,0)*Table_NFI[[#This Row],[Complementary Kit]],0)","v":200},{"$f":"IF(NFI_Expiration=1,IF($A207<VLOOKUP(P$5,NFI,5,0),1,0)*Table_NFI[[#This Row],[Plastic Bucket]],0)","v":200},{"$f":"IF(NFI_Expiration=1,IF($A207<VLOOKUP(Q$5,NFI,5,0),1,0)*Table_NFI[[#This Row],[Plastic Mat]],0)","v":400},{"$f":"VLOOKUP(Table_NFI[[#This Row],[Camp Name]],Camp_List!N$5:AA$254,2,0)","v":"MMR012CMP056"},{"$f":"VLOOKUP(Table_NFI[[#This Row],[Camp Name]],Camp_List!N$5:AA$254,14,0)","v":"Open"},{"$f":"VLOOKUP(Table_NFI[[#This Row],[Camp Name]],Camp_List!N$5:AC$254,1,1)","v":"Set Yone Su"}]
[14.3,"2012-06-29","UNHCR",null,"Rakhine","Sittwe","Dak Kaung Monastery",null,null,null,null,66,null,null,null,null,null,{"$f":"IF(NFI_Expiration=1,IF($A208<VLOOKUP(H$5,NFI,5,0),1,0)*Table_NFI[[#This Row],[Hygiene Kit]],0)","v":0},{"$f":"IF(NFI_Expiration=1,IF($A208<VLOOKUP(I$5,NFI,5,0),1,0)*Table_NFI[[#This Row],[NFI Core Kit]],0)","v":0},{"$f":"IF(NFI_Expiration=1,IF($A208<VLOOKUP(J$5,NFI,5,0),1,0)*Table_NFI[[#This Row],[Sanitary Kit]],0)","v":0},{"$f":"IF(NFI_Expiration=1,IF($A208<VLOOKUP(K$5,NFI,5,0),1,0)*Table_NFI[[#This Row],[Mosquito net]],0)","v":0},{"$f":"IF(NFI_Expiration=1,IF($A208<VLOOKUP(L$5,NFI,5,0),1,0)*Table_NFI[[#This Row],[Tarpaulin]],0)","v":0},{"$f":"IF(NFI_Expiration=1,IF($A208<VLOOKUP(M$5,NFI,5,0),1,0)*Table_NFI[[#This Row],[Blanket]],0)","v":0},{"$f":"IF(NFI_Expiration=1,IF($A208<VLOOKUP(N$5,NFI,5,0),1,0)*Table_NFI[[#This Row],[Kitchen Set]],0)","v":0},{"$f":"IF(NFI_Expiration=1,IF($A208<VLOOKUP(O$5,NFI,5,0),1,0)*Table_NFI[[#This Row],[Complementary Kit]],0)","v":0},{"$f":"IF(NFI_Expiration=1,IF($A208<VLOOKUP(P$5,NFI,5,0),1,0)*Table_NFI[[#This Row],[Plastic Bucket]],0)","v":0},{"$f":"IF(NFI_Expiration=1,IF($A208<VLOOKUP(Q$5,NFI,5,0),1,0)*Table_NFI[[#This Row],[Plastic Mat]],0)","v":0},{"$f":"VLOOKUP(Table_NFI[[#This Row],[Camp Name]],Camp_List!N$5:AA$254,2,0)","v":"MMR012CMP059"},{"$f":"VLOOKUP(Table_NFI[[#This Row],[Camp Name]],Camp_List!N$5:AA$254,14,0)","v":"Close"},{"$f":"VLOOKUP(Table_NFI[[#This Row],[Camp Name]],Camp_List!N$5:AC$254,1,1)","v":"Dak Kaung Monastery"}]
[14.1,"2012-07-05","UNHCR",null,"Rakhine","Sittwe","Gyit Chay Monastery",null,null,null,null,69,null,null,null,null,null,{"$f":"IF(NFI_Expiration=1,IF($A209<VLOOKUP(H$5,NFI,5,0),1,0)*Table_NFI[[#This Row],[Hygiene Kit]],0)","v":0},{"$f":"IF(NFI_Expiration=1,IF($A209<VLOOKUP(I$5,NFI,5,0),1,0)*Table_NFI[[#This Row],[NFI Core Kit]],0)","v":0},{"$f":"IF(NFI_Expiration=1,IF($A209<VLOOKUP(J$5,NFI,5,0),1,0)*Table_NFI[[#This Row],[Sanitary Kit]],0)","v":0},{"$f":"IF(NFI_Expiration=1,IF($A209<VLOOKUP(K$5,NFI,5,0),1,0)*Table_NFI[[#This Row],[Mosquito net]],0)","v":0},{"$f":"IF(NFI_Expiration=1,IF($A209<VLOOKUP(L$5,NFI,5,0),1,0)*Table_NFI[[#This Row],[Tarpaulin]],0)","v":0},{"$f":"IF(NFI_Expiration=1,IF($A209<VLOOKUP(M$5,NFI,5,0),1,0)*Table_NFI[[#This Row],[Blanket]],0)","v":0},{"$f":"IF(NFI_Expiration=1,IF($A209<VLOOKUP(N$5,NFI,5,0),1,0)*Table_NFI[[#This Row],[Kitchen Set]],0)","v":0},{"$f":"IF(NFI_Expiration=1,IF($A209<VLOOKUP(O$5,NFI,5,0),1,0)*Table_NFI[[#This Row],[Complementary Kit]],0)","v":0},{"$f":"IF(NFI_Expiration=1,IF($A209<VLOOKUP(P$5,NFI,5,0),1,0)*Table_NFI[[#This Row],[Plastic Bucket]],0)","v":0},{"$f":"IF(NFI_Expiration=1,IF($A209<VLOOKUP(Q$5,NFI,5,0),1,0)*Table_NFI[[#This Row],[Plastic Mat]],0)","v":0},{"$f":"VLOOKUP(Table_NFI[[#This Row],[Camp Name]],Camp_List!N$5:AA$254,2,0)","v":"MMR012CMP061"},{"$f":"VLOOKUP(Table_NFI[[#This Row],[Camp Name]],Camp_List!N$5:AA$254,14,0)","v":"Close"},{"$f":"VLOOKUP(Table_NFI[[#This Row],[Camp Name]],Camp_List!N$5:AC$254,1,1)","v":"Gyit Chay Monastery"}]
[14.033333333333333,"2012-07-07","UNHCR",null,"Rakhine","Sittwe","Layaungwin Monastery",null,null,null,null,9,null,null,null,null,null,{"$f":"IF(NFI_Expiration=1,IF($A210<VLOOKUP(H$5,NFI,5,0),1,0)*Table_NFI[[#This Row],[Hygiene Kit]],0)","v":0},{"$f":"IF(NFI_Expiration=1,IF($A210<VLOOKUP(I$5,NFI,5,0),1,0)*Table_NFI[[#This Row],[NFI Core Kit]],0)","v":0},{"$f":"IF(NFI_Expiration=1,IF($A210<VLOOKUP(J$5,NFI,5,0),1,0)*Table_NFI[[#This Row],[Sanitary Kit]],0)","v":0},{"$f":"IF(NFI_Expiration=1,IF($A210<VLOOKUP(K$5,NFI,5,0),1,0)*Table_NFI[[#This Row],[Mosquito net]],0)","v":0},{"$f":"IF(NFI_Expiration=1,IF($A210<VLOOKUP(L$5,NFI,5,0),1,0)*Table_NFI[[#This Row],[Tarpaulin]],0)","v":0},{"$f":"IF(NFI_Expiration=1,IF($A210<VLOOKUP(M$5,NFI,5,0),1,0)*Table_NFI[[#This Row],[Blanket]],0)","v":0},{"$f":"IF(NFI_Expiration=1,IF($A210<VLOOKUP(N$5,NFI,5,0),1,0)*Table_NFI[[#This Row],[Kitchen Set]],0)","v":0},{"$f":"IF(NFI_Expiration=1,IF($A210<VLOOKUP(O$5,NFI,5,0),1,0)*Table_NFI[[#This Row],[Complementary Kit]],0)","v":0},{"$f":"IF(NFI_Expiration=1,IF($A210<VLOOKUP(P$5,NFI,5,0),1,0)*Table_NFI[[#This Row],[Plastic Bucket]],0)","v":0},{"$f":"IF(NFI_Expiration=1,IF($A210<VLOOKUP(Q$5,NFI,5,0),1,0)*Table_NFI[[#This Row],[Plastic Mat]],0)","v":0},{"$f":"VLOOKUP(Table_NFI[[#This Row],[Camp Name]],Camp_List!N$5:AA$254,2,0)","v":"MMR012CMP062"},{"$f":"VLOOKUP(Table_NFI[[#This Row],[Camp Name]],Camp_List!N$5:AA$254,14,0)","v":"Close"},{"$f":"VLOOKUP(Table_NFI[[#This Row],[Camp Name]],Camp_List!N$5:AC$254,1,1)","v":"Layaungwin Monastery"}]
[14.3,"2012-06-29","UNHCR",null,"Rakhine","Sittwe","Myo Ma Monastery",null,null,null,null,66,null,null,null,null,null,{"$f":"IF(NFI_Expiration=1,IF($A211<VLOOKUP(H$5,NFI,5,0),1,0)*Table_NFI[[#This Row],[Hygiene Kit]],0)","v":0},{"$f":"IF(NFI_Expiration=1,IF($A211<VLOOKUP(I$5,NFI,5,0),1,0)*Table_NFI[[#This Row],[NFI Core Kit]],0)","v":0},{"$f":"IF(NFI_Expiration=1,IF($A211<VLOOKUP(J$5,NFI,5,0),1,0)*Table_NFI[[#This Row],[Sanitary Kit]],0)","v":0},{"$f":"IF(NFI_Expiration=1,IF($A211<VLOOKUP(K$5,NFI,5,0),1,0)*Table_NFI[[#This Row],[Mosquito net]],0)","v":0},{"$f":"IF(NFI_Expiration=1,IF($A211<VLOOKUP(L$5,NFI,5,0),1,0)*Table_NFI[[#This Row],[Tarpaulin]],0)","v":0},{"$f":"IF(NFI_Expiration=1,IF($A211<VLOOKUP(M$5,NFI,5,0),1,0)*Table_NFI[[#This Row],[Blanket]],0)","v":0},{"$f":"IF(NFI_Expiration=1,IF($A211<VLOOKUP(N$5,NFI,5,0),1,0)*Table_NFI[[#This Row],[Kitchen Set]],0)","v":0},{"$f":"IF(NFI_Expiration=1,IF($A211<VLOOKUP(O$5,NFI,5,0),1,0)*Table_NFI[[#This Row],[Complementary Kit]],0)","v":0},{"$f":"IF(NFI_Expiration=1,IF($A211<VLOOKUP(P$5,NFI,5,0),1,0)*Table_NFI[[#This Row],[Plastic Bucket]],0)","v":0},{"$f":"IF(NFI_Expiration=1,IF($A211<VLOOKUP(Q$5,NFI,5,0),1,0)*Table_NFI[[#This Row],[Plastic Mat]],0)","v":0},{"$f":"VLOOKUP(Table_NFI[[#This Row],[Camp Name]],Camp_List!N$5:AA$254,2,0)","v":"MMR012CMP063"},{"$f":"VLOOKUP(Table_NFI[[#This Row],[Camp Name]],Camp_List!N$5:AA$254,14,0)","v":"Close"},{"$f":"VLOOKUP(Table_NFI[[#This Row],[Camp Name]],Camp_List!N$5:AC$254,1,1)","v":"Myo Ma Monastery"}]
[14.266666666666667,"2012-06-30","UNHCR",null,"Rakhine","Sittwe","Pyin Nyar Mandine Monastery",null,null,null,null,9,null,null,null,null,null,{"$f":"IF(NFI_Expiration=1,IF($A212<VLOOKUP(H$5,NFI,5,0),1,0)*Table_NFI[[#This Row],[Hygiene Kit]],0)","v":0},{"$f":"IF(NFI_Expiration=1,IF($A212<VLOOKUP(I$5,NFI,5,0),1,0)*Table_NFI[[#This Row],[NFI Core Kit]],0)","v":0},{"$f":"IF(NFI_Expiration=1,IF($A212<VLOOKUP(J$5,NFI,5,0),1,0)*Table_NFI[[#This Row],[Sanitary Kit]],0)","v":0},{"$f":"IF(NFI_Expiration=1,IF($A212<VLOOKUP(K$5,NFI,5,0),1,0)*Table_NFI[[#This Row],[Mosquito net]],0)","v":0},{"$f":"IF(NFI_Expiration=1,IF($A212<VLOOKUP(L$5,NFI,5,0),1,0)*Table_NFI[[#This Row],[Tarpaulin]],0)","v":0},{"$f":"IF(NFI_Expiration=1,IF($A212<VLOOKUP(M$5,NFI,5,0),1,0)*Table_NFI[[#This Row],[Blanket]],0)","v":0},{"$f":"IF(NFI_Expiration=1,IF($A212<VLOOKUP(N$5,NFI,5,0),1,0)*Table_NFI[[#This Row],[Kitchen Set]],0)","v":0},{"$f":"IF(NFI_Expiration=1,IF($A212<VLOOKUP(O$5,NFI,5,0),1,0)*Table_NFI[[#This Row],[Complementary Kit]],0)","v":0},{"$f":"IF(NFI_Expiration=1,IF($A212<VLOOKUP(P$5,NFI,5,0),1,0)*Table_NFI[[#This Row],[Plastic Bucket]],0)","v":0},{"$f":"IF(NFI_Expiration=1,IF($A212<VLOOKUP(Q$5,NFI,5,0),1,0)*Table_NFI[[#This Row],[Plastic Mat]],0)","v":0},{"$f":"VLOOKUP(Table_NFI[[#This Row],[Camp Name]],Camp_List!N$5:AA$254,2,0)","v":"MMR012CMP064"},{"$f":"VLOOKUP(Table_NFI[[#This Row],[Camp Name]],Camp_List!N$5:AA$254,14,0)","v":"Close"},{"$f":"VLOOKUP(Table_NFI[[#This Row],[Camp Name]],Camp_List!N$5:AC$254,1,1)","v":"Pyin Nyar Mandine Monastery"}]
[14.033333333333333,"2012-07-07","UNHCR",null,"Rakhine","Sittwe","Shwe Zay Ti Monastery",null,null,null,null,201,null,null,null,null,null,{"$f":"IF(NFI_Expiration=1,IF($A213<VLOOKUP(H$5,NFI,5,0),1,0)*Table_NFI[[#This Row],[Hygiene Kit]],0)","v":0},{"$f":"IF(NFI_Expiration=1,IF($A213<VLOOKUP(I$5,NFI,5,0),1,0)*Table_NFI[[#This Row],[NFI Core Kit]],0)","v":0},{"$f":"IF(NFI_Expiration=1,IF($A213<VLOOKUP(J$5,NFI,5,0),1,0)*Table_NFI[[#This Row],[Sanitary Kit]],0)","v":0},{"$f":"IF(NFI_Expiration=1,IF($A213<VLOOKUP(K$5,NFI,5,0),1,0)*Table_NFI[[#This Row],[Mosquito net]],0)","v":0},{"$f":"IF(NFI_Expiration=1,IF($A213<VLOOKUP(L$5,NFI,5,0),1,0)*Table_NFI[[#This Row],[Tarpaulin]],0)","v":0},{"$f":"IF(NFI_Expiration=1,IF($A213<VLOOKUP(M$5,NFI,5,0),1,0)*Table_NFI[[#This Row],[Blanket]],0)","v":0},{"$f":"IF(NFI_Expiration=1,IF($A213<VLOOKUP(N$5,NFI,5,0),1,0)*Table_NFI[[#This Row],[Kitchen Set]],0)","v":0},{"$f":"IF(NFI_Expiration=1,IF($A213<VLOOKUP(O$5,NFI,5,0),1,0)*Table_NFI[[#This Row],[Complementary Kit]],0)","v":0},{"$f":"IF(NFI_Expiration=1,IF($A213<VLOOKUP(P$5,NFI,5,0),1,0)*Table_NFI[[#This Row],[Plastic Bucket]],0)","v":0},{"$f":"IF(NFI_Expiration=1,IF($A213<VLOOKUP(Q$5,NFI,5,0),1,0)*Table_NFI[[#This Row],[Plastic Mat]],0)","v":0},{"$f":"VLOOKUP(Table_NFI[[#This Row],[Camp Name]],Camp_List!N$5:AA$254,2,0)","v":"MMR012CMP065"},{"$f":"VLOOKUP(Table_NFI[[#This Row],[Camp Name]],Camp_List!N$5:AA$254,14,0)","v":"Close"},{"$f":"VLOOKUP(Table_NFI[[#This Row],[Camp Name]],Camp_List!N$5:AC$254,1,1)","v":"Shwe Zay Ti Monastery"}]
[14.1,"2012-07-05","UNHCR",null,"Rakhine","Sittwe","Su Taung Pyae Monastery",null,null,null,null,280,null,null,null,null,null,{"$f":"IF(NFI_Expiration=1,IF($A214<VLOOKUP(H$5,NFI,5,0),1,0)*Table_NFI[[#This Row],[Hygiene Kit]],0)","v":0},{"$f":"IF(NFI_Expiration=1,IF($A214<VLOOKUP(I$5,NFI,5,0),1,0)*Table_NFI[[#This Row],[NFI Core Kit]],0)","v":0},{"$f":"IF(NFI_Expiration=1,IF($A214<VLOOKUP(J$5,NFI,5,0),1,0)*Table_NFI[[#This Row],[Sanitary Kit]],0)","v":0},{"$f":"IF(NFI_Expiration=1,IF($A214<VLOOKUP(K$5,NFI,5,0),1,0)*Table_NFI[[#This Row],[Mosquito net]],0)","v":0},{"$f":"IF(NFI_Expiration=1,IF($A214<VLOOKUP(L$5,NFI,5,0),1,0)*Table_NFI[[#This Row],[Tarpaulin]],0)","v":0},{"$f":"IF(NFI_Expiration=1,IF($A214<VLOOKUP(M$5,NFI,5,0),1,0)*Table_NFI[[#This Row],[Blanket]],0)","v":0},{"$f":"IF(NFI_Expiration=1,IF($A214<VLOOKUP(N$5,NFI,5,0),1,0)*Table_NFI[[#This Row],[Kitchen Set]],0)","v":0},{"$f":"IF(NFI_Expiration=1,IF($A214<VLOOKUP(O$5,NFI,5,0),1,0)*Table_NFI[[#This Row],[Complementary Kit]],0)","v":0},{"$f":"IF(NFI_Expiration=1,IF($A214<VLOOKUP(P$5,NFI,5,0),1,0)*Table_NFI[[#This Row],[Plastic Bucket]],0)","v":0},{"$f":"IF(NFI_Expiration=1,IF($A214<VLOOKUP(Q$5,NFI,5,0),1,0)*Table_NFI[[#This Row],[Plastic Mat]],0)","v":0},{"$f":"VLOOKUP(Table_NFI[[#This Row],[Camp Name]],Camp_List!N$5:AA$254,2,0)","v":"MMR012CMP066"},{"$f":"VLOOKUP(Table_NFI[[#This Row],[Camp Name]],Camp_List!N$5:AA$254,14,0)","v":"Close"},{"$f":"VLOOKUP(Table_NFI[[#This Row],[Camp Name]],Camp_List!N$5:AC$254,1,1)","v":"Su Taung Pyae Monastery"}]
[13.966666666666667,"2012-07-09","UNHCR",null,"Rakhine","Sittwe","Theit Di Kar Yone Monastery",null,null,null,null,27,null,null,null,null,null,{"$f":"IF(NFI_Expiration=1,IF($A215<VLOOKUP(H$5,NFI,5,0),1,0)*Table_NFI[[#This Row],[Hygiene Kit]],0)","v":0},{"$f":"IF(NFI_Expiration=1,IF($A215<VLOOKUP(I$5,NFI,5,0),1,0)*Table_NFI[[#This Row],[NFI Core Kit]],0)","v":0},{"$f":"IF(NFI_Expiration=1,IF($A215<VLOOKUP(J$5,NFI,5,0),1,0)*Table_NFI[[#This Row],[Sanitary Kit]],0)","v":0},{"$f":"IF(NFI_Expiration=1,IF($A215<VLOOKUP(K$5,NFI,5,0),1,0)*Table_NFI[[#This Row],[Mosquito net]],0)","v":0},{"$f":"IF(NFI_Expiration=1,IF($A215<VLOOKUP(L$5,NFI,5,0),1,0)*Table_NFI[[#This Row],[Tarpaulin]],0)","v":0},{"$f":"IF(NFI_Expiration=1,IF($A215<VLOOKUP(M$5,NFI,5,0),1,0)*Table_NFI[[#This Row],[Blanket]],0)","v":0},{"$f":"IF(NFI_Expiration=1,IF($A215<VLOOKUP(N$5,NFI,5,0),1,0)*Table_NFI[[#This Row],[Kitchen Set]],0)","v":0},{"$f":"IF(NFI_Expiration=1,IF($A215<VLOOKUP(O$5,NFI,5,0),1,0)*Table_NFI[[#This Row],[Complementary Kit]],0)","v":0},{"$f":"IF(NFI_Expiration=1,IF($A215<VLOOKUP(P$5,NFI,5,0),1,0)*Table_NFI[[#This Row],[Plastic Bucket]],0)","v":0},{"$f":"IF(NFI_Expiration=1,IF($A215<VLOOKUP(Q$5,NFI,5,0),1,0)*Table_NFI[[#This Row],[Plastic Mat]],0)","v":0},{"$f":"VLOOKUP(Table_NFI[[#This Row],[Camp Name]],Camp_List!N$5:AA$254,2,0)","v":"MMR012CMP067"},{"$f":"VLOOKUP(Table_NFI[[#This Row],[Camp Name]],Camp_List!N$5:AA$254,14,0)","v":"Close"},{"$f":"VLOOKUP(Table_NFI[[#This Row],[Camp Name]],Camp_List!N$5:AC$254,1,1)","v":"Theit Di Kar Yone Monastery"}]
[14.3,"2012-06-29","UNHCR",null,"Rakhine","Sittwe","Sin Ku Lann Monastery",null,null,null,null,62,null,null,null,null,null,{"$f":"IF(NFI_Expiration=1,IF($A216<VLOOKUP(H$5,NFI,5,0),1,0)*Table_NFI[[#This Row],[Hygiene Kit]],0)","v":0},{"$f":"IF(NFI_Expiration=1,IF($A216<VLOOKUP(I$5,NFI,5,0),1,0)*Table_NFI[[#This Row],[NFI Core Kit]],0)","v":0},{"$f":"IF(NFI_Expiration=1,IF($A216<VLOOKUP(J$5,NFI,5,0),1,0)*Table_NFI[[#This Row],[Sanitary Kit]],0)","v":0},{"$f":"IF(NFI_Expiration=1,IF($A216<VLOOKUP(K$5,NFI,5,0),1,0)*Table_NFI[[#This Row],[Mosquito net]],0)","v":0},{"$f":"IF(NFI_Expiration=1,IF($A216<VLOOKUP(L$5,NFI,5,0),1,0)*Table_NFI[[#This Row],[Tarpaulin]],0)","v":0},{"$f":"IF(NFI_Expiration=1,IF($A216<VLOOKUP(M$5,NFI,5,0),1,0)*Table_NFI[[#This Row],[Blanket]],0)","v":0},{"$f":"IF(NFI_Expiration=1,IF($A216<VLOOKUP(N$5,NFI,5,0),1,0)*Table_NFI[[#This Row],[Kitchen Set]],0)","v":0},{"$f":"IF(NFI_Expiration=1,IF($A216<VLOOKUP(O$5,NFI,5,0),1,0)*Table_NFI[[#This Row],[Complementary Kit]],0)","v":0},{"$f":"IF(NFI_Expiration=1,IF($A216<VLOOKUP(P$5,NFI,5,0),1,0)*Table_NFI[[#This Row],[Plastic Bucket]],0)","v":0},{"$f":"IF(NFI_Expiration=1,IF($A216<VLOOKUP(Q$5,NFI,5,0),1,0)*Table_NFI[[#This Row],[Plastic Mat]],0)","v":0},{"$f":"VLOOKUP(Table_NFI[[#This Row],[Camp Name]],Camp_List!N$5:AA$254,2,0)","v":"MMR012CMP068"},{"$f":"VLOOKUP(Table_NFI[[#This Row],[Camp Name]],Camp_List!N$5:AA$254,14,0)","v":"Close"},{"$f":"VLOOKUP(Table_NFI[[#This Row],[Camp Name]],Camp_List!N$5:AC$254,1,1)","v":"Sin Ku Lann Monastery"}]
[14.1,"2012-07-05","UNHCR",null,"Rakhine","Sittwe","Ar Thaw Ka Yone Monastery",null,null,null,null,43,null,null,null,null,null,{"$f":"IF(NFI_Expiration=1,IF($A217<VLOOKUP(H$5,NFI,5,0),1,0)*Table_NFI[[#This Row],[Hygiene Kit]],0)","v":0},{"$f":"IF(NFI_Expiration=1,IF($A217<VLOOKUP(I$5,NFI,5,0),1,0)*Table_NFI[[#This Row],[NFI Core Kit]],0)","v":0},{"$f":"IF(NFI_Expiration=1,IF($A217<VLOOKUP(J$5,NFI,5,0),1,0)*Table_NFI[[#This Row],[Sanitary Kit]],0)","v":0},{"$f":"IF(NFI_Expiration=1,IF($A217<VLOOKUP(K$5,NFI,5,0),1,0)*Table_NFI[[#This Row],[Mosquito net]],0)","v":0},{"$f":"IF(NFI_Expiration=1,IF($A217<VLOOKUP(L$5,NFI,5,0),1,0)*Table_NFI[[#This Row],[Tarpaulin]],0)","v":0},{"$f":"IF(NFI_Expiration=1,IF($A217<VLOOKUP(M$5,NFI,5,0),1,0)*Table_NFI[[#This Row],[Blanket]],0)","v":0},{"$f":"IF(NFI_Expiration=1,IF($A217<VLOOKUP(N$5,NFI,5,0),1,0)*Table_NFI[[#This Row],[Kitchen Set]],0)","v":0},{"$f":"IF(NFI_Expiration=1,IF($A217<VLOOKUP(O$5,NFI,5,0),1,0)*Table_NFI[[#This Row],[Complementary Kit]],0)","v":0},{"$f":"IF(NFI_Expiration=1,IF($A217<VLOOKUP(P$5,NFI,5,0),1,0)*Table_NFI[[#This Row],[Plastic Bucket]],0)","v":0},{"$f":"IF(NFI_Expiration=1,IF($A217<VLOOKUP(Q$5,NFI,5,0),1,0)*Table_NFI[[#This Row],[Plastic Mat]],0)","v":0},{"$f":"VLOOKUP(Table_NFI[[#This Row],[Camp Name]],Camp_List!N$5:AA$254,2,0)","v":"MMR012CMP069"},{"$f":"VLOOKUP(Table_NFI[[#This Row],[Camp Name]],Camp_List!N$5:AA$254,14,0)","v":"Close"},{"$f":"VLOOKUP(Table_NFI[[#This Row],[Camp Name]],Camp_List!N$5:AC$254,1,1)","v":"Ar Thaw Ka Yone Monastery"}]
[14.366666666666667,"2012-06-27","UNHCR",null,"Rakhine","Sittwe","Ma Ni Yadanar Monastery",null,null,null,null,120,null,null,null,null,null,{"$f":"IF(NFI_Expiration=1,IF($A218<VLOOKUP(H$5,NFI,5,0),1,0)*Table_NFI[[#This Row],[Hygiene Kit]],0)","v":0},{"$f":"IF(NFI_Expiration=1,IF($A218<VLOOKUP(I$5,NFI,5,0),1,0)*Table_NFI[[#This Row],[NFI Core Kit]],0)","v":0},{"$f":"IF(NFI_Expiration=1,IF($A218<VLOOKUP(J$5,NFI,5,0),1,0)*Table_NFI[[#This Row],[Sanitary Kit]],0)","v":0},{"$f":"IF(NFI_Expiration=1,IF($A218<VLOOKUP(K$5,NFI,5,0),1,0)*Table_NFI[[#This Row],[Mosquito net]],0)","v":0},{"$f":"IF(NFI_Expiration=1,IF($A218<VLOOKUP(L$5,NFI,5,0),1,0)*Table_NFI[[#This Row],[Tarpaulin]],0)","v":0},{"$f":"IF(NFI_Expiration=1,IF($A218<VLOOKUP(M$5,NFI,5,0),1,0)*Table_NFI[[#This Row],[Blanket]],0)","v":0},{"$f":"IF(NFI_Expiration=1,IF($A218<VLOOKUP(N$5,NFI,5,0),1,0)*Table_NFI[[#This Row],[Kitchen Set]],0)","v":0},{"$f":"IF(NFI_Expiration=1,IF($A218<VLOOKUP(O$5,NFI,5,0),1,0)*Table_NFI[[#This Row],[Complementary Kit]],0)","v":0},{"$f":"IF(NFI_Expiration=1,IF($A218<VLOOKUP(P$5,NFI,5,0),1,0)*Table_NFI[[#This Row],[Plastic Bucket]],0)","v":0},{"$f":"IF(NFI_Expiration=1,IF($A218<VLOOKUP(Q$5,NFI,5,0),1,0)*Table_NFI[[#This Row],[Plastic Mat]],0)","v":0},{"$f":"VLOOKUP(Table_NFI[[#This Row],[Camp Name]],Camp_List!N$5:AA$254,2,0)","v":"MMR012CMP072"},{"$f":"VLOOKUP(Table_NFI[[#This Row],[Camp Name]],Camp_List!N$5:AA$254,14,0)","v":"Close"},{"$f":"VLOOKUP(Table_NFI[[#This Row],[Camp Name]],Camp_List!N$5:AC$254,1,1)","v":"Ma Ni Yadanar Monastery"}]
[14.1,"2012-07-05","UNHCR",null,"Rakhine","Sittwe","Gyit Bak Monastery",null,null,null,null,36,null,null,null,null,null,{"$f":"IF(NFI_Expiration=1,IF($A219<VLOOKUP(H$5,NFI,5,0),1,0)*Table_NFI[[#This Row],[Hygiene Kit]],0)","v":0},{"$f":"IF(NFI_Expiration=1,IF($A219<VLOOKUP(I$5,NFI,5,0),1,0)*Table_NFI[[#This Row],[NFI Core Kit]],0)","v":0},{"$f":"IF(NFI_Expiration=1,IF($A219<VLOOKUP(J$5,NFI,5,0),1,0)*Table_NFI[[#This Row],[Sanitary Kit]],0)","v":0},{"$f":"IF(NFI_Expiration=1,IF($A219<VLOOKUP(K$5,NFI,5,0),1,0)*Table_NFI[[#This Row],[Mosquito net]],0)","v":0},{"$f":"IF(NFI_Expiration=1,IF($A219<VLOOKUP(L$5,NFI,5,0),1,0)*Table_NFI[[#This Row],[Tarpaulin]],0)","v":0},{"$f":"IF(NFI_Expiration=1,IF($A219<VLOOKUP(M$5,NFI,5,0),1,0)*Table_NFI[[#This Row],[Blanket]],0)","v":0},{"$f":"IF(NFI_Expiration=1,IF($A219<VLOOKUP(N$5,NFI,5,0),1,0)*Table_NFI[[#This Row],[Kitchen Set]],0)","v":0},{"$f":"IF(NFI_Expiration=1,IF($A219<VLOOKUP(O$5,NFI,5,0),1,0)*Table_NFI[[#This Row],[Complementary Kit]],0)","v":0},{"$f":"IF(NFI_Expiration=1,IF($A219<VLOOKUP(P$5,NFI,5,0),1,0)*Table_NFI[[#This Row],[Plastic Bucket]],0)","v":0},{"$f":"IF(NFI_Expiration=1,IF($A219<VLOOKUP(Q$5,NFI,5,0),1,0)*Table_NFI[[#This Row],[Plastic Mat]],0)","v":0},{"$f":"VLOOKUP(Table_NFI[[#This Row],[Camp Name]],Camp_List!N$5:AA$254,2,0)","v":"MMR012CMP073"},{"$f":"VLOOKUP(Table_NFI[[#This Row],[Camp Name]],Camp_List!N$5:AA$254,14,0)","v":"Close"},{"$f":"VLOOKUP(Table_NFI[[#This Row],[Camp Name]],Camp_List!N$5:AC$254,1,1)","v":"Gyit Bak Monastery"}]
[14.033333333333333,"2012-07-07","UNHCR",null,"Rakhine","Sittwe","Ya Tayar Monastery",null,null,null,null,52,null,null,null,null,null,{"$f":"IF(NFI_Expiration=1,IF($A220<VLOOKUP(H$5,NFI,5,0),1,0)*Table_NFI[[#This Row],[Hygiene Kit]],0)","v":0},{"$f":"IF(NFI_Expiration=1,IF($A220<VLOOKUP(I$5,NFI,5,0),1,0)*Table_NFI[[#This Row],[NFI Core Kit]],0)","v":0},{"$f":"IF(NFI_Expiration=1,IF($A220<VLOOKUP(J$5,NFI,5,0),1,0)*Table_NFI[[#This Row],[Sanitary Kit]],0)","v":0},{"$f":"IF(NFI_Expiration=1,IF($A220<VLOOKUP(K$5,NFI,5,0),1,0)*Table_NFI[[#This Row],[Mosquito net]],0)","v":0},{"$f":"IF(NFI_Expiration=1,IF($A220<VLOOKUP(L$5,NFI,5,0),1,0)*Table_NFI[[#This Row],[Tarpaulin]],0)","v":0},{"$f":"IF(NFI_Expiration=1,IF($A220<VLOOKUP(M$5,NFI,5,0),1,0)*Table_NFI[[#This Row],[Blanket]],0)","v":0},{"$f":"IF(NFI_Expiration=1,IF($A220<VLOOKUP(N$5,NFI,5,0),1,0)*Table_NFI[[#This Row],[Kitchen Set]],0)","v":0},{"$f":"IF(NFI_Expiration=1,IF($A220<VLOOKUP(O$5,NFI,5,0),1,0)*Table_NFI[[#This Row],[Complementary Kit]],0)","v":0},{"$f":"IF(NFI_Expiration=1,IF($A220<VLOOKUP(P$5,NFI,5,0),1,0)*Table_NFI[[#This Row],[Plastic Bucket]],0)","v":0},{"$f":"IF(NFI_Expiration=1,IF($A220<VLOOKUP(Q$5,NFI,5,0),1,0)*Table_NFI[[#This Row],[Plastic Mat]],0)","v":0},{"$f":"VLOOKUP(Table_NFI[[#This Row],[Camp Name]],Camp_List!N$5:AA$254,2,0)","v":"MMR012CMP074"},{"$f":"VLOOKUP(Table_NFI[[#This Row],[Camp Name]],Camp_List!N$5:AA$254,14,0)","v":"Close"},{"$f":"VLOOKUP(Table_NFI[[#This Row],[Camp Name]],Camp_List!N$5:AC$254,1,1)","v":"Ya Tayar Monastery"}]
[13.933333333333334,"2012-07-10","UNHCR",null,"Rakhine","Sittwe","Weikzar Thaikdi Monastery",null,null,null,null,20,null,null,null,null,null,{"$f":"IF(NFI_Expiration=1,IF($A221<VLOOKUP(H$5,NFI,5,0),1,0)*Table_NFI[[#This Row],[Hygiene Kit]],0)","v":0},{"$f":"IF(NFI_Expiration=1,IF($A221<VLOOKUP(I$5,NFI,5,0),1,0)*Table_NFI[[#This Row],[NFI Core Kit]],0)","v":0},{"$f":"IF(NFI_Expiration=1,IF($A221<VLOOKUP(J$5,NFI,5,0),1,0)*Table_NFI[[#This Row],[Sanitary Kit]],0)","v":0},{"$f":"IF(NFI_Expiration=1,IF($A221<VLOOKUP(K$5,NFI,5,0),1,0)*Table_NFI[[#This Row],[Mosquito net]],0)","v":0},{"$f":"IF(NFI_Expiration=1,IF($A221<VLOOKUP(L$5,NFI,5,0),1,0)*Table_NFI[[#This Row],[Tarpaulin]],0)","v":0},{"$f":"IF(NFI_Expiration=1,IF($A221<VLOOKUP(M$5,NFI,5,0),1,0)*Table_NFI[[#This Row],[Blanket]],0)","v":0},{"$f":"IF(NFI_Expiration=1,IF($A221<VLOOKUP(N$5,NFI,5,0),1,0)*Table_NFI[[#This Row],[Kitchen Set]],0)","v":0},{"$f":"IF(NFI_Expiration=1,IF($A221<VLOOKUP(O$5,NFI,5,0),1,0)*Table_NFI[[#This Row],[Complementary Kit]],0)","v":0},{"$f":"IF(NFI_Expiration=1,IF($A221<VLOOKUP(P$5,NFI,5,0),1,0)*Table_NFI[[#This Row],[Plastic Bucket]],0)","v":0},{"$f":"IF(NFI_Expiration=1,IF($A221<VLOOKUP(Q$5,NFI,5,0),1,0)*Table_NFI[[#This Row],[Plastic Mat]],0)","v":0},{"$f":"VLOOKUP(Table_NFI[[#This Row],[Camp Name]],Camp_List!N$5:AA$254,2,0)","v":"MMR012CMP075"},{"$f":"VLOOKUP(Table_NFI[[#This Row],[Camp Name]],Camp_List!N$5:AA$254,14,0)","v":"Close"},{"$f":"VLOOKUP(Table_NFI[[#This Row],[Camp Name]],Camp_List!N$5:AC$254,1,1)","v":"Weikzar Thaikdi Monastery"}]
[6.3666666666666663,"2013-02-22","UNHCR",null,"Rakhine","Maungdaw","Nyaung Pin Hla",0,null,30,52,15,0,null,null,null,null,{"$f":"IF(NFI_Expiration=1,IF($A222<VLOOKUP(H$5,NFI,5,0),1,0)*Table_NFI[[#This Row],[Hygiene Kit]],0)","v":0},{"$f":"IF(NFI_Expiration=1,IF($A222<VLOOKUP(I$5,NFI,5,0),1,0)*Table_NFI[[#This Row],[NFI Core Kit]],0)","v":0},{"$f":"IF(NFI_Expiration=1,IF($A222<VLOOKUP(J$5,NFI,5,0),1,0)*Table_NFI[[#This Row],[Sanitary Kit]],0)","v":30},{"$f":"IF(NFI_Expiration=1,IF($A222<VLOOKUP(K$5,NFI,5,0),1,0)*Table_NFI[[#This Row],[Mosquito net]],0)","v":52},{"$f":"IF(NFI_Expiration=1,IF($A222<VLOOKUP(L$5,NFI,5,0),1,0)*Table_NFI[[#This Row],[Tarpaulin]],0)","v":15},{"$f":"IF(NFI_Expiration=1,IF($A222<VLOOKUP(M$5,NFI,5,0),1,0)*Table_NFI[[#This Row],[Blanket]],0)","v":0},{"$f":"IF(NFI_Expiration=1,IF($A222<VLOOKUP(N$5,NFI,5,0),1,0)*Table_NFI[[#This Row],[Kitchen Set]],0)","v":0},{"$f":"IF(NFI_Expiration=1,IF($A222<VLOOKUP(O$5,NFI,5,0),1,0)*Table_NFI[[#This Row],[Complementary Kit]],0)","v":0},{"$f":"IF(NFI_Expiration=1,IF($A222<VLOOKUP(P$5,NFI,5,0),1,0)*Table_NFI[[#This Row],[Plastic Bucket]],0)","v":0},{"$f":"IF(NFI_Expiration=1,IF($A222<VLOOKUP(Q$5,NFI,5,0),1,0)*Table_NFI[[#This Row],[Plastic Mat]],0)","v":0},{"$f":"VLOOKUP(Table_NFI[[#This Row],[Camp Name]],Camp_List!N$5:AA$254,2,0)","v":"MMR012CMP082"},{"$f":"VLOOKUP(Table_NFI[[#This Row],[Camp Name]],Camp_List!N$5:AA$254,14,0)","v":"Open"},{"$f":"VLOOKUP(Table_NFI[[#This Row],[Camp Name]],Camp_List!N$5:AC$254,1,1)","v":"Nyaung Pin Hla"}]
[6.3666666666666663,"2013-02-22","UNHCR",null,"Rakhine","Maungdaw","Nyaung Pin Hla",0,15,null,30,15,30,15,15,15,30,{"$f":"IF(NFI_Expiration=1,IF($A223<VLOOKUP(H$5,NFI,5,0),1,0)*Table_NFI[[#This Row],[Hygiene Kit]],0)","v":0},{"$f":"IF(NFI_Expiration=1,IF($A223<VLOOKUP(I$5,NFI,5,0),1,0)*Table_NFI[[#This Row],[NFI Core Kit]],0)","v":15},{"$f":"IF(NFI_Expiration=1,IF($A223<VLOOKUP(J$5,NFI,5,0),1,0)*Table_NFI[[#This Row],[Sanitary Kit]],0)","v":0},{"$f":"IF(NFI_Expiration=1,IF($A223<VLOOKUP(K$5,NFI,5,0),1,0)*Table_NFI[[#This Row],[Mosquito net]],0)","v":30},{"$f":"IF(NFI_Expiration=1,IF($A223<VLOOKUP(L$5,NFI,5,0),1,0)*Table_NFI[[#This Row],[Tarpaulin]],0)","v":15},{"$f":"IF(NFI_Expiration=1,IF($A223<VLOOKUP(M$5,NFI,5,0),1,0)*Table_NFI[[#This Row],[Blanket]],0)","v":30},{"$f":"IF(NFI_Expiration=1,IF($A223<VLOOKUP(N$5,NFI,5,0),1,0)*Table_NFI[[#This Row],[Kitchen Set]],0)","v":15},{"$f":"IF(NFI_Expiration=1,IF($A223<VLOOKUP(O$5,NFI,5,0),1,0)*Table_NFI[[#This Row],[Complementary Kit]],0)","v":15},{"$f":"IF(NFI_Expiration=1,IF($A223<VLOOKUP(P$5,NFI,5,0),1,0)*Table_NFI[[#This Row],[Plastic Bucket]],0)","v":15},{"$f":"IF(NFI_Expiration=1,IF($A223<VLOOKUP(Q$5,NFI,5,0),1,0)*Table_NFI[[#This Row],[Plastic Mat]],0)","v":30},{"$f":"VLOOKUP(Table_NFI[[#This Row],[Camp Name]],Camp_List!N$5:AA$254,2,0)","v":"MMR012CMP082"},{"$f":"VLOOKUP(Table_NFI[[#This Row],[Camp Name]],Camp_List!N$5:AA$254,14,0)","v":"Open"},{"$f":"VLOOKUP(Table_NFI[[#This Row],[Camp Name]],Camp_List!N$5:AC$254,1,1)","v":"Nyaung Pin Hla"}]
[6,"2013-03-05","UNHCR",null,"Rakhine","Maungdaw","Myoma Myauk",0,0,0,34,0,0,null,null,null,null,{"$f":"IF(NFI_Expiration=1,IF($A224<VLOOKUP(H$5,NFI,5,0),1,0)*Table_NFI[[#This Row],[Hygiene Kit]],0)","v":0},{"$f":"IF(NFI_Expiration=1,IF($A224<VLOOKUP(I$5,NFI,5,0),1,0)*Table_NFI[[#This Row],[NFI Core Kit]],0)","v":0},{"$f":"IF(NFI_Expiration=1,IF($A224<VLOOKUP(J$5,NFI,5,0),1,0)*Table_NFI[[#This Row],[Sanitary Kit]],0)","v":0},{"$f":"IF(NFI_Expiration=1,IF($A224<VLOOKUP(K$5,NFI,5,0),1,0)*Table_NFI[[#This Row],[Mosquito net]],0)","v":34},{"$f":"IF(NFI_Expiration=1,IF($A224<VLOOKUP(L$5,NFI,5,0),1,0)*Table_NFI[[#This Row],[Tarpaulin]],0)","v":0},{"$f":"IF(NFI_Expiration=1,IF($A224<VLOOKUP(M$5,NFI,5,0),1,0)*Table_NFI[[#This Row],[Blanket]],0)","v":0},{"$f":"IF(NFI_Expiration=1,IF($A224<VLOOKUP(N$5,NFI,5,0),1,0)*Table_NFI[[#This Row],[Kitchen Set]],0)","v":0},{"$f":"IF(NFI_Expiration=1,IF($A224<VLOOKUP(O$5,NFI,5,0),1,0)*Table_NFI[[#This Row],[Complementary Kit]],0)","v":0},{"$f":"IF(NFI_Expiration=1,IF($A224<VLOOKUP(P$5,NFI,5,0),1,0)*Table_NFI[[#This Row],[Plastic Bucket]],0)","v":0},{"$f":"IF(NFI_Expiration=1,IF($A224<VLOOKUP(Q$5,NFI,5,0),1,0)*Table_NFI[[#This Row],[Plastic Mat]],0)","v":0},{"$f":"VLOOKUP(Table_NFI[[#This Row],[Camp Name]],Camp_List!N$5:AA$254,2,0)","v":"MMR012CMP083"},{"$f":"VLOOKUP(Table_NFI[[#This Row],[Camp Name]],Camp_List!N$5:AA$254,14,0)","v":"Open"},{"$f":"VLOOKUP(Table_NFI[[#This Row],[Camp Name]],Camp_List!N$5:AC$254,1,1)","v":"Myoma Myauk"}]
[7.9,"2013-01-07","UNHCR",null,"Rakhine","Maungdaw","Myoma Myauk",null,null,186,186,93,0,null,null,null,null,{"$f":"IF(NFI_Expiration=1,IF($A225<VLOOKUP(H$5,NFI,5,0),1,0)*Table_NFI[[#This Row],[Hygiene Kit]],0)","v":0},{"$f":"IF(NFI_Expiration=1,IF($A225<VLOOKUP(I$5,NFI,5,0),1,0)*Table_NFI[[#This Row],[NFI Core Kit]],0)","v":0},{"$f":"IF(NFI_Expiration=1,IF($A225<VLOOKUP(J$5,NFI,5,0),1,0)*Table_NFI[[#This Row],[Sanitary Kit]],0)","v":186},{"$f":"IF(NFI_Expiration=1,IF($A225<VLOOKUP(K$5,NFI,5,0),1,0)*Table_NFI[[#This Row],[Mosquito net]],0)","v":186},{"$f":"IF(NFI_Expiration=1,IF($A225<VLOOKUP(L$5,NFI,5,0),1,0)*Table_NFI[[#This Row],[Tarpaulin]],0)","v":93},{"$f":"IF(NFI_Expiration=1,IF($A225<VLOOKUP(M$5,NFI,5,0),1,0)*Table_NFI[[#This Row],[Blanket]],0)","v":0},{"$f":"IF(NFI_Expiration=1,IF($A225<VLOOKUP(N$5,NFI,5,0),1,0)*Table_NFI[[#This Row],[Kitchen Set]],0)","v":0},{"$f":"IF(NFI_Expiration=1,IF($A225<VLOOKUP(O$5,NFI,5,0),1,0)*Table_NFI[[#This Row],[Complementary Kit]],0)","v":0},{"$f":"IF(NFI_Expiration=1,IF($A225<VLOOKUP(P$5,NFI,5,0),1,0)*Table_NFI[[#This Row],[Plastic Bucket]],0)","v":0},{"$f":"IF(NFI_Expiration=1,IF($A225<VLOOKUP(Q$5,NFI,5,0),1,0)*Table_NFI[[#This Row],[Plastic Mat]],0)","v":0},{"$f":"VLOOKUP(Table_NFI[[#This Row],[Camp Name]],Camp_List!N$5:AA$254,2,0)","v":"MMR012CMP083"},{"$f":"VLOOKUP(Table_NFI[[#This Row],[Camp Name]],Camp_List!N$5:AA$254,14,0)","v":"Open"},{"$f":"VLOOKUP(Table_NFI[[#This Row],[Camp Name]],Camp_List!N$5:AC$254,1,1)","v":"Myoma Myauk"}]
[7.9,"2013-01-07","UNHCR",null,"Rakhine","Maungdaw","Myoma Myauk",null,93,null,186,93,186,93,93,93,186,{"$f":"IF(NFI_Expiration=1,IF($A226<VLOOKUP(H$5,NFI,5,0),1,0)*Table_NFI[[#This Row],[Hygiene Kit]],0)","v":0},{"$f":"IF(NFI_Expiration=1,IF($A226<VLOOKUP(I$5,NFI,5,0),1,0)*Table_NFI[[#This Row],[NFI Core Kit]],0)","v":93},{"$f":"IF(NFI_Expiration=1,IF($A226<VLOOKUP(J$5,NFI,5,0),1,0)*Table_NFI[[#This Row],[Sanitary Kit]],0)","v":0},{"$f":"IF(NFI_Expiration=1,IF($A226<VLOOKUP(K$5,NFI,5,0),1,0)*Table_NFI[[#This Row],[Mosquito net]],0)","v":186},{"$f":"IF(NFI_Expiration=1,IF($A226<VLOOKUP(L$5,NFI,5,0),1,0)*Table_NFI[[#This Row],[Tarpaulin]],0)","v":93},{"$f":"IF(NFI_Expiration=1,IF($A226<VLOOKUP(M$5,NFI,5,0),1,0)*Table_NFI[[#This Row],[Blanket]],0)","v":186},{"$f":"IF(NFI_Expiration=1,IF($A226<VLOOKUP(N$5,NFI,5,0),1,0)*Table_NFI[[#This Row],[Kitchen Set]],0)","v":93},{"$f":"IF(NFI_Expiration=1,IF($A226<VLOOKUP(O$5,NFI,5,0),1,0)*Table_NFI[[#This Row],[Complementary Kit]],0)","v":93},{"$f":"IF(NFI_Expiration=1,IF($A226<VLOOKUP(P$5,NFI,5,0),1,0)*Table_NFI[[#This Row],[Plastic Bucket]],0)","v":93},{"$f":"IF(NFI_Expiration=1,IF($A226<VLOOKUP(Q$5,NFI,5,0),1,0)*Table_NFI[[#This Row],[Plastic Mat]],0)","v":186},{"$f":"VLOOKUP(Table_NFI[[#This Row],[Camp Name]],Camp_List!N$5:AA$254,2,0)","v":"MMR012CMP083"},{"$f":"VLOOKUP(Table_NFI[[#This Row],[Camp Name]],Camp_List!N$5:AA$254,14,0)","v":"Open"},{"$f":"VLOOKUP(Table_NFI[[#This Row],[Camp Name]],Camp_List!N$5:AC$254,1,1)","v":"Myoma Myauk"}]
[6.2,"2013-02-27","UNHCR",null,"Rakhine","Maungdaw","Bomu Ywa",0,null,100,171,50,0,null,null,null,null,{"$f":"IF(NFI_Expiration=1,IF($A227<VLOOKUP(H$5,NFI,5,0),1,0)*Table_NFI[[#This Row],[Hygiene Kit]],0)","v":0},{"$f":"IF(NFI_Expiration=1,IF($A227<VLOOKUP(I$5,NFI,5,0),1,0)*Table_NFI[[#This Row],[NFI Core Kit]],0)","v":0},{"$f":"IF(NFI_Expiration=1,IF($A227<VLOOKUP(J$5,NFI,5,0),1,0)*Table_NFI[[#This Row],[Sanitary Kit]],0)","v":100},{"$f":"IF(NFI_Expiration=1,IF($A227<VLOOKUP(K$5,NFI,5,0),1,0)*Table_NFI[[#This Row],[Mosquito net]],0)","v":171},{"$f":"IF(NFI_Expiration=1,IF($A227<VLOOKUP(L$5,NFI,5,0),1,0)*Table_NFI[[#This Row],[Tarpaulin]],0)","v":50},{"$f":"IF(NFI_Expiration=1,IF($A227<VLOOKUP(M$5,NFI,5,0),1,0)*Table_NFI[[#This Row],[Blanket]],0)","v":0},{"$f":"IF(NFI_Expiration=1,IF($A227<VLOOKUP(N$5,NFI,5,0),1,0)*Table_NFI[[#This Row],[Kitchen Set]],0)","v":0},{"$f":"IF(NFI_Expiration=1,IF($A227<VLOOKUP(O$5,NFI,5,0),1,0)*Table_NFI[[#This Row],[Complementary Kit]],0)","v":0},{"$f":"IF(NFI_Expiration=1,IF($A227<VLOOKUP(P$5,NFI,5,0),1,0)*Table_NFI[[#This Row],[Plastic Bucket]],0)","v":0},{"$f":"IF(NFI_Expiration=1,IF($A227<VLOOKUP(Q$5,NFI,5,0),1,0)*Table_NFI[[#This Row],[Plastic Mat]],0)","v":0},{"$f":"VLOOKUP(Table_NFI[[#This Row],[Camp Name]],Camp_List!N$5:AA$254,2,0)","v":"MMR012CMP084"},{"$f":"VLOOKUP(Table_NFI[[#This Row],[Camp Name]],Camp_List!N$5:AA$254,14,0)","v":"Open"},{"$f":"VLOOKUP(Table_NFI[[#This Row],[Camp Name]],Camp_List!N$5:AC$254,1,1)","v":"Bomu Ywa"}]
[5.7,"2013-03-14","UNHCR",null,"Rakhine","Maungdaw","Bomu Ywa",0,null,158,292,79,0,null,null,null,null,{"$f":"IF(NFI_Expiration=1,IF($A228<VLOOKUP(H$5,NFI,5,0),1,0)*Table_NFI[[#This Row],[Hygiene Kit]],0)","v":0},{"$f":"IF(NFI_Expiration=1,IF($A228<VLOOKUP(I$5,NFI,5,0),1,0)*Table_NFI[[#This Row],[NFI Core Kit]],0)","v":0},{"$f":"IF(NFI_Expiration=1,IF($A228<VLOOKUP(J$5,NFI,5,0),1,0)*Table_NFI[[#This Row],[Sanitary Kit]],0)","v":158},{"$f":"IF(NFI_Expiration=1,IF($A228<VLOOKUP(K$5,NFI,5,0),1,0)*Table_NFI[[#This Row],[Mosquito net]],0)","v":292},{"$f":"IF(NFI_Expiration=1,IF($A228<VLOOKUP(L$5,NFI,5,0),1,0)*Table_NFI[[#This Row],[Tarpaulin]],0)","v":79},{"$f":"IF(NFI_Expiration=1,IF($A228<VLOOKUP(M$5,NFI,5,0),1,0)*Table_NFI[[#This Row],[Blanket]],0)","v":0},{"$f":"IF(NFI_Expiration=1,IF($A228<VLOOKUP(N$5,NFI,5,0),1,0)*Table_NFI[[#This Row],[Kitchen Set]],0)","v":0},{"$f":"IF(NFI_Expiration=1,IF($A228<VLOOKUP(O$5,NFI,5,0),1,0)*Table_NFI[[#This Row],[Complementary Kit]],0)","v":0},{"$f":"IF(NFI_Expiration=1,IF($A228<VLOOKUP(P$5,NFI,5,0),1,0)*Table_NFI[[#This Row],[Plastic Bucket]],0)","v":0},{"$f":"IF(NFI_Expiration=1,IF($A228<VLOOKUP(Q$5,NFI,5,0),1,0)*Table_NFI[[#This Row],[Plastic Mat]],0)","v":0},{"$f":"VLOOKUP(Table_NFI[[#This Row],[Camp Name]],Camp_List!N$5:AA$254,2,0)","v":"MMR012CMP084"},{"$f":"VLOOKUP(Table_NFI[[#This Row],[Camp Name]],Camp_List!N$5:AA$254,14,0)","v":"Open"},{"$f":"VLOOKUP(Table_NFI[[#This Row],[Camp Name]],Camp_List!N$5:AC$254,1,1)","v":"Bomu Ywa"}]
[6.2,"2013-02-27","UNHCR",null,"Rakhine","Maungdaw","Bomu Ywa",0,50,null,100,50,100,50,50,50,100,{"$f":"IF(NFI_Expiration=1,IF($A229<VLOOKUP(H$5,NFI,5,0),1,0)*Table_NFI[[#This Row],[Hygiene Kit]],0)","v":0},{"$f":"IF(NFI_Expiration=1,IF($A229<VLOOKUP(I$5,NFI,5,0),1,0)*Table_NFI[[#This Row],[NFI Core Kit]],0)","v":50},{"$f":"IF(NFI_Expiration=1,IF($A229<VLOOKUP(J$5,NFI,5,0),1,0)*Table_NFI[[#This Row],[Sanitary Kit]],0)","v":0},{"$f":"IF(NFI_Expiration=1,IF($A229<VLOOKUP(K$5,NFI,5,0),1,0)*Table_NFI[[#This Row],[Mosquito net]],0)","v":100},{"$f":"IF(NFI_Expiration=1,IF($A229<VLOOKUP(L$5,NFI,5,0),1,0)*Table_NFI[[#This Row],[Tarpaulin]],0)","v":50},{"$f":"IF(NFI_Expiration=1,IF($A229<VLOOKUP(M$5,NFI,5,0),1,0)*Table_NFI[[#This Row],[Blanket]],0)","v":100},{"$f":"IF(NFI_Expiration=1,IF($A229<VLOOKUP(N$5,NFI,5,0),1,0)*Table_NFI[[#This Row],[Kitchen Set]],0)","v":50},{"$f":"IF(NFI_Expiration=1,IF($A229<VLOOKUP(O$5,NFI,5,0),1,0)*Table_NFI[[#This Row],[Complementary Kit]],0)","v":50},{"$f":"IF(NFI_Expiration=1,IF($A229<VLOOKUP(P$5,NFI,5,0),1,0)*Table_NFI[[#This Row],[Plastic Bucket]],0)","v":50},{"$f":"IF(NFI_Expiration=1,IF($A229<VLOOKUP(Q$5,NFI,5,0),1,0)*Table_NFI[[#This Row],[Plastic Mat]],0)","v":100},{"$f":"VLOOKUP(Table_NFI[[#This Row],[Camp Name]],Camp_List!N$5:AA$254,2,0)","v":"MMR012CMP084"},{"$f":"VLOOKUP(Table_NFI[[#This Row],[Camp Name]],Camp_List!N$5:AA$254,14,0)","v":"Open"},{"$f":"VLOOKUP(Table_NFI[[#This Row],[Camp Name]],Camp_List!N$5:AC$254,1,1)","v":"Bomu Ywa"}]
[5.7,"2013-03-14","UNHCR",null,"Rakhine","Maungdaw","Bomu Ywa",0,79,null,158,79,158,79,79,79,158,{"$f":"IF(NFI_Expiration=1,IF($A230<VLOOKUP(H$5,NFI,5,0),1,0)*Table_NFI[[#This Row],[Hygiene Kit]],0)","v":0},{"$f":"IF(NFI_Expiration=1,IF($A230<VLOOKUP(I$5,NFI,5,0),1,0)*Table_NFI[[#This Row],[NFI Core Kit]],0)","v":79},{"$f":"IF(NFI_Expiration=1,IF($A230<VLOOKUP(J$5,NFI,5,0),1,0)*Table_NFI[[#This Row],[Sanitary Kit]],0)","v":0},{"$f":"IF(NFI_Expiration=1,IF($A230<VLOOKUP(K$5,NFI,5,0),1,0)*Table_NFI[[#This Row],[Mosquito net]],0)","v":158},{"$f":"IF(NFI_Expiration=1,IF($A230<VLOOKUP(L$5,NFI,5,0),1,0)*Table_NFI[[#This Row],[Tarpaulin]],0)","v":79},{"$f":"IF(NFI_Expiration=1,IF($A230<VLOOKUP(M$5,NFI,5,0),1,0)*Table_NFI[[#This Row],[Blanket]],0)","v":158},{"$f":"IF(NFI_Expiration=1,IF($A230<VLOOKUP(N$5,NFI,5,0),1,0)*Table_NFI[[#This Row],[Kitchen Set]],0)","v":79},{"$f":"IF(NFI_Expiration=1,IF($A230<VLOOKUP(O$5,NFI,5,0),1,0)*Table_NFI[[#This Row],[Complementary Kit]],0)","v":79},{"$f":"IF(NFI_Expiration=1,IF($A230<VLOOKUP(P$5,NFI,5,0),1,0)*Table_NFI[[#This Row],[Plastic Bucket]],0)","v":79},{"$f":"IF(NFI_Expiration=1,IF($A230<VLOOKUP(Q$5,NFI,5,0),1,0)*Table_NFI[[#This Row],[Plastic Mat]],0)","v":158},{"$f":"VLOOKUP(Table_NFI[[#This Row],[Camp Name]],Camp_List!N$5:AA$254,2,0)","v":"MMR012CMP084"},{"$f":"VLOOKUP(Table_NFI[[#This Row],[Camp Name]],Camp_List!N$5:AA$254,14,0)","v":"Open"},{"$f":"VLOOKUP(Table_NFI[[#This Row],[Camp Name]],Camp_List!N$5:AC$254,1,1)","v":"Bomu Ywa"}]
[6.6333333333333337,"2013-02-14","UNHCR",null,"Rakhine","Maungdaw","Ywa thit Kay",null,null,40,81,20,null,null,null,null,null,{"$f":"IF(NFI_Expiration=1,IF($A231<VLOOKUP(H$5,NFI,5,0),1,0)*Table_NFI[[#This Row],[Hygiene Kit]],0)","v":0},{"$f":"IF(NFI_Expiration=1,IF($A231<VLOOKUP(I$5,NFI,5,0),1,0)*Table_NFI[[#This Row],[NFI Core Kit]],0)","v":0},{"$f":"IF(NFI_Expiration=1,IF($A231<VLOOKUP(J$5,NFI,5,0),1,0)*Table_NFI[[#This Row],[Sanitary Kit]],0)","v":40},{"$f":"IF(NFI_Expiration=1,IF($A231<VLOOKUP(K$5,NFI,5,0),1,0)*Table_NFI[[#This Row],[Mosquito net]],0)","v":81},{"$f":"IF(NFI_Expiration=1,IF($A231<VLOOKUP(L$5,NFI,5,0),1,0)*Table_NFI[[#This Row],[Tarpaulin]],0)","v":20},{"$f":"IF(NFI_Expiration=1,IF($A231<VLOOKUP(M$5,NFI,5,0),1,0)*Table_NFI[[#This Row],[Blanket]],0)","v":0},{"$f":"IF(NFI_Expiration=1,IF($A231<VLOOKUP(N$5,NFI,5,0),1,0)*Table_NFI[[#This Row],[Kitchen Set]],0)","v":0},{"$f":"IF(NFI_Expiration=1,IF($A231<VLOOKUP(O$5,NFI,5,0),1,0)*Table_NFI[[#This Row],[Complementary Kit]],0)","v":0},{"$f":"IF(NFI_Expiration=1,IF($A231<VLOOKUP(P$5,NFI,5,0),1,0)*Table_NFI[[#This Row],[Plastic Bucket]],0)","v":0},{"$f":"IF(NFI_Expiration=1,IF($A231<VLOOKUP(Q$5,NFI,5,0),1,0)*Table_NFI[[#This Row],[Plastic Mat]],0)","v":0},{"$f":"VLOOKUP(Table_NFI[[#This Row],[Camp Name]],Camp_List!N$5:AA$254,2,0)","v":"MMR012CMP085"},{"$f":"VLOOKUP(Table_NFI[[#This Row],[Camp Name]],Camp_List!N$5:AA$254,14,0)","v":"Open"},{"$f":"VLOOKUP(Table_NFI[[#This Row],[Camp Name]],Camp_List!N$5:AC$254,1,1)","v":"Ywa thit Kay"}]
[6.6333333333333337,"2013-02-14","UNHCR",null,"Rakhine","Maungdaw","Ywa thit Kay",null,20,null,40,20,40,20,20,20,40,{"$f":"IF(NFI_Expiration=1,IF($A232<VLOOKUP(H$5,NFI,5,0),1,0)*Table_NFI[[#This Row],[Hygiene Kit]],0)","v":0},{"$f":"IF(NFI_Expiration=1,IF($A232<VLOOKUP(I$5,NFI,5,0),1,0)*Table_NFI[[#This Row],[NFI Core Kit]],0)","v":20},{"$f":"IF(NFI_Expiration=1,IF($A232<VLOOKUP(J$5,NFI,5,0),1,0)*Table_NFI[[#This Row],[Sanitary Kit]],0)","v":0},{"$f":"IF(NFI_Expiration=1,IF($A232<VLOOKUP(K$5,NFI,5,0),1,0)*Table_NFI[[#This Row],[Mosquito net]],0)","v":40},{"$f":"IF(NFI_Expiration=1,IF($A232<VLOOKUP(L$5,NFI,5,0),1,0)*Table_NFI[[#This Row],[Tarpaulin]],0)","v":20},{"$f":"IF(NFI_Expiration=1,IF($A232<VLOOKUP(M$5,NFI,5,0),1,0)*Table_NFI[[#This Row],[Blanket]],0)","v":40},{"$f":"IF(NFI_Expiration=1,IF($A232<VLOOKUP(N$5,NFI,5,0),1,0)*Table_NFI[[#This Row],[Kitchen Set]],0)","v":20},{"$f":"IF(NFI_Expiration=1,IF($A232<VLOOKUP(O$5,NFI,5,0),1,0)*Table_NFI[[#This Row],[Complementary Kit]],0)","v":20},{"$f":"IF(NFI_Expiration=1,IF($A232<VLOOKUP(P$5,NFI,5,0),1,0)*Table_NFI[[#This Row],[Plastic Bucket]],0)","v":20},{"$f":"IF(NFI_Expiration=1,IF($A232<VLOOKUP(Q$5,NFI,5,0),1,0)*Table_NFI[[#This Row],[Plastic Mat]],0)","v":40},{"$f":"VLOOKUP(Table_NFI[[#This Row],[Camp Name]],Camp_List!N$5:AA$254,2,0)","v":"MMR012CMP085"},{"$f":"VLOOKUP(Table_NFI[[#This Row],[Camp Name]],Camp_List!N$5:AA$254,14,0)","v":"Open"},{"$f":"VLOOKUP(Table_NFI[[#This Row],[Camp Name]],Camp_List!N$5:AC$254,1,1)","v":"Ywa thit Kay"}]
[6.1333333333333337,"2013-03-01","UNHCR",null,"Rakhine","Maungdaw","Thaung Paing Nyar",0,null,102,156,51,0,null,null,null,null,{"$f":"IF(NFI_Expiration=1,IF($A233<VLOOKUP(H$5,NFI,5,0),1,0)*Table_NFI[[#This Row],[Hygiene Kit]],0)","v":0},{"$f":"IF(NFI_Expiration=1,IF($A233<VLOOKUP(I$5,NFI,5,0),1,0)*Table_NFI[[#This Row],[NFI Core Kit]],0)","v":0},{"$f":"IF(NFI_Expiration=1,IF($A233<VLOOKUP(J$5,NFI,5,0),1,0)*Table_NFI[[#This Row],[Sanitary Kit]],0)","v":102},{"$f":"IF(NFI_Expiration=1,IF($A233<VLOOKUP(K$5,NFI,5,0),1,0)*Table_NFI[[#This Row],[Mosquito net]],0)","v":156},{"$f":"IF(NFI_Expiration=1,IF($A233<VLOOKUP(L$5,NFI,5,0),1,0)*Table_NFI[[#This Row],[Tarpaulin]],0)","v":51},{"$f":"IF(NFI_Expiration=1,IF($A233<VLOOKUP(M$5,NFI,5,0),1,0)*Table_NFI[[#This Row],[Blanket]],0)","v":0},{"$f":"IF(NFI_Expiration=1,IF($A233<VLOOKUP(N$5,NFI,5,0),1,0)*Table_NFI[[#This Row],[Kitchen Set]],0)","v":0},{"$f":"IF(NFI_Expiration=1,IF($A233<VLOOKUP(O$5,NFI,5,0),1,0)*Table_NFI[[#This Row],[Complementary Kit]],0)","v":0},{"$f":"IF(NFI_Expiration=1,IF($A233<VLOOKUP(P$5,NFI,5,0),1,0)*Table_NFI[[#This Row],[Plastic Bucket]],0)","v":0},{"$f":"IF(NFI_Expiration=1,IF($A233<VLOOKUP(Q$5,NFI,5,0),1,0)*Table_NFI[[#This Row],[Plastic Mat]],0)","v":0},{"$f":"VLOOKUP(Table_NFI[[#This Row],[Camp Name]],Camp_List!N$5:AA$254,2,0)","v":"MMR012CMP086"},{"$f":"VLOOKUP(Table_NFI[[#This Row],[Camp Name]],Camp_List!N$5:AA$254,14,0)","v":"Open"},{"$f":"VLOOKUP(Table_NFI[[#This Row],[Camp Name]],Camp_List!N$5:AC$254,1,1)","v":"Thaung Paing Nyar"}]
[6.1333333333333337,"2013-03-01","UNHCR",null,"Rakhine","Maungdaw","Thaung Paing Nyar",0,51,null,102,51,102,51,51,51,102,{"$f":"IF(NFI_Expiration=1,IF($A234<VLOOKUP(H$5,NFI,5,0),1,0)*Table_NFI[[#This Row],[Hygiene Kit]],0)","v":0},{"$f":"IF(NFI_Expiration=1,IF($A234<VLOOKUP(I$5,NFI,5,0),1,0)*Table_NFI[[#This Row],[NFI Core Kit]],0)","v":51},{"$f":"IF(NFI_Expiration=1,IF($A234<VLOOKUP(J$5,NFI,5,0),1,0)*Table_NFI[[#This Row],[Sanitary Kit]],0)","v":0},{"$f":"IF(NFI_Expiration=1,IF($A234<VLOOKUP(K$5,NFI,5,0),1,0)*Table_NFI[[#This Row],[Mosquito net]],0)","v":102},{"$f":"IF(NFI_Expiration=1,IF($A234<VLOOKUP(L$5,NFI,5,0),1,0)*Table_NFI[[#This Row],[Tarpaulin]],0)","v":51},{"$f":"IF(NFI_Expiration=1,IF($A234<VLOOKUP(M$5,NFI,5,0),1,0)*Table_NFI[[#This Row],[Blanket]],0)","v":102},{"$f":"IF(NFI_Expiration=1,IF($A234<VLOOKUP(N$5,NFI,5,0),1,0)*Table_NFI[[#This Row],[Kitchen Set]],0)","v":51},{"$f":"IF(NFI_Expiration=1,IF($A234<VLOOKUP(O$5,NFI,5,0),1,0)*Table_NFI[[#This Row],[Complementary Kit]],0)","v":51},{"$f":"IF(NFI_Expiration=1,IF($A234<VLOOKUP(P$5,NFI,5,0),1,0)*Table_NFI[[#This Row],[Plastic Bucket]],0)","v":51},{"$f":"IF(NFI_Expiration=1,IF($A234<VLOOKUP(Q$5,NFI,5,0),1,0)*Table_NFI[[#This Row],[Plastic Mat]],0)","v":102},{"$f":"VLOOKUP(Table_NFI[[#This Row],[Camp Name]],Camp_List!N$5:AA$254,2,0)","v":"MMR012CMP086"},{"$f":"VLOOKUP(Table_NFI[[#This Row],[Camp Name]],Camp_List!N$5:AA$254,14,0)","v":"Open"},{"$f":"VLOOKUP(Table_NFI[[#This Row],[Camp Name]],Camp_List!N$5:AC$254,1,1)","v":"Thaung Paing Nyar"}]
[7.8,"2013-01-10","UNHCR",null,"Rakhine","Maungdaw","Lamber Gone Nah",null,null,112,112,56,0,null,null,null,null,{"$f":"IF(NFI_Expiration=1,IF($A235<VLOOKUP(H$5,NFI,5,0),1,0)*Table_NFI[[#This Row],[Hygiene Kit]],0)","v":0},{"$f":"IF(NFI_Expiration=1,IF($A235<VLOOKUP(I$5,NFI,5,0),1,0)*Table_NFI[[#This Row],[NFI Core Kit]],0)","v":0},{"$f":"IF(NFI_Expiration=1,IF($A235<VLOOKUP(J$5,NFI,5,0),1,0)*Table_NFI[[#This Row],[Sanitary Kit]],0)","v":112},{"$f":"IF(NFI_Expiration=1,IF($A235<VLOOKUP(K$5,NFI,5,0),1,0)*Table_NFI[[#This Row],[Mosquito net]],0)","v":112},{"$f":"IF(NFI_Expiration=1,IF($A235<VLOOKUP(L$5,NFI,5,0),1,0)*Table_NFI[[#This Row],[Tarpaulin]],0)","v":56},{"$f":"IF(NFI_Expiration=1,IF($A235<VLOOKUP(M$5,NFI,5,0),1,0)*Table_NFI[[#This Row],[Blanket]],0)","v":0},{"$f":"IF(NFI_Expiration=1,IF($A235<VLOOKUP(N$5,NFI,5,0),1,0)*Table_NFI[[#This Row],[Kitchen Set]],0)","v":0},{"$f":"IF(NFI_Expiration=1,IF($A235<VLOOKUP(O$5,NFI,5,0),1,0)*Table_NFI[[#This Row],[Complementary Kit]],0)","v":0},{"$f":"IF(NFI_Expiration=1,IF($A235<VLOOKUP(P$5,NFI,5,0),1,0)*Table_NFI[[#This Row],[Plastic Bucket]],0)","v":0},{"$f":"IF(NFI_Expiration=1,IF($A235<VLOOKUP(Q$5,NFI,5,0),1,0)*Table_NFI[[#This Row],[Plastic Mat]],0)","v":0},{"$f":"VLOOKUP(Table_NFI[[#This Row],[Camp Name]],Camp_List!N$5:AA$254,2,0)","v":"MMR012CMP087"},{"$f":"VLOOKUP(Table_NFI[[#This Row],[Camp Name]],Camp_List!N$5:AA$254,14,0)","v":"Close"},{"$f":"VLOOKUP(Table_NFI[[#This Row],[Camp Name]],Camp_List!N$5:AC$254,1,1)","v":"Lamber Gone Nah"}]
[7.8,"2013-01-10","UNHCR",null,"Rakhine","Maungdaw","Lamber Gone Nah",null,56,null,112,56,112,56,56,56,112,{"$f":"IF(NFI_Expiration=1,IF($A236<VLOOKUP(H$5,NFI,5,0),1,0)*Table_NFI[[#This Row],[Hygiene Kit]],0)","v":0},{"$f":"IF(NFI_Expiration=1,IF($A236<VLOOKUP(I$5,NFI,5,0),1,0)*Table_NFI[[#This Row],[NFI Core Kit]],0)","v":56},{"$f":"IF(NFI_Expiration=1,IF($A236<VLOOKUP(J$5,NFI,5,0),1,0)*Table_NFI[[#This Row],[Sanitary Kit]],0)","v":0},{"$f":"IF(NFI_Expiration=1,IF($A236<VLOOKUP(K$5,NFI,5,0),1,0)*Table_NFI[[#This Row],[Mosquito net]],0)","v":112},{"$f":"IF(NFI_Expiration=1,IF($A236<VLOOKUP(L$5,NFI,5,0),1,0)*Table_NFI[[#This Row],[Tarpaulin]],0)","v":56},{"$f":"IF(NFI_Expiration=1,IF($A236<VLOOKUP(M$5,NFI,5,0),1,0)*Table_NFI[[#This Row],[Blanket]],0)","v":112},{"$f":"IF(NFI_Expiration=1,IF($A236<VLOOKUP(N$5,NFI,5,0),1,0)*Table_NFI[[#This Row],[Kitchen Set]],0)","v":56},{"$f":"IF(NFI_Expiration=1,IF($A236<VLOOKUP(O$5,NFI,5,0),1,0)*Table_NFI[[#This Row],[Complementary Kit]],0)","v":56},{"$f":"IF(NFI_Expiration=1,IF($A236<VLOOKUP(P$5,NFI,5,0),1,0)*Table_NFI[[#This Row],[Plastic Bucket]],0)","v":56},{"$f":"IF(NFI_Expiration=1,IF($A236<VLOOKUP(Q$5,NFI,5,0),1,0)*Table_NFI[[#This Row],[Plastic Mat]],0)","v":112},{"$f":"VLOOKUP(Table_NFI[[#This Row],[Camp Name]],Camp_List!N$5:AA$254,2,0)","v":"MMR012CMP087"},{"$f":"VLOOKUP(Table_NFI[[#This Row],[Camp Name]],Camp_List!N$5:AA$254,14,0)","v":"Close"},{"$f":"VLOOKUP(Table_NFI[[#This Row],[Camp Name]],Camp_List!N$5:AC$254,1,1)","v":"Lamber Gone Nah"}]
[7.5333333333333332,"2013-01-18","UNHCR",null,"Rakhine","Maungdaw","Du Than Dar",null,null,63,126,63,0,null,null,null,null,{"$f":"IF(NFI_Expiration=1,IF($A237<VLOOKUP(H$5,NFI,5,0),1,0)*Table_NFI[[#This Row],[Hygiene Kit]],0)","v":0},{"$f":"IF(NFI_Expiration=1,IF($A237<VLOOKUP(I$5,NFI,5,0),1,0)*Table_NFI[[#This Row],[NFI Core Kit]],0)","v":0},{"$f":"IF(NFI_Expiration=1,IF($A237<VLOOKUP(J$5,NFI,5,0),1,0)*Table_NFI[[#This Row],[Sanitary Kit]],0)","v":63},{"$f":"IF(NFI_Expiration=1,IF($A237<VLOOKUP(K$5,NFI,5,0),1,0)*Table_NFI[[#This Row],[Mosquito net]],0)","v":126},{"$f":"IF(NFI_Expiration=1,IF($A237<VLOOKUP(L$5,NFI,5,0),1,0)*Table_NFI[[#This Row],[Tarpaulin]],0)","v":63},{"$f":"IF(NFI_Expiration=1,IF($A237<VLOOKUP(M$5,NFI,5,0),1,0)*Table_NFI[[#This Row],[Blanket]],0)","v":0},{"$f":"IF(NFI_Expiration=1,IF($A237<VLOOKUP(N$5,NFI,5,0),1,0)*Table_NFI[[#This Row],[Kitchen Set]],0)","v":0},{"$f":"IF(NFI_Expiration=1,IF($A237<VLOOKUP(O$5,NFI,5,0),1,0)*Table_NFI[[#This Row],[Complementary Kit]],0)","v":0},{"$f":"IF(NFI_Expiration=1,IF($A237<VLOOKUP(P$5,NFI,5,0),1,0)*Table_NFI[[#This Row],[Plastic Bucket]],0)","v":0},{"$f":"IF(NFI_Expiration=1,IF($A237<VLOOKUP(Q$5,NFI,5,0),1,0)*Table_NFI[[#This Row],[Plastic Mat]],0)","v":0},{"$f":"VLOOKUP(Table_NFI[[#This Row],[Camp Name]],Camp_List!N$5:AA$254,2,0)","v":"MMR012CMP088"},{"$f":"VLOOKUP(Table_NFI[[#This Row],[Camp Name]],Camp_List!N$5:AA$254,14,0)","v":"Open"},{"$f":"VLOOKUP(Table_NFI[[#This Row],[Camp Name]],Camp_List!N$5:AC$254,1,1)","v":"Du Than Dar"}]
[7.5333333333333332,"2013-01-18","UNHCR",null,"Rakhine","Maungdaw","Du Than Dar",null,63,null,126,63,126,63,63,63,126,{"$f":"IF(NFI_Expiration=1,IF($A238<VLOOKUP(H$5,NFI,5,0),1,0)*Table_NFI[[#This Row],[Hygiene Kit]],0)","v":0},{"$f":"IF(NFI_Expiration=1,IF($A238<VLOOKUP(I$5,NFI,5,0),1,0)*Table_NFI[[#This Row],[NFI Core Kit]],0)","v":63},{"$f":"IF(NFI_Expiration=1,IF($A238<VLOOKUP(J$5,NFI,5,0),1,0)*Table_NFI[[#This Row],[Sanitary Kit]],0)","v":0},{"$f":"IF(NFI_Expiration=1,IF($A238<VLOOKUP(K$5,NFI,5,0),1,0)*Table_NFI[[#This Row],[Mosquito net]],0)","v":126},{"$f":"IF(NFI_Expiration=1,IF($A238<VLOOKUP(L$5,NFI,5,0),1,0)*Table_NFI[[#This Row],[Tarpaulin]],0)","v":63},{"$f":"IF(NFI_Expiration=1,IF($A238<VLOOKUP(M$5,NFI,5,0),1,0)*Table_NFI[[#This Row],[Blanket]],0)","v":126},{"$f":"IF(NFI_Expiration=1,IF($A238<VLOOKUP(N$5,NFI,5,0),1,0)*Table_NFI[[#This Row],[Kitchen Set]],0)","v":63},{"$f":"IF(NFI_Expiration=1,IF($A238<VLOOKUP(O$5,NFI,5,0),1,0)*Table_NFI[[#This Row],[Complementary Kit]],0)","v":63},{"$f":"IF(NFI_Expiration=1,IF($A238<VLOOKUP(P$5,NFI,5,0),1,0)*Table_NFI[[#This Row],[Plastic Bucket]],0)","v":63},{"$f":"IF(NFI_Expiration=1,IF($A238<VLOOKUP(Q$5,NFI,5,0),1,0)*Table_NFI[[#This Row],[Plastic Mat]],0)","v":126},{"$f":"VLOOKUP(Table_NFI[[#This Row],[Camp Name]],Camp_List!N$5:AA$254,2,0)","v":"MMR012CMP088"},{"$f":"VLOOKUP(Table_NFI[[#This Row],[Camp Name]],Camp_List!N$5:AA$254,14,0)","v":"Open"},{"$f":"VLOOKUP(Table_NFI[[#This Row],[Camp Name]],Camp_List!N$5:AC$254,1,1)","v":"Du Than Dar"}]
[7.833333333333333,"2013-01-09","KOICAT","UNHCR","Rakhine","Sittwe","Ohn Taw Gyi 3",null,null,null,null,null,50,null,null,null,null,{"$f":"IF(NFI_Expiration=1,IF($A239<VLOOKUP(H$5,NFI,5,0),1,0)*Table_NFI[[#This Row],[Hygiene Kit]],0)","v":0},{"$f":"IF(NFI_Expiration=1,IF($A239<VLOOKUP(I$5,NFI,5,0),1,0)*Table_NFI[[#This Row],[NFI Core Kit]],0)","v":0},{"$f":"IF(NFI_Expiration=1,IF($A239<VLOOKUP(J$5,NFI,5,0),1,0)*Table_NFI[[#This Row],[Sanitary Kit]],0)","v":0},{"$f":"IF(NFI_Expiration=1,IF($A239<VLOOKUP(K$5,NFI,5,0),1,0)*Table_NFI[[#This Row],[Mosquito net]],0)","v":0},{"$f":"IF(NFI_Expiration=1,IF($A239<VLOOKUP(L$5,NFI,5,0),1,0)*Table_NFI[[#This Row],[Tarpaulin]],0)","v":0},{"$f":"IF(NFI_Expiration=1,IF($A239<VLOOKUP(M$5,NFI,5,0),1,0)*Table_NFI[[#This Row],[Blanket]],0)","v":50},{"$f":"IF(NFI_Expiration=1,IF($A239<VLOOKUP(N$5,NFI,5,0),1,0)*Table_NFI[[#This Row],[Kitchen Set]],0)","v":0},{"$f":"IF(NFI_Expiration=1,IF($A239<VLOOKUP(O$5,NFI,5,0),1,0)*Table_NFI[[#This Row],[Complementary Kit]],0)","v":0},{"$f":"IF(NFI_Expiration=1,IF($A239<VLOOKUP(P$5,NFI,5,0),1,0)*Table_NFI[[#This Row],[Plastic Bucket]],0)","v":0},{"$f":"IF(NFI_Expiration=1,IF($A239<VLOOKUP(Q$5,NFI,5,0),1,0)*Table_NFI[[#This Row],[Plastic Mat]],0)","v":0},{"$f":"VLOOKUP(Table_NFI[[#This Row],[Camp Name]],Camp_List!N$5:AA$254,2,0)","v":"MMR012CMP090"},{"$f":"VLOOKUP(Table_NFI[[#This Row],[Camp Name]],Camp_List!N$5:AA$254,14,0)","v":"Open"},{"$f":"VLOOKUP(Table_NFI[[#This Row],[Camp Name]],Camp_List!N$5:AC$254,1,1)","v":"Ohn Taw Gyi 3"}]
[7.8,"2013-01-10","KOICAT","UNHCR","Rakhine","Sittwe","Ohn Taw Gyi 3",null,null,null,null,null,45,null,null,null,null,{"$f":"IF(NFI_Expiration=1,IF($A240<VLOOKUP(H$5,NFI,5,0),1,0)*Table_NFI[[#This Row],[Hygiene Kit]],0)","v":0},{"$f":"IF(NFI_Expiration=1,IF($A240<VLOOKUP(I$5,NFI,5,0),1,0)*Table_NFI[[#This Row],[NFI Core Kit]],0)","v":0},{"$f":"IF(NFI_Expiration=1,IF($A240<VLOOKUP(J$5,NFI,5,0),1,0)*Table_NFI[[#This Row],[Sanitary Kit]],0)","v":0},{"$f":"IF(NFI_Expiration=1,IF($A240<VLOOKUP(K$5,NFI,5,0),1,0)*Table_NFI[[#This Row],[Mosquito net]],0)","v":0},{"$f":"IF(NFI_Expiration=1,IF($A240<VLOOKUP(L$5,NFI,5,0),1,0)*Table_NFI[[#This Row],[Tarpaulin]],0)","v":0},{"$f":"IF(NFI_Expiration=1,IF($A240<VLOOKUP(M$5,NFI,5,0),1,0)*Table_NFI[[#This Row],[Blanket]],0)","v":45},{"$f":"IF(NFI_Expiration=1,IF($A240<VLOOKUP(N$5,NFI,5,0),1,0)*Table_NFI[[#This Row],[Kitchen Set]],0)","v":0},{"$f":"IF(NFI_Expiration=1,IF($A240<VLOOKUP(O$5,NFI,5,0),1,0)*Table_NFI[[#This Row],[Complementary Kit]],0)","v":0},{"$f":"IF(NFI_Expiration=1,IF($A240<VLOOKUP(P$5,NFI,5,0),1,0)*Table_NFI[[#This Row],[Plastic Bucket]],0)","v":0},{"$f":"IF(NFI_Expiration=1,IF($A240<VLOOKUP(Q$5,NFI,5,0),1,0)*Table_NFI[[#This Row],[Plastic Mat]],0)","v":0},{"$f":"VLOOKUP(Table_NFI[[#This Row],[Camp Name]],Camp_List!N$5:AA$254,2,0)","v":"MMR012CMP090"},{"$f":"VLOOKUP(Table_NFI[[#This Row],[Camp Name]],Camp_List!N$5:AA$254,14,0)","v":"Open"},{"$f":"VLOOKUP(Table_NFI[[#This Row],[Camp Name]],Camp_List!N$5:AC$254,1,1)","v":"Ohn Taw Gyi 3"}]
[7.5666666666666664,"2013-01-17","KOICAT","UNHCR","Rakhine","Sittwe","Ohn Taw Gyi 3",null,null,null,null,null,50,null,null,null,null,{"$f":"IF(NFI_Expiration=1,IF($A241<VLOOKUP(H$5,NFI,5,0),1,0)*Table_NFI[[#This Row],[Hygiene Kit]],0)","v":0},{"$f":"IF(NFI_Expiration=1,IF($A241<VLOOKUP(I$5,NFI,5,0),1,0)*Table_NFI[[#This Row],[NFI Core Kit]],0)","v":0},{"$f":"IF(NFI_Expiration=1,IF($A241<VLOOKUP(J$5,NFI,5,0),1,0)*Table_NFI[[#This Row],[Sanitary Kit]],0)","v":0},{"$f":"IF(NFI_Expiration=1,IF($A241<VLOOKUP(K$5,NFI,5,0),1,0)*Table_NFI[[#This Row],[Mosquito net]],0)","v":0},{"$f":"IF(NFI_Expiration=1,IF($A241<VLOOKUP(L$5,NFI,5,0),1,0)*Table_NFI[[#This Row],[Tarpaulin]],0)","v":0},{"$f":"IF(NFI_Expiration=1,IF($A241<VLOOKUP(M$5,NFI,5,0),1,0)*Table_NFI[[#This Row],[Blanket]],0)","v":50},{"$f":"IF(NFI_Expiration=1,IF($A241<VLOOKUP(N$5,NFI,5,0),1,0)*Table_NFI[[#This Row],[Kitchen Set]],0)","v":0},{"$f":"IF(NFI_Expiration=1,IF($A241<VLOOKUP(O$5,NFI,5,0),1,0)*Table_NFI[[#This Row],[Complementary Kit]],0)","v":0},{"$f":"IF(NFI_Expiration=1,IF($A241<VLOOKUP(P$5,NFI,5,0),1,0)*Table_NFI[[#This Row],[Plastic Bucket]],0)","v":0},{"$f":"IF(NFI_Expiration=1,IF($A241<VLOOKUP(Q$5,NFI,5,0),1,0)*Table_NFI[[#This Row],[Plastic Mat]],0)","v":0},{"$f":"VLOOKUP(Table_NFI[[#This Row],[Camp Name]],Camp_List!N$5:AA$254,2,0)","v":"MMR012CMP090"},{"$f":"VLOOKUP(Table_NFI[[#This Row],[Camp Name]],Camp_List!N$5:AA$254,14,0)","v":"Open"},{"$f":"VLOOKUP(Table_NFI[[#This Row],[Camp Name]],Camp_List!N$5:AC$254,1,1)","v":"Ohn Taw Gyi 3"}]
[7.5333333333333332,"2013-01-18","KOICAT","UNHCR","Rakhine","Sittwe","Ohn Taw Gyi 3",null,null,null,null,null,50,null,null,null,null,{"$f":"IF(NFI_Expiration=1,IF($A242<VLOOKUP(H$5,NFI,5,0),1,0)*Table_NFI[[#This Row],[Hygiene Kit]],0)","v":0},{"$f":"IF(NFI_Expiration=1,IF($A242<VLOOKUP(I$5,NFI,5,0),1,0)*Table_NFI[[#This Row],[NFI Core Kit]],0)","v":0},{"$f":"IF(NFI_Expiration=1,IF($A242<VLOOKUP(J$5,NFI,5,0),1,0)*Table_NFI[[#This Row],[Sanitary Kit]],0)","v":0},{"$f":"IF(NFI_Expiration=1,IF($A242<VLOOKUP(K$5,NFI,5,0),1,0)*Table_NFI[[#This Row],[Mosquito net]],0)","v":0},{"$f":"IF(NFI_Expiration=1,IF($A242<VLOOKUP(L$5,NFI,5,0),1,0)*Table_NFI[[#This Row],[Tarpaulin]],0)","v":0},{"$f":"IF(NFI_Expiration=1,IF($A242<VLOOKUP(M$5,NFI,5,0),1,0)*Table_NFI[[#This Row],[Blanket]],0)","v":50},{"$f":"IF(NFI_Expiration=1,IF($A242<VLOOKUP(N$5,NFI,5,0),1,0)*Table_NFI[[#This Row],[Kitchen Set]],0)","v":0},{"$f":"IF(NFI_Expiration=1,IF($A242<VLOOKUP(O$5,NFI,5,0),1,0)*Table_NFI[[#This Row],[Complementary Kit]],0)","v":0},{"$f":"IF(NFI_Expiration=1,IF($A242<VLOOKUP(P$5,NFI,5,0),1,0)*Table_NFI[[#This Row],[Plastic Bucket]],0)","v":0},{"$f":"IF(NFI_Expiration=1,IF($A242<VLOOKUP(Q$5,NFI,5,0),1,0)*Table_NFI[[#This Row],[Plastic Mat]],0)","v":0},{"$f":"VLOOKUP(Table_NFI[[#This Row],[Camp Name]],Camp_List!N$5:AA$254,2,0)","v":"MMR012CMP090"},{"$f":"VLOOKUP(Table_NFI[[#This Row],[Camp Name]],Camp_List!N$5:AA$254,14,0)","v":"Open"},{"$f":"VLOOKUP(Table_NFI[[#This Row],[Camp Name]],Camp_List!N$5:AC$254,1,1)","v":"Ohn Taw Gyi 3"}]
[7.4333333333333336,"2013-01-21","KOICAT","UNHCR","Rakhine","Sittwe","Ohn Taw Gyi 3",null,null,null,null,null,38,null,null,null,null,{"$f":"IF(NFI_Expiration=1,IF($A243<VLOOKUP(H$5,NFI,5,0),1,0)*Table_NFI[[#This Row],[Hygiene Kit]],0)","v":0},{"$f":"IF(NFI_Expiration=1,IF($A243<VLOOKUP(I$5,NFI,5,0),1,0)*Table_NFI[[#This Row],[NFI Core Kit]],0)","v":0},{"$f":"IF(NFI_Expiration=1,IF($A243<VLOOKUP(J$5,NFI,5,0),1,0)*Table_NFI[[#This Row],[Sanitary Kit]],0)","v":0},{"$f":"IF(NFI_Expiration=1,IF($A243<VLOOKUP(K$5,NFI,5,0),1,0)*Table_NFI[[#This Row],[Mosquito net]],0)","v":0},{"$f":"IF(NFI_Expiration=1,IF($A243<VLOOKUP(L$5,NFI,5,0),1,0)*Table_NFI[[#This Row],[Tarpaulin]],0)","v":0},{"$f":"IF(NFI_Expiration=1,IF($A243<VLOOKUP(M$5,NFI,5,0),1,0)*Table_NFI[[#This Row],[Blanket]],0)","v":38},{"$f":"IF(NFI_Expiration=1,IF($A243<VLOOKUP(N$5,NFI,5,0),1,0)*Table_NFI[[#This Row],[Kitchen Set]],0)","v":0},{"$f":"IF(NFI_Expiration=1,IF($A243<VLOOKUP(O$5,NFI,5,0),1,0)*Table_NFI[[#This Row],[Complementary Kit]],0)","v":0},{"$f":"IF(NFI_Expiration=1,IF($A243<VLOOKUP(P$5,NFI,5,0),1,0)*Table_NFI[[#This Row],[Plastic Bucket]],0)","v":0},{"$f":"IF(NFI_Expiration=1,IF($A243<VLOOKUP(Q$5,NFI,5,0),1,0)*Table_NFI[[#This Row],[Plastic Mat]],0)","v":0},{"$f":"VLOOKUP(Table_NFI[[#This Row],[Camp Name]],Camp_List!N$5:AA$254,2,0)","v":"MMR012CMP090"},{"$f":"VLOOKUP(Table_NFI[[#This Row],[Camp Name]],Camp_List!N$5:AA$254,14,0)","v":"Open"},{"$f":"VLOOKUP(Table_NFI[[#This Row],[Camp Name]],Camp_List!N$5:AC$254,1,1)","v":"Ohn Taw Gyi 3"}]
[13.966666666666667,"2012-07-09","UNHCR",null,"Rakhine","Sittwe","Bamgalar A Wa Kune",null,null,null,null,5,null,null,null,null,null,{"$f":"IF(NFI_Expiration=1,IF($A244<VLOOKUP(H$5,NFI,5,0),1,0)*Table_NFI[[#This Row],[Hygiene Kit]],0)","v":0},{"$f":"IF(NFI_Expiration=1,IF($A244<VLOOKUP(I$5,NFI,5,0),1,0)*Table_NFI[[#This Row],[NFI Core Kit]],0)","v":0},{"$f":"IF(NFI_Expiration=1,IF($A244<VLOOKUP(J$5,NFI,5,0),1,0)*Table_NFI[[#This Row],[Sanitary Kit]],0)","v":0},{"$f":"IF(NFI_Expiration=1,IF($A244<VLOOKUP(K$5,NFI,5,0),1,0)*Table_NFI[[#This Row],[Mosquito net]],0)","v":0},{"$f":"IF(NFI_Expiration=1,IF($A244<VLOOKUP(L$5,NFI,5,0),1,0)*Table_NFI[[#This Row],[Tarpaulin]],0)","v":0},{"$f":"IF(NFI_Expiration=1,IF($A244<VLOOKUP(M$5,NFI,5,0),1,0)*Table_NFI[[#This Row],[Blanket]],0)","v":0},{"$f":"IF(NFI_Expiration=1,IF($A244<VLOOKUP(N$5,NFI,5,0),1,0)*Table_NFI[[#This Row],[Kitchen Set]],0)","v":0},{"$f":"IF(NFI_Expiration=1,IF($A244<VLOOKUP(O$5,NFI,5,0),1,0)*Table_NFI[[#This Row],[Complementary Kit]],0)","v":0},{"$f":"IF(NFI_Expiration=1,IF($A244<VLOOKUP(P$5,NFI,5,0),1,0)*Table_NFI[[#This Row],[Plastic Bucket]],0)","v":0},{"$f":"IF(NFI_Expiration=1,IF($A244<VLOOKUP(Q$5,NFI,5,0),1,0)*Table_NFI[[#This Row],[Plastic Mat]],0)","v":0},{"$f":"VLOOKUP(Table_NFI[[#This Row],[Camp Name]],Camp_List!N$5:AA$254,2,0)","v":{"$error":"#N/A"}},{"$f":"VLOOKUP(Table_NFI[[#This Row],[Camp Name]],Camp_List!N$5:AA$254,14,0)","v":{"$error":"#N/A"}},{"$f":"VLOOKUP(Table_NFI[[#This Row],[Camp Name]],Camp_List!N$5:AC$254,1,1)","v":"Ba Wan Chaung Wa Su"}]
[14.1,"2012-07-05","UNHCR",null,"Rakhine","Sittwe","Boke Daw Maw",null,null,null,null,171,null,null,null,null,null,{"$f":"IF(NFI_Expiration=1,IF($A245<VLOOKUP(H$5,NFI,5,0),1,0)*Table_NFI[[#This Row],[Hygiene Kit]],0)","v":0},{"$f":"IF(NFI_Expiration=1,IF($A245<VLOOKUP(I$5,NFI,5,0),1,0)*Table_NFI[[#This Row],[NFI Core Kit]],0)","v":0},{"$f":"IF(NFI_Expiration=1,IF($A245<VLOOKUP(J$5,NFI,5,0),1,0)*Table_NFI[[#This Row],[Sanitary Kit]],0)","v":0},{"$f":"IF(NFI_Expiration=1,IF($A245<VLOOKUP(K$5,NFI,5,0),1,0)*Table_NFI[[#This Row],[Mosquito net]],0)","v":0},{"$f":"IF(NFI_Expiration=1,IF($A245<VLOOKUP(L$5,NFI,5,0),1,0)*Table_NFI[[#This Row],[Tarpaulin]],0)","v":0},{"$f":"IF(NFI_Expiration=1,IF($A245<VLOOKUP(M$5,NFI,5,0),1,0)*Table_NFI[[#This Row],[Blanket]],0)","v":0},{"$f":"IF(NFI_Expiration=1,IF($A245<VLOOKUP(N$5,NFI,5,0),1,0)*Table_NFI[[#This Row],[Kitchen Set]],0)","v":0},{"$f":"IF(NFI_Expiration=1,IF($A245<VLOOKUP(O$5,NFI,5,0),1,0)*Table_NFI[[#This Row],[Complementary Kit]],0)","v":0},{"$f":"IF(NFI_Expiration=1,IF($A245<VLOOKUP(P$5,NFI,5,0),1,0)*Table_NFI[[#This Row],[Plastic Bucket]],0)","v":0},{"$f":"IF(NFI_Expiration=1,IF($A245<VLOOKUP(Q$5,NFI,5,0),1,0)*Table_NFI[[#This Row],[Plastic Mat]],0)","v":0},{"$f":"VLOOKUP(Table_NFI[[#This Row],[Camp Name]],Camp_List!N$5:AA$254,2,0)","v":{"$error":"#N/A"}},{"$f":"VLOOKUP(Table_NFI[[#This Row],[Camp Name]],Camp_List!N$5:AA$254,14,0)","v":{"$error":"#N/A"}},{"$f":"VLOOKUP(Table_NFI[[#This Row],[Camp Name]],Camp_List!N$5:AC$254,1,1)","v":"Baw Du Pha (IDP in host families)"}]
[14.333333333333334,"2012-06-28","UNHCR",null,"Rakhine","Sittwe","Da Ma Set Kyar",null,null,null,null,52,null,null,null,null,null,{"$f":"IF(NFI_Expiration=1,IF($A246<VLOOKUP(H$5,NFI,5,0),1,0)*Table_NFI[[#This Row],[Hygiene Kit]],0)","v":0},{"$f":"IF(NFI_Expiration=1,IF($A246<VLOOKUP(I$5,NFI,5,0),1,0)*Table_NFI[[#This Row],[NFI Core Kit]],0)","v":0},{"$f":"IF(NFI_Expiration=1,IF($A246<VLOOKUP(J$5,NFI,5,0),1,0)*Table_NFI[[#This Row],[Sanitary Kit]],0)","v":0},{"$f":"IF(NFI_Expiration=1,IF($A246<VLOOKUP(K$5,NFI,5,0),1,0)*Table_NFI[[#This Row],[Mosquito net]],0)","v":0},{"$f":"IF(NFI_Expiration=1,IF($A246<VLOOKUP(L$5,NFI,5,0),1,0)*Table_NFI[[#This Row],[Tarpaulin]],0)","v":0},{"$f":"IF(NFI_Expiration=1,IF($A246<VLOOKUP(M$5,NFI,5,0),1,0)*Table_NFI[[#This Row],[Blanket]],0)","v":0},{"$f":"IF(NFI_Expiration=1,IF($A246<VLOOKUP(N$5,NFI,5,0),1,0)*Table_NFI[[#This Row],[Kitchen Set]],0)","v":0},{"$f":"IF(NFI_Expiration=1,IF($A246<VLOOKUP(O$5,NFI,5,0),1,0)*Table_NFI[[#This Row],[Complementary Kit]],0)","v":0},{"$f":"IF(NFI_Expiration=1,IF($A246<VLOOKUP(P$5,NFI,5,0),1,0)*Table_NFI[[#This Row],[Plastic Bucket]],0)","v":0},{"$f":"IF(NFI_Expiration=1,IF($A246<VLOOKUP(Q$5,NFI,5,0),1,0)*Table_NFI[[#This Row],[Plastic Mat]],0)","v":0},{"$f":"VLOOKUP(Table_NFI[[#This Row],[Camp Name]],Camp_List!N$5:AA$254,2,0)","v":{"$error":"#N/A"}},{"$f":"VLOOKUP(Table_NFI[[#This Row],[Camp Name]],Camp_List!N$5:AA$254,14,0)","v":{"$error":"#N/A"}},{"$f":"VLOOKUP(Table_NFI[[#This Row],[Camp Name]],Camp_List!N$5:AC$254,1,1)","v":"Chein Khar Li"}]
[{"$f":"IF(ISBLANK(B247),\"\",(Report_Date-B247)/30)","v":13.966666666666667},"2012-07-09","UNHCR",null,"Rakhine","Sittwe","Dama Yar Ma",null,null,null,null,10,null,null,null,null,null,{"$f":"IF(NFI_Expiration=1,IF($A247<VLOOKUP(H$5,NFI,5,0),1,0)*Table_NFI[[#This Row],[Hygiene Kit]],0)","v":0},{"$f":"IF(NFI_Expiration=1,IF($A247<VLOOKUP(I$5,NFI,5,0),1,0)*Table_NFI[[#This Row],[NFI Core Kit]],0)","v":0},{"$f":"IF(NFI_Expiration=1,IF($A247<VLOOKUP(J$5,NFI,5,0),1,0)*Table_NFI[[#This Row],[Sanitary Kit]],0)","v":0},{"$f":"IF(NFI_Expiration=1,IF($A247<VLOOKUP(K$5,NFI,5,0),1,0)*Table_NFI[[#This Row],[Mosquito net]],0)","v":0},{"$f":"IF(NFI_Expiration=1,IF($A247<VLOOKUP(L$5,NFI,5,0),1,0)*Table_NFI[[#This Row],[Tarpaulin]],0)","v":0},{"$f":"IF(NFI_Expiration=1,IF($A247<VLOOKUP(M$5,NFI,5,0),1,0)*Table_NFI[[#This Row],[Blanket]],0)","v":0},{"$f":"IF(NFI_Expiration=1,IF($A247<VLOOKUP(N$5,NFI,5,0),1,0)*Table_NFI[[#This Row],[Kitchen Set]],0)","v":0},{"$f":"IF(NFI_Expiration=1,IF($A247<VLOOKUP(O$5,NFI,5,0),1,0)*Table_NFI[[#This Row],[Complementary Kit]],0)","v":0},{"$f":"IF(NFI_Expiration=1,IF($A247<VLOOKUP(P$5,NFI,5,0),1,0)*Table_NFI[[#This Row],[Plastic Bucket]],0)","v":0},{"$f":"IF(NFI_Expiration=1,IF($A247<VLOOKUP(Q$5,NFI,5,0),1,0)*Table_NFI[[#This Row],[Plastic Mat]],0)","v":0},{"$f":"VLOOKUP(Table_NFI[[#This Row],[Camp Name]],Camp_List!N$5:AA$254,2,0)","v":{"$error":"#N/A"}},{"$f":"VLOOKUP(Table_NFI[[#This Row],[Camp Name]],Camp_List!N$5:AA$254,14,0)","v":{"$error":"#N/A"}},{"$f":"VLOOKUP(Table_NFI[[#This Row],[Camp Name]],Camp_List!N$5:AC$254,1,1)","v":"Dama Set Kyar Monastery"}]
[13.933333333333334,"2012-07-10","UNHCR",null,"Rakhine","Sittwe","DamaYeikThar",null,null,null,null,32,null,null,null,null,null,{"$f":"IF(NFI_Expiration=1,IF($A248<VLOOKUP(H$5,NFI,5,0),1,0)*Table_NFI[[#This Row],[Hygiene Kit]],0)","v":0},{"$f":"IF(NFI_Expiration=1,IF($A248<VLOOKUP(I$5,NFI,5,0),1,0)*Table_NFI[[#This Row],[NFI Core Kit]],0)","v":0},{"$f":"IF(NFI_Expiration=1,IF($A248<VLOOKUP(J$5,NFI,5,0),1,0)*Table_NFI[[#This Row],[Sanitary Kit]],0)","v":0},{"$f":"IF(NFI_Expiration=1,IF($A248<VLOOKUP(K$5,NFI,5,0),1,0)*Table_NFI[[#This Row],[Mosquito net]],0)","v":0},{"$f":"IF(NFI_Expiration=1,IF($A248<VLOOKUP(L$5,NFI,5,0),1,0)*Table_NFI[[#This Row],[Tarpaulin]],0)","v":0},{"$f":"IF(NFI_Expiration=1,IF($A248<VLOOKUP(M$5,NFI,5,0),1,0)*Table_NFI[[#This Row],[Blanket]],0)","v":0},{"$f":"IF(NFI_Expiration=1,IF($A248<VLOOKUP(N$5,NFI,5,0),1,0)*Table_NFI[[#This Row],[Kitchen Set]],0)","v":0},{"$f":"IF(NFI_Expiration=1,IF($A248<VLOOKUP(O$5,NFI,5,0),1,0)*Table_NFI[[#This Row],[Complementary Kit]],0)","v":0},{"$f":"IF(NFI_Expiration=1,IF($A248<VLOOKUP(P$5,NFI,5,0),1,0)*Table_NFI[[#This Row],[Plastic Bucket]],0)","v":0},{"$f":"IF(NFI_Expiration=1,IF($A248<VLOOKUP(Q$5,NFI,5,0),1,0)*Table_NFI[[#This Row],[Plastic Mat]],0)","v":0},{"$f":"VLOOKUP(Table_NFI[[#This Row],[Camp Name]],Camp_List!N$5:AA$254,2,0)","v":{"$error":"#N/A"}},{"$f":"VLOOKUP(Table_NFI[[#This Row],[Camp Name]],Camp_List!N$5:AA$254,14,0)","v":{"$error":"#N/A"}},{"$f":"VLOOKUP(Table_NFI[[#This Row],[Camp Name]],Camp_List!N$5:AC$254,1,1)","v":"Dama Set Kyar Monastery"}]
[{"$f":"IF(ISBLANK(B249),\"\",(Report_Date-B249)/30)","v":13.966666666666667},"2012-07-09","UNHCR",null,"Rakhine","Sittwe","Ka Yu Chaung",null,null,null,null,26,null,null,null,null,null,{"$f":"IF(NFI_Expiration=1,IF($A249<VLOOKUP(H$5,NFI,5,0),1,0)*Table_NFI[[#This Row],[Hygiene Kit]],0)","v":0},{"$f":"IF(NFI_Expiration=1,IF($A249<VLOOKUP(I$5,NFI,5,0),1,0)*Table_NFI[[#This Row],[NFI Core Kit]],0)","v":0},{"$f":"IF(NFI_Expiration=1,IF($A249<VLOOKUP(J$5,NFI,5,0),1,0)*Table_NFI[[#This Row],[Sanitary Kit]],0)","v":0},{"$f":"IF(NFI_Expiration=1,IF($A249<VLOOKUP(K$5,NFI,5,0),1,0)*Table_NFI[[#This Row],[Mosquito net]],0)","v":0},{"$f":"IF(NFI_Expiration=1,IF($A249<VLOOKUP(L$5,NFI,5,0),1,0)*Table_NFI[[#This Row],[Tarpaulin]],0)","v":0},{"$f":"IF(NFI_Expiration=1,IF($A249<VLOOKUP(M$5,NFI,5,0),1,0)*Table_NFI[[#This Row],[Blanket]],0)","v":0},{"$f":"IF(NFI_Expiration=1,IF($A249<VLOOKUP(N$5,NFI,5,0),1,0)*Table_NFI[[#This Row],[Kitchen Set]],0)","v":0},{"$f":"IF(NFI_Expiration=1,IF($A249<VLOOKUP(O$5,NFI,5,0),1,0)*Table_NFI[[#This Row],[Complementary Kit]],0)","v":0},{"$f":"IF(NFI_Expiration=1,IF($A249<VLOOKUP(P$5,NFI,5,0),1,0)*Table_NFI[[#This Row],[Plastic Bucket]],0)","v":0},{"$f":"IF(NFI_Expiration=1,IF($A249<VLOOKUP(Q$5,NFI,5,0),1,0)*Table_NFI[[#This Row],[Plastic Mat]],0)","v":0},{"$f":"VLOOKUP(Table_NFI[[#This Row],[Camp Name]],Camp_List!N$5:AA$254,2,0)","v":{"$error":"#N/A"}},{"$f":"VLOOKUP(Table_NFI[[#This Row],[Camp Name]],Camp_List!N$5:AA$254,14,0)","v":{"$error":"#N/A"}},{"$f":"VLOOKUP(Table_NFI[[#This Row],[Camp Name]],Camp_List!N$5:AC$254,1,1)","v":"In Bar Yi"}]
[14.333333333333334,"2012-06-28","UNHCR",null,"Rakhine","Sittwe","Kaw Nyar Na",null,null,null,null,9,null,null,null,null,null,{"$f":"IF(NFI_Expiration=1,IF($A250<VLOOKUP(H$5,NFI,5,0),1,0)*Table_NFI[[#This Row],[Hygiene Kit]],0)","v":0},{"$f":"IF(NFI_Expiration=1,IF($A250<VLOOKUP(I$5,NFI,5,0),1,0)*Table_NFI[[#This Row],[NFI Core Kit]],0)","v":0},{"$f":"IF(NFI_Expiration=1,IF($A250<VLOOKUP(J$5,NFI,5,0),1,0)*Table_NFI[[#This Row],[Sanitary Kit]],0)","v":0},{"$f":"IF(NFI_Expiration=1,IF($A250<VLOOKUP(K$5,NFI,5,0),1,0)*Table_NFI[[#This Row],[Mosquito net]],0)","v":0},{"$f":"IF(NFI_Expiration=1,IF($A250<VLOOKUP(L$5,NFI,5,0),1,0)*Table_NFI[[#This Row],[Tarpaulin]],0)","v":0},{"$f":"IF(NFI_Expiration=1,IF($A250<VLOOKUP(M$5,NFI,5,0),1,0)*Table_NFI[[#This Row],[Blanket]],0)","v":0},{"$f":"IF(NFI_Expiration=1,IF($A250<VLOOKUP(N$5,NFI,5,0),1,0)*Table_NFI[[#This Row],[Kitchen Set]],0)","v":0},{"$f":"IF(NFI_Expiration=1,IF($A250<VLOOKUP(O$5,NFI,5,0),1,0)*Table_NFI[[#This Row],[Complementary Kit]],0)","v":0},{"$f":"IF(NFI_Expiration=1,IF($A250<VLOOKUP(P$5,NFI,5,0),1,0)*Table_NFI[[#This Row],[Plastic Bucket]],0)","v":0},{"$f":"IF(NFI_Expiration=1,IF($A250<VLOOKUP(Q$5,NFI,5,0),1,0)*Table_NFI[[#This Row],[Plastic Mat]],0)","v":0},{"$f":"VLOOKUP(Table_NFI[[#This Row],[Camp Name]],Camp_List!N$5:AA$254,2,0)","v":{"$error":"#N/A"}},{"$f":"VLOOKUP(Table_NFI[[#This Row],[Camp Name]],Camp_List!N$5:AA$254,14,0)","v":{"$error":"#N/A"}},{"$f":"VLOOKUP(Table_NFI[[#This Row],[Camp Name]],Camp_List!N$5:AC$254,1,1)","v":"Kan Thar Yar"}]
[13.966666666666667,"2012-07-09","UNHCR",null,"Rakhine","Sittwe","Kha Maung Taw",null,null,null,null,12,null,null,null,null,null,{"$f":"IF(NFI_Expiration=1,IF($A251<VLOOKUP(H$5,NFI,5,0),1,0)*Table_NFI[[#This Row],[Hygiene Kit]],0)","v":0},{"$f":"IF(NFI_Expiration=1,IF($A251<VLOOKUP(I$5,NFI,5,0),1,0)*Table_NFI[[#This Row],[NFI Core Kit]],0)","v":0},{"$f":"IF(NFI_Expiration=1,IF($A251<VLOOKUP(J$5,NFI,5,0),1,0)*Table_NFI[[#This Row],[Sanitary Kit]],0)","v":0},{"$f":"IF(NFI_Expiration=1,IF($A251<VLOOKUP(K$5,NFI,5,0),1,0)*Table_NFI[[#This Row],[Mosquito net]],0)","v":0},{"$f":"IF(NFI_Expiration=1,IF($A251<VLOOKUP(L$5,NFI,5,0),1,0)*Table_NFI[[#This Row],[Tarpaulin]],0)","v":0},{"$f":"IF(NFI_Expiration=1,IF($A251<VLOOKUP(M$5,NFI,5,0),1,0)*Table_NFI[[#This Row],[Blanket]],0)","v":0},{"$f":"IF(NFI_Expiration=1,IF($A251<VLOOKUP(N$5,NFI,5,0),1,0)*Table_NFI[[#This Row],[Kitchen Set]],0)","v":0},{"$f":"IF(NFI_Expiration=1,IF($A251<VLOOKUP(O$5,NFI,5,0),1,0)*Table_NFI[[#This Row],[Complementary Kit]],0)","v":0},{"$f":"IF(NFI_Expiration=1,IF($A251<VLOOKUP(P$5,NFI,5,0),1,0)*Table_NFI[[#This Row],[Plastic Bucket]],0)","v":0},{"$f":"IF(NFI_Expiration=1,IF($A251<VLOOKUP(Q$5,NFI,5,0),1,0)*Table_NFI[[#This Row],[Plastic Mat]],0)","v":0},{"$f":"VLOOKUP(Table_NFI[[#This Row],[Camp Name]],Camp_List!N$5:AA$254,2,0)","v":{"$error":"#N/A"}},{"$f":"VLOOKUP(Table_NFI[[#This Row],[Camp Name]],Camp_List!N$5:AA$254,14,0)","v":{"$error":"#N/A"}},{"$f":"VLOOKUP(Table_NFI[[#This Row],[Camp Name]],Camp_List!N$5:AC$254,1,1)","v":"Kan Thar Yar"}]
[14.266666666666667,"2012-06-30","UNHCR",null,"Rakhine","Sittwe","Khaung Laung",null,null,null,null,36,null,null,null,null,null,{"$f":"IF(NFI_Expiration=1,IF($A252<VLOOKUP(H$5,NFI,5,0),1,0)*Table_NFI[[#This Row],[Hygiene Kit]],0)","v":0},{"$f":"IF(NFI_Expiration=1,IF($A252<VLOOKUP(I$5,NFI,5,0),1,0)*Table_NFI[[#This Row],[NFI Core Kit]],0)","v":0},{"$f":"IF(NFI_Expiration=1,IF($A252<VLOOKUP(J$5,NFI,5,0),1,0)*Table_NFI[[#This Row],[Sanitary Kit]],0)","v":0},{"$f":"IF(NFI_Expiration=1,IF($A252<VLOOKUP(K$5,NFI,5,0),1,0)*Table_NFI[[#This Row],[Mosquito net]],0)","v":0},{"$f":"IF(NFI_Expiration=1,IF($A252<VLOOKUP(L$5,NFI,5,0),1,0)*Table_NFI[[#This Row],[Tarpaulin]],0)","v":0},{"$f":"IF(NFI_Expiration=1,IF($A252<VLOOKUP(M$5,NFI,5,0),1,0)*Table_NFI[[#This Row],[Blanket]],0)","v":0},{"$f":"IF(NFI_Expiration=1,IF($A252<VLOOKUP(N$5,NFI,5,0),1,0)*Table_NFI[[#This Row],[Kitchen Set]],0)","v":0},{"$f":"IF(NFI_Expiration=1,IF($A252<VLOOKUP(O$5,NFI,5,0),1,0)*Table_NFI[[#This Row],[Complementary Kit]],0)","v":0},{"$f":"IF(NFI_Expiration=1,IF($A252<VLOOKUP(P$5,NFI,5,0),1,0)*Table_NFI[[#This Row],[Plastic Bucket]],0)","v":0},{"$f":"IF(NFI_Expiration=1,IF($A252<VLOOKUP(Q$5,NFI,5,0),1,0)*Table_NFI[[#This Row],[Plastic Mat]],0)","v":0},{"$f":"VLOOKUP(Table_NFI[[#This Row],[Camp Name]],Camp_List!N$5:AA$254,2,0)","v":{"$error":"#N/A"}},{"$f":"VLOOKUP(Table_NFI[[#This Row],[Camp Name]],Camp_List!N$5:AA$254,14,0)","v":{"$error":"#N/A"}},{"$f":"VLOOKUP(Table_NFI[[#This Row],[Camp Name]],Camp_List!N$5:AC$254,1,1)","v":"Khaung Htoke"}]
[13.866666666666667,"2012-07-12","UNHCR",null,"Rakhine","Sittwe","Khaymarmandine",null,null,null,null,4,null,null,null,null,null,{"$f":"IF(NFI_Expiration=1,IF($A253<VLOOKUP(H$5,NFI,5,0),1,0)*Table_NFI[[#This Row],[Hygiene Kit]],0)","v":0},{"$f":"IF(NFI_Expiration=1,IF($A253<VLOOKUP(I$5,NFI,5,0),1,0)*Table_NFI[[#This Row],[NFI Core Kit]],0)","v":0},{"$f":"IF(NFI_Expiration=1,IF($A253<VLOOKUP(J$5,NFI,5,0),1,0)*Table_NFI[[#This Row],[Sanitary Kit]],0)","v":0},{"$f":"IF(NFI_Expiration=1,IF($A253<VLOOKUP(K$5,NFI,5,0),1,0)*Table_NFI[[#This Row],[Mosquito net]],0)","v":0},{"$f":"IF(NFI_Expiration=1,IF($A253<VLOOKUP(L$5,NFI,5,0),1,0)*Table_NFI[[#This Row],[Tarpaulin]],0)","v":0},{"$f":"IF(NFI_Expiration=1,IF($A253<VLOOKUP(M$5,NFI,5,0),1,0)*Table_NFI[[#This Row],[Blanket]],0)","v":0},{"$f":"IF(NFI_Expiration=1,IF($A253<VLOOKUP(N$5,NFI,5,0),1,0)*Table_NFI[[#This Row],[Kitchen Set]],0)","v":0},{"$f":"IF(NFI_Expiration=1,IF($A253<VLOOKUP(O$5,NFI,5,0),1,0)*Table_NFI[[#This Row],[Complementary Kit]],0)","v":0},{"$f":"IF(NFI_Expiration=1,IF($A253<VLOOKUP(P$5,NFI,5,0),1,0)*Table_NFI[[#This Row],[Plastic Bucket]],0)","v":0},{"$f":"IF(NFI_Expiration=1,IF($A253<VLOOKUP(Q$5,NFI,5,0),1,0)*Table_NFI[[#This Row],[Plastic Mat]],0)","v":0},{"$f":"VLOOKUP(Table_NFI[[#This Row],[Camp Name]],Camp_List!N$5:AA$254,2,0)","v":{"$error":"#N/A"}},{"$f":"VLOOKUP(Table_NFI[[#This Row],[Camp Name]],Camp_List!N$5:AA$254,14,0)","v":{"$error":"#N/A"}},{"$f":"VLOOKUP(Table_NFI[[#This Row],[Camp Name]],Camp_List!N$5:AC$254,1,1)","v":"Khaung Htoke"}]
[14.033333333333333,"2012-07-07","UNHCR",null,"Rakhine","Sittwe","Kyar Yoke",null,null,null,null,33,null,null,null,null,null,{"$f":"IF(NFI_Expiration=1,IF($A254<VLOOKUP(H$5,NFI,5,0),1,0)*Table_NFI[[#This Row],[Hygiene Kit]],0)","v":0},{"$f":"IF(NFI_Expiration=1,IF($A254<VLOOKUP(I$5,NFI,5,0),1,0)*Table_NFI[[#This Row],[NFI Core Kit]],0)","v":0},{"$f":"IF(NFI_Expiration=1,IF($A254<VLOOKUP(J$5,NFI,5,0),1,0)*Table_NFI[[#This Row],[Sanitary Kit]],0)","v":0},{"$f":"IF(NFI_Expiration=1,IF($A254<VLOOKUP(K$5,NFI,5,0),1,0)*Table_NFI[[#This Row],[Mosquito net]],0)","v":0},{"$f":"IF(NFI_Expiration=1,IF($A254<VLOOKUP(L$5,NFI,5,0),1,0)*Table_NFI[[#This Row],[Tarpaulin]],0)","v":0},{"$f":"IF(NFI_Expiration=1,IF($A254<VLOOKUP(M$5,NFI,5,0),1,0)*Table_NFI[[#This Row],[Blanket]],0)","v":0},{"$f":"IF(NFI_Expiration=1,IF($A254<VLOOKUP(N$5,NFI,5,0),1,0)*Table_NFI[[#This Row],[Kitchen Set]],0)","v":0},{"$f":"IF(NFI_Expiration=1,IF($A254<VLOOKUP(O$5,NFI,5,0),1,0)*Table_NFI[[#This Row],[Complementary Kit]],0)","v":0},{"$f":"IF(NFI_Expiration=1,IF($A254<VLOOKUP(P$5,NFI,5,0),1,0)*Table_NFI[[#This Row],[Plastic Bucket]],0)","v":0},{"$f":"IF(NFI_Expiration=1,IF($A254<VLOOKUP(Q$5,NFI,5,0),1,0)*Table_NFI[[#This Row],[Plastic Mat]],0)","v":0},{"$f":"VLOOKUP(Table_NFI[[#This Row],[Camp Name]],Camp_List!N$5:AA$254,2,0)","v":{"$error":"#N/A"}},{"$f":"VLOOKUP(Table_NFI[[#This Row],[Camp Name]],Camp_List!N$5:AA$254,14,0)","v":{"$error":"#N/A"}},{"$f":"VLOOKUP(Table_NFI[[#This Row],[Camp Name]],Camp_List!N$5:AC$254,1,1)","v":"Kyaing Gyi"}]
[13.966666666666667,"2012-07-09","UNHCR",null,"Rakhine","Sittwe","KyaungGyiLan",null,null,null,null,23,null,null,null,null,null,{"$f":"IF(NFI_Expiration=1,IF($A255<VLOOKUP(H$5,NFI,5,0),1,0)*Table_NFI[[#This Row],[Hygiene Kit]],0)","v":0},{"$f":"IF(NFI_Expiration=1,IF($A255<VLOOKUP(I$5,NFI,5,0),1,0)*Table_NFI[[#This Row],[NFI Core Kit]],0)","v":0},{"$f":"IF(NFI_Expiration=1,IF($A255<VLOOKUP(J$5,NFI,5,0),1,0)*Table_NFI[[#This Row],[Sanitary Kit]],0)","v":0},{"$f":"IF(NFI_Expiration=1,IF($A255<VLOOKUP(K$5,NFI,5,0),1,0)*Table_NFI[[#This Row],[Mosquito net]],0)","v":0},{"$f":"IF(NFI_Expiration=1,IF($A255<VLOOKUP(L$5,NFI,5,0),1,0)*Table_NFI[[#This Row],[Tarpaulin]],0)","v":0},{"$f":"IF(NFI_Expiration=1,IF($A255<VLOOKUP(M$5,NFI,5,0),1,0)*Table_NFI[[#This Row],[Blanket]],0)","v":0},{"$f":"IF(NFI_Expiration=1,IF($A255<VLOOKUP(N$5,NFI,5,0),1,0)*Table_NFI[[#This Row],[Kitchen Set]],0)","v":0},{"$f":"IF(NFI_Expiration=1,IF($A255<VLOOKUP(O$5,NFI,5,0),1,0)*Table_NFI[[#This Row],[Complementary Kit]],0)","v":0},{"$f":"IF(NFI_Expiration=1,IF($A255<VLOOKUP(P$5,NFI,5,0),1,0)*Table_NFI[[#This Row],[Plastic Bucket]],0)","v":0},{"$f":"IF(NFI_Expiration=1,IF($A255<VLOOKUP(Q$5,NFI,5,0),1,0)*Table_NFI[[#This Row],[Plastic Mat]],0)","v":0},{"$f":"VLOOKUP(Table_NFI[[#This Row],[Camp Name]],Camp_List!N$5:AA$254,2,0)","v":{"$error":"#N/A"}},{"$f":"VLOOKUP(Table_NFI[[#This Row],[Camp Name]],Camp_List!N$5:AA$254,14,0)","v":{"$error":"#N/A"}},{"$f":"VLOOKUP(Table_NFI[[#This Row],[Camp Name]],Camp_List!N$5:AC$254,1,1)","v":"Kyauk Ta Lone"}]
[14.366666666666667,"2012-06-27","UNHCR",null,"Rakhine","Sittwe","MahaKuthaLa",null,null,null,null,11,null,null,null,null,null,{"$f":"IF(NFI_Expiration=1,IF($A256<VLOOKUP(H$5,NFI,5,0),1,0)*Table_NFI[[#This Row],[Hygiene Kit]],0)","v":0},{"$f":"IF(NFI_Expiration=1,IF($A256<VLOOKUP(I$5,NFI,5,0),1,0)*Table_NFI[[#This Row],[NFI Core Kit]],0)","v":0},{"$f":"IF(NFI_Expiration=1,IF($A256<VLOOKUP(J$5,NFI,5,0),1,0)*Table_NFI[[#This Row],[Sanitary Kit]],0)","v":0},{"$f":"IF(NFI_Expiration=1,IF($A256<VLOOKUP(K$5,NFI,5,0),1,0)*Table_NFI[[#This Row],[Mosquito net]],0)","v":0},{"$f":"IF(NFI_Expiration=1,IF($A256<VLOOKUP(L$5,NFI,5,0),1,0)*Table_NFI[[#This Row],[Tarpaulin]],0)","v":0},{"$f":"IF(NFI_Expiration=1,IF($A256<VLOOKUP(M$5,NFI,5,0),1,0)*Table_NFI[[#This Row],[Blanket]],0)","v":0},{"$f":"IF(NFI_Expiration=1,IF($A256<VLOOKUP(N$5,NFI,5,0),1,0)*Table_NFI[[#This Row],[Kitchen Set]],0)","v":0},{"$f":"IF(NFI_Expiration=1,IF($A256<VLOOKUP(O$5,NFI,5,0),1,0)*Table_NFI[[#This Row],[Complementary Kit]],0)","v":0},{"$f":"IF(NFI_Expiration=1,IF($A256<VLOOKUP(P$5,NFI,5,0),1,0)*Table_NFI[[#This Row],[Plastic Bucket]],0)","v":0},{"$f":"IF(NFI_Expiration=1,IF($A256<VLOOKUP(Q$5,NFI,5,0),1,0)*Table_NFI[[#This Row],[Plastic Mat]],0)","v":0},{"$f":"VLOOKUP(Table_NFI[[#This Row],[Camp Name]],Camp_List!N$5:AA$254,2,0)","v":{"$error":"#N/A"}},{"$f":"VLOOKUP(Table_NFI[[#This Row],[Camp Name]],Camp_List!N$5:AA$254,14,0)","v":{"$error":"#N/A"}},{"$f":"VLOOKUP(Table_NFI[[#This Row],[Camp Name]],Camp_List!N$5:AC$254,1,1)","v":"Ma Ni Yadanar Monastery"}]
[14.3,"2012-06-29","UNHCR",null,"Rakhine","Sittwe","Mahar Zay Ya Theik",null,null,null,null,37,null,null,null,null,null,{"$f":"IF(NFI_Expiration=1,IF($A257<VLOOKUP(H$5,NFI,5,0),1,0)*Table_NFI[[#This Row],[Hygiene Kit]],0)","v":0},{"$f":"IF(NFI_Expiration=1,IF($A257<VLOOKUP(I$5,NFI,5,0),1,0)*Table_NFI[[#This Row],[NFI Core Kit]],0)","v":0},{"$f":"IF(NFI_Expiration=1,IF($A257<VLOOKUP(J$5,NFI,5,0),1,0)*Table_NFI[[#This Row],[Sanitary Kit]],0)","v":0},{"$f":"IF(NFI_Expiration=1,IF($A257<VLOOKUP(K$5,NFI,5,0),1,0)*Table_NFI[[#This Row],[Mosquito net]],0)","v":0},{"$f":"IF(NFI_Expiration=1,IF($A257<VLOOKUP(L$5,NFI,5,0),1,0)*Table_NFI[[#This Row],[Tarpaulin]],0)","v":0},{"$f":"IF(NFI_Expiration=1,IF($A257<VLOOKUP(M$5,NFI,5,0),1,0)*Table_NFI[[#This Row],[Blanket]],0)","v":0},{"$f":"IF(NFI_Expiration=1,IF($A257<VLOOKUP(N$5,NFI,5,0),1,0)*Table_NFI[[#This Row],[Kitchen Set]],0)","v":0},{"$f":"IF(NFI_Expiration=1,IF($A257<VLOOKUP(O$5,NFI,5,0),1,0)*Table_NFI[[#This Row],[Complementary Kit]],0)","v":0},{"$f":"IF(NFI_Expiration=1,IF($A257<VLOOKUP(P$5,NFI,5,0),1,0)*Table_NFI[[#This Row],[Plastic Bucket]],0)","v":0},{"$f":"IF(NFI_Expiration=1,IF($A257<VLOOKUP(Q$5,NFI,5,0),1,0)*Table_NFI[[#This Row],[Plastic Mat]],0)","v":0},{"$f":"VLOOKUP(Table_NFI[[#This Row],[Camp Name]],Camp_List!N$5:AA$254,2,0)","v":{"$error":"#N/A"}},{"$f":"VLOOKUP(Table_NFI[[#This Row],[Camp Name]],Camp_List!N$5:AA$254,14,0)","v":{"$error":"#N/A"}},{"$f":"VLOOKUP(Table_NFI[[#This Row],[Camp Name]],Camp_List!N$5:AC$254,1,1)","v":"Ma Ni Yadanar Monastery"}]
[13.966666666666667,"2012-07-09","UNHCR",null,"Rakhine","Sittwe","MaYarMaGyi-old",null,null,null,null,36,null,null,null,null,null,{"$f":"IF(NFI_Expiration=1,IF($A258<VLOOKUP(H$5,NFI,5,0),1,0)*Table_NFI[[#This Row],[Hygiene Kit]],0)","v":0},{"$f":"IF(NFI_Expiration=1,IF($A258<VLOOKUP(I$5,NFI,5,0),1,0)*Table_NFI[[#This Row],[NFI Core Kit]],0)","v":0},{"$f":"IF(NFI_Expiration=1,IF($A258<VLOOKUP(J$5,NFI,5,0),1,0)*Table_NFI[[#This Row],[Sanitary Kit]],0)","v":0},{"$f":"IF(NFI_Expiration=1,IF($A258<VLOOKUP(K$5,NFI,5,0),1,0)*Table_NFI[[#This Row],[Mosquito net]],0)","v":0},{"$f":"IF(NFI_Expiration=1,IF($A258<VLOOKUP(L$5,NFI,5,0),1,0)*Table_NFI[[#This Row],[Tarpaulin]],0)","v":0},{"$f":"IF(NFI_Expiration=1,IF($A258<VLOOKUP(M$5,NFI,5,0),1,0)*Table_NFI[[#This Row],[Blanket]],0)","v":0},{"$f":"IF(NFI_Expiration=1,IF($A258<VLOOKUP(N$5,NFI,5,0),1,0)*Table_NFI[[#This Row],[Kitchen Set]],0)","v":0},{"$f":"IF(NFI_Expiration=1,IF($A258<VLOOKUP(O$5,NFI,5,0),1,0)*Table_NFI[[#This Row],[Complementary Kit]],0)","v":0},{"$f":"IF(NFI_Expiration=1,IF($A258<VLOOKUP(P$5,NFI,5,0),1,0)*Table_NFI[[#This Row],[Plastic Bucket]],0)","v":0},{"$f":"IF(NFI_Expiration=1,IF($A258<VLOOKUP(Q$5,NFI,5,0),1,0)*Table_NFI[[#This Row],[Plastic Mat]],0)","v":0},{"$f":"VLOOKUP(Table_NFI[[#This Row],[Camp Name]],Camp_List!N$5:AA$254,2,0)","v":{"$error":"#N/A"}},{"$f":"VLOOKUP(Table_NFI[[#This Row],[Camp Name]],Camp_List!N$5:AA$254,14,0)","v":{"$error":"#N/A"}},{"$f":"VLOOKUP(Table_NFI[[#This Row],[Camp Name]],Camp_List!N$5:AC$254,1,1)","v":"Maw Ya Waddy"}]
[13.9,"2012-07-11","UNHCR",null,"Rakhine","Sittwe","MinnGanHighSchool",null,null,null,null,492,null,null,null,null,null,{"$f":"IF(NFI_Expiration=1,IF($A259<VLOOKUP(H$5,NFI,5,0),1,0)*Table_NFI[[#This Row],[Hygiene Kit]],0)","v":0},{"$f":"IF(NFI_Expiration=1,IF($A259<VLOOKUP(I$5,NFI,5,0),1,0)*Table_NFI[[#This Row],[NFI Core Kit]],0)","v":0},{"$f":"IF(NFI_Expiration=1,IF($A259<VLOOKUP(J$5,NFI,5,0),1,0)*Table_NFI[[#This Row],[Sanitary Kit]],0)","v":0},{"$f":"IF(NFI_Expiration=1,IF($A259<VLOOKUP(K$5,NFI,5,0),1,0)*Table_NFI[[#This Row],[Mosquito net]],0)","v":0},{"$f":"IF(NFI_Expiration=1,IF($A259<VLOOKUP(L$5,NFI,5,0),1,0)*Table_NFI[[#This Row],[Tarpaulin]],0)","v":0},{"$f":"IF(NFI_Expiration=1,IF($A259<VLOOKUP(M$5,NFI,5,0),1,0)*Table_NFI[[#This Row],[Blanket]],0)","v":0},{"$f":"IF(NFI_Expiration=1,IF($A259<VLOOKUP(N$5,NFI,5,0),1,0)*Table_NFI[[#This Row],[Kitchen Set]],0)","v":0},{"$f":"IF(NFI_Expiration=1,IF($A259<VLOOKUP(O$5,NFI,5,0),1,0)*Table_NFI[[#This Row],[Complementary Kit]],0)","v":0},{"$f":"IF(NFI_Expiration=1,IF($A259<VLOOKUP(P$5,NFI,5,0),1,0)*Table_NFI[[#This Row],[Plastic Bucket]],0)","v":0},{"$f":"IF(NFI_Expiration=1,IF($A259<VLOOKUP(Q$5,NFI,5,0),1,0)*Table_NFI[[#This Row],[Plastic Mat]],0)","v":0},{"$f":"VLOOKUP(Table_NFI[[#This Row],[Camp Name]],Camp_List!N$5:AA$254,2,0)","v":{"$error":"#N/A"}},{"$f":"VLOOKUP(Table_NFI[[#This Row],[Camp Name]],Camp_List!N$5:AA$254,14,0)","v":{"$error":"#N/A"}},{"$f":"VLOOKUP(Table_NFI[[#This Row],[Camp Name]],Camp_List!N$5:AC$254,1,1)","v":"Mingan"}]
[13.933333333333334,"2012-07-10","UNHCR",null,"Rakhine","Sittwe","MyaTheinTan",null,null,null,null,5,null,null,null,null,null,{"$f":"IF(NFI_Expiration=1,IF($A260<VLOOKUP(H$5,NFI,5,0),1,0)*Table_NFI[[#This Row],[Hygiene Kit]],0)","v":0},{"$f":"IF(NFI_Expiration=1,IF($A260<VLOOKUP(I$5,NFI,5,0),1,0)*Table_NFI[[#This Row],[NFI Core Kit]],0)","v":0},{"$f":"IF(NFI_Expiration=1,IF($A260<VLOOKUP(J$5,NFI,5,0),1,0)*Table_NFI[[#This Row],[Sanitary Kit]],0)","v":0},{"$f":"IF(NFI_Expiration=1,IF($A260<VLOOKUP(K$5,NFI,5,0),1,0)*Table_NFI[[#This Row],[Mosquito net]],0)","v":0},{"$f":"IF(NFI_Expiration=1,IF($A260<VLOOKUP(L$5,NFI,5,0),1,0)*Table_NFI[[#This Row],[Tarpaulin]],0)","v":0},{"$f":"IF(NFI_Expiration=1,IF($A260<VLOOKUP(M$5,NFI,5,0),1,0)*Table_NFI[[#This Row],[Blanket]],0)","v":0},{"$f":"IF(NFI_Expiration=1,IF($A260<VLOOKUP(N$5,NFI,5,0),1,0)*Table_NFI[[#This Row],[Kitchen Set]],0)","v":0},{"$f":"IF(NFI_Expiration=1,IF($A260<VLOOKUP(O$5,NFI,5,0),1,0)*Table_NFI[[#This Row],[Complementary Kit]],0)","v":0},{"$f":"IF(NFI_Expiration=1,IF($A260<VLOOKUP(P$5,NFI,5,0),1,0)*Table_NFI[[#This Row],[Plastic Bucket]],0)","v":0},{"$f":"IF(NFI_Expiration=1,IF($A260<VLOOKUP(Q$5,NFI,5,0),1,0)*Table_NFI[[#This Row],[Plastic Mat]],0)","v":0},{"$f":"VLOOKUP(Table_NFI[[#This Row],[Camp Name]],Camp_List!N$5:AA$254,2,0)","v":{"$error":"#N/A"}},{"$f":"VLOOKUP(Table_NFI[[#This Row],[Camp Name]],Camp_List!N$5:AA$254,14,0)","v":{"$error":"#N/A"}},{"$f":"VLOOKUP(Table_NFI[[#This Row],[Camp Name]],Camp_List!N$5:AC$254,1,1)","v":"Myat Buddha Mandine Monastery"}]
[14.266666666666667,"2012-06-30","UNHCR",null,"Rakhine","Sittwe","Nyar Ni Kar Ya Ma",null,null,null,null,36,null,null,null,null,null,{"$f":"IF(NFI_Expiration=1,IF($A261<VLOOKUP(H$5,NFI,5,0),1,0)*Table_NFI[[#This Row],[Hygiene Kit]],0)","v":0},{"$f":"IF(NFI_Expiration=1,IF($A261<VLOOKUP(I$5,NFI,5,0),1,0)*Table_NFI[[#This Row],[NFI Core Kit]],0)","v":0},{"$f":"IF(NFI_Expiration=1,IF($A261<VLOOKUP(J$5,NFI,5,0),1,0)*Table_NFI[[#This Row],[Sanitary Kit]],0)","v":0},{"$f":"IF(NFI_Expiration=1,IF($A261<VLOOKUP(K$5,NFI,5,0),1,0)*Table_NFI[[#This Row],[Mosquito net]],0)","v":0},{"$f":"IF(NFI_Expiration=1,IF($A261<VLOOKUP(L$5,NFI,5,0),1,0)*Table_NFI[[#This Row],[Tarpaulin]],0)","v":0},{"$f":"IF(NFI_Expiration=1,IF($A261<VLOOKUP(M$5,NFI,5,0),1,0)*Table_NFI[[#This Row],[Blanket]],0)","v":0},{"$f":"IF(NFI_Expiration=1,IF($A261<VLOOKUP(N$5,NFI,5,0),1,0)*Table_NFI[[#This Row],[Kitchen Set]],0)","v":0},{"$f":"IF(NFI_Expiration=1,IF($A261<VLOOKUP(O$5,NFI,5,0),1,0)*Table_NFI[[#This Row],[Complementary Kit]],0)","v":0},{"$f":"IF(NFI_Expiration=1,IF($A261<VLOOKUP(P$5,NFI,5,0),1,0)*Table_NFI[[#This Row],[Plastic Bucket]],0)","v":0},{"$f":"IF(NFI_Expiration=1,IF($A261<VLOOKUP(Q$5,NFI,5,0),1,0)*Table_NFI[[#This Row],[Plastic Mat]],0)","v":0},{"$f":"VLOOKUP(Table_NFI[[#This Row],[Camp Name]],Camp_List!N$5:AA$254,2,0)","v":{"$error":"#N/A"}},{"$f":"VLOOKUP(Table_NFI[[#This Row],[Camp Name]],Camp_List!N$5:AA$254,14,0)","v":{"$error":"#N/A"}},{"$f":"VLOOKUP(Table_NFI[[#This Row],[Camp Name]],Camp_List!N$5:AC$254,1,1)","v":"Nidin"}]
[13.933333333333334,"2012-07-10","UNHCR",null,"Rakhine","Sittwe","OhnTaPin",null,null,null,null,16,null,null,null,null,null,{"$f":"IF(NFI_Expiration=1,IF($A262<VLOOKUP(H$5,NFI,5,0),1,0)*Table_NFI[[#This Row],[Hygiene Kit]],0)","v":0},{"$f":"IF(NFI_Expiration=1,IF($A262<VLOOKUP(I$5,NFI,5,0),1,0)*Table_NFI[[#This Row],[NFI Core Kit]],0)","v":0},{"$f":"IF(NFI_Expiration=1,IF($A262<VLOOKUP(J$5,NFI,5,0),1,0)*Table_NFI[[#This Row],[Sanitary Kit]],0)","v":0},{"$f":"IF(NFI_Expiration=1,IF($A262<VLOOKUP(K$5,NFI,5,0),1,0)*Table_NFI[[#This Row],[Mosquito net]],0)","v":0},{"$f":"IF(NFI_Expiration=1,IF($A262<VLOOKUP(L$5,NFI,5,0),1,0)*Table_NFI[[#This Row],[Tarpaulin]],0)","v":0},{"$f":"IF(NFI_Expiration=1,IF($A262<VLOOKUP(M$5,NFI,5,0),1,0)*Table_NFI[[#This Row],[Blanket]],0)","v":0},{"$f":"IF(NFI_Expiration=1,IF($A262<VLOOKUP(N$5,NFI,5,0),1,0)*Table_NFI[[#This Row],[Kitchen Set]],0)","v":0},{"$f":"IF(NFI_Expiration=1,IF($A262<VLOOKUP(O$5,NFI,5,0),1,0)*Table_NFI[[#This Row],[Complementary Kit]],0)","v":0},{"$f":"IF(NFI_Expiration=1,IF($A262<VLOOKUP(P$5,NFI,5,0),1,0)*Table_NFI[[#This Row],[Plastic Bucket]],0)","v":0},{"$f":"IF(NFI_Expiration=1,IF($A262<VLOOKUP(Q$5,NFI,5,0),1,0)*Table_NFI[[#This Row],[Plastic Mat]],0)","v":0},{"$f":"VLOOKUP(Table_NFI[[#This Row],[Camp Name]],Camp_List!N$5:AA$254,2,0)","v":{"$error":"#N/A"}},{"$f":"VLOOKUP(Table_NFI[[#This Row],[Camp Name]],Camp_List!N$5:AA$254,14,0)","v":{"$error":"#N/A"}},{"$f":"VLOOKUP(Table_NFI[[#This Row],[Camp Name]],Camp_List!N$5:AC$254,1,1)","v":"Ohn Taw Gyi 5"}]
[14.333333333333334,"2012-06-28","UNHCR",null,"Rakhine","Sittwe","Phyin Nyar Ag Myay",null,null,null,null,11,null,null,null,null,null,{"$f":"IF(NFI_Expiration=1,IF($A263<VLOOKUP(H$5,NFI,5,0),1,0)*Table_NFI[[#This Row],[Hygiene Kit]],0)","v":0},{"$f":"IF(NFI_Expiration=1,IF($A263<VLOOKUP(I$5,NFI,5,0),1,0)*Table_NFI[[#This Row],[NFI Core Kit]],0)","v":0},{"$f":"IF(NFI_Expiration=1,IF($A263<VLOOKUP(J$5,NFI,5,0),1,0)*Table_NFI[[#This Row],[Sanitary Kit]],0)","v":0},{"$f":"IF(NFI_Expiration=1,IF($A263<VLOOKUP(K$5,NFI,5,0),1,0)*Table_NFI[[#This Row],[Mosquito net]],0)","v":0},{"$f":"IF(NFI_Expiration=1,IF($A263<VLOOKUP(L$5,NFI,5,0),1,0)*Table_NFI[[#This Row],[Tarpaulin]],0)","v":0},{"$f":"IF(NFI_Expiration=1,IF($A263<VLOOKUP(M$5,NFI,5,0),1,0)*Table_NFI[[#This Row],[Blanket]],0)","v":0},{"$f":"IF(NFI_Expiration=1,IF($A263<VLOOKUP(N$5,NFI,5,0),1,0)*Table_NFI[[#This Row],[Kitchen Set]],0)","v":0},{"$f":"IF(NFI_Expiration=1,IF($A263<VLOOKUP(O$5,NFI,5,0),1,0)*Table_NFI[[#This Row],[Complementary Kit]],0)","v":0},{"$f":"IF(NFI_Expiration=1,IF($A263<VLOOKUP(P$5,NFI,5,0),1,0)*Table_NFI[[#This Row],[Plastic Bucket]],0)","v":0},{"$f":"IF(NFI_Expiration=1,IF($A263<VLOOKUP(Q$5,NFI,5,0),1,0)*Table_NFI[[#This Row],[Plastic Mat]],0)","v":0},{"$f":"VLOOKUP(Table_NFI[[#This Row],[Camp Name]],Camp_List!N$5:AA$254,2,0)","v":{"$error":"#N/A"}},{"$f":"VLOOKUP(Table_NFI[[#This Row],[Camp Name]],Camp_List!N$5:AA$254,14,0)","v":{"$error":"#N/A"}},{"$f":"VLOOKUP(Table_NFI[[#This Row],[Camp Name]],Camp_List!N$5:AC$254,1,1)","v":"Phwe Yar Kone"}]
[13.966666666666667,"2012-07-09","UNHCR",null,"Rakhine","Sittwe","PyinNyarLinkarya",null,null,null,null,33,null,null,null,null,null,{"$f":"IF(NFI_Expiration=1,IF($A264<VLOOKUP(H$5,NFI,5,0),1,0)*Table_NFI[[#This Row],[Hygiene Kit]],0)","v":0},{"$f":"IF(NFI_Expiration=1,IF($A264<VLOOKUP(I$5,NFI,5,0),1,0)*Table_NFI[[#This Row],[NFI Core Kit]],0)","v":0},{"$f":"IF(NFI_Expiration=1,IF($A264<VLOOKUP(J$5,NFI,5,0),1,0)*Table_NFI[[#This Row],[Sanitary Kit]],0)","v":0},{"$f":"IF(NFI_Expiration=1,IF($A264<VLOOKUP(K$5,NFI,5,0),1,0)*Table_NFI[[#This Row],[Mosquito net]],0)","v":0},{"$f":"IF(NFI_Expiration=1,IF($A264<VLOOKUP(L$5,NFI,5,0),1,0)*Table_NFI[[#This Row],[Tarpaulin]],0)","v":0},{"$f":"IF(NFI_Expiration=1,IF($A264<VLOOKUP(M$5,NFI,5,0),1,0)*Table_NFI[[#This Row],[Blanket]],0)","v":0},{"$f":"IF(NFI_Expiration=1,IF($A264<VLOOKUP(N$5,NFI,5,0),1,0)*Table_NFI[[#This Row],[Kitchen Set]],0)","v":0},{"$f":"IF(NFI_Expiration=1,IF($A264<VLOOKUP(O$5,NFI,5,0),1,0)*Table_NFI[[#This Row],[Complementary Kit]],0)","v":0},{"$f":"IF(NFI_Expiration=1,IF($A264<VLOOKUP(P$5,NFI,5,0),1,0)*Table_NFI[[#This Row],[Plastic Bucket]],0)","v":0},{"$f":"IF(NFI_Expiration=1,IF($A264<VLOOKUP(Q$5,NFI,5,0),1,0)*Table_NFI[[#This Row],[Plastic Mat]],0)","v":0},{"$f":"VLOOKUP(Table_NFI[[#This Row],[Camp Name]],Camp_List!N$5:AA$254,2,0)","v":{"$error":"#N/A"}},{"$f":"VLOOKUP(Table_NFI[[#This Row],[Camp Name]],Camp_List!N$5:AA$254,14,0)","v":{"$error":"#N/A"}},{"$f":"VLOOKUP(Table_NFI[[#This Row],[Camp Name]],Camp_List!N$5:AC$254,1,1)","v":"Pyin Nyar Mandine Monastery"}]
[10.966666666666667,"2012-10-07","UNHCR",null,"Rakhine","Kyauktaw","San Gar Taung",null,null,null,null,97,null,null,null,null,null,{"$f":"IF(NFI_Expiration=1,IF($A265<VLOOKUP(H$5,NFI,5,0),1,0)*Table_NFI[[#This Row],[Hygiene Kit]],0)","v":0},{"$f":"IF(NFI_Expiration=1,IF($A265<VLOOKUP(I$5,NFI,5,0),1,0)*Table_NFI[[#This Row],[NFI Core Kit]],0)","v":0},{"$f":"IF(NFI_Expiration=1,IF($A265<VLOOKUP(J$5,NFI,5,0),1,0)*Table_NFI[[#This Row],[Sanitary Kit]],0)","v":0},{"$f":"IF(NFI_Expiration=1,IF($A265<VLOOKUP(K$5,NFI,5,0),1,0)*Table_NFI[[#This Row],[Mosquito net]],0)","v":0},{"$f":"IF(NFI_Expiration=1,IF($A265<VLOOKUP(L$5,NFI,5,0),1,0)*Table_NFI[[#This Row],[Tarpaulin]],0)","v":97},{"$f":"IF(NFI_Expiration=1,IF($A265<VLOOKUP(M$5,NFI,5,0),1,0)*Table_NFI[[#This Row],[Blanket]],0)","v":0},{"$f":"IF(NFI_Expiration=1,IF($A265<VLOOKUP(N$5,NFI,5,0),1,0)*Table_NFI[[#This Row],[Kitchen Set]],0)","v":0},{"$f":"IF(NFI_Expiration=1,IF($A265<VLOOKUP(O$5,NFI,5,0),1,0)*Table_NFI[[#This Row],[Complementary Kit]],0)","v":0},{"$f":"IF(NFI_Expiration=1,IF($A265<VLOOKUP(P$5,NFI,5,0),1,0)*Table_NFI[[#This Row],[Plastic Bucket]],0)","v":0},{"$f":"IF(NFI_Expiration=1,IF($A265<VLOOKUP(Q$5,NFI,5,0),1,0)*Table_NFI[[#This Row],[Plastic Mat]],0)","v":0},{"$f":"VLOOKUP(Table_NFI[[#This Row],[Camp Name]],Camp_List!N$5:AA$254,2,0)","v":{"$error":"#N/A"}},{"$f":"VLOOKUP(Table_NFI[[#This Row],[Camp Name]],Camp_List!N$5:AA$254,14,0)","v":{"$error":"#N/A"}},{"$f":"VLOOKUP(Table_NFI[[#This Row],[Camp Name]],Camp_List!N$5:AC$254,1,1)","v":"Sam Ba Le"}]
[13.966666666666667,"2012-07-09","UNHCR",null,"Rakhine","Sittwe","Shwe Pyar",null,null,null,null,3,null,null,null,null,null,{"$f":"IF(NFI_Expiration=1,IF($A266<VLOOKUP(H$5,NFI,5,0),1,0)*Table_NFI[[#This Row],[Hygiene Kit]],0)","v":0},{"$f":"IF(NFI_Expiration=1,IF($A266<VLOOKUP(I$5,NFI,5,0),1,0)*Table_NFI[[#This Row],[NFI Core Kit]],0)","v":0},{"$f":"IF(NFI_Expiration=1,IF($A266<VLOOKUP(J$5,NFI,5,0),1,0)*Table_NFI[[#This Row],[Sanitary Kit]],0)","v":0},{"$f":"IF(NFI_Expiration=1,IF($A266<VLOOKUP(K$5,NFI,5,0),1,0)*Table_NFI[[#This Row],[Mosquito net]],0)","v":0},{"$f":"IF(NFI_Expiration=1,IF($A266<VLOOKUP(L$5,NFI,5,0),1,0)*Table_NFI[[#This Row],[Tarpaulin]],0)","v":0},{"$f":"IF(NFI_Expiration=1,IF($A266<VLOOKUP(M$5,NFI,5,0),1,0)*Table_NFI[[#This Row],[Blanket]],0)","v":0},{"$f":"IF(NFI_Expiration=1,IF($A266<VLOOKUP(N$5,NFI,5,0),1,0)*Table_NFI[[#This Row],[Kitchen Set]],0)","v":0},{"$f":"IF(NFI_Expiration=1,IF($A266<VLOOKUP(O$5,NFI,5,0),1,0)*Table_NFI[[#This Row],[Complementary Kit]],0)","v":0},{"$f":"IF(NFI_Expiration=1,IF($A266<VLOOKUP(P$5,NFI,5,0),1,0)*Table_NFI[[#This Row],[Plastic Bucket]],0)","v":0},{"$f":"IF(NFI_Expiration=1,IF($A266<VLOOKUP(Q$5,NFI,5,0),1,0)*Table_NFI[[#This Row],[Plastic Mat]],0)","v":0},{"$f":"VLOOKUP(Table_NFI[[#This Row],[Camp Name]],Camp_List!N$5:AA$254,2,0)","v":{"$error":"#N/A"}},{"$f":"VLOOKUP(Table_NFI[[#This Row],[Camp Name]],Camp_List!N$5:AA$254,14,0)","v":{"$error":"#N/A"}},{"$f":"VLOOKUP(Table_NFI[[#This Row],[Camp Name]],Camp_List!N$5:AC$254,1,1)","v":"Shwe Hlaing"}]
[14.333333333333334,"2012-06-28","UNHCR",null,"Rakhine","Sittwe","Sit Kae Taw Min",null,null,null,null,89,null,null,null,null,null,{"$f":"IF(NFI_Expiration=1,IF($A267<VLOOKUP(H$5,NFI,5,0),1,0)*Table_NFI[[#This Row],[Hygiene Kit]],0)","v":0},{"$f":"IF(NFI_Expiration=1,IF($A267<VLOOKUP(I$5,NFI,5,0),1,0)*Table_NFI[[#This Row],[NFI Core Kit]],0)","v":0},{"$f":"IF(NFI_Expiration=1,IF($A267<VLOOKUP(J$5,NFI,5,0),1,0)*Table_NFI[[#This Row],[Sanitary Kit]],0)","v":0},{"$f":"IF(NFI_Expiration=1,IF($A267<VLOOKUP(K$5,NFI,5,0),1,0)*Table_NFI[[#This Row],[Mosquito net]],0)","v":0},{"$f":"IF(NFI_Expiration=1,IF($A267<VLOOKUP(L$5,NFI,5,0),1,0)*Table_NFI[[#This Row],[Tarpaulin]],0)","v":0},{"$f":"IF(NFI_Expiration=1,IF($A267<VLOOKUP(M$5,NFI,5,0),1,0)*Table_NFI[[#This Row],[Blanket]],0)","v":0},{"$f":"IF(NFI_Expiration=1,IF($A267<VLOOKUP(N$5,NFI,5,0),1,0)*Table_NFI[[#This Row],[Kitchen Set]],0)","v":0},{"$f":"IF(NFI_Expiration=1,IF($A267<VLOOKUP(O$5,NFI,5,0),1,0)*Table_NFI[[#This Row],[Complementary Kit]],0)","v":0},{"$f":"IF(NFI_Expiration=1,IF($A267<VLOOKUP(P$5,NFI,5,0),1,0)*Table_NFI[[#This Row],[Plastic Bucket]],0)","v":0},{"$f":"IF(NFI_Expiration=1,IF($A267<VLOOKUP(Q$5,NFI,5,0),1,0)*Table_NFI[[#This Row],[Plastic Mat]],0)","v":0},{"$f":"VLOOKUP(Table_NFI[[#This Row],[Camp Name]],Camp_List!N$5:AA$254,2,0)","v":{"$error":"#N/A"}},{"$f":"VLOOKUP(Table_NFI[[#This Row],[Camp Name]],Camp_List!N$5:AA$254,14,0)","v":{"$error":"#N/A"}},{"$f":"VLOOKUP(Table_NFI[[#This Row],[Camp Name]],Camp_List!N$5:AC$254,1,1)","v":"Sin Thay Pyin"}]
[14.266666666666667,"2012-06-30","UNHCR",null,"Rakhine","Sittwe","TanTan",null,null,null,null,20,null,null,null,null,null,{"$f":"IF(NFI_Expiration=1,IF($A268<VLOOKUP(H$5,NFI,5,0),1,0)*Table_NFI[[#This Row],[Hygiene Kit]],0)","v":0},{"$f":"IF(NFI_Expiration=1,IF($A268<VLOOKUP(I$5,NFI,5,0),1,0)*Table_NFI[[#This Row],[NFI Core Kit]],0)","v":0},{"$f":"IF(NFI_Expiration=1,IF($A268<VLOOKUP(J$5,NFI,5,0),1,0)*Table_NFI[[#This Row],[Sanitary Kit]],0)","v":0},{"$f":"IF(NFI_Expiration=1,IF($A268<VLOOKUP(K$5,NFI,5,0),1,0)*Table_NFI[[#This Row],[Mosquito net]],0)","v":0},{"$f":"IF(NFI_Expiration=1,IF($A268<VLOOKUP(L$5,NFI,5,0),1,0)*Table_NFI[[#This Row],[Tarpaulin]],0)","v":0},{"$f":"IF(NFI_Expiration=1,IF($A268<VLOOKUP(M$5,NFI,5,0),1,0)*Table_NFI[[#This Row],[Blanket]],0)","v":0},{"$f":"IF(NFI_Expiration=1,IF($A268<VLOOKUP(N$5,NFI,5,0),1,0)*Table_NFI[[#This Row],[Kitchen Set]],0)","v":0},{"$f":"IF(NFI_Expiration=1,IF($A268<VLOOKUP(O$5,NFI,5,0),1,0)*Table_NFI[[#This Row],[Complementary Kit]],0)","v":0},{"$f":"IF(NFI_Expiration=1,IF($A268<VLOOKUP(P$5,NFI,5,0),1,0)*Table_NFI[[#This Row],[Plastic Bucket]],0)","v":0},{"$f":"IF(NFI_Expiration=1,IF($A268<VLOOKUP(Q$5,NFI,5,0),1,0)*Table_NFI[[#This Row],[Plastic Mat]],0)","v":0},{"$f":"VLOOKUP(Table_NFI[[#This Row],[Camp Name]],Camp_List!N$5:AA$254,2,0)","v":{"$error":"#N/A"}},{"$f":"VLOOKUP(Table_NFI[[#This Row],[Camp Name]],Camp_List!N$5:AA$254,14,0)","v":{"$error":"#N/A"}},{"$f":"VLOOKUP(Table_NFI[[#This Row],[Camp Name]],Camp_List!N$5:AC$254,1,1)","v":"Su Taung Pyae Monastery"}]
[13.933333333333334,"2012-07-10","UNHCR",null,"Rakhine","Sittwe","Tayzindayama",null,null,null,null,11,null,null,null,null,null,{"$f":"IF(NFI_Expiration=1,IF($A269<VLOOKUP(H$5,NFI,5,0),1,0)*Table_NFI[[#This Row],[Hygiene Kit]],0)","v":0},{"$f":"IF(NFI_Expiration=1,IF($A269<VLOOKUP(I$5,NFI,5,0),1,0)*Table_NFI[[#This Row],[NFI Core Kit]],0)","v":0},{"$f":"IF(NFI_Expiration=1,IF($A269<VLOOKUP(J$5,NFI,5,0),1,0)*Table_NFI[[#This Row],[Sanitary Kit]],0)","v":0},{"$f":"IF(NFI_Expiration=1,IF($A269<VLOOKUP(K$5,NFI,5,0),1,0)*Table_NFI[[#This Row],[Mosquito net]],0)","v":0},{"$f":"IF(NFI_Expiration=1,IF($A269<VLOOKUP(L$5,NFI,5,0),1,0)*Table_NFI[[#This Row],[Tarpaulin]],0)","v":0},{"$f":"IF(NFI_Expiration=1,IF($A269<VLOOKUP(M$5,NFI,5,0),1,0)*Table_NFI[[#This Row],[Blanket]],0)","v":0},{"$f":"IF(NFI_Expiration=1,IF($A269<VLOOKUP(N$5,NFI,5,0),1,0)*Table_NFI[[#This Row],[Kitchen Set]],0)","v":0},{"$f":"IF(NFI_Expiration=1,IF($A269<VLOOKUP(O$5,NFI,5,0),1,0)*Table_NFI[[#This Row],[Complementary Kit]],0)","v":0},{"$f":"IF(NFI_Expiration=1,IF($A269<VLOOKUP(P$5,NFI,5,0),1,0)*Table_NFI[[#This Row],[Plastic Bucket]],0)","v":0},{"$f":"IF(NFI_Expiration=1,IF($A269<VLOOKUP(Q$5,NFI,5,0),1,0)*Table_NFI[[#This Row],[Plastic Mat]],0)","v":0},{"$f":"VLOOKUP(Table_NFI[[#This Row],[Camp Name]],Camp_List!N$5:AA$254,2,0)","v":{"$error":"#N/A"}},{"$f":"VLOOKUP(Table_NFI[[#This Row],[Camp Name]],Camp_List!N$5:AA$254,14,0)","v":{"$error":"#N/A"}},{"$f":"VLOOKUP(Table_NFI[[#This Row],[Camp Name]],Camp_List!N$5:AC$254,1,1)","v":"Taung Paw "}]
[14.266666666666667,"2012-06-30","UNHCR",null,"Rakhine","Sittwe","Tha Ma Da ZTK",null,null,null,null,35,null,null,null,null,null,{"$f":"IF(NFI_Expiration=1,IF($A270<VLOOKUP(H$5,NFI,5,0),1,0)*Table_NFI[[#This Row],[Hygiene Kit]],0)","v":0},{"$f":"IF(NFI_Expiration=1,IF($A270<VLOOKUP(I$5,NFI,5,0),1,0)*Table_NFI[[#This Row],[NFI Core Kit]],0)","v":0},{"$f":"IF(NFI_Expiration=1,IF($A270<VLOOKUP(J$5,NFI,5,0),1,0)*Table_NFI[[#This Row],[Sanitary Kit]],0)","v":0},{"$f":"IF(NFI_Expiration=1,IF($A270<VLOOKUP(K$5,NFI,5,0),1,0)*Table_NFI[[#This Row],[Mosquito net]],0)","v":0},{"$f":"IF(NFI_Expiration=1,IF($A270<VLOOKUP(L$5,NFI,5,0),1,0)*Table_NFI[[#This Row],[Tarpaulin]],0)","v":0},{"$f":"IF(NFI_Expiration=1,IF($A270<VLOOKUP(M$5,NFI,5,0),1,0)*Table_NFI[[#This Row],[Blanket]],0)","v":0},{"$f":"IF(NFI_Expiration=1,IF($A270<VLOOKUP(N$5,NFI,5,0),1,0)*Table_NFI[[#This Row],[Kitchen Set]],0)","v":0},{"$f":"IF(NFI_Expiration=1,IF($A270<VLOOKUP(O$5,NFI,5,0),1,0)*Table_NFI[[#This Row],[Complementary Kit]],0)","v":0},{"$f":"IF(NFI_Expiration=1,IF($A270<VLOOKUP(P$5,NFI,5,0),1,0)*Table_NFI[[#This Row],[Plastic Bucket]],0)","v":0},{"$f":"IF(NFI_Expiration=1,IF($A270<VLOOKUP(Q$5,NFI,5,0),1,0)*Table_NFI[[#This Row],[Plastic Mat]],0)","v":0},{"$f":"VLOOKUP(Table_NFI[[#This Row],[Camp Name]],Camp_List!N$5:AA$254,2,0)","v":{"$error":"#N/A"}},{"$f":"VLOOKUP(Table_NFI[[#This Row],[Camp Name]],Camp_List!N$5:AA$254,14,0)","v":{"$error":"#N/A"}},{"$f":"VLOOKUP(Table_NFI[[#This Row],[Camp Name]],Camp_List!N$5:AC$254,1,1)","v":"Tha Dar"}]
[11,"2012-10-06","UNHCR",null,"Rakhine","Sittwe","Thet Kay Pyin School",null,null,null,null,100,null,null,null,null,null,{"$f":"IF(NFI_Expiration=1,IF($A271<VLOOKUP(H$5,NFI,5,0),1,0)*Table_NFI[[#This Row],[Hygiene Kit]],0)","v":0},{"$f":"IF(NFI_Expiration=1,IF($A271<VLOOKUP(I$5,NFI,5,0),1,0)*Table_NFI[[#This Row],[NFI Core Kit]],0)","v":0},{"$f":"IF(NFI_Expiration=1,IF($A271<VLOOKUP(J$5,NFI,5,0),1,0)*Table_NFI[[#This Row],[Sanitary Kit]],0)","v":0},{"$f":"IF(NFI_Expiration=1,IF($A271<VLOOKUP(K$5,NFI,5,0),1,0)*Table_NFI[[#This Row],[Mosquito net]],0)","v":0},{"$f":"IF(NFI_Expiration=1,IF($A271<VLOOKUP(L$5,NFI,5,0),1,0)*Table_NFI[[#This Row],[Tarpaulin]],0)","v":100},{"$f":"IF(NFI_Expiration=1,IF($A271<VLOOKUP(M$5,NFI,5,0),1,0)*Table_NFI[[#This Row],[Blanket]],0)","v":0},{"$f":"IF(NFI_Expiration=1,IF($A271<VLOOKUP(N$5,NFI,5,0),1,0)*Table_NFI[[#This Row],[Kitchen Set]],0)","v":0},{"$f":"IF(NFI_Expiration=1,IF($A271<VLOOKUP(O$5,NFI,5,0),1,0)*Table_NFI[[#This Row],[Complementary Kit]],0)","v":0},{"$f":"IF(NFI_Expiration=1,IF($A271<VLOOKUP(P$5,NFI,5,0),1,0)*Table_NFI[[#This Row],[Plastic Bucket]],0)","v":0},{"$f":"IF(NFI_Expiration=1,IF($A271<VLOOKUP(Q$5,NFI,5,0),1,0)*Table_NFI[[#This Row],[Plastic Mat]],0)","v":0},{"$f":"VLOOKUP(Table_NFI[[#This Row],[Camp Name]],Camp_List!N$5:AA$254,2,0)","v":{"$error":"#N/A"}},{"$f":"VLOOKUP(Table_NFI[[#This Row],[Camp Name]],Camp_List!N$5:AA$254,14,0)","v":{"$error":"#N/A"}},{"$f":"VLOOKUP(Table_NFI[[#This Row],[Camp Name]],Camp_List!N$5:AC$254,1,1)","v":"Thet Kae Pyin (IDPs in host family)"}]
[14.366666666666667,"2012-06-27","UNHCR",null,"Rakhine","Sittwe","U Ye Kyaw Thu",null,null,null,null,200,null,null,null,null,null,{"$f":"IF(NFI_Expiration=1,IF($A272<VLOOKUP(H$5,NFI,5,0),1,0)*Table_NFI[[#This Row],[Hygiene Kit]],0)","v":0},{"$f":"IF(NFI_Expiration=1,IF($A272<VLOOKUP(I$5,NFI,5,0),1,0)*Table_NFI[[#This Row],[NFI Core Kit]],0)","v":0},{"$f":"IF(NFI_Expiration=1,IF($A272<VLOOKUP(J$5,NFI,5,0),1,0)*Table_NFI[[#This Row],[Sanitary Kit]],0)","v":0},{"$f":"IF(NFI_Expiration=1,IF($A272<VLOOKUP(K$5,NFI,5,0),1,0)*Table_NFI[[#This Row],[Mosquito net]],0)","v":0},{"$f":"IF(NFI_Expiration=1,IF($A272<VLOOKUP(L$5,NFI,5,0),1,0)*Table_NFI[[#This Row],[Tarpaulin]],0)","v":0},{"$f":"IF(NFI_Expiration=1,IF($A272<VLOOKUP(M$5,NFI,5,0),1,0)*Table_NFI[[#This Row],[Blanket]],0)","v":0},{"$f":"IF(NFI_Expiration=1,IF($A272<VLOOKUP(N$5,NFI,5,0),1,0)*Table_NFI[[#This Row],[Kitchen Set]],0)","v":0},{"$f":"IF(NFI_Expiration=1,IF($A272<VLOOKUP(O$5,NFI,5,0),1,0)*Table_NFI[[#This Row],[Complementary Kit]],0)","v":0},{"$f":"IF(NFI_Expiration=1,IF($A272<VLOOKUP(P$5,NFI,5,0),1,0)*Table_NFI[[#This Row],[Plastic Bucket]],0)","v":0},{"$f":"IF(NFI_Expiration=1,IF($A272<VLOOKUP(Q$5,NFI,5,0),1,0)*Table_NFI[[#This Row],[Plastic Mat]],0)","v":0},{"$f":"VLOOKUP(Table_NFI[[#This Row],[Camp Name]],Camp_List!N$5:AA$254,2,0)","v":{"$error":"#N/A"}},{"$f":"VLOOKUP(Table_NFI[[#This Row],[Camp Name]],Camp_List!N$5:AA$254,14,0)","v":{"$error":"#N/A"}},{"$f":"VLOOKUP(Table_NFI[[#This Row],[Camp Name]],Camp_List!N$5:AC$254,1,1)","v":"Thin Pone Tan"}]
[13.966666666666667,"2012-07-09","UNHCR",null,"Rakhine","Sittwe","Uwa Ya Ma",null,null,null,null,19,null,null,null,null,null,{"$f":"IF(NFI_Expiration=1,IF($A273<VLOOKUP(H$5,NFI,5,0),1,0)*Table_NFI[[#This Row],[Hygiene Kit]],0)","v":0},{"$f":"IF(NFI_Expiration=1,IF($A273<VLOOKUP(I$5,NFI,5,0),1,0)*Table_NFI[[#This Row],[NFI Core Kit]],0)","v":0},{"$f":"IF(NFI_Expiration=1,IF($A273<VLOOKUP(J$5,NFI,5,0),1,0)*Table_NFI[[#This Row],[Sanitary Kit]],0)","v":0},{"$f":"IF(NFI_Expiration=1,IF($A273<VLOOKUP(K$5,NFI,5,0),1,0)*Table_NFI[[#This Row],[Mosquito net]],0)","v":0},{"$f":"IF(NFI_Expiration=1,IF($A273<VLOOKUP(L$5,NFI,5,0),1,0)*Table_NFI[[#This Row],[Tarpaulin]],0)","v":0},{"$f":"IF(NFI_Expiration=1,IF($A273<VLOOKUP(M$5,NFI,5,0),1,0)*Table_NFI[[#This Row],[Blanket]],0)","v":0},{"$f":"IF(NFI_Expiration=1,IF($A273<VLOOKUP(N$5,NFI,5,0),1,0)*Table_NFI[[#This Row],[Kitchen Set]],0)","v":0},{"$f":"IF(NFI_Expiration=1,IF($A273<VLOOKUP(O$5,NFI,5,0),1,0)*Table_NFI[[#This Row],[Complementary Kit]],0)","v":0},{"$f":"IF(NFI_Expiration=1,IF($A273<VLOOKUP(P$5,NFI,5,0),1,0)*Table_NFI[[#This Row],[Plastic Bucket]],0)","v":0},{"$f":"IF(NFI_Expiration=1,IF($A273<VLOOKUP(Q$5,NFI,5,0),1,0)*Table_NFI[[#This Row],[Plastic Mat]],0)","v":0},{"$f":"VLOOKUP(Table_NFI[[#This Row],[Camp Name]],Camp_List!N$5:AA$254,2,0)","v":{"$error":"#N/A"}},{"$f":"VLOOKUP(Table_NFI[[#This Row],[Camp Name]],Camp_List!N$5:AA$254,14,0)","v":{"$error":"#N/A"}},{"$f":"VLOOKUP(Table_NFI[[#This Row],[Camp Name]],Camp_List!N$5:AC$254,1,1)","v":"Thin Pone Tan"}]
[13.933333333333334,"2012-07-10","UNHCR",null,"Rakhine","Sittwe","YadaNarMinDaing",null,null,null,null,2,null,null,null,null,null,{"$f":"IF(NFI_Expiration=1,IF($A274<VLOOKUP(H$5,NFI,5,0),1,0)*Table_NFI[[#This Row],[Hygiene Kit]],0)","v":0},{"$f":"IF(NFI_Expiration=1,IF($A274<VLOOKUP(I$5,NFI,5,0),1,0)*Table_NFI[[#This Row],[NFI Core Kit]],0)","v":0},{"$f":"IF(NFI_Expiration=1,IF($A274<VLOOKUP(J$5,NFI,5,0),1,0)*Table_NFI[[#This Row],[Sanitary Kit]],0)","v":0},{"$f":"IF(NFI_Expiration=1,IF($A274<VLOOKUP(K$5,NFI,5,0),1,0)*Table_NFI[[#This Row],[Mosquito net]],0)","v":0},{"$f":"IF(NFI_Expiration=1,IF($A274<VLOOKUP(L$5,NFI,5,0),1,0)*Table_NFI[[#This Row],[Tarpaulin]],0)","v":0},{"$f":"IF(NFI_Expiration=1,IF($A274<VLOOKUP(M$5,NFI,5,0),1,0)*Table_NFI[[#This Row],[Blanket]],0)","v":0},{"$f":"IF(NFI_Expiration=1,IF($A274<VLOOKUP(N$5,NFI,5,0),1,0)*Table_NFI[[#This Row],[Kitchen Set]],0)","v":0},{"$f":"IF(NFI_Expiration=1,IF($A274<VLOOKUP(O$5,NFI,5,0),1,0)*Table_NFI[[#This Row],[Complementary Kit]],0)","v":0},{"$f":"IF(NFI_Expiration=1,IF($A274<VLOOKUP(P$5,NFI,5,0),1,0)*Table_NFI[[#This Row],[Plastic Bucket]],0)","v":0},{"$f":"IF(NFI_Expiration=1,IF($A274<VLOOKUP(Q$5,NFI,5,0),1,0)*Table_NFI[[#This Row],[Plastic Mat]],0)","v":0},{"$f":"VLOOKUP(Table_NFI[[#This Row],[Camp Name]],Camp_List!N$5:AA$254,2,0)","v":{"$error":"#N/A"}},{"$f":"VLOOKUP(Table_NFI[[#This Row],[Camp Name]],Camp_List!N$5:AA$254,14,0)","v":{"$error":"#N/A"}},{"$f":"VLOOKUP(Table_NFI[[#This Row],[Camp Name]],Camp_List!N$5:AC$254,1,1)","v":"Ya Tayar Monastery"}]
[14.366666666666667,"2012-06-27","UNHCR",null,"Rakhine","Sittwe","Ywar Gyi",null,null,null,null,72,null,null,null,null,null,{"$f":"IF(NFI_Expiration=1,IF($A275<VLOOKUP(H$5,NFI,5,0),1,0)*Table_NFI[[#This Row],[Hygiene Kit]],0)","v":0},{"$f":"IF(NFI_Expiration=1,IF($A275<VLOOKUP(I$5,NFI,5,0),1,0)*Table_NFI[[#This Row],[NFI Core Kit]],0)","v":0},{"$f":"IF(NFI_Expiration=1,IF($A275<VLOOKUP(J$5,NFI,5,0),1,0)*Table_NFI[[#This Row],[Sanitary Kit]],0)","v":0},{"$f":"IF(NFI_Expiration=1,IF($A275<VLOOKUP(K$5,NFI,5,0),1,0)*Table_NFI[[#This Row],[Mosquito net]],0)","v":0},{"$f":"IF(NFI_Expiration=1,IF($A275<VLOOKUP(L$5,NFI,5,0),1,0)*Table_NFI[[#This Row],[Tarpaulin]],0)","v":0},{"$f":"IF(NFI_Expiration=1,IF($A275<VLOOKUP(M$5,NFI,5,0),1,0)*Table_NFI[[#This Row],[Blanket]],0)","v":0},{"$f":"IF(NFI_Expiration=1,IF($A275<VLOOKUP(N$5,NFI,5,0),1,0)*Table_NFI[[#This Row],[Kitchen Set]],0)","v":0},{"$f":"IF(NFI_Expiration=1,IF($A275<VLOOKUP(O$5,NFI,5,0),1,0)*Table_NFI[[#This Row],[Complementary Kit]],0)","v":0},{"$f":"IF(NFI_Expiration=1,IF($A275<VLOOKUP(P$5,NFI,5,0),1,0)*Table_NFI[[#This Row],[Plastic Bucket]],0)","v":0},{"$f":"IF(NFI_Expiration=1,IF($A275<VLOOKUP(Q$5,NFI,5,0),1,0)*Table_NFI[[#This Row],[Plastic Mat]],0)","v":0},{"$f":"VLOOKUP(Table_NFI[[#This Row],[Camp Name]],Camp_List!N$5:AA$254,2,0)","v":{"$error":"#N/A"}},{"$f":"VLOOKUP(Table_NFI[[#This Row],[Camp Name]],Camp_List!N$5:AA$254,14,0)","v":{"$error":"#N/A"}},{"$f":"VLOOKUP(Table_NFI[[#This Row],[Camp Name]],Camp_List!N$5:AC$254,1,1)","v":"Ywa thit Kay 3"}]
[10.1,"2012-11-02","UNHCR",null,"Rakhine","Kyauktaw",null,null,null,null,null,99,null,null,null,null,null,{"$f":"IF(NFI_Expiration=1,IF($A276<VLOOKUP(H$5,NFI,5,0),1,0)*Table_NFI[[#This Row],[Hygiene Kit]],0)","v":0},{"$f":"IF(NFI_Expiration=1,IF($A276<VLOOKUP(I$5,NFI,5,0),1,0)*Table_NFI[[#This Row],[NFI Core Kit]],0)","v":0},{"$f":"IF(NFI_Expiration=1,IF($A276<VLOOKUP(J$5,NFI,5,0),1,0)*Table_NFI[[#This Row],[Sanitary Kit]],0)","v":0},{"$f":"IF(NFI_Expiration=1,IF($A276<VLOOKUP(K$5,NFI,5,0),1,0)*Table_NFI[[#This Row],[Mosquito net]],0)","v":0},{"$f":"IF(NFI_Expiration=1,IF($A276<VLOOKUP(L$5,NFI,5,0),1,0)*Table_NFI[[#This Row],[Tarpaulin]],0)","v":99},{"$f":"IF(NFI_Expiration=1,IF($A276<VLOOKUP(M$5,NFI,5,0),1,0)*Table_NFI[[#This Row],[Blanket]],0)","v":0},{"$f":"IF(NFI_Expiration=1,IF($A276<VLOOKUP(N$5,NFI,5,0),1,0)*Table_NFI[[#This Row],[Kitchen Set]],0)","v":0},{"$f":"IF(NFI_Expiration=1,IF($A276<VLOOKUP(O$5,NFI,5,0),1,0)*Table_NFI[[#This Row],[Complementary Kit]],0)","v":0},{"$f":"IF(NFI_Expiration=1,IF($A276<VLOOKUP(P$5,NFI,5,0),1,0)*Table_NFI[[#This Row],[Plastic Bucket]],0)","v":0},{"$f":"IF(NFI_Expiration=1,IF($A276<VLOOKUP(Q$5,NFI,5,0),1,0)*Table_NFI[[#This Row],[Plastic Mat]],0)","v":0},{"$f":"VLOOKUP(Table_NFI[[#This Row],[Camp Name]],Camp_List!N$5:AA$254,2,0)","v":{"$error":"#N/A"}},{"$f":"VLOOKUP(Table_NFI[[#This Row],[Camp Name]],Camp_List!N$5:AA$254,14,0)","v":{"$error":"#N/A"}},{"$f":"VLOOKUP(Table_NFI[[#This Row],[Camp Name]],Camp_List!N$5:AC$254,1,1)","v":{"$error":"#N/A"}}]
[10.066666666666666,"2012-11-03","UNHCR",null,"Rakhine","Pauktaw",null,null,null,null,null,500,null,null,null,null,null,{"$f":"IF(NFI_Expiration=1,IF($A277<VLOOKUP(H$5,NFI,5,0),1,0)*Table_NFI[[#This Row],[Hygiene Kit]],0)","v":0},{"$f":"IF(NFI_Expiration=1,IF($A277<VLOOKUP(I$5,NFI,5,0),1,0)*Table_NFI[[#This Row],[NFI Core Kit]],0)","v":0},{"$f":"IF(NFI_Expiration=1,IF($A277<VLOOKUP(J$5,NFI,5,0),1,0)*Table_NFI[[#This Row],[Sanitary Kit]],0)","v":0},{"$f":"IF(NFI_Expiration=1,IF($A277<VLOOKUP(K$5,NFI,5,0),1,0)*Table_NFI[[#This Row],[Mosquito net]],0)","v":0},{"$f":"IF(NFI_Expiration=1,IF($A277<VLOOKUP(L$5,NFI,5,0),1,0)*Table_NFI[[#This Row],[Tarpaulin]],0)","v":500},{"$f":"IF(NFI_Expiration=1,IF($A277<VLOOKUP(M$5,NFI,5,0),1,0)*Table_NFI[[#This Row],[Blanket]],0)","v":0},{"$f":"IF(NFI_Expiration=1,IF($A277<VLOOKUP(N$5,NFI,5,0),1,0)*Table_NFI[[#This Row],[Kitchen Set]],0)","v":0},{"$f":"IF(NFI_Expiration=1,IF($A277<VLOOKUP(O$5,NFI,5,0),1,0)*Table_NFI[[#This Row],[Complementary Kit]],0)","v":0},{"$f":"IF(NFI_Expiration=1,IF($A277<VLOOKUP(P$5,NFI,5,0),1,0)*Table_NFI[[#This Row],[Plastic Bucket]],0)","v":0},{"$f":"IF(NFI_Expiration=1,IF($A277<VLOOKUP(Q$5,NFI,5,0),1,0)*Table_NFI[[#This Row],[Plastic Mat]],0)","v":0},{"$f":"VLOOKUP(Table_NFI[[#This Row],[Camp Name]],Camp_List!N$5:AA$254,2,0)","v":{"$error":"#N/A"}},{"$f":"VLOOKUP(Table_NFI[[#This Row],[Camp Name]],Camp_List!N$5:AA$254,14,0)","v":{"$error":"#N/A"}},{"$f":"VLOOKUP(Table_NFI[[#This Row],[Camp Name]],Camp_List!N$5:AC$254,1,1)","v":{"$error":"#N/A"}}]
[8.7333333333333325,"2012-12-13","UNHCR",null,"Rakhine","Kyauktaw",null,null,null,null,null,null,21,null,null,null,null,{"$f":"IF(NFI_Expiration=1,IF($A278<VLOOKUP(H$5,NFI,5,0),1,0)*Table_NFI[[#This Row],[Hygiene Kit]],0)","v":0},{"$f":"IF(NFI_Expiration=1,IF($A278<VLOOKUP(I$5,NFI,5,0),1,0)*Table_NFI[[#This Row],[NFI Core Kit]],0)","v":0},{"$f":"IF(NFI_Expiration=1,IF($A278<VLOOKUP(J$5,NFI,5,0),1,0)*Table_NFI[[#This Row],[Sanitary Kit]],0)","v":0},{"$f":"IF(NFI_Expiration=1,IF($A278<VLOOKUP(K$5,NFI,5,0),1,0)*Table_NFI[[#This Row],[Mosquito net]],0)","v":0},{"$f":"IF(NFI_Expiration=1,IF($A278<VLOOKUP(L$5,NFI,5,0),1,0)*Table_NFI[[#This Row],[Tarpaulin]],0)","v":0},{"$f":"IF(NFI_Expiration=1,IF($A278<VLOOKUP(M$5,NFI,5,0),1,0)*Table_NFI[[#This Row],[Blanket]],0)","v":21},{"$f":"IF(NFI_Expiration=1,IF($A278<VLOOKUP(N$5,NFI,5,0),1,0)*Table_NFI[[#This Row],[Kitchen Set]],0)","v":0},{"$f":"IF(NFI_Expiration=1,IF($A278<VLOOKUP(O$5,NFI,5,0),1,0)*Table_NFI[[#This Row],[Complementary Kit]],0)","v":0},{"$f":"IF(NFI_Expiration=1,IF($A278<VLOOKUP(P$5,NFI,5,0),1,0)*Table_NFI[[#This Row],[Plastic Bucket]],0)","v":0},{"$f":"IF(NFI_Expiration=1,IF($A278<VLOOKUP(Q$5,NFI,5,0),1,0)*Table_NFI[[#This Row],[Plastic Mat]],0)","v":0},{"$f":"VLOOKUP(Table_NFI[[#This Row],[Camp Name]],Camp_List!N$5:AA$254,2,0)","v":{"$error":"#N/A"}},{"$f":"VLOOKUP(Table_NFI[[#This Row],[Camp Name]],Camp_List!N$5:AA$254,14,0)","v":{"$error":"#N/A"}},{"$f":"VLOOKUP(Table_NFI[[#This Row],[Camp Name]],Camp_List!N$5:AC$254,1,1)","v":{"$error":"#N/A"}}]
[{"$f":"IF(ISBLANK(B279),\"\",(Report_Date-B279)/30)","v":8.4},"2012-12-23","UNHCR",null,"Rakhine","Maungdaw",null,null,null,3000,null,null,null,null,null,null,null,{"$f":"IF(NFI_Expiration=1,IF($A279<VLOOKUP(H$5,NFI,5,0),1,0)*Table_NFI[[#This Row],[Hygiene Kit]],0)","v":0},{"$f":"IF(NFI_Expiration=1,IF($A279<VLOOKUP(I$5,NFI,5,0),1,0)*Table_NFI[[#This Row],[NFI Core Kit]],0)","v":0},{"$f":"IF(NFI_Expiration=1,IF($A279<VLOOKUP(J$5,NFI,5,0),1,0)*Table_NFI[[#This Row],[Sanitary Kit]],0)","v":3000},{"$f":"IF(NFI_Expiration=1,IF($A279<VLOOKUP(K$5,NFI,5,0),1,0)*Table_NFI[[#This Row],[Mosquito net]],0)","v":0},{"$f":"IF(NFI_Expiration=1,IF($A279<VLOOKUP(L$5,NFI,5,0),1,0)*Table_NFI[[#This Row],[Tarpaulin]],0)","v":0},{"$f":"IF(NFI_Expiration=1,IF($A279<VLOOKUP(M$5,NFI,5,0),1,0)*Table_NFI[[#This Row],[Blanket]],0)","v":0},{"$f":"IF(NFI_Expiration=1,IF($A279<VLOOKUP(N$5,NFI,5,0),1,0)*Table_NFI[[#This Row],[Kitchen Set]],0)","v":0},{"$f":"IF(NFI_Expiration=1,IF($A279<VLOOKUP(O$5,NFI,5,0),1,0)*Table_NFI[[#This Row],[Complementary Kit]],0)","v":0},{"$f":"IF(NFI_Expiration=1,IF($A279<VLOOKUP(P$5,NFI,5,0),1,0)*Table_NFI[[#This Row],[Plastic Bucket]],0)","v":0},{"$f":"IF(NFI_Expiration=1,IF($A279<VLOOKUP(Q$5,NFI,5,0),1,0)*Table_NFI[[#This Row],[Plastic Mat]],0)","v":0},{"$f":"VLOOKUP(Table_NFI[[#This Row],[Camp Name]],Camp_List!N$5:AA$254,2,0)","v":{"$error":"#N/A"}},{"$f":"VLOOKUP(Table_NFI[[#This Row],[Camp Name]],Camp_List!N$5:AA$254,14,0)","v":{"$error":"#N/A"}},{"$f":"VLOOKUP(Table_NFI[[#This Row],[Camp Name]],Camp_List!N$5:AC$254,1,1)","v":{"$error":"#N/A"}}]
[8.4,"2012-12-23","UNHCR",null,"Rakhine","Maungdaw",null,null,null,null,null,1180,null,null,null,null,null,{"$f":"IF(NFI_Expiration=1,IF($A280<VLOOKUP(H$5,NFI,5,0),1,0)*Table_NFI[[#This Row],[Hygiene Kit]],0)","v":0},{"$f":"IF(NFI_Expiration=1,IF($A280<VLOOKUP(I$5,NFI,5,0),1,0)*Table_NFI[[#This Row],[NFI Core Kit]],0)","v":0},{"$f":"IF(NFI_Expiration=1,IF($A280<VLOOKUP(J$5,NFI,5,0),1,0)*Table_NFI[[#This Row],[Sanitary Kit]],0)","v":0},{"$f":"IF(NFI_Expiration=1,IF($A280<VLOOKUP(K$5,NFI,5,0),1,0)*Table_NFI[[#This Row],[Mosquito net]],0)","v":0},{"$f":"IF(NFI_Expiration=1,IF($A280<VLOOKUP(L$5,NFI,5,0),1,0)*Table_NFI[[#This Row],[Tarpaulin]],0)","v":1180},{"$f":"IF(NFI_Expiration=1,IF($A280<VLOOKUP(M$5,NFI,5,0),1,0)*Table_NFI[[#This Row],[Blanket]],0)","v":0},{"$f":"IF(NFI_Expiration=1,IF($A280<VLOOKUP(N$5,NFI,5,0),1,0)*Table_NFI[[#This Row],[Kitchen Set]],0)","v":0},{"$f":"IF(NFI_Expiration=1,IF($A280<VLOOKUP(O$5,NFI,5,0),1,0)*Table_NFI[[#This Row],[Complementary Kit]],0)","v":0},{"$f":"IF(NFI_Expiration=1,IF($A280<VLOOKUP(P$5,NFI,5,0),1,0)*Table_NFI[[#This Row],[Plastic Bucket]],0)","v":0},{"$f":"IF(NFI_Expiration=1,IF($A280<VLOOKUP(Q$5,NFI,5,0),1,0)*Table_NFI[[#This Row],[Plastic Mat]],0)","v":0},{"$f":"VLOOKUP(Table_NFI[[#This Row],[Camp Name]],Camp_List!N$5:AA$254,2,0)","v":{"$error":"#N/A"}},{"$f":"VLOOKUP(Table_NFI[[#This Row],[Camp Name]],Camp_List!N$5:AA$254,14,0)","v":{"$error":"#N/A"}},{"$f":"VLOOKUP(Table_NFI[[#This Row],[Camp Name]],Camp_List!N$5:AC$254,1,1)","v":{"$error":"#N/A"}}]
[4.1333333333333337,"2013-04-30","UNHCR",null,"Rakhine","Pauktaw",null,null,null,null,null,null,1,null,null,null,null,{"$f":"IF(NFI_Expiration=1,IF($A281<VLOOKUP(H$5,NFI,5,0),1,0)*Table_NFI[[#This Row],[Hygiene Kit]],0)","v":0},{"$f":"IF(NFI_Expiration=1,IF($A281<VLOOKUP(I$5,NFI,5,0),1,0)*Table_NFI[[#This Row],[NFI Core Kit]],0)","v":0},{"$f":"IF(NFI_Expiration=1,IF($A281<VLOOKUP(J$5,NFI,5,0),1,0)*Table_NFI[[#This Row],[Sanitary Kit]],0)","v":0},{"$f":"IF(NFI_Expiration=1,IF($A281<VLOOKUP(K$5,NFI,5,0),1,0)*Table_NFI[[#This Row],[Mosquito net]],0)","v":0},{"$f":"IF(NFI_Expiration=1,IF($A281<VLOOKUP(L$5,NFI,5,0),1,0)*Table_NFI[[#This Row],[Tarpaulin]],0)","v":0},{"$f":"IF(NFI_Expiration=1,IF($A281<VLOOKUP(M$5,NFI,5,0),1,0)*Table_NFI[[#This Row],[Blanket]],0)","v":1},{"$f":"IF(NFI_Expiration=1,IF($A281<VLOOKUP(N$5,NFI,5,0),1,0)*Table_NFI[[#This Row],[Kitchen Set]],0)","v":0},{"$f":"IF(NFI_Expiration=1,IF($A281<VLOOKUP(O$5,NFI,5,0),1,0)*Table_NFI[[#This Row],[Complementary Kit]],0)","v":0},{"$f":"IF(NFI_Expiration=1,IF($A281<VLOOKUP(P$5,NFI,5,0),1,0)*Table_NFI[[#This Row],[Plastic Bucket]],0)","v":0},{"$f":"IF(NFI_Expiration=1,IF($A281<VLOOKUP(Q$5,NFI,5,0),1,0)*Table_NFI[[#This Row],[Plastic Mat]],0)","v":0},{"$f":"VLOOKUP(Table_NFI[[#This Row],[Camp Name]],Camp_List!N$5:AA$254,2,0)","v":{"$error":"#N/A"}},{"$f":"VLOOKUP(Table_NFI[[#This Row],[Camp Name]],Camp_List!N$5:AA$254,14,0)","v":{"$error":"#N/A"}},{"$f":"VLOOKUP(Table_NFI[[#This Row],[Camp Name]],Camp_List!N$5:AC$254,1,1)","v":{"$error":"#N/A"}}]
[3.1666666666666665,"2013-05-29","UNHCR","Solidarities International","Rakhine","Sittwe",null,null,null,null,null,1520,null,null,null,null,null,{"$f":"IF(NFI_Expiration=1,IF($A282<VLOOKUP(H$5,NFI,5,0),1,0)*Table_NFI[[#This Row],[Hygiene Kit]],0)","v":0},{"$f":"IF(NFI_Expiration=1,IF($A282<VLOOKUP(I$5,NFI,5,0),1,0)*Table_NFI[[#This Row],[NFI Core Kit]],0)","v":0},{"$f":"IF(NFI_Expiration=1,IF($A282<VLOOKUP(J$5,NFI,5,0),1,0)*Table_NFI[[#This Row],[Sanitary Kit]],0)","v":0},{"$f":"IF(NFI_Expiration=1,IF($A282<VLOOKUP(K$5,NFI,5,0),1,0)*Table_NFI[[#This Row],[Mosquito net]],0)","v":0},{"$f":"IF(NFI_Expiration=1,IF($A282<VLOOKUP(L$5,NFI,5,0),1,0)*Table_NFI[[#This Row],[Tarpaulin]],0)","v":1520},{"$f":"IF(NFI_Expiration=1,IF($A282<VLOOKUP(M$5,NFI,5,0),1,0)*Table_NFI[[#This Row],[Blanket]],0)","v":0},{"$f":"IF(NFI_Expiration=1,IF($A282<VLOOKUP(N$5,NFI,5,0),1,0)*Table_NFI[[#This Row],[Kitchen Set]],0)","v":0},{"$f":"IF(NFI_Expiration=1,IF($A282<VLOOKUP(O$5,NFI,5,0),1,0)*Table_NFI[[#This Row],[Complementary Kit]],0)","v":0},{"$f":"IF(NFI_Expiration=1,IF($A282<VLOOKUP(P$5,NFI,5,0),1,0)*Table_NFI[[#This Row],[Plastic Bucket]],0)","v":0},{"$f":"IF(NFI_Expiration=1,IF($A282<VLOOKUP(Q$5,NFI,5,0),1,0)*Table_NFI[[#This Row],[Plastic Mat]],0)","v":0},{"$f":"VLOOKUP(Table_NFI[[#This Row],[Camp Name]],Camp_List!N$5:AA$254,2,0)","v":{"$error":"#N/A"}},{"$f":"VLOOKUP(Table_NFI[[#This Row],[Camp Name]],Camp_List!N$5:AA$254,14,0)","v":{"$error":"#N/A"}},{"$f":"VLOOKUP(Table_NFI[[#This Row],[Camp Name]],Camp_List!N$5:AC$254,1,1)","v":{"$error":"#N/A"}}]
[null,null,null,null,null,null,null,null,null,null,{"$f":"$I283*2","v":0},{"$f":"$I283*1","v":0},{"$f":"$I283*2","v":0},{"$f":"$I283*1","v":0},0,0,0]

{"sheet":"Pipeline Stock Tracking","index":15,"n_rows":18,"n_cols":35,"rows_kept":18,"cut":false,"hidden":false,"merged":[[4,32,4,34],[4,23,4,25],[4,20,4,22],[4,4,5,4],[4,3,5,3],[4,29,4,31],[4,26,4,28],[2,0,2,7],[4,1,5,1],[4,0,5,0],[4,17,4,19],[4,14,4,16],[4,11,4,13],[4,5,4,7],[4,8,4,10]]}
[]
["Pipeline Stock Tracking"]
[{"$f":"Report_Date","v":"2013-09-01"}]
[]
["Date Updated","Organization",null,"State","Township","Hygiene Family Kit",null,null,"NFI Core Kit",null,null,"Women's Sanitary Kit",null,null,"Mosquito Nets",null,null,"Tarpaulins",null,null,"Blanket",null,null,"Kitchen Set",null,null,"Compalimentary Kits",null,null,"Plastic Bucket",null,null,"Plastic Mat"]
[null,null,"Implementing Partner",null,null,"Stock in Balance","Pipeline","ETA","Stock in Balance","Pipeline","ETA","Stock in Balance","Pipeline","ETA","Stock in Balance","Pipeline","ETA","Stock in Balance","Pipeline","ETA","Stock in Balance","Pipeline","ETA","Stock in Balance","Pipeline","ETA","Stock in Balance","Pipeline","ETA","Stock in Balance","Pipeline","ETA","Stock in Balance","Pipeline","ETA"]
["2013-05-18","UNHCR","UNHCR","Rakhine","Maungdaw",null,null,null,100]
["2013-07-01","UNHCR","UNHCR","Rakhine","Minbya",null,null,null,1074]
["2013-07-01","UNHCR","UNHCR","Rakhine","Mrauk_U",null,null,null,665]
["2013-07-01","DRC","DRC","Rakhine","Pauktaw",null,900,"15/07/2013"]
["2013-07-01","DRC","DRC","Rakhine","Sittwe",null,400,"15/07/2013"]
["2013-07-01","MRSC","MRSC","Rakhine","Sittwe",null,null,null,null,1850,"2013-08-07"]
["2013-07-01","MRSC","MRSC","Rakhine","Sittwe",null,20000,"2013-08-07"]
["2013-07-01","Muslim Aid","Muslim Aid","Rakhine","Sittwe",null,null,null,null,3090,"2013-10-07"]
["2013-08-01","UNHCR","UNHCR","Rakhine","Maungdaw",1047]
[41487,"UNHCR","UNHCR","Rakhine","Maungdaw",0,null,null,null,null,null,2500,null,null,1152,null,null,178,null,null,942,null,null,451,null,null,13,null,null,0,null,null,1000]
[41487,"UNHCR","UNHCR","Rakhine","Buthidaung",0,null,null,null,null,null,556,null,null,1228,null,null,600,null,null,1189,null,null,597,null,null,0,null,null,0,null,null,1200]
[41487,"UNHCR","UNHCR","Rakhine","Sittwe",1500,null,null,null,null,null,0,null,null,2772,null,null,2045,null,null,3065,null,null,1321,null,null,2293,null,null,1307,500,null,2742]

{"sheet":"NFIAnalysis","index":16,"n_rows":56,"n_cols":15,"rows_kept":56,"cut":false,"hidden":false,"merged":[[20,11,20,14],[20,0,21,0],[20,1,21,1],[20,2,21,2],[20,3,20,6],[1,0,1,7],[2,0,2,7],[5,0,6,0],[5,1,6,1],[5,2,6,2]]}
[]
["NFI DISTRIBUTION BY TOWNSHIP"]
[{"$f":"Report_Date","v":"2013-09-01"}]
[]
["Rakhine"]
["Township","Total # of HH","Total # of Population","Mosquito Net","Tarpaulin","Blanket","Kitchen Set","Complemantary Kit","Plastic Bucket","Plastic Mat"]
[null,null,null,"Dist.","Dist.","Dist.","Dist.","Dist.","Dist.","Dist."]
["Kyauk_Phyu",{"$f":"SUMIF(Camplist_Township,NFIAnalysis!$A8,Camplist_HH)","v":492},{"$f":"SUMIF(Camplist_Township,NFIAnalysis!$A8,Camplist_Popl)","v":1867},{"$f":"SUMIF(NFI_Township,$A8,NFI_Mosquito_Track)","v":0},{"$f":"SUMIF(NFI_Township,$A8,NFI_Tarpaulin_Track)","v":0},{"$f":"SUMIF(NFI_Township,$A8,NFI_Blanket_Track)","v":0},{"$f":"SUMIF(NFI_Township,$A8,NFI_Kitchen_Track)","v":0},{"$f":"SUMIF(NFI_Township,$A8,NFI_Complementary_Track)","v":0},{"$f":"SUMIF(NFI_Township,$A8,NFI_Plastic_Bucket_Track)","v":0},{"$f":"SUMIF(NFI_Township,$A8,NFI_Plastic_Mat_Track)","v":0}]
["Kyauktaw",{"$f":"SUMIF(Camplist_Township,NFIAnalysis!$A9,Camplist_HH)","v":1053},{"$f":"SUMIF(Camplist_Township,NFIAnalysis!$A9,Camplist_Popl)","v":6554},2422,1595,3052,1211,1211,1211,2422]
["Maungdaw",{"$f":"SUMIF(Camplist_Township,NFIAnalysis!$A10,Camplist_HH)","v":288},{"$f":"SUMIF(Camplist_Township,NFIAnalysis!$A10,Camplist_Popl)","v":2046},2064,2034,854,427,427,427,854]
["Meybon",{"$f":"SUMIF(Camplist_Township,NFIAnalysis!$A11,Camplist_HH)","v":674},{"$f":"SUMIF(Camplist_Township,NFIAnalysis!$A11,Camplist_Popl)","v":4066},0,749,0,0,0,0,0]
["Minbya",{"$f":"SUMIF(Camplist_Township,NFIAnalysis!$A12,Camplist_HH)","v":949},{"$f":"SUMIF(Camplist_Township,NFIAnalysis!$A12,Camplist_Popl)","v":5207},2060,1536,2667,1030,1030,1030,2060]
["Mrauk_U",{"$f":"SUMIF(Camplist_Township,NFIAnalysis!$A13,Camplist_HH)","v":685},{"$f":"SUMIF(Camplist_Township,NFIAnalysis!$A13,Camplist_Popl)","v":3998},1350,998,1850,675,675,675,1350]
["Pauktaw",{"$f":"SUMIF(Camplist_Township,NFIAnalysis!$A14,Camplist_HH)","v":4017},{"$f":"SUMIF(Camplist_Township,NFIAnalysis!$A14,Camplist_Popl)","v":20054},0,5555,1365,0,0,0,0]
["Ramree",{"$f":"SUMIF(Camplist_Township,NFIAnalysis!$A15,Camplist_HH)","v":69},{"$f":"SUMIF(Camplist_Township,NFIAnalysis!$A15,Camplist_Popl)","v":227},0,0,0,0,0,0,0]
["Rathedaung",{"$f":"SUMIF(Camplist_Township,NFIAnalysis!$A16,Camplist_HH)","v":782},{"$f":"SUMIF(Camplist_Township,NFIAnalysis!$A16,Camplist_Popl)","v":3981},1427,720,720,360,360,360,720]
["Sittwe",{"$f":"SUMIF(Camplist_Township,NFIAnalysis!$A17,Camplist_HH)","v":16640},{"$f":"SUMIF(Camplist_Township,NFIAnalysis!$A17,Camplist_Popl)","v":91881},2000,4160,3054,1000,1000,1000,2000]
["Total",{"$f":"SUM(B8:B17)","v":25649},139881,11323,17347,13562,4703,4703,4703,9406]
[]
["Rakhine"]
["Township","Total # of HH","Total # of Population","Hygiene Kit",null,null,null,"NFI Core Kit",null,null,null,"Sanitary Kit"]
[null,null,null,"Dist.","Instock","Pipeline","Gap (HH)","Dist.","Instock","Pipeline",null,"Dist.","Instock","Pipeline","Gap (HH)"]
["Kyauk_Phyu",{"$f":"SUMIF(Camplist_Township,NFIAnalysis!$A23,Camplist_HH)","v":492},{"$f":"SUMIF(Camplist_Township,NFIAnalysis!$A23,Camplist_Popl)","v":1867},{"$f":"SUMIF(NFI_Township,$A23,NFI_Hygiene_Track)","v":489},{"$f":"SUMIF(NFI_Pipeline_Township,$A23,NFI_Hygiene_Stock)","v":0},{"$f":"SUMIF(NFI_Pipeline_Township,$A21,NFI_Hygiene_Pipeline)","v":0},{"$f":"IF(B23-(D23+E23+F23)<0,0,B23-(D23+E23+F23))","v":3},{"$f":"SUMIF(NFI_Township,$A23,NFI_Core_Track)","v":0},{"$f":"SUMIF(NFI_Pipeline_Township,$A23,NFI_Core_Stock)","v":0},{"$f":"SUMIF(NFI_Pipeline_Township,$A21,NFI_Core_Pipeline)","v":0},null,{"$f":"SUMIF(NFI_Township,$A23,NFI_Sanitary_Track)","v":0},{"$f":"SUMIF(NFI_Pipeline_Township,$A23,NFI_Sanitary_Stock)","v":0},{"$f":"SUMIF(NFI_Pipeline_Township,$A21,NFI_Sanitary_Pipeline)","v":0},{"$f":"IF(B23-(L23+M23+N23)<0,0,B23-(L23+M23+N23))","v":492}]
["Kyauktaw",{"$f":"SUMIF(Camplist_Township,NFIAnalysis!$A24,Camplist_HH)","v":1053},{"$f":"SUMIF(Camplist_Township,NFIAnalysis!$A24,Camplist_Popl)","v":6554},0,0,{"$f":"SUMIF(NFI_Pipeline_Township,$A23,NFI_Hygiene_Pipeline)","v":0},1053,1211,0,{"$f":"SUMIF(NFI_Pipeline_Township,$A23,NFI_Core_Pipeline)","v":0},null,60,0,{"$f":"SUMIF(NFI_Pipeline_Township,$A23,NFI_Sanitary_Pipeline)","v":0},993]
["Maungdaw",{"$f":"SUMIF(Camplist_Township,NFIAnalysis!$A25,Camplist_HH)","v":288},{"$f":"SUMIF(Camplist_Township,NFIAnalysis!$A25,Camplist_Popl)","v":2046},0,1047,{"$f":"SUMIF(NFI_Pipeline_Township,#REF!,NFI_Hygiene_Pipeline)","v":0},0,427,100,{"$f":"SUMIF(NFI_Pipeline_Township,#REF!,NFI_Core_Pipeline)","v":0},null,3791,2500,{"$f":"SUMIF(NFI_Pipeline_Township,#REF!,NFI_Sanitary_Pipeline)","v":0},0]
["Meybon",{"$f":"SUMIF(Camplist_Township,NFIAnalysis!$A26,Camplist_HH)","v":674},{"$f":"SUMIF(Camplist_Township,NFIAnalysis!$A26,Camplist_Popl)","v":4066},750,0,{"$f":"SUMIF(NFI_Pipeline_Township,$A25,NFI_Hygiene_Pipeline)","v":0},0,0,0,{"$f":"SUMIF(NFI_Pipeline_Township,$A25,NFI_Core_Pipeline)","v":0},null,0,0,{"$f":"SUMIF(NFI_Pipeline_Township,$A25,NFI_Sanitary_Pipeline)","v":0},674]
["Minbya",{"$f":"SUMIF(Camplist_Township,NFIAnalysis!$A27,Camplist_HH)","v":949},{"$f":"SUMIF(Camplist_Township,NFIAnalysis!$A27,Camplist_Popl)","v":5207},950,0,{"$f":"SUMIF(NFI_Pipeline_Township,#REF!,NFI_Hygiene_Pipeline)","v":0},0,1030,1074,{"$f":"SUMIF(NFI_Pipeline_Township,#REF!,NFI_Core_Pipeline)","v":0},null,0,0,{"$f":"SUMIF(NFI_Pipeline_Township,#REF!,NFI_Sanitary_Pipeline)","v":0},949]
["Mrauk_U",{"$f":"SUMIF(Camplist_Township,NFIAnalysis!$A28,Camplist_HH)","v":685},{"$f":"SUMIF(Camplist_Township,NFIAnalysis!$A28,Camplist_Popl)","v":3998},640,0,{"$f":"SUMIF(NFI_Pipeline_Township,$A26,NFI_Hygiene_Pipeline)","v":0},45,675,665,{"$f":"SUMIF(NFI_Pipeline_Township,$A26,NFI_Core_Pipeline)","v":0},null,0,0,{"$f":"SUMIF(NFI_Pipeline_Township,$A26,NFI_Sanitary_Pipeline)","v":0},685]
["Pauktaw",{"$f":"SUMIF(Camplist_Township,NFIAnalysis!$A29,Camplist_HH)","v":4017},{"$f":"SUMIF(Camplist_Township,NFIAnalysis!$A29,Camplist_Popl)","v":20054},8864,0,0,0,0,0,0,null,0,0,0,4017]
["Ramree",{"$f":"SUMIF(Camplist_Township,NFIAnalysis!$A30,Camplist_HH)","v":69},{"$f":"SUMIF(Camplist_Township,NFIAnalysis!$A30,Camplist_Popl)","v":227},121,0,0,0,0,0,0,null,0,0,0,69]
["Rathedaung",{"$f":"SUMIF(Camplist_Township,NFIAnalysis!$A31,Camplist_HH)","v":782},{"$f":"SUMIF(Camplist_Township,NFIAnalysis!$A31,Camplist_Popl)","v":3981},0,0,900,0,360,0,0,null,492,0,0,290]
["Sittwe",{"$f":"SUMIF(Camplist_Township,NFIAnalysis!$A32,Camplist_HH)","v":16640},{"$f":"SUMIF(Camplist_Township,NFIAnalysis!$A32,Camplist_Popl)","v":91881},28684,1500,0,0,1000,0,0,null,11406,0,0,5234]
["Total",{"$f":"SUM(B23:B32)","v":25649},{"$f":"SUM(C23:C32)","v":139881},{"$f":"SUM(D23:D32)","v":40498},{"$f":"SUM(E23:E32)","v":2547},{"$f":"SUM(F23:F32)","v":900},{"$f":"SUM(G23:G32)","v":1101},{"$f":"SUM(H23:H32)","v":4703},{"$f":"SUM(I23:I32)","v":1839},{"$f":"SUM(J23:J32)","v":0},null,{"$f":"SUM(L23:L32)","v":15749},{"$f":"SUM(M23:M32)","v":2500},{"$f":"SUM(N23:N32)","v":0},{"$f":"SUM(O23:O32)","v":13403}]
[]
["State","Rakhine"]
[]
["Row Labels","Mosquito net ","Tarpaulin ","Blanket ","Kitchen Set ","Complementary Kit ","Plastic Bucket  ","Plastic  Mat"]
["KOICAT",0,0,700,0,0,0,0]
["Muslim Aid",2000,1000,2000,1000,1000,1000,2000]
["UNHCR",9323,17747,10987,3703,3703,3703,7406]
["Grand Total",11323,18747,13687,4703,4703,4703,9406]
[]
["State","Rakhine"]
[]
["Row Labels","Mosquito net ","Tarpaulin ","Blanket ","Kitchen Set ","Complementary Kit ","Plastic Bucket  ","Plastic  Mat"]
["Kyauk_Phyu",0,0,0,0,0,0,0]
["Kyauktaw",2422,2190,3052,1211,1211,1211,2422]
["Maungdaw",2064,2034,854,427,427,427,854]
["Meybon",0,749,0,0,0,0,0]
["Minbya",2060,1536,2667,1030,1030,1030,2060]
["Mrauk_U",1350,998,1850,675,675,675,1350]
["Pauktaw",0,5555,1365,0,0,0,0]
["Ramree",0,0,0,0,0,0,0]
["Rathedaung",1427,720,720,360,360,360,720]
["Sittwe",2000,4965,3179,1000,1000,1000,2000]
["Grand Total",11323,18747,13687,4703,4703,4703,9406]

{"sheet":"NFISummary","index":17,"n_rows":36,"n_cols":16,"rows_kept":36,"cut":false,"hidden":false,"merged":[[1,0,1,7],[2,0,2,7]]}
[null,null,null,null,null,null,null,null,null,null,null,null,null,null,null,1]
["Rakhine NFI Coverage & Gaps"]
[{"$f":"Report_Date","v":"2013-09-01"}]
[null,"Rakhine",{"$f":"NFIAnalysis!#REF!","v":{"$error":"#REF!"}},null,null,null,null,null,null,null,null,null,null,null,null,0]
[null,"Main Kits","Quantity/HH","Requirement","Distributed","Distributed","In Stock","In Stock","Requirement","Requirement","Pipeline","Pipeline","Remaining Need","Remaining Need",null,1]
[null,"Hygiene Kit",{"$f":"VLOOKUP($B6,NFI,6,0)","v":1},{"$f":"$C$4*C6","v":{"$error":"#REF!"}},{"$f":"SUMIFS(INDIRECT(VLOOKUP($B6,NFI,2,0)),NFI_State,$B$4)","v":40498},{"$f":"IF((E6/D6)>100%,100%,(E6/D6))","v":{"$error":"#REF!"}},{"$f":"SUMIFS(INDIRECT(VLOOKUP($B6,NFI,3,0)),NFI_Pipeline_State,$B$4)","v":2547},{"$f":"G6/D6","v":{"$error":"#REF!"}},{"$f":"IF((D6-(SUM(E6:G6)))<0,0,(D6-(SUM(E6:G6))))","v":{"$error":"#REF!"}},{"$f":"I6/D6","v":{"$error":"#REF!"}},{"$f":"SUMIFS(INDIRECT(VLOOKUP($B6,NFI,4,0)),NFI_Pipeline_State,$B$4)","v":21300},{"$f":"K6/D6","v":{"$error":"#REF!"}},{"$f":"IF((D6-(E6+G6+K6))<0,0,(D6-(E6+G6+K6)))","v":{"$error":"#REF!"}},{"$f":"M6/D6","v":{"$error":"#REF!"}},null,1]
[null,"NFI Core Kit",{"$f":"VLOOKUP($B7,NFI,6,0)","v":1},{"$f":"$C$4*C7","v":{"$error":"#REF!"}},{"$f":"SUMIFS(INDIRECT(VLOOKUP($B7,NFI,2,0)),NFI_State,$B$4)","v":4703},{"$f":"IF((E7/D7)>100%,100%,(E7/D7))","v":{"$error":"#REF!"}},{"$f":"SUMIFS(INDIRECT(VLOOKUP($B7,NFI,3,0)),NFI_Pipeline_State,$B$4)","v":1839},{"$f":"G7/D7","v":{"$error":"#REF!"}},{"$f":"IF((D7-(SUM(E7:G7)))<0,0,(D7-(SUM(E7:G7))))","v":{"$error":"#REF!"}},{"$f":"I7/D7","v":{"$error":"#REF!"}},{"$f":"SUMIFS(INDIRECT(VLOOKUP($B7,NFI,4,0)),NFI_Pipeline_State,$B$4)","v":4940},{"$f":"K7/D7","v":{"$error":"#REF!"}},{"$f":"IF((D7-(E7+G7+K7))<0,0,(D7-(E7+G7+K7)))","v":{"$error":"#REF!"}},{"$f":"M7/D7","v":{"$error":"#REF!"}},null,1]
[null,"Sanitary Kit",{"$f":"VLOOKUP($B8,NFI,6,0)","v":1},{"$f":"$C$4*C8","v":{"$error":"#REF!"}},{"$f":"SUMIFS(INDIRECT(VLOOKUP($B8,NFI,2,0)),NFI_State,$B$4)","v":15749},{"$f":"IF((E8/D8)>100%,100%,(E8/D8))","v":{"$error":"#REF!"}},{"$f":"SUMIFS(INDIRECT(VLOOKUP($B8,NFI,3,0)),NFI_Pipeline_State,$B$4)","v":3056},{"$f":"G8/D8","v":{"$error":"#REF!"}},{"$f":"IF((D8-(SUM(E8:G8)))<0,0,(D8-(SUM(E8:G8))))","v":{"$error":"#REF!"}},{"$f":"I8/D8","v":{"$error":"#REF!"}},{"$f":"SUMIFS(INDIRECT(VLOOKUP($B8,NFI,4,0)),NFI_Pipeline_State,$B$4)","v":0},{"$f":"K8/D8","v":{"$error":"#REF!"}},{"$f":"IF((D8-(E8+G8+K8))<0,0,(D8-(E8+G8+K8)))","v":{"$error":"#REF!"}},{"$f":"M8/D8","v":{"$error":"#REF!"}},null,1]
[null,null,null,null,null,null,null,null,null,null,null,null,null,null,null,1]
[null,null,null,null,null,null,null,null,null,null,null,null,null,null,null,1]
[null,"Items (Direct and throug Kits)","Quantity/HH","Requirement","Distributed","Distributed","In Stock","In Stock","Requirement","Requirement","Pipeline","Pipeline","Remaining Need","Remaining Need",null,1]
[null,"Mosquito net",{"$f":"VLOOKUP($B12,NFI,6,0)","v":2},{"$f":"$C$4*C12","v":{"$error":"#REF!"}},{"$f":"SUMIFS(INDIRECT(VLOOKUP($B12,NFI,2,0)),NFI_State,$B$4)+C12*E$7","v":20729},{"$f":"IF((E12/D12)>100%,100%,(E12/D12))","v":{"$error":"#REF!"}},{"$f":"SUMIFS(INDIRECT(VLOOKUP($B12,NFI,3,0)),NFI_Pipeline_State,$B$4)+C12*G$7","v":8830},{"$f":"G12/D12","v":{"$error":"#REF!"}},{"$f":"IF((D12-(SUM(E12:G12)))<0,0,(D12-(SUM(E12:G12))))","v":{"$error":"#REF!"}},{"$f":"I12/D12","v":{"$error":"#REF!"}},{"$f":"SUMIFS(INDIRECT(VLOOKUP($B12,NFI,4,0)),NFI_Pipeline_State,$B$4)+C12*K$7","v":9880},{"$f":"K12/D12","v":{"$error":"#REF!"}},{"$f":"IF((D12-(E12+G12+K12))<0,0,(D12-(E12+G12+K12)))","v":{"$error":"#REF!"}},{"$f":"M12/D12","v":{"$error":"#REF!"}},null,1]
[null,"Tarpaulin",1,{"$f":"$C$4*C13","v":{"$error":"#REF!"}},22050,{"$f":"IF((E13/D13)>100%,100%,(E13/D13))","v":{"$error":"#REF!"}},4662,{"$error":"#REF!"},{"$error":"#REF!"},{"$error":"#REF!"},{"$f":"SUMIFS(INDIRECT(VLOOKUP($B13,NFI,4,0)),NFI_Pipeline_State,$B$4)++C13*K$7","v":4940},{"$error":"#REF!"},{"$error":"#REF!"},{"$error":"#REF!"},null,1]
[null,"Blanket",2,{"$f":"$C$4*C14","v":{"$error":"#REF!"}},22968,{"$error":"#REF!"},8874,{"$error":"#REF!"},{"$error":"#REF!"},{"$error":"#REF!"},9880,{"$error":"#REF!"},{"$error":"#REF!"},{"$error":"#REF!"}]
[null,"Kitchen Set",1,{"$f":"$C$4*C15","v":{"$error":"#REF!"}},9406,{"$error":"#REF!"},4208,{"$error":"#REF!"},{"$error":"#REF!"},{"$error":"#REF!"},4940,{"$error":"#REF!"},{"$error":"#REF!"},{"$error":"#REF!"}]
[null,"Complementary Kit",1,{"$f":"$C$4*C16","v":{"$error":"#REF!"}},9406,{"$error":"#REF!"},6781,{"$error":"#REF!"},{"$error":"#REF!"},{"$error":"#REF!"},4940,{"$error":"#REF!"},{"$error":"#REF!"},{"$error":"#REF!"}]
[null,"Plastic Bucket",1,{"$f":"$C$4*C17","v":{"$error":"#REF!"}},9406,{"$error":"#REF!"},3146,{"$error":"#REF!"},{"$error":"#REF!"},{"$error":"#REF!"},5440,{"$error":"#REF!"},{"$error":"#REF!"},{"$error":"#REF!"}]
[null,"Plastic Mat",2,{"$error":"#REF!"},18812,{"$error":"#REF!"},8620,{"$error":"#REF!"},{"$error":"#REF!"},{"$error":"#REF!"},9880,{"$error":"#REF!"},{"$error":"#REF!"},{"$error":"#REF!"}]
[]
[null,"Rakhine",{"$f":"NFIAnalysis!B18","v":25649}]
[null,"Main Kits","Quantity/HH","Requirement","Distributed","Distributed","In Stock","In Stock","Requirement","Requirement","Pipeline","Pipeline","Remaining Need","Remaining Need",null,1]
[null,"Hygiene Kit",{"$f":"VLOOKUP($B22,NFI,6,0)","v":1},{"$f":"$C$20*C22","v":25649},{"$f":"SUMIFS(INDIRECT(VLOOKUP($B22,NFI,2,0)),NFI_State,\"Rakhine\")","v":40498},{"$f":"IF((E22/D22)>100%,100%,(E22/D22))","v":1},{"$f":"SUMIFS(INDIRECT(VLOOKUP($B22,NFI,3,0)),NFI_Pipeline_State,$B$20)","v":2547},{"$f":"G22/D22","v":9.9302117041600066E-2},{"$f":"IF((D22-(SUM(E22:G22)))<0,0,(D22-(SUM(E22:G22))))","v":0},{"$f":"I22/D22","v":0},{"$f":"SUMIFS(INDIRECT(VLOOKUP($B22,NFI,4,0)),NFI_Pipeline_State,$B$20)","v":21300},{"$f":"K22/D22","v":0.83044173262115484},{"$f":"IF((D22-(E22+G22+K22))<0,0,(D22-(E22+G22+K22)))","v":0},{"$f":"M22/D22","v":0},null,1]
[null,"NFI Core Kit",{"$f":"VLOOKUP($B23,NFI,6,0)","v":1},{"$f":"$C$20*C23","v":25649},{"$f":"SUMIFS(INDIRECT(VLOOKUP($B23,NFI,2,0)),NFI_State,\"Rakhine\")","v":4703},{"$f":"IF((E23/D23)>100%,100%,(E23/D23))","v":0.18335997504776014},{"$f":"SUMIFS(INDIRECT(VLOOKUP($B23,NFI,3,0)),NFI_Pipeline_State,$B$20)","v":1839},{"$f":"G23/D23","v":7.1698701703770129E-2},{"$f":"IF((D23-(SUM(E23:G23)))<0,0,(D23-(SUM(E23:G23))))","v":19106.816640024954},{"$f":"I23/D23","v":0.74493417443272458},{"$f":"SUMIFS(INDIRECT(VLOOKUP($B23,NFI,4,0)),NFI_Pipeline_State,$B$20)","v":4940},{"$f":"K23/D23","v":0.19260010136847441},{"$f":"IF((D23-(E23+G23+K23))<0,0,(D23-(E23+G23+K23)))","v":14167},{"$f":"M23/D23","v":0.55234122187999535},null,1]
[null,"Sanitary Kit",{"$f":"VLOOKUP($B24,NFI,6,0)","v":1},{"$f":"$C$20*C24","v":25649},{"$f":"SUMIFS(INDIRECT(VLOOKUP($B24,NFI,2,0)),NFI_State,\"Rakhine\")","v":15749},{"$f":"IF((E24/D24)>100%,100%,(E24/D24))","v":0.61402003976763231},{"$f":"SUMIFS(INDIRECT(VLOOKUP($B24,NFI,3,0)),NFI_Pipeline_State,$B$20)","v":3056},{"$f":"G24/D24","v":0.1191469453000117},{"$f":"IF((D24-(SUM(E24:G24)))<0,0,(D24-(SUM(E24:G24))))","v":6843.3859799602324},{"$f":"I24/D24","v":0.26680907559593875},{"$f":"SUMIFS(INDIRECT(VLOOKUP($B24,NFI,4,0)),NFI_Pipeline_State,$B$20)","v":0},{"$f":"K24/D24","v":0},{"$f":"IF((D24-(E24+G24+K24))<0,0,(D24-(E24+G24+K24)))","v":6844},{"$f":"M24/D24","v":0.26683301493235606},null,1]
[null,null,null,null,null,null,null,null,null,null,null,null,null,null,null,1]
[null,null,null,null,null,null,null,null,null,null,null,null,null,null,null,1]
[null,null,null,null,null,null,null,null,null,null,null,null,null,null,null,1]
[null,null,null,null,null,null,null,null,null,null,null,null,null,null,null,1]
[null,"Items (Direct and through Kits)","Quantity/HH","Requirement","Distributed","Distributed","In Stock","In Stock","Requirement","Requirement","Pipeline","Pipeline","Remaining Need","Remaining Need",null,1]
[null,"Mosquito net",{"$f":"VLOOKUP($B30,NFI,6,0)","v":2},{"$f":"$C$20*C30","v":51298},{"$f":"SUMIFS(INDIRECT(VLOOKUP($B30,NFI,2,0)),NFI_State,\"Rakhine\")","v":11323},{"$f":"IF((E30/D30)>100%,100%,(E30/D30))","v":0.2207298530157121},{"$f":"SUMIFS(INDIRECT(VLOOKUP($B30,NFI,3,0)),NFI_Pipeline_State,$B$4)+C30*G$7","v":8830},{"$f":"G30/D30","v":0.17213146711372762},{"$f":"IF((D30-(SUM(E30:G30)))<0,0,(D30-(SUM(E30:G30))))","v":31144.779270146984},{"$f":"I30/D30","v":0.60713437697662642},{"$f":"SUMIFS(INDIRECT(VLOOKUP($B30,NFI,4,0)),NFI_Pipeline_State,$B$4)+C30*K$7","v":9880},{"$f":"K30/D30","v":0.19260010136847441},{"$f":"IF((D30-(E30+G30+K30))<0,0,(D30-(E30+G30+K30)))","v":21265},{"$f":"M30/D30","v":0.41453857850208586}]
[null,"Tarpaulin",1,25649,17347,0.67632266365160432,4662,0.18176147218215136,3639.3236773363496,0.14188949578292914,4940,0.19260010136847441,0,0]
[null,"Blanket",2,51298,13562,0.26437677882178645,8874,0.17298920035868845,28861.735623221179,0.56262886707515258,9880,0.19260010136847441,18982,0.37003391945105074]
[null,"Kitchen Set",1,25649,4703,0.18335997504776014,4208,0.16406097703614175,16737.816640024954,0.65257189910035296,4940,0.19260010136847441,11798,0.45997894654762367]
[null,"Complementary Kit",1,25649,4703,0.18335997504776014,6781,0.26437677882178645,14164.816640024952,0.55225609731470826,4940,0.19260010136847441,9225,0.35966314476197903]
[null,"Plastic Bucket",1,25649,4703,{"$f":"IF((E35/D35)>100%,100%,(E35/D35))","v":0.18335997504776014},3146,0.12265585402939685,17799.816640024954,0.69397702210709789,5440,0.21209403875394753,12360,0.48189013216889548]
[null,"Plastic Mat",2,51298,9406,0.18335997504776014,8620,0.16803774026277826,33271.816640024954,0.648598710281589,9880,0.19260010136847441,23392,0.45600218332098719]

{"sheet":"Indicator","index":18,"n_rows":22,"n_cols":9,"rows_kept":22,"cut":false,"hidden":true,"merged":[[0,0,1,6]]}
["Indicators Tracking Sheet"]
[]
[]
["Reported date","State","Township","Camp Name","Sector","Indicator","Value","Monitoring Date","Reporting Partner"]
["30.5.2013","Kachin","Bhamo","AD-2000 Tharthana Compound","Shelter"]
["30.5.2013","Kachin","Bhamo","Lisu Boarding-House","Shelter"]
["30.5.2013","Kachin","Bhamo","Nant Hlaing Church","Shelter"]
["30.5.2013","Kachin","Bhamo","Phan Khar Kone","Shelter"]
["30.5.2013","Kachin","Bhamo","Robert Church","Shelter"]
["30.5.2013","Kachin","Bhamo","Ta Gun Taing Monastery (Shwe Kyi Na)","Shelter"]
["30.5.2013","Kachin","Loi Za","Loi Je Catholic Church","Shelter"]
["30.5.2013","Kachin","Man Si","Mansi Baptist Church","Shelter"]
["30.5.2013","Kachin","Mansi","Lana Zup Ja ","Shelter"]
["30.5.2013","Kachin","Mansi","Man Wing Catholic Church","Shelter"]
["30.5.2013","Kachin","Man Si","Mansi Baptist Church","Shelter"]
["30.5.2013","Kachin","Man Si","Mansi Baptist Church","Health"]
["2013-05-22","Kachin","Mansi","Lana Zup Ja ","NFI"]
["2013-05-22","Kachin","Mansi","Lana Zup Ja ","NFI"]
["2013-05-22","Kachin","Mansi","Man Wing Catholic Church","NFI"]
["2013-05-22","Kachin","Mansi","Man Wing Catholic Church","NFI"]
["2013-05-22","Kachin","Man Si","Mansi Baptist Church","NFI"]
["2013-05-28","Kachin","Man Si","Mansi Baptist Church","NFI"]

{"sheet":"analysis","index":19,"n_rows":7,"n_cols":20,"rows_kept":7,"cut":false,"hidden":true,"merged":[]}
["Rakhine",null,null,null,null,null,null,null,null,null,null,"Kachin"]
["Org","Hygiene Family Kit","NFI Core Kit","Women's Sanitary Kit","Mosquito Nets","Tarpaulins",null,"Blanket","Kitchen Set","Complementary Kit",null,"Org","Hygiene Family Kit","NFI Core Kit","Women's Sanitary Kit","Mosquito Net","Tarpaulin","Blanket","Kitchen Set","Complementary Kit"]
["DRC",{"$f":"SUMIFS(NFI_Hygiene_Track,NFI_Org,A3,NFI_State,\"Rakhine\")","v":2907},{"$f":"SUMIFS(NFI_Core_Track,NFI_Org,A3,NFI_State,\"Rakhine\")","v":0},{"$f":"SUMIFS(NFI_Sanitary_Track,NFI_Org,A3,NFI_State,\"Rakhine\")","v":0},{"$f":"SUMIFS(NFI_Mosquito_Track,NFI_Org,A3,NFI_State,\"Rakhine\")","v":0},{"$f":"SUMIFS(NFI_Tarpaulin_Track,NFI_Org,A3,NFI_State,\"Rakhine\")","v":0},null,{"$f":"SUMIFS(NFI_Blanket_Track,NFI_Org,A3,NFI_State,\"Rakhine\")","v":0},{"$f":"SUMIFS(NFI_Kitchen_Track,NFI_Org,A3,NFI_State,\"Rakhine\")","v":0},{"$f":"SUMIFS(NFI_Complementary_Track,NFI_Org,A3,NFI_State,\"Rakhine\")","v":0},null,"UNHCR",{"$f":"SUMIFS(NFI_Hygiene_Track,NFI_Org,L3,NFI_State,\"Kachin\")","v":0},{"$f":"SUMIFS(NFI_Core_Track,NFI_Org,L3,NFI_State,\"Kachin\")","v":0},{"$f":"SUMIFS(NFI_Sanitary_Track,NFI_Org,L3,NFI_State,\"Kachin\")","v":0},{"$f":"SUMIFS(NFI_Mosquito_Track,NFI_Org,L3,NFI_State,\"Kachin\")","v":0},{"$f":"SUMIFS(NFI_Tarpaulin_Track,NFI_Org,L3,NFI_State,\"Kachin\")","v":0},{"$f":"SUMIFS(NFI_Blanket_Track,NFI_Org,L3,NFI_State,\"Kachin\")","v":0},{"$f":"SUMIFS(NFI_Kitchen_Track,NFI_Org,L3,NFI_State,\"Kachin\")","v":0},{"$f":"SUMIFS(NFI_Complementary_Track,NFI_Org,L3,NFI_State,\"Kachin\")","v":0}]
["KOICAT",{"$f":"SUMIFS(NFI_Hygiene_Track,NFI_Org,A4,NFI_State,\"Rakhine\")","v":0},{"$f":"SUMIFS(NFI_Core_Track,NFI_Org,A4,NFI_State,\"Rakhine\")","v":0},{"$f":"SUMIFS(NFI_Sanitary_Track,NFI_Org,A4,NFI_State,\"Rakhine\")","v":0},{"$f":"SUMIFS(NFI_Mosquito_Track,NFI_Org,A4,NFI_State,\"Rakhine\")","v":0},{"$f":"SUMIFS(NFI_Tarpaulin_Track,NFI_Org,A4,NFI_State,\"Rakhine\")","v":0},null,{"$f":"SUMIFS(NFI_Blanket_Track,NFI_Org,A4,NFI_State,\"Rakhine\")","v":640},{"$f":"SUMIFS(NFI_Kitchen_Track,NFI_Org,A4,NFI_State,\"Rakhine\")","v":0},{"$f":"SUMIFS(NFI_Complementary_Track,NFI_Org,A4,NFI_State,\"Rakhine\")","v":0}]
["UNHCR",{"$f":"SUMIFS(NFI_Hygiene_Track,NFI_Org,A5,NFI_State,\"Rakhine\")","v":0},{"$f":"SUMIFS(NFI_Core_Track,NFI_Org,A5,NFI_State,\"Rakhine\")","v":3703},{"$f":"SUMIFS(NFI_Sanitary_Track,NFI_Org,A5,NFI_State,\"Rakhine\")","v":15689},{"$f":"SUMIFS(NFI_Mosquito_Track,NFI_Org,A5,NFI_State,\"Rakhine\")","v":9323},{"$f":"SUMIFS(NFI_Tarpaulin_Track,NFI_Org,A5,NFI_State,\"Rakhine\")","v":16347},null,{"$f":"SUMIFS(NFI_Blanket_Track,NFI_Org,A5,NFI_State,\"Rakhine\")","v":10922},{"$f":"SUMIFS(NFI_Kitchen_Track,NFI_Org,A5,NFI_State,\"Rakhine\")","v":3703},{"$f":"SUMIFS(NFI_Complementary_Track,NFI_Org,A5,NFI_State,\"Rakhine\")","v":3703}]
["Muslim Aid",{"$f":"SUMIFS(NFI_Hygiene_Track,NFI_Org,A6,NFI_State,\"Rakhine\")","v":0},{"$f":"SUMIFS(NFI_Core_Track,NFI_Org,A6,NFI_State,\"Rakhine\")","v":1000},{"$f":"SUMIFS(NFI_Sanitary_Track,NFI_Org,A6,NFI_State,\"Rakhine\")","v":0},{"$f":"SUMIFS(NFI_Mosquito_Track,NFI_Org,A6,NFI_State,\"Rakhine\")","v":2000},{"$f":"SUMIFS(NFI_Tarpaulin_Track,NFI_Org,A6,NFI_State,\"Rakhine\")","v":1000},null,{"$f":"SUMIFS(NFI_Blanket_Track,NFI_Org,A6,NFI_State,\"Rakhine\")","v":2000},{"$f":"SUMIFS(NFI_Kitchen_Track,NFI_Org,A6,NFI_State,\"Rakhine\")","v":1000},{"$f":"SUMIFS(NFI_Complementary_Track,NFI_Org,A6,NFI_State,\"Rakhine\")","v":1000}]
["UNICEF",{"$f":"SUMIFS(NFI_Hygiene_Track,NFI_Org,A7,NFI_State,\"Rakhine\")","v":0},{"$f":"SUMIFS(NFI_Core_Track,NFI_Org,A7,NFI_State,\"Rakhine\")","v":0},{"$f":"SUMIFS(NFI_Sanitary_Track,NFI_Org,A7,NFI_State,\"Rakhine\")","v":0},{"$f":"SUMIFS(NFI_Mosquito_Track,NFI_Org,A7,NFI_State,\"Rakhine\")","v":0},{"$f":"SUMIFS(NFI_Tarpaulin_Track,NFI_Org,A7,NFI_State,\"Rakhine\")","v":0},null,{"$f":"SUMIFS(NFI_Blanket_Track,NFI_Org,A7,NFI_State,\"Rakhine\")","v":0},{"$f":"SUMIFS(NFI_Kitchen_Track,NFI_Org,A7,NFI_State,\"Rakhine\")","v":0},{"$f":"SUMIFS(NFI_Complementary_Track,NFI_Org,A7,NFI_State,\"Rakhine\")","v":0}]

{"sheet":"list","index":20,"n_rows":77,"n_cols":36,"rows_kept":77,"cut":false,"hidden":false,"merged":[]}
["State","Kachin","Shan (North)","Rakhine","Type of Accomodation","Camp_Acessibility","Bhamo","China","Chipwi","Hpakant","Injangyang","Khaunglanhpu","Kutkai","Mansi","Manton","Mogaung","Mohnyin","Momauk","Mong Kar","Muse","Myitkyina","Namhkan","Namtu","Puta-O","Shwegu","Waingmaw","Minbya","Mrauk_U","Meybon","Pauktaw","Kyauktaw","Rathedaung","Kyauk_Phyu","Ramree","Sittwe","Maungdaw"]
["Kachin","Bhamo","Kutkai","Kyauk_Phyu","Collective Center","Accessible by All","AD-2000 Tharthana Compound","Chong Shang Pa","Chipwi KBC camp","1 Ward, Sein Yadanar Company(Lon Khin)","Lawk Hkawng Ginwang","La Ja","Kone Khem Camp","Host Families","Howa","Kyun Taw Baptist Church ","Nant Mun","Bum Tsit Pa ","Hka San Camp","Hpai Kawng Mare","Du Kahtawng Qtr. 14","Mung Ding Pa ","Nam Tu","Tote Tan Ward","Host Families","Border Post 10","Aung Taing","Myat Buddha Mandine Monastery","Kan Thar Htwat Wa","Ah Nauk Ywe","Ah Lel","Ah Htet Nan Yar","Kyauk Ta Lone","Ramree Town","Ar Thaw Ka Yone Monastery","Alima Fara"]
["Rakhine","China","Manton","Kyauktaw","Individual (non hosted)","Accessibility Restricted","Daw Hpum Yang Ninghtawn","Da Bang Chi","Gant Gwin","5 Ward Baptist Church(lon Khin)",null,null,"Kutkai downtown (KBC Church)","Lung Kawk  ( Hka Hkye Zup)","Mandung - Jinghpaw","Mang Hawng Baptist Church","Nawng Ing (Indawgyi) Baptist Church  ","Dum Bung ",null,"Munekoe Pa (Giwang) - Hka San (Mung  Go  Pa ) ","Du Kahtawng Qtr. 4","Nam Hkam Malut Jak ",null,null,"Lawk Awng Mare D. (Sinbo Area)","Border Post 8","Nagara Pauktaw","Pa Rein","Taung Paw ","Ba Wan Chaung Wa Su","Ah Lel Kyun","Ah Nauk Pyin","Pha Yar Gyi Kwin","Ramree Ward 6","Bamgalar A Wa Kune","Baw Di Gone"]
["Shan_North","Chipwi","Muse","Maungdaw","Planned Camp","Not Accessible","Host Families","Dingga  - Nga Nawng Pa","Hpare Hkyer - BP6","5 Ward RC Church(lon Khin)",null,null,"Kutkai downtown (RC Church)","Man Wing Baptist Church","Nam Hkyet","Nat Gyi Kone Baptist Church ","St. Patrick Catholic Church ","Host Families",null,"Mung Baw ","Du Kahtawng Qtr. 5","Nam Hkam - Nay Win Ni (Palawng)",null,null,"Shwe Gu Baptist Church","Hkat Cho ","Paik Thay","Raw Ma Ni Sin Oe",null,"Kyein Ni Pyin","Ah Pauk Wa ","Koe Tan Kauk/Chein Khar Li",null,null,"Basare","Bomu Ywa"]
[null,"Hpakant","Namhkan","Meybon","Privately Hosted",null,"Htoi San Church","Hka Dawng Pa ","Lan Jaw ","AG Church, Hmaw Si Sa",null,null,"Mine Yu Lay village","Man Wing Catholic Church",null,null,null,"Hpun Lum Yang ",null,null,"Jan Mai Kawng Baptist Church","Nam Hkam (KBC Jaw Wang)",null,null,"Shwe Gu Catholic Church","Hkau Shau (BP 12)","Sam Ba Le","Yai Thei-Muslim",null,"Nget Chaung","Goke Pi Htaunt","Nyaung Pin Gyi",null,null,"Baw Du Pha","Du Than Dar"]
[null,"Injangyang","Namtu","Minbya","Self Settled Camp",null,"Kannar Yeik Thar","Hpare  ","Lhaovao Baptist Church (LBC)","AG Church, Maw Wan",null,null,"Mungji Pa Dabang (Baptist Church)         ","Man Wing Host Families",null,null,null,"Je Yang Hka ",null,null,"Jan Mai Kawng Catholic Church","Nam Hkam Catholic Church ( St. Thomas I)",null,null,null,"Laiza Market 3 / Laiza Gat","San Htoe Tan",null,null,"Sin Tet Maw","In Bar Yi",null,null,null,"Baw Du Pha 3","Kan Thar Yar"]
[null,"Khaunglanhpu",null,"Mrauk_U",null,null,"Kannar Yeik Thar","Hpare   (Lisu Mare)","Women's Affairs Association Building","Anglican Church, Hmaw Si Sar",null,null,"Mungji Pa Dabang (RC Church)         ","Mansi Baptist Church",null,null,null,"Lana Zup Ja ",null,null,"Kyun Pin Thar Baptist Church","Nam Hkam Catholic Church ( St. Thomas II)",null,null,null,"Laiza Muklum Hpyen  Yen Mungshawa ni","Tha Dar",null,null,null,"Khaung Htoke",null,null,null,"Boke Daw Maw","Kin Chaung"]
[null,"Mansi",null,"Pauktaw",null,null,"Lisu Boarding-House","Jan Shi",null,"Association of Christ, Nam Ma Phyit",null,null,"Nam Hpak Ka Mare ","Nam Hka Mare (west of Man Wing)",null,null,null,"Loi Je Baptist Church",null,null,"Le Kone Bethlehem Church","Nam Hkawng",null,null,null,"Mading Baptist Church","Tha Yet Oak",null,null,null,"Let Saung Kauk",null,null,null,"Bu May Ohn Taw","Kyaing Gyi"]
[null,"Mogaung",null,"Ramree",null,null,"Mu-yin Baptist Church","La Ying",null,"Away Yar Rama Monastery, Ka Day village",null,null,"Zup Aung Camp","Nam Lim Pa - Scattered IDPs in forest",null,null,null,"Loi Je Catholic Church",null,null,"Le Kone Ziun Baptist Church ",null,null,null,null,"Maga Yang ","Thay Kan",null,null,null,"Nidin",null,null,null,"Bu May Ohn Taw Shore","Lamber Gone Nah"]
[null,"Mohnyin",null,"Rathedaung",null,null,"Nant Hlaing Church","Lahta Masat shadaw (6)",null,"Aye Mya Tharyar Church of Christ ",null,null,null,null,null,null,null,"Loi Je Lisu Camp",null,null,"Maliyang Baptist Church",null,null,null,null,"Maina AG Church",null,null,null,null,"Shwe Hlaing",null,null,null,"Dak Kaung Monastery","Maw Ya Waddy"]
[null,"Momauk",null,"Sittwe",null,null,"Phan Khar Kone","Lau Shang",null,"Baptist Church, Hmaw Si Sar(Lon Khin)",null,null,null,null,null,null,null,"Mai Khat ",null,null,"Man Hkring Baptist Church",null,null,null,null,"Maina Catholic Church (St. Joseph)",null,null,null,null,"Taung Bwe",null,null,null,"Dama Set Kyar Monastery","Myoma Myauk"]
[null,"Mong Kar",null,null,null,null,"Robert Church","Lauhpai ",null,"Baptist Church, Naung Hmee VT",null,null,null,null,null,null,null,"Man Bung Catholic compound",null,null,"Maw Hpawng Hka Nan Baptist Church",null,null,null,null,"Maina KBC (Bawng Ring)",null,null,null,null,"Yun Nyar",null,null,null,"Dama Yar Ma","Nyaung Pin Hla"]
[null,"Myitkyina",null,null,null,null,"Ta Gun Taing Monastery (Shwe Kyi Na)","Lung Kawk ",null,"Baptist Church, Sai Ra village",null,null,null,null,null,null,null,"Man Nawng ",null,null,"Maw Hpawng Lhaovo Baptist Church",null,null,null,null,"Maina Lawang Baptist Church",null,null,null,null,null,null,null,null,"DamaYeikThar","Tha Yay Kone Baung"]
[null,"Puta-O",null,null,null,null,"Yoe Kyi Monastery","Man Hai ",null,"Chin Church, Seik Mu",null,null,null,null,null,null,null,"Man Ting",null,null,"Myay Myint Baptist Church",null,null,null,null,"Manau Compound",null,null,null,null,null,null,null,null,"Danyawaddy Baw Lone Kwin","Thaung Paing Nyar"]
[null,"Shwegu",null,null,null,null,null,"Na Kawng  ",null,"Chin(Zomi) Baptist Church",null,null,null,null,null,null,null,"Mandalay Monestry",null,null,"Nan Kway St. John Catholic Church",null,null,null,null,"Moke Lwe Village / Hkar Shi",null,null,null,null,null,null,null,null,"Dar Pai","Ywa thit Kay"]
[null,"Waingmaw",null,null,null,null,null,"Pang Wa Ten Htan",null,"Dhama Rakhita, Nyein Chan Tar Yar Ward(Lon Khin)",null,null,null,null,null,null,null,"Momauk Baptist Church",null,null,"Njang Dung Baptist Church ",null,null,null,null,"Nawng Hee Village",null,null,null,null,null,null,null,null,"Dohn Taik Kwin","Wai Thar Li"]
[null,null,null,null,null,null,null,"Quen Hau Hti",null,"Ei Wan Gali Asso., Ward 1, Seik Mu",null,null,null,null,null,null,null,"Momauk Catholic Church (St. Patrick)",null,null,"Nong Pong Camp",null,null,null,null,"Nawng Si Paw Village / Inn Lay",null,null,null,null,null,null,null,null,"Gyit Bak Monastery","Shwe Yin Aye"]
[null,null,null,null,null,null,null,"Shinggan  (Nawng Tau)",null,"Free Christian Asso., Ward 1, Seik Mu",null,null,null,null,null,null,null,"Myo Thit ",null,null,"Pa Dauk Myaing(Pa La Na)",null,null,null,null,"Pajau / Jan Mai",null,null,null,null,null,null,null,null,"Gyit Chay Monastery","Kha Yay Myaing( DPA)"]
[null,null,null,null,null,null,null,"Yang Lu  ",null,"Hlaing Naung Baptist",null,null,null,null,null,null,null,"Nhkawng Pa ",null,null,"Shatapru Sut Ngai Tawng",null,null,null,null,"Post 6 Camp",null,null,null,null,null,null,null,null,"Hmanzi Junction","Kan Pyin Thar Si"]
[null,null,null,null,null,null,null,null,null,"Hmaw Wan, Anglican",null,null,null,null,null,null,null,"Ni Thaw Ka Monestry",null,null,"Shatapru Thida Aye Baptist Church",null,null,null,null,"Qtr. 2 Lhaovo Baptist Church",null,null,null,null,null,null,null,null,"Ka Yu Chaung","Kha Yay Myaing(short legged)"]
[null,null,null,null,null,null,null,null,null,"Hmaw Wan, Baptist Christian Church",null,null,null,null,null,null,null,"Nyaung Na Pin ",null,null,"Shwe Zet Baptist Church",null,null,null,null,"Qtr. 2 Myoma Baptist Church",null,null,null,null,null,null,null,null,"Kaw Nyar Na"]
[null,null,null,null,null,null,null,null,null,"Lisu Baptist Church, Maw Shan Vil,. Seik Mu",null,null,null,null,null,null,null,"Pa Kahtawng ",null,null,"Tat Kone Baptist Church",null,null,null,null,"Qtr. 3 Mu-yin  Baptist Church",null,null,null,null,null,null,null,null,"Kha Maung Taw"]
[null,null,null,null,null,null,null,null,null,"Lisu Baptist Church, Maw Wan Ward",null,null,null,null,null,null,null,"Phar Kay/Nant Waing ",null,null,"Tat Kone COC Baptist / Tat Kone Htoi San",null,null,null,null,"Qtr. 4 Monestry (Thargaya Thayett Taw)",null,null,null,null,null,null,null,null,"Kha Maung Taw Monastery"]
[null,null,null,null,null,null,null,null,null,"Ma Mon Buddhist Monastery",null,null,null,null,null,null,null,"Seng Ja ",null,null,"Tat Kone Emanuel Church",null,null,null,null,"Shing Jai",null,null,null,null,null,null,null,null,"Khaung Doke Khar "]
[null,null,null,null,null,null,null,null,null,"Mashi Kahtawng Baptist  Church",null,null,null,null,null,null,null,"Tarli ",null,null,"Tat Kone Galile Baptist Church",null,null,null,null,"Thargaya Lisu Baptist Church",null,null,null,null,null,null,null,null,"Khaung Laung"]
[null,null,null,null,null,null,null,null,null,"Mashi Kahtawng Catholic Church",null,null,null,null,null,null,null,null,null,null,"Tat Kone San Pya Baptist Church",null,null,null,null,"Waingmaw AG Church",null,null,null,null,null,null,null,null,"Khaymarmandine"]
[null,null,null,null,null,null,null,null,null,"Mashi Kahtawng Evangelical Church",null,null,null,null,null,null,null,null,null,null,"Wun Tho Buddhist Monastery",null,null,null,null,"Waingmaw Baptist Zonal Office",null,null,null,null,null,null,null,null,"Kyar Yoke"]
[null,null,null,null,null,null,null,null,null,"Mashi Kahtawng Municipal Dammar Yone",null,null,null,null,null,null,null,null,null,null,null,null,null,null,null,"Woi Chyai ",null,null,null,null,null,null,null,null,"KyaungGyiLan"]
[null,null,null,null,null,null,null,null,null,"Mashi Kahtawng Myo Oo Taw Ya Monestry",null,null,null,null,null,null,null,null,null,null,null,null,null,null,null,"Zai Awng / Mung Ga Zup",null,null,null,null,null,null,null,null,"Layaungwin Monastery"]
[null,null,null,null,null,null,null,null,null,"Mashi Kahtawng Rakhine traditional group",null,null,null,null,null,null,null,null,null,null,null,null,null,null,null,null,null,null,null,null,null,null,null,null,"Ma Gyi Myaing"]
[null,null,null,null,null,null,null,null,null,"Mashi Kahtawng Shan Traditional Monestry",null,null,null,null,null,null,null,null,null,null,null,null,null,null,null,null,null,null,null,null,null,null,null,null,"Ma Ni Yadanar Monastery"]
[null,null,null,null,null,null,null,null,null,"Mashi Kahtawng Yaung Chi Oo Thi la shin Monestry",null,null,null,null,null,null,null,null,null,null,null,null,null,null,null,null,null,null,null,null,null,null,null,null,"MahaKuthaLa"]
[null,null,null,null,null,null,null,null,null,"Maw Si Zar, Thiriyardanar Sein, Damma Compound, Lone Khin",null,null,null,null,null,null,null,null,null,null,null,null,null,null,null,null,null,null,null,null,null,null,null,null,"Mahar Zay Ya Theik"]
[null,null,null,null,null,null,null,null,null,"Maw Wan, Catholic Church",null,null,null,null,null,null,null,null,null,null,null,null,null,null,null,null,null,null,null,null,null,null,null,null,"Maw Ti Ngar (TKP west)"]
[null,null,null,null,null,null,null,null,null,"Maw Wan, Kachin Baptist Church",null,null,null,null,null,null,null,null,null,null,null,null,null,null,null,null,null,null,null,null,null,null,null,null,"MaYarMaGyi-old"]
[null,null,null,null,null,null,null,null,null,"Maw Wan, Kyauk Hlaing Gu Pagoda Compound",null,null,null,null,null,null,null,null,null,null,null,null,null,null,null,null,null,null,null,null,null,null,null,null,"Mingan"]
[null,null,null,null,null,null,null,null,null,"Maw Wan, Mu-yin Baptist Church",null,null,null,null,null,null,null,null,null,null,null,null,null,null,null,null,null,null,null,null,null,null,null,null,"MinnGanHighSchool"]
[null,null,null,null,null,null,null,null,null,"Maw Wan, Myo Oo Pagoda",null,null,null,null,null,null,null,null,null,null,null,null,null,null,null,null,null,null,null,null,null,null,null,null,"MyaTheinTan"]
[null,null,null,null,null,null,null,null,null,"May Di Ka Rama Monastery(Lon Khin)",null,null,null,null,null,null,null,null,null,null,null,null,null,null,null,null,null,null,null,null,null,null,null,null,"Myo Ma Monastery"]
[null,null,null,null,null,null,null,null,null,"Muring Baptist Church, Awng Ra, Wa Ra Zut VT",null,null,null,null,null,null,null,null,null,null,null,null,null,null,null,null,null,null,null,null,null,null,null,null,"Nyar Ni Kar Ya Ma"]
[null,null,null,null,null,null,null,null,null,"Nant Ma Hpit Catholic Church",null,null,null,null,null,null,null,null,null,null,null,null,null,null,null,null,null,null,null,null,null,null,null,null,"Ohn Taw Gyi 1"]
[null,null,null,null,null,null,null,null,null,"Nga Pyaw Taw Baptist Nursery School ",null,null,null,null,null,null,null,null,null,null,null,null,null,null,null,null,null,null,null,null,null,null,null,null,"Ohn Taw Gyi 2"]
[null,null,null,null,null,null,null,null,null,"Nga Pyaw Taw Roman Catholic Church",null,null,null,null,null,null,null,null,null,null,null,null,null,null,null,null,null,null,null,null,null,null,null,null,"Ohn Taw Gyi 3"]
[null,null,null,null,null,null,null,null,null,"Parami, Charity Office, MyoMa Quarter",null,null,null,null,null,null,null,null,null,null,null,null,null,null,null,null,null,null,null,null,null,null,null,null,"Ohn Taw Gyi 4"]
[null,null,null,null,null,null,null,null,null,"Rawan Baptist Church, Maw Shan Vil., Seik Mu",null,null,null,null,null,null,null,null,null,null,null,null,null,null,null,null,null,null,null,null,null,null,null,null,"Ohn Taw Gyi 5"]
[null,null,null,null,null,null,null,null,null,"Sa Baw Sarsana Parla Monastery",null,null,null,null,null,null,null,null,null,null,null,null,null,null,null,null,null,null,null,null,null,null,null,null,"OhnTaPin"]
[null,null,null,null,null,null,null,null,null,"Sai Nai Baptish Church, Maw Shan Vil., Seki Mu",null,null,null,null,null,null,null,null,null,null,null,null,null,null,null,null,null,null,null,null,null,null,null,null,"Pa Lin Pyin Ywar Thit"]
[null,null,null,null,null,null,null,null,null,"San Kyel, Masoe Yein Monestry",null,null,null,null,null,null,null,null,null,null,null,null,null,null,null,null,null,null,null,null,null,null,null,null,"Phon Nyar Yar Ma"]
[null,null,null,null,null,null,null,null,null,"Tar Ma Hkan Buddhist Monastery, Haung Par",null,null,null,null,null,null,null,null,null,null,null,null,null,null,null,null,null,null,null,null,null,null,null,null,"Phwe Yar Kone"]
[null,null,null,null,null,null,null,null,null,"Thiri Mingalar Manizay Yone, Myoma Quarter",null,null,null,null,null,null,null,null,null,null,null,null,null,null,null,null,null,null,null,null,null,null,null,null,"Phyin Nyar Ag Myay"]
[null,null,null,null,null,null,null,null,null,"Ward 2 Cahotlic Church, Seik Mu",null,null,null,null,null,null,null,null,null,null,null,null,null,null,null,null,null,null,null,null,null,null,null,null,"Pyin Nyar Mandine Monastery"]
[null,null,null,null,null,null,null,null,null,"Ward 2 Sai Taung Baptist Church, Seik Mu ",null,null,null,null,null,null,null,null,null,null,null,null,null,null,null,null,null,null,null,null,null,null,null,null,"PyinNyarLinkarya"]
[null,null,null,null,null,null,null,null,null,"Wrad(5) Christian Association",null,null,null,null,null,null,null,null,null,null,null,null,null,null,null,null,null,null,null,null,null,null,null,null,"Say Tha Mar Gyi"]
[null,null,null,null,null,null,null,null,null,"Yumar Baptist Church",null,null,null,null,null,null,null,null,null,null,null,null,null,null,null,null,null,null,null,null,null,null,null,null,"Set Yone Su"]
[null,null,null,null,null,null,null,null,null,null,null,null,null,null,null,null,null,null,null,null,null,null,null,null,null,null,null,null,null,null,null,null,null,null,"Set Yone Su 3"]
[null,null,null,null,null,null,null,null,null,null,null,null,null,null,null,null,null,null,null,null,null,null,null,null,null,null,null,null,null,null,null,null,null,null,"Shwe Pyar"]
[null,null,null,null,null,null,null,null,null,null,null,null,null,null,null,null,null,null,null,null,null,null,null,null,null,null,null,null,null,null,null,null,null,null,"Shwe Zay Ti Monastery"]
[null,null,null,null,null,null,null,null,null,null,null,null,null,null,null,null,null,null,null,null,null,null,null,null,null,null,null,null,null,null,null,null,null,null,"Sin Ku Lann Monastery"]
[null,null,null,null,null,null,null,null,null,null,null,null,null,null,null,null,null,null,null,null,null,null,null,null,null,null,null,null,null,null,null,null,null,null,"Sit Kae Taw Min"]
[null,null,null,null,null,null,null,null,null,null,null,null,null,null,null,null,null,null,null,null,null,null,null,null,null,null,null,null,null,null,null,null,null,null,"Su Taung Pyae Monastery"]
[null,null,null,null,null,null,null,null,null,null,null,null,null,null,null,null,null,null,null,null,null,null,null,null,null,null,null,null,null,null,null,null,null,null,"TanTan"]
[null,null,null,null,null,null,null,null,null,null,null,null,null,null,null,null,null,null,null,null,null,null,null,null,null,null,null,null,null,null,null,null,null,null,"Tayzindayama"]
[null,null,null,null,null,null,null,null,null,null,null,null,null,null,null,null,null,null,null,null,null,null,null,null,null,null,null,null,null,null,null,null,null,null,"Tha Ma Da ZTK"]
[null,null,null,null,null,null,null,null,null,null,null,null,null,null,null,null,null,null,null,null,null,null,null,null,null,null,null,null,null,null,null,null,null,null,"Thae Chaung"]
[null,null,null,null,null,null,null,null,null,null,null,null,null,null,null,null,null,null,null,null,null,null,null,null,null,null,null,null,null,null,null,null,null,null,"Thae Chaung (Kyaukphyu)"]
[null,null,null,null,null,null,null,null,null,null,null,null,null,null,null,null,null,null,null,null,null,null,null,null,null,null,null,null,null,null,null,null,null,null,"Thangga Yarzar Monastery"]
[null,null,null,null,null,null,null,null,null,null,null,null,null,null,null,null,null,null,null,null,null,null,null,null,null,null,null,null,null,null,null,null,null,null,"Theit Di Kar Yone Monastery"]
[null,null,null,null,null,null,null,null,null,null,null,null,null,null,null,null,null,null,null,null,null,null,null,null,null,null,null,null,null,null,null,null,null,null,"Thet Kae Pyin "]
[null,null,null,null,null,null,null,null,null,null,null,null,null,null,null,null,null,null,null,null,null,null,null,null,null,null,null,null,null,null,null,null,null,null,"Thet Kae Pyin Host Family"]
[null,null,null,null,null,null,null,null,null,null,null,null,null,null,null,null,null,null,null,null,null,null,null,null,null,null,null,null,null,null,null,null,null,null,"Thet Kay Pyin School"]
[null,null,null,null,null,null,null,null,null,null,null,null,null,null,null,null,null,null,null,null,null,null,null,null,null,null,null,null,null,null,null,null,null,null,"Thin Pone Tan"]
[null,null,null,null,null,null,null,null,null,null,null,null,null,null,null,null,null,null,null,null,null,null,null,null,null,null,null,null,null,null,null,null,null,null,"U Ye Kyaw Thu"]
[null,null,null,null,null,null,null,null,null,null,null,null,null,null,null,null,null,null,null,null,null,null,null,null,null,null,null,null,null,null,null,null,null,null,"Uwa Ya Ma"]
[null,null,null,null,null,null,null,null,null,null,null,null,null,null,null,null,null,null,null,null,null,null,null,null,null,null,null,null,null,null,null,null,null,null,"Weikzar Thaikdi Monastery"]
[null,null,null,null,null,null,null,null,null,null,null,null,null,null,null,null,null,null,null,null,null,null,null,null,null,null,null,null,null,null,null,null,null,null,"Ya Tayar Monastery"]
[null,null,null,null,null,null,null,null,null,null,null,null,null,null,null,null,null,null,null,null,null,null,null,null,null,null,null,null,null,null,null,null,null,null,"YadaNarMinDaing"]
[null,null,null,null,null,null,null,null,null,null,null,null,null,null,null,null,null,null,null,null,null,null,null,null,null,null,null,null,null,null,null,null,null,null,"Ywar Gyi"]

{"sheet":"camp","index":21,"n_rows":309,"n_cols":7,"rows_kept":309,"cut":false,"hidden":true,"merged":[]}
["State_Region","Township","TS_Pcode","Camp_Name","Camp_Pcode","Longitude","Latitude"]
["Kachin","Bhamo",null,"AD-2000 Tharthana Compound","MMR001CMP050",97.238829999999993,24.260719999999999]
["Kachin","Bhamo",null,"Kannar Yeik Thar","MMR001CMP194"]
["Kachin","Bhamo",null,"Daw Hpum Yang Ninghtawn","MMR001CMP153"]
["Kachin","Bhamo",null,"Host Families","MMR001CMP163"]
["Kachin","Bhamo",null,"Htoi San Church","MMR001CMP052",97.236919999999998,24.24766]
["Kachin","Bhamo",null,"Kannar Yeik Thar","MMR001CMP048"]
["Kachin","Bhamo",null,"Lisu Boarding-House","MMR001CMP049",97.241630000000001,24.266110000000001]
["Kachin","Bhamo",null,"Mu-yin Baptist Church","MMR001CMP051"]
["Kachin","Bhamo",null,"Nant Hlaing Church","MMR001CMP054",97.315860000000001,24.32638]
["Kachin","Bhamo",null,"Phan Khar Kone","MMR001CMP193"]
["Kachin","Bhamo",null,"Robert Church","MMR001CMP047",97.228769999999997,24.26502]
["Kachin","Bhamo",null,"Ta Gun Taing Monastery (Shwe Kyi Na)","MMR001CMP055",97.227789999999999,24.29138]
["Kachin","Bhamo",null,"Yoe Kyi Monastery","MMR001CMP053",97.240639999999999,24.24953]
["Kachin","China",null,"Chong Shang Pa","CHN001CMP017"]
["Kachin","China",null,"Da Bang Chi","CHN001CMP015"]
["Kachin","China",null,"Dingga  - Nga Nawng Pa","CHN001CMP005",97.601944000000003,23.947222]
["Kachin","China",null,"Hka Dawng Pa ","CHN001CMP006",97.528892999999997,23.930278999999999]
["Kachin","China",null,"Hpare  ","CHN001CMP012",98.475538999999998,25.751728]
["Kachin","China",null,"Hpare   (Lisu Mare)","CHN001CMP014",98.441765000000004,25.634277999999998]
["Kachin","China",null,"Jan Shi","CHN001CMP013"]
["Kachin","China",null,"La Ying","CHN001CMP001",97.742413999999997,24.205617]
["Kachin","China",null,"Lahta Masat shadaw (6)","CHN001CMP011",98.444547999999998,25.68412]
["Kachin","China",null,"Lau Shang","CHN001CMP018"]
["Kachin","China",null,"Lauhpai ","CHN001CMP004",97.631943000000007,23.90361]
["Kachin","China",null,"Lung Kawk ","CHN001CMP007",97.587219000000005,23.909165999999999]
["Kachin","China",null,"Man Hai ","CHN001CMP009"]
["Kachin","China",null,"Na Kawng  ","CHN001CMP002",97.570273999999998,23.977222000000001]
["Kachin","China",null,"Pang Wa Ten Htan","CHN001CMP010",97.792427000000004,25.161771000000002]
["Kachin","China",null,"Quen Hau Hti","CHN001CMP016"]
["Kachin","China",null,"Shinggan  (Nawng Tau)","CHN001CMP008",97.620002999999997,23.899721]
["Kachin","China",null,"Yang Lu  ","CHN001CMP003",97.624724999999998,23.888331999999998]
["Kachin","Chipwi",null,"Chipwi KBC camp","MMR001CMP042"]
["Kachin","Chipwi",null,"Gant Gwin","MMR001CMP046"]
["Kachin","Chipwi",null,"Hpare Hkyer - BP6","MMR001CMP043"]
["Kachin","Chipwi",null,"Lan Jaw ","MMR001CMP045",98.354146999999998,25.708763000000001]
["Kachin","Chipwi",null,"Lhaovao Baptist Church (LBC)","MMR001CMP195"]
["Kachin","Chipwi",null,"Women's Affairs Association Building","MMR001CMP044"]
["Kachin","Hpakan",null,"1 Ward, Sein Yadanar Company(Lon Khin)","MMR001CMP171",96.359549999999999,25.658650000000002]
["Kachin","Hpakan",null,"5 Ward Baptist Church(lon Khin)","MMR001CMP179",96.355270000000004,25.656130000000001]
["Kachin","Hpakan",null,"5 Ward RC Church(lon Khin)","MMR001CMP168",96.353070000000002,25.655819999999999]
["Kachin","Hpakan",null,"AG Church, Hmaw Si Sa","MMR001CMP176",96.345569999999995,25.635300000000001]
["Kachin","Hpakan",null,"AG Church, Maw Wan","MMR001CMP190"]
["Kachin","Hpakan",null,"Anglican Church, Hmaw Si Sar","MMR001CMP173"]
["Kachin","Hpakan",null,"Association of Christ, Nam Ma Phyit","MMR001CMP192"]
["Kachin","Hpakan",null,"Away Yar Rama Monastery, Ka Day village","MMR001CMP170",96.339870000000005,25.655989999999999]
["Kachin","Hpakan",null,"Aye Mya Tharyar Church of Christ ","MMR001CMP092"]
["Kachin","Hpakan",null,"Baptist Church, Hmaw Si Sar(Lon Khin)","MMR001CMP169",96.346469999999997,25.647649999999999]
["Kachin","Hpakan",null,"Baptist Church, Naung Hmee VT","MMR001CMP188"]
["Kachin","Hpakan",null,"Baptist Church, Sai Ra village","MMR001CMP172"]
["Kachin","Hpakan",null,"Chin Church, Seik Mu","MMR001CMP109"]
["Kachin","Hpakan",null,"Chin(Zomi) Baptist Church","MMR001CMP086"]
["Kachin","Hpakan",null,"Dhama Rakhita, Nyein Chan Tar Yar Ward(Lon Khin)","MMR001CMP174",96.354929999999996,25.643090000000001]
["Kachin","Hpakan",null,"Ei Wan Gali Asso., Ward 1, Seik Mu","MMR001CMP180"]
["Kachin","Hpakan",null,"Free Christian Asso., Ward 1, Seik Mu","MMR001CMP186"]
["Kachin","Hpakan",null,"Hlaing Naung Baptist","MMR001CMP148",96.705960000000005,25.51352]
["Kachin","Hpakan",null,"Hmaw Wan, Anglican","MMR001CMP191"]
["Kachin","Hpakan",null,"Hmaw Wan, Baptist Christian Church","MMR001CMP189"]
["Kachin","Hpakan",null,"Lisu Baptist Church, Maw Shan Vil,. Seik Mu","MMR001CMP181"]
["Kachin","Hpakan",null,"Lisu Baptist Church, Maw Wan Ward","MMR001CMP167",96.316400000000002,25.61842]
["Kachin","Hpakan",null,"Ma Mon Buddhist Monastery","MMR001CMP107"]
["Kachin","Hpakan",null,"Mashi Kahtawng Baptist  Church","MMR001CMP094"]
["Kachin","Hpakan",null,"Mashi Kahtawng Catholic Church","MMR001CMP093"]
["Kachin","Hpakan",null,"Mashi Kahtawng Evangelical Church","MMR001CMP096"]
["Kachin","Hpakan",null,"Mashi Kahtawng Municipal Dammar Yone","MMR001CMP098"]
["Kachin","Hpakan",null,"Mashi Kahtawng Myo Oo Taw Ya Monestry","MMR001CMP099"]
["Kachin","Hpakan",null,"Mashi Kahtawng Rakhine traditional group","MMR001CMP095"]
["Kachin","Hpakan",null,"Mashi Kahtawng Shan Traditional Monestry","MMR001CMP100"]
["Kachin","Hpakan",null,"Mashi Kahtawng Yaung Chi Oo Thi la shin Monestry","MMR001CMP097"]
["Kachin","Hpakan",null,"Maw Si Zar, Thiriyardanar Sein, Damma Compound, Lone Khin","MMR001CMP106",96.343350000000001,25.6447]
["Kachin","Hpakan",null,"Maw Wan, Catholic Church","MMR001CMP090"]
["Kachin","Hpakan",null,"Maw Wan, Kachin Baptist Church","MMR001CMP085"]
["Kachin","Hpakan",null,"Maw Wan, Kyauk Hlaing Gu Pagoda Compound","MMR001CMP084"]
["Kachin","Hpakan",null,"Maw Wan, Mu-yin Baptist Church","MMR001CMP091"]
["Kachin","Hpakan",null,"Maw Wan, Myo Oo Pagoda","MMR001CMP088"]
["Kachin","Hpakan",null,"May Di Ka Rama Monastery(Lon Khin)","MMR001CMP178",96.359309999999994,25.651440000000001]
["Kachin","Hpakan",null,"Muring Baptist Church, Awng Ra, Wa Ra Zut VT","MMR001CMP177",96.354159999999993,25.658670000000001]
["Kachin","Hpakan",null,"Nant Ma Hpit Catholic Church","MMR001CMP103"]
["Kachin","Hpakan",null,"Nga Pyaw Taw Baptist Nursery School ","MMR001CMP082",96.312790000000007,25.611160000000002]
["Kachin","Hpakan",null,"Nga Pyaw Taw Roman Catholic Church","MMR001CMP083",96.31326,25.611899999999999]
["Kachin","Hpakan",null,"Parami, Charity Office, MyoMa Quarter","MMR001CMP102"]
["Kachin","Hpakan",null,"Rawan Baptist Church, Maw Shan Vil., Seik Mu","MMR001CMP182",96.279200000000003,25.56551]
["Kachin","Hpakan",null,"Sa Baw Sarsana Parla Monastery","MMR001CMP108"]
["Kachin","Hpakan",null,"Sai Nai Baptish Church, Maw Shan Vil., Seki Mu","MMR001CMP183",96.353030000000004,25.668399999999998]
["Kachin","Hpakan",null,"San Kyel, Masoe Yein Monestry","MMR001CMP104"]
["Kachin","Hpakan",null,"Tar Ma Hkan Buddhist Monastery, Haung Par","MMR001CMP110"]
["Kachin","Hpakan",null,"Thiri Mingalar Manizay Yone, Myoma Quarter","MMR001CMP101"]
["Kachin","Hpakan",null,"Ward 2 Cahotlic Church, Seik Mu","MMR001CMP185",96.288250000000005,25.57921]
["Kachin","Hpakan",null,"Ward 2 Sai Taung Baptist Church, Seik Mu ","MMR001CMP184",96.286680000000004,25.577559999999998]
["Kachin","Hpakan",null,"Wrad(5) Christian Association","MMR001CMP175"]
["Kachin","Hpakan",null,"Yumar Baptist Church","MMR001CMP105"]
["Kachin","Injangyang",null,"Lawk Hkawng Ginwang","MMR001CMP146"]
["Kachin","Khaunglanhpu",null,"La Ja","MMR001CMP074"]
["Kachin","Kutkai",null,"Kone Khem Camp","MMR015CMP015"]
["Kachin","Kutkai",null,"Kutkai downtown (KBC Church)","MMR015CMP016"]
["Kachin","Kutkai",null,"Kutkai downtown (RC Church)","MMR015CMP017"]
["Kachin","Kutkai",null,"Mine Yu Lay village","MMR015CMP018"]
["Kachin","Kutkai",null,"Mungji Pa Dabang (Baptist Church)         ","MMR015CMP006"]
["Kachin","Kutkai",null,"Mungji Pa Dabang (RC Church)         ","MMR015CMP019"]
["Kachin","Kutkai",null,"Nam Hpak Ka Mare ","MMR015CMP007"]
["Kachin","Kutkai",null,"Zup Aung Camp","MMR015CMP020"]
["Kachin","Mansi",null,"Host Families","MMR001CMP196"]
["Kachin","Mansi",null,"Lung Kawk  ( Hka Hkye Zup)","MMR001CMP135",97.585667000000001,23.9055]
["Kachin","Mansi",null,"Man Wing Baptist Church","MMR001CMP133"]
["Kachin","Mansi",null,"Man Wing Catholic Church","MMR001CMP132"]
["Kachin","Mansi",null,"Man Wing Host Families","MMR001CMP134"]
["Kachin","Mansi",null,"Mansi Baptist Church","MMR001CMP066",97.291820000000001,24.129059999999999]
["Kachin","Mansi",null,"Nam Hka Mare (west of Man Wing)","MMR001CMP136"]
["Kachin","Mansi",null,"Nam Lim Pa - Scattered IDPs in forest","MMR001CMP137"]
["Kachin","Manton",null,"Mandung - Jinghpaw","MMR015CMP009"]
["Kachin","Manton",null,"Howa","MMR015CMP010"]
["Kachin","Manton",null,"Nam Hkyet","MMR015CMP011"]
["Kachin","Mogaung",null,"Kyun Taw Baptist Church ","MMR001CMP078",96.922619999999995,25.305669999999999]
["Kachin","Mogaung",null,"Mang Hawng Baptist Church","MMR001CMP077",96.942279999999997,25.296579999999999]
["Kachin","Mogaung",null,"Nat Gyi Kone Baptist Church ","MMR001CMP079",96.948740000000001,25.30442]
["Kachin","Mohnyin",null,"Nant Mun","MMR001CMP081",96.364949999999993,24.998349999999999]
["Kachin","Mohnyin",null,"Nawng Ing (Indawgyi) Baptist Church  ","MMR001CMP152"]
["Kachin","Mohnyin",null,"St. Patrick Catholic Church ","MMR001CMP080",96.367059999999995,24.764800000000001]
["Kachin","Momauk",null,"Bum Tsit Pa ","MMR001CMP129",97.609832999999995,24.002433]
["Kachin","Momauk",null,"Dum Bung ","MMR001CMP123",97.537099999999995,24.461033]
["Kachin","Momauk",null,"Hpun Lum Yang ","MMR001CMP122",97.573166999999998,24.661466999999998]
["Kachin","Momauk",null,"Je Yang Hka ","MMR001CMP121",97.568282999999994,24.688167]
["Kachin","Momauk",null,"Lana Zup Ja ","MMR001CMP128",97.625617000000005,24.056132999999999]
["Kachin","Momauk",null,"Nhkawng Pa ","MMR001CMP131",97.669366999999994,24.378167000000001]
["Kachin","Momauk",null,"Pa Kahtawng ","MMR001CMP126",97.752667000000002,24.2744]
["Kachin","Momauk",null,"Host Families","MMR001CMP197"]
["Kachin","Momauk",null,"Loi Je Baptist Church","MMR001CMP071"]
["Kachin","Momauk",null,"Loi Je Catholic Church","MMR001CMP069",97.724566999999993,24.205417000000001]
["Kachin","Momauk",null,"Loi Je Lisu Camp","MMR001CMP070",97.717133000000004,24.200433]
["Kachin","Momauk",null,"Mai Khat ","MMR001CMP064"]
["Kachin","Momauk",null,"Man Bung Catholic compound","MMR001CMP062",97.325019999999995,24.245100000000001]
["Kachin","Momauk",null,"Man Nawng ","MMR001CMP063",97.321659999999994,24.41]
["Kachin","Momauk",null,"Man Ting","MMR001CMP198"]
["Kachin","Momauk",null,"Mandalay Monestry","MMR001CMP058",97.346940000000004,24.251860000000001]
["Kachin","Momauk",null,"Momauk Baptist Church","MMR001CMP056",97.344359999999995,24.250689999999999]
["Kachin","Momauk",null,"Momauk Catholic Church (St. Patrick)","MMR001CMP057",97.346950000000007,24.25177]
["Kachin","Momauk",null,"Myo Thit ","MMR001CMP061"]
["Kachin","Momauk",null,"Ni Thaw Ka Monestry","MMR001CMP059",97.347740000000002,24.253769999999999]
["Kachin","Momauk",null,"Nyaung Na Pin ","MMR001CMP072",97.724483000000006,24.205417000000001]
["Kachin","Momauk",null,"Phar Kay/Nant Waing ","MMR001CMP065",97.429860000000005,24.630859999999998]
["Kachin","Momauk",null,"Seng Ja ","MMR001CMP073"]
["Kachin","Momauk",null,"Tarli ","MMR001CMP060"]
["Kachin","Mong Kar",null,"Hka San Camp","MMR015CMP021"]
["Kachin","Muse",null,"Munekoe Pa (Giwang) - Hka San (Mung  Go  Pa ) ","MMR015CMP012"]
["Kachin","Muse",null,"Hpai Kawng Mare","MMR015CMP022",98.115809999999996,24.08738]
["Kachin","Muse",null,"Mung Baw ","MMR015CMP005"]
["Kachin","Myitkyina",null,"Du Kahtawng Qtr. 14","MMR001CMP012",97.385101000000006,25.399795999999998]
["Kachin","Myitkyina",null,"Du Kahtawng Qtr. 4","MMR001CMP010",97.383056999999994,25.395994000000002]
["Kachin","Myitkyina",null,"Du Kahtawng Qtr. 5","MMR001CMP011",97.381195000000005,25.396363999999998]
["Kachin","Myitkyina",null,"Jan Mai Kawng Baptist Church","MMR001CMP018",97.389778000000007,25.417733999999999]
["Kachin","Myitkyina",null,"Jan Mai Kawng Catholic Church","MMR001CMP019",97.373361000000003,25.403476999999999]
["Kachin","Myitkyina",null,"Kyun Pin Thar Baptist Church","MMR001CMP013",97.405120999999994,25.365891000000001]
["Kachin","Myitkyina",null,"Le Kone Bethlehem Church","MMR001CMP015",97.409317000000001,25.362189999999998]
["Kachin","Myitkyina",null,"Le Kone Ziun Baptist Church ","MMR001CMP014",97.408919999999995,25.355983999999999]
["Kachin","Myitkyina",null,"Maliyang Baptist Church","MMR001CMP016",97.411606000000006,25.360475999999998]
["Kachin","Myitkyina",null,"Man Hkring Baptist Church","MMR001CMP008",97.418694000000002,25.428910999999999]
["Kachin","Myitkyina",null,"Maw Hpawng Hka Nan Baptist Church","MMR001CMP020",97.284729999999996,25.374020000000002]
["Kachin","Myitkyina",null,"Maw Hpawng Lhaovo Baptist Church","MMR001CMP021",97.291079999999994,25.371179999999999]
["Kachin","Myitkyina",null,"Myay Myint Baptist Church","MMR001CMP017",97.376671999999999,25.387862999999999]
["Kachin","Myitkyina",null,"Nan Kway St. John Catholic Church","MMR001CMP024",97.359380000000002,25.411770000000001]
["Kachin","Myitkyina",null,"Njang Dung Baptist Church ","MMR001CMP002",97.394547000000003,25.422194000000001]
["Kachin","Myitkyina",null,"Nong Pong Camp","MMR001CMP158"]
["Kachin","Myitkyina",null,"Pa Dauk Myaing(Pa La Na)","MMR001CMP162"]
["Kachin","Myitkyina",null,"Shatapru Sut Ngai Tawng","MMR001CMP006",97.399628000000007,25.412313000000001]
["Kachin","Myitkyina",null,"Shatapru Thida Aye Baptist Church","MMR001CMP007",97.418004999999994,25.423817]
["Kachin","Myitkyina",null,"Shwe Zet Baptist Church","MMR001CMP009",97.419403000000003,25.440928]
["Kachin","Myitkyina",null,"Tat Kone Baptist Church","MMR001CMP001",97.386718999999999,25.415482000000001]
["Kachin","Myitkyina",null,"Tat Kone COC Baptist / Tat Kone Htoi San","MMR001CMP023",97.388400000000004,25.40982]
["Kachin","Myitkyina",null,"Tat Kone Emanuel Church","MMR001CMP004",97.379272,25.401074999999999]
["Kachin","Myitkyina",null,"Tat Kone Galile Baptist Church","MMR001CMP003",97.377662999999998,25.404752999999999]
["Kachin","Myitkyina",null,"Tat Kone San Pya Baptist Church","MMR001CMP005",97.382192000000003,25.404015000000001]
["Kachin","Myitkyina",null,"Wun Tho Buddhist Monastery","MMR001CMP022",97.403407999999999,25.377545999999999]
["Kachin","Namhkan",null,"Mung Ding Pa ","MMR015CMP023"]
["Kachin","Namhkan",null,"Nam Hkam Malut Jak ","MMR015CMP002"]
["Kachin","Namhkan",null,"Nam Hkam - Nay Win Ni (Palawng)","MMR015CMP004"]
["Kachin","Namhkan",null,"Nam Hkam (KBC Jaw Wang)","MMR015CMP001"]
["Kachin","Namhkan",null,"Nam Hkam Catholic Church ( St. Thomas I)","MMR015CMP003"]
["Kachin","Namhkan",null,"Nam Hkam Catholic Church ( St. Thomas II)","MMR015CMP024"]
["Kachin","Namhkan",null,"Nam Hkawng","MMR001CMP139"]
["Kachin","Namtu",null,"Nam Tu","MMR015CMP014"]
["Kachin","Puta-O",null,"Tote Tan Ward","MMR001CMP075"]
["Kachin","Shwegu",null,"Lawk Awng Mare D. (Sinbo Area)","MMR001CMP147"]
["Kachin","Shwegu",null,"Host Families","MMR001CMP199"]
["Kachin","Shwegu",null,"Shwe Gu Baptist Church","MMR001CMP067"]
["Kachin","Shwegu",null,"Shwe Gu Catholic Church","MMR001CMP068"]
["Kachin","Waingmaw",null,"Moke Lwe Village / Hkar Shi","MMR001CMP035",97.421104,25.328987000000001]
["Kachin","Waingmaw",null,"Nawng Si Paw Village / Inn Lay","MMR001CMP034"]
["Kachin","Waingmaw",null,"Border Post 10","MMR001CMP114",97.837778,25.273333000000001]
["Kachin","Waingmaw",null,"Border Post 8","MMR001CMP113",97.915833000000006,25.220278]
["Kachin","Waingmaw",null,"Hkat Cho ","MMR001CMP028",97.408302000000006,25.324567999999999]
["Kachin","Waingmaw",null,"Hkau Shau (BP 12)","MMR001CMP115",97.807182999999995,25.200333000000001]
["Kachin","Waingmaw",null,"Laiza Market 3 / Laiza Gat","MMR001CMP117",97.551716999999996,24.746817]
["Kachin","Waingmaw",null,"Laiza Muklum Hpyen  Yen Mungshawa ni","MMR001CMP149"]
["Kachin","Waingmaw",null,"Mading Baptist Church","MMR001CMP027",97.451965000000001,25.356632000000001]
["Kachin","Waingmaw",null,"Maga Yang ","MMR001CMP119",97.715230000000005,24.980250000000002]
["Kachin","Waingmaw",null,"Maina AG Church","MMR001CMP031",97.435233999999994,25.425276]
["Kachin","Waingmaw",null,"Maina Catholic Church (St. Joseph)","MMR001CMP029",97.438450000000003,25.415900000000001]
["Kachin","Waingmaw",null,"Maina KBC (Bawng Ring)","MMR001CMP040",97.437434999999994,25.411413]
["Kachin","Waingmaw",null,"Maina Lawang Baptist Church","MMR001CMP039",97.426297000000005,25.409566000000002]
["Kachin","Waingmaw",null,"Manau Compound","MMR001CMP118",97.550267000000005,24.747966999999999]
["Kachin","Waingmaw",null,"Nawng Hee Village","MMR001CMP033",97.345039,25.351965]
["Kachin","Waingmaw",null,"Pajau / Jan Mai","MMR001CMP120",97.751389000000003,24.831944]
["Kachin","Waingmaw",null,"Post 6 Camp","MMR001CMP160",97.990555999999998,25.265277999999999]
["Kachin","Waingmaw",null,"Qtr. 2 Lhaovo Baptist Church","MMR001CMP032",97.441483000000005,25.354883999999998]
["Kachin","Waingmaw",null,"Qtr. 2 Myoma Baptist Church","MMR001CMP025",97.438271,25.351655000000001]
["Kachin","Waingmaw",null,"Qtr. 3 Mu-yin  Baptist Church","MMR001CMP030",97.437568999999996,25.346004000000001]
["Kachin","Waingmaw",null,"Qtr. 4 Monestry (Thargaya Thayett Taw)","MMR001CMP026",97.432495000000003,25.350809000000002]
["Kachin","Waingmaw",null,"Shing Jai","MMR001CMP041",98.025662999999994,25.418084]
["Kachin","Waingmaw",null,"Thargaya Lisu Baptist Church","MMR001CMP037",97.427959999999999,25.33351]
["Kachin","Waingmaw",null,"Waingmaw AG Church","MMR001CMP038",97.443702000000002,25.351241999999999]
["Kachin","Waingmaw",null,"Waingmaw Baptist Zonal Office","MMR001CMP036",97.438259000000002,25.355841999999999]
["Kachin","Waingmaw",null,"Woi Chyai ","MMR001CMP116",97.567116999999996,24.768383]
["Kachin","Waingmaw",null,"Zai Awng / Mung Ga Zup","MMR001CMP111",97.756789999999995,25.106670000000001]
["Rakhine","Minbya",null,"Paik Thay","MMR012CMP001"," 93.271642°"," 20.377523°"]
["Rakhine","Minbya",null,"Tha Dar","MMR012CMP002"," 93.257272°"," 20.392138°"]
["Rakhine","Minbya",null,"San Htoe Tan","MMR012CMP003"," 93.249670°"," 20.399020°"]
["Rakhine","Minbya",null,"Nagara Pauktaw","MMR012CMP004"," 93.258476°"," 20.554084°"]
["Rakhine","Minbya",null,"Tha Yet Oak","MMR012CMP005"," 93.258574°"," 20.587142°"]
["Rakhine","Minbya",null,"Aung Taing","MMR012CMP006"," 93.299485°"," 20.480898°"]
["Rakhine","Minbya",null,"Thay Kan","MMR012CMP007"," 93.321957°"," 20.403736°"]
["Rakhine","Minbya",null,"Sam Ba Le","MMR012CMP008"," 93.313628°"," 20.407971°"]
["Rakhine","Mrauk_U",null,"Pa Rein","MMR012CMP009"," 93.245551°"," 20.576577°"]
["Rakhine","Mrauk_U",null,"Yai Thei-Muslim","MMR012CMP010"," 93.217040°"," 20.501758°"]
["Rakhine","Mrauk_U",null,"Myat Buddha Mandine Monastery","MMR012CMP011"," 93.187996°"," 20.589569°"]
["Rakhine","Mrauk_U",null,"Raw Ma Ni Sin Oe","MMR012CMP012"," 93.239520°"," 20.616920°"]
["Rakhine","Meybon",null,"Kan Thar Htwat Wa","MMR012CMP013"," 93.373951°"," 20.041981°"]
["Rakhine","Meybon",null,"Taung Paw ","MMR012CMP014"," 93.370038°"," 20.037655°"]
["Rakhine","Pauktaw",null,"Ba Wan Chaung Wa Su","MMR012CMP015"," 93.067891°"," 20.173468°"]
["Rakhine","Pauktaw",null,"Ah Nauk Ywe","MMR012CMP016"," 92.985095°"," 20.108102°"]
["Rakhine","Pauktaw",null,"Nget Chaung","MMR012CMP017"," 93.154552°"," 20.073438°"]
["Rakhine","Pauktaw",null,"Kyein Ni Pyin","MMR012CMP018"," 93.010369°"," 20.090183°"]
["Rakhine","Pauktaw",null,"Sin Tet Maw","MMR012CMP019"," 92.993759°"," 20.064226°"]
["Rakhine","Kyauktaw",null,"Let Saung Kauk","MMR012CMP020"," 92.982676°"," 20.805734°"]
["Rakhine","Kyauktaw",null,"Taung Bwe","MMR012CMP021"," 93.000815°"," 20.929649°"]
["Rakhine","Kyauktaw",null,"Ah Lel","MMR012CMP022"," 93.003205°"," 20.921425°"]
["Rakhine","Kyauktaw",null,"Nidin","MMR012CMP023"," 92.965981°"," 20.865687°"]
["Rakhine","Kyauktaw",null,"Ah Pauk Wa ","MMR012CMP024"," 92.961841°"," 20.720213°"]
["Rakhine","Kyauktaw",null,"Ah Lel Kyun","MMR012CMP025"," 93.014350°"," 20.896740°"]
["Rakhine","Kyauktaw",null,"In Bar Yi","MMR012CMP026"," 93.009900°"," 20.696820°"]
["Rakhine","Kyauktaw",null,"Goke Pi Htaunt","MMR012CMP027"," 93.014090°"," 20.713260°"]
["Rakhine","Kyauktaw",null,"Yun Nyar","MMR012CMP028"," 92.969350°"," 20.727590°"]
["Rakhine","Kyauktaw",null,"Shwe Hlaing","MMR012CMP029"," 92.987400°"," 20.783320°"]
["Rakhine","Kyauktaw",null,"Khaung Htoke","MMR012CMP030"," 93.006498°"," 20.886998°"]
["Rakhine","Rathedaung",null,"Nyaung Pin Gyi","MMR012CMP031"," 92.786301°"," 20.336254°"]
["Rakhine","Rathedaung",null,"Ah Nauk Pyin","MMR012CMP032"," 92.780916°"," 20.399271°"]
["Rakhine","Rathedaung",null,"Koe Tan Kauk/Chein Khar Li","MMR012CMP033"," 92.650180°"," 20.432280°"]
["Rakhine","Rathedaung",null,"Ah Htet Nan Yar","MMR012CMP034"," 92.640022°"," 20.569219°"]
["Rakhine","Kyauk_Phyu",null,"Kyauk Ta Lone","MMR012CMP035"," 93.512326°"," 19.424577°"]
["Rakhine","Kyauk_Phyu",null,"Pha Yar Gyi Kwin","MMR012CMP036"," 93.552452°"," 19.421102°"]
["Rakhine","Ramree",null,"Ramree Ward 6","MMR012CMP037"," 93.857593°"," 19.088283°"]
["Rakhine","Ramree",null,"Ramree Town","MMR012CMP038","NA","NA"]
["Rakhine","Sittwe",null,"Basare","MMR012CMP039"," 92.875814°"," 20.128489°"]
["Rakhine","Sittwe",null,"Baw Du Pha","MMR012CMP040"," 92.807419°"," 20.181238°"]
["Rakhine","Sittwe",null,"Dar Pai","MMR012CMP041"," 92.827427°"," 20.168460°"]
["Rakhine","Sittwe",null,"Khaung Doke Khar ","MMR012CMP042"," 92.823167°"," 20.181778°"]
["Rakhine","Sittwe",null,"Ohn Taw Gyi 1","MMR012CMP043"," 92.798677°"," 20.187751°"]
["Rakhine","Sittwe",null,"Phwe Yar Kone","MMR012CMP044"," 92.788177°"," 20.207285°"]
["Rakhine","Sittwe",null,"Say Tha Mar Gyi","MMR012CMP045"," 92.792480°"," 20.202525°"]
["Rakhine","Sittwe",null,"Thae Chaung","MMR012CMP046"," 92.839417°"," 20.158500°"]
["Rakhine","Sittwe",null,"Thae Chaung (Kyaukphyu)","MMR012CMP047"," 92.837577°"," 20.156842°"]
["Rakhine","Sittwe",null,"Thet Kae Pyin ","MMR012CMP048"," 92.842230°"," 20.181742°"]
["Rakhine","Sittwe",null,"Hmanzi Junction","MMR012CMP049"," 92.826407°"," 20.175169°"]
["Rakhine","Sittwe",null,"Pa Lin Pyin Ywar Thit","MMR012CMP050"," 92.792959°"," 20.205295°"]
["Rakhine","Sittwe",null,"Bu May Ohn Taw","MMR012CMP051"," 92.847967°"," 20.147108°"]
["Rakhine","Sittwe",null,"Bu May Ohn Taw Shore","MMR012CMP052"," 92.848348°"," 20.133385°"]
["Rakhine","Sittwe",null,"Ma Gyi Myaing","MMR012CMP053"," 92.886890°"," 20.132695°"]
["Rakhine","Sittwe",null,"Mingan","MMR012CMP054"," 92.860599°"," 20.154343°"]
["Rakhine","Sittwe",null,"Danyawaddy Baw Lone Kwin","MMR012CMP055"," 92.889384°"," 20.135474°"]
["Rakhine","Sittwe",null,"Set Yone Su","MMR012CMP056"," 92.880320°"," 20.148584°"]
["Rakhine","Sittwe",null,"Dohn Taik Kwin","MMR012CMP057"," 92.897178°"," 20.153129°"]
["Rakhine","Sittwe",null,"Thin Pone Tan","MMR012CMP058"," 92.836861°"," 20.226865°"]
["Rakhine","Sittwe",null,"Dak Kaung Monastery","MMR012CMP059"," 92.894568°"," 20.145585°"]
["Rakhine","Sittwe",null,"Dama Set Kyar Monastery","MMR012CMP060"," 92.898398°"," 20.152559°"]
["Rakhine","Sittwe",null,"Gyit Chay Monastery","MMR012CMP061"," 92.896409°"," 20.153754°"]
["Rakhine","Sittwe",null,"Layaungwin Monastery","MMR012CMP062"," 92.896006°"," 20.154331°"]
["Rakhine","Sittwe",null,"Myo Ma Monastery","MMR012CMP063"," 92.897783°"," 20.151050°"]
["Rakhine","Sittwe",null,"Pyin Nyar Mandine Monastery","MMR012CMP064"," 92.896944°"," 20.150892°"]
["Rakhine","Sittwe",null,"Shwe Zay Ti Monastery","MMR012CMP065"," 92.894500°"," 20.146200°"]
["Rakhine","Sittwe",null,"Su Taung Pyae Monastery","MMR012CMP066"," 92.888950°"," 20.125033°"]
["Rakhine","Sittwe",null,"Theit Di Kar Yone Monastery","MMR012CMP067"," 92.896418°"," 20.152895°"]
["Rakhine","Sittwe",null,"Sin Ku Lann Monastery","MMR012CMP068"," 92.897933°"," 20.155850°"]
["Rakhine","Sittwe",null,"Ar Thaw Ka Yone Monastery","MMR012CMP069"," 92.895900°"," 20.153800°"]
["Rakhine","Sittwe",null,"Thangga Yarzar Monastery","MMR012CMP070"," 92.892432°"," 20.146041°"]
["Rakhine","Sittwe",null,"Kha Maung Taw Monastery","MMR012CMP071"," 92.894450°"," 20.147100°"]
["Rakhine","Sittwe",null,"Ma Ni Yadanar Monastery","MMR012CMP072"," 92.893904°"," 20.146673°"]
["Rakhine","Sittwe",null,"Gyit Bak Monastery","MMR012CMP073"," 92.895600°"," 20.146917°"]
["Rakhine","Sittwe",null,"Ya Tayar Monastery","MMR012CMP074"," 92.893333°"," 20.146117°"]
["Rakhine","Sittwe",null,"Weikzar Thaikdi Monastery","MMR012CMP075"," 92.896533°"," 20.154650°"]
["Rakhine","Maungdaw",null,"Maw Ya Waddy","MMR012CMP076"]
["Rakhine","Maungdaw",null,"Tha Yay Kone Baung","MMR012CMP077"," 92.429600°"," 20.729867°"]
["Rakhine","Maungdaw",null,"Kyaing Gyi","MMR012CMP078"]
["Rakhine","Maungdaw",null,"Baw Di Gone","MMR012CMP079"," 92.416264°"," 20.796128°"]
["Rakhine","Maungdaw",null,"Kin Chaung","MMR012CMP080"," 92.424139°"," 20.762731°"]
["Rakhine","Maungdaw",null,"Kan Thar Yar","MMR012CMP081"," 92.423364°"," 20.801544°"]
["Rakhine","Maungdaw",null,"Nyaung Pin Hla","MMR012CMP082"," 92.362197°"," 20.824778°"]
["Rakhine","Maungdaw",null,"Myoma Myauk","MMR012CMP083"," 92.362933°"," 20.827044°"]
["Rakhine","Maungdaw",null,"Bomu Ywa","MMR012CMP084"," 92.365794°"," 20.819958°"]
["Rakhine","Maungdaw",null,"Ywa thit Kay","MMR012CMP085"," 92.367853°"," 20.825306°"]
["Rakhine","Maungdaw",null,"Thaung Paing Nyar","MMR012CMP086"," 92.401294°"," 20.824517°"]
["Rakhine","Maungdaw",null,"Lamber Gone Nah","MMR012CMP087"," 92.426886°"," 20.717331°"]
["Rakhine","Maungdaw",null,"Du Than Dar","MMR012CMP088"," 92.443428°"," 20.714847°"]
["Rakhine","Maungdaw",null,"Alima Fara","MMR012CMP089"," 92.435075°"," 20.714533°"]
["Rakhine","Pauktaw",null,"Sin Tet Maw (Nget Chaung IDP)","MMR012CMP096","NA","NA"]
["Rakhine","Sittwe",null,"Ohn Taw Gyi 3","MMR012CMP090","92.800694°","20.190056°"]
["Rakhine","Sittwe",null,"Thet Kae Pyin Host Family","MMR012CMP091","NA","NA"]
["Rakhine","Sittwe",null,"Maw Ti Ngar (TKP west)","MMR012CMP092","NA","NA"]
["Rakhine","Sittwe",null,"Set Yone Su 3","MMR012CMP093"," 92.879139°","20.155806°"]
["Rakhine","Maungdaw",null,"Sin Thay Pyin","MMR012CMP094"," 92.338031°"," 21.066664°"]
["Rakhine","Maungdaw",null,"Ward-6","MMR012CMP095"," 92.416683°"," 20.833831°"]